{"text_format":"1","workbook":"xlsx","n_sheets":9,"sheets":["Yupi (41)","Yupi (42)","Yupi (44)","Yupi (43)","Yupi (45)","PEDIDO","CONTABILIDAD","LISTA DE PRECIOS","COMPRAS"],"not_rendered":{"charts":0,"images":2,"macros":1,"external_links":0,"defined_names":42,"comments":0,"pivot_tables":0},"unopened":[],"bounds":{"document_bytes":16777216,"sheet_cells":100000,"rows_first":2000,"rows_last":500,"rows_between":2000,"halvings":0,"cell_chars":16384,"cell_head_chars":4096},"cells_cut":0,"cells_raw":0,"read":"whole","date_system":"1900"}

{"sheet":"Yupi (41)","index":0,"n_rows":83,"n_cols":53,"rows_kept":83,"cut":false,"hidden":true,"merged":[[64,0,68,0],[69,0,80,0],[81,0,81,1],[81,5,81,6],[4,0,13,0],[14,0,28,0],[29,0,32,0],[33,0,42,0],[43,0,55,0],[56,0,63,0],[0,4,0,6],[0,12,0,13],[0,20,2,21],[0,23,2,48],[1,4,1,6],[1,12,1,13],[2,4,2,6],[2,12,2,13]]}
[null,null,null,"FRANQUICIADO","FERNANDO ROJAS",null,null,null,null,null,null,null,"DESCUENTO",null,null,null,null,null,0.18,"DIAS MES",null,null,"DIA HABIL"]
[null,null,null,"CODIGO",null,null,null,null,null,null,null,null,"ZONA"]
[null,null,null,"FECHA",{"$f":"TODAY()","v":"2012-09-10"},null,null,null,null,null,null,null,"VALOR PEDIDO",null,null,null,null,null,{"$f":"S82","v":89349.467136000007},26,null,null,3]
[null,"Codigo","Codigo Barras","Descripción","Displays por paca","Unds por Display","Unds por Paca","Iva","Precio Antes de Iva","Precio incluido IVA","Valor Display al tendero","PVP Sugerido (Und)","PACAS","UNIDADES","v.antes iva","Descuento","total","iva","Total a Pagar","PPTO DIA","PPTO DIA HABIL","VENTA ACUMULADA","CUMP DIA HABIL",1,{"$f":"+X4+1","v":2},3,4,5,6,7,8,9,10,11,12,13,14,15,16,17,18,19,20,21,22,23,24,25,26,"VENTA TOTAL","PPTO","DIFERENCIA","                                                                                                                                                                               "]
["EXTRUIDOS","007695","7703133078771","YUPIS QUESO 45g X 36 X 1 AS",36,1,{"$f":"+E5*F5","v":36},0.16,560,{"$f":"+I5+I5*H5","v":649.6},{"$f":"+J5*F5","v":649.6},700,{"$f":"+N5/G5","v":0},null,{"$f":"+N5*I5","v":0},{"$f":"+O5*$O$83","v":0},{"$f":"+O5-P5","v":0},{"$f":"+Q5*H5","v":0},{"$f":"+R5+Q5","v":0},{"$f":"AX5*G5","v":0},{"$f":"+$W$3*T5","v":0},{"$f":"SUM(X5:AW5)","v":0},{"$f":"+V5/U5","v":{"$error":"#DIV/0!"}},null,null,null,null,null,null,null,null,null,null,null,null,null,null,null,null,null,null,null,null,null,null,null,null,null,null,null,null,{"$f":"+AY5-AX5","v":0}]
[null,"007164",7703133077309,"YUPIS SALADO 60g X 36 X 1 AS",36,1,{"$f":"+E6*F6","v":36},0.16,{"$f":"650/1.16","v":560.34482758620697},650.00000000000011,650.00000000000011,700,0,null,0,0,0,0,0,0,0,720,{"$error":"#DIV/0!"},{"$f":"36*20","v":720},null,null,null,null,null,null,null,null,null,null,null,null,null,null,null,null,null,null,null,null,null,null,null,null,null,null,null,{"$f":"+AY6-AX6","v":0}]
[null,"007899",null,"YUPIS PICANTE 45g X 36 X 1 AS",36,1,36,0.16,{"$f":"650/1.16","v":560.34482758620697},650.00000000000011,650.00000000000011,700,0,null,0,0,0,0,0,0,0,0,{"$error":"#DIV/0!"},null,null,null,null,null,null,null,null,null,null,null,null,null,null,null,null,null,null,null,null,null,null,null,null,null,null,null,null,0]
[null,"07881","7703133078818","YUPI  CARAMELO 50gX36X1 AS",36,1,36,0.16,{"$f":"650/1.16","v":560.34482758620697},650.00000000000011,650.00000000000011,700,0,null,0,0,0,0,0,0,0,0,{"$error":"#DIV/0!"},null,null,null,null,null,null,null,null,null,null,null,null,null,null,null,null,null,null,null,null,null,null,null,null,null,null,null,null,0]
[null,"007742",null,"YUPI  AREQUIQUESO  45 GR",36,1,36,0.16,{"$f":"650/1.16","v":560.34482758620697},{"$f":"+I9+I9*H9","v":650.00000000000011},{"$f":"+J9*F9","v":650.00000000000011},700,0,null,{"$f":"+N9*I9","v":0},0,{"$f":"+O9-P9","v":0},{"$f":"+Q9*H9","v":0},0,{"$f":"AX9*G9","v":0},{"$f":"+$W$3*T9","v":0},{"$f":"SUM(X9:AW9)","v":0},{"$f":"+V9/U9","v":{"$error":"#DIV/0!"}},null,null,null,null,null,null,null,null,null,null,null,null,null,null,null,null,null,null,null,null,null,null,null,null,null,null,null,null,0]
[null,"102174","7703133021739","YUPIS SALADO 10g X  12 X 20 DE",20,12,240,0.16,{"$f":"144/1.16","v":124.13793103448276},144,1728,200,0,null,0,0,0,0,0,0,0,960,{"$error":"#DIV/0!"},{"$f":"240*4","v":960},null,null,null,null,null,null,null,null,null,null,null,null,null,null,null,null,null,null,null,null,null,null,null,null,null,null,null,0]
[null,"07716","7703133077248","TICK CHEESE 100G X 24 X 1 AS",24,1,24,0.16,767.2,889.952,889.952,1000,0,null,0,0,0,0,0,0,0,0,{"$error":"#DIV/0!"},null,null,null,null,null,null,null,null,null,null,null,null,null,null,null,null,null,null,null,null,null,null,null,null,null,null,null,null,0]
[null,"107729","7703133077194","TICK CHEESE 40g X 12 X 6 DE",6,12,72,0.16,396,459.36,5512.32,600,0,null,0,0,0,0,0,0,0,0,{"$error":"#DIV/0!"},null,null,null,null,null,null,null,null,null,null,null,null,null,null,null,null,null,null,null,null,null,null,null,null,null,null,null,null,0]
[null,"02122","7703133021227","PALOMITAS CARAMELO 68g X 36 X 1 AS",36,1,36,0.16,582,675.12,675.12,800,0,null,0,0,0,0,0,0,0,0,{"$error":"#DIV/0!"},null,null,null,null,null,null,null,null,null,null,null,null,null,null,null,null,null,null,null,null,null,null,null,null,null,null,null,null,0]
[null,"102117","7703133021166","PALOMITAS CARAMELO 20g X 12 X 12 DE",12,12,144,0.16,344.8,399.96800000000002,4799.616,500,0,null,0,0,0,0,0,0,0,0,{"$error":"#DIV/0!"},null,null,null,null,null,null,null,null,null,null,null,null,null,null,null,null,null,null,null,null,null,null,null,null,null,null,null,null,0]
["RIZADAS",109128,"7703133091275","RIZADAS NATURAL 30g X 12 X 6 DE",6,12,72,0.16,{"$f":"750/1.16","v":646.55172413793105},{"$f":"+I15+I15*H15","v":750},{"$f":"+J15*F15","v":9000},800,{"$f":"+N15/G15","v":0},null,{"$f":"+N15*I15","v":0},0,{"$f":"+O15-P15","v":0},{"$f":"+Q15*H15","v":0},{"$f":"+R15+Q15","v":0},null,null,null,null,null,null,null,null,null,null,null,null,null,null,null,null,null,null,null,null,null,null,null,null,null,null,null,null,null,null,null,null,0]
[null,109130,"7703133070324","RIZADAS POLLO 30g X 12 X 6 DE",6,12,72,0.16,{"$f":"750/1.16","v":646.55172413793105},750,9000,800,0,null,0,0,0,0,0,0,0,0,{"$error":"#DIV/0!"},null,null,null,null,null,null,null,null,null,null,null,null,null,null,null,null,null,null,null,null,null,null,null,null,null,null,null,null,0]
[null,109132,"7703133070362","RIZADAS MAYONESA 30g X 12 X 6 DE",6,12,72,0.16,{"$f":"750/1.16","v":646.55172413793105},750,9000,800,0,null,0,0,0,0,0,0,0,0,{"$error":"#DIV/0!"},null,null,null,null,null,null,null,null,null,null,null,null,null,null,null,null,null,null,null,null,null,null,null,null,null,null,null,null,0]
[null,109134,"7703133070348","RIZADAS LIMON 30g X 12 X 6 DE",6,12,72,0.16,{"$f":"750/1.16","v":646.55172413793105},750,9000,800,0,null,0,0,0,0,0,0,0,0,{"$error":"#DIV/0!"},null,null,null,null,null,null,null,null,null,null,null,null,null,null,null,null,null,null,null,null,null,null,null,null,null,null,null,null,0]
[null,"107029","7703133070287","RIZADAS BBQ RANCHERA 28g X 12 X 6 DE",6,12,72,0.16,581.9,675.00400000000002,8100.0480000000007,800,{"$f":"+N19/G19","v":0},null,0,0,0,0,0,0,0,0,{"$error":"#DIV/0!"},null,null,null,null,null,null,null,null,null,null,null,null,null,null,null,null,null,null,null,null,null,null,null,null,null,null,null,null,0]
[null,107122,null,"RIZADAS MEXICAN FUSION  28g X 12 X 6 DE",6,12,72,0.16,{"$f":"750/1.16","v":646.55172413793105},750,9000,800,0,null,0,0,0,0,0,0,0,0,{"$error":"#DIV/0!"},null,null,null,null,null,null,null,null,null,null,null,null,null,null,null,null,null,null,null,null,null,null,null,null,null,null,null,null,0]
[null,"107587","7703133072922","RIZADAS NATURAL 115g X 20 X 1 AS",20,1,20,0.16,{"$f":"1907/1.16","v":1643.9655172413795},1907.0000000000002,1907.0000000000002,2300,0,null,0,0,0,0,0,0,0,0,{"$error":"#DIV/0!"},null,null,null,null,null,null,null,null,null,null,null,null,null,null,null,null,null,null,null,null,null,null,null,null,null,null,null,null,0]
[null,"107588","7703133072946","RIZADAS MAYONESA 115g X 20 X 1 AS",20,1,20,0.16,{"$f":"1907/1.16","v":1643.9655172413795},1907.0000000000002,1907.0000000000002,2300,0,null,0,0,0,0,0,0,0,0,{"$error":"#DIV/0!"},null,null,null,null,null,null,null,null,null,null,null,null,null,null,null,null,null,null,null,null,null,null,null,null,null,null,null,null,0]
[null,"107586","7703133072984","RIZADAS LIMON  115g X 20 X 1 AS",20,1,20,0.16,{"$f":"1907/1.16","v":1643.9655172413795},1907.0000000000002,1907.0000000000002,2300,0,null,0,0,0,0,0,0,0,0,{"$error":"#DIV/0!"},null,null,null,null,null,null,null,null,null,null,null,null,null,null,null,null,null,null,null,null,null,null,null,null,null,null,null,null,0]
[null,"107592","7703133078856","RIZADAS POLLO 115g X 20 X 1 AS",20,1,20,0.16,{"$f":"1907/1.16","v":1643.9655172413795},1907.0000000000002,1907.0000000000002,2300,0,null,0,0,0,0,0,0,0,20,{"$error":"#DIV/0!"},20,null,null,null,null,null,null,null,null,null,null,null,null,null,null,null,null,null,null,null,null,null,null,null,null,null,null,null,0]
[null,"007111",null,"RIZADAS MEXICAN FUSION 115g X 20 X 1 AS",20,1,20,0.16,1508,{"$f":"+I25+I25*H25","v":1749.28},{"$f":"+J25*F25","v":1749.28},1800,{"$f":"+N25/G25","v":0},null,{"$f":"+N25*I25","v":0},0,{"$f":"+O25-P25","v":0},{"$f":"+Q25*H25","v":0},{"$f":"+R25+Q25","v":0},{"$f":"AX25*G25","v":0},{"$f":"+$W$3*T25","v":0},{"$f":"SUM(X25:AW25)","v":0},{"$f":"+V25/U25","v":{"$error":"#DIV/0!"}},null,null,null,null,null,null,null,null,null,null,null,null,null,null,null,null,null,null,null,null,null,null,null,null,null,null,null,null,0]
[null,107443,"7703133072953"," RIZADAS NATURAL  45GX8X6 DE",6,8,48,0.16,758.87,{"$f":"+I26+I26*H26","v":880.28920000000005},{"$f":"+J26*F26","v":7042.3136000000004},1000,{"$f":"+N26/G26","v":0},null,{"$f":"+N26*I26","v":0},0,{"$f":"+O26-P26","v":0},{"$f":"+Q26*H26","v":0},{"$f":"+R26+Q26","v":0},{"$f":"AX26*G26","v":0},{"$f":"+$W$3*T26","v":0},{"$f":"SUM(X26:AW26)","v":0},{"$f":"+V26/U26","v":{"$error":"#DIV/0!"}}]
[null,107295,"7703133072953"," RIZADAS MAYONESA  45GX8X6 DE",6,8,48,0.16,758.87,880.28920000000005,7042.3136000000004,1000,0.5,24,18212.88,3278.3184000000001,14934.561600000001,2389.5298560000001,17324.091456000002,0,0,0,{"$error":"#DIV/0!"},null,null,null,null,null,null,null,null,null,null,null,null,null,null,null,null,null,null,null,null,null,null,null,null,null,null,null,null,0]
[null,107300,"7703133073011"," RIZADAS POLLO  45GX8X6 DE",6,8,48,0.16,758.87,880.28920000000005,7042.3136000000004,1000,0.33333333333333331,16,12141.92,2185.5455999999999,9956.3744000000006,1593.0199040000002,11549.394304000001,0,0,240,{"$error":"#DIV/0!"},{"$f":"48*5","v":240},null,null,null,null,null,null,null,null,null,null,null,null,null,null,null,null,null,null,null,null,null,null,null,null,null,null,null,0]
[null,107299,"7703133072991"," RIZADAS LIMON  45GX8X6 DE",6,8,48,0.16,758.87,880.28920000000005,7042.3136000000004,1000,0.5,24,18212.88,3278.3184000000001,14934.561600000001,2389.5298560000001,17324.091456000002,0,0,0,{"$error":"#DIV/0!"},null,null,null,null,null,null,null,null,null,null,null,null,null,null,null,null,null,null,null,null,null,null,null,null,null,null,null,null,0]
["LIZAS",106982,"7703133070409","LIZA´S S/TOMATE 30g X 12 X 5 DE",5,12,60,0.16,{"$f":"715/1.16","v":616.37931034482767},715.00000000000011,8580.0000000000018,800,0,null,0,0,0,0,0,0,0,0,{"$error":"#DIV/0!"},null,null,null,null,null,null,null,null,null,null,null,null,null,null,null,null,null,null,null,null,null,null,null,null,null,null,null,null,0]
[null,106983,"7703133072423","LIZA´S S/ROSADA 30g X 12 X 5 DE",5,12,60,0.16,{"$f":"715/1.16","v":616.37931034482767},715.00000000000011,8580.0000000000018,800,0,null,0,0,0,0,0,0,0,0,{"$error":"#DIV/0!"},null,null,null,null,null,null,null,null,null,null,null,null,null,null,null,null,null,null,null,null,null,null,null,null,null,null,null,null,0]
[null,107380,"7703133070461","LIZA'S POLLO 30g X 12 X 5 DE",5,12,60,0.16,{"$f":"715/1.16","v":616.37931034482767},715.00000000000011,8580.0000000000018,800,0,null,0,0,0,0,0,0,0,0,{"$error":"#DIV/0!"},null,null,null,null,null,null,null,null,null,null,null,null,null,null,null,null,null,null,null,null,null,null,null,null,null,null,null,null,0]
[null,107132,"7703133070447","LIZA´S LIMÓN 30g X 12 X 5 DE",5,12,60,0.16,{"$f":"715/1.16","v":616.37931034482767},715.00000000000011,8580.0000000000018,800,0,null,0,0,0,0,0,0,0,0,{"$error":"#DIV/0!"},null,null,null,null,null,null,null,null,null,null,null,null,null,null,null,null,null,null,null,null,null,null,null,null,null,null,null,null,0]
["MIXTOS","07260","7703133072380","EL GOLPE 110g X 24 X 1  AS",24,1,24,0.16,1379.31,1599.9995999999999,1599.9995999999999,1800,0,null,0,0,0,0,0,0,0,24,{"$error":"#DIV/0!"},24,null,null,null,null,null,null,null,null,null,null,null,null,null,null,null,null,null,null,null,null,null,null,null,null,null,null,null,0]
[null,107258,"7703133077231","GOLPE 30g X  12  X  6 DE",6,12,72,0.16,435.34,504.99439999999998,6059.9327999999996,1000,0,null,0,0,0,0,0]
[null,"107726","7703133077231","GOLPE MIX 45g X  8  X  6 DE",6,8,48,0.16,733,850.28,6802.24,1000,0.33333333333333331,16,11728,2111.04,9616.9599999999991,1538.7135999999998,11155.673599999998,0,0,0,{"$error":"#DIV/0!"},null,null,null,null,null,null,null,null,null,null,null,null,null,null,null,null,null,null,null,null,null,null,null,null,null,null,null,null,0]
[null,"107836","7703133072571","EL GOLPE 45 gr 8 X 6 DE",6,8,48,0.16,733,850.28,6802.24,1000,0,null,0,{"$f":"+O37*$O$83","v":0},0,0,0,0,0,144,{"$error":"#DIV/0!"},{"$f":"48*3","v":144},null,null,null,null,null,null,null,null,null,null,null,null,null,null,null,null,null,null,null,null,null,null,null,null,null,null,null,0]
[null,"107254","7703133072540","EL GOLPE LIMON 45 gr 8 X 6 DE",6,8,48,0.16,733,850.28,6802.24,1000,0,null,0,0,0,0,0,0,0,0,{"$error":"#DIV/0!"},null,null,null,null,null,null,null,null,null,null,null,null,null,null,null,null,null,null,null,null,null,null,null,null,null,null,null,null,0]
[null,"107261","7703133072533","EL GOLPE RANCHERO 45G X 8 X 6 DE",6,8,48,0.16,733,850.28,6802.24,1000,0.5,24,17592,3166.56,14425.44,2308.0704000000001,16733.510399999999,0,0,480,{"$error":"#DIV/0!"},480,null,null,null,null,null,null,null,null,null,null,null,null,null,null,null,null,null,null,null,null,null,null,null,null,null,null,null,0]
[null,107590,"7703133072496","GOLPE RANCHERO 140 GR  17 X 1 AS",17,1,{"$f":"+E40*F40","v":17},0.16,2161,{"$f":"+I40+I40*H40","v":2506.7600000000002},{"$f":"+J40*F40","v":2506.7600000000002},2800,{"$f":"+N40/G40","v":0},null,{"$f":"+N40*I40","v":0},0,{"$f":"+O40-P40","v":0},{"$f":"+Q40*H40","v":0},{"$f":"+R40+Q40","v":0},{"$f":"AX40*G40","v":0},{"$f":"+$W$3*T40","v":0},{"$f":"SUM(X40:AW40)","v":0},{"$f":"+V40/U40","v":{"$error":"#DIV/0!"}},null,null,null,null,null,null,null,null,null,null,null,null,null,null,null,null,null,null,null,null,null,null,null,null,null,null,null,null,0]
[null,107465,null,"WOW MIX NATURAL 45 gr X 8 X 6 DE",6,8,{"$f":"+E41*F41","v":48},0.16,{"$f":"850/1.16","v":732.75862068965523},{"$f":"+I41+I41*H41","v":850.00000000000011},{"$f":"+J41*F41","v":6800.0000000000009},1000,{"$f":"+N41/G41","v":0},null,{"$f":"+N41*I41","v":0},0,{"$f":"+O41-P41","v":0},{"$f":"+Q41*H41","v":0},{"$f":"+R41+Q41","v":0},{"$f":"AX41*G41","v":0},{"$f":"+$W$3*T41","v":0},{"$f":"SUM(X41:AW41)","v":0},{"$f":"+V41/U41","v":{"$error":"#DIV/0!"}},null,null,null,null,null,null,null,null,null,null,null,null,null,null,null,null,null,null,null,null,null,null,null,null,null,null,null,null,0]
[null,107445,null,"WOW MIX QUESO 45 gr X 8 X 6 DE",6,8,{"$f":"+E42*F42","v":48},0.16,{"$f":"850/1.16","v":732.75862068965523},{"$f":"+I42+I42*H42","v":850.00000000000011},{"$f":"+J42*F42","v":6800.0000000000009},1000,{"$f":"+N42/G42","v":0},null,{"$f":"+N42*I42","v":0},0,{"$f":"+O42-P42","v":0},{"$f":"+Q42*H42","v":0},{"$f":"+R42+Q42","v":0},{"$f":"AX42*G42","v":0},{"$f":"+$W$3*T42","v":0},{"$f":"SUM(X42:AW42)","v":0},{"$f":"+V42/U42","v":{"$error":"#DIV/0!"}},null,null,null,null,null,null,null,null,null,null,null,null,null,null,null,null,null,null,null,null,null,null,null,null,null,null,null,null,0]
[null,107447,null,"WOW MIX BBQ 45 gr X 8 X 6 DE",6,8,{"$f":"+E43*F43","v":48},0.16,732.8,{"$f":"+I43+I43*H43","v":850.048},{"$f":"+J43*F43","v":6800.384},1000,{"$f":"+N43/G43","v":0},null,{"$f":"+N43*I43","v":0},0,{"$f":"+O43-P43","v":0},{"$f":"+Q43*H43","v":0},{"$f":"+R43+Q43","v":0},{"$f":"AX43*G43","v":0},{"$f":"+$W$3*T43","v":0},{"$f":"SUM(X43:AW43)","v":240},{"$f":"+V43/U43","v":{"$error":"#DIV/0!"}},{"$f":"48*5","v":240},null,null,null,null,null,null,null,null,null,null,null,null,null,null,null,null,null,null,null,null,null,null,null,null,null,null,null,0]
["TOSTIS","007226","7703133072380","TOSTI AREPAS 150g X 17 X 1 AS",17,1,17,0.1,1545,1699.5,1699.5,1800,0,null,0,0,0,0,0,0,0,0,{"$error":"#DIV/0!"},null,null,null,null,null,null,null,null,null,null,null,null,null,null,null,null,null,null,null,null,null,null,null,null,null,null,null,null,0]
[null,107228,"7703133072274","TOSTIAREPA 28 G X12 X6 DE",6,12,72,0.1,364,400.4,4804.7999999999993,500,0,null,0,0,0,0,0,0,0,72,{"$error":"#DIV/0!"},72,null,null,null,null,null,null,null,null,null,null,null,null,null,null,null,null,null,null,null,null,null,null,null,null,null,null,null,0]
[null,"107240","7703133072397","TOSTI EMPANADA CARNE 28GX12X6 DE",6,12,72,0.1,364,400.4,4804.7999999999993,500,0,null,0,0,0,0,0,0,0,0,{"$error":"#DIV/0!"},null,null,null,null,null,null,null,null,null,null,null,null,null,null,null,null,null,null,null,null,null,null,null,null,null,null,null,null,0]
[null,"107234","7703133072335","TOSTI EMPANADA LIMON 28 G X 12 X 6  DE",6,12,72,0.1,364,400.4,4804.7999999999993,500,0.33333333333333331,24,8736,1572.48,7163.52,716.35200000000009,7879.8720000000003,0,0,1080,{"$error":"#DIV/0!"},{"$f":"72*15","v":1080},null,null,null,null,null,null,null,null,null,null,null,null,null,null,null,null,null,null,null,null,null,null,null,null,null,null,null,0]
[null,"107220","7703133072199","TOSTI PIZZA POLLO 28G X 12 X 6 DE",6,12,72,0.1,364,400.4,4804.7999999999993,500,0,null,0,0,0,0,0,0,0,72,{"$error":"#DIV/0!"},72,null,null,null,null,null,null,null,null,null,null,null,null,null,null,null,null,null,null,null,null,null,null,null,null,null,null,null,0]
[null,"107222","7703133072199","TOSTI PIZZA QUESO 28G X 12 X 6 DE",6,12,72,0.1,364,400.4,4804.7999999999993,500,0,null,0,0,0,0,0,0,0,0,{"$error":"#DIV/0!"},null,null,null,null,null,null,null,null,null,null,null,null,null,null,null,null,null,null,null,null,null,null,null,null,null,null,null,null,0]
[null,"107333",null,"TOSTI NACHOS QUESO 28 GR X 12 X 6 DE",6,12,72,0.1,364,400.4,4804.7999999999993,500,0,null,0,0,0,0,0,0,0,144,{"$error":"#DIV/0!"},{"$f":"72*2","v":144},null,null,null,null,null,null,null,null,null,null,null,null,null,null,null,null,null,null,null,null,null,null,null,null,null,null,null,0]
[null,"107231","7703133072304","TOSTIEMPANADA QUESO PICANTE 28G X 12 X 6",6,12,72,0.1,364,400.4,4804.7999999999993,500,0,null,0,0,0,0,0,0,0,0,{"$error":"#DIV/0!"},null,null,null,null,null,null,null,null,null,null,null,null,null,null,null,null,null,null,null,null,null,null,null,null,null,null,null,null,0]
[null,"107335",null,"TOSTI NACHOS CHILE LIMON 28 GR X 12 X 6",6,12,72,0.1,364,400.4,4804.7999999999993,500,0,null,0,0,0,0,0,0,0,0,{"$error":"#DIV/0!"},null,null,null,null,null,null,null,null,null,null,null,null,null,null,null,null,null,null,null,null,null,null,null,null,null,null,null,null,0]
[null,"107485","7703133079996","TOSTI PLATANITOS 30 GR X 12 X 6 DE",6,12,72,0.16,388,450.08,5400.96,600,0,null,0,0,0,0,0,0,0,72,{"$error":"#DIV/0!"},72,null,null,null,null,null,null,null,null,null,null,null,null,null,null,null,null,null,null,null,null,null,null,null,null,null,null,null,0]
[null,"107561",null,"TOSTI NACHOS 45 GR  8 X 6",6,8,48,0.1,{"$f":"650/1.1","v":590.90909090909088},650,5200,800,0,null,0,0,0,0,0,0,0,0,{"$error":"#DIV/0!"}]
[null,"007337","7703133079996","TOSTI NACHOS CHILE LIMON 150 GR X 17 X 1 AS",17,1,17,0.1,1545,{"$f":"+I55+I55*H55","v":1699.5},{"$f":"+J55*F55","v":1699.5},1800,{"$f":"+N55/G55","v":0},null,{"$f":"+N55*I55","v":0},0,{"$f":"+O55-P55","v":0},{"$f":"+Q55*H55","v":0},{"$f":"+R55+Q55","v":0},{"$f":"AX55*G55","v":0},0,{"$f":"SUM(X55:AW55)","v":0},{"$f":"+V55/U55","v":{"$error":"#DIV/0!"}},null,null,null,null,null,null,null,null,null,null,null,null,null,null,null,null,null,null,null,null,null,null,null,null,null,null,null,null,0]
[null,"007338","7703133079996","TOSTI NACHOS QUESO 150 GR X 17 X 1 AS",17,1,17,0.1,1545,{"$f":"+I56+I56*H56","v":1699.5},{"$f":"+J56*F56","v":1699.5},1800,{"$f":"+N56/G56","v":0},null,{"$f":"+N56*I56","v":0},0,{"$f":"+O56-P56","v":0},{"$f":"+Q56*H56","v":0},{"$f":"+R56+Q56","v":0},{"$f":"AX56*G56","v":0},0,{"$f":"SUM(X56:AW56)","v":0},{"$f":"+V56/U56","v":{"$error":"#DIV/0!"}},null,null,null,null,null,null,null,null,null,null,null,null,null,null,null,null,null,null,null,null,null,null,null,null,null,null,null,null,0]
["OTROS","107574","77031330200227","MEKATROCITOS POLLO 28 GR X 12 X 8 DE",8,12,96,0.1,273,300.3,3603.6000000000004,400,0,null,0,0,0,0,0,0,0,0,{"$error":"#DIV/0!"},null,null,null,null,null,null,null,null,null,null,null,null,null,null,null,null,null,null,null,null,null,null,null,null,null,null,null,null,0]
[null,"02424","7703133024242","TOZINETAS FRED 40g X 40 X 1 AS",40,1,40,0.16,954.55,1107.278,1107.278,1280,0,null,0,0,0,0,0,0,0,0,{"$error":"#DIV/0!"},null,null,null,null,null,null,null,null,null,null,null,null,null,null,null,null,null,null,null,null,null,null,null,null,null,null,null,null,0]
[null,107385,"7703133024211","TOZINETAS FRED 25G X 48  DE",48,1,48,0.16,498,577.68000000000006,577.68000000000006,600,0,null,0,0,0,0,0,0,0,48,{"$error":"#DIV/0!"},48,null,null,null,null,null,null,null,null,null,null,null,null,null,null,null,null,null,null,null,null,null,null,null,null,null,null,null,0]
[null,"102411","7703133024105","COSTILLITAS FRED 25GX 48 DE",48,1,48,0.16,498,577.68000000000006,577.68000000000006,700,0,null,0,0,0,0,0,0,0,48,{"$error":"#DIV/0!"},48,null,null,null,null,null,null,null,null,null,null,null,null,null,null,null,null,null,null,null,null,null,null,null,null,null,null,null,0]
[null,108004,null,"PAPAS CHIPS 150 GRMS",17,1,17,0.16,1940,2250.4,2250.4,2700,0,null,{"$f":"+N61*I61","v":0},{"$f":"+O61*$O$83","v":0},{"$f":"+O61-P61","v":0},{"$f":"+Q61*H61","v":0},{"$f":"+R61+Q61","v":0},0,0]
[null,107996,null,"PAPAS CHIPS 45 GRMS",48,1,48,0.16,646.79999999999995,750.28800000000001,750.28800000000001,900,0.25,12,7761.5999999999995,1397.0879999999997,6364.5119999999997,1018.32192,7382.83392,0,0]
[null,"07795","7703133077958","LONCHERA DIVERTIDA 241g X 12 AS",12,1,12,0.16,3275.8620999999998,3800.0000359999999,3800.0000359999999,4650,0,null,0,{"$f":"+O63*$O$83","v":0},0,0,0,0,0,12,{"$error":"#DIV/0!"},12,null,null,null,null,null,null,null,null,null,null,null,null,null,null,null,null,null,null,null,null,null,null,null,null,null,null,null,0]
[null,"02156","7703133023979","LONCHIPACK 309g X 12 X 12 AS",12,1,12,0.16,4051.72,4699.9951999999994,4699.9951999999994,6050,0,null,0,0,0,0,0,0,0,0,{"$error":"#DIV/0!"}]
["CRESPAS","100008",null,"MEKATO NATURAL 25 GR X 12 X 6",12,6,72,0.16,474.16,550.02560000000005,3300.1536000000006,700,0,null,0,0,0,0,0,0,0,0,{"$error":"#DIV/0!"}]
[null,"100009",null,"MEKATO LIMON 25 GR X 12 X 6",12,6,72,0.16,474.16,550.02560000000005,3300.1536000000006,700,0,null,0,0,0,0,0,0,0,0,{"$error":"#DIV/0!"}]
[null,100002,null,"CRESPAS SALSA TOMATE 25 GR",12,6,72,0.16,505,585.79999999999995,3514.7999999999997,700,0,null,0,0,0,0,0,0,0,0,{"$error":"#DIV/0!"}]
[null,100003,null,"CRESPAS LIMON 25 GR",12,6,72,0.16,505,585.79999999999995,3514.7999999999997,700,0,null,0,0,0,0,0,0,0,0,{"$error":"#DIV/0!"}]
[null,100004,null,"CRESPAS POLLO 25 GR",12,6,72,0.16,505,585.79999999999995,3514.7999999999997,700,0,null,0,0,0,0,0,0,0,0,{"$error":"#DIV/0!"}]
["MEKATO","100144",null,"ROSKOTAS AREQUIPE 14G X 12 X 7",7,12,84,0.1,436.38,480.01800000000003,6074.4096,700,0,null,0,0,0,0,0,0,0,0,{"$error":"#DIV/0!"}]
[null,"000034",null,"MEKATO ESCOLAR 205 GR X 24 ",24,1,24,0.16,2844.82,3299.9912000000004,{"$f":"+J71*F71","v":3299.9912000000004},200,0,null,0,{"$f":"+O71*$O$83","v":0},0,0,0]
[null,"100126",null,"TICOS 9 G X 12 X 12",12,12,144,0.16,86.21,100.00359999999999,1200.0431999999998,200,0,null,0,0,0,0,0,0,0,0,{"$f":"+V72/U72","v":{"$error":"#DIV/0!"}}]
[null,100138,null,"TICOS PICANTE 9 G X 12 X 20",12,20,240,0.16,133.62,154.9992,3099.9839999999999,200,0,null,0,0,0,0,0]
[null,"000127",null,"TICOS 38G X 36",36,1,36,0.16,327.58999999999997,380.00439999999998,380.00439999999998,500,0,null,0,0,0,0,0,0,0,0,{"$error":"#DIV/0!"}]
[null,"100130",null,"TICOS QUESO 12 G X 12 X 20",20,12,240,0.16,129.31,149.99960000000002,1799.9952000000003,200,0,null,0,0,0,0,0,0,0,0,{"$error":"#DIV/0!"}]
[null,"000152",null,"TICOS QUESO 38 G X 36",36,1,36,0.16,344.82760000000002,400.00001600000002,400.00001600000002,500,0,null,0,0,0,0,0,0,0,360,{"$error":"#DIV/0!"},360]
[null,"100137",null,"TICOS QUESO 8 G  X 12 X 20",20,12,240,0.16,133.62,154.9992,1859.9904000000001,500,0,null,0,0,0,0,0,0,0,0,{"$error":"#DIV/0!"}]
[null,"100149",null,"TICOS POLLO 9G 12 X 20",12,20,240,0.16,133.62,154.9992,3099.9839999999999,200,0,null,0,0,0,0,0,0,0,1200,{"$error":"#DIV/0!"},{"$f":"240*5","v":1200}]
[null,"000128",null,"TICOS POLLO 38 G X 36",36,1,36,0.16,345,400.2,400.2,500,0,null,0,0,0,0,0,0,0,0,{"$error":"#DIV/0!"}]
[null,"000151",null,"TICOS CARAMELO 38 G X 36",36,1,36,0.16,344.82760000000002,400.00001600000002,400.00001600000002,500,0,null,0,0,0,0,0,0,0,0,{"$error":"#DIV/0!"}]
[null,"000150","7703133023979","TICO PICANTE 38G X 36",36,1,36,0.16,327.58620000000002,379.99999200000002,379.99999200000002,500,0,null,{"$f":"+N81*I81","v":0},0,{"$f":"+O81-P81","v":0},{"$f":"+Q81*H81","v":0},{"$f":"+R81+Q81","v":0},0,0,108,{"$error":"#DIV/0!"},{"$f":"36*3","v":108},null,null,null,null,null,null,null,null,null,null,null,null,null,null,null,null,null,null,null,null,null,null,null,null,null,null,null,0]
["CUPO CREDITO TOTAL",null,0,null,"CUPO ACTUAL",0,null,null,null,null,null,null,{"$f":"SUM(M5:M81)","v":2.75},{"$f":"S82/1000","v":89.349467136000001},{"$f":"SUM(O5:O81)","v":94385.280000000013},16989.350399999996,77395.929600000003,11953.537536000002,89349.467136000007,0,0,6044,{"$error":"#DIV/0!"},null,null,null,null,null,null,null,null,null,null,null,null,null,null,null,null,null,null,null,null,null,null,null,null,null,null,{"$f":"SUM(AX5:AX81)","v":0},{"$f":"SUM(AY5:AY81)","v":0},{"$f":"SUM(AZ5:AZ81)","v":0}]
[null,0,0,0,0,0,0,0,0,0,0,0,null,null,{"$f":"S1","v":0.18}]

{"sheet":"Yupi (42)","index":1,"n_rows":82,"n_cols":53,"rows_kept":82,"cut":false,"hidden":true,"merged":[[0,4,0,6],[0,12,0,13],[0,20,2,21],[0,23,2,48],[1,4,1,6],[1,12,1,13],[2,4,2,6],[2,12,2,13],[63,0,67,0],[68,0,79,0],[80,0,80,1],[80,5,80,6],[4,0,13,0],[14,0,28,0],[29,0,32,0],[33,0,42,0],[43,0,55,0],[56,0,62,0]]}
[null,null,null,"FRANQUICIADO","DIDIER VIZCAINO",null,null,null,null,null,null,null,"DESCUENTO",null,null,null,null,null,0.2,"DIAS MES",null,null,"DIA HABIL"]
[null,null,null,"CODIGO",null,null,null,null,null,null,null,null,"ZONA",null,null,null,null,null,"VILLANUEVA"]
[null,null,null,"FECHA",{"$f":"TODAY()","v":"2012-09-10"},null,null,null,null,null,null,null,"VALOR PEDIDO",null,null,null,null,null,{"$f":"S81","v":525842.66983679996},26,null,null,3]
[null,"Codigo","Codigo Barras","Descripción","Displays por paca","Unds por Display","Unds por Paca","Iva","Precio Antes de Iva","Precio incluido IVA","Valor Display al tendero","PVP Sugerido (Und)","PACAS","UNIDADES","v.antes iva","Descuento","total","iva","Total a Pagar","PPTO DIA","PPTO DIA HABIL","VENTA ACUMULADA","CUMP DIA HABIL",1,{"$f":"+X4+1","v":2},3,4,5,6,7,8,9,10,11,12,13,14,15,16,17,18,19,20,21,22,23,24,25,26,"VENTA TOTAL","PPTO","DIFERENCIA","                                                                                                                                                                               "]
["EXTRUIDOS","007695","7703133078771","YUPIS QUESO 45g X 36 X 1 AS",36,1,{"$f":"+E5*F5","v":36},0.16,560,{"$f":"+I5+I5*H5","v":649.6},{"$f":"+J5*F5","v":649.6},700,{"$f":"+N5/G5","v":0},null,{"$f":"+N5*I5","v":0},{"$f":"+O5*$O$82","v":0},{"$f":"+O5-P5","v":0},{"$f":"+Q5*H5","v":0},{"$f":"+R5+Q5","v":0},{"$f":"AX5*G5","v":0},{"$f":"+$W$3*T5","v":0},{"$f":"SUM(X5:AW5)","v":0},{"$f":"+V5/U5","v":{"$error":"#DIV/0!"}},null,null,null,null,null,null,null,null,null,null,null,null,null,null,null,null,null,null,null,null,null,null,null,null,null,null,null,null,{"$f":"+AY5-AX5","v":0}]
[null,"007164",7703133077309,"YUPIS SALADO 60g X 36 X 1 AS",36,1,{"$f":"+E6*F6","v":36},0.16,{"$f":"650/1.16","v":560.34482758620697},650.00000000000011,650.00000000000011,700,0,null,0,0,0,0,0,0,0,720,{"$error":"#DIV/0!"},{"$f":"36*20","v":720},null,null,null,null,null,null,null,null,null,null,null,null,null,null,null,null,null,null,null,null,null,null,null,null,null,null,null,{"$f":"+AY6-AX6","v":0}]
[null,"007899",null,"YUPIS PICANTE 45g X 36 X 1 AS",36,1,36,0.16,{"$f":"650/1.16","v":560.34482758620697},650.00000000000011,650.00000000000011,700,0,null,0,0,0,0,0,0,0,0,{"$error":"#DIV/0!"},null,null,null,null,null,null,null,null,null,null,null,null,null,null,null,null,null,null,null,null,null,null,null,null,null,null,null,null,0]
[null,"07881","7703133078818","YUPI  CARAMELO 50gX36X1 AS",36,1,36,0.16,{"$f":"650/1.16","v":560.34482758620697},650.00000000000011,650.00000000000011,700,0,null,0,0,0,0,0,0,0,0,{"$error":"#DIV/0!"},null,null,null,null,null,null,null,null,null,null,null,null,null,null,null,null,null,null,null,null,null,null,null,null,null,null,null,null,0]
[null,"007742",null,"YUPI  AREQUIQUESO  45 GR",36,1,36,0.16,{"$f":"650/1.16","v":560.34482758620697},{"$f":"+I9+I9*H9","v":650.00000000000011},{"$f":"+J9*F9","v":650.00000000000011},700,0,null,{"$f":"+N9*I9","v":0},0,{"$f":"+O9-P9","v":0},{"$f":"+Q9*H9","v":0},0,{"$f":"AX9*G9","v":0},{"$f":"+$W$3*T9","v":0},{"$f":"SUM(X9:AW9)","v":0},{"$f":"+V9/U9","v":{"$error":"#DIV/0!"}},null,null,null,null,null,null,null,null,null,null,null,null,null,null,null,null,null,null,null,null,null,null,null,null,null,null,null,null,0]
[null,"102174","7703133021739","YUPIS SALADO 10g X  12 X 20 DE",20,12,240,0.16,{"$f":"144/1.16","v":124.13793103448276},144,1728,200,0,null,0,0,0,0,0,0,0,960,{"$error":"#DIV/0!"},{"$f":"240*4","v":960},null,null,null,null,null,null,null,null,null,null,null,null,null,null,null,null,null,null,null,null,null,null,null,null,null,null,null,0]
[null,"07716","7703133077248","TICK CHEESE 100G X 24 X 1 AS",24,1,24,0.16,767.2,889.952,889.952,1000,0,null,0,0,0,0,0,0,0,0,{"$error":"#DIV/0!"},null,null,null,null,null,null,null,null,null,null,null,null,null,null,null,null,null,null,null,null,null,null,null,null,null,null,null,null,0]
[null,"107729","7703133077194","TICK CHEESE 40g X 12 X 6 DE",6,12,72,0.16,396,459.36,5512.32,600,0,null,0,0,0,0,0,0,0,0,{"$error":"#DIV/0!"},null,null,null,null,null,null,null,null,null,null,null,null,null,null,null,null,null,null,null,null,null,null,null,null,null,null,null,null,0]
[null,"02122","7703133021227","PALOMITAS CARAMELO 68g X 36 X 1 AS",36,1,36,0.16,582,675.12,675.12,800,0,null,0,0,0,0,0,0,0,0,{"$error":"#DIV/0!"},null,null,null,null,null,null,null,null,null,null,null,null,null,null,null,null,null,null,null,null,null,null,null,null,null,null,null,null,0]
[null,"102117","7703133021166","PALOMITAS CARAMELO 20g X 12 X 12 DE",12,12,144,0.16,344.8,399.96800000000002,4799.616,500,0,null,0,0,0,0,0,0,0,0,{"$error":"#DIV/0!"},null,null,null,null,null,null,null,null,null,null,null,null,null,null,null,null,null,null,null,null,null,null,null,null,null,null,null,null,0]
["RIZADAS",109128,"7703133091275","RIZADAS NATURAL 30g X 12 X 6 DE",6,12,72,0.16,{"$f":"750/1.16","v":646.55172413793105},{"$f":"+I15+I15*H15","v":750},{"$f":"+J15*F15","v":9000},800,{"$f":"+N15/G15","v":0},null,{"$f":"+N15*I15","v":0},0,{"$f":"+O15-P15","v":0},{"$f":"+Q15*H15","v":0},{"$f":"+R15+Q15","v":0},null,null,null,null,null,null,null,null,null,null,null,null,null,null,null,null,null,null,null,null,null,null,null,null,null,null,null,null,null,null,null,null,0]
[null,109130,"7703133070324","RIZADAS POLLO 30g X 12 X 6 DE",6,12,72,0.16,{"$f":"750/1.16","v":646.55172413793105},750,9000,800,0,null,0,0,0,0,0,0,0,0,{"$error":"#DIV/0!"},null,null,null,null,null,null,null,null,null,null,null,null,null,null,null,null,null,null,null,null,null,null,null,null,null,null,null,null,0]
[null,109132,"7703133070362","RIZADAS MAYONESA 30g X 12 X 6 DE",6,12,72,0.16,{"$f":"750/1.16","v":646.55172413793105},750,9000,800,0,null,0,0,0,0,0,0,0,0,{"$error":"#DIV/0!"},null,null,null,null,null,null,null,null,null,null,null,null,null,null,null,null,null,null,null,null,null,null,null,null,null,null,null,null,0]
[null,109134,"7703133070348","RIZADAS LIMON 30g X 12 X 6 DE",6,12,72,0.16,{"$f":"750/1.16","v":646.55172413793105},750,9000,800,0,null,0,0,0,0,0,0,0,0,{"$error":"#DIV/0!"},null,null,null,null,null,null,null,null,null,null,null,null,null,null,null,null,null,null,null,null,null,null,null,null,null,null,null,null,0]
[null,"107029","7703133070287","RIZADAS BBQ RANCHERA 28g X 12 X 6 DE",6,12,72,0.16,581.9,675.00400000000002,8100.0480000000007,800,{"$f":"+N19/G19","v":0},null,0,0,0,0,0,0,0,0,{"$error":"#DIV/0!"},null,null,null,null,null,null,null,null,null,null,null,null,null,null,null,null,null,null,null,null,null,null,null,null,null,null,null,null,0]
[null,107122,null,"RIZADAS MEXICAN FUSION  28g X 12 X 6 DE",6,12,72,0.16,{"$f":"750/1.16","v":646.55172413793105},750,9000,800,0,null,0,0,0,0,0,0,0,0,{"$error":"#DIV/0!"},null,null,null,null,null,null,null,null,null,null,null,null,null,null,null,null,null,null,null,null,null,null,null,null,null,null,null,null,0]
[null,"107587","7703133072922","RIZADAS NATURAL 115g X 20 X 1 AS",20,1,20,0.16,{"$f":"1907/1.16","v":1643.9655172413795},1907.0000000000002,1907.0000000000002,2300,0,null,0,0,0,0,0,0,0,0,{"$error":"#DIV/0!"},null,null,null,null,null,null,null,null,null,null,null,null,null,null,null,null,null,null,null,null,null,null,null,null,null,null,null,null,0]
[null,"107588","7703133072946","RIZADAS MAYONESA 115g X 20 X 1 AS",20,1,20,0.16,{"$f":"1907/1.16","v":1643.9655172413795},1907.0000000000002,1907.0000000000002,2300,0,null,0,0,0,0,0,0,0,0,{"$error":"#DIV/0!"},null,null,null,null,null,null,null,null,null,null,null,null,null,null,null,null,null,null,null,null,null,null,null,null,null,null,null,null,0]
[null,"107586","7703133072984","RIZADAS LIMON  115g X 20 X 1 AS",20,1,20,0.16,{"$f":"1907/1.16","v":1643.9655172413795},1907.0000000000002,1907.0000000000002,2300,0,null,0,0,0,0,0,0,0,0,{"$error":"#DIV/0!"},null,null,null,null,null,null,null,null,null,null,null,null,null,null,null,null,null,null,null,null,null,null,null,null,null,null,null,null,0]
[null,"107592","7703133078856","RIZADAS POLLO 115g X 20 X 1 AS",20,1,20,0.16,{"$f":"1907/1.16","v":1643.9655172413795},1907.0000000000002,1907.0000000000002,2300,0,null,0,0,0,0,0,0,0,20,{"$error":"#DIV/0!"},20,null,null,null,null,null,null,null,null,null,null,null,null,null,null,null,null,null,null,null,null,null,null,null,null,null,null,null,0]
[null,"007111",null,"RIZADAS MEXICAN FUSION 115g X 20 X 1 AS",20,1,20,0.16,1508,{"$f":"+I25+I25*H25","v":1749.28},{"$f":"+J25*F25","v":1749.28},1800,{"$f":"+N25/G25","v":0},null,{"$f":"+N25*I25","v":0},0,{"$f":"+O25-P25","v":0},{"$f":"+Q25*H25","v":0},{"$f":"+R25+Q25","v":0},{"$f":"AX25*G25","v":0},{"$f":"+$W$3*T25","v":0},{"$f":"SUM(X25:AW25)","v":0},{"$f":"+V25/U25","v":{"$error":"#DIV/0!"}},null,null,null,null,null,null,null,null,null,null,null,null,null,null,null,null,null,null,null,null,null,null,null,null,null,null,null,null,0]
[null,107443,"7703133072953"," RIZADAS NATURAL  45GX8X6 DE",6,8,48,0.16,758.87,{"$f":"+I26+I26*H26","v":880.28920000000005},{"$f":"+J26*F26","v":7042.3136000000004},1000,{"$f":"+N26/G26","v":0},null,{"$f":"+N26*I26","v":0},0,{"$f":"+O26-P26","v":0},{"$f":"+Q26*H26","v":0},{"$f":"+R26+Q26","v":0},{"$f":"AX26*G26","v":0},{"$f":"+$W$3*T26","v":0},{"$f":"SUM(X26:AW26)","v":0},{"$f":"+V26/U26","v":{"$error":"#DIV/0!"}}]
[null,107295,"7703133072953"," RIZADAS MAYONESA  45GX8X6 DE",6,8,48,0.16,758.87,880.28920000000005,7042.3136000000004,1000,0,null,0,0,0,0,0,0,0,0,{"$error":"#DIV/0!"},null,null,null,null,null,null,null,null,null,null,null,null,null,null,null,null,null,null,null,null,null,null,null,null,null,null,null,null,0]
[null,107300,"7703133073011"," RIZADAS POLLO  45GX8X6 DE",6,8,48,0.16,758.87,880.28920000000005,7042.3136000000004,1000,0,null,0,0,0,0,0,0,0,240,{"$error":"#DIV/0!"},{"$f":"48*5","v":240},null,null,null,null,null,null,null,null,null,null,null,null,null,null,null,null,null,null,null,null,null,null,null,null,null,null,null,0]
[null,107299,"7703133072991"," RIZADAS LIMON  45GX8X6 DE",6,8,48,0.16,758.87,880.28920000000005,7042.3136000000004,1000,0,null,0,0,0,0,0,0,0,0,{"$error":"#DIV/0!"},null,null,null,null,null,null,null,null,null,null,null,null,null,null,null,null,null,null,null,null,null,null,null,null,null,null,null,null,0]
["LIZAS",106982,"7703133070409","LIZA´S S/TOMATE 30g X 12 X 5 DE",5,12,60,0.16,{"$f":"715/1.16","v":616.37931034482767},715.00000000000011,8580.0000000000018,800,0,null,0,0,0,0,0,0,0,0,{"$error":"#DIV/0!"},null,null,null,null,null,null,null,null,null,null,null,null,null,null,null,null,null,null,null,null,null,null,null,null,null,null,null,null,0]
[null,106983,"7703133072423","LIZA´S S/ROSADA 30g X 12 X 5 DE",5,12,60,0.16,{"$f":"715/1.16","v":616.37931034482767},715.00000000000011,8580.0000000000018,800,0,null,0,0,0,0,0,0,0,0,{"$error":"#DIV/0!"},null,null,null,null,null,null,null,null,null,null,null,null,null,null,null,null,null,null,null,null,null,null,null,null,null,null,null,null,0]
[null,107380,"7703133070461","LIZA'S POLLO 30g X 12 X 5 DE",5,12,60,0.16,{"$f":"715/1.16","v":616.37931034482767},715.00000000000011,8580.0000000000018,800,0,null,0,0,0,0,0,0,0,0,{"$error":"#DIV/0!"},null,null,null,null,null,null,null,null,null,null,null,null,null,null,null,null,null,null,null,null,null,null,null,null,null,null,null,null,0]
[null,107132,"7703133070447","LIZA´S LIMÓN 30g X 12 X 5 DE",5,12,60,0.16,{"$f":"715/1.16","v":616.37931034482767},715.00000000000011,8580.0000000000018,800,0,null,0,0,0,0,0,0,0,0,{"$error":"#DIV/0!"},null,null,null,null,null,null,null,null,null,null,null,null,null,null,null,null,null,null,null,null,null,null,null,null,null,null,null,null,0]
["MIXTOS","07260","7703133072380","EL GOLPE 110g X 24 X 1  AS",24,1,24,0.16,1379.31,1599.9995999999999,1599.9995999999999,1800,0,null,0,0,0,0,0,0,0,24,{"$error":"#DIV/0!"},24,null,null,null,null,null,null,null,null,null,null,null,null,null,null,null,null,null,null,null,null,null,null,null,null,null,null,null,0]
[null,107258,"7703133077231","GOLPE 30g X  12  X  6 DE",6,12,72,0.16,435.34,504.99439999999998,6059.9327999999996,1000,0,null,0,0,0,0,0]
[null,"107726","7703133077231","GOLPE MIX 45g X  8  X  6 DE",6,8,48,0.16,733,850.28,6802.24,1000,0,null,0,0,0,0,0,0,0,0,{"$error":"#DIV/0!"},null,null,null,null,null,null,null,null,null,null,null,null,null,null,null,null,null,null,null,null,null,null,null,null,null,null,null,null,0]
[null,"107836","7703133072571","EL GOLPE 45 gr 8 X 6 DE",6,8,48,0.16,733,850.28,6802.24,1000,0,null,0,0,0,0,0,0,0,144,{"$error":"#DIV/0!"},{"$f":"48*3","v":144},null,null,null,null,null,null,null,null,null,null,null,null,null,null,null,null,null,null,null,null,null,null,null,null,null,null,null,0]
[null,"107254","7703133072540","EL GOLPE LIMON 45 gr 8 X 6 DE",6,8,48,0.16,733,850.28,6802.24,1000,8,{"$f":"48*8","v":384},281472,56294.400000000001,225177.60000000001,36028.416000000005,261206.016,0,0,0,{"$error":"#DIV/0!"},null,null,null,null,null,null,null,null,null,null,null,null,null,null,null,null,null,null,null,null,null,null,null,null,null,null,null,null,0]
[null,"107261","7703133072533","EL GOLPE RANCHERO 45G X 8 X 6 DE",6,8,48,0.16,733,850.28,6802.24,1000,0,null,0,0,0,0,0,0,0,480,{"$error":"#DIV/0!"},480,null,null,null,null,null,null,null,null,null,null,null,null,null,null,null,null,null,null,null,null,null,null,null,null,null,null,null,0]
[null,107590,"7703133072496","GOLPE RANCHERO 140 GR  17 X 1 AS",17,1,{"$f":"+E40*F40","v":17},0.16,2161,{"$f":"+I40+I40*H40","v":2506.7600000000002},{"$f":"+J40*F40","v":2506.7600000000002},2800,{"$f":"+N40/G40","v":0},null,{"$f":"+N40*I40","v":0},0,{"$f":"+O40-P40","v":0},{"$f":"+Q40*H40","v":0},{"$f":"+R40+Q40","v":0},{"$f":"AX40*G40","v":0},{"$f":"+$W$3*T40","v":0},{"$f":"SUM(X40:AW40)","v":0},{"$f":"+V40/U40","v":{"$error":"#DIV/0!"}},null,null,null,null,null,null,null,null,null,null,null,null,null,null,null,null,null,null,null,null,null,null,null,null,null,null,null,null,0]
[null,107465,null,"WOW MIX NATURAL 45 gr X 8 X 6 DE",6,8,{"$f":"+E41*F41","v":48},0.16,{"$f":"850/1.16","v":732.75862068965523},{"$f":"+I41+I41*H41","v":850.00000000000011},{"$f":"+J41*F41","v":6800.0000000000009},1000,{"$f":"+N41/G41","v":0},null,{"$f":"+N41*I41","v":0},0,{"$f":"+O41-P41","v":0},{"$f":"+Q41*H41","v":0},{"$f":"+R41+Q41","v":0},{"$f":"AX41*G41","v":0},{"$f":"+$W$3*T41","v":0},{"$f":"SUM(X41:AW41)","v":0},{"$f":"+V41/U41","v":{"$error":"#DIV/0!"}},null,null,null,null,null,null,null,null,null,null,null,null,null,null,null,null,null,null,null,null,null,null,null,null,null,null,null,null,0]
[null,107445,null,"WOW MIX QUESO 45 gr X 8 X 6 DE",6,8,{"$f":"+E42*F42","v":48},0.16,{"$f":"850/1.16","v":732.75862068965523},{"$f":"+I42+I42*H42","v":850.00000000000011},{"$f":"+J42*F42","v":6800.0000000000009},1000,{"$f":"+N42/G42","v":1},48,{"$f":"+N42*I42","v":35172.413793103449},7034.4827586206902,{"$f":"+O42-P42","v":28137.931034482761},{"$f":"+Q42*H42","v":4502.0689655172418},{"$f":"+R42+Q42","v":32640.000000000004},{"$f":"AX42*G42","v":0},{"$f":"+$W$3*T42","v":0},{"$f":"SUM(X42:AW42)","v":0},{"$f":"+V42/U42","v":{"$error":"#DIV/0!"}},null,null,null,null,null,null,null,null,null,null,null,null,null,null,null,null,null,null,null,null,null,null,null,null,null,null,null,null,0]
[null,107447,null,"WOW MIX BBQ 45 gr X 8 X 6 DE",6,8,{"$f":"+E43*F43","v":48},0.16,732.8,{"$f":"+I43+I43*H43","v":850.048},{"$f":"+J43*F43","v":6800.384},1000,{"$f":"+N43/G43","v":1},48,{"$f":"+N43*I43","v":35174.399999999994},7034.8799999999992,{"$f":"+O43-P43","v":28139.519999999997},{"$f":"+Q43*H43","v":4502.3231999999998},{"$f":"+R43+Q43","v":32641.843199999996},{"$f":"AX43*G43","v":0},{"$f":"+$W$3*T43","v":0},{"$f":"SUM(X43:AW43)","v":240},{"$f":"+V43/U43","v":{"$error":"#DIV/0!"}},{"$f":"48*5","v":240},null,null,null,null,null,null,null,null,null,null,null,null,null,null,null,null,null,null,null,null,null,null,null,null,null,null,null,0]
["TOSTIS","007226","7703133072380","TOSTI AREPAS 150g X 17 X 1 AS",17,1,17,0.1,1545,1699.5,1699.5,1800,0,null,0,0,0,0,0,0,0,0,{"$error":"#DIV/0!"},null,null,null,null,null,null,null,null,null,null,null,null,null,null,null,null,null,null,null,null,null,null,null,null,null,null,null,null,0]
[null,107228,"7703133072274","TOSTIAREPA 28 G X12 X6 DE",6,12,72,0.1,364,400.4,4804.7999999999993,500,0,null,0,0,0,0,0,0,0,72,{"$error":"#DIV/0!"},72,null,null,null,null,null,null,null,null,null,null,null,null,null,null,null,null,null,null,null,null,null,null,null,null,null,null,null,0]
[null,"107240","7703133072397","TOSTI EMPANADA CARNE 28GX12X6 DE",6,12,72,0.1,364,400.4,4804.7999999999993,500,0,null,0,0,0,0,0,0,0,0,{"$error":"#DIV/0!"},null,null,null,null,null,null,null,null,null,null,null,null,null,null,null,null,null,null,null,null,null,null,null,null,null,null,null,null,0]
[null,"107234","7703133072335","TOSTI EMPANADA LIMON 28 G X 12 X 6  DE",6,12,72,0.1,364,400.4,4804.7999999999993,500,0,null,0,0,0,0,0,0,0,1080,{"$error":"#DIV/0!"},{"$f":"72*15","v":1080},null,null,null,null,null,null,null,null,null,null,null,null,null,null,null,null,null,null,null,null,null,null,null,null,null,null,null,0]
[null,"107220","7703133072199","TOSTI PIZZA POLLO 28G X 12 X 6 DE",6,12,72,0.1,364,400.4,4804.7999999999993,500,0,null,0,0,0,0,0,0,0,72,{"$error":"#DIV/0!"},72,null,null,null,null,null,null,null,null,null,null,null,null,null,null,null,null,null,null,null,null,null,null,null,null,null,null,null,0]
[null,"107222","7703133072199","TOSTI PIZZA QUESO 28G X 12 X 6 DE",6,12,72,0.1,364,400.4,4804.7999999999993,500,0,null,0,0,0,0,0,0,0,0,{"$error":"#DIV/0!"},null,null,null,null,null,null,null,null,null,null,null,null,null,null,null,null,null,null,null,null,null,null,null,null,null,null,null,null,0]
[null,"107333",null,"TOSTI NACHOS QUESO 28 GR X 12 X 6 DE",6,12,72,0.1,364,400.4,4804.7999999999993,500,0,null,0,0,0,0,0,0,0,144,{"$error":"#DIV/0!"},{"$f":"72*2","v":144},null,null,null,null,null,null,null,null,null,null,null,null,null,null,null,null,null,null,null,null,null,null,null,null,null,null,null,0]
[null,"107231","7703133072304","TOSTIEMPANADA QUESO PICANTE 28G X 12 X 6",6,12,72,0.1,364,400.4,4804.7999999999993,500,0,null,0,0,0,0,0,0,0,0,{"$error":"#DIV/0!"},null,null,null,null,null,null,null,null,null,null,null,null,null,null,null,null,null,null,null,null,null,null,null,null,null,null,null,null,0]
[null,"107335",null,"TOSTI NACHOS CHILE LIMON 28 GR X 12 X 6",6,12,72,0.1,364,400.4,4804.7999999999993,500,0,null,0,0,0,0,0,0,0,0,{"$error":"#DIV/0!"},null,null,null,null,null,null,null,null,null,null,null,null,null,null,null,null,null,null,null,null,null,null,null,null,null,null,null,null,0]
[null,"107485","7703133079996","TOSTI PLATANITOS 30 GR X 12 X 6 DE",6,12,72,0.16,388,450.08,5400.96,600,0,null,0,0,0,0,0,0,0,72,{"$error":"#DIV/0!"},72,null,null,null,null,null,null,null,null,null,null,null,null,null,null,null,null,null,null,null,null,null,null,null,null,null,null,null,0]
[null,"107561",null,"TOSTI NACHOS 45 GR  8 X 6",6,8,48,0.1,{"$f":"650/1.1","v":590.90909090909088},650,5200,800,0,null,0,0,0,0,0,0,0,0,{"$error":"#DIV/0!"}]
[null,"007337","7703133079996","TOSTI NACHOS CHILE LIMON 150 GR X 17 X 1 AS",17,1,17,0.1,1545,{"$f":"+I55+I55*H55","v":1699.5},{"$f":"+J55*F55","v":1699.5},1800,{"$f":"+N55/G55","v":0},null,{"$f":"+N55*I55","v":0},0,{"$f":"+O55-P55","v":0},{"$f":"+Q55*H55","v":0},{"$f":"+R55+Q55","v":0},{"$f":"AX55*G55","v":0},0,{"$f":"SUM(X55:AW55)","v":0},{"$f":"+V55/U55","v":{"$error":"#DIV/0!"}},null,null,null,null,null,null,null,null,null,null,null,null,null,null,null,null,null,null,null,null,null,null,null,null,null,null,null,null,0]
[null,"007338","7703133079996","TOSTI NACHOS QUESO 150 GR X 17 X 1 AS",17,1,17,0.1,1545,{"$f":"+I56+I56*H56","v":1699.5},{"$f":"+J56*F56","v":1699.5},1800,{"$f":"+N56/G56","v":0},null,{"$f":"+N56*I56","v":0},0,{"$f":"+O56-P56","v":0},{"$f":"+Q56*H56","v":0},{"$f":"+R56+Q56","v":0},{"$f":"AX56*G56","v":0},0,{"$f":"SUM(X56:AW56)","v":0},{"$f":"+V56/U56","v":{"$error":"#DIV/0!"}},null,null,null,null,null,null,null,null,null,null,null,null,null,null,null,null,null,null,null,null,null,null,null,null,null,null,null,null,0]
["OTROS","107574","77031330200227","MEKATROCITOS POLLO 28 GR X 12 X 8 DE",8,12,96,0.1,273,300.3,3603.6000000000004,400,2.5,{"$f":"20*12","v":240},65520,13104,52416,5241.6000000000004,57657.599999999999,0,0,0,{"$error":"#DIV/0!"},null,null,null,null,null,null,null,null,null,null,null,null,null,null,null,null,null,null,null,null,null,null,null,null,null,null,null,null,0]
[null,"02424","7703133024242","TOZINETAS FRED 40g X 40 X 1 AS",40,1,40,0.16,954.55,1107.278,1107.278,1280,0,null,0,0,0,0,0,0,0,0,{"$error":"#DIV/0!"},null,null,null,null,null,null,null,null,null,null,null,null,null,null,null,null,null,null,null,null,null,null,null,null,null,null,null,null,0]
[null,107385,"7703133024211","TOZINETAS FRED 25G X 48  DE",48,1,48,0.16,498,577.68000000000006,577.68000000000006,600,0,null,0,0,0,0,0,0,0,48,{"$error":"#DIV/0!"},48,null,null,null,null,null,null,null,null,null,null,null,null,null,null,null,null,null,null,null,null,null,null,null,null,null,null,null,0]
[null,"102411","7703133024105","COSTILLITAS FRED 25GX 48 DE",48,1,48,0.16,498,577.68000000000006,577.68000000000006,700,0,null,0,0,0,0,0,0,0,48,{"$error":"#DIV/0!"},48,null,null,null,null,null,null,null,null,null,null,null,null,null,null,null,null,null,null,null,null,null,null,null,null,null,null,null,0]
[null,107996,null,"PAPAS CHIPS 45 GRMS",48,1,48,0.16,646.79999999999995,750.28800000000001,750.28800000000001,900,0,null,0,0,0,0,0,0,0]
[null,"07795","7703133077958","LONCHERA DIVERTIDA 241g X 12 AS",12,1,12,0.16,3275.8620999999998,3800.0000359999999,3800.0000359999999,4650,3,36,117931.03559999999,{"$f":"+O62*$O$82","v":23586.207119999999},94344.828479999996,15095.1725568,109440.00103679999,0,0,12,{"$error":"#DIV/0!"},12,null,null,null,null,null,null,null,null,null,null,null,null,null,null,null,null,null,null,null,null,null,null,null,null,null,null,null,0]
[null,"02156","7703133023979","LONCHIPACK 309g X 12 X 12 AS",12,1,12,0.16,4051.72,4699.9951999999994,4699.9951999999994,6050,0,null,0,0,0,0,0,0,0,0,{"$error":"#DIV/0!"}]
["CRESPAS","100008",null,"MEKATO NATURAL 25 GR X 12 X 6",12,6,72,0.16,474.16,550.02560000000005,3300.1536000000006,700,0,null,0,0,0,0,0,0,0,0,{"$error":"#DIV/0!"}]
[null,"100009",null,"MEKATO LIMON 25 GR X 12 X 6",12,6,72,0.16,474.16,550.02560000000005,3300.1536000000006,700,0,null,0,0,0,0,0,0,0,0,{"$error":"#DIV/0!"}]
[null,100002,null,"CRESPAS SALSA TOMATE 25 GR",12,6,72,0.16,505,585.79999999999995,3514.7999999999997,700,0,null,0,0,0,0,0,0,0,0,{"$error":"#DIV/0!"}]
[null,100003,null,"CRESPAS LIMON 25 GR",12,6,72,0.16,505,585.79999999999995,3514.7999999999997,700,0,null,0,0,0,0,0,0,0,0,{"$error":"#DIV/0!"}]
[null,100004,null,"CRESPAS POLLO 25 GR",12,6,72,0.16,505,585.79999999999995,3514.7999999999997,700,0,null,0,0,0,0,0,0,0,0,{"$error":"#DIV/0!"}]
["MEKATO","100144",null,"ROSKOTAS AREQUIPE 14G X 12 X 7",7,12,84,0.1,436.38,480.01800000000003,6074.4096,700,1,84,36655.919999999998,7331.1840000000002,29324.735999999997,2932.4735999999998,32257.209599999998,0,0,0,{"$error":"#DIV/0!"}]
[null,"000034",null,"MEKATO ESCOLAR 205 GR X 24 ",24,1,24,0.16,2844.82,3299.9912000000004,{"$f":"+J70*F70","v":3299.9912000000004},200,0,null,0,{"$f":"+O70*$O$82","v":0},0,0,0]
[null,"100126",null,"TICOS 9 G X 12 X 12",12,12,144,0.16,86.21,100.00359999999999,1200.0431999999998,200,0,null,0,0,0,0,0,0,0,0,{"$f":"+V71/U71","v":{"$error":"#DIV/0!"}}]
[null,100138,null,"TICOS PICANTE 9 G X 12 X 20",12,20,240,0.16,133.62,154.9992,3099.9839999999999,200,0,null,0,0,0,0,0]
[null,"000127",null,"TICOS 38G X 36",36,1,36,0.16,327.58999999999997,380.00439999999998,380.00439999999998,500,0,null,0,0,0,0,0,0,0,0,{"$error":"#DIV/0!"}]
[null,"100130",null,"TICOS QUESO 12 G X 12 X 20",20,12,240,0.16,129.31,149.99960000000002,1799.9952000000003,200,0,null,0,0,0,0,0,0,0,0,{"$error":"#DIV/0!"}]
[null,"000152",null,"TICOS QUESO 38 G X 36",36,1,36,0.16,344.82760000000002,400.00001600000002,400.00001600000002,500,0,null,0,0,0,0,0,0,0,360,{"$error":"#DIV/0!"},360]
[null,"100137",null,"TICOS QUESO 8 G  X 12 X 20",20,12,240,0.16,133.62,154.9992,1859.9904000000001,500,0,null,0,0,0,0,0,0,0,0,{"$error":"#DIV/0!"}]
[null,"100149",null,"TICOS POLLO 9G 12 X 20",12,20,240,0.16,133.62,154.9992,3099.9839999999999,200,0,null,0,0,0,0,0,0,0,1200,{"$error":"#DIV/0!"},{"$f":"240*5","v":1200}]
[null,"000128",null,"TICOS POLLO 38 G X 36",36,1,36,0.16,345,400.2,400.2,500,0,null,0,0,0,0,0,0,0,0,{"$error":"#DIV/0!"}]
[null,"000151",null,"TICOS CARAMELO 38 G X 36",36,1,36,0.16,344.82760000000002,400.00001600000002,400.00001600000002,500,0,null,0,0,0,0,0,0,0,0,{"$error":"#DIV/0!"}]
[null,"000150","7703133023979","TICO PICANTE 38G X 36",36,1,36,0.16,327.58620000000002,379.99999200000002,379.99999200000002,500,0,null,{"$f":"+N80*I80","v":0},0,{"$f":"+O80-P80","v":0},{"$f":"+Q80*H80","v":0},{"$f":"+R80+Q80","v":0},0,0,108,{"$error":"#DIV/0!"},{"$f":"36*3","v":108},null,null,null,null,null,null,null,null,null,null,null,null,null,null,null,null,null,null,null,null,null,null,null,null,null,null,null,0]
["CUPO CREDITO TOTAL",null,0,null,"CUPO ACTUAL",0,null,null,null,null,null,null,{"$f":"SUM(M5:M80)","v":16.5},{"$f":"S81/1000","v":525.84266983679993},{"$f":"SUM(O5:O80)","v":571925.76939310343},114385.15387862069,457540.61551448278,68302.054322317243,525842.66983679996,0,0,6044,{"$error":"#DIV/0!"},null,null,null,null,null,null,null,null,null,null,null,null,null,null,null,null,null,null,null,null,null,null,null,null,null,null,{"$f":"SUM(AX5:AX80)","v":0},{"$f":"SUM(AY5:AY80)","v":0},{"$f":"SUM(AZ5:AZ80)","v":0}]
[null,0,0,0,0,0,0,0,0,0,0,0,null,null,{"$f":"S1","v":0.2}]

{"sheet":"Yupi (44)","index":2,"n_rows":83,"n_cols":53,"rows_kept":83,"cut":false,"hidden":true,"merged":[[64,0,68,0],[69,0,80,0],[81,0,81,1],[81,5,81,6],[4,0,13,0],[14,0,28,0],[29,0,32,0],[33,0,42,0],[43,0,55,0],[56,0,63,0],[0,4,0,6],[0,12,0,13],[0,20,2,21],[0,23,2,48],[1,4,1,6],[1,12,1,13],[2,4,2,6],[2,12,2,13]]}
[null,null,null,"FRANQUICIADO","DIDIER VIZCAINO",null,null,null,null,null,null,null,"DESCUENTO",null,null,null,null,null,0.2,"DIAS MES",null,null,"DIA HABIL"]
[null,null,null,"CODIGO",null,null,null,null,null,null,null,null,"ZONA",null,null,null,null,null,"VILLANUEVA"]
[null,null,null,"FECHA",{"$f":"TODAY()","v":"2012-09-10"},null,null,null,null,null,null,null,"VALOR PEDIDO",null,null,null,null,null,{"$f":"S82","v":897844.99200000009},26,null,null,3]
[null,"Codigo","Codigo Barras","Descripción","Displays por paca","Unds por Display","Unds por Paca","Iva","Precio Antes de Iva","Precio incluido IVA","Valor Display al tendero","PVP Sugerido (Und)","PACAS","UNIDADES","v.antes iva","Descuento","total","iva","Total a Pagar","PPTO DIA","PPTO DIA HABIL","VENTA ACUMULADA","CUMP DIA HABIL",1,{"$f":"+X4+1","v":2},3,4,5,6,7,8,9,10,11,12,13,14,15,16,17,18,19,20,21,22,23,24,25,26,"VENTA TOTAL","PPTO","DIFERENCIA","                                                                                                                                                                               "]
["EXTRUIDOS","007695","7703133078771","YUPIS QUESO 45g X 36 X 1 AS",36,1,{"$f":"+E5*F5","v":36},0.16,560,{"$f":"+I5+I5*H5","v":649.6},{"$f":"+J5*F5","v":649.6},700,{"$f":"+N5/G5","v":0},null,{"$f":"+N5*I5","v":0},{"$f":"+O5*$O$83","v":0},{"$f":"+O5-P5","v":0},{"$f":"+Q5*H5","v":0},{"$f":"+R5+Q5","v":0},{"$f":"AX5*G5","v":0},{"$f":"+$W$3*T5","v":0},{"$f":"SUM(X5:AW5)","v":0},{"$f":"+V5/U5","v":{"$error":"#DIV/0!"}},null,null,null,null,null,null,null,null,null,null,null,null,null,null,null,null,null,null,null,null,null,null,null,null,null,null,null,null,{"$f":"+AY5-AX5","v":0}]
[null,"007164",7703133077309,"YUPIS SALADO 60g X 36 X 1 AS",36,1,{"$f":"+E6*F6","v":36},0.16,{"$f":"650/1.16","v":560.34482758620697},650.00000000000011,650.00000000000011,700,8,288,161379.31034482759,32275.862068965522,129103.44827586207,20656.551724137931,149760,0,0,720,{"$error":"#DIV/0!"},{"$f":"36*20","v":720},null,null,null,null,null,null,null,null,null,null,null,null,null,null,null,null,null,null,null,null,null,null,null,null,null,null,null,{"$f":"+AY6-AX6","v":0}]
[null,"007899",null,"YUPIS PICANTE 45g X 36 X 1 AS",36,1,36,0.16,{"$f":"650/1.16","v":560.34482758620697},650.00000000000011,650.00000000000011,700,4,144,80689.655172413797,16137.931034482761,64551.724137931036,10328.275862068966,74880,0,0,0,{"$error":"#DIV/0!"},null,null,null,null,null,null,null,null,null,null,null,null,null,null,null,null,null,null,null,null,null,null,null,null,null,null,null,null,0]
[null,"07881","7703133078818","YUPI  CARAMELO 50gX36X1 AS",36,1,36,0.16,{"$f":"650/1.16","v":560.34482758620697},650.00000000000011,650.00000000000011,700,10,360,201724.13793103452,40344.827586206906,161379.31034482762,25820.68965517242,187200.00000000006,0,0,0,{"$error":"#DIV/0!"},null,null,null,null,null,null,null,null,null,null,null,null,null,null,null,null,null,null,null,null,null,null,null,null,null,null,null,null,0]
[null,"007742",null,"YUPI  AREQUIQUESO  45 GR",36,1,36,0.16,{"$f":"650/1.16","v":560.34482758620697},{"$f":"+I9+I9*H9","v":650.00000000000011},{"$f":"+J9*F9","v":650.00000000000011},700,0,null,{"$f":"+N9*I9","v":0},0,{"$f":"+O9-P9","v":0},{"$f":"+Q9*H9","v":0},0,{"$f":"AX9*G9","v":0},{"$f":"+$W$3*T9","v":0},{"$f":"SUM(X9:AW9)","v":0},{"$f":"+V9/U9","v":{"$error":"#DIV/0!"}},null,null,null,null,null,null,null,null,null,null,null,null,null,null,null,null,null,null,null,null,null,null,null,null,null,null,null,null,0]
[null,"102174","7703133021739","YUPIS SALADO 10g X  12 X 20 DE",20,12,240,0.16,{"$f":"144/1.16","v":124.13793103448276},144,1728,200,0,null,0,0,0,0,0,0,0,960,{"$error":"#DIV/0!"},{"$f":"240*4","v":960},null,null,null,null,null,null,null,null,null,null,null,null,null,null,null,null,null,null,null,null,null,null,null,null,null,null,null,0]
[null,"07716","7703133077248","TICK CHEESE 100G X 24 X 1 AS",24,1,24,0.16,767.2,889.952,889.952,1000,0,null,0,0,0,0,0,0,0,0,{"$error":"#DIV/0!"},null,null,null,null,null,null,null,null,null,null,null,null,null,null,null,null,null,null,null,null,null,null,null,null,null,null,null,null,0]
[null,"107729","7703133077194","TICK CHEESE 40g X 12 X 6 DE",6,12,72,0.16,396,459.36,5512.32,600,0,null,0,0,0,0,0,0,0,0,{"$error":"#DIV/0!"},null,null,null,null,null,null,null,null,null,null,null,null,null,null,null,null,null,null,null,null,null,null,null,null,null,null,null,null,0]
[null,"02122","7703133021227","PALOMITAS CARAMELO 68g X 36 X 1 AS",36,1,36,0.16,582,675.12,675.12,800,0,null,0,0,0,0,0,0,0,0,{"$error":"#DIV/0!"},null,null,null,null,null,null,null,null,null,null,null,null,null,null,null,null,null,null,null,null,null,null,null,null,null,null,null,null,0]
[null,"102117","7703133021166","PALOMITAS CARAMELO 20g X 12 X 12 DE",12,12,144,0.16,344.8,399.96800000000002,4799.616,500,0,null,0,0,0,0,0,0,0,0,{"$error":"#DIV/0!"},null,null,null,null,null,null,null,null,null,null,null,null,null,null,null,null,null,null,null,null,null,null,null,null,null,null,null,null,0]
["RIZADAS",109128,"7703133091275","RIZADAS NATURAL 30g X 12 X 6 DE",6,12,72,0.16,{"$f":"750/1.16","v":646.55172413793105},{"$f":"+I15+I15*H15","v":750},{"$f":"+J15*F15","v":9000},800,{"$f":"+N15/G15","v":0},null,{"$f":"+N15*I15","v":0},0,{"$f":"+O15-P15","v":0},{"$f":"+Q15*H15","v":0},{"$f":"+R15+Q15","v":0},null,null,null,null,null,null,null,null,null,null,null,null,null,null,null,null,null,null,null,null,null,null,null,null,null,null,null,null,null,null,null,null,0]
[null,109130,"7703133070324","RIZADAS POLLO 30g X 12 X 6 DE",6,12,72,0.16,{"$f":"750/1.16","v":646.55172413793105},750,9000,800,0,null,0,0,0,0,0,0,0,0,{"$error":"#DIV/0!"},null,null,null,null,null,null,null,null,null,null,null,null,null,null,null,null,null,null,null,null,null,null,null,null,null,null,null,null,0]
[null,109132,"7703133070362","RIZADAS MAYONESA 30g X 12 X 6 DE",6,12,72,0.16,{"$f":"750/1.16","v":646.55172413793105},750,9000,800,0,null,0,0,0,0,0,0,0,0,{"$error":"#DIV/0!"},null,null,null,null,null,null,null,null,null,null,null,null,null,null,null,null,null,null,null,null,null,null,null,null,null,null,null,null,0]
[null,109134,"7703133070348","RIZADAS LIMON 30g X 12 X 6 DE",6,12,72,0.16,{"$f":"750/1.16","v":646.55172413793105},750,9000,800,0,null,0,0,0,0,0,0,0,0,{"$error":"#DIV/0!"},null,null,null,null,null,null,null,null,null,null,null,null,null,null,null,null,null,null,null,null,null,null,null,null,null,null,null,null,0]
[null,"107029","7703133070287","RIZADAS BBQ RANCHERA 28g X 12 X 6 DE",6,12,72,0.16,581.9,675.00400000000002,8100.0480000000007,800,{"$f":"+N19/G19","v":0},null,0,0,0,0,0,0,0,0,{"$error":"#DIV/0!"},null,null,null,null,null,null,null,null,null,null,null,null,null,null,null,null,null,null,null,null,null,null,null,null,null,null,null,null,0]
[null,107122,null,"RIZADAS MEXICAN FUSION  28g X 12 X 6 DE",6,12,72,0.16,{"$f":"750/1.16","v":646.55172413793105},750,9000,800,0,null,0,0,0,0,0,0,0,0,{"$error":"#DIV/0!"},null,null,null,null,null,null,null,null,null,null,null,null,null,null,null,null,null,null,null,null,null,null,null,null,null,null,null,null,0]
[null,"107587","7703133072922","RIZADAS NATURAL 115g X 20 X 1 AS",20,1,20,0.16,{"$f":"1907/1.16","v":1643.9655172413795},1907.0000000000002,1907.0000000000002,2300,0,null,0,0,0,0,0,0,0,0,{"$error":"#DIV/0!"},null,null,null,null,null,null,null,null,null,null,null,null,null,null,null,null,null,null,null,null,null,null,null,null,null,null,null,null,0]
[null,"107588","7703133072946","RIZADAS MAYONESA 115g X 20 X 1 AS",20,1,20,0.16,{"$f":"1907/1.16","v":1643.9655172413795},1907.0000000000002,1907.0000000000002,2300,0,null,0,0,0,0,0,0,0,0,{"$error":"#DIV/0!"},null,null,null,null,null,null,null,null,null,null,null,null,null,null,null,null,null,null,null,null,null,null,null,null,null,null,null,null,0]
[null,"107586","7703133072984","RIZADAS LIMON  115g X 20 X 1 AS",20,1,20,0.16,{"$f":"1907/1.16","v":1643.9655172413795},1907.0000000000002,1907.0000000000002,2300,0,null,0,0,0,0,0,0,0,0,{"$error":"#DIV/0!"},null,null,null,null,null,null,null,null,null,null,null,null,null,null,null,null,null,null,null,null,null,null,null,null,null,null,null,null,0]
[null,"107592","7703133078856","RIZADAS POLLO 115g X 20 X 1 AS",20,1,20,0.16,{"$f":"1907/1.16","v":1643.9655172413795},1907.0000000000002,1907.0000000000002,2300,0,null,0,0,0,0,0,0,0,20,{"$error":"#DIV/0!"},20,null,null,null,null,null,null,null,null,null,null,null,null,null,null,null,null,null,null,null,null,null,null,null,null,null,null,null,0]
[null,"007111",null,"RIZADAS MEXICAN FUSION 115g X 20 X 1 AS",20,1,20,0.16,1508,{"$f":"+I25+I25*H25","v":1749.28},{"$f":"+J25*F25","v":1749.28},1800,{"$f":"+N25/G25","v":0},null,{"$f":"+N25*I25","v":0},0,{"$f":"+O25-P25","v":0},{"$f":"+Q25*H25","v":0},{"$f":"+R25+Q25","v":0},{"$f":"AX25*G25","v":0},{"$f":"+$W$3*T25","v":0},{"$f":"SUM(X25:AW25)","v":0},{"$f":"+V25/U25","v":{"$error":"#DIV/0!"}},null,null,null,null,null,null,null,null,null,null,null,null,null,null,null,null,null,null,null,null,null,null,null,null,null,null,null,null,0]
[null,107443,"7703133072953"," RIZADAS NATURAL  45GX8X6 DE",6,8,48,0.16,758.87,{"$f":"+I26+I26*H26","v":880.28920000000005},{"$f":"+J26*F26","v":7042.3136000000004},1000,{"$f":"+N26/G26","v":0},null,{"$f":"+N26*I26","v":0},0,{"$f":"+O26-P26","v":0},{"$f":"+Q26*H26","v":0},{"$f":"+R26+Q26","v":0},{"$f":"AX26*G26","v":0},{"$f":"+$W$3*T26","v":0},{"$f":"SUM(X26:AW26)","v":0},{"$f":"+V26/U26","v":{"$error":"#DIV/0!"}}]
[null,107295,"7703133072953"," RIZADAS MAYONESA  45GX8X6 DE",6,8,48,0.16,758.87,880.28920000000005,7042.3136000000004,1000,0,null,0,0,0,0,0,0,0,0,{"$error":"#DIV/0!"},null,null,null,null,null,null,null,null,null,null,null,null,null,null,null,null,null,null,null,null,null,null,null,null,null,null,null,null,0]
[null,107300,"7703133073011"," RIZADAS POLLO  45GX8X6 DE",6,8,48,0.16,758.87,880.28920000000005,7042.3136000000004,1000,0,null,0,0,0,0,0,0,0,240,{"$error":"#DIV/0!"},{"$f":"48*5","v":240},null,null,null,null,null,null,null,null,null,null,null,null,null,null,null,null,null,null,null,null,null,null,null,null,null,null,null,0]
[null,107299,"7703133072991"," RIZADAS LIMON  45GX8X6 DE",6,8,48,0.16,758.87,880.28920000000005,7042.3136000000004,1000,0,null,0,0,0,0,0,0,0,0,{"$error":"#DIV/0!"},null,null,null,null,null,null,null,null,null,null,null,null,null,null,null,null,null,null,null,null,null,null,null,null,null,null,null,null,0]
["LIZAS",106982,"7703133070409","LIZA´S S/TOMATE 30g X 12 X 5 DE",5,12,60,0.16,{"$f":"715/1.16","v":616.37931034482767},715.00000000000011,8580.0000000000018,800,0,null,0,0,0,0,0,0,0,0,{"$error":"#DIV/0!"},null,null,null,null,null,null,null,null,null,null,null,null,null,null,null,null,null,null,null,null,null,null,null,null,null,null,null,null,0]
[null,106983,"7703133072423","LIZA´S S/ROSADA 30g X 12 X 5 DE",5,12,60,0.16,{"$f":"715/1.16","v":616.37931034482767},715.00000000000011,8580.0000000000018,800,0,null,0,0,0,0,0,0,0,0,{"$error":"#DIV/0!"},null,null,null,null,null,null,null,null,null,null,null,null,null,null,null,null,null,null,null,null,null,null,null,null,null,null,null,null,0]
[null,107380,"7703133070461","LIZA'S POLLO 30g X 12 X 5 DE",5,12,60,0.16,{"$f":"715/1.16","v":616.37931034482767},715.00000000000011,8580.0000000000018,800,0,null,0,0,0,0,0,0,0,0,{"$error":"#DIV/0!"},null,null,null,null,null,null,null,null,null,null,null,null,null,null,null,null,null,null,null,null,null,null,null,null,null,null,null,null,0]
[null,107132,"7703133070447","LIZA´S LIMÓN 30g X 12 X 5 DE",5,12,60,0.16,{"$f":"715/1.16","v":616.37931034482767},715.00000000000011,8580.0000000000018,800,0,null,0,0,0,0,0,0,0,0,{"$error":"#DIV/0!"},null,null,null,null,null,null,null,null,null,null,null,null,null,null,null,null,null,null,null,null,null,null,null,null,null,null,null,null,0]
["MIXTOS","07260","7703133072380","EL GOLPE 110g X 24 X 1  AS",24,1,24,0.16,1379.31,1599.9995999999999,1599.9995999999999,1800,0,null,0,0,0,0,0,0,0,24,{"$error":"#DIV/0!"},24,null,null,null,null,null,null,null,null,null,null,null,null,null,null,null,null,null,null,null,null,null,null,null,null,null,null,null,0]
[null,107258,"7703133077231","GOLPE 30g X  12  X  6 DE",6,12,72,0.16,435.34,504.99439999999998,6059.9327999999996,1000,0,null,0,0,0,0,0]
[null,"107726","7703133077231","GOLPE MIX 45g X  8  X  6 DE",6,8,48,0.16,733,850.28,6802.24,1000,6,{"$f":"36*8","v":288},211104,42220.800000000003,168883.20000000001,27021.312000000002,195904.51200000002,0,0,0,{"$error":"#DIV/0!"},null,null,null,null,null,null,null,null,null,null,null,null,null,null,null,null,null,null,null,null,null,null,null,null,null,null,null,null,0]
[null,"107836","7703133072571","EL GOLPE 45 gr 8 X 6 DE",6,8,48,0.16,733,850.28,6802.24,1000,5,{"$f":"30*8","v":240},175920,35184,140736,22517.760000000002,163253.76000000001,0,0,144,{"$error":"#DIV/0!"},{"$f":"48*3","v":144},null,null,null,null,null,null,null,null,null,null,null,null,null,null,null,null,null,null,null,null,null,null,null,null,null,null,null,0]
[null,"107254","7703133072540","EL GOLPE LIMON 45 gr 8 X 6 DE",6,8,48,0.16,733,850.28,6802.24,1000,0,null,0,0,0,0,0,0,0,0,{"$error":"#DIV/0!"},null,null,null,null,null,null,null,null,null,null,null,null,null,null,null,null,null,null,null,null,null,null,null,null,null,null,null,null,0]
[null,"107261","7703133072533","EL GOLPE RANCHERO 45G X 8 X 6 DE",6,8,48,0.16,733,850.28,6802.24,1000,0,null,0,0,0,0,0,0,0,480,{"$error":"#DIV/0!"},480,null,null,null,null,null,null,null,null,null,null,null,null,null,null,null,null,null,null,null,null,null,null,null,null,null,null,null,0]
[null,107590,"7703133072496","GOLPE RANCHERO 140 GR  17 X 1 AS",17,1,{"$f":"+E40*F40","v":17},0.16,2161,{"$f":"+I40+I40*H40","v":2506.7600000000002},{"$f":"+J40*F40","v":2506.7600000000002},2800,{"$f":"+N40/G40","v":0},null,{"$f":"+N40*I40","v":0},0,{"$f":"+O40-P40","v":0},{"$f":"+Q40*H40","v":0},{"$f":"+R40+Q40","v":0},{"$f":"AX40*G40","v":0},{"$f":"+$W$3*T40","v":0},{"$f":"SUM(X40:AW40)","v":0},{"$f":"+V40/U40","v":{"$error":"#DIV/0!"}},null,null,null,null,null,null,null,null,null,null,null,null,null,null,null,null,null,null,null,null,null,null,null,null,null,null,null,null,0]
[null,107465,null,"WOW MIX NATURAL 45 gr X 8 X 6 DE",6,8,{"$f":"+E41*F41","v":48},0.16,{"$f":"850/1.16","v":732.75862068965523},{"$f":"+I41+I41*H41","v":850.00000000000011},{"$f":"+J41*F41","v":6800.0000000000009},1000,{"$f":"+N41/G41","v":0},null,{"$f":"+N41*I41","v":0},0,{"$f":"+O41-P41","v":0},{"$f":"+Q41*H41","v":0},{"$f":"+R41+Q41","v":0},{"$f":"AX41*G41","v":0},{"$f":"+$W$3*T41","v":0},{"$f":"SUM(X41:AW41)","v":0},{"$f":"+V41/U41","v":{"$error":"#DIV/0!"}},null,null,null,null,null,null,null,null,null,null,null,null,null,null,null,null,null,null,null,null,null,null,null,null,null,null,null,null,0]
[null,107445,null,"WOW MIX QUESO 45 gr X 8 X 6 DE",6,8,{"$f":"+E42*F42","v":48},0.16,{"$f":"850/1.16","v":732.75862068965523},{"$f":"+I42+I42*H42","v":850.00000000000011},{"$f":"+J42*F42","v":6800.0000000000009},1000,{"$f":"+N42/G42","v":0},null,{"$f":"+N42*I42","v":0},0,{"$f":"+O42-P42","v":0},{"$f":"+Q42*H42","v":0},{"$f":"+R42+Q42","v":0},{"$f":"AX42*G42","v":0},{"$f":"+$W$3*T42","v":0},{"$f":"SUM(X42:AW42)","v":0},{"$f":"+V42/U42","v":{"$error":"#DIV/0!"}},null,null,null,null,null,null,null,null,null,null,null,null,null,null,null,null,null,null,null,null,null,null,null,null,null,null,null,null,0]
[null,107447,null,"WOW MIX BBQ 45 gr X 8 X 6 DE",6,8,{"$f":"+E43*F43","v":48},0.16,732.8,{"$f":"+I43+I43*H43","v":850.048},{"$f":"+J43*F43","v":6800.384},1000,{"$f":"+N43/G43","v":0},null,{"$f":"+N43*I43","v":0},0,{"$f":"+O43-P43","v":0},{"$f":"+Q43*H43","v":0},{"$f":"+R43+Q43","v":0},{"$f":"AX43*G43","v":0},{"$f":"+$W$3*T43","v":0},{"$f":"SUM(X43:AW43)","v":240},{"$f":"+V43/U43","v":{"$error":"#DIV/0!"}},{"$f":"48*5","v":240},null,null,null,null,null,null,null,null,null,null,null,null,null,null,null,null,null,null,null,null,null,null,null,null,null,null,null,0]
["TOSTIS","007226","7703133072380","TOSTI AREPAS 150g X 17 X 1 AS",17,1,17,0.1,1545,1699.5,1699.5,1800,0,null,0,0,0,0,0,0,0,0,{"$error":"#DIV/0!"},null,null,null,null,null,null,null,null,null,null,null,null,null,null,null,null,null,null,null,null,null,null,null,null,null,null,null,null,0]
[null,107228,"7703133072274","TOSTIAREPA 28 G X12 X6 DE",6,12,72,0.1,364,400.4,4804.7999999999993,500,0.5,36,13104,2620.8000000000002,10483.200000000001,1048.3200000000002,11531.52,0,0,72,{"$error":"#DIV/0!"},72,null,null,null,null,null,null,null,null,null,null,null,null,null,null,null,null,null,null,null,null,null,null,null,null,null,null,null,0]
[null,"107240","7703133072397","TOSTI EMPANADA CARNE 28GX12X6 DE",6,12,72,0.1,364,400.4,4804.7999999999993,500,0,null,0,0,0,0,0,0,0,0,{"$error":"#DIV/0!"},null,null,null,null,null,null,null,null,null,null,null,null,null,null,null,null,null,null,null,null,null,null,null,null,null,null,null,null,0]
[null,"107234","7703133072335","TOSTI EMPANADA LIMON 28 G X 12 X 6  DE",6,12,72,0.1,364,400.4,4804.7999999999993,500,5,{"$f":"5*72","v":360},131040,26208,104832,10483.200000000001,115315.2,0,0,1080,{"$error":"#DIV/0!"},{"$f":"72*15","v":1080},null,null,null,null,null,null,null,null,null,null,null,null,null,null,null,null,null,null,null,null,null,null,null,null,null,null,null,0]
[null,"107220","7703133072199","TOSTI PIZZA POLLO 28G X 12 X 6 DE",6,12,72,0.1,364,400.4,4804.7999999999993,500,0,null,0,0,0,0,0,0,0,72,{"$error":"#DIV/0!"},72,null,null,null,null,null,null,null,null,null,null,null,null,null,null,null,null,null,null,null,null,null,null,null,null,null,null,null,0]
[null,"107222","7703133072199","TOSTI PIZZA QUESO 28G X 12 X 6 DE",6,12,72,0.1,364,400.4,4804.7999999999993,500,0,null,0,0,0,0,0,0,0,0,{"$error":"#DIV/0!"},null,null,null,null,null,null,null,null,null,null,null,null,null,null,null,null,null,null,null,null,null,null,null,null,null,null,null,null,0]
[null,"107333",null,"TOSTI NACHOS QUESO 28 GR X 12 X 6 DE",6,12,72,0.1,364,400.4,4804.7999999999993,500,0,null,0,0,0,0,0,0,0,144,{"$error":"#DIV/0!"},{"$f":"72*2","v":144},null,null,null,null,null,null,null,null,null,null,null,null,null,null,null,null,null,null,null,null,null,null,null,null,null,null,null,0]
[null,"107231","7703133072304","TOSTIEMPANADA QUESO PICANTE 28G X 12 X 6",6,12,72,0.1,364,400.4,4804.7999999999993,500,0,null,0,0,0,0,0,0,0,0,{"$error":"#DIV/0!"},null,null,null,null,null,null,null,null,null,null,null,null,null,null,null,null,null,null,null,null,null,null,null,null,null,null,null,null,0]
[null,"107335",null,"TOSTI NACHOS CHILE LIMON 28 GR X 12 X 6",6,12,72,0.1,364,400.4,4804.7999999999993,500,0,null,0,0,0,0,0,0,0,0,{"$error":"#DIV/0!"},null,null,null,null,null,null,null,null,null,null,null,null,null,null,null,null,null,null,null,null,null,null,null,null,null,null,null,null,0]
[null,"107485","7703133079996","TOSTI PLATANITOS 30 GR X 12 X 6 DE",6,12,72,0.16,388,450.08,5400.96,600,0,null,0,0,0,0,0,0,0,72,{"$error":"#DIV/0!"},72,null,null,null,null,null,null,null,null,null,null,null,null,null,null,null,null,null,null,null,null,null,null,null,null,null,null,null,0]
[null,"107561",null,"TOSTI NACHOS 45 GR  8 X 6",6,8,48,0.1,{"$f":"650/1.1","v":590.90909090909088},650,5200,800,0,null,0,0,0,0,0,0,0,0,{"$error":"#DIV/0!"}]
[null,"007337","7703133079996","TOSTI NACHOS CHILE LIMON 150 GR X 17 X 1 AS",17,1,17,0.1,1545,{"$f":"+I55+I55*H55","v":1699.5},{"$f":"+J55*F55","v":1699.5},1800,{"$f":"+N55/G55","v":0},null,{"$f":"+N55*I55","v":0},0,{"$f":"+O55-P55","v":0},{"$f":"+Q55*H55","v":0},{"$f":"+R55+Q55","v":0},{"$f":"AX55*G55","v":0},0,{"$f":"SUM(X55:AW55)","v":0},{"$f":"+V55/U55","v":{"$error":"#DIV/0!"}},null,null,null,null,null,null,null,null,null,null,null,null,null,null,null,null,null,null,null,null,null,null,null,null,null,null,null,null,0]
[null,"007338","7703133079996","TOSTI NACHOS QUESO 150 GR X 17 X 1 AS",17,1,17,0.1,1545,{"$f":"+I56+I56*H56","v":1699.5},{"$f":"+J56*F56","v":1699.5},1800,{"$f":"+N56/G56","v":0},null,{"$f":"+N56*I56","v":0},0,{"$f":"+O56-P56","v":0},{"$f":"+Q56*H56","v":0},{"$f":"+R56+Q56","v":0},{"$f":"AX56*G56","v":0},0,{"$f":"SUM(X56:AW56)","v":0},{"$f":"+V56/U56","v":{"$error":"#DIV/0!"}},null,null,null,null,null,null,null,null,null,null,null,null,null,null,null,null,null,null,null,null,null,null,null,null,null,null,null,null,0]
["OTROS","107574","77031330200227","MEKATROCITOS POLLO 28 GR X 12 X 8 DE",8,12,96,0.1,273,300.3,3603.6000000000004,400,0,null,0,0,0,0,0,0,0,0,{"$error":"#DIV/0!"},null,null,null,null,null,null,null,null,null,null,null,null,null,null,null,null,null,null,null,null,null,null,null,null,null,null,null,null,0]
[null,"02424","7703133024242","TOZINETAS FRED 40g X 40 X 1 AS",40,1,40,0.16,954.55,1107.278,1107.278,1280,0,null,0,0,0,0,0,0,0,0,{"$error":"#DIV/0!"},null,null,null,null,null,null,null,null,null,null,null,null,null,null,null,null,null,null,null,null,null,null,null,null,null,null,null,null,0]
[null,107385,"7703133024211","TOZINETAS FRED 25G X 48  DE",48,1,48,0.16,498,577.68000000000006,577.68000000000006,600,0,null,0,0,0,0,0,0,0,48,{"$error":"#DIV/0!"},48,null,null,null,null,null,null,null,null,null,null,null,null,null,null,null,null,null,null,null,null,null,null,null,null,null,null,null,0]
[null,"102411","7703133024105","COSTILLITAS FRED 25GX 48 DE",48,1,48,0.16,498,577.68000000000006,577.68000000000006,700,0,null,0,0,0,0,0,0,0,48,{"$error":"#DIV/0!"},48,null,null,null,null,null,null,null,null,null,null,null,null,null,null,null,null,null,null,null,null,null,null,null,null,null,null,null,0]
[null,107996,null,"PAPAS CHIPS 45g X 48 DE",48,1,48,0.16,646.79999999999995,750.28800000000001,750.28800000000001,900,0,null,0,0,0,0,0,0,0]
[null,null,null,"PAPAS CHIPS 150g X 17 AS",17,1,17,0.16,{"$f":"2250/1.16","v":1939.6551724137933},2250,2250,2700,0,null,0,0,0,0,0,0,0]
[null,"07795","7703133077958","LONCHERA DIVERTIDA 241g X 12 AS",12,1,12,0.16,3275.8620999999998,3800.0000359999999,3800.0000359999999,4650,0,null,0,0,0,0,0,0,0,12,{"$error":"#DIV/0!"},12,null,null,null,null,null,null,null,null,null,null,null,null,null,null,null,null,null,null,null,null,null,null,null,null,null,null,null,0]
[null,"02156","7703133023979","LONCHIPACK 309g X 12 X 12 AS",12,1,12,0.16,4051.72,4699.9951999999994,4699.9951999999994,6050,0,null,0,0,0,0,0,0,0,0,{"$error":"#DIV/0!"}]
["CRESPAS","100008",null,"MEKATO NATURAL 25 GR X 12 X 6",12,6,72,0.16,474.16,550.02560000000005,3300.1536000000006,700,0,null,0,0,0,0,0,0,0,0,{"$error":"#DIV/0!"}]
[null,"100009",null,"MEKATO LIMON 25 GR X 12 X 6",12,6,72,0.16,474.16,550.02560000000005,3300.1536000000006,700,0,null,0,0,0,0,0,0,0,0,{"$error":"#DIV/0!"}]
[null,100002,null,"CRESPAS SALSA TOMATE 25 GR",12,6,72,0.16,505,585.79999999999995,3514.7999999999997,700,0,null,0,0,0,0,0,0,0,0,{"$error":"#DIV/0!"}]
[null,100003,null,"CRESPAS LIMON 25 GR",12,6,72,0.16,505,585.79999999999995,3514.7999999999997,700,0,null,0,0,0,0,0,0,0,0,{"$error":"#DIV/0!"}]
[null,100004,null,"CRESPAS POLLO 25 GR",12,6,72,0.16,505,585.79999999999995,3514.7999999999997,700,0,null,0,{"$f":"+O69*$O$83","v":0},0,0,0,0,0,0,{"$error":"#DIV/0!"}]
["MEKATO","100144",null,"ROSKOTAS AREQUIPE 14G X 12 X 7",7,12,84,0.1,436.38,480.01800000000003,6074.4096,700,0,null,0,0,0,0,0,0,0,0,{"$error":"#DIV/0!"}]
[null,"000034",null,"MEKATO ESCOLAR 205 GR X 24 ",24,1,24,0.16,2844.82,3299.9912000000004,{"$f":"+J71*F71","v":3299.9912000000004},200,0,null,0,0,0,0,0]
[null,"100126",null,"TICOS 9 G X 12 X 12",12,12,144,0.16,86.21,100.00359999999999,1200.0431999999998,200,0,null,0,0,0,0,0,0,0,0,{"$f":"+V72/U72","v":{"$error":"#DIV/0!"}}]
[null,100138,null,"TICOS PICANTE 9 G X 12 X 20",12,20,240,0.16,133.62,154.9992,3099.9839999999999,200,0,null,0,0,0,0,0]
[null,"000127",null,"TICOS 38G X 36",36,1,36,0.16,327.58999999999997,380.00439999999998,380.00439999999998,500,0,null,0,0,0,0,0,0,0,0,{"$error":"#DIV/0!"}]
[null,"100130",null,"TICOS QUESO 12 G X 12 X 20",20,12,240,0.16,129.31,149.99960000000002,1799.9952000000003,200,0,null,0,0,0,0,0,0,0,0,{"$error":"#DIV/0!"}]
[null,"000152",null,"TICOS QUESO 38 G X 36",36,1,36,0.16,344.82760000000002,400.00001600000002,400.00001600000002,500,0,null,0,0,0,0,0,0,0,360,{"$error":"#DIV/0!"},360]
[null,"100137",null,"TICOS QUESO 8 G  X 12 X 20",20,12,240,0.16,133.62,154.9992,1859.9904000000001,500,0,null,0,0,0,0,0,0,0,0,{"$error":"#DIV/0!"}]
[null,"100149",null,"TICOS POLLO 9G 12 X 20",12,20,240,0.16,133.62,154.9992,3099.9839999999999,200,0,null,0,0,0,0,0,0,0,1200,{"$error":"#DIV/0!"},{"$f":"240*5","v":1200}]
[null,"000128",null,"TICOS POLLO 38 G X 36",36,1,36,0.16,345,400.2,400.2,500,0,null,0,0,0,0,0,0,0,0,{"$error":"#DIV/0!"}]
[null,"000151",null,"TICOS CARAMELO 38 G X 36",36,1,36,0.16,344.82760000000002,400.00001600000002,400.00001600000002,500,0,null,0,0,0,0,0,0,0,0,{"$error":"#DIV/0!"}]
[null,"000150","7703133023979","TICO PICANTE 38G X 36",36,1,36,0.16,327.58620000000002,379.99999200000002,379.99999200000002,500,0,null,{"$f":"+N81*I81","v":0},0,{"$f":"+O81-P81","v":0},{"$f":"+Q81*H81","v":0},{"$f":"+R81+Q81","v":0},0,0,108,{"$error":"#DIV/0!"},{"$f":"36*3","v":108},null,null,null,null,null,null,null,null,null,null,null,null,null,null,null,null,null,null,null,null,null,null,null,null,null,null,null,0]
["CUPO CREDITO TOTAL",null,0,null,"CUPO ACTUAL",0,null,null,null,null,null,null,{"$f":"SUM(M5:M81)","v":38.5},{"$f":"S82/1000","v":897.84499200000005},{"$f":"SUM(O5:O81)","v":974961.10344827594},194992.22068965517,779968.88275862066,117876.10924137932,897844.99200000009,0,0,6044,{"$error":"#DIV/0!"},null,null,null,null,null,null,null,null,null,null,null,null,null,null,null,null,null,null,null,null,null,null,null,null,null,null,{"$f":"SUM(AX5:AX81)","v":0},{"$f":"SUM(AY5:AY81)","v":0},{"$f":"SUM(AZ5:AZ81)","v":0}]
[null,0,0,0,0,0,0,0,0,0,0,0,null,null,{"$f":"S1","v":0.2}]

{"sheet":"Yupi (43)","index":3,"n_rows":83,"n_cols":53,"rows_kept":83,"cut":false,"hidden":true,"merged":[[0,4,0,6],[0,12,0,13],[0,20,2,21],[0,23,2,48],[1,4,1,6],[1,12,1,13],[2,4,2,6],[2,12,2,13],[64,0,68,0],[69,0,80,0],[81,0,81,1],[81,5,81,6],[4,0,13,0],[14,0,28,0],[29,0,32,0],[33,0,42,0],[43,0,55,0],[56,0,63,0]]}
[null,null,null,"FRANQUICIADO","DIDIER VIZCAINO",null,null,null,null,null,null,null,"DESCUENTO",null,null,null,null,null,0.2,"DIAS MES",null,null,"DIA HABIL"]
[null,null,null,"CODIGO",null,null,null,null,null,null,null,null,"ZONA",null,null,null,null,null,"VILLANUEVA"]
[null,null,null,"FECHA",{"$f":"TODAY()","v":"2012-09-10"},null,null,null,null,null,null,null,"VALOR PEDIDO",null,null,null,null,null,{"$f":"S82","v":464067.0720000001},26,null,null,3]
[null,"Codigo","Codigo Barras","Descripción","Displays por paca","Unds por Display","Unds por Paca","Iva","Precio Antes de Iva","Precio incluido IVA","Valor Display al tendero","PVP Sugerido (Und)","PACAS","UNIDADES","v.antes iva","Descuento","total","iva","Total a Pagar","PPTO DIA","PPTO DIA HABIL","VENTA ACUMULADA","CUMP DIA HABIL",1,{"$f":"+X4+1","v":2},3,4,5,6,7,8,9,10,11,12,13,14,15,16,17,18,19,20,21,22,23,24,25,26,"VENTA TOTAL","PPTO","DIFERENCIA","                                                                                                                                                                               "]
["EXTRUIDOS","007695","7703133078771","YUPIS QUESO 45g X 36 X 1 AS",36,1,{"$f":"+E5*F5","v":36},0.16,560,{"$f":"+I5+I5*H5","v":649.6},{"$f":"+J5*F5","v":649.6},700,{"$f":"+N5/G5","v":0},null,{"$f":"+N5*I5","v":0},{"$f":"+O5*$O$83","v":0},{"$f":"+O5-P5","v":0},{"$f":"+Q5*H5","v":0},{"$f":"+R5+Q5","v":0},{"$f":"AX5*G5","v":0},{"$f":"+$W$3*T5","v":0},{"$f":"SUM(X5:AW5)","v":0},{"$f":"+V5/U5","v":{"$error":"#DIV/0!"}},null,null,null,null,null,null,null,null,null,null,null,null,null,null,null,null,null,null,null,null,null,null,null,null,null,null,null,null,{"$f":"+AY5-AX5","v":0}]
[null,"007164",7703133077309,"YUPIS SALADO 60g X 36 X 1 AS",36,1,{"$f":"+E6*F6","v":36},0.16,{"$f":"650/1.16","v":560.34482758620697},650.00000000000011,650.00000000000011,700,0,null,0,0,0,0,0,0,0,720,{"$error":"#DIV/0!"},{"$f":"36*20","v":720},null,null,null,null,null,null,null,null,null,null,null,null,null,null,null,null,null,null,null,null,null,null,null,null,null,null,null,{"$f":"+AY6-AX6","v":0}]
[null,"007899",null,"YUPIS PICANTE 45g X 36 X 1 AS",36,1,36,0.16,{"$f":"650/1.16","v":560.34482758620697},650.00000000000011,650.00000000000011,700,0,null,0,0,0,0,0,0,0,0,{"$error":"#DIV/0!"},null,null,null,null,null,null,null,null,null,null,null,null,null,null,null,null,null,null,null,null,null,null,null,null,null,null,null,null,0]
[null,"07881","7703133078818","YUPI  CARAMELO 50gX36X1 AS",36,1,36,0.16,{"$f":"650/1.16","v":560.34482758620697},650.00000000000011,650.00000000000011,700,0,null,0,0,0,0,0,0,0,0,{"$error":"#DIV/0!"},null,null,null,null,null,null,null,null,null,null,null,null,null,null,null,null,null,null,null,null,null,null,null,null,null,null,null,null,0]
[null,"007742",null,"YUPI  AREQUIQUESO  45 GR",36,1,36,0.16,{"$f":"650/1.16","v":560.34482758620697},{"$f":"+I9+I9*H9","v":650.00000000000011},{"$f":"+J9*F9","v":650.00000000000011},700,0,null,{"$f":"+N9*I9","v":0},0,{"$f":"+O9-P9","v":0},{"$f":"+Q9*H9","v":0},0,{"$f":"AX9*G9","v":0},{"$f":"+$W$3*T9","v":0},{"$f":"SUM(X9:AW9)","v":0},{"$f":"+V9/U9","v":{"$error":"#DIV/0!"}},null,null,null,null,null,null,null,null,null,null,null,null,null,null,null,null,null,null,null,null,null,null,null,null,null,null,null,null,0]
[null,"102174","7703133021739","YUPIS SALADO 10g X  12 X 20 DE",20,12,240,0.16,{"$f":"144/1.16","v":124.13793103448276},144,1728,200,1,240,29793.103448275862,5958.620689655173,23834.482758620688,3813.5172413793102,27648,0,0,960,{"$error":"#DIV/0!"},{"$f":"240*4","v":960},null,null,null,null,null,null,null,null,null,null,null,null,null,null,null,null,null,null,null,null,null,null,null,null,null,null,null,0]
[null,"07716","7703133077248","TICK CHEESE 100G X 24 X 1 AS",24,1,24,0.16,767.2,889.952,889.952,1000,0,null,0,0,0,0,0,0,0,0,{"$error":"#DIV/0!"},null,null,null,null,null,null,null,null,null,null,null,null,null,null,null,null,null,null,null,null,null,null,null,null,null,null,null,null,0]
[null,"107729","7703133077194","TICK CHEESE 40g X 12 X 6 DE",6,12,72,0.16,396,459.36,5512.32,600,0,null,0,0,0,0,0,0,0,0,{"$error":"#DIV/0!"},null,null,null,null,null,null,null,null,null,null,null,null,null,null,null,null,null,null,null,null,null,null,null,null,null,null,null,null,0]
[null,"02122","7703133021227","PALOMITAS CARAMELO 68g X 36 X 1 AS",36,1,36,0.16,582,675.12,675.12,800,0,null,0,0,0,0,0,0,0,0,{"$error":"#DIV/0!"},null,null,null,null,null,null,null,null,null,null,null,null,null,null,null,null,null,null,null,null,null,null,null,null,null,null,null,null,0]
[null,"102117","7703133021166","PALOMITAS CARAMELO 20g X 12 X 12 DE",12,12,144,0.16,344.8,399.96800000000002,4799.616,500,0,null,0,0,0,0,0,0,0,0,{"$error":"#DIV/0!"},null,null,null,null,null,null,null,null,null,null,null,null,null,null,null,null,null,null,null,null,null,null,null,null,null,null,null,null,0]
["RIZADAS",109128,"7703133091275","RIZADAS NATURAL 30g X 12 X 6 DE",6,12,72,0.16,{"$f":"750/1.16","v":646.55172413793105},{"$f":"+I15+I15*H15","v":750},{"$f":"+J15*F15","v":9000},800,{"$f":"+N15/G15","v":0},null,{"$f":"+N15*I15","v":0},0,{"$f":"+O15-P15","v":0},{"$f":"+Q15*H15","v":0},{"$f":"+R15+Q15","v":0},null,null,null,null,null,null,null,null,null,null,null,null,null,null,null,null,null,null,null,null,null,null,null,null,null,null,null,null,null,null,null,null,0]
[null,109130,"7703133070324","RIZADAS POLLO 30g X 12 X 6 DE",6,12,72,0.16,{"$f":"750/1.16","v":646.55172413793105},750,9000,800,0,null,0,0,0,0,0,0,0,0,{"$error":"#DIV/0!"},null,null,null,null,null,null,null,null,null,null,null,null,null,null,null,null,null,null,null,null,null,null,null,null,null,null,null,null,0]
[null,109132,"7703133070362","RIZADAS MAYONESA 30g X 12 X 6 DE",6,12,72,0.16,{"$f":"750/1.16","v":646.55172413793105},750,9000,800,0,null,0,0,0,0,0,0,0,0,{"$error":"#DIV/0!"},null,null,null,null,null,null,null,null,null,null,null,null,null,null,null,null,null,null,null,null,null,null,null,null,null,null,null,null,0]
[null,109134,"7703133070348","RIZADAS LIMON 30g X 12 X 6 DE",6,12,72,0.16,{"$f":"750/1.16","v":646.55172413793105},750,9000,800,0,null,0,0,0,0,0,0,0,0,{"$error":"#DIV/0!"},null,null,null,null,null,null,null,null,null,null,null,null,null,null,null,null,null,null,null,null,null,null,null,null,null,null,null,null,0]
[null,"107029","7703133070287","RIZADAS BBQ RANCHERA 28g X 12 X 6 DE",6,12,72,0.16,581.9,675.00400000000002,8100.0480000000007,800,{"$f":"+N19/G19","v":0},null,0,0,0,0,0,0,0,0,{"$error":"#DIV/0!"},null,null,null,null,null,null,null,null,null,null,null,null,null,null,null,null,null,null,null,null,null,null,null,null,null,null,null,null,0]
[null,107122,null,"RIZADAS MEXICAN FUSION  28g X 12 X 6 DE",6,12,72,0.16,{"$f":"750/1.16","v":646.55172413793105},750,9000,800,0,null,0,0,0,0,0,0,0,0,{"$error":"#DIV/0!"},null,null,null,null,null,null,null,null,null,null,null,null,null,null,null,null,null,null,null,null,null,null,null,null,null,null,null,null,0]
[null,"107587","7703133072922","RIZADAS NATURAL 115g X 20 X 1 AS",20,1,20,0.16,{"$f":"1907/1.16","v":1643.9655172413795},1907.0000000000002,1907.0000000000002,2300,0,null,0,0,0,0,0,0,0,0,{"$error":"#DIV/0!"},null,null,null,null,null,null,null,null,null,null,null,null,null,null,null,null,null,null,null,null,null,null,null,null,null,null,null,null,0]
[null,"107588","7703133072946","RIZADAS MAYONESA 115g X 20 X 1 AS",20,1,20,0.16,{"$f":"1907/1.16","v":1643.9655172413795},1907.0000000000002,1907.0000000000002,2300,0,null,0,0,0,0,0,0,0,0,{"$error":"#DIV/0!"},null,null,null,null,null,null,null,null,null,null,null,null,null,null,null,null,null,null,null,null,null,null,null,null,null,null,null,null,0]
[null,"107586","7703133072984","RIZADAS LIMON  115g X 20 X 1 AS",20,1,20,0.16,{"$f":"1907/1.16","v":1643.9655172413795},1907.0000000000002,1907.0000000000002,2300,0,null,0,0,0,0,0,0,0,0,{"$error":"#DIV/0!"},null,null,null,null,null,null,null,null,null,null,null,null,null,null,null,null,null,null,null,null,null,null,null,null,null,null,null,null,0]
[null,"107592","7703133078856","RIZADAS POLLO 115g X 20 X 1 AS",20,1,20,0.16,{"$f":"1907/1.16","v":1643.9655172413795},1907.0000000000002,1907.0000000000002,2300,0,null,0,0,0,0,0,0,0,20,{"$error":"#DIV/0!"},20,null,null,null,null,null,null,null,null,null,null,null,null,null,null,null,null,null,null,null,null,null,null,null,null,null,null,null,0]
[null,"007111",null,"RIZADAS MEXICAN FUSION 115g X 20 X 1 AS",20,1,20,0.16,1508,{"$f":"+I25+I25*H25","v":1749.28},{"$f":"+J25*F25","v":1749.28},1800,{"$f":"+N25/G25","v":0},null,{"$f":"+N25*I25","v":0},0,{"$f":"+O25-P25","v":0},{"$f":"+Q25*H25","v":0},{"$f":"+R25+Q25","v":0},{"$f":"AX25*G25","v":0},{"$f":"+$W$3*T25","v":0},{"$f":"SUM(X25:AW25)","v":0},{"$f":"+V25/U25","v":{"$error":"#DIV/0!"}},null,null,null,null,null,null,null,null,null,null,null,null,null,null,null,null,null,null,null,null,null,null,null,null,null,null,null,null,0]
[null,107443,"7703133072953"," RIZADAS NATURAL  45GX8X6 DE",6,8,48,0.16,758.87,{"$f":"+I26+I26*H26","v":880.28920000000005},{"$f":"+J26*F26","v":7042.3136000000004},1000,{"$f":"+N26/G26","v":0},null,{"$f":"+N26*I26","v":0},0,{"$f":"+O26-P26","v":0},{"$f":"+Q26*H26","v":0},{"$f":"+R26+Q26","v":0},{"$f":"AX26*G26","v":0},{"$f":"+$W$3*T26","v":0},{"$f":"SUM(X26:AW26)","v":0},{"$f":"+V26/U26","v":{"$error":"#DIV/0!"}}]
[null,107295,"7703133072953"," RIZADAS MAYONESA  45GX8X6 DE",6,8,48,0.16,758.87,880.28920000000005,7042.3136000000004,1000,0,null,0,0,0,0,0,0,0,0,{"$error":"#DIV/0!"},null,null,null,null,null,null,null,null,null,null,null,null,null,null,null,null,null,null,null,null,null,null,null,null,null,null,null,null,0]
[null,107300,"7703133073011"," RIZADAS POLLO  45GX8X6 DE",6,8,48,0.16,758.87,880.28920000000005,7042.3136000000004,1000,0,null,0,0,0,0,0,0,0,240,{"$error":"#DIV/0!"},{"$f":"48*5","v":240},null,null,null,null,null,null,null,null,null,null,null,null,null,null,null,null,null,null,null,null,null,null,null,null,null,null,null,0]
[null,107299,"7703133072991"," RIZADAS LIMON  45GX8X6 DE",6,8,48,0.16,758.87,880.28920000000005,7042.3136000000004,1000,0,null,0,0,0,0,0,0,0,0,{"$error":"#DIV/0!"},null,null,null,null,null,null,null,null,null,null,null,null,null,null,null,null,null,null,null,null,null,null,null,null,null,null,null,null,0]
["LIZAS",106982,"7703133070409","LIZA´S S/TOMATE 30g X 12 X 5 DE",5,12,60,0.16,{"$f":"715/1.16","v":616.37931034482767},715.00000000000011,8580.0000000000018,800,2,120,73965.517241379319,14793.103448275864,59172.413793103457,9467.5862068965525,68640.000000000015,0,0,0,{"$error":"#DIV/0!"},null,null,null,null,null,null,null,null,null,null,null,null,null,null,null,null,null,null,null,null,null,null,null,null,null,null,null,null,0]
[null,106983,"7703133072423","LIZA´S S/ROSADA 30g X 12 X 5 DE",5,12,60,0.16,{"$f":"715/1.16","v":616.37931034482767},715.00000000000011,8580.0000000000018,800,2,120,73965.517241379319,14793.103448275864,59172.413793103457,9467.5862068965525,68640.000000000015,0,0,0,{"$error":"#DIV/0!"},null,null,null,null,null,null,null,null,null,null,null,null,null,null,null,null,null,null,null,null,null,null,null,null,null,null,null,null,0]
[null,107380,"7703133070461","LIZA'S POLLO 30g X 12 X 5 DE",5,12,60,0.16,{"$f":"715/1.16","v":616.37931034482767},715.00000000000011,8580.0000000000018,800,0,null,0,0,0,0,0,0,0,0,{"$error":"#DIV/0!"},null,null,null,null,null,null,null,null,null,null,null,null,null,null,null,null,null,null,null,null,null,null,null,null,null,null,null,null,0]
[null,107132,"7703133070447","LIZA´S LIMÓN 30g X 12 X 5 DE",5,12,60,0.16,{"$f":"715/1.16","v":616.37931034482767},715.00000000000011,8580.0000000000018,800,2,120,73965.517241379319,14793.103448275864,59172.413793103457,9467.5862068965525,68640.000000000015,0,0,0,{"$error":"#DIV/0!"},null,null,null,null,null,null,null,null,null,null,null,null,null,null,null,null,null,null,null,null,null,null,null,null,null,null,null,null,0]
["MIXTOS","07260","7703133072380","EL GOLPE 110g X 24 X 1  AS",24,1,24,0.16,1379.31,1599.9995999999999,1599.9995999999999,1800,0,null,0,0,0,0,0,0,0,24,{"$error":"#DIV/0!"},24,null,null,null,null,null,null,null,null,null,null,null,null,null,null,null,null,null,null,null,null,null,null,null,null,null,null,null,0]
[null,107258,"7703133077231","GOLPE 30g X  12  X  6 DE",6,12,72,0.16,435.34,504.99439999999998,6059.9327999999996,1000,0,null,0,0,0,0,0]
[null,"107726","7703133077231","GOLPE MIX 45g X  8  X  6 DE",6,8,48,0.16,733,850.28,6802.24,1000,0,null,0,0,0,0,0,0,0,0,{"$error":"#DIV/0!"},null,null,null,null,null,null,null,null,null,null,null,null,null,null,null,null,null,null,null,null,null,null,null,null,null,null,null,null,0]
[null,"107836","7703133072571","EL GOLPE 45 gr 8 X 6 DE",6,8,48,0.16,733,850.28,6802.24,1000,0,null,0,0,0,0,0,0,0,144,{"$error":"#DIV/0!"},{"$f":"48*3","v":144},null,null,null,null,null,null,null,null,null,null,null,null,null,null,null,null,null,null,null,null,null,null,null,null,null,null,null,0]
[null,"107254","7703133072540","EL GOLPE LIMON 45 gr 8 X 6 DE",6,8,48,0.16,733,850.28,6802.24,1000,0,null,0,0,0,0,0,0,0,0,{"$error":"#DIV/0!"},null,null,null,null,null,null,null,null,null,null,null,null,null,null,null,null,null,null,null,null,null,null,null,null,null,null,null,null,0]
[null,"107261","7703133072533","EL GOLPE RANCHERO 45G X 8 X 6 DE",6,8,48,0.16,733,850.28,6802.24,1000,6,{"$f":"36*8","v":288},211104,42220.800000000003,168883.20000000001,27021.312000000002,195904.51200000002,0,0,480,{"$error":"#DIV/0!"},480,null,null,null,null,null,null,null,null,null,null,null,null,null,null,null,null,null,null,null,null,null,null,null,null,null,null,null,0]
[null,107590,"7703133072496","GOLPE RANCHERO 140 GR  17 X 1 AS",17,1,{"$f":"+E40*F40","v":17},0.16,2161,{"$f":"+I40+I40*H40","v":2506.7600000000002},{"$f":"+J40*F40","v":2506.7600000000002},2800,{"$f":"+N40/G40","v":0},null,{"$f":"+N40*I40","v":0},0,{"$f":"+O40-P40","v":0},{"$f":"+Q40*H40","v":0},{"$f":"+R40+Q40","v":0},{"$f":"AX40*G40","v":0},{"$f":"+$W$3*T40","v":0},{"$f":"SUM(X40:AW40)","v":0},{"$f":"+V40/U40","v":{"$error":"#DIV/0!"}},null,null,null,null,null,null,null,null,null,null,null,null,null,null,null,null,null,null,null,null,null,null,null,null,null,null,null,null,0]
[null,107465,null,"WOW MIX NATURAL 45 gr X 8 X 6 DE",6,8,{"$f":"+E41*F41","v":48},0.16,{"$f":"850/1.16","v":732.75862068965523},{"$f":"+I41+I41*H41","v":850.00000000000011},{"$f":"+J41*F41","v":6800.0000000000009},1000,{"$f":"+N41/G41","v":0},null,{"$f":"+N41*I41","v":0},0,{"$f":"+O41-P41","v":0},{"$f":"+Q41*H41","v":0},{"$f":"+R41+Q41","v":0},{"$f":"AX41*G41","v":0},{"$f":"+$W$3*T41","v":0},{"$f":"SUM(X41:AW41)","v":0},{"$f":"+V41/U41","v":{"$error":"#DIV/0!"}},null,null,null,null,null,null,null,null,null,null,null,null,null,null,null,null,null,null,null,null,null,null,null,null,null,null,null,null,0]
[null,107445,null,"WOW MIX QUESO 45 gr X 8 X 6 DE",6,8,{"$f":"+E42*F42","v":48},0.16,{"$f":"850/1.16","v":732.75862068965523},{"$f":"+I42+I42*H42","v":850.00000000000011},{"$f":"+J42*F42","v":6800.0000000000009},1000,{"$f":"+N42/G42","v":0},null,{"$f":"+N42*I42","v":0},0,{"$f":"+O42-P42","v":0},{"$f":"+Q42*H42","v":0},{"$f":"+R42+Q42","v":0},{"$f":"AX42*G42","v":0},{"$f":"+$W$3*T42","v":0},{"$f":"SUM(X42:AW42)","v":0},{"$f":"+V42/U42","v":{"$error":"#DIV/0!"}},null,null,null,null,null,null,null,null,null,null,null,null,null,null,null,null,null,null,null,null,null,null,null,null,null,null,null,null,0]
[null,107447,null,"WOW MIX BBQ 45 gr X 8 X 6 DE",6,8,{"$f":"+E43*F43","v":48},0.16,732.8,{"$f":"+I43+I43*H43","v":850.048},{"$f":"+J43*F43","v":6800.384},1000,{"$f":"+N43/G43","v":0},null,{"$f":"+N43*I43","v":0},0,{"$f":"+O43-P43","v":0},{"$f":"+Q43*H43","v":0},{"$f":"+R43+Q43","v":0},{"$f":"AX43*G43","v":0},{"$f":"+$W$3*T43","v":0},{"$f":"SUM(X43:AW43)","v":240},{"$f":"+V43/U43","v":{"$error":"#DIV/0!"}},{"$f":"48*5","v":240},null,null,null,null,null,null,null,null,null,null,null,null,null,null,null,null,null,null,null,null,null,null,null,null,null,null,null,0]
["TOSTIS","007226","7703133072380","TOSTI AREPAS 150g X 17 X 1 AS",17,1,17,0.1,1545,1699.5,1699.5,1800,0,null,0,0,0,0,0,0,0,0,{"$error":"#DIV/0!"},null,null,null,null,null,null,null,null,null,null,null,null,null,null,null,null,null,null,null,null,null,null,null,null,null,null,null,null,0]
[null,107228,"7703133072274","TOSTIAREPA 28 G X12 X6 DE",6,12,72,0.1,364,400.4,4804.7999999999993,500,0,null,0,0,0,0,0,0,0,72,{"$error":"#DIV/0!"},72,null,null,null,null,null,null,null,null,null,null,null,null,null,null,null,null,null,null,null,null,null,null,null,null,null,null,null,0]
[null,"107240","7703133072397","TOSTI EMPANADA CARNE 28GX12X6 DE",6,12,72,0.1,364,400.4,4804.7999999999993,500,0,null,0,0,0,0,0,0,0,0,{"$error":"#DIV/0!"},null,null,null,null,null,null,null,null,null,null,null,null,null,null,null,null,null,null,null,null,null,null,null,null,null,null,null,null,0]
[null,"107234","7703133072335","TOSTI EMPANADA LIMON 28 G X 12 X 6  DE",6,12,72,0.1,364,400.4,4804.7999999999993,500,0,null,0,0,0,0,0,0,0,1080,{"$error":"#DIV/0!"},{"$f":"72*15","v":1080},null,null,null,null,null,null,null,null,null,null,null,null,null,null,null,null,null,null,null,null,null,null,null,null,null,null,null,0]
[null,"107220","7703133072199","TOSTI PIZZA POLLO 28G X 12 X 6 DE",6,12,72,0.1,364,400.4,4804.7999999999993,500,0,null,0,0,0,0,0,0,0,72,{"$error":"#DIV/0!"},72,null,null,null,null,null,null,null,null,null,null,null,null,null,null,null,null,null,null,null,null,null,null,null,null,null,null,null,0]
[null,"107222","7703133072199","TOSTI PIZZA QUESO 28G X 12 X 6 DE",6,12,72,0.1,364,400.4,4804.7999999999993,500,0,null,0,0,0,0,0,0,0,0,{"$error":"#DIV/0!"},null,null,null,null,null,null,null,null,null,null,null,null,null,null,null,null,null,null,null,null,null,null,null,null,null,null,null,null,0]
[null,"107333",null,"TOSTI NACHOS QUESO 28 GR X 12 X 6 DE",6,12,72,0.1,364,400.4,4804.7999999999993,500,0,null,0,0,0,0,0,0,0,144,{"$error":"#DIV/0!"},{"$f":"72*2","v":144},null,null,null,null,null,null,null,null,null,null,null,null,null,null,null,null,null,null,null,null,null,null,null,null,null,null,null,0]
[null,"107231","7703133072304","TOSTIEMPANADA QUESO PICANTE 28G X 12 X 6",6,12,72,0.1,364,400.4,4804.7999999999993,500,0,null,0,0,0,0,0,0,0,0,{"$error":"#DIV/0!"},null,null,null,null,null,null,null,null,null,null,null,null,null,null,null,null,null,null,null,null,null,null,null,null,null,null,null,null,0]
[null,"107335",null,"TOSTI NACHOS CHILE LIMON 28 GR X 12 X 6",6,12,72,0.1,364,400.4,4804.7999999999993,500,0,null,0,0,0,0,0,0,0,0,{"$error":"#DIV/0!"},null,null,null,null,null,null,null,null,null,null,null,null,null,null,null,null,null,null,null,null,null,null,null,null,null,null,null,null,0]
[null,"107485","7703133079996","TOSTI PLATANITOS 30 GR X 12 X 6 DE",6,12,72,0.16,388,450.08,5400.96,600,0,null,0,0,0,0,0,0,0,72,{"$error":"#DIV/0!"},72,null,null,null,null,null,null,null,null,null,null,null,null,null,null,null,null,null,null,null,null,null,null,null,null,null,null,null,0]
[null,"107561",null,"TOSTI NACHOS 45 GR  8 X 6",6,8,48,0.1,{"$f":"650/1.1","v":590.90909090909088},650,5200,800,0,null,0,0,0,0,0,0,0,0,{"$error":"#DIV/0!"}]
[null,"007337","7703133079996","TOSTI NACHOS CHILE LIMON 150 GR X 17 X 1 AS",17,1,17,0.1,1545,{"$f":"+I55+I55*H55","v":1699.5},{"$f":"+J55*F55","v":1699.5},1800,{"$f":"+N55/G55","v":0},null,{"$f":"+N55*I55","v":0},0,{"$f":"+O55-P55","v":0},{"$f":"+Q55*H55","v":0},{"$f":"+R55+Q55","v":0},{"$f":"AX55*G55","v":0},0,{"$f":"SUM(X55:AW55)","v":0},{"$f":"+V55/U55","v":{"$error":"#DIV/0!"}},null,null,null,null,null,null,null,null,null,null,null,null,null,null,null,null,null,null,null,null,null,null,null,null,null,null,null,null,0]
[null,"007338","7703133079996","TOSTI NACHOS QUESO 150 GR X 17 X 1 AS",17,1,17,0.1,1545,{"$f":"+I56+I56*H56","v":1699.5},{"$f":"+J56*F56","v":1699.5},1800,{"$f":"+N56/G56","v":0},null,{"$f":"+N56*I56","v":0},0,{"$f":"+O56-P56","v":0},{"$f":"+Q56*H56","v":0},{"$f":"+R56+Q56","v":0},{"$f":"AX56*G56","v":0},0,{"$f":"SUM(X56:AW56)","v":0},{"$f":"+V56/U56","v":{"$error":"#DIV/0!"}},null,null,null,null,null,null,null,null,null,null,null,null,null,null,null,null,null,null,null,null,null,null,null,null,null,null,null,null,0]
["OTROS","107574","77031330200227","MEKATROCITOS POLLO 28 GR X 12 X 8 DE",8,12,96,0.1,273,300.3,3603.6000000000004,400,1.5,144,39312,7862.4000000000005,31449.599999999999,3144.96,34594.559999999998,0,0,0,{"$error":"#DIV/0!"},null,null,null,null,null,null,null,null,null,null,null,null,null,null,null,null,null,null,null,null,null,null,null,null,null,null,null,null,0]
[null,"02424","7703133024242","TOZINETAS FRED 40g X 40 X 1 AS",40,1,40,0.16,954.55,1107.278,1107.278,1280,0,null,0,0,0,0,0,0,0,0,{"$error":"#DIV/0!"},null,null,null,null,null,null,null,null,null,null,null,null,null,null,null,null,null,null,null,null,null,null,null,null,null,null,null,null,0]
[null,107385,"7703133024211","TOZINETAS FRED 25G X 48  DE",48,1,48,0.16,498,577.68000000000006,577.68000000000006,600,0,null,0,0,0,0,0,0,0,48,{"$error":"#DIV/0!"},48,null,null,null,null,null,null,null,null,null,null,null,null,null,null,null,null,null,null,null,null,null,null,null,null,null,null,null,0]
[null,"102411","7703133024105","COSTILLITAS FRED 25GX 48 DE",48,1,48,0.16,498,577.68000000000006,577.68000000000006,700,0,null,0,0,0,0,0,0,0,48,{"$error":"#DIV/0!"},48,null,null,null,null,null,null,null,null,null,null,null,null,null,null,null,null,null,null,null,null,null,null,null,null,null,null,null,0]
[null,107996,null,"PAPAS CHIPS 45g X 48 DE",48,1,48,0.16,646.79999999999995,750.28800000000001,750.28800000000001,900,0,null,0,0,0,0,0,0,0]
[null,null,null,"PAPAS CHIPS 150g X 17 AS",17,1,{"$f":"+E62*F62","v":17},0.16,{"$f":"2250/1.16","v":1939.6551724137933},{"$f":"+I62+I62*H62","v":2250},{"$f":"+J62*F62","v":2250},2700,{"$f":"+N62/G62","v":0},null,{"$f":"+N62*I62","v":0},{"$f":"+O62*$O$83","v":0},{"$f":"+O62-P62","v":0},{"$f":"+Q62*H62","v":0},{"$f":"+R62+Q62","v":0},{"$f":"AX62*G62","v":0},{"$f":"+$W$3*T62","v":0}]
[null,"07795","7703133077958","LONCHERA DIVERTIDA 241g X 12 AS",12,1,12,0.16,3275.8620999999998,3800.0000359999999,3800.0000359999999,4650,0,null,0,{"$f":"+O63*$O$83","v":0},0,0,0,0,0,12,{"$error":"#DIV/0!"},12,null,null,null,null,null,null,null,null,null,null,null,null,null,null,null,null,null,null,null,null,null,null,null,null,null,null,null,0]
[null,"02156","7703133023979","LONCHIPACK 309g X 12 X 12 AS",12,1,12,0.16,4051.72,4699.9951999999994,4699.9951999999994,6050,0,null,0,0,0,0,0,0,0,0,{"$error":"#DIV/0!"}]
["CRESPAS","100008",null,"MEKATO NATURAL 25 GR X 12 X 6",12,6,72,0.16,474.16,550.02560000000005,3300.1536000000006,700,0,null,0,0,0,0,0,0,0,0,{"$error":"#DIV/0!"}]
[null,"100009",null,"MEKATO LIMON 25 GR X 12 X 6",12,6,72,0.16,474.16,550.02560000000005,3300.1536000000006,700,0,null,0,0,0,0,0,0,0,0,{"$error":"#DIV/0!"}]
[null,100002,null,"CRESPAS SALSA TOMATE 25 GR",12,6,72,0.16,505,585.79999999999995,3514.7999999999997,700,0,null,0,0,0,0,0,0,0,0,{"$error":"#DIV/0!"}]
[null,100003,null,"CRESPAS LIMON 25 GR",12,6,72,0.16,505,585.79999999999995,3514.7999999999997,700,0,null,0,0,0,0,0,0,0,0,{"$error":"#DIV/0!"}]
[null,100004,null,"CRESPAS POLLO 25 GR",12,6,72,0.16,505,585.79999999999995,3514.7999999999997,700,0,null,0,0,0,0,0,0,0,0,{"$error":"#DIV/0!"}]
["MEKATO","100144",null,"ROSKOTAS AREQUIPE 14G X 12 X 7",7,12,84,0.1,436.38,480.01800000000003,6074.4096,700,0,null,0,0,0,0,0,0,0,0,{"$error":"#DIV/0!"}]
[null,"000034",null,"MEKATO ESCOLAR 205 GR X 24 ",24,1,24,0.16,2844.82,3299.9912000000004,{"$f":"+J71*F71","v":3299.9912000000004},200,0,null,0,{"$f":"+O71*$O$83","v":0},0,0,0]
[null,"100126",null,"TICOS 9 G X 12 X 12",12,12,144,0.16,86.21,100.00359999999999,1200.0431999999998,200,0,null,0,0,0,0,0,0,0,0,{"$f":"+V72/U72","v":{"$error":"#DIV/0!"}}]
[null,100138,null,"TICOS PICANTE 9 G X 12 X 20",12,20,240,0.16,133.62,154.9992,3099.9839999999999,200,0,null,0,0,0,0,0]
[null,"000127",null,"TICOS 38G X 36",36,1,36,0.16,327.58999999999997,380.00439999999998,380.00439999999998,500,0,null,0,0,0,0,0,0,0,0,{"$error":"#DIV/0!"}]
[null,"100130",null,"TICOS QUESO 12 G X 12 X 20",20,12,240,0.16,129.31,149.99960000000002,1799.9952000000003,200,0,null,0,0,0,0,0,0,0,0,{"$error":"#DIV/0!"}]
[null,"000152",null,"TICOS QUESO 38 G X 36",36,1,36,0.16,344.82760000000002,400.00001600000002,400.00001600000002,500,0,null,0,0,0,0,0,0,0,360,{"$error":"#DIV/0!"},360]
[null,"100137",null,"TICOS QUESO 8 G  X 12 X 20",20,12,240,0.16,133.62,154.9992,1859.9904000000001,500,0,null,0,0,0,0,0,0,0,0,{"$error":"#DIV/0!"}]
[null,"100149",null,"TICOS POLLO 9G 12 X 20",12,20,240,0.16,133.62,154.9992,3099.9839999999999,200,0,null,0,0,0,0,0,0,0,1200,{"$error":"#DIV/0!"},{"$f":"240*5","v":1200}]
[null,"000128",null,"TICOS POLLO 38 G X 36",36,1,36,0.16,345,400.2,400.2,500,0,null,0,0,0,0,0,0,0,0,{"$error":"#DIV/0!"}]
[null,"000151",null,"TICOS CARAMELO 38 G X 36",36,1,36,0.16,344.82760000000002,400.00001600000002,400.00001600000002,500,0,null,0,0,0,0,0,0,0,0,{"$error":"#DIV/0!"}]
[null,"000150","7703133023979","TICO PICANTE 38G X 36",36,1,36,0.16,327.58620000000002,379.99999200000002,379.99999200000002,500,0,null,{"$f":"+N81*I81","v":0},0,{"$f":"+O81-P81","v":0},{"$f":"+Q81*H81","v":0},{"$f":"+R81+Q81","v":0},0,0,108,{"$error":"#DIV/0!"},{"$f":"36*3","v":108},null,null,null,null,null,null,null,null,null,null,null,null,null,null,null,null,null,null,null,null,null,null,null,null,null,null,null,0]
["CUPO CREDITO TOTAL",null,0,null,"CUPO ACTUAL",0,null,null,null,null,null,null,{"$f":"SUM(M5:M81)","v":14.5},{"$f":"S82/1000","v":464.06707200000011},{"$f":"SUM(O5:O81)","v":502105.6551724138},100421.13103448277,401684.52413793106,62382.547862068961,464067.0720000001,0,0,6044,{"$error":"#DIV/0!"},null,null,null,null,null,null,null,null,null,null,null,null,null,null,null,null,null,null,null,null,null,null,null,null,null,null,{"$f":"SUM(AX5:AX81)","v":0},{"$f":"SUM(AY5:AY81)","v":0},{"$f":"SUM(AZ5:AZ81)","v":0}]
[null,0,0,0,0,0,0,0,0,0,0,0,null,null,{"$f":"S1","v":0.2}]

{"sheet":"Yupi (45)","index":4,"n_rows":82,"n_cols":53,"rows_kept":82,"cut":false,"hidden":true,"merged":[[63,0,67,0],[68,0,79,0],[80,0,80,1],[80,5,80,6],[4,0,13,0],[14,0,28,0],[29,0,32,0],[33,0,42,0],[43,0,55,0],[56,0,62,0],[0,4,0,6],[0,12,0,13],[0,20,2,21],[0,23,2,48],[1,4,1,6],[1,12,1,13],[2,4,2,6],[2,12,2,13]]}
[null,null,null,"FRANQUICIADO","DIDIER VIZCAINO",null,null,null,null,null,null,null,"DESCUENTO",null,null,null,null,null,0.2,"DIAS MES",null,null,"DIA HABIL"]
[null,null,null,"CODIGO",null,null,null,null,null,null,null,null,"ZONA",null,null,null,null,null,"VILLANUEVA"]
[null,null,null,"FECHA",{"$f":"TODAY()","v":"2012-09-10"},null,null,null,null,null,null,null,"VALOR PEDIDO",null,null,null,null,null,{"$f":"S81","v":575183.96928000008},26,null,null,3]
[null,"Codigo","Codigo Barras","Descripción","Displays por paca","Unds por Display","Unds por Paca","Iva","Precio Antes de Iva","Precio incluido IVA","Valor Display al tendero","PVP Sugerido (Und)","PACAS","UNIDADES","v.antes iva","Descuento","total","iva","Total a Pagar","PPTO DIA","PPTO DIA HABIL","VENTA ACUMULADA","CUMP DIA HABIL",1,{"$f":"+X4+1","v":2},3,4,5,6,7,8,9,10,11,12,13,14,15,16,17,18,19,20,21,22,23,24,25,26,"VENTA TOTAL","PPTO","DIFERENCIA","                                                                                                                                                                               "]
["EXTRUIDOS","007695","7703133078771","YUPIS QUESO 45g X 36 X 1 AS",36,1,{"$f":"+E5*F5","v":36},0.16,560,{"$f":"+I5+I5*H5","v":649.6},{"$f":"+J5*F5","v":649.6},700,{"$f":"+N5/G5","v":2},72,{"$f":"+N5*I5","v":40320},{"$f":"+O5*$O$82","v":8064},{"$f":"+O5-P5","v":32256},{"$f":"+Q5*H5","v":5160.96},{"$f":"+R5+Q5","v":37416.959999999999},{"$f":"AX5*G5","v":0},{"$f":"+$W$3*T5","v":0},{"$f":"SUM(X5:AW5)","v":0},{"$f":"+V5/U5","v":{"$error":"#DIV/0!"}},null,null,null,null,null,null,null,null,null,null,null,null,null,null,null,null,null,null,null,null,null,null,null,null,null,null,null,null,{"$f":"+AY5-AX5","v":0}]
[null,"007164",7703133077309,"YUPIS SALADO 60g X 36 X 1 AS",36,1,{"$f":"+E6*F6","v":36},0.16,{"$f":"650/1.16","v":560.34482758620697},650.00000000000011,650.00000000000011,700,0,null,0,0,0,0,0,0,0,720,{"$error":"#DIV/0!"},{"$f":"36*20","v":720},null,null,null,null,null,null,null,null,null,null,null,null,null,null,null,null,null,null,null,null,null,null,null,null,null,null,null,{"$f":"+AY6-AX6","v":0}]
[null,"007899",null,"YUPIS PICANTE 45g X 36 X 1 AS",36,1,36,0.16,{"$f":"650/1.16","v":560.34482758620697},650.00000000000011,650.00000000000011,700,2,72,40344.827586206899,8068.9655172413804,32275.862068965518,5164.1379310344828,37440,0,0,0,{"$error":"#DIV/0!"},null,null,null,null,null,null,null,null,null,null,null,null,null,null,null,null,null,null,null,null,null,null,null,null,null,null,null,null,0]
[null,"07881","7703133078818","YUPI  CARAMELO 50gX36X1 AS",36,1,36,0.16,{"$f":"650/1.16","v":560.34482758620697},650.00000000000011,650.00000000000011,700,4,144,80689.655172413797,16137.931034482761,64551.724137931036,10328.275862068966,74880,0,0,0,{"$error":"#DIV/0!"},null,null,null,null,null,null,null,null,null,null,null,null,null,null,null,null,null,null,null,null,null,null,null,null,null,null,null,null,0]
[null,"007742",null,"YUPI  AREQUIQUESO  45 GR",36,1,36,0.16,{"$f":"650/1.16","v":560.34482758620697},{"$f":"+I9+I9*H9","v":650.00000000000011},{"$f":"+J9*F9","v":650.00000000000011},700,0,null,{"$f":"+N9*I9","v":0},0,{"$f":"+O9-P9","v":0},{"$f":"+Q9*H9","v":0},0,{"$f":"AX9*G9","v":0},{"$f":"+$W$3*T9","v":0},{"$f":"SUM(X9:AW9)","v":0},{"$f":"+V9/U9","v":{"$error":"#DIV/0!"}},null,null,null,null,null,null,null,null,null,null,null,null,null,null,null,null,null,null,null,null,null,null,null,null,null,null,null,null,0]
[null,"102174","7703133021739","YUPIS SALADO 10g X  12 X 20 DE",20,12,240,0.16,{"$f":"144/1.16","v":124.13793103448276},144,1728,200,0,null,0,0,0,0,0,0,0,960,{"$error":"#DIV/0!"},{"$f":"240*4","v":960},null,null,null,null,null,null,null,null,null,null,null,null,null,null,null,null,null,null,null,null,null,null,null,null,null,null,null,0]
[null,"07716","7703133077248","TICK CHEESE 100G X 24 X 1 AS",24,1,24,0.16,767.2,889.952,889.952,1000,0,null,0,0,0,0,0,0,0,0,{"$error":"#DIV/0!"},null,null,null,null,null,null,null,null,null,null,null,null,null,null,null,null,null,null,null,null,null,null,null,null,null,null,null,null,0]
[null,"107729","7703133077194","TICK CHEESE 40g X 12 X 6 DE",6,12,72,0.16,396,459.36,5512.32,600,0,null,0,0,0,0,0,0,0,0,{"$error":"#DIV/0!"},null,null,null,null,null,null,null,null,null,null,null,null,null,null,null,null,null,null,null,null,null,null,null,null,null,null,null,null,0]
[null,"02122","7703133021227","PALOMITAS CARAMELO 68g X 36 X 1 AS",36,1,36,0.16,582,675.12,675.12,800,0,null,0,0,0,0,0,0,0,0,{"$error":"#DIV/0!"},null,null,null,null,null,null,null,null,null,null,null,null,null,null,null,null,null,null,null,null,null,null,null,null,null,null,null,null,0]
[null,"102117","7703133021166","PALOMITAS CARAMELO 20g X 12 X 12 DE",12,12,144,0.16,344.8,399.96800000000002,4799.616,500,0,null,0,0,0,0,0,0,0,0,{"$error":"#DIV/0!"},null,null,null,null,null,null,null,null,null,null,null,null,null,null,null,null,null,null,null,null,null,null,null,null,null,null,null,null,0]
["RIZADAS",109128,"7703133091275","RIZADAS NATURAL 30g X 12 X 6 DE",6,12,72,0.16,{"$f":"750/1.16","v":646.55172413793105},{"$f":"+I15+I15*H15","v":750},{"$f":"+J15*F15","v":9000},800,{"$f":"+N15/G15","v":0},null,{"$f":"+N15*I15","v":0},0,{"$f":"+O15-P15","v":0},{"$f":"+Q15*H15","v":0},{"$f":"+R15+Q15","v":0},null,null,null,null,null,null,null,null,null,null,null,null,null,null,null,null,null,null,null,null,null,null,null,null,null,null,null,null,null,null,null,null,0]
[null,109130,"7703133070324","RIZADAS POLLO 30g X 12 X 6 DE",6,12,72,0.16,{"$f":"750/1.16","v":646.55172413793105},750,9000,800,0,null,0,0,0,0,0,0,0,0,{"$error":"#DIV/0!"},null,null,null,null,null,null,null,null,null,null,null,null,null,null,null,null,null,null,null,null,null,null,null,null,null,null,null,null,0]
[null,109132,"7703133070362","RIZADAS MAYONESA 30g X 12 X 6 DE",6,12,72,0.16,{"$f":"750/1.16","v":646.55172413793105},750,9000,800,0,null,0,0,0,0,0,0,0,0,{"$error":"#DIV/0!"},null,null,null,null,null,null,null,null,null,null,null,null,null,null,null,null,null,null,null,null,null,null,null,null,null,null,null,null,0]
[null,109134,"7703133070348","RIZADAS LIMON 30g X 12 X 6 DE",6,12,72,0.16,{"$f":"750/1.16","v":646.55172413793105},750,9000,800,0,null,0,0,0,0,0,0,0,0,{"$error":"#DIV/0!"},null,null,null,null,null,null,null,null,null,null,null,null,null,null,null,null,null,null,null,null,null,null,null,null,null,null,null,null,0]
[null,"107029","7703133070287","RIZADAS BBQ RANCHERA 28g X 12 X 6 DE",6,12,72,0.16,581.9,675.00400000000002,8100.0480000000007,800,{"$f":"+N19/G19","v":0},null,0,0,0,0,0,0,0,0,{"$error":"#DIV/0!"},null,null,null,null,null,null,null,null,null,null,null,null,null,null,null,null,null,null,null,null,null,null,null,null,null,null,null,null,0]
[null,107122,null,"RIZADAS MEXICAN FUSION  28g X 12 X 6 DE",6,12,72,0.16,{"$f":"750/1.16","v":646.55172413793105},750,9000,800,0,null,0,0,0,0,0,0,0,0,{"$error":"#DIV/0!"},null,null,null,null,null,null,null,null,null,null,null,null,null,null,null,null,null,null,null,null,null,null,null,null,null,null,null,null,0]
[null,"107587","7703133072922","RIZADAS NATURAL 115g X 20 X 1 AS",20,1,20,0.16,{"$f":"1907/1.16","v":1643.9655172413795},1907.0000000000002,1907.0000000000002,2300,0,null,0,0,0,0,0,0,0,0,{"$error":"#DIV/0!"},null,null,null,null,null,null,null,null,null,null,null,null,null,null,null,null,null,null,null,null,null,null,null,null,null,null,null,null,0]
[null,"107588","7703133072946","RIZADAS MAYONESA 115g X 20 X 1 AS",20,1,20,0.16,{"$f":"1907/1.16","v":1643.9655172413795},1907.0000000000002,1907.0000000000002,2300,0,null,0,0,0,0,0,0,0,0,{"$error":"#DIV/0!"},null,null,null,null,null,null,null,null,null,null,null,null,null,null,null,null,null,null,null,null,null,null,null,null,null,null,null,null,0]
[null,"107586","7703133072984","RIZADAS LIMON  115g X 20 X 1 AS",20,1,20,0.16,{"$f":"1907/1.16","v":1643.9655172413795},1907.0000000000002,1907.0000000000002,2300,0,null,0,0,0,0,0,0,0,0,{"$error":"#DIV/0!"},null,null,null,null,null,null,null,null,null,null,null,null,null,null,null,null,null,null,null,null,null,null,null,null,null,null,null,null,0]
[null,"107592","7703133078856","RIZADAS POLLO 115g X 20 X 1 AS",20,1,20,0.16,{"$f":"1907/1.16","v":1643.9655172413795},1907.0000000000002,1907.0000000000002,2300,0,null,0,0,0,0,0,0,0,20,{"$error":"#DIV/0!"},20,null,null,null,null,null,null,null,null,null,null,null,null,null,null,null,null,null,null,null,null,null,null,null,null,null,null,null,0]
[null,"007111",null,"RIZADAS MEXICAN FUSION 115g X 20 X 1 AS",20,1,20,0.16,1508,{"$f":"+I25+I25*H25","v":1749.28},{"$f":"+J25*F25","v":1749.28},1800,{"$f":"+N25/G25","v":0},null,{"$f":"+N25*I25","v":0},0,{"$f":"+O25-P25","v":0},{"$f":"+Q25*H25","v":0},{"$f":"+R25+Q25","v":0},{"$f":"AX25*G25","v":0},{"$f":"+$W$3*T25","v":0},{"$f":"SUM(X25:AW25)","v":0},{"$f":"+V25/U25","v":{"$error":"#DIV/0!"}},null,null,null,null,null,null,null,null,null,null,null,null,null,null,null,null,null,null,null,null,null,null,null,null,null,null,null,null,0]
[null,107443,"7703133072953"," RIZADAS NATURAL  45GX8X6 DE",6,8,48,0.16,758.87,{"$f":"+I26+I26*H26","v":880.28920000000005},{"$f":"+J26*F26","v":7042.3136000000004},1000,{"$f":"+N26/G26","v":0},null,{"$f":"+N26*I26","v":0},0,{"$f":"+O26-P26","v":0},{"$f":"+Q26*H26","v":0},{"$f":"+R26+Q26","v":0},{"$f":"AX26*G26","v":0},{"$f":"+$W$3*T26","v":0},{"$f":"SUM(X26:AW26)","v":0},{"$f":"+V26/U26","v":{"$error":"#DIV/0!"}}]
[null,107295,"7703133072953"," RIZADAS MAYONESA  45GX8X6 DE",6,8,48,0.16,758.87,880.28920000000005,7042.3136000000004,1000,1,48,36425.760000000002,7285.152000000001,29140.608,4662.4972800000005,33803.105280000003,0,0,0,{"$error":"#DIV/0!"},null,null,null,null,null,null,null,null,null,null,null,null,null,null,null,null,null,null,null,null,null,null,null,null,null,null,null,null,0]
[null,107300,"7703133073011"," RIZADAS POLLO  45GX8X6 DE",6,8,48,0.16,758.87,880.28920000000005,7042.3136000000004,1000,0,null,0,0,0,0,0,0,0,240,{"$error":"#DIV/0!"},{"$f":"48*5","v":240},null,null,null,null,null,null,null,null,null,null,null,null,null,null,null,null,null,null,null,null,null,null,null,null,null,null,null,0]
[null,107299,"7703133072991"," RIZADAS LIMON  45GX8X6 DE",6,8,48,0.16,758.87,880.28920000000005,7042.3136000000004,1000,0,null,0,0,0,0,0,0,0,0,{"$error":"#DIV/0!"},null,null,null,null,null,null,null,null,null,null,null,null,null,null,null,null,null,null,null,null,null,null,null,null,null,null,null,null,0]
["LIZAS",106982,"7703133070409","LIZA´S S/TOMATE 30g X 12 X 5 DE",5,12,60,0.16,{"$f":"715/1.16","v":616.37931034482767},715.00000000000011,8580.0000000000018,800,1.2,72,44379.310344827594,8875.8620689655199,35503.448275862072,5680.5517241379321,41184.000000000007,0,0,0,{"$error":"#DIV/0!"},null,null,null,null,null,null,null,null,null,null,null,null,null,null,null,null,null,null,null,null,null,null,null,null,null,null,null,null,0]
[null,106983,"7703133072423","LIZA´S S/ROSADA 30g X 12 X 5 DE",5,12,60,0.16,{"$f":"715/1.16","v":616.37931034482767},715.00000000000011,8580.0000000000018,800,0,null,0,0,0,0,0,0,0,0,{"$error":"#DIV/0!"},null,null,null,null,null,null,null,null,null,null,null,null,null,null,null,null,null,null,null,null,null,null,null,null,null,null,null,null,0]
[null,107380,"7703133070461","LIZA'S POLLO 30g X 12 X 5 DE",5,12,60,0.16,{"$f":"715/1.16","v":616.37931034482767},715.00000000000011,8580.0000000000018,800,0,null,0,0,0,0,0,0,0,0,{"$error":"#DIV/0!"},null,null,null,null,null,null,null,null,null,null,null,null,null,null,null,null,null,null,null,null,null,null,null,null,null,null,null,null,0]
[null,107132,"7703133070447","LIZA´S LIMÓN 30g X 12 X 5 DE",5,12,60,0.16,{"$f":"715/1.16","v":616.37931034482767},715.00000000000011,8580.0000000000018,800,1.2,72,44379.310344827594,8875.8620689655199,35503.448275862072,5680.5517241379321,41184.000000000007,0,0,0,{"$error":"#DIV/0!"},null,null,null,null,null,null,null,null,null,null,null,null,null,null,null,null,null,null,null,null,null,null,null,null,null,null,null,null,0]
["MIXTOS","07260","7703133072380","EL GOLPE 110g X 24 X 1  AS",24,1,24,0.16,1379.31,1599.9995999999999,1599.9995999999999,1800,0,null,0,0,0,0,0,0,0,24,{"$error":"#DIV/0!"},24,null,null,null,null,null,null,null,null,null,null,null,null,null,null,null,null,null,null,null,null,null,null,null,null,null,null,null,0]
[null,107258,"7703133077231","GOLPE 30g X  12  X  6 DE",6,12,72,0.16,435.34,504.99439999999998,6059.9327999999996,1000,0,null,0,0,0,0,0]
[null,"107726","7703133077231","GOLPE MIX 45g X  8  X  6 DE",6,8,48,0.16,733,850.28,6802.24,1000,2,96,70368,14073.6,56294.400000000001,9007.1040000000012,65301.504000000001,0,0,0,{"$error":"#DIV/0!"},null,null,null,null,null,null,null,null,null,null,null,null,null,null,null,null,null,null,null,null,null,null,null,null,null,null,null,null,0]
[null,"107836","7703133072571","EL GOLPE 45 gr 8 X 6 DE",6,8,48,0.16,733,850.28,6802.24,1000,2,96,70368,14073.6,56294.400000000001,9007.1040000000012,65301.504000000001,0,0,144,{"$error":"#DIV/0!"},{"$f":"48*3","v":144},null,null,null,null,null,null,null,null,null,null,null,null,null,null,null,null,null,null,null,null,null,null,null,null,null,null,null,0]
[null,"107254","7703133072540","EL GOLPE LIMON 45 gr 8 X 6 DE",6,8,48,0.16,733,850.28,6802.24,1000,1,48,35184,7036.8,28147.200000000001,4503.5520000000006,32650.752,0,0,0,{"$error":"#DIV/0!"},null,null,null,null,null,null,null,null,null,null,null,null,null,null,null,null,null,null,null,null,null,null,null,null,null,null,null,null,0]
[null,"107261","7703133072533","EL GOLPE RANCHERO 45G X 8 X 6 DE",6,8,48,0.16,733,850.28,6802.24,1000,2,96,70368,14073.6,56294.400000000001,9007.1040000000012,65301.504000000001,0,0,480,{"$error":"#DIV/0!"},480,null,null,null,null,null,null,null,null,null,null,null,null,null,null,null,null,null,null,null,null,null,null,null,null,null,null,null,0]
[null,107590,"7703133072496","GOLPE RANCHERO 140 GR  17 X 1 AS",17,1,{"$f":"+E40*F40","v":17},0.16,2161,{"$f":"+I40+I40*H40","v":2506.7600000000002},{"$f":"+J40*F40","v":2506.7600000000002},2800,{"$f":"+N40/G40","v":0},null,{"$f":"+N40*I40","v":0},0,{"$f":"+O40-P40","v":0},{"$f":"+Q40*H40","v":0},{"$f":"+R40+Q40","v":0},{"$f":"AX40*G40","v":0},{"$f":"+$W$3*T40","v":0},{"$f":"SUM(X40:AW40)","v":0},{"$f":"+V40/U40","v":{"$error":"#DIV/0!"}},null,null,null,null,null,null,null,null,null,null,null,null,null,null,null,null,null,null,null,null,null,null,null,null,null,null,null,null,0]
[null,107465,null,"WOW MIX NATURAL 45 gr X 8 X 6 DE",6,8,{"$f":"+E41*F41","v":48},0.16,{"$f":"850/1.16","v":732.75862068965523},{"$f":"+I41+I41*H41","v":850.00000000000011},{"$f":"+J41*F41","v":6800.0000000000009},1000,{"$f":"+N41/G41","v":0},null,{"$f":"+N41*I41","v":0},0,{"$f":"+O41-P41","v":0},{"$f":"+Q41*H41","v":0},{"$f":"+R41+Q41","v":0},{"$f":"AX41*G41","v":0},{"$f":"+$W$3*T41","v":0},{"$f":"SUM(X41:AW41)","v":0},{"$f":"+V41/U41","v":{"$error":"#DIV/0!"}},null,null,null,null,null,null,null,null,null,null,null,null,null,null,null,null,null,null,null,null,null,null,null,null,null,null,null,null,0]
[null,107445,null,"WOW MIX QUESO 45 gr X 8 X 6 DE",6,8,{"$f":"+E42*F42","v":48},0.16,{"$f":"850/1.16","v":732.75862068965523},{"$f":"+I42+I42*H42","v":850.00000000000011},{"$f":"+J42*F42","v":6800.0000000000009},1000,{"$f":"+N42/G42","v":0},null,{"$f":"+N42*I42","v":0},0,{"$f":"+O42-P42","v":0},{"$f":"+Q42*H42","v":0},{"$f":"+R42+Q42","v":0},{"$f":"AX42*G42","v":0},{"$f":"+$W$3*T42","v":0},{"$f":"SUM(X42:AW42)","v":0},{"$f":"+V42/U42","v":{"$error":"#DIV/0!"}},null,null,null,null,null,null,null,null,null,null,null,null,null,null,null,null,null,null,null,null,null,null,null,null,null,null,null,null,0]
[null,107447,null,"WOW MIX BBQ 45 gr X 8 X 6 DE",6,8,{"$f":"+E43*F43","v":48},0.16,732.8,{"$f":"+I43+I43*H43","v":850.048},{"$f":"+J43*F43","v":6800.384},1000,{"$f":"+N43/G43","v":0},null,{"$f":"+N43*I43","v":0},0,{"$f":"+O43-P43","v":0},{"$f":"+Q43*H43","v":0},{"$f":"+R43+Q43","v":0},{"$f":"AX43*G43","v":0},{"$f":"+$W$3*T43","v":0},{"$f":"SUM(X43:AW43)","v":240},{"$f":"+V43/U43","v":{"$error":"#DIV/0!"}},{"$f":"48*5","v":240},null,null,null,null,null,null,null,null,null,null,null,null,null,null,null,null,null,null,null,null,null,null,null,null,null,null,null,0]
["TOSTIS","007226","7703133072380","TOSTI AREPAS 150g X 17 X 1 AS",17,1,17,0.1,1545,1699.5,1699.5,1800,0,null,0,0,0,0,0,0,0,0,{"$error":"#DIV/0!"},null,null,null,null,null,null,null,null,null,null,null,null,null,null,null,null,null,null,null,null,null,null,null,null,null,null,null,null,0]
[null,107228,"7703133072274","TOSTIAREPA 28 G X12 X6 DE",6,12,72,0.1,364,400.4,4804.7999999999993,500,0,null,0,0,0,0,0,0,0,72,{"$error":"#DIV/0!"},72,null,null,null,null,null,null,null,null,null,null,null,null,null,null,null,null,null,null,null,null,null,null,null,null,null,null,null,0]
[null,"107240","7703133072397","TOSTI EMPANADA CARNE 28GX12X6 DE",6,12,72,0.1,364,400.4,4804.7999999999993,500,0,null,0,0,0,0,0,0,0,0,{"$error":"#DIV/0!"},null,null,null,null,null,null,null,null,null,null,null,null,null,null,null,null,null,null,null,null,null,null,null,null,null,null,null,null,0]
[null,"107234","7703133072335","TOSTI EMPANADA LIMON 28 G X 12 X 6  DE",6,12,72,0.1,364,400.4,4804.7999999999993,500,2,144,52416,10483.200000000001,41932.800000000003,4193.2800000000007,46126.080000000002,0,0,1080,{"$error":"#DIV/0!"},{"$f":"72*15","v":1080},null,null,null,null,null,null,null,null,null,null,null,null,null,null,null,null,null,null,null,null,null,null,null,null,null,null,null,0]
[null,"107220","7703133072199","TOSTI PIZZA POLLO 28G X 12 X 6 DE",6,12,72,0.1,364,400.4,4804.7999999999993,500,0,null,0,0,0,0,0,0,0,72,{"$error":"#DIV/0!"},72,null,null,null,null,null,null,null,null,null,null,null,null,null,null,null,null,null,null,null,null,null,null,null,null,null,null,null,0]
[null,"107222","7703133072199","TOSTI PIZZA QUESO 28G X 12 X 6 DE",6,12,72,0.1,364,400.4,4804.7999999999993,500,0,null,0,0,0,0,0,0,0,0,{"$error":"#DIV/0!"},null,null,null,null,null,null,null,null,null,null,null,null,null,null,null,null,null,null,null,null,null,null,null,null,null,null,null,null,0]
[null,"107333",null,"TOSTI NACHOS QUESO 28 GR X 12 X 6 DE",6,12,72,0.1,364,400.4,4804.7999999999993,500,0,null,0,0,0,0,0,0,0,144,{"$error":"#DIV/0!"},{"$f":"72*2","v":144},null,null,null,null,null,null,null,null,null,null,null,null,null,null,null,null,null,null,null,null,null,null,null,null,null,null,null,0]
[null,"107231","7703133072304","TOSTIEMPANADA QUESO PICANTE 28G X 12 X 6",6,12,72,0.1,364,400.4,4804.7999999999993,500,0,null,0,0,0,0,0,0,0,0,{"$error":"#DIV/0!"},null,null,null,null,null,null,null,null,null,null,null,null,null,null,null,null,null,null,null,null,null,null,null,null,null,null,null,null,0]
[null,"107335",null,"TOSTI NACHOS CHILE LIMON 28 GR X 12 X 6",6,12,72,0.1,364,400.4,4804.7999999999993,500,0,null,0,0,0,0,0,0,0,0,{"$error":"#DIV/0!"},null,null,null,null,null,null,null,null,null,null,null,null,null,null,null,null,null,null,null,null,null,null,null,null,null,null,null,null,0]
[null,"107485","7703133079996","TOSTI PLATANITOS 30 GR X 12 X 6 DE",6,12,72,0.16,388,450.08,5400.96,600,0,null,0,0,0,0,0,0,0,72,{"$error":"#DIV/0!"},72,null,null,null,null,null,null,null,null,null,null,null,null,null,null,null,null,null,null,null,null,null,null,null,null,null,null,null,0]
[null,"107561",null,"TOSTI NACHOS 45 GR  8 X 6",6,8,48,0.1,{"$f":"650/1.1","v":590.90909090909088},650,5200,800,0,null,0,0,0,0,0,0,0,0,{"$error":"#DIV/0!"}]
[null,"007337","7703133079996","TOSTI NACHOS CHILE LIMON 150 GR X 17 X 1 AS",17,1,17,0.1,1545,{"$f":"+I55+I55*H55","v":1699.5},{"$f":"+J55*F55","v":1699.5},1800,{"$f":"+N55/G55","v":0},null,{"$f":"+N55*I55","v":0},0,{"$f":"+O55-P55","v":0},{"$f":"+Q55*H55","v":0},{"$f":"+R55+Q55","v":0},{"$f":"AX55*G55","v":0},0,{"$f":"SUM(X55:AW55)","v":0},{"$f":"+V55/U55","v":{"$error":"#DIV/0!"}},null,null,null,null,null,null,null,null,null,null,null,null,null,null,null,null,null,null,null,null,null,null,null,null,null,null,null,null,0]
[null,"007338","7703133079996","TOSTI NACHOS QUESO 150 GR X 17 X 1 AS",17,1,17,0.1,1545,{"$f":"+I56+I56*H56","v":1699.5},{"$f":"+J56*F56","v":1699.5},1800,{"$f":"+N56/G56","v":0},null,{"$f":"+N56*I56","v":0},0,{"$f":"+O56-P56","v":0},{"$f":"+Q56*H56","v":0},{"$f":"+R56+Q56","v":0},{"$f":"AX56*G56","v":0},0,{"$f":"SUM(X56:AW56)","v":0},{"$f":"+V56/U56","v":{"$error":"#DIV/0!"}},null,null,null,null,null,null,null,null,null,null,null,null,null,null,null,null,null,null,null,null,null,null,null,null,null,null,null,null,0]
["OTROS","107574","77031330200227","MEKATROCITOS POLLO 28 GR X 12 X 8 DE",8,12,96,0.1,273,300.3,3603.6000000000004,400,1.5,144,39312,7862.4000000000005,31449.599999999999,3144.96,34594.559999999998,0,0,0,{"$error":"#DIV/0!"},null,null,null,null,null,null,null,null,null,null,null,null,null,null,null,null,null,null,null,null,null,null,null,null,null,null,null,null,0]
[null,"02424","7703133024242","TOZINETAS FRED 40g X 40 X 1 AS",40,1,40,0.16,954.55,1107.278,1107.278,1280,0,null,0,0,0,0,0,0,0,0,{"$error":"#DIV/0!"},null,null,null,null,null,null,null,null,null,null,null,null,null,null,null,null,null,null,null,null,null,null,null,null,null,null,null,null,0]
[null,107385,"7703133024211","TOZINETAS FRED 25G X 48  DE",48,1,48,0.16,498,577.68000000000006,577.68000000000006,600,0,null,0,0,0,0,0,0,0,48,{"$error":"#DIV/0!"},48,null,null,null,null,null,null,null,null,null,null,null,null,null,null,null,null,null,null,null,null,null,null,null,null,null,null,null,0]
[null,"102411","7703133024105","COSTILLITAS FRED 25GX 48 DE",48,1,48,0.16,498,577.68000000000006,577.68000000000006,700,0,null,0,0,0,0,0,0,0,48,{"$error":"#DIV/0!"},48,null,null,null,null,null,null,null,null,null,null,null,null,null,null,null,null,null,null,null,null,null,null,null,null,null,null,null,0]
[null,107996,null,"PAPAS CHIPS 45 GRMS",48,1,48,0.16,646.79999999999995,750.28800000000001,750.28800000000001,900,0,null,0,0,0,0,0,0,0]
[null,"07795","7703133077958","LONCHERA DIVERTIDA 241g X 12 AS",12,1,12,0.16,3275.8620999999998,3800.0000359999999,3800.0000359999999,4650,0,null,0,0,0,0,0,0,0,12,{"$error":"#DIV/0!"},12,null,null,null,null,null,null,null,null,null,null,null,null,null,null,null,null,null,null,null,null,null,null,null,null,null,null,null,0]
[null,"02156","7703133023979","LONCHIPACK 309g X 12 X 12 AS",12,1,12,0.16,4051.72,4699.9951999999994,4699.9951999999994,6050,0,null,0,0,0,0,0,0,0,0,{"$error":"#DIV/0!"}]
["CRESPAS","100008",null,"MEKATO NATURAL 25 GR X 12 X 6",12,6,72,0.16,474.16,550.02560000000005,3300.1536000000006,700,0,null,0,0,0,0,0,0,0,0,{"$error":"#DIV/0!"}]
[null,"100009",null,"MEKATO LIMON 25 GR X 12 X 6",12,6,72,0.16,474.16,550.02560000000005,3300.1536000000006,700,0,null,0,0,0,0,0,0,0,0,{"$error":"#DIV/0!"}]
[null,100002,null,"CRESPAS SALSA TOMATE 25 GR",12,6,72,0.16,505,585.79999999999995,3514.7999999999997,700,0,null,0,0,0,0,0,0,0,0,{"$error":"#DIV/0!"}]
[null,100003,null,"CRESPAS LIMON 25 GR",12,6,72,0.16,505,585.79999999999995,3514.7999999999997,700,0,null,0,0,0,0,0,0,0,0,{"$error":"#DIV/0!"}]
[null,100004,null,"CRESPAS POLLO 25 GR",12,6,72,0.16,505,585.79999999999995,3514.7999999999997,700,0,null,0,0,0,0,0,0,0,0,{"$error":"#DIV/0!"}]
["MEKATO","100144",null,"ROSKOTAS AREQUIPE 14G X 12 X 7",7,12,84,0.1,436.38,480.01800000000003,6074.4096,700,0,null,0,{"$f":"+O69*$O$82","v":0},0,0,0,0,0,0,{"$error":"#DIV/0!"}]
[null,"000034",null,"MEKATO ESCOLAR 205 GR X 24 ",24,1,24,0.16,2844.82,3299.9912000000004,{"$f":"+J70*F70","v":3299.9912000000004},200,0,null,0,0,0,0,0]
[null,"100126",null,"TICOS 9 G X 12 X 12",12,12,144,0.16,86.21,100.00359999999999,1200.0431999999998,200,0,null,0,0,0,0,0,0,0,0,{"$f":"+V71/U71","v":{"$error":"#DIV/0!"}}]
[null,100138,null,"TICOS PICANTE 9 G X 12 X 20",12,20,240,0.16,133.62,154.9992,3099.9839999999999,200,0,null,0,0,0,0,0]
[null,"000127",null,"TICOS 38G X 36",36,1,36,0.16,327.58999999999997,380.00439999999998,380.00439999999998,500,0,null,0,0,0,0,0,0,0,0,{"$error":"#DIV/0!"}]
[null,"100130",null,"TICOS QUESO 12 G X 12 X 20",20,12,240,0.16,129.31,149.99960000000002,1799.9952000000003,200,0,null,0,0,0,0,0,0,0,0,{"$error":"#DIV/0!"}]
[null,"000152",null,"TICOS QUESO 38 G X 36",36,1,36,0.16,344.82760000000002,400.00001600000002,400.00001600000002,500,0,null,0,0,0,0,0,0,0,360,{"$error":"#DIV/0!"},360]
[null,"100137",null,"TICOS QUESO 8 G  X 12 X 20",20,12,240,0.16,133.62,154.9992,1859.9904000000001,500,0,null,0,0,0,0,0,0,0,0,{"$error":"#DIV/0!"}]
[null,"100149",null,"TICOS POLLO 9G 12 X 20",12,20,240,0.16,133.62,154.9992,3099.9839999999999,200,0,null,0,0,0,0,0,0,0,1200,{"$error":"#DIV/0!"},{"$f":"240*5","v":1200}]
[null,"000128",null,"TICOS POLLO 38 G X 36",36,1,36,0.16,345,400.2,400.2,500,0,null,0,0,0,0,0,0,0,0,{"$error":"#DIV/0!"}]
[null,"000151",null,"TICOS CARAMELO 38 G X 36",36,1,36,0.16,344.82760000000002,400.00001600000002,400.00001600000002,500,0,null,0,0,0,0,0,0,0,0,{"$error":"#DIV/0!"}]
[null,"000150","7703133023979","TICO PICANTE 38G X 36",36,1,36,0.16,327.58620000000002,379.99999200000002,379.99999200000002,500,0,null,{"$f":"+N80*I80","v":0},0,{"$f":"+O80-P80","v":0},{"$f":"+Q80*H80","v":0},{"$f":"+R80+Q80","v":0},0,0,108,{"$error":"#DIV/0!"},{"$f":"36*3","v":108},null,null,null,null,null,null,null,null,null,null,null,null,null,null,null,null,null,null,null,null,null,null,null,null,null,null,null,0]
["CUPO CREDITO TOTAL",null,0,null,"CUPO ACTUAL",0,null,null,null,null,null,null,{"$f":"SUM(M5:M80)","v":21.9},{"$f":"S81/1000","v":575.18396928000004},{"$f":"SUM(O5:O80)","v":624554.86344827595},124910.97268965519,499643.89075862075,75540.078521379328,575183.96928000008,0,0,6044,{"$error":"#DIV/0!"},null,null,null,null,null,null,null,null,null,null,null,null,null,null,null,null,null,null,null,null,null,null,null,null,null,null,{"$f":"SUM(AX5:AX80)","v":0},{"$f":"SUM(AY5:AY80)","v":0},{"$f":"SUM(AZ5:AZ80)","v":0}]
[null,0,0,0,0,0,0,0,0,0,0,0,null,null,{"$f":"S1","v":0.2}]

{"sheet":"PEDIDO","index":5,"n_rows":85,"n_cols":57,"rows_kept":85,"cut":false,"hidden":false,"merged":[[66,0,70,0],[71,0,82,0],[83,0,83,1],[83,5,83,6],[4,0,14,0],[15,0,29,0],[30,0,33,0],[34,0,43,0],[44,0,57,0],[58,0,65,0],[0,4,0,6],[0,12,0,13],[0,20,2,21],[0,23,2,48],[1,4,1,6],[1,12,1,13],[2,4,2,6],[2,12,2,13]]}
[null,null,null,"FRANQUICIADO",null,null,null,null,null,null,null,null,"DESCUENTO",null,null,null,null,null,0.2,"DIAS MES",null,null,"DIA HABIL"]
[null,null,null,"CODIGO",null,null,null,null,null,null,null,null,"ZONA"]
[null,null,null,"FECHA",{"$f":"TODAY()","v":"2012-09-10"},null,null,null,null,null,null,null,"VALOR PEDIDO",null,null,null,null,null,{"$f":"S84","v":4583755.6968735997},26,null,null,3]
[null,"Codigo","Codigo Barras"," ","Displays por paca","Unds por Display","Unds por Paca","Iva","Precio Antes de Iva","Precio incluido IVA","Valor Display al tendero","PVP Sugerido (Und)","PACAS","UNIDADES","v.antes iva","Descuento","total","iva","Total a Pagar","PPTO DIA","PPTO DIA HABIL","VENTA ACUMULADA","CUMP DIA HABIL",1,{"$f":"+X4+1","v":2},3,4,5,6,7,8,9,10,11,12,13,14,15,16,17,18,19,20,21,22,23,24,25,26,"VENTA TOTAL","PPTO","DIFERENCIA",null,"SALDO BODEGA displays","SALDO BODEGA pacas","unidades por display"]
["EXTRUIDOS","008019","7703133078771","YUPIS QUESO 45g X 36 X 1 AS",36,1,{"$f":"+E5*F5","v":36},0.16,560,{"$f":"+I5+I5*H5","v":649.6},{"$f":"+J5*F5","v":649.6},700,{"$f":"+N5/G5","v":6.0277777777777777},{"$f":"+BD5","v":217},{"$f":"+N5*I5","v":121520},{"$f":"+O5*$O$85","v":24304},{"$f":"+O5-P5","v":97216},{"$f":"+Q5*H5","v":15554.56},{"$f":"+R5+Q5","v":112770.56},{"$f":"AX5*G5","v":0},{"$f":"+$W$3*T5","v":0},{"$f":"SUM(X5:AW5)","v":0},{"$f":"+V5/U5","v":{"$error":"#DIV/0!"}},null,null,null,null,null,null,null,null,null,null,null,null,null,null,null,null,null,null,null,null,null,null,null,null,null,null,null,null,{"$f":"+AY5-AX5","v":0},null,{"$f":"+CONTABILIDAD!AL5","v":217},{"$f":"+BB5/E5","v":6.0277777777777777},{"$f":"+BB5*F5","v":217},30]
[null,"008015",7703133077309,"YUPIS SALADO 60g X 36 X 1 AS",36,1,{"$f":"+E6*F6","v":36},0.16,{"$f":"650/1.16","v":560.34482758620697},650.00000000000011,650.00000000000011,700,20.138888888888889,{"$f":"+BD6","v":725},406250.00000000006,81250.000000000015,325000.00000000006,52000.000000000007,377000.00000000006,0,0,720,{"$error":"#DIV/0!"},{"$f":"36*20","v":720},null,null,null,null,null,null,null,null,null,null,null,null,null,null,null,null,null,null,null,null,null,null,null,null,null,null,null,{"$f":"+AY6-AX6","v":0},null,{"$f":"+CONTABILIDAD!AL6","v":725},{"$f":"+BB6/E6","v":20.138888888888889},{"$f":"+BB6*F6","v":725},30]
[null,"008017",null,"YUPIS PICANTE 45g X 36 X 1 AS",36,1,36,0.16,{"$f":"650/1.16","v":560.34482758620697},650.00000000000011,650.00000000000011,700,8.1666666666666661,294,164741.37931034484,32948.275862068971,131793.10344827588,21086.896551724141,152880.00000000003,0,0,0,{"$error":"#DIV/0!"},null,null,null,null,null,null,null,null,null,null,null,null,null,null,null,null,null,null,null,null,null,null,null,null,null,null,null,null,0,null,{"$f":"+CONTABILIDAD!AL7","v":294},8.1666666666666661,294,15]
[null,"008016","7703133078818","YUPI  CARAMELO 50gX36X1 AS",36,1,36,0.16,{"$f":"650/1.16","v":560.34482758620697},650.00000000000011,650.00000000000011,700,20.333333333333332,732,410172.41379310348,82034.482758620696,328137.93103448278,52502.068965517246,380640,0,0,0,{"$error":"#DIV/0!"},null,null,null,null,null,null,null,null,null,null,null,null,null,null,null,null,null,null,null,null,null,null,null,null,null,null,null,null,0,null,{"$f":"+CONTABILIDAD!AL8","v":732},20.333333333333332,732,3]
[null,"008018",null,"YUPI  AREQUIQUESO 45grX36",36,1,36,0.16,{"$f":"650/1.16","v":560.34482758620697},{"$f":"+I9+I9*H9","v":650.00000000000011},{"$f":"+J9*F9","v":650.00000000000011},700,3.5555555555555554,128,{"$f":"+N9*I9","v":71724.137931034493},14344.827586206899,{"$f":"+O9-P9","v":57379.310344827594},{"$f":"+Q9*H9","v":9180.6896551724149},66560.000000000015,{"$f":"AX9*G9","v":0},{"$f":"+$W$3*T9","v":0},{"$f":"SUM(X9:AW9)","v":0},{"$f":"+V9/U9","v":{"$error":"#DIV/0!"}},null,null,null,null,null,null,null,null,null,null,null,null,null,null,null,null,null,null,null,null,null,null,null,null,null,null,null,null,0,null,{"$f":"+CONTABILIDAD!AL9","v":128},3.5555555555555554,128,5]
[null,"008014",null,"YUPI UVA 45grX36",36,1,{"$f":"+E10*F10","v":36},0.16,{"$f":"650/1.16","v":560.34482758620697},{"$f":"+I10+I10*H10","v":650.00000000000011},{"$f":"+J10*F10","v":650.00000000000011},700,{"$f":"+N10/G10","v":0},0,{"$f":"+N10*I10","v":0},{"$f":"+O10*$O$85","v":0},{"$f":"+O10-P10","v":0},{"$f":"+Q10*H10","v":0},{"$f":"+R10+Q10","v":0},null,null,null,null,null,null,null,null,null,null,null,null,null,null,null,null,null,null,null,null,null,null,null,null,null,null,null,null,null,null,null,null,null,null,{"$f":"+CONTABILIDAD!AL10","v":0},0,0]
[null,"102174","7703133021739","YUPIS SALADO 10g X  12 X 20 DE",20,12,240,0.16,{"$f":"144/1.16","v":124.13793103448276},144,1728,200,11.8,2832,351558.62068965519,70311.724137931044,281246.89655172417,44999.503448275871,326246.40000000002,0,0,960,{"$error":"#DIV/0!"},{"$f":"240*4","v":960},null,null,null,null,null,null,null,null,null,null,null,null,null,null,null,null,null,null,null,null,null,null,null,null,null,null,null,0,null,{"$f":"+CONTABILIDAD!AL11","v":236},11.8,2832,15]
[null,"07716","7703133077248","TICK CHEESE 100G X 24 X 1 AS",24,1,24,0.16,767.2,889.952,889.952,1000,0.375,9,6904.8,1380.96,5523.84,883.81440000000009,6407.6544000000004,0,0,0,{"$error":"#DIV/0!"},null,null,null,null,null,null,null,null,null,null,null,null,null,null,null,null,null,null,null,null,null,null,null,null,null,null,null,null,0,null,{"$f":"+CONTABILIDAD!AL12","v":9},0.375,9,1]
[null,"107729","7703133077194","TICK CHEESE 40g X 12 X 6 DE",6,12,72,0.16,396,459.36,5512.32,600,0.41666666666666669,30,11880,2376,9504,1520.64,11024.64,0,0,0,{"$error":"#DIV/0!"},null,null,null,null,null,null,null,null,null,null,null,null,null,null,null,null,null,null,null,null,null,null,null,null,null,null,null,null,0,null,{"$f":"+CONTABILIDAD!AL13","v":2.5},0.41666666666666669,30,1]
[null,"02122","7703133021227","PALOMITAS CARAMELO 68g X 36 X 1 AS",36,1,36,0.16,582,675.12,675.12,800,1.0555555555555556,38,22116,4423.2,17692.8,2830.848,20523.648000000001,0,0,0,{"$error":"#DIV/0!"},null,null,null,null,null,null,null,null,null,null,null,null,null,null,null,null,null,null,null,null,null,null,null,null,null,null,null,null,0,null,{"$f":"+CONTABILIDAD!AL14","v":38},1.0555555555555556,38,1]
[null,"102117","7703133021166","PALOMITAS CARAMELO 20g X 12 X 12 DE",12,12,144,0.16,344.8,399.96800000000002,4799.616,500,0.625,90,31032,6206.4000000000005,24825.599999999999,3972.096,28797.696,0,0,0,{"$error":"#DIV/0!"},null,null,null,null,null,null,null,null,null,null,null,null,null,null,null,null,null,null,null,null,null,null,null,null,null,null,null,null,0,null,{"$f":"+CONTABILIDAD!AL15","v":7.5},0.625,90,1]
["RIZADAS",103024,"7703133091275","RIZADAS NATURAL 30g X 12 X 6 DE",6,12,72,0.16,{"$f":"750/1.16","v":646.55172413793105},{"$f":"+I16+I16*H16","v":750},{"$f":"+J16*F16","v":9000},800,{"$f":"+N16/G16","v":1.1666666666666667},84,{"$f":"+N16*I16","v":54310.34482758621},10862.068965517243,{"$f":"+O16-P16","v":43448.275862068971},{"$f":"+Q16*H16","v":6951.7241379310353},{"$f":"+R16+Q16","v":50400.000000000007},null,null,null,null,null,null,null,null,null,null,null,null,null,null,null,null,null,null,null,null,null,null,null,null,null,null,null,null,null,null,null,null,0,null,{"$f":"+CONTABILIDAD!AL16","v":7},1.1666666666666667,84]
[null,103025,"7703133070324","RIZADAS POLLO 30g X 12 X 6 DE",6,12,72,0.16,{"$f":"750/1.16","v":646.55172413793105},750,9000,800,1.5,108,69827.586206896551,13965.517241379312,55862.068965517239,8937.9310344827591,64800,0,0,0,{"$error":"#DIV/0!"},null,null,null,null,null,null,null,null,null,null,null,null,null,null,null,null,null,null,null,null,null,null,null,null,null,null,null,null,0,null,{"$f":"+CONTABILIDAD!AL17","v":9},1.5,108,2]
[null,103026,"7703133070362","RIZADAS MAYONESA 30g X 12 X 6 DE",6,12,72,0.16,{"$f":"750/1.16","v":646.55172413793105},750,9000,800,4,288,186206.89655172414,37241.379310344833,148965.5172413793,23834.482758620688,172800,0,0,0,{"$error":"#DIV/0!"},null,null,null,null,null,null,null,null,null,null,null,null,null,null,null,null,null,null,null,null,null,null,null,null,null,null,null,null,0,null,{"$f":"+CONTABILIDAD!AL18","v":24},4,288,2]
[null,103027,"7703133070348","RIZADAS LIMON 30g X 12 X 6 DE",6,12,72,0.16,{"$f":"750/1.16","v":646.55172413793105},750,9000,800,2.6666666666666665,192,124137.93103448275,24827.586206896551,99310.344827586203,15889.655172413793,115200,0,0,0,{"$error":"#DIV/0!"},null,null,null,null,null,null,null,null,null,null,null,null,null,null,null,null,null,null,null,null,null,null,null,null,null,null,null,null,0,null,{"$f":"+CONTABILIDAD!AL19","v":16},2.6666666666666665,192]
[null,"107029","7703133070287","RIZADAS BBQ RANCHERA 28g X 12 X 6 DE",6,12,72,0.16,581.9,675.00400000000002,8100.0480000000007,800,{"$f":"+N20/G20","v":0},0,0,0,0,0,0,0,0,0,{"$error":"#DIV/0!"},null,null,null,null,null,null,null,null,null,null,null,null,null,null,null,null,null,null,null,null,null,null,null,null,null,null,null,null,0,null,{"$f":"+CONTABILIDAD!AL20","v":0},0,0]
[null,107122,null,"RIZADAS MEXICAN FUSION  28g X 12 X 6 DE",6,12,72,0.16,{"$f":"750/1.16","v":646.55172413793105},750,9000,800,0,0,0,0,0,0,0,0,0,0,{"$error":"#DIV/0!"},null,null,null,null,null,null,null,null,null,null,null,null,null,null,null,null,null,null,null,null,null,null,null,null,null,null,null,null,0,null,{"$f":"+CONTABILIDAD!AL21","v":0},0,0]
[null,"007103","7703133072922","RIZADAS NATURAL 115g X 20 X 1 AS",20,1,20,0.16,{"$f":"1750/1.16","v":1508.6206896551726},1750.0000000000002,1750.0000000000002,2300,1.45,29,43750.000000000007,8750.0000000000018,35000.000000000007,5600.0000000000009,40600.000000000007,0,0,0,{"$error":"#DIV/0!"},null,null,null,null,null,null,null,null,null,null,null,null,null,null,null,null,null,null,null,null,null,null,null,null,null,null,null,null,0,null,{"$f":"+CONTABILIDAD!AL22","v":29},1.45,29,2]
[null,"007109","7703133072946","RIZADAS MAYONESA 115g X 20 X 1 AS",20,1,20,0.16,{"$f":"1750/1.16","v":1508.6206896551726},1750.0000000000002,1750.0000000000002,2300,1.1000000000000001,22,33189.655172413797,6637.93103448276,26551.724137931036,4248.2758620689656,30800,0,0,0,{"$error":"#DIV/0!"},null,null,null,null,null,null,null,null,null,null,null,null,null,null,null,null,null,null,null,null,null,null,null,null,null,null,null,null,0,null,{"$f":"+CONTABILIDAD!AL23","v":22},1.1000000000000001,22,2]
[null,"007107","7703133072984","RIZADAS LIMON  115g X 20 X 1 AS",20,1,20,0.16,{"$f":"1750/1.16","v":1508.6206896551726},1750.0000000000002,1750.0000000000002,2300,1.05,21,31681.034482758623,6336.2068965517246,25344.827586206899,4055.1724137931037,29400.000000000004,0,0,0,{"$error":"#DIV/0!"},null,null,null,null,null,null,null,null,null,null,null,null,null,null,null,null,null,null,null,null,null,null,null,null,null,null,null,null,0,null,{"$f":"+CONTABILIDAD!AL24","v":21},1.05,21,2]
[null,"007105","7703133078856","RIZADAS POLLO 115g X 20 X 1 AS",20,1,20,0.16,{"$f":"1750/1.16","v":1508.6206896551726},1750.0000000000002,1750.0000000000002,2300,1.35,27,40732.758620689659,8146.5517241379321,32586.206896551728,5213.7931034482763,37800.000000000007,0,0,20,{"$error":"#DIV/0!"},20,null,null,null,null,null,null,null,null,null,null,null,null,null,null,null,null,null,null,null,null,null,null,null,null,null,null,null,0,null,{"$f":"+CONTABILIDAD!AL25","v":27},1.35,27,2]
[null,"007111",null,"RIZADAS MEXICAN FUSION 115g X 20 X 1 AS",20,1,20,0.16,{"$f":"1750/1.16","v":1508.6206896551726},{"$f":"+I26+I26*H26","v":1750.0000000000002},{"$f":"+J26*F26","v":1750.0000000000002},1800,{"$f":"+N26/G26","v":0},0,{"$f":"+N26*I26","v":0},0,{"$f":"+O26-P26","v":0},{"$f":"+Q26*H26","v":0},{"$f":"+R26+Q26","v":0},{"$f":"AX26*G26","v":0},{"$f":"+$W$3*T26","v":0},{"$f":"SUM(X26:AW26)","v":0},{"$f":"+V26/U26","v":{"$error":"#DIV/0!"}},null,null,null,null,null,null,null,null,null,null,null,null,null,null,null,null,null,null,null,null,null,null,null,null,null,null,null,null,0,null,{"$f":"+CONTABILIDAD!AL26","v":0},0,0]
[null,103028,"7703133072953"," RIZADAS NATURAL  45GX8X6 DE",6,8,48,0.16,758.87,{"$f":"+I27+I27*H27","v":880.28920000000005},{"$f":"+J27*F27","v":7042.3136000000004},1000,{"$f":"+N27/G27","v":1.3333333333333333},64,{"$f":"+N27*I27","v":48567.68},9713.5360000000001,{"$f":"+O27-P27","v":38854.144},{"$f":"+Q27*H27","v":6216.6630400000004},{"$f":"+R27+Q27","v":45070.80704},{"$f":"AX27*G27","v":0},{"$f":"+$W$3*T27","v":0},{"$f":"SUM(X27:AW27)","v":0},{"$f":"+V27/U27","v":{"$error":"#DIV/0!"}},null,null,null,null,null,null,null,null,null,null,null,null,null,null,null,null,null,null,null,null,null,null,null,null,null,null,null,null,null,null,{"$f":"+CONTABILIDAD!AL27","v":8},1.3333333333333333,64,10]
[null,103030,"7703133072953"," RIZADAS MAYONESA  45GX8X6 DE",6,8,48,0.16,758.87,880.28920000000005,7042.3136000000004,1000,2.1666666666666665,104,78922.48,15784.495999999999,63137.983999999997,10102.077439999999,73240.06143999999,0,0,0,{"$error":"#DIV/0!"},null,null,null,null,null,null,null,null,null,null,null,null,null,null,null,null,null,null,null,null,null,null,null,null,null,null,null,null,0,null,{"$f":"+CONTABILIDAD!AL28","v":13},2.1666666666666665,104,20]
[null,103029,"7703133073011"," RIZADAS POLLO  45GX8X6 DE",6,8,48,0.16,758.87,880.28920000000005,7042.3136000000004,1000,0,0,0,0,0,0,0,0,0,240,{"$error":"#DIV/0!"},{"$f":"48*5","v":240},null,null,null,null,null,null,null,null,null,null,null,null,null,null,null,null,null,null,null,null,null,null,null,null,null,null,null,0,null,{"$f":"+CONTABILIDAD!AL29","v":0},0,0,20]
[null,103031,"7703133072991"," RIZADAS LIMON  45GX8X6 DE",6,8,48,0.16,758.87,880.28920000000005,7042.3136000000004,1000,2.5,120,91064.4,18212.88,72851.51999999999,11656.243199999999,84507.763199999987,0,0,0,{"$error":"#DIV/0!"},null,null,null,null,null,null,null,null,null,null,null,null,null,null,null,null,null,null,null,null,null,null,null,null,null,null,null,null,0,null,{"$f":"+CONTABILIDAD!AL30","v":15},2.5,120,20]
["LIZAS",106982,"7703133070409","LIZA´S S/TOMATE 30g X 12 X 5 DE",5,12,60,0.16,{"$f":"750/1.16","v":646.55172413793105},750,9000,800,0.7,42,27155.172413793105,5431.0344827586214,21724.137931034486,3475.8620689655177,25200.000000000004,0,0,0,{"$error":"#DIV/0!"},null,null,null,null,null,null,null,null,null,null,null,null,null,null,null,null,null,null,null,null,null,null,null,null,null,null,null,null,0,null,{"$f":"+CONTABILIDAD!AL31","v":3.5},0.7,42,10]
[null,106983,"7703133072423","LIZA´S S/ROSADA 30g X 12 X 5 DE",5,12,60,0.16,{"$f":"750/1.16","v":646.55172413793105},750,9000,800,3.7,222,143534.4827586207,28706.896551724141,114827.58620689655,18372.413793103449,133200,0,0,0,{"$error":"#DIV/0!"},null,null,null,null,null,null,null,null,null,null,null,null,null,null,null,null,null,null,null,null,null,null,null,null,null,null,null,null,0,null,{"$f":"+CONTABILIDAD!AL32","v":18.5},3.7,222,15]
[null,107380,"7703133070461","LIZA'S POLLO 30g X 12 X 5 DE",5,12,60,0.16,{"$f":"750/1.16","v":646.55172413793105},750,9000,800,9.9,594,384051.72413793101,76810.344827586203,307241.37931034481,49158.620689655174,356400,0,0,0,{"$error":"#DIV/0!"},null,null,null,null,null,null,null,null,null,null,null,null,null,null,null,null,null,null,null,null,null,null,null,null,null,null,null,null,0,null,{"$f":"+CONTABILIDAD!AL33","v":49.5},9.9,594,5]
[null,107132,"7703133070447","LIZA´S LIMÓN 30g X 12 X 5 DE",5,12,60,0.16,{"$f":"750/1.16","v":646.55172413793105},750,9000,800,4.5999999999999996,276,178448.27586206896,35689.65517241379,142758.62068965516,22841.379310344826,165600,0,0,0,{"$error":"#DIV/0!"},null,null,null,null,null,null,null,null,null,null,null,null,null,null,null,null,null,null,null,null,null,null,null,null,null,null,null,null,0,null,{"$f":"+CONTABILIDAD!AL34","v":23},4.5999999999999996,276,5]
["MIXTOS","07260","7703133072380","EL GOLPE 110g X 24 X 1  AS",24,1,24,0.16,1379.31,1599.9995999999999,1599.9995999999999,1800,0,0,0,0,0,0,0,0,0,24,{"$error":"#DIV/0!"},24,null,null,null,null,null,null,null,null,null,null,null,null,null,null,null,null,null,null,null,null,null,null,null,null,null,null,null,0,null,{"$f":"+CONTABILIDAD!AL35","v":0},0,0]
[null,107258,"7703133077231","GOLPE 30g X  12  X  6 DE",6,12,72,0.16,435.34,504.99439999999998,6059.9327999999996,1000,0,0,0,0,0,0,0,null,null,null,null,null,null,null,null,null,null,null,null,null,null,null,null,null,null,null,null,null,null,null,null,null,null,null,null,null,null,null,null,null,null,{"$f":"+CONTABILIDAD!AL36","v":0},0,0]
[null,"107726","7703133077231","GOLPE MIX 45g X  8  X  6 DE",6,8,48,0.16,{"$f":"940/1.16","v":810.34482758620697},940.00000000000011,7520.0000000000009,1000,7.5,360,291724.13793103449,58344.827586206899,233379.31034482759,37340.689655172413,270720,0,0,0,{"$error":"#DIV/0!"},null,null,null,null,null,null,null,null,null,null,null,null,null,null,null,null,null,null,null,null,null,null,null,null,null,null,null,null,0,null,{"$f":"+CONTABILIDAD!AL37","v":45},7.5,360,3]
[null,"107836","7703133072571","EL GOLPE 45 gr 8 X 6 DE",6,8,48,0.16,{"$f":"940/1.16","v":810.34482758620697},940.00000000000011,7520.0000000000009,1000,8.1666666666666661,392,317655.17241379316,63531.034482758638,254124.13793103452,40659.862068965522,294784.00000000006,0,0,144,{"$error":"#DIV/0!"},{"$f":"48*3","v":144},null,null,null,null,null,null,null,null,null,null,null,null,null,null,null,null,null,null,null,null,null,null,null,null,null,null,null,0,null,{"$f":"+CONTABILIDAD!AL38","v":49},8.1666666666666661,392,5]
[null,"107254","7703133072540","EL GOLPE LIMON 45 gr 8 X 6 DE",6,8,48,0.16,810.34482758620697,940.00000000000011,7520.0000000000009,1000,6,288,233379.31034482759,46675.862068965522,186703.44827586209,29872.551724137935,216576.00000000003,0,0,0,{"$error":"#DIV/0!"},null,null,null,null,null,null,null,null,null,null,null,null,null,null,null,null,null,null,null,null,null,null,null,null,null,null,null,null,0,null,{"$f":"+CONTABILIDAD!AL39","v":36},6,288,8]
[null,"107261","7703133072533","EL GOLPE RANCHERO 45G X 8 X 6 DE",6,8,48,0.16,810.34482758620697,940.00000000000011,7520.0000000000009,1000,6.5,312,252827.58620689658,50565.517241379319,202262.06896551728,32361.931034482765,234624.00000000003,0,0,480,{"$error":"#DIV/0!"},480,null,null,null,null,null,null,null,null,null,null,null,null,null,null,null,null,null,null,null,null,null,null,null,null,null,null,null,0,null,{"$f":"+CONTABILIDAD!AL40","v":39},6.5,312,8]
[null,107590,"7703133072496","GOLPE RANCHERO 140 GR  17 X 1 AS",17,1,{"$f":"+E41*F41","v":17},0.16,2161,{"$f":"+I41+I41*H41","v":2506.7600000000002},{"$f":"+J41*F41","v":2506.7600000000002},2800,{"$f":"+N41/G41","v":0},0,{"$f":"+N41*I41","v":0},0,{"$f":"+O41-P41","v":0},{"$f":"+Q41*H41","v":0},{"$f":"+R41+Q41","v":0},{"$f":"AX41*G41","v":0},{"$f":"+$W$3*T41","v":0},{"$f":"SUM(X41:AW41)","v":0},{"$f":"+V41/U41","v":{"$error":"#DIV/0!"}},null,null,null,null,null,null,null,null,null,null,null,null,null,null,null,null,null,null,null,null,null,null,null,null,null,null,null,null,0,null,{"$f":"+CONTABILIDAD!AL41","v":0},0,0]
[null,107465,null,"WOW MIX NATURAL 45 gr X 8 X 6 DE",6,8,{"$f":"+E42*F42","v":48},0.16,810.34482758620697,{"$f":"+I42+I42*H42","v":940.00000000000011},{"$f":"+J42*F42","v":7520.0000000000009},1000,{"$f":"+N42/G42","v":1.1666666666666667},56,{"$f":"+N42*I42","v":45379.310344827594},9075.8620689655199,{"$f":"+O42-P42","v":36303.448275862072},{"$f":"+Q42*H42","v":5808.5517241379321},{"$f":"+R42+Q42","v":42112.000000000007},{"$f":"AX42*G42","v":0},{"$f":"+$W$3*T42","v":0},{"$f":"SUM(X42:AW42)","v":0},{"$f":"+V42/U42","v":{"$error":"#DIV/0!"}},null,null,null,null,null,null,null,null,null,null,null,null,null,null,null,null,null,null,null,null,null,null,null,null,null,null,null,null,0,null,{"$f":"+CONTABILIDAD!AL42","v":7},1.1666666666666667,56]
[null,107445,null,"WOW MIX QUESO 45 gr X 8 X 6 DE",6,8,{"$f":"+E43*F43","v":48},0.16,810.34482758620697,{"$f":"+I43+I43*H43","v":940.00000000000011},{"$f":"+J43*F43","v":7520.0000000000009},1000,{"$f":"+N43/G43","v":0.5},24,{"$f":"+N43*I43","v":19448.275862068967},3889.6551724137935,{"$f":"+O43-P43","v":15558.620689655174},{"$f":"+Q43*H43","v":2489.3793103448279},{"$f":"+R43+Q43","v":18048},{"$f":"AX43*G43","v":0},{"$f":"+$W$3*T43","v":0},{"$f":"SUM(X43:AW43)","v":0},{"$f":"+V43/U43","v":{"$error":"#DIV/0!"}},null,null,null,null,null,null,null,null,null,null,null,null,null,null,null,null,null,null,null,null,null,null,null,null,null,null,null,null,0,null,{"$f":"+CONTABILIDAD!AL43","v":3},0.5,24,1]
[null,107447,null,"WOW MIX BBQ 45 gr X 8 X 6 DE",6,8,{"$f":"+E44*F44","v":48},0.16,810.34482758620697,{"$f":"+I44+I44*H44","v":940.00000000000011},{"$f":"+J44*F44","v":7520.0000000000009},1000,{"$f":"+N44/G44","v":1.6666666666666667},80,{"$f":"+N44*I44","v":64827.586206896558},12965.517241379312,{"$f":"+O44-P44","v":51862.068965517246},{"$f":"+Q44*H44","v":8297.9310344827591},{"$f":"+R44+Q44","v":60160.000000000007},{"$f":"AX44*G44","v":0},{"$f":"+$W$3*T44","v":0},{"$f":"SUM(X44:AW44)","v":240},{"$f":"+V44/U44","v":{"$error":"#DIV/0!"}},{"$f":"48*5","v":240},null,null,null,null,null,null,null,null,null,null,null,null,null,null,null,null,null,null,null,null,null,null,null,null,null,null,null,0,null,{"$f":"+CONTABILIDAD!AL44","v":10},1.6666666666666667,80,1]
["TOSTIS","007226","7703133072380","TOSTI AREPAS 150g X 17 X 1 AS",17,1,17,0.1,1545,1699.5,1699.5,1800,0,0,0,0,0,0,0,0,0,0,{"$error":"#DIV/0!"},null,null,null,null,null,null,null,null,null,null,null,null,null,null,null,null,null,null,null,null,null,null,null,null,null,null,null,null,0,null,{"$f":"+CONTABILIDAD!AL45","v":0},0,0]
[null,103032,"7703133072274","COMBO TOSTI  SUR",6,1,6,0.1,{"$f":"4000/1.1","v":3636.363636363636},3999.9999999999995,3999.9999999999995,500,3,18,65454.545454545449,13090.90909090909,52363.63636363636,5236.363636363636,57600,0,0,72,{"$error":"#DIV/0!"},72,null,null,null,null,null,null,null,null,null,null,null,null,null,null,null,null,null,null,null,null,null,null,null,null,null,null,null,0,null,{"$f":"+CONTABILIDAD!AL46","v":18},3,18]
[null,107228,null,"TOSTI AREPAS 28g X 12 X 6 ",6,12,{"$f":"+E47*F47","v":72},0.1,364,{"$f":"+I47+I47*H47","v":400.4},{"$f":"+J47*F47","v":4804.7999999999993},500,{"$f":"+N47/G47","v":0},0,{"$f":"+N47*I47","v":0},{"$f":"+O47*$O$85","v":0},{"$f":"+O47-P47","v":0},{"$f":"+Q47*H47","v":0},{"$f":"+R47+Q47","v":0},null,null,null,null,null,null,null,null,null,null,null,null,null,null,null,null,null,null,null,null,null,null,null,null,null,null,null,null,null,null,null,null,null,null,{"$f":"+CONTABILIDAD!AL47","v":0},0,0]
[null,"107240","7703133072397","TOSTI EMPANADA CARNE 28GX12X6 DE",6,12,72,0.1,364,400.4,4804.7999999999993,500,1.5,108,39312,7862.4000000000005,31449.599999999999,3144.96,34594.559999999998,0,0,0,{"$error":"#DIV/0!"},null,null,null,null,null,null,null,null,null,null,null,null,null,null,null,null,null,null,null,null,null,null,null,null,null,null,null,null,0,null,{"$f":"+CONTABILIDAD!AL48","v":9},1.5,108,1]
[null,"107234","7703133072335","TOSTI EMPANADA LIMON 28 G X 12 X 6  DE",6,12,72,0.1,364,400.4,4804.7999999999993,500,4.833333333333333,348,126672,25334.400000000001,101337.60000000001,10133.760000000002,111471.36000000002,0,0,1080,{"$error":"#DIV/0!"},{"$f":"72*15","v":1080},null,null,null,null,null,null,null,null,null,null,null,null,null,null,null,null,null,null,null,null,null,null,null,null,null,null,null,0,null,{"$f":"+CONTABILIDAD!AL49","v":29},4.833333333333333,348,6]
[null,"107220","7703133072199","TOSTI PIZZA POLLO 28G X 12 X 6 DE",6,12,72,0.1,364,400.4,4804.7999999999993,500,0,0,0,0,0,0,0,0,0,72,{"$error":"#DIV/0!"},72,null,null,null,null,null,null,null,null,null,null,null,null,null,null,null,null,null,null,null,null,null,null,null,null,null,null,null,0,null,{"$f":"+CONTABILIDAD!AL50","v":0},0,0]
[null,"107222","7703133072199","TOSTI PIZZA QUESO 28G X 12 X 6 DE",6,12,72,0.1,364,400.4,4804.7999999999993,500,0,0,0,0,0,0,0,0,0,0,{"$error":"#DIV/0!"},null,null,null,null,null,null,null,null,null,null,null,null,null,null,null,null,null,null,null,null,null,null,null,null,null,null,null,null,0,null,{"$f":"+CONTABILIDAD!AL51","v":0},0,0]
[null,"107333",null,"TOSTI NACHOS QUESO 28 GR X 12 X 6 DE",6,12,72,0.1,364,400.4,4804.7999999999993,500,1,72,26208,5241.6000000000004,20966.400000000001,2096.6400000000003,23063.040000000001,0,0,144,{"$error":"#DIV/0!"},{"$f":"72*2","v":144},null,null,null,null,null,null,null,null,null,null,null,null,null,null,null,null,null,null,null,null,null,null,null,null,null,null,null,0,null,{"$f":"+CONTABILIDAD!AL52","v":6},1,72,1]
[null,"107231","7703133072304","TOSTIEMPANADA QUESO PICANTE 28G X 12 X 6",6,12,72,0.1,364,400.4,4804.7999999999993,500,0,0,0,0,0,0,0,0,0,0,{"$error":"#DIV/0!"},null,null,null,null,null,null,null,null,null,null,null,null,null,null,null,null,null,null,null,null,null,null,null,null,null,null,null,null,0,null,{"$f":"+CONTABILIDAD!AL53","v":0},0,0]
[null,"107335",null,"TOSTI NACHOS CHILE LIMON 28 GR X 12 X 6",6,12,72,0.1,364,400.4,4804.7999999999993,500,0,0,0,0,0,0,0,0,0,0,{"$error":"#DIV/0!"},null,null,null,null,null,null,null,null,null,null,null,null,null,null,null,null,null,null,null,null,null,null,null,null,null,null,null,null,0,null,{"$f":"+CONTABILIDAD!AL54","v":0},0,0]
[null,"107485","7703133079996","TOSTI PLATANITOS 30 GR X 12 X 6 DE",6,12,72,0.16,388,450.08,5400.96,600,0,0,0,0,0,0,0,0,0,72,{"$error":"#DIV/0!"},72,null,null,null,null,null,null,null,null,null,null,null,null,null,null,null,null,null,null,null,null,null,null,null,null,null,null,null,0,null,{"$f":"+CONTABILIDAD!AL55","v":0},0,0]
[null,"107561",null,"TOSTI NACHOS 45 GR  8 X 6",6,8,48,0.1,{"$f":"650/1.1","v":590.90909090909088},650,5200,800,0,0,0,0,0,0,0,0,0,0,{"$error":"#DIV/0!"},null,null,null,null,null,null,null,null,null,null,null,null,null,null,null,null,null,null,null,null,null,null,null,null,null,null,null,null,null,null,{"$f":"+CONTABILIDAD!AL56","v":0},0,0]
[null,"007337","7703133079996","TOSTI NACHOS CHILE LIMON 150 GR X 17 X 1 AS",17,1,17,0.1,1545,{"$f":"+I57+I57*H57","v":1699.5},{"$f":"+J57*F57","v":1699.5},1800,{"$f":"+N57/G57","v":0},0,{"$f":"+N57*I57","v":0},0,{"$f":"+O57-P57","v":0},{"$f":"+Q57*H57","v":0},{"$f":"+R57+Q57","v":0},{"$f":"AX57*G57","v":0},0,{"$f":"SUM(X57:AW57)","v":0},{"$f":"+V57/U57","v":{"$error":"#DIV/0!"}},null,null,null,null,null,null,null,null,null,null,null,null,null,null,null,null,null,null,null,null,null,null,null,null,null,null,null,null,0,null,{"$f":"+CONTABILIDAD!AL57","v":0},0,0]
[null,"007338","7703133079996","TOSTI NACHOS QUESO 150 GR X 17 X 1 AS",17,1,17,0.1,1545,{"$f":"+I58+I58*H58","v":1699.5},{"$f":"+J58*F58","v":1699.5},1800,{"$f":"+N58/G58","v":0},0,{"$f":"+N58*I58","v":0},0,{"$f":"+O58-P58","v":0},{"$f":"+Q58*H58","v":0},{"$f":"+R58+Q58","v":0},{"$f":"AX58*G58","v":0},0,{"$f":"SUM(X58:AW58)","v":0},{"$f":"+V58/U58","v":{"$error":"#DIV/0!"}},null,null,null,null,null,null,null,null,null,null,null,null,null,null,null,null,null,null,null,null,null,null,null,null,null,null,null,null,0,null,{"$f":"+CONTABILIDAD!AL58","v":0},0,0]
["OTROS","107574","77031330200227","MEKATROCITOS POLLO 28 GR X 12 X 8 DE",8,12,96,0.1,273,300.3,3603.6000000000004,400,-0.875,-84,-22932,-4586.4000000000005,-18345.599999999999,-1834.56,-20180.16,0,0,0,{"$error":"#DIV/0!"},null,null,null,null,null,null,null,null,null,null,null,null,null,null,null,null,null,null,null,null,null,null,null,null,null,null,null,null,0,null,{"$f":"+CONTABILIDAD!AL59","v":-7},-0.875,-84,10]
[null,"02424","7703133024242","TOZINETAS FRED 40g X 40 X 1 AS",40,1,40,0.16,954.55,1107.278,1107.278,1280,0,0,0,0,0,0,0,0,0,0,{"$error":"#DIV/0!"},null,null,null,null,null,null,null,null,null,null,null,null,null,null,null,null,null,null,null,null,null,null,null,null,null,null,null,null,0,null,{"$f":"+CONTABILIDAD!AL60","v":0},0,0]
[null,107385,"7703133024211","TOZINETAS FRED 25G X 48  DE",48,1,48,0.16,498,577.68000000000006,577.68000000000006,600,1.0416666666666667,50,24900,4980,19920,3187.2000000000003,23107.200000000001,0,0,48,{"$error":"#DIV/0!"},48,null,null,null,null,null,null,null,null,null,null,null,null,null,null,null,null,null,null,null,null,null,null,null,null,null,null,null,0,null,{"$f":"+CONTABILIDAD!AL61","v":50},1.0416666666666667,50,1]
[null,"102411","7703133024105","COSTILLITAS FRED 25GX 48 DE",48,1,48,0.16,498,577.68000000000006,577.68000000000006,700,0.64583333333333337,31,15438,3087.6000000000004,12350.4,1976.0640000000001,14326.464,0,0,48,{"$error":"#DIV/0!"},48,null,null,null,null,null,null,null,null,null,null,null,null,null,null,null,null,null,null,null,null,null,null,null,null,null,null,null,0,null,{"$f":"+CONTABILIDAD!AL62","v":31},0.64583333333333337,31]
[null,107996,null,"PAPAS CHIPS 45 GRMS",48,1,48,0.16,646.79999999999995,750.28800000000001,750.28800000000001,900,0,0,0,0,0,0,0,0,0,null,null,null,null,null,null,null,null,null,null,null,null,null,null,null,null,null,null,null,null,null,null,null,null,null,null,null,null,null,null,null,null,{"$f":"+CONTABILIDAD!AL63","v":0},0,0]
[null,108006,null,"PAPAS CHIPS 150 GRMS",17,1,{"$f":"+E64*F64","v":17},0.16,1939.7,{"$f":"+I64+I64*H64","v":2250.0520000000001},{"$f":"+J64*F64","v":2250.0520000000001},900,{"$f":"+N64/G64","v":0},0,{"$f":"+N64*I64","v":0},{"$f":"+O64*$O$85","v":0},{"$f":"+O64-P64","v":0},{"$f":"+Q64*H64","v":0},{"$f":"+R64+Q64","v":0},null,null,null,null,null,null,null,null,null,null,null,null,null,null,null,null,null,null,null,null,null,null,null,null,null,null,null,null,null,null,null,null,null,null,{"$f":"+CONTABILIDAD!AL64","v":0},0,0]
[null,"07795","7703133077958","LONCHERA DIVERTIDA 241g X 12 AS",12,1,12,0.16,3275.8620999999998,3800.0000359999999,3800.0000359999999,4650,8.0833333333333339,97,317758.6237,63551.724740000005,254206.89895999999,40673.103833599998,294880.00279359997,0,0,12,{"$error":"#DIV/0!"},12,null,null,null,null,null,null,null,null,null,null,null,null,null,null,null,null,null,null,null,null,null,null,null,null,null,null,null,0,null,{"$f":"+CONTABILIDAD!AL65","v":97},8.0833333333333339,97,10]
[null,"02156","7703133023979","LONCHIPACK 309g X 12 X 12 AS",12,1,12,0.16,4051.72,4699.9951999999994,4699.9951999999994,6050,0,null,0,0,0,0,0,0,0,0,{"$error":"#DIV/0!"},null,null,null,null,null,null,null,null,null,null,null,null,null,null,null,null,null,null,null,null,null,null,null,null,null,null,null,null,null,null,{"$f":"+CONTABILIDAD!AL66","v":0},0,0]
["CRESPAS","100008",null,"MEKATO NATURAL 25 GR X 12 X 6",12,6,72,0.16,474.16,550.02560000000005,3300.1536000000006,700,0,null,0,0,0,0,0,0,0,0,{"$error":"#DIV/0!"},null,null,null,null,null,null,null,null,null,null,null,null,null,null,null,null,null,null,null,null,null,null,null,null,null,null,null,null,null,null,{"$f":"+CONTABILIDAD!AL67","v":0},0,0]
[null,"100009",null,"MEKATO LIMON 25 GR X 12 X 6",12,6,72,0.16,474.16,550.02560000000005,3300.1536000000006,700,0,null,0,0,0,0,0,0,0,0,{"$error":"#DIV/0!"},null,null,null,null,null,null,null,null,null,null,null,null,null,null,null,null,null,null,null,null,null,null,null,null,null,null,null,null,null,null,{"$f":"+CONTABILIDAD!AL68","v":0},0,0]
[null,100002,null,"CRESPAS SALSA TOMATE 25 GR",12,6,72,0.16,505,585.79999999999995,3514.7999999999997,700,0,null,0,0,0,0,0,0,0,0,{"$error":"#DIV/0!"},null,null,null,null,null,null,null,null,null,null,null,null,null,null,null,null,null,null,null,null,null,null,null,null,null,null,null,null,null,null,{"$f":"+CONTABILIDAD!AL69","v":0},0,0]
[null,100003,null,"CRESPAS LIMON 25 GR",12,6,72,0.16,505,585.79999999999995,3514.7999999999997,700,0,null,0,0,0,0,0,0,0,0,{"$error":"#DIV/0!"}]
[null,100004,null,"CRESPAS POLLO 25 GR",12,6,72,0.16,505,585.79999999999995,3514.7999999999997,700,0,null,0,0,0,0,0,0,0,0,{"$error":"#DIV/0!"}]
["MEKATO","100144",null,"ROSKOTAS AREQUIPE 14G X 12 X 7",7,12,84,0.1,436.38,480.01800000000003,6074.4096,700,0,null,0,{"$f":"+O72*$O$85","v":0},0,0,0,0,0,0,{"$error":"#DIV/0!"}]
[null,"000034",null,"MEKATO ESCOLAR 205 GR X 24 ",24,1,24,0.16,2844.82,3299.9912000000004,{"$f":"+J73*F73","v":3299.9912000000004},200,0,null,0,0,0,0,0]
[null,"100126",null,"TICOS 9 G X 12 X 12",12,12,144,0.16,86.21,100.00359999999999,1200.0431999999998,200,0,null,0,0,0,0,0,0,0,0,{"$f":"+V74/U74","v":{"$error":"#DIV/0!"}}]
[null,100138,null,"TICOS PICANTE 9 G X 12 X 20",12,20,240,0.16,133.62,154.9992,3099.9839999999999,200,0,null,0,0,0,0,0]
[null,"000127",null,"TICOS 38G X 36",36,1,36,0.16,327.58999999999997,380.00439999999998,380.00439999999998,500,0,null,0,0,0,0,0,0,0,0,{"$error":"#DIV/0!"}]
[null,"100130",null,"TICOS QUESO 12 G X 12 X 20",20,12,240,0.16,129.31,149.99960000000002,1799.9952000000003,200,0,null,0,0,0,0,0,0,0,0,{"$error":"#DIV/0!"}]
[null,"000152",null,"TICOS QUESO 38 G X 36",36,1,36,0.16,344.82760000000002,400.00001600000002,400.00001600000002,500,0,null,0,0,0,0,0,0,0,360,{"$error":"#DIV/0!"},360]
[null,"100137",null,"TICOS QUESO 8 G  X 12 X 20",20,12,240,0.16,133.62,154.9992,1859.9904000000001,500,0,null,0,0,0,0,0,0,0,0,{"$error":"#DIV/0!"}]
[null,100153,null,"TICOS POLLO 9G 12 X 20",12,20,240,0.16,133.62,154.9992,3099.9839999999999,200,0,null,0,0,0,0,0,0,0,1200,{"$error":"#DIV/0!"},{"$f":"240*5","v":1200}]
[null,"000128",null,"TICOS POLLO 38 G X 36",36,1,36,0.16,345,400.2,400.2,500,0,null,0,0,0,0,0,0,0,0,{"$error":"#DIV/0!"}]
[null,"000151",null,"TICOS CARAMELO 38 G X 36",36,1,36,0.16,344.82760000000002,400.00001600000002,400.00001600000002,500,0,null,0,0,0,0,0,0,0,0,{"$error":"#DIV/0!"}]
[null,"000150","7703133023979","TICO PICANTE 38G X 36",36,1,36,0.16,327.58620000000002,379.99999200000002,379.99999200000002,500,0,null,{"$f":"+N83*I83","v":0},0,{"$f":"+O83-P83","v":0},{"$f":"+Q83*H83","v":0},{"$f":"+R83+Q83","v":0},0,0,108,{"$error":"#DIV/0!"},{"$f":"36*3","v":108},null,null,null,null,null,null,null,null,null,null,null,null,null,null,null,null,null,null,null,null,null,null,null,null,null,null,null,0]
["CUPO CREDITO TOTAL",null,0," ","CUPO ACTUAL",0,null,null,null,null,null,null,{"$f":"SUM(M5:M83)","v":162.40694444444446},{"$f":"S84/1000","v":4583.7556968735998},{"$f":"SUM(O5:O83)","v":4951532.3222579928},990306.46445159893,3961225.8578063957,622529.83906720509,4583755.6968735997,0,0,6044,{"$error":"#DIV/0!"},null,null,null,null,null,null,null,null,null,null,null,null,null,null,null,null,null,null,null,null,null,null,null,null,null,null,{"$f":"SUM(AX5:AX83)","v":0},{"$f":"SUM(AY5:AY83)","v":0},{"$f":"SUM(AZ5:AZ83)","v":0}]
[null,null,0,null,null,null,null,null,null,null,null,null,null,null,{"$f":"S1","v":0.2}]

{"sheet":"CONTABILIDAD","index":6,"n_rows":121,"n_cols":38,"rows_kept":121,"cut":false,"hidden":false,"merged":[[0,4,0,6],[0,12,0,13],[1,4,1,6],[1,12,1,13],[2,4,2,6],[2,12,2,13],[66,0,70,0],[71,0,82,0],[83,0,83,1],[83,5,83,6],[4,0,14,0],[15,0,29,0],[30,0,33,0],[34,0,43,0],[44,0,57,0],[58,0,65,0]]}
[null,null,null,"FRANQUICIADO",null,null,null,"CONTABILIDAD",null,null,null,null,"DESCUENTO",null,null,null,null,null,0.2]
[null,null,null,"CODIGO",null,null,null,null,null,null,null,null,"ZONA"]
[null,null,null,"FECHA",{"$f":"TODAY()","v":"2012-09-10"},null,null,null,null,null,null,null,"VALOR PEDIDO",null,null,null,null,null,{"$f":"S84","v":0}]
[null,"Codigo","Codigo Barras","Descripción","Displays por paca","Unds por Display","Unds por Paca","Iva","Precio Antes de Iva","Precio incluido IVA","Valor Display al tendero","PVP Sugerido (Und)","PACAS","UNIDADES","v.antes iva","Descuento","total","iva","Total a Pagar","PRECIO VTA","inventario contable sept 11",null,null,null,null,null,null,"total compras",null,null,null,null,null,null,null,null,"total ventas","saldo"]
["EXTRUIDOS",101,7703133078771,"YUPIS QUESO 45g X 36 X 1 AS",36,1,{"$f":"+E5*F5","v":36},0.16,560,{"$f":"+I5+I5*H5","v":649.6},{"$f":"+J5*F5","v":649.6},700,{"$f":"+N5/G5","v":0},null,{"$f":"+N5*I5","v":0},{"$f":"+O5*$O$85","v":0},{"$f":"+O5-P5","v":0},{"$f":"+Q5*H5","v":0},{"$f":"+R5+Q5","v":0},650,217,null,null,null,null,null,null,{"$f":"SUM(V5:AA5)","v":0},null,null,null,null,null,null,null,null,{"$f":"SUM(AC5:AJ5)","v":0},{"$f":"+U5+AB5-AK5","v":217}]
[null,102,7703133077309,"YUPIS SALADO 60g X 36 X 1 AS",36,1,{"$f":"+E6*F6","v":36},0.16,{"$f":"650/1.16","v":560.34482758620697},650.00000000000011,650.00000000000011,700,0,null,0,0,0,0,0,650,725,null,null,null,null,null,null,{"$f":"SUM(V6:AA6)","v":0},null,null,null,null,null,null,null,null,{"$f":"SUM(AC6:AJ6)","v":0},725]
[null,103,null,"YUPIS PICANTE 45g X 36 X 1 AS",36,1,36,0.16,{"$f":"650/1.16","v":560.34482758620697},650.00000000000011,650.00000000000011,700,0,null,0,0,0,0,0,650,294,null,null,null,null,null,null,0,null,null,null,null,null,null,null,null,0,294]
[null,104,7703133078818,"YUPI  CARAMELO 50gX36X1 AS",36,1,36,0.16,{"$f":"650/1.16","v":560.34482758620697},650.00000000000011,650.00000000000011,700,0,null,0,0,0,0,0,650,732,null,null,null,null,null,null,0,null,null,null,null,null,null,null,null,0,732]
[null,105,null,"YUPI  AREQUIQUESO 45grX36",36,1,36,0.16,{"$f":"650/1.16","v":560.34482758620697},{"$f":"+I9+I9*H9","v":650.00000000000011},{"$f":"+J9*F9","v":650.00000000000011},700,0,null,{"$f":"+N9*I9","v":0},0,{"$f":"+O9-P9","v":0},{"$f":"+Q9*H9","v":0},0,650,128,null,null,null,null,null,null,0,null,null,null,null,null,null,null,null,0,128]
[null,106,null,"YUPI UVA 45grX36",36,1,36,0.16,{"$f":"650/1.16","v":560.34482758620697},{"$f":"+I10+I10*H10","v":650.00000000000011},{"$f":"+J10*F10","v":650.00000000000011},700,0,null,{"$f":"+N10*I10","v":0},0,{"$f":"+O10-P10","v":0},{"$f":"+Q10*H10","v":0},0,650,0,null,null,null,null,null,null,0,null,null,null,null,null,null,null,null,0,0]
[null,107,7703133021739,"YUPIS SALADO 10g X  12 X 20 DE",20,12,240,0.16,{"$f":"144/1.16","v":124.13793103448276},144,1728,200,0,null,0,0,0,0,0,1750,236,null,null,null,null,null,null,0,null,null,null,null,null,null,null,null,0,236]
[null,108,7703133077248,"TICK CHEESE 100G X 24 X 1 AS",24,1,24,0.16,767.2,889.952,889.952,1000,0,null,0,0,0,0,0,900,9,null,null,null,null,null,null,0,null,null,null,null,null,null,null,null,0,9]
[null,109,7703133077194,"TICK CHEESE 40g X 12 X 6 DE",6,12,72,0.16,396,459.36,5512.32,600,0,null,0,0,0,0,0,6720,2.5,null,null,null,null,null,null,0,null,null,null,null,null,null,null,null,0,2.5]
[null,110,7703133021227,"PALOMITAS CARAMELO 68g X 36 X 1 AS",36,1,36,0.16,582,675.12,675.12,800,0,null,0,0,0,0,0,700,38,null,null,null,null,null,null,0,null,null,null,null,null,null,null,null,0,38]
[null,111,7703133021166,"PALOMITAS CARAMELO 20g X 12 X 12 DE",12,12,144,0.16,344.8,399.96800000000002,4799.616,500,0,null,0,0,0,0,0,5000,7.5,null,null,null,null,null,null,0,null,null,null,null,null,null,null,null,0,7.5]
["RIZADAS",112,7703133091275,"RIZADAS NATURAL 30g X 12 X 6 DE",6,12,72,0.16,{"$f":"750/1.16","v":646.55172413793105},{"$f":"+I16+I16*H16","v":750},{"$f":"+J16*F16","v":9000},800,{"$f":"+N16/G16","v":0},null,{"$f":"+N16*I16","v":0},0,{"$f":"+O16-P16","v":0},{"$f":"+Q16*H16","v":0},{"$f":"+R16+Q16","v":0},9000,7,null,null,null,null,null,null,0,null,null,null,null,null,null,null,null,0,7]
[null,113,7703133070324,"RIZADAS POLLO 30g X 12 X 6 DE",6,12,72,0.16,{"$f":"750/1.16","v":646.55172413793105},750,9000,800,0,null,0,0,0,0,0,9000,9,null,null,null,null,null,null,0,null,null,null,null,null,null,null,null,0,9]
[null,114,7703133070362,"RIZADAS MAYONESA 30g X 12 X 6 DE",6,12,72,0.16,{"$f":"750/1.16","v":646.55172413793105},750,9000,800,0,null,0,0,0,0,0,9000,24,null,null,null,null,null,null,0,null,null,null,null,null,null,null,null,0,24]
[null,115,7703133070348,"RIZADAS LIMON 30g X 12 X 6 DE",6,12,72,0.16,{"$f":"750/1.16","v":646.55172413793105},750,9000,800,0,null,0,0,0,0,0,9000,16,null,null,null,null,null,null,0,null,null,null,null,null,null,null,null,0,16]
[null,116,7703133070287,"RIZADAS BBQ RANCHERA 28g X 12 X 6 DE",6,12,72,0.16,581.9,675.00400000000002,8100.0480000000007,800,{"$f":"+N20/G20","v":0},null,0,0,0,0,0,9000,0,null,null,null,null,null,null,0,null,null,null,null,null,null,null,null,0,0]
[null,117,null,"RIZADAS MEXICAN FUSION  28g X 12 X 6 DE",6,12,72,0.16,{"$f":"750/1.16","v":646.55172413793105},750,9000,800,0,null,0,0,0,0,0,9000,0,null,null,null,null,null,null,{"$f":"SUM(V21:AA21)","v":0},null,null,null,null,null,null,null,null,0,0]
[null,118,7703133072922,"RIZADAS NATURAL 115g X 20 X 1 AS",20,1,20,0.16,{"$f":"1750/1.16","v":1508.6206896551726},1750.0000000000002,1800,2300,0,null,0,0,0,0,0,1800,29,null,null,null,null,null,null,0,null,null,null,null,null,null,null,null,0,29]
[null,119,7703133072946,"RIZADAS MAYONESA 115g X 20 X 1 AS",20,1,20,0.16,{"$f":"1750/1.16","v":1508.6206896551726},1750.0000000000002,1800,2300,0,null,0,0,0,0,0,1800,22,null,null,null,null,null,null,0,null,null,null,null,null,null,null,null,0,22]
[null,120,7703133072984,"RIZADAS LIMON  115g X 20 X 1 AS",20,1,20,0.16,{"$f":"1750/1.16","v":1508.6206896551726},1750.0000000000002,1800,2300,0,null,0,0,0,0,0,1800,21,null,null,null,null,null,null,0,null,null,null,null,null,null,null,null,0,21]
[null,121,7703133078856,"RIZADAS POLLO 115g X 20 X 1 AS",20,1,20,0.16,{"$f":"1750/1.16","v":1508.6206896551726},1750.0000000000002,1800,2300,0,null,0,0,0,0,0,1800,27,null,null,null,null,null,null,0,null,null,null,null,null,null,null,null,0,27]
[null,122,null,"RIZADAS MEXICAN FUSION 115g X 20 X 1 AS",20,1,20,0.16,{"$f":"1750/1.16","v":1508.6206896551726},{"$f":"+I26+I26*H26","v":1750.0000000000002},1800,1800,{"$f":"+N26/G26","v":0},null,{"$f":"+N26*I26","v":0},0,{"$f":"+O26-P26","v":0},{"$f":"+Q26*H26","v":0},{"$f":"+R26+Q26","v":0},1800,0,null,null,null,null,null,null,0,null,null,null,null,null,null,null,null,0,0]
[null,123,7703133072953," RIZADAS NATURAL  45GX8X6 DE",6,8,48,0.16,758.87,{"$f":"+I27+I27*H27","v":880.28920000000005},{"$f":"+J27*F27","v":7042.3136000000004},1000,{"$f":"+N27/G27","v":0},null,{"$f":"+N27*I27","v":0},0,{"$f":"+O27-P27","v":0},{"$f":"+Q27*H27","v":0},{"$f":"+R27+Q27","v":0},6800,8,null,null,null,null,null,null,0,null,null,null,null,null,null,null,null,0,8]
[null,124,7703133072953," RIZADAS MAYONESA  45GX8X6 DE",6,8,48,0.16,758.87,880.28920000000005,7042.3136000000004,1000,0,null,0,0,0,0,0,6800,13,null,null,null,null,null,null,0,null,null,null,null,null,null,null,null,0,13]
[null,125,7703133073011," RIZADAS POLLO  45GX8X6 DE",6,8,48,0.16,758.87,880.28920000000005,7042.3136000000004,1000,0,null,0,0,0,0,0,6800,0,null,null,null,null,null,null,0,null,null,null,null,null,null,null,null,0,0]
[null,126,7703133072991," RIZADAS LIMON  45GX8X6 DE",6,8,48,0.16,758.87,880.28920000000005,7042.3136000000004,1000,0,null,0,0,0,0,0,6800,15,null,null,null,null,null,null,0,null,null,null,null,null,null,null,null,0,15]
["LIZAS",127,7703133070409,"LIZA´S S/TOMATE 30g X 12 X 5 DE",5,12,60,0.16,{"$f":"750/1.16","v":646.55172413793105},750,9000,800,0,null,0,0,0,0,0,7500,3.5,null,null,null,null,null,null,0,null,null,null,null,null,null,null,null,0,3.5]
[null,128,7703133072423,"LIZA´S S/ROSADA 30g X 12 X 5 DE",5,12,60,0.16,{"$f":"750/1.16","v":646.55172413793105},750,9000,800,0,null,0,0,0,0,0,7500,18.5,null,null,null,null,null,null,0,null,null,null,null,null,null,null,null,0,18.5]
[null,129,7703133070461,"LIZA'S POLLO 30g X 12 X 5 DE",5,12,60,0.16,{"$f":"750/1.16","v":646.55172413793105},750,9000,800,0,null,0,0,0,0,0,7500,49.5,null,null,null,null,null,null,{"$f":"SUM(V33:AA33)","v":0},null,null,null,null,null,null,null,null,0,49.5]
[null,130,7703133070447,"LIZA´S LIMÓN 30g X 12 X 5 DE",5,12,60,0.16,{"$f":"750/1.16","v":646.55172413793105},750,9000,800,0,null,0,0,0,0,0,7500,23,null,null,null,null,null,null,{"$f":"SUM(V34:AA34)","v":0},null,null,null,null,null,null,null,null,0,23]
["MIXTOS",131,7703133072380,"EL GOLPE 110g X 24 X 1  AS",24,1,24,0.16,1379.31,1599.9995999999999,1599.9995999999999,1800,0,null,0,0,0,0,0,1600,0,null,null,null,null,null,null,{"$f":"SUM(V35:AA35)","v":0},null,null,null,null,null,null,null,null,0,0]
[null,132,7703133077231,"GOLPE 30g X  12  X  6 DE",6,12,72,0.16,435.34,504.99439999999998,6059.9327999999996,1000,0,null,0,0,0,0,0,6100,0,null,null,null,null,null,null,{"$f":"SUM(V36:AA36)","v":0},null,null,null,null,null,null,null,null,0,0]
[null,133,7703133077231,"GOLPE MIX 45g X  8  X  6 DE",6,8,48,0.16,{"$f":"940/1.16","v":810.34482758620697},940.00000000000011,7520.0000000000009,1000,0,null,0,0,0,0,0,7520,45,null,null,null,null,null,null,0,null,null,null,null,null,null,null,null,0,{"$f":"+U37+AB37-AK37","v":45}]
[null,134,7703133072571,"EL GOLPE 45 gr 8 X 6 DE",6,8,48,0.16,{"$f":"940/1.16","v":810.34482758620697},940.00000000000011,7520.0000000000009,1000,0,null,0,0,0,0,0,7520,49,null,null,null,null,null,null,{"$f":"SUM(V38:AA38)","v":0},null,null,null,null,null,null,null,null,0,49]
[null,135,7703133072540,"EL GOLPE LIMON 45 gr 8 X 6 DE",6,8,48,0.16,810.34482758620697,940.00000000000011,7520.0000000000009,1000,0,null,0,0,0,0,0,7520,36,null,null,null,null,null,null,{"$f":"SUM(V39:AA39)","v":0},null,null,null,null,null,null,null,null,0,36]
[null,136,7703133072533,"EL GOLPE RANCHERO 45G X 8 X 6 DE",6,8,48,0.16,810.34482758620697,940.00000000000011,7520.0000000000009,1000,0,null,0,0,0,0,0,7520,39,null,null,null,null,null,null,{"$f":"SUM(V40:AA40)","v":0},null,null,null,null,null,null,null,null,0,39]
[null,137,7703133072496,"GOLPE RANCHERO 140 GR  17 X 1 AS",17,1,{"$f":"+E41*F41","v":17},0.16,2161,{"$f":"+I41+I41*H41","v":2506.7600000000002},{"$f":"+J41*F41","v":2506.7600000000002},2800,{"$f":"+N41/G41","v":0},null,{"$f":"+N41*I41","v":0},0,{"$f":"+O41-P41","v":0},{"$f":"+Q41*H41","v":0},{"$f":"+R41+Q41","v":0},2500,0,null,null,null,null,null,null,{"$f":"SUM(V41:AA41)","v":0},null,null,null,null,null,null,null,null,0,0]
[null,138,null,"WOW MIX NATURAL 45 gr X 8 X 6 DE",6,8,{"$f":"+E42*F42","v":48},0.16,810.34482758620697,{"$f":"+I42+I42*H42","v":940.00000000000011},{"$f":"+J42*F42","v":7520.0000000000009},1000,{"$f":"+N42/G42","v":0},null,{"$f":"+N42*I42","v":0},0,{"$f":"+O42-P42","v":0},{"$f":"+Q42*H42","v":0},{"$f":"+R42+Q42","v":0},7520,7,null,null,null,null,null,null,{"$f":"SUM(V42:AA42)","v":0},null,null,null,null,null,null,null,null,0,7]
[null,139,null,"WOW MIX QUESO 45 gr X 8 X 6 DE",6,8,{"$f":"+E43*F43","v":48},0.16,810.34482758620697,{"$f":"+I43+I43*H43","v":940.00000000000011},{"$f":"+J43*F43","v":7520.0000000000009},1000,{"$f":"+N43/G43","v":0},null,{"$f":"+N43*I43","v":0},0,{"$f":"+O43-P43","v":0},{"$f":"+Q43*H43","v":0},{"$f":"+R43+Q43","v":0},7520,3,null,null,null,null,null,null,0,null,null,null,null,null,null,null,null,0,3]
[null,140,null,"WOW MIX BBQ 45 gr X 8 X 6 DE",6,8,{"$f":"+E44*F44","v":48},0.16,810.34482758620697,{"$f":"+I44+I44*H44","v":940.00000000000011},{"$f":"+J44*F44","v":7520.0000000000009},1000,{"$f":"+N44/G44","v":0},null,{"$f":"+N44*I44","v":0},0,{"$f":"+O44-P44","v":0},{"$f":"+Q44*H44","v":0},{"$f":"+R44+Q44","v":0},7520,10,null,null,null,null,null,null,{"$f":"SUM(V44:AA44)","v":0},null,null,null,null,null,null,null,null,0,10]
["TOSTIS",141,7703133072380,"TOSTI AREPAS 150g X 17 X 1 AS",17,1,17,0.1,1545,1699.5,1699.5,1800,0,null,0,0,0,0,0,1700,0,null,null,null,null,null,null,{"$f":"SUM(V45:AA45)","v":0},null,null,null,null,null,null,null,null,0,0]
[null,142,7703133072274,"COMBO TOSTI  SUR",6,1,6,0.1,{"$f":"4000/1.1","v":3636.363636363636},3999.9999999999995,3999.9999999999995,500,0,null,0,0,0,0,0,4000,18,null,null,null,null,null,null,{"$f":"SUM(V46:AA46)","v":0},null,null,null,null,null,null,null,null,0,18]
[null,143,null,"TOSTI AREPAS 28g X 12 X 6 ",6,12,72,0.1,364,400.4,4804.7999999999993,500,0,null,0,0,0,0,0,5000,0,null,null,null,null,null,null,0,null,null,null,null,null,null,null,null,0,0]
[null,144,7703133072397,"TOSTI EMPANADA CARNE 28GX12X6 DE",6,12,72,0.1,364,400.4,4804.7999999999993,500,0,null,0,0,0,0,0,5000,9,null,null,null,null,null,null,0,null,null,null,null,null,null,null,null,0,9]
[null,145,7703133072335,"TOSTI EMPANADA LIMON 28 G X 12 X 6  DE",6,12,72,0.1,364,400.4,4804.7999999999993,500,0,null,0,0,0,0,0,5000,29,null,null,null,null,null,null,0,null,null,null,null,null,null,null,null,0,29]
[null,146,7703133072199,"TOSTI PIZZA POLLO 28G X 12 X 6 DE",6,12,72,0.1,364,400.4,4804.7999999999993,500,0,null,0,0,0,0,0,5000,0,null,null,null,null,null,null,0,null,null,null,null,null,null,null,null,0,0]
[null,147,7703133072199,"TOSTI PIZZA QUESO 28G X 12 X 6 DE",6,12,72,0.1,364,400.4,4804.7999999999993,500,0,null,0,0,0,0,0,5000,0,null,null,null,null,null,null,0,null,null,null,null,null,null,null,null,0,0]
[null,148,null,"TOSTI NACHOS QUESO 28 GR X 12 X 6 DE",6,12,72,0.1,364,400.4,4804.7999999999993,500,0,null,0,0,0,0,0,5000,6,null,null,null,null,null,null,0,null,null,null,null,null,null,null,null,0,6]
[null,149,7703133072304,"TOSTIEMPANADA QUESO PICANTE 28G X 12 X 6",6,12,72,0.1,364,400.4,4804.7999999999993,500,0,null,0,0,0,0,0,5000,0,null,null,null,null,null,null,0,null,null,null,null,null,null,null,null,0,0]
[null,150,null,"TOSTI NACHOS CHILE LIMON 28 GR X 12 X 6",6,12,72,0.1,364,400.4,4804.7999999999993,500,0,null,0,0,0,0,0,5000,0,null,null,null,null,null,null,0,null,null,null,null,null,null,null,null,0,0]
[null,151,7703133079996,"TOSTI PLATANITOS 30 GR X 12 X 6 DE",6,12,72,0.16,388,450.08,5400.96,600,0,null,0,0,0,0,0,5400,0,null,null,null,null,null,null,0,null,null,null,null,null,null,null,null,0,0]
[null,152,null,"TOSTI NACHOS 45 GR  8 X 6",6,8,48,0.1,{"$f":"650/1.1","v":590.90909090909088},650,5200,800,0,null,0,0,0,0,0,650,0,null,null,null,null,null,null,0,null,null,null,null,null,null,null,null,0,0]
[null,153,7703133079996,"TOSTI NACHOS CHILE LIMON 150 GR X 17 X 1 AS",17,1,17,0.1,1545,{"$f":"+I57+I57*H57","v":1699.5},{"$f":"+J57*F57","v":1699.5},1800,{"$f":"+N57/G57","v":0},null,{"$f":"+N57*I57","v":0},0,{"$f":"+O57-P57","v":0},{"$f":"+Q57*H57","v":0},{"$f":"+R57+Q57","v":0},1700,0,null,null,null,null,null,null,0,null,null,null,null,null,null,null,null,0,0]
[null,154,7703133079996,"TOSTI NACHOS QUESO 150 GR X 17 X 1 AS",17,1,17,0.1,1545,{"$f":"+I58+I58*H58","v":1699.5},{"$f":"+J58*F58","v":1699.5},1800,{"$f":"+N58/G58","v":0},null,{"$f":"+N58*I58","v":0},0,{"$f":"+O58-P58","v":0},{"$f":"+Q58*H58","v":0},{"$f":"+R58+Q58","v":0},1700,0,null,null,null,null,null,null,0,null,null,null,null,null,null,null,null,0,0]
["OTROS",155,77031330200227,"MEKATROCITOS POLLO 28 GR X 12 X 8 DE",8,12,96,0.1,273,300.3,3603.6000000000004,400,0,null,0,0,0,0,0,3600,-7,null,null,null,null,null,null,{"$f":"SUM(V59:AA59)","v":0},null,null,null,null,null,null,null,null,0,-7]
[null,156,7703133024242,"TOZINETAS FRED 40g X 40 X 1 AS",40,1,40,0.16,954.55,1107.278,1107.278,1280,0,null,0,0,0,0,0,1100,0,null,null,null,null,null,null,0,null,null,null,null,null,null,null,null,0,0]
[null,157,7703133024211,"TOZINETAS FRED 25G X 48  DE",48,1,48,0.16,498,577.68000000000006,577.68000000000006,600,0,null,0,0,0,0,0,600,50,null,null,null,null,null,null,{"$f":"SUM(V61:AA61)","v":0},null,null,null,null,null,null,null,null,0,50]
[null,158,7703133024105,"COSTILLITAS FRED 25GX 48 DE",48,1,48,0.16,498,577.68000000000006,577.68000000000006,700,0,null,0,0,0,0,0,600,31,null,null,null,null,null,null,{"$f":"SUM(V62:AA62)","v":0},null,null,null,null,null,null,null,null,0,31]
[null,159,null,"PAPAS CHIPS 45 GRMS",48,1,48,0.16,646.79999999999995,750.28800000000001,750.28800000000001,900,0,null,0,0,0,0,0,560,0,null,null,null,null,null,null,0,null,null,null,null,null,null,null,null,0,0]
[null,160,null,"PAPAS CHIPS 150 GRMS",17,1,17,0.16,1939.7,2250.0520000000001,2250.0520000000001,900,0,null,0,0,0,0,0,2250,0,null,null,null,null,null,null,0,null,null,null,null,null,null,null,null,0,0]
[null,161,7703133077958,"LONCHERA DIVERTIDA 241g X 12 AS",12,1,12,0.16,3275.8620999999998,3800.0000359999999,3800.0000359999999,4650,0,null,0,0,0,0,0,4000,97,null,null,null,null,null,null,0,null,null,null,null,null,null,null,null,0,97]
[null,null,"7703133023979","LONCHIPACK 309g X 12 X 12 AS",12,1,12,0.16,4051.72,4699.9951999999994,4699.9951999999994,6050,0,null,0,0,0,0,0,null,null,null,null,null,null,null,null,0]
["CRESPAS",null,null,"MEKATO NATURAL 25 GR X 12 X 6",12,6,72,0.16,474.16,550.02560000000005,3300.1536000000006,700,0,null,0,0,0,0,0]
[null,null,null,"MEKATO LIMON 25 GR X 12 X 6",12,6,72,0.16,474.16,550.02560000000005,3300.1536000000006,700,0,null,0,0,0,0,0]
[null,null,null,"CRESPAS SALSA TOMATE 25 GR",12,6,72,0.16,505,585.79999999999995,3514.7999999999997,700,0,null,0,0,0,0,0]
[null,null,null,"CRESPAS LIMON 25 GR",12,6,72,0.16,505,585.79999999999995,3514.7999999999997,700,0,null,0,0,0,0,0,2439.64066,null,null,null,null,null,null,null,null,null,null,null,null,null,null,null,null,null,{"$f":"+U72+AB70-AK70","v":0}]
[null,null,null,"CRESPAS POLLO 25 GR",12,6,72,0.16,505,585.79999999999995,3514.7999999999997,700,0,null,0,0,0,0,0,3658.8714199999999]
["MEKATO",null,null,"ROSKOTAS AREQUIPE 14G X 12 X 7",7,12,84,0.1,436.38,480.01800000000003,6074.4096,700,0,null,0,{"$f":"+O72*$O$85","v":0},0,0,0,3660.0505600000001,null,null,null,null,null,null,null,null,null,null,null,null,null,null,null,null,null,{"$f":"+U73+AB72-AK72","v":0}]
[null,null,null,"MEKATO ESCOLAR 205 GR X 24 ",24,1,24,0.16,2844.82,3299.9912000000004,{"$f":"+J73*F73","v":3299.9912000000004},200,0,null,0,0,0,0,0,3785.0393999999997,null,null,null,null,null,null,null,null,null,null,null,null,null,null,null,null,null,0]
[null,null,null,"TICOS 9 G X 12 X 12",12,12,144,0.16,86.21,100.00359999999999,1200.0431999999998,200,0,null,0,0,0,0,0,3781.5019800000005,null,null,null,null,null,null,null,null,null,null,null,null,null,null,null,null,null,0]
[null,null,null,"TICOS PICANTE 9 G X 12 X 20",12,20,240,0.16,133.62,154.9992,3099.9839999999999,200,0,null,0,0,0,0,0,3785.0393999999997,null,null,null,null,null,null,null,null,null,null,null,null,null,null,null,null,null,0]
[null,null,null,"TICOS 38G X 36",36,1,36,0.16,327.58999999999997,380.00439999999998,380.00439999999998,500,0,null,0,0,0,0,0,3785.0393999999997,null,null,null,null,null,null,null,null,null,null,null,null,null,null,null,null,null,0]
[null,null,null,"TICOS QUESO 12 G X 12 X 20",20,12,240,0.16,129.31,149.99960000000002,1799.9952000000003,200,0,null,0,0,0,0,0,3557.4653800000006,null,null,null,null,null,null,null,null,null,null,null,null,null,null,null,null,null,0]
[null,null,null,"TICOS QUESO 38 G X 36",36,1,36,0.16,344.82760000000002,400.00001600000002,400.00001600000002,500,0,null,0,0,0,0,0,3415.9685800000002,null,null,null,null,null,null,null,null,null,null,null,null,null,null,null,null,null,0]
[null,null,null,"TICOS QUESO 8 G  X 12 X 20",20,12,240,0.16,133.62,154.9992,1859.9904000000001,500,0,null,0,0,0,0,0,4513.7479200000007,null,null,null,null,null,null,null,null,null,null,null,null,null,null,null,null,null,0]
[null,null,null,"TICOS POLLO 9G 12 X 20",12,20,240,0.16,133.62,154.9992,3099.9839999999999,200,0,null,0,0,0,0,0,2094.2949500000004,null,null,null,null,null,null,null,null,null,null,null,null,null,null,null,null,null,0]
[null,null,null,"TICOS POLLO 38 G X 36",36,1,36,0.16,345,400.2,400.2,500,0,null,0,0,0,0,0,2094.2949500000004,null,null,null,null,null,null,null,null,null,null,null,null,null,null,null,null,null,0]
[null,null,null,"TICOS CARAMELO 38 G X 36",36,1,36,0.16,344.82760000000002,400.00001600000002,400.00001600000002,500,0,null,0,0,0,0,0,2094.2949500000004,null,null,null,null,null,null,null,null,null,null,null,null,null,null,null,null,null,0]
[null,null,"7703133023979","TICO PICANTE 38G X 36",36,1,36,0.16,327.58620000000002,379.99999200000002,379.99999200000002,500,0,null,{"$f":"+N83*I83","v":0},0,{"$f":"+O83-P83","v":0},{"$f":"+Q83*H83","v":0},{"$f":"+R83+Q83","v":0},2787.5479500000006,null,null,null,null,null,null,null,null,null,null,null,null,null,null,null,null,null,0]
["CUPO CREDITO TOTAL",null,0," ","CUPO ACTUAL",0,null,null,null,null,null,null,{"$f":"SUM(M5:M83)","v":0},{"$f":"S84/1000","v":0},{"$f":"SUM(O5:O83)","v":0},{"$f":"SUM(P5:P83)","v":0},{"$f":"SUM(Q5:Q83)","v":0},{"$f":"SUM(R5:R83)","v":0},{"$f":"SUM(S5:S83)","v":0},2787.5479500000006,null,null,null,null,null,null,null,null,null,null,null,null,null,null,null,null,null,0]
[null,null,null,null,null,null,null,null,null,null,null,null,null,null,null,null,null,null,null,2787.5479500000006,null,null,null,null,null,null,null,null,null,null,null,null,null,null,null,null,null,0]
[null,null,null,null,null,null,null,null,null,null,null,null,null,null,null,null,null,null,null,1880.7283000000004,null,null,null,null,null,null,null,null,null,null,null,null,null,null,null,null,null,0]
[null,null,null,null,null,null,null,null,null,null,null,null,null,null,null,null,null,null,null,1880.7283000000004,null,null,null,null,null,null,null,null,null,null,null,null,null,null,null,null,null,0]
[null,null,null,null,null,null,null,null,null,null,null,null,null,null,null,null,null,null,null,1880.7283000000004,null,null,null,null,null,null,null,null,null,null,null,null,null,null,null,null,null,0]
[null,null,null,null,null,null,null,null,null,null,null,null,null,null,null,null,null,null,null,3557.4653800000001,null,null,null,null,null,null,null,null,null,null,null,null,null,null,null,null,null,0]
[null,null,null,null,null,null,null,null,null,null,null,null,null,null,null,null,null,null,null,3658.8714199999999,null,null,null,null,null,null,null,null,null,null,null,null,null,null,null,null,null,0]
[null,null,null,null,null,null,null,null,null,null,null,null,null,null,null,null,null,null,null,3414.78944,null,null,null,null,null,null,null,null,null,null,null,null,null,null,null,null,null,0]
[null,null,null,null,null,null,null,null,null,null,null,null,null,null,null,null,null,null,null,3710.0216999999998,null,null,null,null,null,null,null,null,null,null,null,null,null,null,null,null,null,0]
[null,null,null,null,null,null,null,null,null,null,null,null,null,null,null,null,null,null,null,3454.8802000000001,null,null,null,null,null,null,null,null,null,null,null,null,null,null,null,null,null,0]
[null,null,null,null,null,null,null,null,null,null,null,null,null,null,null,null,null,null,null,3454.8802000000001,null,null,null,null,null,null,null,null,null,null,null,null,null,null,null,null,null,0]
[null,null,null,null,null,null,null,null,null,null,null,null,null,null,null,null,null,null,null,1444.6497999999999,null,null,null,null,null,null,null,null,null,null,null,null,null,null,null,null,null,0]
[null,null,null,null,null,null,null,null,null,null,null,null,null,null,null,null,null,null,null,2399.5499000000004,null,null,null,null,null,null,null,null,null,null,null,null,null,null,null,null,null,0]
[null,null,null,null,null,null,null,null,null,null,null,null,null,null,null,null,null,null,null,2570.5252,null,null,null,null,null,null,null,null,null,null,null,null,null,null,null,null,null,0]
[null,null,null,null,null,null,null,null,null,null,null,null,null,null,null,null,null,null,null,2594.1080000000002,null,null,null,null,null,null,null,null,null,null,null,null,null,null,null,null,null,0]
[null,null,null,null,null,null,null,null,null,null,null,null,null,null,null,null,null,null,null,3354.6532999999999,null,null,null,null,null,null,null,null,null,null,null,null,null,null,null,null,null,0]
[null,null,null,null,null,null,null,null,null,null,null,null,null,null,null,null,null,null,null,3354.6532999999999,null,null,null,null,null,null,null,null,null,null,null,null,null,null,null,null,null,0]
[null,null,null,null,null,null,null,null,null,null,null,null,null,null,null,null,null,null,null,3557.4653800000006,null,null,null,null,null,null,null,null,null,null,null,null,null,null,null,null,null,0]
[null,null,null,null,null,null,null,null,null,null,null,null,null,null,null,null,null,null,null,2439.64066,null,null,null,null,null,null,null,null,null,null,null,null,null,null,null,null,null,0]
[null,null,null,null,null,null,null,null,null,null,null,null,null,null,null,null,null,null,null,1833.7659999999998,null,null,null,null,null,null,null,null,null,null,null,null,null,null,null,null,null,0]
[null,null,null,null,null,null,null,null,null,null,null,null,null,null,null,null,null,null,null,3587.0252000000005,null,null,null,null,null,null,null,null,null,null,null,null,null,null,null,null,null,0]
[null,null,null,null,null,null,null,null,null,null,null,null,null,null,null,null,null,null,null,3587.0252000000005,null,null,null,null,null,null,null,null,null,null,null,null,null,null,null,null,null,0]
[null,null,null,null,null,null,null,null,null,null,null,null,null,null,null,null,null,null,null,3587.0252000000005,null,null,null,null,null,null,null,null,null,null,null,null,null,null,null,null,null,{"$f":"+#REF!+AB106-AK106","v":{"$error":"#REF!"}}]
[null,null,null,null,null,null,null,null,null,null,null,null,null,null,null,null,null,null,null,1754.5603199999998,null,null,null,null,null,null,null,null,null,null,null,null,null,null,null,null,null,{"$f":"+U107+AB107-AK107","v":0}]
[null,null,null,null,null,null,null,null,null,null,null,null,null,null,null,null,null,null,null,1707.3947200000002,null,null,null,null,null,null,null,null,null,null,null,null,null,null,null,null,null,0]
[null,null,null,null,null,null,null,null,null,null,null,null,null,null,null,null,null,null,null,1707.3947200000002,null,null,null,null,null,null,null,null,null,null,null,null,null,null,null,null,null,0]
[null,null,null,null,null,null,null,null,null,null,null,null,null,null,null,null,null,null,null,1707.3947200000002,null,null,null,null,null,null,null,null,null,null,null,null,null,null,null,null,null,0]
[null,null,null,null,null,null,null,null,null,null,null,null,null,null,null,null,null,null,null,1707.3947200000002,null,null,null,null,null,null,null,null,null,null,null,null,null,null,null,null,null,0]
[null,null,null,null,null,null,null,null,null,null,null,null,null,null,null,null,null,null,null,1707.3947200000002,null,null,null,null,null,null,null,null,null,null,null,null,null,null,null,null,null,0]
[null,null,null,null,null,null,null,null,null,null,null,null,null,null,null,null,null,null,null,3253.2472600000001,null,null,null,null,null,null,null,null,null,null,null,null,null,null,null,null,null,0]
[null,null,null,null,null,null,null,null,null,null,null,null,null,null,null,null,null,null,null,3415.9685800000002,null,null,null,null,null,null,null,null,null,null,null,null,null,null,null,null,null,0]
[null,null,null,null,null,null,null,null,null,null,null,null,null,null,null,null,null,null,null,6607.9005599999991,null,null,null,null,null,null,null,null,null,null,null,null,null,null,null,null,null,0]
[null,null,null,null,null,null,null,null,null,null,null,null,null,null,null,null,null,null,null,6607.9005599999991,null,null,null,null,null,null,null,null,null,null,null,null,null,null,null,null,null,0]
[null,null,null,null,null,null,null,null,null,null,null,null,null,null,null,null,null,null,null,6607.90056,null,null,null,null,null,null,null,null,null,null,null,null,null,null,null,null,null,0]
[null,null,null,null,null,null,null,null,null,null,null,null,null,null,null,null,null,null,null,6607.9005599999991,null,null,null,null,null,null,null,null,null,null,null,null,null,null,null,null,null,0]
[null,null,null,null,null,null,null,null,null,null,null,null,null,null,null,null,null,null,null,1982.4799499999999,null,null,null,null,null,null,null,null,null,null,null,null,null,null,null,null,null,0]
[null,null,null,null,null,null,null,null,null,null,null,null,null,null,null,null,null,null,null,2693.1557600000001,null,null,null,null,null,null,null,null,null,null,null,null,null,null,null,null,null,0]
[null,null,null,null,null,null,null,null,null,null,null,null,null,null,null,null,null,null,null,2693.1557600000001,null,null,null,null,null,null,null,null,null,null,null,null,null,null,null,null,null,0]

{"sheet":"LISTA DE PRECIOS","index":7,"n_rows":66,"n_cols":6,"rows_kept":66,"cut":false,"hidden":false,"merged":[]}
[null,null,"inventario de productos para venta en granada"]
[]
[101,7703133078771,"YUPIS QUESO 45g X 36 X 1 AS",650,{"$f":"36*2+25","v":97},{"$f":"+E3*D3","v":63050}]
[102,7703133077309,"YUPIS SALADO 60g X 36 X 1 AS",650,252,{"$f":"+E4*D4","v":163800}]
[103,null,"YUPIS PICANTE 45g X 36 X 1 AS",650,162,105300]
[104,7703133078818,"YUPI  CARAMELO 50gX36X1 AS",650,168,109200]
[105,null,"YUPI  AREQUIQUESO 45grX36",650,13,8450]
[106,null,"YUPI UVA 45grX36",650,null,0]
[107,7703133021739,"YUPIS SALADO 10g X  12 X 20 DE",1750,20,35000]
[108,7703133077248,"TICK CHEESE 100G X 24 X 1 AS",900,null,0]
[109,7703133077194,"TICK CHEESE 40g X 12 X 6 DE",6720,null,0]
[110,7703133021227,"PALOMITAS CARAMELO 68g X 36 X 1 AS",700,6,4200]
[111,7703133021166,"PALOMITAS CARAMELO 20g X 12 X 12 DE",5000,5,25000]
[112,7703133091275,"RIZADAS NATURAL 30g X 12 X 6 DE",9000,2,18000]
[113,7703133070324,"RIZADAS POLLO 30g X 12 X 6 DE",9000,7,63000]
[114,7703133070362,"RIZADAS MAYONESA 30g X 12 X 6 DE",9000,6,54000]
[115,7703133070348,"RIZADAS LIMON 30g X 12 X 6 DE",9000,5,45000]
[116,7703133070287,"RIZADAS BBQ RANCHERA 28g X 12 X 6 DE",9000,null,0]
[117,null,"RIZADAS MEXICAN FUSION  28g X 12 X 6 DE",9000,null,0]
[118,7703133072922,"RIZADAS NATURAL 115g X 20 X 1 AS",1800,null,0]
[119,7703133072946,"RIZADAS MAYONESA 115g X 20 X 1 AS",1800,null,0]
[120,7703133072984,"RIZADAS LIMON  115g X 20 X 1 AS",1800,17,30600]
[121,7703133078856,"RIZADAS POLLO 115g X 20 X 1 AS",1800,null,0]
[122,null,"RIZADAS MEXICAN FUSION 115g X 20 X 1 AS",1800,null,0]
[123,7703133072953," RIZADAS NATURAL  45GX8X6 DE",6800,null,0]
[124,7703133072953," RIZADAS MAYONESA  45GX8X6 DE",6800,null,0]
[125,7703133073011," RIZADAS POLLO  45GX8X6 DE",6800,4,27200]
[126,7703133072991," RIZADAS LIMON  45GX8X6 DE",6800,1,6800]
[127,7703133070409,"LIZA´S S/TOMATE 30g X 12 X 5 DE",7500,5,37500]
[128,7703133072423,"LIZA´S S/ROSADA 30g X 12 X 5 DE",7500,10,75000]
[129,7703133070461,"LIZA'S POLLO 30g X 12 X 5 DE",7500,2,15000]
[130,7703133070447,"LIZA´S LIMÓN 30g X 12 X 5 DE",7500,1.5,11250]
[131,7703133072380,"EL GOLPE 110g X 24 X 1  AS",1600,null,0]
[132,7703133077231,"GOLPE 30g X  12  X  6 DE",6100,null,0]
[133,7703133077231,"GOLPE MIX 45g X  8  X  6 DE",7520,7,52640]
[134,7703133072571,"EL GOLPE 45 gr 8 X 6 DE",7520,5,37600]
[135,7703133072540,"EL GOLPE LIMON 45 gr 8 X 6 DE",7520,2,15040]
[136,7703133072533,"EL GOLPE RANCHERO 45G X 8 X 6 DE",7520,8,60160]
[137,7703133072496,"GOLPE RANCHERO 140 GR  17 X 1 AS",2500,null,0]
[138,null,"WOW MIX NATURAL 45 gr X 8 X 6 DE",7520,null,0]
[139,null,"WOW MIX QUESO 45 gr X 8 X 6 DE",7520,null,0]
[140,null,"WOW MIX BBQ 45 gr X 8 X 6 DE",7520,null,0]
[141,7703133072380,"TOSTI AREPAS 150g X 17 X 1 AS",1700,null,0]
[142,7703133072274,"COMBO TOSTI  SUR",4000,3,12000]
[143,null,"TOSTI AREPAS 28g X 12 X 6 ",5000,null,0]
[144,7703133072397,"TOSTI EMPANADA CARNE 28GX12X6 DE",5000,1,5000]
[145,7703133072335,"TOSTI EMPANADA LIMON 28 G X 12 X 6  DE",5000,3.5,17500]
[146,7703133072199,"TOSTI PIZZA POLLO 28G X 12 X 6 DE",5000,null,0]
[147,7703133072199,"TOSTI PIZZA QUESO 28G X 12 X 6 DE",5000,null,0]
[148,null,"TOSTI NACHOS QUESO 28 GR X 12 X 6 DE",5000,null,0]
[149,7703133072304,"TOSTIEMPANADA QUESO PICANTE 28G X 12 X 6",5000,null,0]
[150,null,"TOSTI NACHOS CHILE LIMON 28 GR X 12 X 6",5000,null,0]
[151,7703133079996,"TOSTI PLATANITOS 30 GR X 12 X 6 DE",5400,null,0]
[152,null,"TOSTI NACHOS 45 GR  8 X 6",650,null,0]
[153,7703133079996,"TOSTI NACHOS CHILE LIMON 150 GR X 17 X 1 AS",1700,null,0]
[154,7703133079996,"TOSTI NACHOS QUESO 150 GR X 17 X 1 AS",1700,null,0]
[155,77031330200227,"MEKATROCITOS POLLO 28 GR X 12 X 8 DE",3600,3,10800]
[156,7703133024242,"TOZINETAS FRED 40g X 40 X 1 AS",1100,null,0]
[157,7703133024211,"TOZINETAS FRED 25G X 48  DE",600,11,6600]
[158,7703133024105,"COSTILLITAS FRED 25GX 48 DE",600,null,0]
[159,null,"PAPAS CHIPS 45 GRMS",560,5,2800]
[160,null,"PAPAS CHIPS 150 GRMS",2250,null,0]
[161,7703133077958,"LONCHERA DIVERTIDA 241g X 12 AS",4000,16,64000]
[null,null,null,null,null,{"$f":"SUM(F3:F63)","v":1181490}]
[null,null,null,null,null,1191990]
[null,null,null,null,"diferencia",{"$f":"+F64-F65","v":-10500}]

{"sheet":"COMPRAS","index":8,"n_rows":43,"n_cols":12,"rows_kept":43,"cut":false,"hidden":false,"merged":[]}
["codigo",101]
["cantidad",20]
["vr total",403200]
["und medida",36]
["dto",20]
["iva",1.1599999999999999]
[]
[]
[]
["codigo","cant. Display","vr total","und x display","cant uns","dto","vr dto","vr. Con dto","iva","vr. Con iva","vr unitario"]
[null,null,null,null,{"$f":"+B11*D11","v":0},null,{"$f":"+C11*F11/100","v":0},{"$f":"+C11-G11","v":0},null,{"$f":"+H11*I11","v":0},{"$f":"+J11/E11","v":{"$error":"#DIV/0!"}},{"$f":"+K11*1.25","v":{"$error":"#DIV/0!"}}]
[101,20,403200,36,{"$f":"+B12*D12","v":720},20,{"$f":"+C12*F12/100","v":80640},{"$f":"+C12-G12","v":322560},1.1599999999999999,{"$f":"+H12*I12","v":374169.59999999998},{"$f":"+J12/E12","v":519.67999999999995},{"$f":"+K12*1.25","v":649.59999999999991}]
[102,15,302400,36,540,20,60480,241920,1.1599999999999999,280627.19999999995,519.67999999999995,649.59999999999991]
[103,15,302400,36,540,20,60480,241920,1.1599999999999999,280627.19999999995,519.67999999999995,649.59999999999991]
[104,25,504000,36,900,20,100800,403200,1.1599999999999999,467711.99999999994,519.67999999999995,649.59999999999991]
[105,5,100800,36,180,20,20160,80640,1.1599999999999999,93542.399999999994,519.67999999999995,649.59999999999991]
[107,15,446760,20,300,20,89352,357408,1.1599999999999999,414593.27999999997,1381.9775999999999,1727.472]
[108,1,18408,24,24,20,3681.6,14726.4,1.1599999999999999,17082.624,711.77599999999995,889.71999999999991]
[109,1,34776,6,6,20,6955.2,27820.799999999999,1.1599999999999999,32272.127999999997,5378.6879999999992,6723.3599999999988]
[110,1,20952,36,36,20,4190.3999999999996,16761.599999999999,1.1599999999999999,19443.455999999998,540.096,675.12]
[111,1,49651.199999999997,12,12,20,9930.24,39720.959999999999,1.1599999999999999,46076.313599999994,3839.6927999999994,4799.6159999999991]
[112,1,46584,6,6,20,9316.7999999999993,37267.199999999997,1.1599999999999999,43229.95199999999,7204.9919999999984,9006.239999999998]
[113,1,46584,6,6,20,9316.7999999999993,37267.199999999997,1.1599999999999999,43229.95199999999,7204.9919999999984,9006.239999999998]
[114,2,93168,6,12,20,18633.599999999999,74534.399999999994,1.1599999999999999,86459.90399999998,7204.9919999999984,9006.239999999998]
[118,2,61360,20,40,20,12272,49088,1.1599999999999999,56942.079999999994,1423.5519999999999,1779.4399999999998]
[119,2,61360,20,40,20,12272,49088,1.1599999999999999,56942.079999999994,1423.5519999999999,1779.4399999999998]
[120,2,61360,20,40,20,12272,49088,1.1599999999999999,56942.079999999994,1423.5519999999999,1779.4399999999998]
[121,2,61360,20,40,20,12272,49088,1.1599999999999999,56942.079999999994,1423.5519999999999,1779.4399999999998]
[123,5,175920,6,30,20,35184,140736,1.1599999999999999,163253.75999999998,5441.7919999999995,6802.24]
[124,15,527760,6,90,20,105552,422208,1.1599999999999999,489761.27999999997,5441.7919999999995,6802.24]
[125,10,351840,6,60,20,70368,281472,1.1599999999999999,326507.51999999996,5441.7919999999995,6802.24]
[126,10,351840,6,60,20,70368,281472,1.1599999999999999,326507.51999999996,5441.7919999999995,6802.24]
[128,5,161700,5,25,20,32340,129360,1.1599999999999999,150057.59999999998,6002.3039999999992,7502.8799999999992]
[129,3,97020,5,15,20,19404,77616,1.1599999999999999,90034.559999999998,6002.3040000000001,7502.88]
[133,3,116697.60000000001,6,18,20,23339.52,93358.080000000002,1.1599999999999999,108295.3728,6016.4096,7520.5119999999997]
[135,5,194496,6,30,20,38899.199999999997,155596.79999999999,1.1599999999999999,180492.28799999997,6016.409599999999,7520.5119999999988]
[136,5,194496,6,30,20,38899.199999999997,155596.79999999999,1.1599999999999999,180492.28799999997,6016.409599999999,7520.5119999999988]
[140,1,38899.199999999997,6,6,20,7779.84,31119.359999999997,1.1599999999999999,36098.457599999994,6016.409599999999,7520.5119999999988]
[142,3,65512,6,18,20,13102.4,52409.599999999999,1.1000000000000001,57650.560000000005,3202.8088888888892,4003.5111111111114]
[145,3,78624,6,18,20,15724.8,62899.199999999997,1.1000000000000001,69189.119999999995,3843.8399999999997,4804.7999999999993]
[157,1,23904,48,48,20,4780.8,19123.2,1.1599999999999999,22182.912,462.14400000000001,577.68000000000006]
[161,5,196551.72,12,60,20,39310.343999999997,157241.37599999999,1.1599999999999999,182399.99615999998,3039.9999359999997,3799.9999199999997]
[null,null,null,null,null,null,null,null,null,{"$f":"SUM(J11:J42)","v":4809757.5641599987}]