{"text_format":"1","workbook":"xlsx","n_sheets":5,"sheets":["Notificacion","Oficina para cobros","consulta","base","Hoja2"],"not_rendered":{"charts":0,"images":0,"macros":1,"external_links":0,"defined_names":8,"comments":0,"pivot_tables":1},"unopened":[],"bounds":{"document_bytes":16777216,"sheet_cells":100000,"rows_first":2000,"rows_last":500,"rows_between":2000,"halvings":0,"cell_chars":16384,"cell_head_chars":4096},"cells_cut":0,"cells_raw":0,"read":"whole","date_system":"1900"}

{"sheet":"Notificacion","index":0,"n_rows":93,"n_cols":3,"rows_kept":93,"cut":false,"hidden":false,"merged":[]}
["TOP50","OFICIO 084/2021"]
["INC","(Varios elementos)",1.8]
[]
["Etiquetas de fila","Cuenta de NUM.CRED.","Suma de I M P O R T E"]
["ARTURO VALDES MENDOZA",24,1486606.2999999998]
["Z313525310",24,1486606.2999999998]
["BAZAR INTERNACIONAL SA DE CV",38,283171.10000000003]
["Y941060310",38,283171.10000000003]
["PROCESS ENGINEERING S DE RL DE CV",8,162858.58000000002]
["A088726410",8,162858.58000000002]
["ADMINISTRADORA DE COMERCIO EXTERIOR S DE RL DE CV",3,136874.82]
["Z312684710",3,136874.82]
["FRANCISCO JAVIER JIMENEZ SERRANO",42,132458.16]
["A082538910",42,132458.16]
["TRANSPORTES URBANOS CALAFIA BC, S.A. DE C.V.",13,116878.68000000001]
["A081522410",13,116878.68000000001]
["JOSE MARIANO TRILLO ALONSO",34,114217.07]
["Z313815110",34,114217.07]
["SERVICIOS CONSULTORES Q Y U S DE RL DE CV",46,105204.53000000004]
["Z314300810",46,105204.53000000004]
["DISTRIBUIDORA RESTAURANTERA DEL NOROESTE SAS DE CV",16,61003.29]
["Z314224710",16,61003.29]
["JESUS ALONSO SERRANO GASTELUM",42,59476.05]
["Z312768010",42,59476.05]
["JESUS GONZALO GARCIA VALENTIN",46,59298.669999999991]
["Z314336510",46,59298.669999999991]
["GARDA EMPRESA DE SEGURIDAD PRIVADA SA DE CV",3,53090.92]
["Z313917710",3,53090.92]
["ANDRES DELGADO RODRIGUEZ",16,49735.44999999999]
["Z313592510",16,49735.44999999999]
["M. ESTELA IBARRA GONZALES",14,40288.07]
["Z311436910",14,40288.07]
["HERNAN DEL RIEGO CORTINAS",14,33582.700000000004]
["Z314318110",14,33582.700000000004]
["FRANCISCO JAVIER CHAVEZ CASTILLO",42,33124.890000000007]
["Z314255510",42,33124.890000000007]
["LUIS GERARDO HERRERA GOMEZ",20,27838.229999999996]
["Z314261210",20,27838.229999999996]
["IRIS RUVALCABA MEJIA",6,25948.240000000002]
["Z311891110",6,25948.240000000002]
["JUAN EDGAR MORAN BERUMEN",36,22064.940000000002]
["Z313311210",36,22064.940000000002]
["RICARDO URIEL RODRIGUEZ MARTINEZ",18,10498.240000000002]
["Z313761010",18,10498.240000000002]
["MARTHA ELENA GUERRERO RODRIGUEZ",14,10089.629999999999]
["Z314251910",14,10089.629999999999]
["MARTHA ALICIA CASTA#EDA MORAN",14,8854.1]
["Z313547710",14,8854.1]
["SISTEMAS SUSTENTABLES DE MEXICO S DE RL DE CV",12,8776.7100000000009]
["Z312630110",12,8776.7100000000009]
["MONICA PAOLA TAPIA CARDENAS",14,8419.2900000000009]
["Y941470910",14,8419.2900000000009]
["DIANA ANAHI SALAZAR YA#EZ",8,7576.2900000000009]
["Z314164910",8,7576.2900000000009]
["JACKELINNE MARROQUIN LOPEZ",10,7556.34]
["Z314230310",10,7556.34]
["LUIS ENRIQUE MONTA#O MARTINEZ",6,6939.0700000000006]
["Z313387410",6,6939.0700000000006]
["MARIA DE LA LUZ MARTINEZ CORONA",10,5439.22]
["A088053010",10,5439.22]
["LUIS ENRIQUE PACHECO CASTRO",6,5131.5599999999995]
["Y941077310",6,5131.5599999999995]
["MARIBEL DEL CARMEN BAYARDO GUZMAN",8,4937.21]
["Z311134710",8,4937.21]
["JESUS FELIPE OLEA SEPULVEDA",2,4847.3099999999995]
["Z313489710",2,4847.3099999999995]
["SERVICIOS ESPECIALES DE TRANSPORTE NETZA SA DE CV",1,4813.25]
["Z314301010",1,4813.25]
["TECNICOS INDUSTRIALES DE TIJUANA SA DE CV",4,4319.41]
["A086430410",4,4319.41]
["JOSE MANUEL ORTEGA DELGADILLO",3,4262.59]
["Z313326210",3,4262.59]
["ENSAMBLES HYSON SA DE CV",2,3667.48]
["A083437810",2,3667.48]
["HECTOR CAMARILLO PATLAN",2,3594.33]
["Z313349910",2,3594.33]
["MABAMEX SA DE CV",2,3582.74]
["A081757810",2,3582.74]
["SANTIAGO RIVAS HERRERA",6,3397.21]
["Z312611210",6,3397.21]
["ADRIANA RAMIREZ OROPEZA",4,2387.7200000000003]
["Z311831910",4,2387.7200000000003]
["JUAN LORENZANA GARCES",1,2306.6799999999998]
["Z313012410",1,2306.6799999999998]
["SERVICIOS ADMINISTRATIVOS R.P.I. S DE RL DE CV",1,1689.8]
["A085967410",1,1689.8]
["SEMLAB SA DE CV",1,1605.78]
["Z313736110",1,1605.78]
["ALMA JANET LOPEZ RAMIREZ",2,1257.67]
["Z314203410",2,1257.67]
["ALEJANDRA MU#OZ RODRIGUEZ",2,1212.19]
["Z314155810",2,1212.19]
["Total general",616,3130882.5100000063]

{"sheet":"Oficina para cobros","index":1,"n_rows":202,"n_cols":7,"rows_kept":202,"cut":false,"hidden":false,"merged":[[1,1,4,1],[5,1,8,1],[9,1,12,1],[13,1,16,1],[17,1,20,1],[21,1,24,1],[61,1,64,1],[65,1,68,1],[69,1,72,1],[73,1,76,1],[49,1,52,1],[53,1,56,1],[57,1,60,1],[25,1,28,1],[29,1,32,1],[33,1,36,1],[37,1,40,1],[41,1,44,1],[45,1,48,1],[77,1,80,1],[201,0,201,2],[101,1,104,1],[105,1,108,1],[109,1,112,1],[113,1,116,1],[117,1,120,1],[81,1,84,1],[85,1,88,1],[89,1,92,1],[93,1,96,1],[97,1,100,1],[141,1,144,1],[145,1,148,1],[149,1,152,1],[153,1,156,1],[157,1,160,1],[121,1,124,1],[125,1,128,1],[129,1,132,1],[133,1,136,1],[137,1,140,1],[161,1,164,1],[197,1,200,1],[193,1,196,1],[189,1,192,1],[165,1,168,1],[169,1,172,1],[185,1,188,1],[181,1,184,1],[177,1,180,1],[173,1,176,1]]}
["REGISTRO PATRONAL","CREDITOS EN LA INC 31","PATRON","NUMERO DE CREDITOS TRABAJADOS","IMPORTE"]
["A082431410",57,"AUTOTRANSPORTES DE PASAJEROS URBANOS Y SUBURBANOS",0,0]
[null,null,"ASIGNADO EN CAMPO",0,0]
[null,null,"CITADO",0,0]
[null,null,"DILIGENCIADO",57,9629722.1400000006]
["Z312552710",29,"NSERVICIO CONSULTORIA Y ESTRATEGIAS EMPRESARIALES",0,0]
[null,null,"PENDIENTES DE ASIGNAR",29,7235573.4400000004]
[null,null,"CITADO",0,0,null,"Diligenciado "]
[null,null,"DILIGENCIADO",0,0]
["Z314466010",11,"CORPRO SISTEMAS S DE RL DE CV",0,0]
[null,null,"ASIGNADO EN CAMPO",11,6002670.6600000001]
[null,null,"CITADO",0,0]
[null,null,"DILIGENCIADO",0,0]
["Z312728710",25,"AUTOBUSES ABC PLUS SA DE CV",0,0]
[null,null,"ASIGNADO EN CAMPO",25,5318173.97]
[null,null,"CITADO",0,0]
[null,null,"DILIGENCIADO",0,0]
["Z314296110",24,"TRANSPORTES MILENA S DE RL DE CV",0,0]
[null,null,"PENDIENTES DE ASIGNAR",24,2953615.07]
[null,null,"CITADO",0,0]
[null,null,"DILIGENCIADO",0,0]
[2103129710,34,"LIN TRANSP URBANOS SUB URBANOS DE BCSA",0,0]
[null,null,"ASIGNADO EN CAMPO",0,0]
[null,null,"CITADO",0,0]
[null,null,"DILIGENCIADO",34,2453029.6]
[2103051910,17,"TRANSPORTES BC AZUL B J M S.A. DE C.V.",0,0]
[null,null,"ASIGNADO EN CAMPO",17,1997182.21]
[null,null,"CITADO",0,0]
[null,null,"DILIGENCIADO",0,0]
["Z313361610",45,"SITT DE TIJUANA SA DE CV",0,0]
[null,null,"ASIGNADO EN CAMPO",45,1943440.9]
[null,null,"CITADO",0,0]
[null,null,"DILIGENCIADO",0,0]
["Y941413210",16,"GRUPO ASP S DE RL DE CV",0,0]
[null,null,"ASIGNADO EN CAMPO",16,1757553.43]
[null,null,"CITADO",0,0]
[null,null,"DILIGENCIADO",0,0]
["Z313612110",12,"VAMSA PLUS MEXICO SA DE CV",0,0]
[null,null,"ASIGNADO EN CAMPO",12,1737418.04]
[null,null,"CITADO",0,0]
[null,null,"DILIGENCIADO",0,0]
["Z313468410",26,"PROTECCION Y ALARMAS CDMX SA DE CV",0,0]
[null,null,"ASIGNADO EN CAMPO",26,1696577.72]
[null,null,"CITADO",0,0]
[null,null,"DILIGENCIADO",0,0]
["Z312533710",71,"SP SERVICOM S DE RL DE CV",0,0]
[null,null,"ASIGNADO EN CAMPO",71,1647130.75]
[null,null,"CITADO",0,0]
[null,null,"DILIGENCIADO",0,0]
["Z314118110",14,"SERVICIOS ALOC ACOC, SA DE CV",0,0]
[null,null,"PENDIENTES DE ASIGNAR",14,1376328.63]
[null,null,"CITADO",0,0]
[null,null,"DILIGENCIADO",0,0]
["Z314090110",29,"WORKING BOSS S DE RL DE CV",0,0]
[null,null,"PENDIENTES DE ASIGNAR",29,1440169.55]
[null,null,"CITADO",0,0]
[null,null,"DILIGENCIADO",0,0]
["Z313374010",11,"SERVICIOS POLIZAS Y MANTENIMIENTO INTEGRAL VICO S",0,0]
[null,null,"ASIGNADO EN CAMPO",11,1379249.8200000003]
[null,null,"CITADO",0,0]
[null,null,"DILIGENCIADO",0,0]
["Z313656910",35,"OPERADORA DE NEGOCIOS Y FRANQUICIAS SEMA SA DE CV",0,0]
[null,null,"ASIGNADO EN CAMPO",35,931138.53]
[null,null,"CITADO",0,0]
[null,null,"DILIGENCIADO",0,0]
["Z314352110",0,"MR PAMPAS TJ PLAZA FINANCIERA SA DE CV",0,0]
[null,null,"ASIGNADO EN CAMPO",0,0]
[null,null,"CITADO",0,0]
[null,null,"DILIGENCIADO",0,0]
["Z313694410",21,"RMR CORPORACION TACTICA DE SERVICIOS Y PROTECCION S",0,0]
[null,null,"ASIGNADO EN CAMPO",21,913706.49]
[null,null,"CITADO",0,0]
[null,null,"DILIGENCIADO",0,0]
["A081522410",140,"TRANSPORTES URBANOS CALAFIA BC S.A. DE C.V.",0,0]
[null,null,"ASIGNADO EN CAMPO",140,863172.50999999954]
[null,null,"CITADO",0,0]
[null,null,"DILIGENCIADO",0,0]
["Z313511610",50,"BRILLOTEC S DE RL DE CV",0,0]
[null,null,"ASIGNADO EN CAMPO",50,805709.22999999975]
[null,null,"CITADO",0,0]
[null,null,"DILIGENCIADO",0,0]
["Z313439210",37,"SEPRIBAJA S DE RL DE CV",0,0]
[null,null,"ASIGNADO EN CAMPO",37,794236.19999999984]
[null,null,"CITADO",0,0]
[null,null,"DILIGENCIADO",0,0]
["Z312105910",45,"SERVICIOS CORPORATIVOS EN ALIMENTOS QUALITY FOOD S",0,0]
[null,null,"ASIGNADO EN CAMPO",45,732230.23999999987]
[null,null,"CITADO",0,0]
[null,null,"DILIGENCIADO",0,0]
[2103060310,54,"TROPICAL MOKA S.A. DE C.V.",0,0]
[null,null,"ASIGNADO EN CAMPO",0,0]
[null,null,"CITADO",0,0]
[null,null,"DILIGENCIADO",54,706838.66999999958]
["Z312808110",6,"SECORH SA DE CV",0,0]
[null,null,"ASIGNADO EN CAMPO",6,689708.5]
[null,null,"CITADO",0,0]
[null,null,"DILIGENCIADO",0,0]
["A087881410",16,"EMPRESANTE S.C.",0,0]
[null,null,"ASIGNADO EN CAMPO",16,670614.71000000008]
[null,null,"CITADO",0,0]
[null,null,"DILIGENCIADO",0,0]
["Z311783310",35,"JONATHAN RIVERA MORENO",0,0]
[null,null,"ASIGNADO EN CAMPO",35,92505.62]
[null,null,"CITADO",0,0]
[null,null,"DILIGENCIADO",0,0]
["Z311881510",10,"SANTA MAURA IMPORTACIONES MEXICO S.A. DE C.V.",0,0]
[null,null,"ASIGNADO EN CAMPO",0,0]
[null,null,"CITADO",0,0]
[null,null,"DILIGENCIADO",10,54858.78]
["Z311436910",15,"M ESTELA IBARRA GONZALES",0,0]
[null,null,"ASIGNADO EN CAMPO",0,0]
[null,null,"CITADO",0,0]
[null,null,"DILIGENCIADO",15,49491.75]
["A082539610",25,"MEXICOCHE S.A. DE C.V.",0,0]
[null,null,"ASIGNADO EN CAMPO",0,0]
[null,null,"CITADO",0,0]
[null,null,"DILIGENCIADO",25,49067.709999999992]
["A088399610",10,"QUAN LI LIANG ZHUNG",0,0]
[null,null,"ASIGNADO EN CAMPO",0,0]
[null,null,"CITADO",10,32233.24]
[null,null,"DILIGENCIADO",0,0]
["A088450310",24,"LOGISTICA MAP S.A. DE C.V.",0,0]
[null,null,"ASIGNADO EN CAMPO",24,29537.460000000006]
[null,null,"CITADO",0,0]
[null,null,"DILIGENCIADO",0,0]
["Z312013110",27,"MARCO ANTONIO PERALTA VIRUETE",0,0]
[null,null,"ASIGNADO EN CAMPO",27,25638.400000000001]
[null,null,"CITADO",0,0]
[null,null,"DILIGENCIADO",0,0]
["Z312568110",9,"ELIZABETH ALBA LUZ YORBA ZENDEJAS",0,0]
[null,null,"ASIGNADO EN CAMPO",9,17019.09]
[null,null,"CITADO",0,0]
[null,null,"DILIGENCIADO",0,0]
["Z313353210",25,"GUSTAVO VARGAS MARTINEZ",0,0]
[null,null,"ASIGNADO EN CAMPO",25,16706.649999999998]
[null,null,"CITADO",0,0]
[null,null,"DILIGENCIADO",0,0]
["Z311989810",5,"UNIDAD ESPECIALIZADA INTEGRAL K9 S DE RL DE CV",0,0]
[null,null,"ASIGNADO EN CAMPO",0,0]
[null,null,"CITADO",5,14229.91]
[null,null,"DILIGENCIADO",0,0]
["Z311262410",11,"JUAN FRANCISCO GONZALEZ DELGADO",0,0]
[null,null,"ASIGNADO EN CAMPO",0,0]
[null,null,"CITADO",11,9247.2000000000007]
[null,null,"DILIGENCIADO",0,0]
["A086579310",6,"GRUPO TURISTICO DE LA FRONTERA S.A. DE C.V.",0,0]
[null,null,"ASIGNADO EN CAMPO",6,9120.4499999999989]
[null,null,"CITADO",0,0]
[null,null,"DILIGENCIADO",0,0]
["Z311094710",3,"ARRK PRODUCT DEVELOPMENT GROUP MEXICO S.A. DE C.V.",0,0]
[null,null,"ASIGNADO EN CAMPO",0,0]
[null,null,"CITADO",3,8356.6200000000008]
[null,null,"DILIGENCIADO",0,0]
["Z312957010",14,"JUAN ALEJANDRO HERNANDEZ SANDOVAL",0,0]
[null,null,"ASIGNADO EN CAMPO",14,7586.59]
[null,null,"CITADO",0,0]
[null,null,"DILIGENCIADO",0,0]
["A087236710",2,"JAVIER CAMPOS GUTIERREZ",0,0]
[null,null,"ASIGNADO EN CAMPO",0,0]
[null,null,"CITADO",0,0]
[null,null,"DILIGENCIADO",2,7495.5599999999995]
["A086618710",5,"UNIDAD QUIRURGICA MEDICA NORTE S. DE R.L. DE C.V.",0,0]
[null,null,"ASIGNADO EN CAMPO",0,0]
[null,null,"CITADO",0,0]
[null,null,"DILIGENCIADO",5,7414.02]
["Z312979010",3,"ROSA MARIA REYNA QUINTANA",0,0]
[null,null,"ASIGNADO EN CAMPO",3,5097.78]
[null,null,"CITADO",0,0]
[null,null,"DILIGENCIADO",0,0]
["A087909410",0,"NEXTGEN INTERNATIONAL MEXICO S DE RL DE CV",0,0]
[null,null,"ASIGNADO EN CAMPO",0,0]
[null,null,"CITADO",0,0]
[null,null,"DILIGENCIADO",0,0]
["A083803010",1,"CARAMELOS DUROS DE MEXICO S.A DE C.V.",0,0]
[null,null,"ASIGNADO EN CAMPO",0,0]
[null,null,"CITADO",1,1554.46]
[null,null,"DILIGENCIADO",0,0]
["Y941336610",1,"BAJA MEDIX S.S DE C.V.",0,0]
[null,null,"ASIGNADO EN CAMPO",1,1271.47]
[null,null,"CITADO",0,0]
[null,null,"DILIGENCIADO",0,0]
["A088271810",1,"AUTO TRANSPORTES URBANOS Y SUBURBANOS CORREDOR TIJ",0,0]
[null,null,"ASIGNADO EN CAMPO",1,972.04]
[null,null,"CITADO",0,0]
[null,null,"DILIGENCIADO",0,0]
["Z311399810",2,"RAUL SALDAÑA ARAIZA",0,0]
[null,null,"ASIGNADO EN CAMPO",0,0]
[null,null,"CITADO",2,903.6]
[null,null,"DILIGENCIADO",0,0]
["Y941019010",1,"OLIVIA MERCEDES GUTIERREZ ESPINOZA",0,0]
[null,null,"ASIGNADO EN CAMPO",1,689]
[null,null,"CITADO",0,0]
[null,null,"DILIGENCIADO",0,0]
["A088587010",1,"MARIA DE LOS ANGELES BENITEZ GONZALEZ",0,0]
[null,null,"ASIGNADO EN CAMPO",1,427.24]
[null,null,"CITADO",0,0]
[null,null,"DILIGENCIADO",0,0]
["A082467610",1,"MIGUEL ALFONSO VALENZUELA ESPINOZA",0,0]
[null,null,"ASIGNADO EN CAMPO",0,0]
[null,null,"CITADO",0,0]
[null,null,"DILIGENCIADO",1,394.63]
["TOTAL:",null,null,null,{"$f":"SUM(E2:E201)","v":56117010.280000024}]

{"sheet":"consulta","index":2,"n_rows":54,"n_cols":10,"rows_kept":54,"cut":false,"hidden":false,"merged":[]}
[null,null,"Nombre del patron ","SEMLAB SA DE CV",null,null,null,null,null,"VALIDACION DE DATOS "]
[null,null,null,null,null,null,null,null,null,"ADMINISTRADORA DE COMERCIO EXTERIOR S DE RL DE CV"]
[null,null,null,null,null,null,null,null,null,"ADRIANA RAMIREZ OROPEZA"]
[null,null,null,null,null,null,null,null,null,"ALEJANDRA MU#OZ RODRIGUEZ"]
[null,null,null,null,null,null,null,null,null,"ALMA JANET LOPEZ RAMIREZ"]
[null,null,null,null,null,null,null,null,null,"ANDRES DELGADO RODRIGUEZ"]
[null,null,"No.","Nombre del patron ","REGISTRO PATRONAL ","INCI","IMPORTE",null,null,"ARTURO VALDES MENDOZA"]
[null,null,1,{"$f":"IFERROR(VLOOKUP($C8,base!$D$2:$E$31718,2,FALSE),\"0\")","v":"0"},{"$f":"IFERROR(VLOOKUP($C8,base!$D$2:$F$31718,3,FALSE),\"0\")","v":"0"},{"$f":"IFERROR(VLOOKUP($C8,base!$D$2:$G$31718,4,FALSE),\"0\")","v":"0"},{"$f":"IFERROR(VLOOKUP($C8,base!$D$2:$H$31718,5,FALSE),\"0\")","v":"0"},null,null,"BAZAR INTERNACIONAL SA DE CV"]
[null,null,2,{"$f":"IFERROR(VLOOKUP($C9,base!$D$2:$E$31718,2,FALSE),\"0\")","v":"0"},{"$f":"IFERROR(VLOOKUP($C9,base!$D$2:$F$31718,3,FALSE),\"0\")","v":"0"},{"$f":"IFERROR(VLOOKUP($C9,base!$D$2:$G$31718,4,FALSE),\"0\")","v":"0"},{"$f":"IFERROR(VLOOKUP($C9,base!$D$2:$H$31718,5,FALSE),\"0\")","v":"0"},null,null,"DIANA ANAHI SALAZAR YA#EZ"]
[null,null,3,{"$f":"IFERROR(VLOOKUP($C10,base!$D$2:$E$31718,2,FALSE),\"0\")","v":"0"},{"$f":"IFERROR(VLOOKUP($C10,base!$D$2:$F$31718,3,FALSE),\"0\")","v":"0"},{"$f":"IFERROR(VLOOKUP($C10,base!$D$2:$G$31718,4,FALSE),\"0\")","v":"0"},{"$f":"IFERROR(VLOOKUP($C10,base!$D$2:$H$31718,5,FALSE),\"0\")","v":"0"},null,null,"DISTRIBUIDORA RESTAURANTERA DEL NOROESTE SAS DE CV"]
[null,null,4,{"$f":"IFERROR(VLOOKUP($C11,base!$D$2:$E$31718,2,FALSE),\"0\")","v":"0"},{"$f":"IFERROR(VLOOKUP($C11,base!$D$2:$F$31718,3,FALSE),\"0\")","v":"0"},{"$f":"IFERROR(VLOOKUP($C11,base!$D$2:$G$31718,4,FALSE),\"0\")","v":"0"},{"$f":"IFERROR(VLOOKUP($C11,base!$D$2:$H$31718,5,FALSE),\"0\")","v":"0"},null,null,"ENSAMBLES HYSON SA DE CV"]
[null,null,5,{"$f":"IFERROR(VLOOKUP($C12,base!$D$2:$E$31718,2,FALSE),\"0\")","v":"0"},{"$f":"IFERROR(VLOOKUP($C12,base!$D$2:$F$31718,3,FALSE),\"0\")","v":"0"},{"$f":"IFERROR(VLOOKUP($C12,base!$D$2:$G$31718,4,FALSE),\"0\")","v":"0"},{"$f":"IFERROR(VLOOKUP($C12,base!$D$2:$H$31718,5,FALSE),\"0\")","v":"0"},null,null,"FRANCISCO JAVIER CHAVEZ CASTILLO"]
[null,null,6,{"$f":"IFERROR(VLOOKUP($C13,base!$D$2:$E$31718,2,FALSE),\"0\")","v":"0"},{"$f":"IFERROR(VLOOKUP($C13,base!$D$2:$F$31718,3,FALSE),\"0\")","v":"0"},{"$f":"IFERROR(VLOOKUP($C13,base!$D$2:$G$31718,4,FALSE),\"0\")","v":"0"},{"$f":"IFERROR(VLOOKUP($C13,base!$D$2:$H$31718,5,FALSE),\"0\")","v":"0"},null,null,"FRANCISCO JAVIER JIMENEZ SERRANO"]
[null,null,7,{"$f":"IFERROR(VLOOKUP($C14,base!$D$2:$E$31718,2,FALSE),\"0\")","v":"0"},{"$f":"IFERROR(VLOOKUP($C14,base!$D$2:$F$31718,3,FALSE),\"0\")","v":"0"},{"$f":"IFERROR(VLOOKUP($C14,base!$D$2:$G$31718,4,FALSE),\"0\")","v":"0"},{"$f":"IFERROR(VLOOKUP($C14,base!$D$2:$H$31718,5,FALSE),\"0\")","v":"0"},null,null,"GARDA EMPRESA DE SEGURIDAD PRIVADA SA DE CV"]
[null,null,8,{"$f":"IFERROR(VLOOKUP($C15,base!$D$2:$E$31718,2,FALSE),\"0\")","v":"0"},{"$f":"IFERROR(VLOOKUP($C15,base!$D$2:$F$31718,3,FALSE),\"0\")","v":"0"},{"$f":"IFERROR(VLOOKUP($C15,base!$D$2:$G$31718,4,FALSE),\"0\")","v":"0"},{"$f":"IFERROR(VLOOKUP($C15,base!$D$2:$H$31718,5,FALSE),\"0\")","v":"0"},null,null,"HECTOR CAMARILLO PATLAN"]
[null,null,9,{"$f":"IFERROR(VLOOKUP($C16,base!$D$2:$E$31718,2,FALSE),\"0\")","v":"0"},{"$f":"IFERROR(VLOOKUP($C16,base!$D$2:$F$31718,3,FALSE),\"0\")","v":"0"},{"$f":"IFERROR(VLOOKUP($C16,base!$D$2:$G$31718,4,FALSE),\"0\")","v":"0"},{"$f":"IFERROR(VLOOKUP($C16,base!$D$2:$H$31718,5,FALSE),\"0\")","v":"0"},null,null,"HERNAN DEL RIEGO CORTINAS"]
[null,null,10,{"$f":"IFERROR(VLOOKUP($C17,base!$D$2:$E$31718,2,FALSE),\"0\")","v":"0"},{"$f":"IFERROR(VLOOKUP($C17,base!$D$2:$F$31718,3,FALSE),\"0\")","v":"0"},{"$f":"IFERROR(VLOOKUP($C17,base!$D$2:$G$31718,4,FALSE),\"0\")","v":"0"},{"$f":"IFERROR(VLOOKUP($C17,base!$D$2:$H$31718,5,FALSE),\"0\")","v":"0"},null,null,"IRIS RUVALCABA MEJIA"]
[null,null,11,{"$f":"IFERROR(VLOOKUP($C18,base!$D$2:$E$31718,2,FALSE),\"0\")","v":"0"},{"$f":"IFERROR(VLOOKUP($C18,base!$D$2:$F$31718,3,FALSE),\"0\")","v":"0"},{"$f":"IFERROR(VLOOKUP($C18,base!$D$2:$G$31718,4,FALSE),\"0\")","v":"0"},{"$f":"IFERROR(VLOOKUP($C18,base!$D$2:$H$31718,5,FALSE),\"0\")","v":"0"},null,null,"JACKELINNE MARROQUIN LOPEZ"]
[null,null,12,{"$f":"IFERROR(VLOOKUP($C19,base!$D$2:$E$31718,2,FALSE),\"0\")","v":"0"},{"$f":"IFERROR(VLOOKUP($C19,base!$D$2:$F$31718,3,FALSE),\"0\")","v":"0"},{"$f":"IFERROR(VLOOKUP($C19,base!$D$2:$G$31718,4,FALSE),\"0\")","v":"0"},{"$f":"IFERROR(VLOOKUP($C19,base!$D$2:$H$31718,5,FALSE),\"0\")","v":"0"},null,null,"JESUS ALONSO SERRANO GASTELUM"]
[null,null,13,{"$f":"IFERROR(VLOOKUP($C20,base!$D$2:$E$31718,2,FALSE),\"0\")","v":"0"},{"$f":"IFERROR(VLOOKUP($C20,base!$D$2:$F$31718,3,FALSE),\"0\")","v":"0"},{"$f":"IFERROR(VLOOKUP($C20,base!$D$2:$G$31718,4,FALSE),\"0\")","v":"0"},{"$f":"IFERROR(VLOOKUP($C20,base!$D$2:$H$31718,5,FALSE),\"0\")","v":"0"},null,null,"JESUS FELIPE OLEA SEPULVEDA"]
[null,null,14,{"$f":"IFERROR(VLOOKUP($C21,base!$D$2:$E$31718,2,FALSE),\"0\")","v":"0"},{"$f":"IFERROR(VLOOKUP($C21,base!$D$2:$F$31718,3,FALSE),\"0\")","v":"0"},{"$f":"IFERROR(VLOOKUP($C21,base!$D$2:$G$31718,4,FALSE),\"0\")","v":"0"},{"$f":"IFERROR(VLOOKUP($C21,base!$D$2:$H$31718,5,FALSE),\"0\")","v":"0"},null,null,"JESUS GONZALO GARCIA VALENTIN"]
[null,null,15,{"$f":"IFERROR(VLOOKUP($C22,base!$D$2:$E$31718,2,FALSE),\"0\")","v":"0"},{"$f":"IFERROR(VLOOKUP($C22,base!$D$2:$F$31718,3,FALSE),\"0\")","v":"0"},{"$f":"IFERROR(VLOOKUP($C22,base!$D$2:$G$31718,4,FALSE),\"0\")","v":"0"},{"$f":"IFERROR(VLOOKUP($C22,base!$D$2:$H$31718,5,FALSE),\"0\")","v":"0"},null,null,"JOSE MANUEL ORTEGA DELGADILLO"]
[null,null,16,{"$f":"IFERROR(VLOOKUP($C23,base!$D$2:$E$31718,2,FALSE),\"0\")","v":"0"},{"$f":"IFERROR(VLOOKUP($C23,base!$D$2:$F$31718,3,FALSE),\"0\")","v":"0"},{"$f":"IFERROR(VLOOKUP($C23,base!$D$2:$G$31718,4,FALSE),\"0\")","v":"0"},{"$f":"IFERROR(VLOOKUP($C23,base!$D$2:$H$31718,5,FALSE),\"0\")","v":"0"},null,null,"JOSE MARIANO TRILLO ALONSO"]
[null,null,17,{"$f":"IFERROR(VLOOKUP($C24,base!$D$2:$E$31718,2,FALSE),\"0\")","v":"0"},{"$f":"IFERROR(VLOOKUP($C24,base!$D$2:$F$31718,3,FALSE),\"0\")","v":"0"},{"$f":"IFERROR(VLOOKUP($C24,base!$D$2:$G$31718,4,FALSE),\"0\")","v":"0"},{"$f":"IFERROR(VLOOKUP($C24,base!$D$2:$H$31718,5,FALSE),\"0\")","v":"0"},null,null,"JUAN EDGAR MORAN BERUMEN"]
[null,null,18,{"$f":"IFERROR(VLOOKUP($C25,base!$D$2:$E$31718,2,FALSE),\"0\")","v":"0"},{"$f":"IFERROR(VLOOKUP($C25,base!$D$2:$F$31718,3,FALSE),\"0\")","v":"0"},{"$f":"IFERROR(VLOOKUP($C25,base!$D$2:$G$31718,4,FALSE),\"0\")","v":"0"},{"$f":"IFERROR(VLOOKUP($C25,base!$D$2:$H$31718,5,FALSE),\"0\")","v":"0"},null,null,"JUAN LORENZANA GARCES"]
[null,null,19,{"$f":"IFERROR(VLOOKUP($C26,base!$D$2:$E$31718,2,FALSE),\"0\")","v":"0"},{"$f":"IFERROR(VLOOKUP($C26,base!$D$2:$F$31718,3,FALSE),\"0\")","v":"0"},{"$f":"IFERROR(VLOOKUP($C26,base!$D$2:$G$31718,4,FALSE),\"0\")","v":"0"},{"$f":"IFERROR(VLOOKUP($C26,base!$D$2:$H$31718,5,FALSE),\"0\")","v":"0"},null,null,"LUIS ENRIQUE MONTA#O MARTINEZ"]
[null,null,20,{"$f":"IFERROR(VLOOKUP($C27,base!$D$2:$E$31718,2,FALSE),\"0\")","v":"0"},{"$f":"IFERROR(VLOOKUP($C27,base!$D$2:$F$31718,3,FALSE),\"0\")","v":"0"},{"$f":"IFERROR(VLOOKUP($C27,base!$D$2:$G$31718,4,FALSE),\"0\")","v":"0"},{"$f":"IFERROR(VLOOKUP($C27,base!$D$2:$H$31718,5,FALSE),\"0\")","v":"0"},null,null,"LUIS ENRIQUE PACHECO CASTRO"]
[null,null,21,{"$f":"IFERROR(VLOOKUP($C28,base!$D$2:$E$31718,2,FALSE),\"0\")","v":"0"},{"$f":"IFERROR(VLOOKUP($C28,base!$D$2:$F$31718,3,FALSE),\"0\")","v":"0"},{"$f":"IFERROR(VLOOKUP($C28,base!$D$2:$G$31718,4,FALSE),\"0\")","v":"0"},{"$f":"IFERROR(VLOOKUP($C28,base!$D$2:$H$31718,5,FALSE),\"0\")","v":"0"},null,null,"LUIS GERARDO HERRERA GOMEZ"]
[null,null,22,{"$f":"IFERROR(VLOOKUP($C29,base!$D$2:$E$31718,2,FALSE),\"0\")","v":"0"},{"$f":"IFERROR(VLOOKUP($C29,base!$D$2:$F$31718,3,FALSE),\"0\")","v":"0"},{"$f":"IFERROR(VLOOKUP($C29,base!$D$2:$G$31718,4,FALSE),\"0\")","v":"0"},{"$f":"IFERROR(VLOOKUP($C29,base!$D$2:$H$31718,5,FALSE),\"0\")","v":"0"},null,null,"M. ESTELA IBARRA GONZALES"]
[null,null,23,{"$f":"IFERROR(VLOOKUP($C30,base!$D$2:$E$31718,2,FALSE),\"0\")","v":"0"},{"$f":"IFERROR(VLOOKUP($C30,base!$D$2:$F$31718,3,FALSE),\"0\")","v":"0"},{"$f":"IFERROR(VLOOKUP($C30,base!$D$2:$G$31718,4,FALSE),\"0\")","v":"0"},{"$f":"IFERROR(VLOOKUP($C30,base!$D$2:$H$31718,5,FALSE),\"0\")","v":"0"},null,null,"MABAMEX SA DE CV"]
[null,null,24,{"$f":"IFERROR(VLOOKUP($C31,base!$D$2:$E$31718,2,FALSE),\"0\")","v":"0"},{"$f":"IFERROR(VLOOKUP($C31,base!$D$2:$F$31718,3,FALSE),\"0\")","v":"0"},{"$f":"IFERROR(VLOOKUP($C31,base!$D$2:$G$31718,4,FALSE),\"0\")","v":"0"},{"$f":"IFERROR(VLOOKUP($C31,base!$D$2:$H$31718,5,FALSE),\"0\")","v":"0"},null,null,"MARIA DE LA LUZ MARTINEZ CORONA"]
[null,null,25,{"$f":"IFERROR(VLOOKUP($C32,base!$D$2:$E$31718,2,FALSE),\"0\")","v":"0"},{"$f":"IFERROR(VLOOKUP($C32,base!$D$2:$F$31718,3,FALSE),\"0\")","v":"0"},{"$f":"IFERROR(VLOOKUP($C32,base!$D$2:$G$31718,4,FALSE),\"0\")","v":"0"},{"$f":"IFERROR(VLOOKUP($C32,base!$D$2:$H$31718,5,FALSE),\"0\")","v":"0"},null,null,"MARIBEL DEL CARMEN BAYARDO GUZMAN"]
[null,null,26,{"$f":"IFERROR(VLOOKUP($C33,base!$D$2:$E$31718,2,FALSE),\"0\")","v":"0"},{"$f":"IFERROR(VLOOKUP($C33,base!$D$2:$F$31718,3,FALSE),\"0\")","v":"0"},{"$f":"IFERROR(VLOOKUP($C33,base!$D$2:$G$31718,4,FALSE),\"0\")","v":"0"},{"$f":"IFERROR(VLOOKUP($C33,base!$D$2:$H$31718,5,FALSE),\"0\")","v":"0"},null,null,"MARTHA ALICIA CASTA#EDA MORAN"]
[null,null,27,{"$f":"IFERROR(VLOOKUP($C34,base!$D$2:$E$31718,2,FALSE),\"0\")","v":"0"},{"$f":"IFERROR(VLOOKUP($C34,base!$D$2:$F$31718,3,FALSE),\"0\")","v":"0"},{"$f":"IFERROR(VLOOKUP($C34,base!$D$2:$G$31718,4,FALSE),\"0\")","v":"0"},{"$f":"IFERROR(VLOOKUP($C34,base!$D$2:$H$31718,5,FALSE),\"0\")","v":"0"},null,null,"MARTHA ELENA GUERRERO RODRIGUEZ"]
[null,null,28,{"$f":"IFERROR(VLOOKUP($C35,base!$D$2:$E$31718,2,FALSE),\"0\")","v":"0"},{"$f":"IFERROR(VLOOKUP($C35,base!$D$2:$F$31718,3,FALSE),\"0\")","v":"0"},{"$f":"IFERROR(VLOOKUP($C35,base!$D$2:$G$31718,4,FALSE),\"0\")","v":"0"},{"$f":"IFERROR(VLOOKUP($C35,base!$D$2:$H$31718,5,FALSE),\"0\")","v":"0"},null,null,"MONICA PAOLA TAPIA CARDENAS"]
[null,null,29,{"$f":"IFERROR(VLOOKUP($C36,base!$D$2:$E$31718,2,FALSE),\"0\")","v":"0"},{"$f":"IFERROR(VLOOKUP($C36,base!$D$2:$F$31718,3,FALSE),\"0\")","v":"0"},{"$f":"IFERROR(VLOOKUP($C36,base!$D$2:$G$31718,4,FALSE),\"0\")","v":"0"},{"$f":"IFERROR(VLOOKUP($C36,base!$D$2:$H$31718,5,FALSE),\"0\")","v":"0"},null,null,"PROCESS ENGINEERING S DE RL DE CV"]
[null,null,30,{"$f":"IFERROR(VLOOKUP($C37,base!$D$2:$E$31718,2,FALSE),\"0\")","v":"0"},{"$f":"IFERROR(VLOOKUP($C37,base!$D$2:$F$31718,3,FALSE),\"0\")","v":"0"},{"$f":"IFERROR(VLOOKUP($C37,base!$D$2:$G$31718,4,FALSE),\"0\")","v":"0"},{"$f":"IFERROR(VLOOKUP($C37,base!$D$2:$H$31718,5,FALSE),\"0\")","v":"0"},null,null,"RICARDO URIEL RODRIGUEZ MARTINEZ"]
[null,null,31,{"$f":"IFERROR(VLOOKUP($C38,base!$D$2:$E$31718,2,FALSE),\"0\")","v":"0"},{"$f":"IFERROR(VLOOKUP($C38,base!$D$2:$F$31718,3,FALSE),\"0\")","v":"0"},{"$f":"IFERROR(VLOOKUP($C38,base!$D$2:$G$31718,4,FALSE),\"0\")","v":"0"},{"$f":"IFERROR(VLOOKUP($C38,base!$D$2:$H$31718,5,FALSE),\"0\")","v":"0"},null,null,"SANTIAGO RIVAS HERRERA"]
[null,null,32,{"$f":"IFERROR(VLOOKUP($C39,base!$D$2:$E$31718,2,FALSE),\"0\")","v":"0"},{"$f":"IFERROR(VLOOKUP($C39,base!$D$2:$F$31718,3,FALSE),\"0\")","v":"0"},{"$f":"IFERROR(VLOOKUP($C39,base!$D$2:$G$31718,4,FALSE),\"0\")","v":"0"},{"$f":"IFERROR(VLOOKUP($C39,base!$D$2:$H$31718,5,FALSE),\"0\")","v":"0"},null,null,"SEMLAB SA DE CV"]
[null,null,33,{"$f":"IFERROR(VLOOKUP($C40,base!$D$2:$E$31718,2,FALSE),\"0\")","v":"0"},{"$f":"IFERROR(VLOOKUP($C40,base!$D$2:$F$31718,3,FALSE),\"0\")","v":"0"},{"$f":"IFERROR(VLOOKUP($C40,base!$D$2:$G$31718,4,FALSE),\"0\")","v":"0"},{"$f":"IFERROR(VLOOKUP($C40,base!$D$2:$H$31718,5,FALSE),\"0\")","v":"0"},null,null,"SERVICIOS ADMINISTRATIVOS R.P.I. S DE RL DE CV"]
[null,null,34,{"$f":"IFERROR(VLOOKUP($C41,base!$D$2:$E$31718,2,FALSE),\"0\")","v":"0"},{"$f":"IFERROR(VLOOKUP($C41,base!$D$2:$F$31718,3,FALSE),\"0\")","v":"0"},{"$f":"IFERROR(VLOOKUP($C41,base!$D$2:$G$31718,4,FALSE),\"0\")","v":"0"},{"$f":"IFERROR(VLOOKUP($C41,base!$D$2:$H$31718,5,FALSE),\"0\")","v":"0"},null,null,"SERVICIOS CONSULTORES Q Y U S DE RL DE CV"]
[null,null,35,{"$f":"IFERROR(VLOOKUP($C42,base!$D$2:$E$31718,2,FALSE),\"0\")","v":"0"},{"$f":"IFERROR(VLOOKUP($C42,base!$D$2:$F$31718,3,FALSE),\"0\")","v":"0"},{"$f":"IFERROR(VLOOKUP($C42,base!$D$2:$G$31718,4,FALSE),\"0\")","v":"0"},{"$f":"IFERROR(VLOOKUP($C42,base!$D$2:$H$31718,5,FALSE),\"0\")","v":"0"},null,null,"SERVICIOS ESPECIALES DE TRANSPORTE NETZA SA DE CV"]
[null,null,36,{"$f":"IFERROR(VLOOKUP($C43,base!$D$2:$E$31718,2,FALSE),\"0\")","v":"0"},{"$f":"IFERROR(VLOOKUP($C43,base!$D$2:$F$31718,3,FALSE),\"0\")","v":"0"},{"$f":"IFERROR(VLOOKUP($C43,base!$D$2:$G$31718,4,FALSE),\"0\")","v":"0"},{"$f":"IFERROR(VLOOKUP($C43,base!$D$2:$H$31718,5,FALSE),\"0\")","v":"0"},null,null,"SISTEMAS SUSTENTABLES DE MEXICO S DE RL DE CV"]
[null,null,37,{"$f":"IFERROR(VLOOKUP($C44,base!$D$2:$E$31718,2,FALSE),\"0\")","v":"0"},{"$f":"IFERROR(VLOOKUP($C44,base!$D$2:$F$31718,3,FALSE),\"0\")","v":"0"},{"$f":"IFERROR(VLOOKUP($C44,base!$D$2:$G$31718,4,FALSE),\"0\")","v":"0"},{"$f":"IFERROR(VLOOKUP($C44,base!$D$2:$H$31718,5,FALSE),\"0\")","v":"0"},null,null,"TECNICOS INDUSTRIALES DE TIJUANA SA DE CV"]
[null,null,38,{"$f":"IFERROR(VLOOKUP($C45,base!$D$2:$E$31718,2,FALSE),\"0\")","v":"0"},{"$f":"IFERROR(VLOOKUP($C45,base!$D$2:$F$31718,3,FALSE),\"0\")","v":"0"},{"$f":"IFERROR(VLOOKUP($C45,base!$D$2:$G$31718,4,FALSE),\"0\")","v":"0"},{"$f":"IFERROR(VLOOKUP($C45,base!$D$2:$H$31718,5,FALSE),\"0\")","v":"0"},null,null,"TRANSPORTES URBANOS CALAFIA BC, S.A. DE C.V."]
[null,null,39,{"$f":"IFERROR(VLOOKUP($C46,base!$D$2:$E$31718,2,FALSE),\"0\")","v":"0"},{"$f":"IFERROR(VLOOKUP($C46,base!$D$2:$F$31718,3,FALSE),\"0\")","v":"0"},{"$f":"IFERROR(VLOOKUP($C46,base!$D$2:$G$31718,4,FALSE),\"0\")","v":"0"},{"$f":"IFERROR(VLOOKUP($C46,base!$D$2:$H$31718,5,FALSE),\"0\")","v":"0"}]
[null,null,40,{"$f":"IFERROR(VLOOKUP($C47,base!$D$2:$E$31718,2,FALSE),\"0\")","v":"0"},{"$f":"IFERROR(VLOOKUP($C47,base!$D$2:$F$31718,3,FALSE),\"0\")","v":"0"},{"$f":"IFERROR(VLOOKUP($C47,base!$D$2:$G$31718,4,FALSE),\"0\")","v":"0"},{"$f":"IFERROR(VLOOKUP($C47,base!$D$2:$H$31718,5,FALSE),\"0\")","v":"0"}]
[null,null,41,{"$f":"IFERROR(VLOOKUP($C48,base!$D$2:$E$31718,2,FALSE),\"0\")","v":"0"},{"$f":"IFERROR(VLOOKUP($C48,base!$D$2:$F$31718,3,FALSE),\"0\")","v":"0"},{"$f":"IFERROR(VLOOKUP($C48,base!$D$2:$G$31718,4,FALSE),\"0\")","v":"0"},{"$f":"IFERROR(VLOOKUP($C48,base!$D$2:$H$31718,5,FALSE),\"0\")","v":"0"}]
[null,null,42,{"$f":"IFERROR(VLOOKUP($C49,base!$D$2:$E$31718,2,FALSE),\"0\")","v":"0"},{"$f":"IFERROR(VLOOKUP($C49,base!$D$2:$F$31718,3,FALSE),\"0\")","v":"0"},{"$f":"IFERROR(VLOOKUP($C49,base!$D$2:$G$31718,4,FALSE),\"0\")","v":"0"},{"$f":"IFERROR(VLOOKUP($C49,base!$D$2:$H$31718,5,FALSE),\"0\")","v":"0"}]
[null,null,43,{"$f":"IFERROR(VLOOKUP($C50,base!$D$2:$E$31718,2,FALSE),\"0\")","v":"0"},{"$f":"IFERROR(VLOOKUP($C50,base!$D$2:$F$31718,3,FALSE),\"0\")","v":"0"},{"$f":"IFERROR(VLOOKUP($C50,base!$D$2:$G$31718,4,FALSE),\"0\")","v":"0"},{"$f":"IFERROR(VLOOKUP($C50,base!$D$2:$H$31718,5,FALSE),\"0\")","v":"0"}]
[null,null,44,{"$f":"IFERROR(VLOOKUP($C51,base!$D$2:$E$31718,2,FALSE),\"0\")","v":"0"},{"$f":"IFERROR(VLOOKUP($C51,base!$D$2:$F$31718,3,FALSE),\"0\")","v":"0"},{"$f":"IFERROR(VLOOKUP($C51,base!$D$2:$G$31718,4,FALSE),\"0\")","v":"0"},{"$f":"IFERROR(VLOOKUP($C51,base!$D$2:$H$31718,5,FALSE),\"0\")","v":"0"}]
[null,null,"Total",null,null,{"$f":"SUBTOTAL(104,Tabla2[INCI])","v":0},{"$f":"SUBTOTAL(109,Tabla2[IMPORTE])","v":0}]
[]
[null,null,"final ","final","final "]

{"sheet":"base","index":3,"n_rows":31720,"n_cols":16,"rows_kept":4500,"cut":true,"hidden":false,"merged":[],"bounds":{"rows_first":2000,"rows_last":500,"rows_between":2000,"halvings":0}}
[null,null,null,"No.","PATRON","REG. PATRONAL","INC","I M P O R T E",null,null,null,null,null,"PATRON","NOMBRE PATRON ","PATRICIA MATSUE MIYAMOTO ISHINO"]
[null,null,null,{"$f":"COUNTIF($E$1:E2,consulta!$D$1)","v":0},"PATRICIA MATSUE MIYAMOTO ISHINO",2103043810,1,730.23,null,null,null,null,null,"PATRICIA MATSUE MIYAMOTO ISHINO"]
[null,null,null,{"$f":"COUNTIF($E$1:E3,consulta!$D$1)","v":0},"PATRICIA MATSUE MIYAMOTO ISHINO",2103043810,1,742.39,null,null,null,null,null,1]
[null,null,null,{"$f":"COUNTIF($E$1:E4,consulta!$D$1)","v":0},"PATRICIA MATSUE MIYAMOTO ISHINO",2103043810,1,742.39,null,null,null,null,null,2]
[null,null,null,{"$f":"COUNTIF($E$1:E5,consulta!$D$1)","v":0},"PATRICIA MATSUE MIYAMOTO ISHINO",2103043810,1,754.56,null,null,null,null,null,3]
[null,null,null,{"$f":"COUNTIF($E$1:E6,consulta!$D$1)","v":0},"PATRICIA MATSUE MIYAMOTO ISHINO",2103043810,1,742.39,null,null,null,null,null,4]
[null,null,null,{"$f":"COUNTIF($E$1:E7,consulta!$D$1)","v":0},"PATRICIA MATSUE MIYAMOTO ISHINO",2103043810,1,742.39,null,null,null,null,null,5]
[null,null,null,{"$f":"COUNTIF($E$1:E8,consulta!$D$1)","v":0},"PATRICIA MATSUE MIYAMOTO ISHINO",2103043810,1,292.08999999999997,null,null,null,null,null,6]
[null,null,null,{"$f":"COUNTIF($E$1:E9,consulta!$D$1)","v":0},"PATRICIA MATSUE MIYAMOTO ISHINO",2103043810,1,865.51,null,null,null,null,null,"TROPICAL MOKA SA DE CV"]
[null,null,null,{"$f":"COUNTIF($E$1:E10,consulta!$D$1)","v":0},"PATRICIA MATSUE MIYAMOTO ISHINO",2103043810,1,296.95,null,null,null,null,null,"FUNDICION GAMBOA SA DE CV"]
[null,null,null,{"$f":"COUNTIF($E$1:E11,consulta!$D$1)","v":0},"PATRICIA MATSUE MIYAMOTO ISHINO",2103043810,1,346.2,null,null,null,null,null,"ADOLFO CRUZ RODRIGUEZ"]
[null,null,null,{"$f":"COUNTIF($E$1:E12,consulta!$D$1)","v":0},"PATRICIA MATSUE MIYAMOTO ISHINO",2103043810,1,925.21,null,null,null,null,null,"PANADERIA LA TAPATIA DE TIJUANA SA"]
[null,null,null,{"$f":"COUNTIF($E$1:E13,consulta!$D$1)","v":0},"PATRICIA MATSUE MIYAMOTO ISHINO",2103043810,1,296.95,null,null,null,null,null,"ADYS DE TIJUANA SA DE CV"]
[null,null,null,{"$f":"COUNTIF($E$1:E14,consulta!$D$1)","v":0},"PATRICIA MATSUE MIYAMOTO ISHINO",2103043810,1,370.08,null,null,null,null,null,"GABRIELA ALEJANDRA PAVIA SOSA"]
[null,null,null,{"$f":"COUNTIF($E$1:E15,consulta!$D$1)","v":0},"PATRICIA MATSUE MIYAMOTO ISHINO",2103043810,1,895.37,null,null,null,null,null,"TRANSPORTES URBANOS Y SUB-URBANOS TIJUANA SA"]
[null,null,null,{"$f":"COUNTIF($E$1:E16,consulta!$D$1)","v":0},"PATRICIA MATSUE MIYAMOTO ISHINO",2103043810,1,301.82,null,null,null,null,null,"CENTRO MEDICO HOSPITAL DEL PRADO SA DE CV"]
[null,null,null,{"$f":"COUNTIF($E$1:E17,consulta!$D$1)","v":0},"PATRICIA MATSUE MIYAMOTO ISHINO",2103043810,1,358.14,null,null,null,null,null,"LIN TRANSP URBANOS SUB URBANOS DE BCSA"]
[null,null,null,{"$f":"COUNTIF($E$1:E18,consulta!$D$1)","v":0},"PATRICIA MATSUE MIYAMOTO ISHINO",2103043810,1,925.21,null,null,null,null,null,"DISTRIBOMBAS SA DE CV"]
[null,null,null,{"$f":"COUNTIF($E$1:E19,consulta!$D$1)","v":0},"PATRICIA MATSUE MIYAMOTO ISHINO",2103043810,1,296.95,null,null,null,null,null,"MA ANGELICA DIAZ DE LEON F"]
[null,null,null,{"$f":"COUNTIF($E$1:E20,consulta!$D$1)","v":0},"PATRICIA MATSUE MIYAMOTO ISHINO",2103043810,1,370.08,null,null,null,null,null,"RADIO TIJUANA SA"]
[null,null,null,{"$f":"COUNTIF($E$1:E21,consulta!$D$1)","v":0},"PATRICIA MATSUE MIYAMOTO ISHINO",2103043810,1,895.37,null,null,null,null,null,"LAURA ISELA LOPEZ LARA"]
[null,null,null,{"$f":"COUNTIF($E$1:E22,consulta!$D$1)","v":0},"PATRICIA MATSUE MIYAMOTO ISHINO",2103043810,1,358.14,null,null,null,null,null,"JAVIER JIMENEZ JIMENEZ"]
[null,null,null,{"$f":"COUNTIF($E$1:E23,consulta!$D$1)","v":0},"PATRICIA MATSUE MIYAMOTO ISHINO",2103043810,1,925.21,null,null,null,null,null,7]
[null,null,null,{"$f":"COUNTIF($E$1:E24,consulta!$D$1)","v":0},"PATRICIA MATSUE MIYAMOTO ISHINO",2103043810,1,370.08,null,null,null,null,null,8]
[null,null,null,{"$f":"COUNTIF($E$1:E25,consulta!$D$1)","v":0},"PATRICIA MATSUE MIYAMOTO ISHINO",2103043810,1,925.21,null,null,null,null,null,9]
[null,null,null,{"$f":"COUNTIF($E$1:E26,consulta!$D$1)","v":0},"PATRICIA MATSUE MIYAMOTO ISHINO",2103043810,1,370.08,null,null,null,null,null,10]
[null,null,null,{"$f":"COUNTIF($E$1:E27,consulta!$D$1)","v":0},"PATRICIA MATSUE MIYAMOTO ISHINO",2103043810,1,895.37]
[null,null,null,{"$f":"COUNTIF($E$1:E28,consulta!$D$1)","v":0},"PATRICIA MATSUE MIYAMOTO ISHINO",2103043810,1,358.14,null,null,null,null,null,"JUAN GARCIA MARQUEZ"]
[null,null,null,{"$f":"COUNTIF($E$1:E29,consulta!$D$1)","v":0},"PATRICIA MATSUE MIYAMOTO ISHINO",2103043810,1,925.21,null,null,null,null,null,"JOSE JUAN VARELA REGALADO"]
[null,null,null,{"$f":"COUNTIF($E$1:E30,consulta!$D$1)","v":0},"PATRICIA MATSUE MIYAMOTO ISHINO",2103043810,1,370.08,null,null,null,null,null,"MIGUEL ANGEL PE#A FERNANDEZ"]
[null,null,null,{"$f":"COUNTIF($E$1:E31,consulta!$D$1)","v":0},"PATRICIA MATSUE MIYAMOTO ISHINO",2103043810,1,895.37,null,null,null,null,null,"EXPORTADORA CONTINENTAL SA DE CV"]
[null,null,null,{"$f":"COUNTIF($E$1:E32,consulta!$D$1)","v":0},"PATRICIA MATSUE MIYAMOTO ISHINO",2103043810,1,358.14,null,null,null,null,null,"NUEVO VENUS BAR SA DE CV"]
[null,null,null,{"$f":"COUNTIF($E$1:E33,consulta!$D$1)","v":0},"PATRICIA MATSUE MIYAMOTO ISHINO",2103043810,1,925.21,null,null,null,null,null,"RADIO 80 S.A."]
[null,null,null,{"$f":"COUNTIF($E$1:E34,consulta!$D$1)","v":0},"PATRICIA MATSUE MIYAMOTO ISHINO",2103043810,1,370.08,null,null,null,null,null,"ROCIO SUAREZ DURAN"]
[null,null,null,{"$f":"COUNTIF($E$1:E35,consulta!$D$1)","v":0},"PATRICIA MATSUE MIYAMOTO ISHINO",2103043810,1,296.95,null,null,null,null,null,"INSTITUTO AMERICA A.C."]
[null,null,null,{"$f":"COUNTIF($E$1:E36,consulta!$D$1)","v":0},1,2103047310,1,104470.95,null,null,null,null,null,"CONCRETOS PRESFORZADOS DE BAJA CALIFORNIA SA DE CV"]
[null,null,null,{"$f":"COUNTIF($E$1:E37,consulta!$D$1)","v":0},2,2103047310,1,41788.379999999997,null,null,null,null,null,"BRAKES SA DE CV"]
[null,null,null,{"$f":"COUNTIF($E$1:E38,consulta!$D$1)","v":0},3,2103047310,1,43231.08,null,null,null,null,null,"GAMBOA Y COMPA#IA SA"]
[null,null,null,{"$f":"COUNTIF($E$1:E39,consulta!$D$1)","v":0},4,2103047310,1,108077.69,null,null,null,null,null,"PASCUAL NAVARRO SOTO"]
[null,null,null,{"$f":"COUNTIF($E$1:E40,consulta!$D$1)","v":0},5,2103047310,1,109674.12,null,null,null,null,null,"ESCALANTE GUERRA SELECTORA DE PERSONAL SA DE CV"]
[null,null,null,{"$f":"COUNTIF($E$1:E41,consulta!$D$1)","v":0},6,2103047310,1,43869.65,null,null,null,null,null,"OPTICAS LORENTZ DE MEXICO SA DE CV"]
[null,null,null,{"$f":"COUNTIF($E$1:E42,consulta!$D$1)","v":0},"TROPICAL MOKA SA DE CV",2103060310,1,29799.78,null,null,null,null,null,"ALBERTO LIZARRAGA NAVARRO"]
[null,null,null,{"$f":"COUNTIF($E$1:E43,consulta!$D$1)","v":0},"TROPICAL MOKA SA DE CV",2103060310,1,11679.86,null,null,null,null,null,"OPERADORA NEGRETE S.A. DE C.V."]
[null,null,null,{"$f":"COUNTIF($E$1:E44,consulta!$D$1)","v":0},"TROPICAL MOKA SA DE CV",2103060310,1,11874.47,null,null,null,null,null,"ANA MARIA ALDRETE BORJA"]
[null,null,null,{"$f":"COUNTIF($E$1:E45,consulta!$D$1)","v":0},"TROPICAL MOKA SA DE CV",2103060310,1,11874.47,null,null,null,null,null,"OSCAR EMILIO PALOMINO VALDEZ"]
[null,null,null,{"$f":"COUNTIF($E$1:E46,consulta!$D$1)","v":0},"TROPICAL MOKA SA DE CV",2103060310,1,11919.91,null,null,null,null,null,"FRANCISCO ZU#IGA MU#OZ"]
[null,null,null,{"$f":"COUNTIF($E$1:E47,consulta!$D$1)","v":0},"TROPICAL MOKA SA DE CV",2103060310,2,13771.3,null,null,null,null,null,"FARMACIAS DEL ALBA SA DE CV"]
[null,null,null,{"$f":"COUNTIF($E$1:E48,consulta!$D$1)","v":0},"TROPICAL MOKA SA DE CV",2103060310,1,20232.169999999998,null,null,null,null,null,"CONTROL TECNICO ESPECIALIZADO SA"]
[null,null,null,{"$f":"COUNTIF($E$1:E49,consulta!$D$1)","v":0},"TROPICAL MOKA SA DE CV",2103060310,1,8092.87,null,null,null,null,null,"HIPODROMO DE AGUA CALIENTE SA DE CV"]
[null,null,null,{"$f":"COUNTIF($E$1:E50,consulta!$D$1)","v":0},"TROPICAL MOKA SA DE CV",2103060310,1,4749.78,null,null,null,null,null,"EL RODEO INTERNACIONAL SA DE CV"]
[null,null,null,{"$f":"COUNTIF($E$1:E51,consulta!$D$1)","v":0},"TROPICAL MOKA SA DE CV",2103060310,1,12767.66,null,null,null,null,null,"RAYMUNDO BURGUE#O LUNA"]
[null,null,null,{"$f":"COUNTIF($E$1:E52,consulta!$D$1)","v":0},"TROPICAL MOKA SA DE CV",2103060310,1,5107.0600000000004,null,null,null,null,null,"JUAN LEDESMA POTTER"]
[null,null,null,{"$f":"COUNTIF($E$1:E53,consulta!$D$1)","v":0},"TROPICAL MOKA SA DE CV",2103060310,1,12767.66,null,null,null,null,null,"OPERADORA DE RESTAURANTES ELITE SA DE CV"]
[null,null,null,{"$f":"COUNTIF($E$1:E54,consulta!$D$1)","v":0},"TROPICAL MOKA SA DE CV",2103060310,1,5107.0600000000004,null,null,null,null,null,"CLUB CAZA TIRO PESCA BERR, A.C."]
[null,null,null,{"$f":"COUNTIF($E$1:E55,consulta!$D$1)","v":0},"TROPICAL MOKA SA DE CV",2103060310,1,4749.78,null,null,null,null,null,"PEDRO GENARO KING CHAN"]
[null,null,null,{"$f":"COUNTIF($E$1:E56,consulta!$D$1)","v":0},"FUNDICION GAMBOA SA DE CV",2103063310,1,35726.04,null,null,null,null,null,"RODOLFO LAREDO MONTES"]
[null,null,null,{"$f":"COUNTIF($E$1:E57,consulta!$D$1)","v":0},"FUNDICION GAMBOA SA DE CV",2103063310,1,34457.199999999997,null,null,null,null,null,"ALEJANDRO BELTRAN MACHADO"]
[null,null,null,{"$f":"COUNTIF($E$1:E58,consulta!$D$1)","v":0},"ADOLFO CRUZ RODRIGUEZ",2103063510,1,2689.76,null,null,null,null,null,"ANTONIETA MARIA ADAMO DE LA TORRE"]
[null,null,null,{"$f":"COUNTIF($E$1:E59,consulta!$D$1)","v":0},"ADOLFO CRUZ RODRIGUEZ",2103063510,1,2689.76,null,null,null,null,null,"MARIA JUANA ANDRADE SANTOS"]
[null,null,null,{"$f":"COUNTIF($E$1:E60,consulta!$D$1)","v":0},"ADOLFO CRUZ RODRIGUEZ",2103063510,1,1075.9000000000001,null,null,null,null,null,"LA VUELTA DEL RODEO SA DE CV"]
[null,null,null,{"$f":"COUNTIF($E$1:E61,consulta!$D$1)","v":0},"ADOLFO CRUZ RODRIGUEZ",2103063510,1,3034.97,null,null,null,null,null,"ARFS SA"]
[null,null,null,{"$f":"COUNTIF($E$1:E62,consulta!$D$1)","v":0},"ADOLFO CRUZ RODRIGUEZ",2103063510,1,1213.98,null,null,null,null,null,"RADIO SENSACION DE TIJUANA SA"]
[null,null,null,{"$f":"COUNTIF($E$1:E63,consulta!$D$1)","v":0},"ADOLFO CRUZ RODRIGUEZ",2103063510,1,2937.08,null,null,null,null,null,"JORGE ISRAEL RUIZ CHAVIRA"]
[null,null,null,{"$f":"COUNTIF($E$1:E64,consulta!$D$1)","v":0},"ADOLFO CRUZ RODRIGUEZ",2103063510,1,1174.83,null,null,null,null,null,"MARTE LOPEZ GOMEZ"]
[null,null,null,{"$f":"COUNTIF($E$1:E65,consulta!$D$1)","v":0},"ADOLFO CRUZ RODRIGUEZ",2103063510,1,3034.97,null,null,null,null,null,"AGUSTIN ZAIZAR RIVAS"]
[null,null,null,{"$f":"COUNTIF($E$1:E66,consulta!$D$1)","v":0},"ADOLFO CRUZ RODRIGUEZ",2103063510,1,1075.9000000000001,null,null,null,null,null,"JOSE BENJAMIN LUCERO FAUSTO"]
[null,null,null,{"$f":"COUNTIF($E$1:E67,consulta!$D$1)","v":0},"ADOLFO CRUZ RODRIGUEZ",2103063510,1,1213.98,null,null,null,null,null,"MA ELENA GONZALEZ CERVANTES"]
[null,null,null,{"$f":"COUNTIF($E$1:E68,consulta!$D$1)","v":0},"ADOLFO CRUZ RODRIGUEZ",2103063510,1,1213.98,null,null,null,null,null,"LA GLORIA DE TIJUANA, SA DE CV"]
[null,null,null,{"$f":"COUNTIF($E$1:E69,consulta!$D$1)","v":0},"ADOLFO CRUZ RODRIGUEZ",2103063510,1,3034.97,null,null,null,null,null,"PERFORAC B CALIF, S. DE R.L."]
[null,null,null,{"$f":"COUNTIF($E$1:E70,consulta!$D$1)","v":0},"ADOLFO CRUZ RODRIGUEZ",2103063510,1,1213.98,null,null,null,null,null,"LA FOGATA DE TIJUANA SA"]
[null,null,null,{"$f":"COUNTIF($E$1:E71,consulta!$D$1)","v":0},"ADOLFO CRUZ RODRIGUEZ",2103063510,1,1075.9000000000001,null,null,null,null,null,"BENJAMIN FLORES TORRES"]
[null,null,null,{"$f":"COUNTIF($E$1:E72,consulta!$D$1)","v":0},"PANADERIA LA TAPATIA DE TIJUANA SA",2103071310,1,7770.38,null,null,null,null,null,"TRANSPORTES URBANOS CALAFIA BC, S.A. DE C.V."]
[null,null,null,{"$f":"COUNTIF($E$1:E73,consulta!$D$1)","v":0},"PANADERIA LA TAPATIA DE TIJUANA SA",2103071310,1,7770.38,null,null,null,null,null,"CHOIX EDITORES S DE RL DE CV"]
[null,null,null,{"$f":"COUNTIF($E$1:E74,consulta!$D$1)","v":0},"PANADERIA LA TAPATIA DE TIJUANA SA",2103071310,1,7897.72,null,null,null,null,null,"SUITES ROYAL DE TIJUANA SA DE CV"]
[null,null,null,{"$f":"COUNTIF($E$1:E75,consulta!$D$1)","v":0},"PANADERIA LA TAPATIA DE TIJUANA SA",2103071310,1,7425.25,null,null,null,null,null,"GASOLINERA MONTE SAN ANTONIO SA DE CV"]
[null,null,null,{"$f":"COUNTIF($E$1:E76,consulta!$D$1)","v":0},"PANADERIA LA TAPATIA DE TIJUANA SA",2103071310,1,6928.27,null,null,null,null,null,"SALVADOR EUGENIO LEMUS QUINTANILLA"]
[null,null,null,{"$f":"COUNTIF($E$1:E77,consulta!$D$1)","v":0},"PANADERIA LA TAPATIA DE TIJUANA SA",2103071310,1,3108.15,null,null,null,null,null,"LA GATITA HAPPY KITTY S DE RL DE CV"]
[null,null,null,{"$f":"COUNTIF($E$1:E78,consulta!$D$1)","v":0},"PANADERIA LA TAPATIA DE TIJUANA SA",2103071310,1,3108.15,null,null,null,null,null,"MARCELO RUIZ LUNA"]
[null,null,null,{"$f":"COUNTIF($E$1:E79,consulta!$D$1)","v":0},"PANADERIA LA TAPATIA DE TIJUANA SA",2103071310,1,3159.08,null,null,null,null,null,"DESARROLLOS INMOBILIARIOS DEL NOROESTE SA DE CV"]
[null,null,null,{"$f":"COUNTIF($E$1:E80,consulta!$D$1)","v":0},"PANADERIA LA TAPATIA DE TIJUANA SA",2103071310,1,8882.44,null,null,null,null,null,"COLEGIO DE BACHILLERES DEL ESTADO DE BAJA CALIFORNIA"]
[null,null,null,{"$f":"COUNTIF($E$1:E81,consulta!$D$1)","v":0},"PANADERIA LA TAPATIA DE TIJUANA SA",2103071310,1,2970.1,null,null,null,null,null,"LILLIAN VALENCIA ALONSO"]
[null,null,null,{"$f":"COUNTIF($E$1:E82,consulta!$D$1)","v":0},"PANADERIA LA TAPATIA DE TIJUANA SA",2103071310,1,3552.97,null,null,null,null,null,"RAD DIAG CENTRO MED PRADO, S.A."]
[null,null,null,{"$f":"COUNTIF($E$1:E83,consulta!$D$1)","v":0},"PANADERIA LA TAPATIA DE TIJUANA SA",2103071310,1,8595.86,null,null,null,null,null,"MABAMEX SA DE CV"]
[null,null,null,{"$f":"COUNTIF($E$1:E84,consulta!$D$1)","v":0},"PANADERIA LA TAPATIA DE TIJUANA SA",2103071310,1,3438.34,null,null,null,null,null,"CENTRO DEPORTIVO BANCARIO DE TIJUANA AC"]
[null,null,null,{"$f":"COUNTIF($E$1:E85,consulta!$D$1)","v":0},"PANADERIA LA TAPATIA DE TIJUANA SA",2103071310,1,8882.44,null,null,null,null,null,"MARIA LUISA BAYLON ROMERO"]
[null,null,null,{"$f":"COUNTIF($E$1:E86,consulta!$D$1)","v":0},"PANADERIA LA TAPATIA DE TIJUANA SA",2103071310,1,3552.97,null,null,null,null,null,"A.E.I.O.U. SC"]
[null,null,null,{"$f":"COUNTIF($E$1:E87,consulta!$D$1)","v":0},"PANADERIA LA TAPATIA DE TIJUANA SA",2103071310,1,8882.44,null,null,null,null,null,"CENTRO CAMBIARIO MONTA#O SA DE CV"]
[null,null,null,{"$f":"COUNTIF($E$1:E88,consulta!$D$1)","v":0},"PANADERIA LA TAPATIA DE TIJUANA SA",2103071310,1,3552.97,null,null,null,null,null,"ROBERTO MILANEZ RAMIREZ"]
[null,null,null,{"$f":"COUNTIF($E$1:E89,consulta!$D$1)","v":0},"PANADERIA LA TAPATIA DE TIJUANA SA",2103071310,1,8595.86,null,null,null,null,null,"MARCOS CALIDAD SA DE CV"]
[null,null,null,{"$f":"COUNTIF($E$1:E90,consulta!$D$1)","v":0},"PANADERIA LA TAPATIA DE TIJUANA SA",2103071310,1,3438.34,null,null,null,null,null,"EL DANDY DEL SUR CAFE CANTANTE SA DE CV"]
[null,null,null,{"$f":"COUNTIF($E$1:E91,consulta!$D$1)","v":0},"PANADERIA LA TAPATIA DE TIJUANA SA",2103071310,1,8095.59,null,null,null,null,null,"DISE#OS BAJA PACIFICO SA DE CV"]
[null,null,null,{"$f":"COUNTIF($E$1:E92,consulta!$D$1)","v":0},"PANADERIA LA TAPATIA DE TIJUANA SA",2103071310,1,3238.23,null,null,null,null,null,"INMUEBLES SANTA FE DE BAJA CALIFORNIA SA"]
[null,null,null,{"$f":"COUNTIF($E$1:E93,consulta!$D$1)","v":0},"PANADERIA LA TAPATIA DE TIJUANA SA",2103071310,1,7906.75,null,null,null,null,null,"OXIDOS Y PIGMENTOS MEXICANOS SA DE CV"]
[null,null,null,{"$f":"COUNTIF($E$1:E94,consulta!$D$1)","v":0},"PANADERIA LA TAPATIA DE TIJUANA SA",2103071310,1,3162.7,null,null,null,null,null,"LUZ HAYDEE LOPEZ SANTILLAN"]
[null,null,null,{"$f":"COUNTIF($E$1:E95,consulta!$D$1)","v":0},"PANADERIA LA TAPATIA DE TIJUANA SA",2103071310,1,2771.3,null,null,null,null,null,"CALAFIA FURNITURE SA DE CV"]
[null,null,null,{"$f":"COUNTIF($E$1:E96,consulta!$D$1)","v":0},"ADYS DE TIJUANA SA DE CV",2103072510,1,14963.08,null,null,null,null,null,"MADERERIA Y FERRETERIA LUNA SA DE CV"]
[null,null,null,{"$f":"COUNTIF($E$1:E97,consulta!$D$1)","v":0},"GABRIELA ALEJANDRA PAVIA SOSA",2103102810,1,7846.85,null,null,null,null,null,"FABIAN GUERRERO RODRIGUEZ"]
[null,null,null,{"$f":"COUNTIF($E$1:E98,consulta!$D$1)","v":0},"GABRIELA ALEJANDRA PAVIA SOSA",2103102810,1,3138.74,null,null,null,null,null,"BIRRIERIA MI LEON GUANAJUATO SA DE CV"]
[null,null,null,{"$f":"COUNTIF($E$1:E99,consulta!$D$1)","v":0},"TRANSPORTES URBANOS Y SUB-URBANOS TIJUANA SA",2103114510,2,23659.16,null,null,null,null,null,"INSTITUTO CUAUHTLATOHUAC AC"]
[null,null,null,{"$f":"COUNTIF($E$1:E100,consulta!$D$1)","v":0},"TRANSPORTES URBANOS Y SUB-URBANOS TIJUANA SA",2103114510,2,24053.18,null,null,null,null,null,"PRODUCTOS INTERNACIONALES MABE SA DE CV"]
[null,null,null,{"$f":"COUNTIF($E$1:E101,consulta!$D$1)","v":0},"TRANSPORTES URBANOS Y SUB-URBANOS TIJUANA SA",2103114510,2,19044.03,null,null,null,null,null,"OSCAR SEVILLA CUEVA"]
[null,null,null,{"$f":"COUNTIF($E$1:E102,consulta!$D$1)","v":0},"TRANSPORTES URBANOS Y SUB-URBANOS TIJUANA SA",2103114510,2,16494.62,null,null,null,null,null,"CARLOS PONCE POZO"]
[null,null,null,{"$f":"COUNTIF($E$1:E103,consulta!$D$1)","v":0},"TRANSPORTES URBANOS Y SUB-URBANOS TIJUANA SA",2103114510,1,16228.59,null,null,null,null,null,"JORGE CANDELARIO BAZUA GUERRERO"]
[null,null,null,{"$f":"COUNTIF($E$1:E104,consulta!$D$1)","v":0},"TRANSPORTES URBANOS Y SUB-URBANOS TIJUANA SA",2103114510,1,13599.79,null,null,null,null,null,"MIGUEL HERNANDEZ DURAN"]
[null,null,null,{"$f":"COUNTIF($E$1:E105,consulta!$D$1)","v":0},"TRANSPORTES URBANOS Y SUB-URBANOS TIJUANA SA",2103114510,2,9463.66,null,null,null,null,null,"MEXHON S DE RL DE CV"]
[null,null,null,{"$f":"COUNTIF($E$1:E106,consulta!$D$1)","v":0},"TRANSPORTES URBANOS Y SUB-URBANOS TIJUANA SA",2103114510,2,27355.91,null,null,null,null,null,"JAVIER VALDEZ ACEVES"]
[null,null,null,{"$f":"COUNTIF($E$1:E107,consulta!$D$1)","v":0},"TRANSPORTES URBANOS Y SUB-URBANOS TIJUANA SA",2103114510,2,9621.27,null,null,null,null,null,"CARBAR INDUSTRIAL SA"]
[null,null,null,{"$f":"COUNTIF($E$1:E108,consulta!$D$1)","v":0},"TRANSPORTES URBANOS Y SUB-URBANOS TIJUANA SA",2103114510,2,10942.36,null,null,null,null,null,"JESUS MANUEL LARA GRACIA"]
[null,null,null,{"$f":"COUNTIF($E$1:E109,consulta!$D$1)","v":0},"TRANSPORTES URBANOS Y SUB-URBANOS TIJUANA SA",2103114510,2,29242.799999999999,null,null,null,null,null,"AUTO TRANSPORTES DE PASAJEROS URBANOS Y SUB-URBANOS CALFIA DE TIJUANA SA DE CV"]
[null,null,null,{"$f":"COUNTIF($E$1:E110,consulta!$D$1)","v":0},"TRANSPORTES URBANOS Y SUB-URBANOS TIJUANA SA",2103114510,2,7617.61,null,null,null,null,null,"NACIONAL EDITORA SA DE CV"]
[null,null,null,{"$f":"COUNTIF($E$1:E111,consulta!$D$1)","v":0},"TRANSPORTES URBANOS Y SUB-URBANOS TIJUANA SA",2103114510,2,11697.12,null,null,null,null,null,"JOSUE GONZALEZ ALVARADO"]
[null,null,null,{"$f":"COUNTIF($E$1:E112,consulta!$D$1)","v":0},"TRANSPORTES URBANOS Y SUB-URBANOS TIJUANA SA",2103114510,2,28299.65,null,null,null,null,null,"DOMINGO CORRALES MADRID"]
[null,null,null,{"$f":"COUNTIF($E$1:E113,consulta!$D$1)","v":0},"TRANSPORTES URBANOS Y SUB-URBANOS TIJUANA SA",2103114510,2,6597.84,null,null,null,null,null,"PROVEEDORA ART FIESTAS, S.A."]
[null,null,null,{"$f":"COUNTIF($E$1:E114,consulta!$D$1)","v":0},"TRANSPORTES URBANOS Y SUB-URBANOS TIJUANA SA",2103114510,2,11319.86,null,null,null,null,null,"TURBO TECNOLOGIA DE REPARACIONES SA DE CV"]
[null,null,null,{"$f":"COUNTIF($E$1:E115,consulta!$D$1)","v":0},"TRANSPORTES URBANOS Y SUB-URBANOS TIJUANA SA",2103114510,2,26485.599999999999,null,null,null,null,null,"ALBERTO B MONTA#O RUBIO"]
[null,null,null,{"$f":"COUNTIF($E$1:E116,consulta!$D$1)","v":0},"TRANSPORTES URBANOS Y SUB-URBANOS TIJUANA SA",2103114510,1,6491.43,null,null,null,null,null,"LAMKIN DE MEXICO SA DE CV"]
[null,null,null,{"$f":"COUNTIF($E$1:E117,consulta!$D$1)","v":0},"TRANSPORTES URBANOS Y SUB-URBANOS TIJUANA SA",2103114510,2,10594.24,null,null,null,null,null,"FRANCISCO JAVIER JIMENEZ SERRANO"]
[null,null,null,{"$f":"COUNTIF($E$1:E118,consulta!$D$1)","v":0},"TRANSPORTES URBANOS Y SUB-URBANOS TIJUANA SA",2103114510,2,19132.580000000002,null,null,null,null,null,"MEXICOCHE SA DE CV"]
[null,null,null,{"$f":"COUNTIF($E$1:E119,consulta!$D$1)","v":0},"TRANSPORTES URBANOS Y SUB-URBANOS TIJUANA SA",2103114510,2,7653.03,null,null,null,null,null,"BERENICE CUENCA LOPEZ"]
[null,null,null,{"$f":"COUNTIF($E$1:E120,consulta!$D$1)","v":0},"TRANSPORTES URBANOS Y SUB-URBANOS TIJUANA SA",2103114510,2,19770.22,null,null,null,null,null,"FETASA TIJUANA SA DE CV"]
[null,null,null,{"$f":"COUNTIF($E$1:E121,consulta!$D$1)","v":0},"TRANSPORTES URBANOS Y SUB-URBANOS TIJUANA SA",2103114510,2,7908.08,null,null,null,null,null,"LUZ MA DGUEZ MTEZ"]
[null,null,null,{"$f":"COUNTIF($E$1:E122,consulta!$D$1)","v":0},"TRANSPORTES URBANOS Y SUB-URBANOS TIJUANA SA",2103114510,2,19770.22,null,null,null,null,null,"AMAC IMPRESOS SA DE CV"]
[null,null,null,{"$f":"COUNTIF($E$1:E123,consulta!$D$1)","v":0},"TRANSPORTES URBANOS Y SUB-URBANOS TIJUANA SA",2103114510,2,7908.08,null,null,null,null,null,"GEO BAJA CALIFORNIA SA DE CV"]
[null,null,null,{"$f":"COUNTIF($E$1:E124,consulta!$D$1)","v":0},"TRANSPORTES URBANOS Y SUB-URBANOS TIJUANA SA",2103114510,2,19132.580000000002,null,null,null,null,null,"PLASTICOS AMC DE MEXICO SA DE CV"]
[null,null,null,{"$f":"COUNTIF($E$1:E125,consulta!$D$1)","v":0},"TRANSPORTES URBANOS Y SUB-URBANOS TIJUANA SA",2103114510,2,7653.03,null,null,null,null,null,"PROYECCIONES EDUCATIVAS AC"]
[null,null,null,{"$f":"COUNTIF($E$1:E126,consulta!$D$1)","v":0},"TRANSPORTES URBANOS Y SUB-URBANOS TIJUANA SA",2103114510,1,19770.22,null,null,null,null,null,"FERNANDO HUMBERTO PARRA CARRILLO"]
[null,null,null,{"$f":"COUNTIF($E$1:E127,consulta!$D$1)","v":0},"TRANSPORTES URBANOS Y SUB-URBANOS TIJUANA SA",2103114510,1,7908.08,null,null,null,null,null,"JUAN MANUEL FLORES GARCIA"]
[null,null,null,{"$f":"COUNTIF($E$1:E128,consulta!$D$1)","v":0},"TRANSPORTES URBANOS Y SUB-URBANOS TIJUANA SA",2103114510,1,16069.38,null,null,null,null,null,"PLUMA NACIONAL SA DE CV"]
[null,null,null,{"$f":"COUNTIF($E$1:E129,consulta!$D$1)","v":0},"TRANSPORTES URBANOS Y SUB-URBANOS TIJUANA SA",2103114510,1,6427.75,null,null,null,null,null,"AGENCIA ADUANAL ENRIQUE TRONCOSO SC"]
[null,null,null,{"$f":"COUNTIF($E$1:E130,consulta!$D$1)","v":0},"TRANSPORTES URBANOS Y SUB-URBANOS TIJUANA SA",2103114510,1,5439.91,null,null,null,null,null,"SERVICIO LONDRES DE TIJUANA SA DE CV"]
[null,null,null,{"$f":"COUNTIF($E$1:E131,consulta!$D$1)","v":0},"CENTRO MEDICO HOSPITAL DEL PRADO SA DE CV",2103121910,1,315049.82,null,null,null,null,null,"TECNICAS Y SERVICIOS INTERNACIONALES SA DE CV"]
[null,null,null,{"$f":"COUNTIF($E$1:E132,consulta!$D$1)","v":0},"CENTRO MEDICO HOSPITAL DEL PRADO SA DE CV",2103121910,1,271124.61,null,null,null,null,null,"AMBIENTE INFANTIL MONTESSORI SC"]
[null,null,null,{"$f":"COUNTIF($E$1:E133,consulta!$D$1)","v":0},"CENTRO MEDICO HOSPITAL DEL PRADO SA DE CV",2103121910,1,108449.84,null,null,null,null,null,"VIAJES PETRA SA DE CV"]
[null,null,null,{"$f":"COUNTIF($E$1:E134,consulta!$D$1)","v":0},"CENTRO MEDICO HOSPITAL DEL PRADO SA DE CV",2103121910,1,126019.92,null,null,null,null,null,"CASA HOGAR LA GLORIA AC"]
[null,null,null,{"$f":"COUNTIF($E$1:E135,consulta!$D$1)","v":0},"LIN TRANSP URBANOS SUB URBANOS DE BCSA",2103129710,1,38141.83,null,null,null,null,null,"UNIDAD HOSPITALARIA RVH S DE RL DE CV"]
[null,null,null,{"$f":"COUNTIF($E$1:E136,consulta!$D$1)","v":0},"LIN TRANSP URBANOS SUB URBANOS DE BCSA",2103129710,1,38592.120000000003,null,null,null,null,null,"J. ROGELIO MADRIGAL GUZMAN"]
[null,null,null,{"$f":"COUNTIF($E$1:E137,consulta!$D$1)","v":0},"LIN TRANSP URBANOS SUB URBANOS DE BCSA",2103129710,1,20623.349999999999,null,null,null,null,null,"INDUSTRIAL DE GRASAS Y DERIVADOS SA DE CV"]
[null,null,null,{"$f":"COUNTIF($E$1:E138,consulta!$D$1)","v":0},"LIN TRANSP URBANOS SUB URBANOS DE BCSA",2103129710,1,15256.73,null,null,null,null,null,"CALIXTO HERRERA FELIX"]
[null,null,null,{"$f":"COUNTIF($E$1:E139,consulta!$D$1)","v":0},"LIN TRANSP URBANOS SUB URBANOS DE BCSA",2103129710,1,51558.39,null,null,null,null,null,"INDUSTRIAS NORO DE ENSAMBLES SA DE CV"]
[null,null,null,{"$f":"COUNTIF($E$1:E140,consulta!$D$1)","v":0},"LIN TRANSP URBANOS SUB URBANOS DE BCSA",2103129710,1,50113.57,null,null,null,null,null,"ANA DE MEXICO SA DE CV"]
[null,null,null,{"$f":"COUNTIF($E$1:E141,consulta!$D$1)","v":0},"LIN TRANSP URBANOS SUB URBANOS DE BCSA",2103129710,1,20045.419999999998,null,null,null,null,null,"FABRICANTES CONSOLIDADOS S DE RL DE CV"]
[null,null,null,{"$f":"COUNTIF($E$1:E142,consulta!$D$1)","v":0},"LIN TRANSP URBANOS SUB URBANOS DE BCSA",2103129710,1,51751.67,null,null,null,null,null,"JOSE CASTILLO COTA"]
[null,null,null,{"$f":"COUNTIF($E$1:E143,consulta!$D$1)","v":0},"LIN TRANSP URBANOS SUB URBANOS DE BCSA",2103129710,1,20700.66,null,null,null,null,null,"JAVIER HERNANDEZ HERNANDEZ"]
[null,null,null,{"$f":"COUNTIF($E$1:E144,consulta!$D$1)","v":0},"LIN TRANSP URBANOS SUB URBANOS DE BCSA",2103129710,1,15436.84,null,null,null,null,null,"ROYAL CABINETS DE MEXICO S DE RL DE CV"]
[null,null,null,{"$f":"COUNTIF($E$1:E145,consulta!$D$1)","v":0},"DISTRIBOMBAS SA DE CV",2103143110,1,857.26,null,null,null,null,null,"CONSULTORES, INGENIEROS Y ADMINISTRADORES DE TIJUANA SA DE CV"]
[null,null,null,{"$f":"COUNTIF($E$1:E146,consulta!$D$1)","v":0},"DISTRIBOMBAS SA DE CV",2103143110,1,857.26,null,null,null,null,null,"CARTELERAS Y SERVICIOS SA DE CV"]
[null,null,null,{"$f":"COUNTIF($E$1:E147,consulta!$D$1)","v":0},"DISTRIBOMBAS SA DE CV",2103143110,1,342.9,null,null,null,null,null,"JOSE MA GLEZ AHUAGE"]
[null,null,null,{"$f":"COUNTIF($E$1:E148,consulta!$D$1)","v":0},"DISTRIBOMBAS SA DE CV",2103143110,1,1271.71,null,null,null,null,null,"NI#EZ, JUVENTUD Y CULTURA SC"]
[null,null,null,{"$f":"COUNTIF($E$1:E149,consulta!$D$1)","v":0},"DISTRIBOMBAS SA DE CV",2103143110,1,508.68,null,null,null,null,null,"ENSAMBLES DEL PACIFICO S DE RL DE CV"]
[null,null,null,{"$f":"COUNTIF($E$1:E150,consulta!$D$1)","v":0},"DISTRIBOMBAS SA DE CV",2103143110,1,1230.69,null,null,null,null,null,"ESTANCIA INFANTIL TIP AC"]
[null,null,null,{"$f":"COUNTIF($E$1:E151,consulta!$D$1)","v":0},"DISTRIBOMBAS SA DE CV",2103143110,1,492.27,null,null,null,null,null,"JOSE LUIS FEDERICO TAPIA LIMA"]
[null,null,null,{"$f":"COUNTIF($E$1:E152,consulta!$D$1)","v":0},"DISTRIBOMBAS SA DE CV",2103143110,1,1271.71,null,null,null,null,null,"UNIVERSIDAD DE LAS CALIFORNIAS INTERNACIONAL SC"]
[null,null,null,{"$f":"COUNTIF($E$1:E153,consulta!$D$1)","v":0},"DISTRIBOMBAS SA DE CV",2103143110,1,508.68,null,null,null,null,null,"MANUEL RAMOS GALLO"]
[null,null,null,{"$f":"COUNTIF($E$1:E154,consulta!$D$1)","v":0},"DISTRIBOMBAS SA DE CV",2103143110,1,342.9,null,null,null,null,null,"LUIS MAYA FRANCO"]
[null,null,null,{"$f":"COUNTIF($E$1:E155,consulta!$D$1)","v":0},"MA ANGELICA DIAZ DE LEON F",2103158510,1,2900.63,null,null,null,null,null,"CESAR ROMANO MONTALVO"]
[null,null,null,{"$f":"COUNTIF($E$1:E156,consulta!$D$1)","v":0},"MA ANGELICA DIAZ DE LEON F",2103158510,1,1954.02,null,null,null,null,null,"SILVERIO ROMERO OCHOA"]
[null,null,null,{"$f":"COUNTIF($E$1:E157,consulta!$D$1)","v":0},"MA ANGELICA DIAZ DE LEON F",2103158510,1,781.6,null,null,null,null,null,"J. JESUS MIRELES CERENO"]
[null,null,null,{"$f":"COUNTIF($E$1:E158,consulta!$D$1)","v":0},"MA ANGELICA DIAZ DE LEON F",2103158510,1,3040.18,null,null,null,null,null,"XINGMIN LIN"]
[null,null,null,{"$f":"COUNTIF($E$1:E159,consulta!$D$1)","v":0},"MA ANGELICA DIAZ DE LEON F",2103158510,1,1216.07,null,null,null,null,null,"REYNALDO SANDOVAL CORDOVA"]
[null,null,null,{"$f":"COUNTIF($E$1:E160,consulta!$D$1)","v":0},"MA ANGELICA DIAZ DE LEON F",2103158510,1,3141.47,null,null,null,null,null,"NEXT LINK COMUNICATIONS, S.A."]
[null,null,null,{"$f":"COUNTIF($E$1:E161,consulta!$D$1)","v":0},"MA ANGELICA DIAZ DE LEON F",2103158510,1,1256.58,null,null,null,null,null,"OMAR FRANCISCO GONZALEZ SALGADO"]
[null,null,null,{"$f":"COUNTIF($E$1:E162,consulta!$D$1)","v":0},"MA ANGELICA DIAZ DE LEON F",2103158510,1,1160.25,null,null,null,null,null,"COLEGIO FAMILIA DE TIJUANA AC"]
[null,null,null,{"$f":"COUNTIF($E$1:E163,consulta!$D$1)","v":0},"RADIO TIJUANA SA",2103167210,1,19288.12,null,null,null,null,null,"MARIO RODRIGUEZ"]
[null,null,null,{"$f":"COUNTIF($E$1:E164,consulta!$D$1)","v":0},"RADIO TIJUANA SA",2103167210,1,19288.12,null,null,null,null,null,"ENSAMBLES HYSON SA DE CV"]
[null,null,null,{"$f":"COUNTIF($E$1:E165,consulta!$D$1)","v":0},"RADIO TIJUANA SA",2103167210,1,7715.24,null,null,null,null,null,"FCO RAMIREZ GUERRERO"]
[null,null,null,{"$f":"COUNTIF($E$1:E166,consulta!$D$1)","v":0},"RADIO TIJUANA SA",2103167210,1,16388.599999999999,null,null,null,null,null,"NEREIDA JIMENEZ QUINTANA"]
[null,null,null,{"$f":"COUNTIF($E$1:E167,consulta!$D$1)","v":0},"RADIO TIJUANA SA",2103167210,1,6555.44,null,null,null,null,null,"CONSTRUCCIONES EDIFICS URBS CABRERA, S.A. DE C.V."]
[null,null,null,{"$f":"COUNTIF($E$1:E168,consulta!$D$1)","v":0},"RADIO TIJUANA SA",2103167210,1,16388.599999999999,null,null,null,null,null,"ESTELA BARAJAS GARCIA"]
[null,null,null,{"$f":"COUNTIF($E$1:E169,consulta!$D$1)","v":0},"RADIO TIJUANA SA",2103167210,1,6555.44,null,null,null,null,null,"LORENZO PULIDO SOTELO"]
[null,null,null,{"$f":"COUNTIF($E$1:E170,consulta!$D$1)","v":0},"RADIO TIJUANA SA",2103167210,1,7715.24,null,null,null,null,null,"GERARDO LOPEZ BRITO"]
[null,null,null,{"$f":"COUNTIF($E$1:E171,consulta!$D$1)","v":0},"LAURA ISELA LOPEZ LARA",2103205910,1,742.39,null,null,null,null,null,"FRANCISCO JAVIER LEGAZPI FLORES"]
[null,null,null,{"$f":"COUNTIF($E$1:E172,consulta!$D$1)","v":0},"LAURA ISELA LOPEZ LARA",2103205910,1,742.39,null,null,null,null,null,"EMANUEL TADEO DE LA PAZ"]
[null,null,null,{"$f":"COUNTIF($E$1:E173,consulta!$D$1)","v":0},"LAURA ISELA LOPEZ LARA",2103205910,1,296.95,null,null,null,null,null,"BAJA SATELITE Y SERVICIOS SA DE CV"]
[null,null,null,{"$f":"COUNTIF($E$1:E174,consulta!$D$1)","v":0},"LAURA ISELA LOPEZ LARA",2103205910,1,925.21,null,null,null,null,null,"EQUIPOS Y SERVICIOS INDUSTRIALES DE TIJUANA SA DE CV"]
[null,null,null,{"$f":"COUNTIF($E$1:E175,consulta!$D$1)","v":0},"LAURA ISELA LOPEZ LARA",2103205910,1,370.08,null,null,null,null,null,"DISTRIBUIDORA CUESTA, S.A. DE C.V."]
[null,null,null,{"$f":"COUNTIF($E$1:E176,consulta!$D$1)","v":0},"LAURA ISELA LOPEZ LARA",2103205910,1,358.14,null,null,null,null,null,"MANUFACTURERA BAJAMEX SA DE CV"]
[null,null,null,{"$f":"COUNTIF($E$1:E177,consulta!$D$1)","v":0},"LAURA ISELA LOPEZ LARA",2103205910,1,925.21,null,null,null,null,null,"JOSE CARLOS RODRIGUEZ LOPEZ"]
[null,null,null,{"$f":"COUNTIF($E$1:E178,consulta!$D$1)","v":0},"LAURA ISELA LOPEZ LARA",2103205910,1,370.08,null,null,null,null,null,"JOSE RAZO BERVER"]
[null,null,null,{"$f":"COUNTIF($E$1:E179,consulta!$D$1)","v":0},"LAURA ISELA LOPEZ LARA",2103205910,1,296.95,null,null,null,null,null,"FIESTA MEXICANA DEL VALLE SA DE CV"]
[null,null,null,{"$f":"COUNTIF($E$1:E180,consulta!$D$1)","v":0},"JAVIER JIMENEZ JIMENEZ",2103258510,1,1484.78,null,null,null,null,null,"MARIO VICENTE FIERRO SANCHEZ"]
[null,null,null,{"$f":"COUNTIF($E$1:E181,consulta!$D$1)","v":0},"JAVIER JIMENEZ JIMENEZ",2103258510,1,1484.78,null,null,null,null,null,"RICARDO LUIS MONGE LOPEZ"]
[null,null,null,{"$f":"COUNTIF($E$1:E182,consulta!$D$1)","v":0},"JAVIER JIMENEZ JIMENEZ",2103258510,1,593.91,null,null,null,null,null,"JESUS MANUEL AVILA ZAPATA"]
[null,null,null,{"$f":"COUNTIF($E$1:E183,consulta!$D$1)","v":0},"JAVIER JIMENEZ JIMENEZ",2103258510,1,1790.74,null,null,null,null,null,"CESAR JAVIER ESCANDON OJEDA"]
[null,null,null,{"$f":"COUNTIF($E$1:E184,consulta!$D$1)","v":0},"JAVIER JIMENEZ JIMENEZ",2103258510,1,716.29,null,null,null,null,null,"GENARO ORNELAS MENDEZ"]
[null,null,null,{"$f":"COUNTIF($E$1:E185,consulta!$D$1)","v":0},"JAVIER JIMENEZ JIMENEZ",2103258510,1,1850.42,null,null,null,null,null,"EQUIPOS ELECTRICOS DE BAJA CALIFORNIA SA DE CV"]
[null,null,null,{"$f":"COUNTIF($E$1:E186,consulta!$D$1)","v":0},"JAVIER JIMENEZ JIMENEZ",2103258510,1,740.16,null,null,null,null,null,"JORGE ARTURO ALVELAIS PALACIOS"]
[null,null,null,{"$f":"COUNTIF($E$1:E187,consulta!$D$1)","v":0},"JAVIER JIMENEZ JIMENEZ",2103258510,1,1850.42,null,null,null,null,null,"DIVE CONSTRUCTORA DE BAJA CALIFORNIA S DE RL DE CV"]
[null,null,null,{"$f":"COUNTIF($E$1:E188,consulta!$D$1)","v":0},"JAVIER JIMENEZ JIMENEZ",2103258510,1,740.16,null,null,null,null,null,"RAFAEL ARMANDO BARCO PINZON"]
[null,null,null,{"$f":"COUNTIF($E$1:E189,consulta!$D$1)","v":0},"JAVIER JIMENEZ JIMENEZ",2103258510,1,593.91,null,null,null,null,null,"ALFONSO ALEXANDER BROWN"]
[null,null,null,{"$f":"COUNTIF($E$1:E190,consulta!$D$1)","v":0},7,2103266510,1,2992.92,null,null,null,null,null,"G M ELECTROMECANICA SA DE CV"]
[null,null,null,{"$f":"COUNTIF($E$1:E191,consulta!$D$1)","v":0},8,2103266510,1,2329.9699999999998,null,null,null,null,null,"JOSE ANTONIO MENDOZA SALAS"]
[null,null,null,{"$f":"COUNTIF($E$1:E192,consulta!$D$1)","v":0},9,2103266510,1,1197.1600000000001,null,null,null,null,null,"DANIEL DE LOS REYES DUARTE"]
[null,null,null,{"$f":"COUNTIF($E$1:E193,consulta!$D$1)","v":0},10,2103266510,1,3712.66,null,null,null,null,null,"PIEDRAS HEADWATERS S DE RL DE CV"]
[null,null,null,{"$f":"COUNTIF($E$1:E194,consulta!$D$1)","v":0},null,2103266510,1,931.98,null,null,null,null,null,"SIGNIFY ELECTRONICS MEXICO SA DE CV"]
[null,null,null,{"$f":"COUNTIF($E$1:E195,consulta!$D$1)","v":0},null,2103266510,1,1485.06,null,null,null,null,null,"MARIA AUXILIO MARTINEZ GARCIA"]
[null,null,null,{"$f":"COUNTIF($E$1:E196,consulta!$D$1)","v":0},null,2103266510,1,3592.92,null,null,null,null,null,"YOLANDA TORRES PETROFF"]
[null,null,null,{"$f":"COUNTIF($E$1:E197,consulta!$D$1)","v":0},null,2103266510,1,1437.16,null,null,null,null,null,"JOSE DE JESUS CUSTODIO JIMENEZ"]
[null,null,null,{"$f":"COUNTIF($E$1:E198,consulta!$D$1)","v":0},null,2103266510,1,3712.66,null,null,null,null,null,"MA KUO WEIXING"]
[null,null,null,{"$f":"COUNTIF($E$1:E199,consulta!$D$1)","v":0},null,2103266510,1,1485.06,null,null,null,null,null,"RADIOMOVIL DIPSA SA DE CV"]
[null,null,null,{"$f":"COUNTIF($E$1:E200,consulta!$D$1)","v":0},null,2103266510,1,1975.53,null,null,null,null,null,"ISMAEL PESQUEIRA ESCALANTE"]
[null,null,null,{"$f":"COUNTIF($E$1:E201,consulta!$D$1)","v":0},null,2103266510,1,790.21,null,null,null,null,null,"MINERVA BARRAGAN CA#EDO"]
[null,null,null,{"$f":"COUNTIF($E$1:E202,consulta!$D$1)","v":0},"JUAN GARCIA MARQUEZ",2103286610,1,2988.07,null,null,null,null,null,"JESUS ENRIQUE VALDEZ SAUCEDO"]
[null,null,null,{"$f":"COUNTIF($E$1:E203,consulta!$D$1)","v":0},"JUAN GARCIA MARQUEZ",2103286610,1,2988.07,null,null,null,null,null,"ADALBERTO GONZALEZ VARGAS"]
[null,null,null,{"$f":"COUNTIF($E$1:E204,consulta!$D$1)","v":0},"JUAN GARCIA MARQUEZ",2103286610,1,1214.81,null,null,null,null,null,"COLEGIO LA SALLE BAJA CALIFORNIANO AC"]
[null,null,null,{"$f":"COUNTIF($E$1:E205,consulta!$D$1)","v":0},"JUAN GARCIA MARQUEZ",2103286610,1,1195.22,null,null,null,null,null,"JUAN MARTIN RAMIREZ AMES"]
[null,null,null,{"$f":"COUNTIF($E$1:E206,consulta!$D$1)","v":0},"JUAN GARCIA MARQUEZ",2103286610,1,1523.84,null,null,null,null,null,"OSCAR VALLE VIRGEN"]
[null,null,null,{"$f":"COUNTIF($E$1:E207,consulta!$D$1)","v":0},"JUAN GARCIA MARQUEZ",2103286610,1,3686.74,null,null,null,null,null,"AVAILMED SA DE CV"]
[null,null,null,{"$f":"COUNTIF($E$1:E208,consulta!$D$1)","v":0},"JUAN GARCIA MARQUEZ",2103286610,1,1474.69,null,null,null,null,null,"DANIEL ANTONIO ARMENDARIZ BELTRAN"]
[null,null,null,{"$f":"COUNTIF($E$1:E209,consulta!$D$1)","v":0},"JUAN GARCIA MARQUEZ",2103286610,1,3809.62,null,null,null,null,null,"GERARDO WILFRIDO TRUJILLO BARRAZA"]
[null,null,null,{"$f":"COUNTIF($E$1:E210,consulta!$D$1)","v":0},"JUAN GARCIA MARQUEZ",2103286610,1,1523.84,null,null,null,null,null,"CHRISTIAN TRULIN TORRES"]
[null,null,null,{"$f":"COUNTIF($E$1:E211,consulta!$D$1)","v":0},"JUAN GARCIA MARQUEZ",2103286610,1,3809.62,null,null,null,null,null,"JOSE CARLOS BRIBIESCA FERRON"]
[null,null,null,{"$f":"COUNTIF($E$1:E212,consulta!$D$1)","v":0},"JUAN GARCIA MARQUEZ",2103286610,1,1523.84,null,null,null,null,null,"MARIELA FRANCO GARCIA"]
[null,null,null,{"$f":"COUNTIF($E$1:E213,consulta!$D$1)","v":0},"JUAN GARCIA MARQUEZ",2103286610,1,1195.22,null,null,null,null,null,"LUIS ALFONSO MENDEZ TAMAYO"]
[null,null,null,{"$f":"COUNTIF($E$1:E214,consulta!$D$1)","v":0},"JOSE JUAN VARELA REGALADO",2103305110,1,191.01,null,null,null,null,null,"JUAN JOSE PARCERO VALDES"]
[null,null,null,{"$f":"COUNTIF($E$1:E215,consulta!$D$1)","v":0},"JOSE JUAN VARELA REGALADO",2103305110,1,223.93,null,null,null,null,null,"ENRIQUE GONZALEZ ALCAZAR"]
[null,null,null,{"$f":"COUNTIF($E$1:E216,consulta!$D$1)","v":0},"MIGUEL ANGEL PE#A FERNANDEZ",2103317910,1,742.39,null,null,null,null,null,"TRACTOPARTES Y SERVICIOS DIESEL CORONA SA DE CV"]
[null,null,null,{"$f":"COUNTIF($E$1:E217,consulta!$D$1)","v":0},"MIGUEL ANGEL PE#A FERNANDEZ",2103317910,1,742.39,null,null,null,null,null,"ALICIA ELIZABETH MERAZ OCHOA"]
[null,null,null,{"$f":"COUNTIF($E$1:E218,consulta!$D$1)","v":0},"MIGUEL ANGEL PE#A FERNANDEZ",2103317910,1,296.95,null,null,null,null,null,"RAUL CASTILLO ORTIZ"]
[null,null,null,{"$f":"COUNTIF($E$1:E219,consulta!$D$1)","v":0},"MIGUEL ANGEL PE#A FERNANDEZ",2103317910,2,358.14,null,null,null,null,null,"ANUNCIO E IMAGEN DE B.C. SA DE CV"]
[null,null,null,{"$f":"COUNTIF($E$1:E220,consulta!$D$1)","v":0},"MIGUEL ANGEL PE#A FERNANDEZ",2103317910,1,925.21,null,null,null,null,null,"ROBERTO BUENDIA SOSA"]
[null,null,null,{"$f":"COUNTIF($E$1:E221,consulta!$D$1)","v":0},"MIGUEL ANGEL PE#A FERNANDEZ",2103317910,1,370.08,null,null,null,null,null,"HECTOR ZARATE PAREDES"]
[null,null,null,{"$f":"COUNTIF($E$1:E222,consulta!$D$1)","v":0},"MIGUEL ANGEL PE#A FERNANDEZ",2103317910,1,925.21,null,null,null,null,null,"TOOGINO S PIZZA SA DE CV"]
[null,null,null,{"$f":"COUNTIF($E$1:E223,consulta!$D$1)","v":0},"MIGUEL ANGEL PE#A FERNANDEZ",2103317910,1,370.08,null,null,null,null,null,"JORGE ENRIQUE ASTIAZARAN ORCI"]
[null,null,null,{"$f":"COUNTIF($E$1:E224,consulta!$D$1)","v":0},"MIGUEL ANGEL PE#A FERNANDEZ",2103317910,1,296.95,null,null,null,null,null,"IMPERIAL TOY DE MEXICO S DE RL DE CV"]
[null,null,null,{"$f":"COUNTIF($E$1:E225,consulta!$D$1)","v":0},"EXPORTADORA CONTINENTAL SA DE CV",2103343610,1,42429.55,null,null,null,null,null,"MAM DE LA FRONTERA SA DE CV"]
[null,null,null,{"$f":"COUNTIF($E$1:E226,consulta!$D$1)","v":0},"NUEVO VENUS BAR SA DE CV",2103367510,1,1862.14,null,null,null,null,null,"GILBERTO TIRADO ANGULO"]
[null,null,null,{"$f":"COUNTIF($E$1:E227,consulta!$D$1)","v":0},"NUEVO VENUS BAR SA DE CV",2103367510,1,744.85,null,null,null,null,null,"UGCOM, S.A. DE C.V."]
[null,null,null,{"$f":"COUNTIF($E$1:E228,consulta!$D$1)","v":0},"RADIO 80 S.A.",2103381510,1,7294.96,null,null,null,null,null,"THOMAS HENRY GOLDING"]
[null,null,null,{"$f":"COUNTIF($E$1:E229,consulta!$D$1)","v":0},"RADIO 80 S.A.",2103381510,1,7294.96,null,null,null,null,null,"LEANDRO LOZANO RODRIGUEZ"]
[null,null,null,{"$f":"COUNTIF($E$1:E230,consulta!$D$1)","v":0},"RADIO 80 S.A.",2103381510,1,2917.98,null,null,null,null,null,"RAMON REYNOSO GTEZ"]
[null,null,null,{"$f":"COUNTIF($E$1:E231,consulta!$D$1)","v":0},"RADIO 80 S.A.",2103381510,1,6291.67,null,null,null,null,null,"LOURDES GUADALUPE ORTIZ BANDA"]
[null,null,null,{"$f":"COUNTIF($E$1:E232,consulta!$D$1)","v":0},"RADIO 80 S.A.",2103381510,1,2516.66,null,null,null,null,null,"OPERACIONES DE CLASE MUNDIAL SA DE CV"]
[null,null,null,{"$f":"COUNTIF($E$1:E233,consulta!$D$1)","v":0},"RADIO 80 S.A.",2103381510,1,6291.67,null,null,null,null,null,"MARIA DEL ROSARIO CORONA COSIO"]
[null,null,null,{"$f":"COUNTIF($E$1:E234,consulta!$D$1)","v":0},"RADIO 80 S.A.",2103381510,1,2516.66,null,null,null,null,null,"ESTANCIA INFANTIL A#O INTERNACIONAL DEL NI#O AC"]
[null,null,null,{"$f":"COUNTIF($E$1:E235,consulta!$D$1)","v":0},"RADIO 80 S.A.",2103381510,1,2917.98,null,null,null,null,null,"JAVIER DE LA O FRANCO"]
[null,null,null,{"$f":"COUNTIF($E$1:E236,consulta!$D$1)","v":0},"ROCIO SUAREZ DURAN",2103408010,1,15696.32,null,null,null,null,null,"SYNTECH DE BAJA CALIFORNIA S DE RL DE CV"]
[null,null,null,{"$f":"COUNTIF($E$1:E237,consulta!$D$1)","v":0},"ROCIO SUAREZ DURAN",2103408010,1,18041.34,null,null,null,null,null,"SMART & FINAL DEL NOROESTE SA DE CV"]
[null,null,null,{"$f":"COUNTIF($E$1:E238,consulta!$D$1)","v":0},"ROCIO SUAREZ DURAN",2103408010,1,7216.53,null,null,null,null,null,"FRANCISCO MARTINEZ AYALA"]
[null,null,null,{"$f":"COUNTIF($E$1:E239,consulta!$D$1)","v":0},"ROCIO SUAREZ DURAN",2103408010,1,6278.52,null,null,null,null,null,"SERGIO OLIVARES RODRIGUEZ"]
[null,null,null,{"$f":"COUNTIF($E$1:E240,consulta!$D$1)","v":0},"INSTITUTO AMERICA A.C.",2103429310,1,14356.33,null,null,null,null,null,"COMERCIAL KARACOL SA DE CV"]
[null,null,null,{"$f":"COUNTIF($E$1:E241,consulta!$D$1)","v":0},"INSTITUTO AMERICA A.C.",2103429310,1,5742.53,null,null,null,null,null,"MA REFUGIO VELAZQUEZ URZUA"]
[null,null,null,{"$f":"COUNTIF($E$1:E242,consulta!$D$1)","v":0},"INSTITUTO AMERICA A.C.",2103429310,1,13508.53,null,null,null,null,null,"BERTHA ORDU#O ZAMUDIO"]
[null,null,null,{"$f":"COUNTIF($E$1:E243,consulta!$D$1)","v":0},"INSTITUTO AMERICA A.C.",2103429310,1,5403.41,null,null,null,null,null,"MARGARITA MEZA VILLARREAL"]
[null,null,null,{"$f":"COUNTIF($E$1:E244,consulta!$D$1)","v":0},"CONCRETOS PRESFORZADOS DE BAJA CALIFORNIA SA DE CV",2103439510,1,38003.56,null,null,null,null,null,"CENTRO DE ENDODONCIA SC"]
[null,null,null,{"$f":"COUNTIF($E$1:E245,consulta!$D$1)","v":0},"CONCRETOS PRESFORZADOS DE BAJA CALIFORNIA SA DE CV",2103439510,1,35761.64,null,null,null,null,null,"BJAM MEXICANA SA DE CV"]
[null,null,null,{"$f":"COUNTIF($E$1:E246,consulta!$D$1)","v":0},"CONCRETOS PRESFORZADOS DE BAJA CALIFORNIA SA DE CV",2103439510,1,15201.42,null,null,null,null,null,"HUI LIANG HUO"]
[null,null,null,{"$f":"COUNTIF($E$1:E247,consulta!$D$1)","v":0},"CONCRETOS PRESFORZADOS DE BAJA CALIFORNIA SA DE CV",2103439510,1,36441.120000000003,null,null,null,null,null,"JAIME JULIAN PLACENCIA HUERTA"]
[null,null,null,{"$f":"COUNTIF($E$1:E248,consulta!$D$1)","v":0},"CONCRETOS PRESFORZADOS DE BAJA CALIFORNIA SA DE CV",2103439510,1,14576.44,null,null,null,null,null,"JOSE GPE GARCIA MORALES"]
[null,null,null,{"$f":"COUNTIF($E$1:E249,consulta!$D$1)","v":0},"CONCRETOS PRESFORZADOS DE BAJA CALIFORNIA SA DE CV",2103439510,1,33473.910000000003,null,null,null,null,null,"VICTOR MANUEL FLORES GERALDO"]
[null,null,null,{"$f":"COUNTIF($E$1:E250,consulta!$D$1)","v":0},"CONCRETOS PRESFORZADOS DE BAJA CALIFORNIA SA DE CV",2103439510,1,13389.56,null,null,null,null,null,"JUAN ANTONIO RANGEL FONSECA"]
[null,null,null,{"$f":"COUNTIF($E$1:E251,consulta!$D$1)","v":0},"CONCRETOS PRESFORZADOS DE BAJA CALIFORNIA SA DE CV",2103439510,1,31861.81,null,null,null,null,null,"DENISSE PANADERIA Y REPOSTERIA SA DE CV"]
[null,null,null,{"$f":"COUNTIF($E$1:E252,consulta!$D$1)","v":0},"CONCRETOS PRESFORZADOS DE BAJA CALIFORNIA SA DE CV",2103439510,1,12744.72,null,null,null,null,null,"MARIO MORENO LOPEZ"]
[null,null,null,{"$f":"COUNTIF($E$1:E253,consulta!$D$1)","v":0},"CONCRETOS PRESFORZADOS DE BAJA CALIFORNIA SA DE CV",2103439510,1,14304.65,null,null,null,null,null,"WALTER PADILLA MIRAMONTES"]
[null,null,null,{"$f":"COUNTIF($E$1:E254,consulta!$D$1)","v":0},"BRAKES SA DE CV",2103484710,1,7437.82,null,null,null,null,null,"NAPOLEON EXPRESS SA DE CV"]
[null,null,null,{"$f":"COUNTIF($E$1:E255,consulta!$D$1)","v":0},"BRAKES SA DE CV",2103484710,1,9034.1299999999992,null,null,null,null,null,"FRANCISCO JAVIER BUCIO MONTEMAYOR"]
[null,null,null,{"$f":"COUNTIF($E$1:E256,consulta!$D$1)","v":0},"BRAKES SA DE CV",2103484710,1,3613.65,null,null,null,null,null,"MARIA ELENA BECERRA GALLEGOS"]
[null,null,null,{"$f":"COUNTIF($E$1:E257,consulta!$D$1)","v":0},"BRAKES SA DE CV",2103484710,1,2975.12,null,null,null,null,null,"IMPERCAL S DE RL DE CV"]
[null,null,null,{"$f":"COUNTIF($E$1:E258,consulta!$D$1)","v":0},"GAMBOA Y COMPA#IA SA",2103517710,1,7061.67,null,null,null,null,null,"AMPELIO GOMEZ ALFARO"]
[null,null,null,{"$f":"COUNTIF($E$1:E259,consulta!$D$1)","v":0},"GAMBOA Y COMPA#IA SA",2103517710,1,7061.67,null,null,null,null,null,"ARTE Y COLOR DE MEXICO SA DE CV"]
[null,null,null,{"$f":"COUNTIF($E$1:E260,consulta!$D$1)","v":0},"GAMBOA Y COMPA#IA SA",2103517710,1,2824.66,null,null,null,null,null,"VECTOR DE BAJA CALIFORNIA SA DE CV"]
[null,null,null,{"$f":"COUNTIF($E$1:E261,consulta!$D$1)","v":0},"GAMBOA Y COMPA#IA SA",2103517710,1,7032.69,null,null,null,null,null,"A FIESTA ELEGANTE SA DE CV"]
[null,null,null,{"$f":"COUNTIF($E$1:E262,consulta!$D$1)","v":0},"GAMBOA Y COMPA#IA SA",2103517710,1,2813.07,null,null,null,null,null,"OPERADORA WAL MART S DE RL DE CV"]
[null,null,null,{"$f":"COUNTIF($E$1:E263,consulta!$D$1)","v":0},"GAMBOA Y COMPA#IA SA",2103517710,1,7032.69,null,null,null,null,null,"ENSAMBLES DE CALIDAD MEXICO SA DE CV"]
[null,null,null,{"$f":"COUNTIF($E$1:E264,consulta!$D$1)","v":0},"GAMBOA Y COMPA#IA SA",2103517710,1,2813.07,null,null,null,null,null,"MEDIMEXICO S DE RL DE CV"]
[null,null,null,{"$f":"COUNTIF($E$1:E265,consulta!$D$1)","v":0},"GAMBOA Y COMPA#IA SA",2103517710,1,2824.66,null,null,null,null,null,"ARCANGELES HOSPITAL SA DE CV"]
[null,null,null,{"$f":"COUNTIF($E$1:E266,consulta!$D$1)","v":0},"PASCUAL NAVARRO SOTO",2103547410,1,10973.78,null,null,null,null,null,"MARCO ANTONIO DELGADO HDEZ"]
[null,null,null,{"$f":"COUNTIF($E$1:E267,consulta!$D$1)","v":0},"PASCUAL NAVARRO SOTO",2103547410,1,10847.49,null,null,null,null,null,"LUIS MARTIN Y HERNANDEZ AC"]
[null,null,null,{"$f":"COUNTIF($E$1:E268,consulta!$D$1)","v":0},"PASCUAL NAVARRO SOTO",2103547410,1,9759.31,null,null,null,null,null,"TECNOLOGIA URBANA DEL NOROESTE SA DE CV"]
[null,null,null,{"$f":"COUNTIF($E$1:E269,consulta!$D$1)","v":0},"ESCALANTE GUERRA SELECTORA DE PERSONAL SA DE CV",2103583510,1,16503.84,null,null,null,null,null,"OPERADORA DE FUTBOL RAPIDO DE TIJUANA SA DE CV"]
[null,null,null,{"$f":"COUNTIF($E$1:E270,consulta!$D$1)","v":0},"ESCALANTE GUERRA SELECTORA DE PERSONAL SA DE CV",2103583510,1,6601.53,null,null,null,null,null,"SAMUEL HERRERA CALDERON"]
[null,null,null,{"$f":"COUNTIF($E$1:E271,consulta!$D$1)","v":0},"OPTICAS LORENTZ DE MEXICO SA DE CV",2103588610,1,20210.09,null,null,null,null,null,"FILIBERTO RODRIGUEZ VAZQUEZ"]
[null,null,null,{"$f":"COUNTIF($E$1:E272,consulta!$D$1)","v":0},"OPTICAS LORENTZ DE MEXICO SA DE CV",2103588610,1,1500.14,null,null,null,null,null,"RICARDO MARTINEZ ESPINOZA"]
[null,null,null,{"$f":"COUNTIF($E$1:E273,consulta!$D$1)","v":0},"OPTICAS LORENTZ DE MEXICO SA DE CV",2103588610,1,600.04999999999995,null,null,null,null,null,"SOCIEDAD DE COMERCIANTES UNIDOS AUTOMOV, S.A. DE C.V."]
[null,null,null,{"$f":"COUNTIF($E$1:E274,consulta!$D$1)","v":0},"OPTICAS LORENTZ DE MEXICO SA DE CV",2103588610,1,22965.88,null,null,null,null,null,"ELIZABETH HERNANDEZ GARCIA"]
[null,null,null,{"$f":"COUNTIF($E$1:E275,consulta!$D$1)","v":0},"OPTICAS LORENTZ DE MEXICO SA DE CV",2103588610,1,9186.35,null,null,null,null,null,"AGUSTIN JARAMILLO GARCIA"]
[null,null,null,{"$f":"COUNTIF($E$1:E276,consulta!$D$1)","v":0},"OPTICAS LORENTZ DE MEXICO SA DE CV",2103588610,1,8084.03,null,null,null,null,null,"DJ ORTHOPEDICS DE MEXICO SA DE CV"]
[null,null,null,{"$f":"COUNTIF($E$1:E277,consulta!$D$1)","v":0},"ALBERTO LIZARRAGA NAVARRO",2103590310,1,5168.4399999999996,null,null,null,null,null,"JOSE LUIS GUTIERREZ POLINO"]
[null,null,null,{"$f":"COUNTIF($E$1:E278,consulta!$D$1)","v":0},null,2103591610,1,742.39,null,null,null,null,null,"GUADALUPE SALAZAR CUEVAS"]
[null,null,null,{"$f":"COUNTIF($E$1:E279,consulta!$D$1)","v":0},null,2103591610,1,279.92,null,null,null,null,null,"MIGUEL ANGEL GRANADOS HERNANDEZ"]
[null,null,null,{"$f":"COUNTIF($E$1:E280,consulta!$D$1)","v":0},null,2103591610,1,296.95,null,null,null,null,null,"L.G. COMERCIAL DE BAJA CALIFORNIA SA DE CV"]
[null,null,null,{"$f":"COUNTIF($E$1:E281,consulta!$D$1)","v":0},null,2103591610,1,1351.42,null,null,null,null,null,"IVAN GARCIA PARTIDA"]
[null,null,null,{"$f":"COUNTIF($E$1:E282,consulta!$D$1)","v":0},null,2103591610,1,540.55999999999995,null,null,null,null,null,"NOSCOM INDUSTRIAL SA DE CV"]
[null,null,null,{"$f":"COUNTIF($E$1:E283,consulta!$D$1)","v":0},null,2103591610,1,1002.66,null,null,null,null,null,"BAJA DIALISIS SC"]
[null,null,null,{"$f":"COUNTIF($E$1:E284,consulta!$D$1)","v":0},null,2103591610,1,401.06,null,null,null,null,null,"JOSE ROBERTO RUIZ PEREZ"]
[null,null,null,{"$f":"COUNTIF($E$1:E285,consulta!$D$1)","v":0},null,2103591610,1,111.96,null,null,null,null,null,"RITA GORETTY PEREZ PEREZ"]
[null,null,null,{"$f":"COUNTIF($E$1:E286,consulta!$D$1)","v":0},"OPERADORA NEGRETE S.A. DE C.V.",2103608410,1,1621.06,null,null,null,null,null,"CARLOS EDUARDO AHUMADA ARRUTI"]
[null,null,null,{"$f":"COUNTIF($E$1:E287,consulta!$D$1)","v":0},"OPERADORA NEGRETE S.A. DE C.V.",2103608410,1,1621.06,null,null,null,null,null,"DANILO VILLANUEVA OCEGUERA"]
[null,null,null,{"$f":"COUNTIF($E$1:E288,consulta!$D$1)","v":0},"OPERADORA NEGRETE S.A. DE C.V.",2103608410,1,648.41999999999996,null,null,null,null,null,"MARIBEL CORRALES SANDOVAL"]
[null,null,null,{"$f":"COUNTIF($E$1:E289,consulta!$D$1)","v":0},"OPERADORA NEGRETE S.A. DE C.V.",2103608410,1,1399.06,null,null,null,null,null,"GRACIELA PIZANO DOMINGUEZ"]
[null,null,null,{"$f":"COUNTIF($E$1:E290,consulta!$D$1)","v":0},"OPERADORA NEGRETE S.A. DE C.V.",2103608410,1,559.62,null,null,null,null,null,"ARCADIO ARIAS CHAVEZ"]
[null,null,null,{"$f":"COUNTIF($E$1:E291,consulta!$D$1)","v":0},"OPERADORA NEGRETE S.A. DE C.V.",2103608410,1,1445.69,null,null,null,null,null,"DHL METROPOLITAN LOGISTICS SC MEXICO SA DE CV"]
[null,null,null,{"$f":"COUNTIF($E$1:E292,consulta!$D$1)","v":0},"OPERADORA NEGRETE S.A. DE C.V.",2103608410,1,578.27,null,null,null,null,null,"ESCUELA EN ELECTRONICA DIGITAL AC"]
[null,null,null,{"$f":"COUNTIF($E$1:E293,consulta!$D$1)","v":0},"OPERADORA NEGRETE S.A. DE C.V.",2103608410,1,1399.06,null,null,null,null,null,"JOSE ANTONIO CABALLERO MARTINEZ"]
[null,null,null,{"$f":"COUNTIF($E$1:E294,consulta!$D$1)","v":0},"OPERADORA NEGRETE S.A. DE C.V.",2103608410,1,559.62,null,null,null,null,null,"HUGO FERNANDO CAZARES BARUCH"]
[null,null,null,{"$f":"COUNTIF($E$1:E295,consulta!$D$1)","v":0},"OPERADORA NEGRETE S.A. DE C.V.",2103608410,1,1445.69,null,null,null,null,null,"HOSPITAL CENTRO MEDICO NOVA SA DE CV"]
[null,null,null,{"$f":"COUNTIF($E$1:E296,consulta!$D$1)","v":0},"OPERADORA NEGRETE S.A. DE C.V.",2103608410,1,578.27,null,null,null,null,null,"PROMOTORA COL SA DE CV"]
[null,null,null,{"$f":"COUNTIF($E$1:E297,consulta!$D$1)","v":0},"OPERADORA NEGRETE S.A. DE C.V.",2103608410,1,648.41999999999996,null,null,null,null,null,"HECTOR CENTENO BERRUETA"]
[null,null,null,{"$f":"COUNTIF($E$1:E298,consulta!$D$1)","v":0},"ANA MARIA ALDRETE BORJA",2103627610,1,2969.56,null,null,null,null,null,"HECTOR GERARDO CASTILLO CERDA"]
[null,null,null,{"$f":"COUNTIF($E$1:E299,consulta!$D$1)","v":0},"ANA MARIA ALDRETE BORJA",2103627610,1,1041.78,null,null,null,null,null,"COLEGIO CARLOS ARAIZA PE#A AC"]
[null,null,null,{"$f":"COUNTIF($E$1:E300,consulta!$D$1)","v":0},"ANA MARIA ALDRETE BORJA",2103627610,1,1480.33,null,null,null,null,null,"LEONARDO VERDUGO CAMPOS"]
[null,null,null,{"$f":"COUNTIF($E$1:E301,consulta!$D$1)","v":0},"ANA MARIA ALDRETE BORJA",2103627610,1,3700.84,null,null,null,null,null,"COHEN S ROOFING S DE RL DE CV"]
[null,null,null,{"$f":"COUNTIF($E$1:E302,consulta!$D$1)","v":0},"ANA MARIA ALDRETE BORJA",2103627610,1,1480.33,null,null,null,null,null,"MARIA DEL CARMEN GUTIERREZ HERNANDEZ"]
[null,null,null,{"$f":"COUNTIF($E$1:E303,consulta!$D$1)","v":0},"ANA MARIA ALDRETE BORJA",2103627610,1,1187.82,null,null,null,null,null,"JOSE ARMANDO LEAL CALLEJAS"]
[null,null,null,{"$f":"COUNTIF($E$1:E304,consulta!$D$1)","v":0},"OSCAR EMILIO PALOMINO VALDEZ",2103633410,1,2815.88,null,null,null,null,null,"DISE#OS MARLIZ SA DE CV"]
[null,null,null,{"$f":"COUNTIF($E$1:E305,consulta!$D$1)","v":0},"OSCAR EMILIO PALOMINO VALDEZ",2103633410,1,2457.41,null,null,null,null,null,"OPERADORA ALCOMESA SA DE CV"]
[null,null,null,{"$f":"COUNTIF($E$1:E306,consulta!$D$1)","v":0},"FRANCISCO ZU#IGA MU#OZ",2103733610,1,3018.24,null,null,null,null,null,"IMPORTACIONES DE PISOS Y RECUBRIMIENTOS DEL NTE S DE RL DE CV"]
[null,null,null,{"$f":"COUNTIF($E$1:E307,consulta!$D$1)","v":0},"FRANCISCO ZU#IGA MU#OZ",2103733610,1,2969.56,null,null,null,null,null,"ASESORIA Y CONSTRS ESPECIALIZADAS, S.A. DE C.V."]
[null,null,null,{"$f":"COUNTIF($E$1:E308,consulta!$D$1)","v":0},"FRANCISCO ZU#IGA MU#OZ",2103733610,1,1207.29,null,null,null,null,null,"LA TOUR DE FER SA DE CV"]
[null,null,null,{"$f":"COUNTIF($E$1:E309,consulta!$D$1)","v":0},"FRANCISCO ZU#IGA MU#OZ",2103733610,1,1187.82,null,null,null,null,null,"TARIMAS DEL TORO S DE RL"]
[null,null,null,{"$f":"COUNTIF($E$1:E310,consulta!$D$1)","v":0},"FRANCISCO ZU#IGA MU#OZ",2103733610,1,895.37,null,null,null,null,null,"LIBRA INGENIEROS CIVILES SA DE CV"]
[null,null,null,{"$f":"COUNTIF($E$1:E311,consulta!$D$1)","v":0},"FRANCISCO ZU#IGA MU#OZ",2103733610,1,358.14,null,null,null,null,null,"JESUS GLEZ MTEZ"]
[null,null,null,{"$f":"COUNTIF($E$1:E312,consulta!$D$1)","v":0},"FRANCISCO ZU#IGA MU#OZ",2103733610,1,3700.84,null,null,null,null,null,"MARINA EUGENIA CERVANTES ESTRADA"]
[null,null,null,{"$f":"COUNTIF($E$1:E313,consulta!$D$1)","v":0},"FRANCISCO ZU#IGA MU#OZ",2103733610,1,1480.33,null,null,null,null,null,"JESUS RIVERA ROBLES"]
[null,null,null,{"$f":"COUNTIF($E$1:E314,consulta!$D$1)","v":0},"FRANCISCO ZU#IGA MU#OZ",2103733610,1,3700.84,null,null,null,null,null,"GAROCA, S.A. DE C.V."]
[null,null,null,{"$f":"COUNTIF($E$1:E315,consulta!$D$1)","v":0},"FRANCISCO ZU#IGA MU#OZ",2103733610,1,1480.33,null,null,null,null,null,"PASCUAL MARTINEZ DE LA CRUZ"]
[null,null,null,{"$f":"COUNTIF($E$1:E316,consulta!$D$1)","v":0},"FRANCISCO ZU#IGA MU#OZ",2103733610,1,895.37,null,null,null,null,null,"CAL CROM SA DE CV"]
[null,null,null,{"$f":"COUNTIF($E$1:E317,consulta!$D$1)","v":0},"FRANCISCO ZU#IGA MU#OZ",2103733610,1,358.14,null,null,null,null,null,"T C T INDUSTRIES SA DE CV"]
[null,null,null,{"$f":"COUNTIF($E$1:E318,consulta!$D$1)","v":0},"FARMACIAS DEL ALBA SA DE CV",2103797610,1,2798.04,null,null,null,null,null,"COMERCIAL IBC SA DE CV"]
[null,null,null,{"$f":"COUNTIF($E$1:E319,consulta!$D$1)","v":0},"FARMACIAS DEL ALBA SA DE CV",2103797610,1,1119.21,null,null,null,null,null,"PROCESADORA SACOME SA DE CV"]
[null,null,null,{"$f":"COUNTIF($E$1:E320,consulta!$D$1)","v":0},"FARMACIAS DEL ALBA SA DE CV",2103797610,1,1808.71,null,null,null,null,null,"EDUARDO GIOVANNI PLASCENCIA CORONA"]
[null,null,null,{"$f":"COUNTIF($E$1:E321,consulta!$D$1)","v":0},"FARMACIAS DEL ALBA SA DE CV",2103797610,1,723.48,null,null,null,null,null,"ELBECK DE MEXICO SA DE CV"]
[null,null,null,{"$f":"COUNTIF($E$1:E322,consulta!$D$1)","v":0},"CONTROL TECNICO ESPECIALIZADO SA",2103812210,1,5006.34,null,null,null,null,null,"ELDA VILLARREAL VILLARREAL"]
[null,null,null,{"$f":"COUNTIF($E$1:E323,consulta!$D$1)","v":0},"HIPODROMO DE AGUA CALIENTE SA DE CV",2103813110,1,2336.54,null,null,null,null,null,"CARLOS MEJIA LOPEZ"]
[null,null,null,{"$f":"COUNTIF($E$1:E324,consulta!$D$1)","v":0},"HIPODROMO DE AGUA CALIENTE SA DE CV",2103813110,1,934.61,null,null,null,null,null,"SAMUEL REYES PARRA"]
[null,null,null,{"$f":"COUNTIF($E$1:E325,consulta!$D$1)","v":0},"HIPODROMO DE AGUA CALIENTE SA DE CV",2103813110,1,1917.16,null,null,null,null,null,"ASESORIA PROFESIONAL PARA ARTES GRAFICOS SC"]
[null,null,null,{"$f":"COUNTIF($E$1:E326,consulta!$D$1)","v":0},"HIPODROMO DE AGUA CALIENTE SA DE CV",2103813110,1,766.86,null,null,null,null,null,"MIGUEL ROMERO CASTILLO"]
[null,null,null,{"$f":"COUNTIF($E$1:E327,consulta!$D$1)","v":0},"HIPODROMO DE AGUA CALIENTE SA DE CV",2103813110,1,1722.2,null,null,null,null,null,"CASA HOGAR SAN INOCENCIO PARA VARONES ADOLECENTES AC"]
[null,null,null,{"$f":"COUNTIF($E$1:E328,consulta!$D$1)","v":0},"HIPODROMO DE AGUA CALIENTE SA DE CV",2103813110,1,688.88,null,null,null,null,null,"MANCILLA GRUPO INTERNACIONAL, S.A. DE C.V."]
[null,null,null,{"$f":"COUNTIF($E$1:E329,consulta!$D$1)","v":0},"EL RODEO INTERNACIONAL SA DE CV",2103834710,1,8152.52,null,null,null,null,null,"ANA CECILIA SANTILLAN IRIBE"]
[null,null,null,{"$f":"COUNTIF($E$1:E330,consulta!$D$1)","v":0},"RAYMUNDO BURGUE#O LUNA",2103841810,1,1850.42,null,null,null,null,null,"RAMON ROJAS GARCIA"]
[null,null,null,{"$f":"COUNTIF($E$1:E331,consulta!$D$1)","v":0},"RAYMUNDO BURGUE#O LUNA",2103841810,1,740.16,null,null,null,null,null,"MANUEL JESUS MORENO MEZA"]
[null,null,null,{"$f":"COUNTIF($E$1:E332,consulta!$D$1)","v":0},"JUAN LEDESMA POTTER",2103897110,1,12685.21,null,null,null,null,null,"MARTA MIRELES MURO"]
[null,null,null,{"$f":"COUNTIF($E$1:E333,consulta!$D$1)","v":0},"JUAN LEDESMA POTTER",2103897110,1,1339.84,null,null,null,null,null,"MANUEL GARCIA RODRIGUEZ"]
[null,null,null,{"$f":"COUNTIF($E$1:E334,consulta!$D$1)","v":0},"JUAN LEDESMA POTTER",2103897110,1,5074.08,null,null,null,null,null,"AYALA CONSTRUCTORES SA DE CV"]
[null,null,null,{"$f":"COUNTIF($E$1:E335,consulta!$D$1)","v":0},"JUAN LEDESMA POTTER",2103897110,1,3771.73,null,null,null,null,null,"EUNSUNG MEXICANA SA DE CV"]
[null,null,null,{"$f":"COUNTIF($E$1:E336,consulta!$D$1)","v":0},"JUAN LEDESMA POTTER",2103897110,1,1508.69,null,null,null,null,null,"BERASTICA PAEZ GRUPO INMOBILIARIO SA DE CV"]
[null,null,null,{"$f":"COUNTIF($E$1:E337,consulta!$D$1)","v":0},"JUAN LEDESMA POTTER",2103897110,1,164.81,null,null,null,null,null,"VIRNA LUISA SANTINI AUBANEL"]
[null,null,null,{"$f":"COUNTIF($E$1:E338,consulta!$D$1)","v":0},"JUAN LEDESMA POTTER",2103897110,1,65.92,null,null,null,null,null,"INDUSTRIA PROCESADORA DE ALIMENTOS DE MAIZ SA DE C"]
[null,null,null,{"$f":"COUNTIF($E$1:E339,consulta!$D$1)","v":0},"JUAN LEDESMA POTTER",2103897110,1,535.92999999999995,null,null,null,null,null,"HUGO RAUL LEON HINOJOSA"]
[null,null,null,{"$f":"COUNTIF($E$1:E340,consulta!$D$1)","v":0},"OPERADORA DE RESTAURANTES ELITE SA DE CV",2103901610,1,16151.69,null,null,null,null,null,"MIGUEL ANGEL CADENA ALCANTAR"]
[null,null,null,{"$f":"COUNTIF($E$1:E341,consulta!$D$1)","v":0},"OPERADORA DE RESTAURANTES ELITE SA DE CV",2103901610,1,6460.67,null,null,null,null,null,"SUPER GONZALEZ S DE RL DE CV"]
[null,null,null,{"$f":"COUNTIF($E$1:E342,consulta!$D$1)","v":0},"CLUB CAZA TIRO PESCA BERR, A.C.","A081018810",1,742.39,null,null,null,null,null,"JOSE DE JESUS MACIAS BONILLA"]
[null,null,null,{"$f":"COUNTIF($E$1:E343,consulta!$D$1)","v":0},"CLUB CAZA TIRO PESCA BERR, A.C.","A081018810",1,925.21,null,null,null,null,null,"VIOLETA YANELIN JAIMES REYES"]
[null,null,null,{"$f":"COUNTIF($E$1:E344,consulta!$D$1)","v":0},"CLUB CAZA TIRO PESCA BERR, A.C.","A081018810",1,370.08,null,null,null,null,null,"COORDINADORA PLUS DE TIJUANA S DE RL DE CV"]
[null,null,null,{"$f":"COUNTIF($E$1:E345,consulta!$D$1)","v":0},"CLUB CAZA TIRO PESCA BERR, A.C.","A081018810",1,296.95,null,null,null,null,null,"GUILLERMO ENRIQUEZ PEDROZA"]
[null,null,null,{"$f":"COUNTIF($E$1:E346,consulta!$D$1)","v":0},"PEDRO GENARO KING CHAN","A081068310",1,4472.46,null,null,null,null,null,"JOSE LUIS RUINK ROMERO"]
[null,null,null,{"$f":"COUNTIF($E$1:E347,consulta!$D$1)","v":0},"RODOLFO LAREDO MONTES","A081091510",1,540.55999999999995,null,null,null,null,null,"COORDINADORA Y EJECUTORA DE OBRAS CIVILES SA DE CV"]
[null,null,null,{"$f":"COUNTIF($E$1:E348,consulta!$D$1)","v":0},"RODOLFO LAREDO MONTES","A081091510",1,296.95,null,null,null,null,null,"VIVEROS TIJUANA SA DE CV"]
[null,null,null,{"$f":"COUNTIF($E$1:E349,consulta!$D$1)","v":0},null,"A081132710",2,325.54000000000002,null,null,null,null,null,"SERVICIOS ADMINISTRATIVOS R.P.I. S DE RL DE CV"]
[null,null,null,{"$f":"COUNTIF($E$1:E350,consulta!$D$1)","v":0},"ALEJANDRO BELTRAN MACHADO","A081159410",1,2372.6,null,null,null,null,null,"JAVIER MORALES CADENA"]
[null,null,null,{"$f":"COUNTIF($E$1:E351,consulta!$D$1)","v":0},"ALEJANDRO BELTRAN MACHADO","A081159410",1,2451.6799999999998,null,null,null,null,null,"JOSE HERNANDEZ DIAZ"]
[null,null,null,{"$f":"COUNTIF($E$1:E352,consulta!$D$1)","v":0},"ALEJANDRO BELTRAN MACHADO","A081159410",1,1563.99,null,null,null,null,null,"EQUIPOS Y SISTEMAS CONTRA INCENDIO SA DE CV"]
[null,null,null,{"$f":"COUNTIF($E$1:E353,consulta!$D$1)","v":0},"ANTONIETA MARIA ADAMO DE LA TORRE","A081169410",1,4986.3,null,null,null,null,null,"JESUS MORA FELIX"]
[null,null,null,{"$f":"COUNTIF($E$1:E354,consulta!$D$1)","v":0},"MARIA JUANA ANDRADE SANTOS","A081236410",1,1557.8,null,null,null,null,null,"SILVIA ZARAGOZA RAMIREZ"]
[null,null,null,{"$f":"COUNTIF($E$1:E355,consulta!$D$1)","v":0},"MARIA JUANA ANDRADE SANTOS","A081236410",1,2041.2,null,null,null,null,null,"AUTO TRANSPORTES PERS SERVICIOS TURISTICOS FETRA, S.A. DE C.V."]
[null,null,null,{"$f":"COUNTIF($E$1:E356,consulta!$D$1)","v":0},"MARIA JUANA ANDRADE SANTOS","A081236410",1,816.48,null,null,null,null,null,"SUSANO TISNADO GARCIA"]
[null,null,null,{"$f":"COUNTIF($E$1:E357,consulta!$D$1)","v":0},"MARIA JUANA ANDRADE SANTOS","A081236410",1,623.12,null,null,null,null,null,"ANCELMO ROSALES CUEVAS"]
[null,null,null,{"$f":"COUNTIF($E$1:E358,consulta!$D$1)","v":0},"LA VUELTA DEL RODEO SA DE CV","A081246810",1,5939.12,null,null,null,null,null,"GASTRONOMIA DEL NOROESTE SA DE CV"]
[null,null,null,{"$f":"COUNTIF($E$1:E359,consulta!$D$1)","v":0},"LA VUELTA DEL RODEO SA DE CV","A081246810",1,5939.12,null,null,null,null,null,"CECYT SC"]
[null,null,null,{"$f":"COUNTIF($E$1:E360,consulta!$D$1)","v":0},"LA VUELTA DEL RODEO SA DE CV","A081246810",1,2375.64,null,null,null,null,null,"MARCOS BETECH MOUSSAN"]
[null,null,null,{"$f":"COUNTIF($E$1:E361,consulta!$D$1)","v":0},"LA VUELTA DEL RODEO SA DE CV","A081246810",1,7401.68,null,null,null,null,null,"GRUPO LAMBIC SC"]
[null,null,null,{"$f":"COUNTIF($E$1:E362,consulta!$D$1)","v":0},"LA VUELTA DEL RODEO SA DE CV","A081246810",1,2960.67,null,null,null,null,null,"AUTOTRANSPORTES LATINOAMERICANOS SA DE CV"]
[null,null,null,{"$f":"COUNTIF($E$1:E363,consulta!$D$1)","v":0},"LA VUELTA DEL RODEO SA DE CV","A081246810",1,7401.68,null,null,null,null,null,"AGUSTIN MONTANO MENESES"]
[null,null,null,{"$f":"COUNTIF($E$1:E364,consulta!$D$1)","v":0},"LA VUELTA DEL RODEO SA DE CV","A081246810",1,2960.67,null,null,null,null,null,"VICTOR ANTONIO ARAIZA SAINZ"]
[null,null,null,{"$f":"COUNTIF($E$1:E365,consulta!$D$1)","v":0},"LA VUELTA DEL RODEO SA DE CV","A081246810",1,2375.64,null,null,null,null,null,"PINTURAS OSEL DE BAJA CALIFORNIA SA DE CV"]
[null,null,null,{"$f":"COUNTIF($E$1:E366,consulta!$D$1)","v":0},"ARFS SA","A081268810",1,850.86,null,null,null,null,null,"D SABINO SA DE CV"]
[null,null,null,{"$f":"COUNTIF($E$1:E367,consulta!$D$1)","v":0},"ARFS SA","A081268810",1,593.91,null,null,null,null,null,"PONCE DISTRIBUCIONES DE TIJUANA SA DE CV"]
[null,null,null,{"$f":"COUNTIF($E$1:E368,consulta!$D$1)","v":0},"RADIO SENSACION DE TIJUANA SA","A081270710",1,6789.74,null,null,null,null,null,"ENRIQUE ALBERTO MORA ORTIZ"]
[null,null,null,{"$f":"COUNTIF($E$1:E369,consulta!$D$1)","v":0},"RADIO SENSACION DE TIJUANA SA","A081270710",1,6789.74,null,null,null,null,null,"LOPEZ Y VIANA SC"]
[null,null,null,{"$f":"COUNTIF($E$1:E370,consulta!$D$1)","v":0},"RADIO SENSACION DE TIJUANA SA","A081270710",1,2715.89,null,null,null,null,null,"ARQUIDIOCESIS DE TIJUANA AR"]
[null,null,null,{"$f":"COUNTIF($E$1:E371,consulta!$D$1)","v":0},"RADIO SENSACION DE TIJUANA SA","A081270710",1,6402.8,null,null,null,null,null,"ARTEKO PROYECTOS SA DE CV"]
[null,null,null,{"$f":"COUNTIF($E$1:E372,consulta!$D$1)","v":0},"RADIO SENSACION DE TIJUANA SA","A081270710",1,2561.12,null,null,null,null,null,"JOSE JAIME ZAMUDIO VALDERRAMA"]
[null,null,null,{"$f":"COUNTIF($E$1:E373,consulta!$D$1)","v":0},"RADIO SENSACION DE TIJUANA SA","A081270710",1,6402.8,null,null,null,null,null,"JOSE FRANCISCO RAYGOZA MACIAS"]
[null,null,null,{"$f":"COUNTIF($E$1:E374,consulta!$D$1)","v":0},"RADIO SENSACION DE TIJUANA SA","A081270710",1,2561.12,null,null,null,null,null,"GABRIELA ZAMORA JIMENEZ"]
[null,null,null,{"$f":"COUNTIF($E$1:E375,consulta!$D$1)","v":0},"RADIO SENSACION DE TIJUANA SA","A081270710",1,2715.89,null,null,null,null,null,"CONSEJO DE DESARROLLO ECONOMICO DE TIJUANA AC"]
[null,null,null,{"$f":"COUNTIF($E$1:E376,consulta!$D$1)","v":0},"JORGE ISRAEL RUIZ CHAVIRA","A081304010",1,742.39,null,null,null,null,null,"ARACELI ALCANTARA ORTIZ"]
[null,null,null,{"$f":"COUNTIF($E$1:E377,consulta!$D$1)","v":0},"JORGE ISRAEL RUIZ CHAVIRA","A081304010",1,296.95,null,null,null,null,null,"MARIA GUADALUPE MARTIN PEREZ"]
[null,null,null,{"$f":"COUNTIF($E$1:E378,consulta!$D$1)","v":0},"JORGE ISRAEL RUIZ CHAVIRA","A081304010",1,895.37,null,null,null,null,null,"SERVICIOS DE DISTRIBUCION PLYMOUTH SC"]
[null,null,null,{"$f":"COUNTIF($E$1:E379,consulta!$D$1)","v":0},"JORGE ISRAEL RUIZ CHAVIRA","A081304010",1,358.14,null,null,null,null,null,"JUMPING CIRCUS SA DE CV"]
[null,null,null,{"$f":"COUNTIF($E$1:E380,consulta!$D$1)","v":0},"JORGE ISRAEL RUIZ CHAVIRA","A081304010",1,925.21,null,null,null,null,null,"NOEL TELLEZ MONTA#O"]
[null,null,null,{"$f":"COUNTIF($E$1:E381,consulta!$D$1)","v":0},"JORGE ISRAEL RUIZ CHAVIRA","A081304010",1,370.08,null,null,null,null,null,"MARIA ANTONIETA DIAZ BARBER"]
[null,null,null,{"$f":"COUNTIF($E$1:E382,consulta!$D$1)","v":0},"MARTE LOPEZ GOMEZ","A081318110",1,2998.92,null,null,null,null,null,"WESTERN METAL CORPORATION, S.A."]
[null,null,null,{"$f":"COUNTIF($E$1:E383,consulta!$D$1)","v":0},"MARTE LOPEZ GOMEZ","A081318110",1,1199.56,null,null,null,null,null,"MARIA ZIDE FIGUEROA ROBLES"]
[null,null,null,{"$f":"COUNTIF($E$1:E384,consulta!$D$1)","v":0},"AGUSTIN ZAIZAR RIVAS","A081321510",1,1017.47,null,null,null,null,null,"JOSE RAUL JIMENEZ SUSARREY"]
[null,null,null,{"$f":"COUNTIF($E$1:E385,consulta!$D$1)","v":0},"AGUSTIN ZAIZAR RIVAS","A081321510",1,406.98,null,null,null,null,null,"LIZBETH ANGELICA CORTEZ HERNANDEZ"]
[null,null,null,{"$f":"COUNTIF($E$1:E386,consulta!$D$1)","v":0},"JOSE BENJAMIN LUCERO FAUSTO","A081327710",1,742.39,null,null,null,null,null,"JUAN PAZ MONTES ESCAJEDA"]
[null,null,null,{"$f":"COUNTIF($E$1:E387,consulta!$D$1)","v":0},"JOSE BENJAMIN LUCERO FAUSTO","A081327710",1,742.39,null,null,null,null,null,"CORPORATIVO TORRES Y ASOCIADOS SC"]
[null,null,null,{"$f":"COUNTIF($E$1:E388,consulta!$D$1)","v":0},"JOSE BENJAMIN LUCERO FAUSTO","A081327710",1,754.56,null,null,null,null,null,"DIPROQUIM INDUSTRIAL S DE RL DE CV"]
[null,null,null,{"$f":"COUNTIF($E$1:E389,consulta!$D$1)","v":0},"JOSE BENJAMIN LUCERO FAUSTO","A081327710",1,742.39,null,null,null,null,null,"ARMANDO RAYGOZA TOSTADO"]
[null,null,null,{"$f":"COUNTIF($E$1:E390,consulta!$D$1)","v":0},"JOSE BENJAMIN LUCERO FAUSTO","A081327710",1,742.39,null,null,null,null,null,"MA DEL CARMEN SERRANO MELCHOR"]
[null,null,null,{"$f":"COUNTIF($E$1:E391,consulta!$D$1)","v":0},"JOSE BENJAMIN LUCERO FAUSTO","A081327710",1,296.95,null,null,null,null,null,"TECNICOS INDUSTRIALES DE TIJUANA SA DE CV"]
[null,null,null,{"$f":"COUNTIF($E$1:E392,consulta!$D$1)","v":0},"JOSE BENJAMIN LUCERO FAUSTO","A081327710",1,925.21,null,null,null,null,null,"DANTE SANTINI OVANDO"]
[null,null,null,{"$f":"COUNTIF($E$1:E393,consulta!$D$1)","v":0},"JOSE BENJAMIN LUCERO FAUSTO","A081327710",1,296.95,null,null,null,null,null,"NICOLAS PACHECO AGUILAR"]
[null,null,null,{"$f":"COUNTIF($E$1:E394,consulta!$D$1)","v":0},"JOSE BENJAMIN LUCERO FAUSTO","A081327710",1,370.08,null,null,null,null,null,"LIDIA MEDINA MALAGA"]
[null,null,null,{"$f":"COUNTIF($E$1:E395,consulta!$D$1)","v":0},"JOSE BENJAMIN LUCERO FAUSTO","A081327710",1,895.37,null,null,null,null,null,"INDELI DE TIJUANA SA DE CV"]
[null,null,null,{"$f":"COUNTIF($E$1:E396,consulta!$D$1)","v":0},"JOSE BENJAMIN LUCERO FAUSTO","A081327710",1,301.82,null,null,null,null,null,"CB IMAGEN EXTERIOR S DE RL DE CV"]
[null,null,null,{"$f":"COUNTIF($E$1:E397,consulta!$D$1)","v":0},"JOSE BENJAMIN LUCERO FAUSTO","A081327710",1,358.14,null,null,null,null,null,"DEPORTES IBARRA DE TIJUANA SA DE CV"]
[null,null,null,{"$f":"COUNTIF($E$1:E398,consulta!$D$1)","v":0},"JOSE BENJAMIN LUCERO FAUSTO","A081327710",1,925.21,null,null,null,null,null,"JUAN MARTIN FLORES ARREDONDO"]
[null,null,null,{"$f":"COUNTIF($E$1:E399,consulta!$D$1)","v":0},"JOSE BENJAMIN LUCERO FAUSTO","A081327710",1,296.95,null,null,null,null,null,"IGLESIA DEL EVANGELIO CUADRANGULAR EN MEXICO DISTRITO PACIFICO, A.R."]
[null,null,null,{"$f":"COUNTIF($E$1:E400,consulta!$D$1)","v":0},"JOSE BENJAMIN LUCERO FAUSTO","A081327710",1,370.08,null,null,null,null,null,"JARDIN DE NI#OS MAGICA CAMPANITA DE TIJUANA, A.C."]
[null,null,null,{"$f":"COUNTIF($E$1:E401,consulta!$D$1)","v":0},"JOSE BENJAMIN LUCERO FAUSTO","A081327710",1,895.37,null,null,null,null,null,"LUZ VERONICA IBARRA MARTINEZ"]
[null,null,null,{"$f":"COUNTIF($E$1:E402,consulta!$D$1)","v":0},"JOSE BENJAMIN LUCERO FAUSTO","A081327710",1,358.14,null,null,null,null,null,"RJ INGENIERIA SA DE CV"]
[null,null,null,{"$f":"COUNTIF($E$1:E403,consulta!$D$1)","v":0},"JOSE BENJAMIN LUCERO FAUSTO","A081327710",1,925.21,null,null,null,null,null,"GRUPO TELVISTA SA DE CV"]
[null,null,null,{"$f":"COUNTIF($E$1:E404,consulta!$D$1)","v":0},"JOSE BENJAMIN LUCERO FAUSTO","A081327710",1,370.08,null,null,null,null,null,"ELENA ZARATE VELEZ"]
[null,null,null,{"$f":"COUNTIF($E$1:E405,consulta!$D$1)","v":0},"JOSE BENJAMIN LUCERO FAUSTO","A081327710",1,925.21,null,null,null,null,null,"ANMALU CENTRO CAMBIARIO SA DE CV"]
[null,null,null,{"$f":"COUNTIF($E$1:E406,consulta!$D$1)","v":0},"JOSE BENJAMIN LUCERO FAUSTO","A081327710",1,370.08,null,null,null,null,null,"GRUPO FORMAQ SA DE CV"]
[null,null,null,{"$f":"COUNTIF($E$1:E407,consulta!$D$1)","v":0},"JOSE BENJAMIN LUCERO FAUSTO","A081327710",1,895.37,null,null,null,null,null,"GIANT MERCHANDISING SA DE CV"]
[null,null,null,{"$f":"COUNTIF($E$1:E408,consulta!$D$1)","v":0},"JOSE BENJAMIN LUCERO FAUSTO","A081327710",1,358.14,null,null,null,null,null,"PEDRO GOMEZ DIAZ"]
[null,null,null,{"$f":"COUNTIF($E$1:E409,consulta!$D$1)","v":0},"JOSE BENJAMIN LUCERO FAUSTO","A081327710",1,925.21,null,null,null,null,null,"QUESO FRESCO SINALOA SA DE CV"]
[null,null,null,{"$f":"COUNTIF($E$1:E410,consulta!$D$1)","v":0},"JOSE BENJAMIN LUCERO FAUSTO","A081327710",1,370.08,null,null,null,null,null,"FRANCISCO JAVIER REYNOSO GUTIERREZ"]
[null,null,null,{"$f":"COUNTIF($E$1:E411,consulta!$D$1)","v":0},"JOSE BENJAMIN LUCERO FAUSTO","A081327710",1,895.37,null,null,null,null,null,"KARLA ARELI NU#EZ DOMINGUEZ"]
[null,null,null,{"$f":"COUNTIF($E$1:E412,consulta!$D$1)","v":0},"JOSE BENJAMIN LUCERO FAUSTO","A081327710",1,358.14,null,null,null,null,null,"INDUSTRIAS APON SA DE CV"]
[null,null,null,{"$f":"COUNTIF($E$1:E413,consulta!$D$1)","v":0},"JOSE BENJAMIN LUCERO FAUSTO","A081327710",1,925.21,null,null,null,null,null,"ARACELI HUIZAR VELASQUEZ"]
[null,null,null,{"$f":"COUNTIF($E$1:E414,consulta!$D$1)","v":0},"JOSE BENJAMIN LUCERO FAUSTO","A081327710",1,370.08,null,null,null,null,null,"SILVIA ARIAS ARBALLO"]
[null,null,null,{"$f":"COUNTIF($E$1:E415,consulta!$D$1)","v":0},"JOSE BENJAMIN LUCERO FAUSTO","A081327710",1,296.95,null,null,null,null,null,"MEDIA SPORTS DE MEXICO SA DE CV"]
[null,null,null,{"$f":"COUNTIF($E$1:E416,consulta!$D$1)","v":0},"MA ELENA GONZALEZ CERVANTES","A081335110",1,707.03,null,null,null,null,null,"RAMON VELASCO BELTRAN"]
[null,null,null,{"$f":"COUNTIF($E$1:E417,consulta!$D$1)","v":0},"MA ELENA GONZALEZ CERVANTES","A081335110",1,730.23,null,null,null,null,null,"JUAN ENRIQUE MARROQUIN CATALAN"]
[null,null,null,{"$f":"COUNTIF($E$1:E418,consulta!$D$1)","v":0},"MA ELENA GONZALEZ CERVANTES","A081335110",1,742.39,null,null,null,null,null,"ROSA ARMIDA BACA SANCHEZ"]
[null,null,null,{"$f":"COUNTIF($E$1:E419,consulta!$D$1)","v":0},"MA ELENA GONZALEZ CERVANTES","A081335110",1,742.39,null,null,null,null,null,"ESTRUCTURAS METALICAS LA POPULAR SA DE CV"]
[null,null,null,{"$f":"COUNTIF($E$1:E420,consulta!$D$1)","v":0},"MA ELENA GONZALEZ CERVANTES","A081335110",1,754.56,null,null,null,null,null,"WINSLOW BRITON STALMAN"]
[null,null,null,{"$f":"COUNTIF($E$1:E421,consulta!$D$1)","v":0},"MA ELENA GONZALEZ CERVANTES","A081335110",1,742.39,null,null,null,null,null,"MIRIAM DELGADO HERNANDEZ"]
[null,null,null,{"$f":"COUNTIF($E$1:E422,consulta!$D$1)","v":0},"MA ELENA GONZALEZ CERVANTES","A081335110",1,742.39,null,null,null,null,null,"ENRIQUE JARAMILLO HERNANDEZ"]
[null,null,null,{"$f":"COUNTIF($E$1:E423,consulta!$D$1)","v":0},"MA ELENA GONZALEZ CERVANTES","A081335110",1,282.81,null,null,null,null,null,"MIGUEL ANGEL ROJAS PINEDA"]
[null,null,null,{"$f":"COUNTIF($E$1:E424,consulta!$D$1)","v":0},"MA ELENA GONZALEZ CERVANTES","A081335110",1,292.08999999999997,null,null,null,null,null,"RICARDO ARAIZA VELASCO"]
[null,null,null,{"$f":"COUNTIF($E$1:E425,consulta!$D$1)","v":0},"MA ELENA GONZALEZ CERVANTES","A081335110",1,865.51,null,null,null,null,null,"DAGOBERTO GUTIERREZ BORRAYO"]
[null,null,null,{"$f":"COUNTIF($E$1:E426,consulta!$D$1)","v":0},"MA ELENA GONZALEZ CERVANTES","A081335110",1,296.95,null,null,null,null,null,"SALON DE FIESTAS EL CASTILLO SA DE CV"]
[null,null,null,{"$f":"COUNTIF($E$1:E427,consulta!$D$1)","v":0},"MA ELENA GONZALEZ CERVANTES","A081335110",1,346.2,null,null,null,null,null,"SR SUSHI SA DE CV"]
[null,null,null,{"$f":"COUNTIF($E$1:E428,consulta!$D$1)","v":0},"MA ELENA GONZALEZ CERVANTES","A081335110",1,925.21,null,null,null,null,null,"LUZ MARIA FEDERICO HEREDIA"]
[null,null,null,{"$f":"COUNTIF($E$1:E429,consulta!$D$1)","v":0},"MA ELENA GONZALEZ CERVANTES","A081335110",1,296.95,null,null,null,null,null,"JOSE MARIA GUZMAN ANDONAEGUI"]
[null,null,null,{"$f":"COUNTIF($E$1:E430,consulta!$D$1)","v":0},"MA ELENA GONZALEZ CERVANTES","A081335110",1,370.08,null,null,null,null,null,"RICARDO LOPEZ VELEZ"]
[null,null,null,{"$f":"COUNTIF($E$1:E431,consulta!$D$1)","v":0},"MA ELENA GONZALEZ CERVANTES","A081335110",1,895.37,null,null,null,null,null,"ARVECO SA DE CV"]
[null,null,null,{"$f":"COUNTIF($E$1:E432,consulta!$D$1)","v":0},"MA ELENA GONZALEZ CERVANTES","A081335110",1,301.82,null,null,null,null,null,"MANUEL PEREZ GRANADOS"]
[null,null,null,{"$f":"COUNTIF($E$1:E433,consulta!$D$1)","v":0},"MA ELENA GONZALEZ CERVANTES","A081335110",1,358.14,null,null,null,null,null,"JOEL HARO GONZALEZ"]
[null,null,null,{"$f":"COUNTIF($E$1:E434,consulta!$D$1)","v":0},"MA ELENA GONZALEZ CERVANTES","A081335110",1,925.21,null,null,null,null,null,"NARCISA FONSECA MARTINEZ"]
[null,null,null,{"$f":"COUNTIF($E$1:E435,consulta!$D$1)","v":0},"MA ELENA GONZALEZ CERVANTES","A081335110",1,296.95,null,null,null,null,null,"METALIUM S DE RL DE CV"]
[null,null,null,{"$f":"COUNTIF($E$1:E436,consulta!$D$1)","v":0},"MA ELENA GONZALEZ CERVANTES","A081335110",1,370.08,null,null,null,null,null,"AROS CONSTRUCCIONES SA DE CV"]
[null,null,null,{"$f":"COUNTIF($E$1:E437,consulta!$D$1)","v":0},"MA ELENA GONZALEZ CERVANTES","A081335110",1,895.37,null,null,null,null,null,"ENOC CERVANTES GUZMAN"]
[null,null,null,{"$f":"COUNTIF($E$1:E438,consulta!$D$1)","v":0},"MA ELENA GONZALEZ CERVANTES","A081335110",1,358.14,null,null,null,null,null,"GABRIEL VIZCAINO"]
[null,null,null,{"$f":"COUNTIF($E$1:E439,consulta!$D$1)","v":0},"MA ELENA GONZALEZ CERVANTES","A081335110",1,925.21,null,null,null,null,null,"JOSE JESUS GARCIA ZAMUDIO"]
[null,null,null,{"$f":"COUNTIF($E$1:E440,consulta!$D$1)","v":0},"MA ELENA GONZALEZ CERVANTES","A081335110",1,370.08,null,null,null,null,null,"PATRICIA VERONICA PADILLA CASTELO"]
[null,null,null,{"$f":"COUNTIF($E$1:E441,consulta!$D$1)","v":0},"MA ELENA GONZALEZ CERVANTES","A081335110",1,925.21,null,null,null,null,null,"OPERADORA LOB SA DE CV"]
[null,null,null,{"$f":"COUNTIF($E$1:E442,consulta!$D$1)","v":0},"MA ELENA GONZALEZ CERVANTES","A081335110",1,370.08,null,null,null,null,null,"IMPRENTA OLIMPICA SA DE CV"]
[null,null,null,{"$f":"COUNTIF($E$1:E443,consulta!$D$1)","v":0},"MA ELENA GONZALEZ CERVANTES","A081335110",1,895.37,null,null,null,null,null,"ROBERTO JOSE VILLAFA#A MORAN"]
[null,null,null,{"$f":"COUNTIF($E$1:E444,consulta!$D$1)","v":0},"MA ELENA GONZALEZ CERVANTES","A081335110",1,358.14,null,null,null,null,null,"MARIA ERIDA HERNANDEZ ZARATE"]
[null,null,null,{"$f":"COUNTIF($E$1:E445,consulta!$D$1)","v":0},"MA ELENA GONZALEZ CERVANTES","A081335110",1,925.21,null,null,null,null,null,"BLANCA ROSALIA ZAMORA COTA"]
[null,null,null,{"$f":"COUNTIF($E$1:E446,consulta!$D$1)","v":0},"MA ELENA GONZALEZ CERVANTES","A081335110",1,370.08,null,null,null,null,null,"TRANSPORTE PRIVADO DE PERSONAL CONTRERAS SA DE CV"]
[null,null,null,{"$f":"COUNTIF($E$1:E447,consulta!$D$1)","v":0},"MA ELENA GONZALEZ CERVANTES","A081335110",1,925.21,null,null,null,null,null,"RICARDO TALAMANTES PEREZ"]
[null,null,null,{"$f":"COUNTIF($E$1:E448,consulta!$D$1)","v":0},"MA ELENA GONZALEZ CERVANTES","A081335110",1,370.08,null,null,null,null,null,"JAQUELINE VAZQUEZ HERRERA"]
[null,null,null,{"$f":"COUNTIF($E$1:E449,consulta!$D$1)","v":0},"MA ELENA GONZALEZ CERVANTES","A081335110",1,296.95,null,null,null,null,null,"JM INDUSTRIAL SA DE CV"]
[null,null,null,{"$f":"COUNTIF($E$1:E450,consulta!$D$1)","v":0},"LA GLORIA DE TIJUANA, SA DE CV","A081380710",1,4953.1099999999997,null,null,null,null,null,"GRUAS HERMANOS CASTRO SA DE CV"]
[null,null,null,{"$f":"COUNTIF($E$1:E451,consulta!$D$1)","v":0},"LA GLORIA DE TIJUANA, SA DE CV","A081380710",1,1981.24,null,null,null,null,null,"TOOLS AND METALS SUPPLY DE MEXICO S DE RL DE CV"]
[null,null,null,{"$f":"COUNTIF($E$1:E452,consulta!$D$1)","v":0},"LA GLORIA DE TIJUANA, SA DE CV","A081380710",1,4035.78,null,null,null,null,null,"MIPA INDUSTRIAS DE MEXICO S DE RL DE CV"]
[null,null,null,{"$f":"COUNTIF($E$1:E453,consulta!$D$1)","v":0},"LA GLORIA DE TIJUANA, SA DE CV","A081380710",1,1614.31,null,null,null,null,null,"MARTIN OSCAR RUIZ VALDEZ"]
[null,null,null,{"$f":"COUNTIF($E$1:E454,consulta!$D$1)","v":0},"PERFORAC B CALIF, S. DE R.L.","A081452310",1,5816.01,null,null,null,null,null,"PASITOS PRE ESCOLAR ESPECIAL AC"]
[null,null,null,{"$f":"COUNTIF($E$1:E455,consulta!$D$1)","v":0},"PERFORAC B CALIF, S. DE R.L.","A081452310",1,5914.02,null,null,null,null,null,"DAVID ANTONIO NAVA MU#OZ"]
[null,null,null,{"$f":"COUNTIF($E$1:E456,consulta!$D$1)","v":0},"PERFORAC B CALIF, S. DE R.L.","A081452310",1,5914.02,null,null,null,null,null,"JORGE ESTEBAN LIZARRAGA VAZQUEZ"]
[null,null,null,{"$f":"COUNTIF($E$1:E457,consulta!$D$1)","v":0},"PERFORAC B CALIF, S. DE R.L.","A081452310",1,6010.98,null,null,null,null,null,"URBANIZACIONES GOAR SA DE CV"]
[null,null,null,{"$f":"COUNTIF($E$1:E458,consulta!$D$1)","v":0},"PERFORAC B CALIF, S. DE R.L.","A081452310",1,5914.02,null,null,null,null,null,"JOSE ALEJANDRO PORTUGAL MORALES"]
[null,null,null,{"$f":"COUNTIF($E$1:E459,consulta!$D$1)","v":0},"PERFORAC B CALIF, S. DE R.L.","A081452310",1,5914.02,null,null,null,null,null,"JAIME GARCIA ROBLES"]
[null,null,null,{"$f":"COUNTIF($E$1:E460,consulta!$D$1)","v":0},"PERFORAC B CALIF, S. DE R.L.","A081452310",1,2326.4,null,null,null,null,null,"MULTISISTEMAS DE SEGURIDAD PRIVADA DE CALIFORNIA SA DE CV"]
[null,null,null,{"$f":"COUNTIF($E$1:E461,consulta!$D$1)","v":0},"PERFORAC B CALIF, S. DE R.L.","A081452310",1,5505.49,null,null,null,null,null,"BILMA RUIZ CASTRO"]
[null,null,null,{"$f":"COUNTIF($E$1:E462,consulta!$D$1)","v":0},"PERFORAC B CALIF, S. DE R.L.","A081452310",1,2365.6,null,null,null,null,null,"GEOMATICA DE MEXICO S DE RL DE CV"]
[null,null,null,{"$f":"COUNTIF($E$1:E463,consulta!$D$1)","v":0},"PERFORAC B CALIF, S. DE R.L.","A081452310",1,2202.19,null,null,null,null,null,"COLEGIO DE CAPACITACION INTEGRAL DE COMPUTO INGLES SC"]
[null,null,null,{"$f":"COUNTIF($E$1:E464,consulta!$D$1)","v":0},"PERFORAC B CALIF, S. DE R.L.","A081452310",1,5885.73,null,null,null,null,null,"MARIA DE JESUS MACIAS FLORES"]
[null,null,null,{"$f":"COUNTIF($E$1:E465,consulta!$D$1)","v":0},"PERFORAC B CALIF, S. DE R.L.","A081452310",1,2365.6,null,null,null,null,null,"JOSE RAUL GOMEZ FLORES"]
[null,null,null,{"$f":"COUNTIF($E$1:E466,consulta!$D$1)","v":0},"PERFORAC B CALIF, S. DE R.L.","A081452310",1,2354.29,null,null,null,null,null,"PAROMI SA DE CV"]
[null,null,null,{"$f":"COUNTIF($E$1:E467,consulta!$D$1)","v":0},"PERFORAC B CALIF, S. DE R.L.","A081452310",1,5695.86,null,null,null,null,null,"CENTRAL COAST MANUFACTURING S DE RL DE CV"]
[null,null,null,{"$f":"COUNTIF($E$1:E468,consulta!$D$1)","v":0},"PERFORAC B CALIF, S. DE R.L.","A081452310",1,2404.39,null,null,null,null,null,"HARMAN DE MEXICO S DE RL DE CV"]
[null,null,null,{"$f":"COUNTIF($E$1:E469,consulta!$D$1)","v":0},"PERFORAC B CALIF, S. DE R.L.","A081452310",1,2278.34,null,null,null,null,null,"INMOBILIARIA URBANA LAS PRADERAS SA DE CV"]
[null,null,null,{"$f":"COUNTIF($E$1:E470,consulta!$D$1)","v":0},"PERFORAC B CALIF, S. DE R.L.","A081452310",1,5885.73,null,null,null,null,null,"AUTO AGENCIA ADUANAL DEL NOROESTE SC"]
[null,null,null,{"$f":"COUNTIF($E$1:E471,consulta!$D$1)","v":0},"PERFORAC B CALIF, S. DE R.L.","A081452310",1,2365.6,null,null,null,null,null,"ASOCIACION DE CONDOMINIOS PLAZA VILLAFONTANA AC"]
[null,null,null,{"$f":"COUNTIF($E$1:E472,consulta!$D$1)","v":0},"PERFORAC B CALIF, S. DE R.L.","A081452310",1,2354.29,null,null,null,null,null,"DENTAL ALVAREZ RIE SC"]
[null,null,null,{"$f":"COUNTIF($E$1:E473,consulta!$D$1)","v":0},"PERFORAC B CALIF, S. DE R.L.","A081452310",1,5695.86,null,null,null,null,null,"RODOLFO MICHEL MURILLO"]
[null,null,null,{"$f":"COUNTIF($E$1:E474,consulta!$D$1)","v":0},"PERFORAC B CALIF, S. DE R.L.","A081452310",1,2278.34,null,null,null,null,null,"MINIBODEGAS MINIMAX SA DE CV"]
[null,null,null,{"$f":"COUNTIF($E$1:E475,consulta!$D$1)","v":0},"PERFORAC B CALIF, S. DE R.L.","A081452310",1,5885.73,null,null,null,null,null,"HIDROCARBUROS DEL NORTE SA DE CV"]
[null,null,null,{"$f":"COUNTIF($E$1:E476,consulta!$D$1)","v":0},"PERFORAC B CALIF, S. DE R.L.","A081452310",1,2354.29,null,null,null,null,null,"PROFESIONALES EN PINTURAS Y ACABADOS SA DE CV"]
[null,null,null,{"$f":"COUNTIF($E$1:E477,consulta!$D$1)","v":0},"PERFORAC B CALIF, S. DE R.L.","A081452310",1,5885.73,null,null,null,null,null,"KARLA GUADALUPE RABAGO SAINZ"]
[null,null,null,{"$f":"COUNTIF($E$1:E478,consulta!$D$1)","v":0},"PERFORAC B CALIF, S. DE R.L.","A081452310",1,2354.29,null,null,null,null,null,"PEQUE#OS TRAVIESOS SC"]
[null,null,null,{"$f":"COUNTIF($E$1:E479,consulta!$D$1)","v":0},"PERFORAC B CALIF, S. DE R.L.","A081452310",1,5695.86,null,null,null,null,null,"RUBEN GONZALEZ MACIAS"]
[null,null,null,{"$f":"COUNTIF($E$1:E480,consulta!$D$1)","v":0},"PERFORAC B CALIF, S. DE R.L.","A081452310",1,2278.34,null,null,null,null,null,"SONIA VICTORIA RIOS GAMEZ"]
[null,null,null,{"$f":"COUNTIF($E$1:E481,consulta!$D$1)","v":0},"PERFORAC B CALIF, S. DE R.L.","A081452310",1,5885.73,null,null,null,null,null,"CORAZA SA DE CV"]
[null,null,null,{"$f":"COUNTIF($E$1:E482,consulta!$D$1)","v":0},"PERFORAC B CALIF, S. DE R.L.","A081452310",1,2354.29,null,null,null,null,null,"MIRNA MARIA DE JESUS ISLAS DELGADO"]
[null,null,null,{"$f":"COUNTIF($E$1:E483,consulta!$D$1)","v":0},"PERFORAC B CALIF, S. DE R.L.","A081452310",1,5695.86,null,null,null,null,null,"RESTAURANTE MEXICANO, S.A. DE C.V."]
[null,null,null,{"$f":"COUNTIF($E$1:E484,consulta!$D$1)","v":0},"PERFORAC B CALIF, S. DE R.L.","A081452310",1,2278.34,null,null,null,null,null,"ORIENTEX SA DE CV"]
[null,null,null,{"$f":"COUNTIF($E$1:E485,consulta!$D$1)","v":0},"PERFORAC B CALIF, S. DE R.L.","A081452310",1,5885.73,null,null,null,null,null,"ESTANCIA INFANTIL DE BAJA CALIFORNIA SC"]
[null,null,null,{"$f":"COUNTIF($E$1:E486,consulta!$D$1)","v":0},"PERFORAC B CALIF, S. DE R.L.","A081452310",1,2354.29,null,null,null,null,null,"ELVIRA LOPEZ"]
[null,null,null,{"$f":"COUNTIF($E$1:E487,consulta!$D$1)","v":0},"PERFORAC B CALIF, S. DE R.L.","A081452310",1,2365.6,null,null,null,null,null,"NELLY MALFAVON PRADO"]
[null,null,null,{"$f":"COUNTIF($E$1:E488,consulta!$D$1)","v":0},"LA FOGATA DE TIJUANA SA","A081473210",1,31410.1,null,null,null,null,null,"AGENCIA DE VIAJES Y ASIST AUTOMOVILIST"]
[null,null,null,{"$f":"COUNTIF($E$1:E489,consulta!$D$1)","v":0},"LA FOGATA DE TIJUANA SA","A081473210",1,12564.04,null,null,null,null,null,"FRANCISCO JAVIER MADRID RODRIGUEZ"]
[null,null,null,{"$f":"COUNTIF($E$1:E490,consulta!$D$1)","v":0},"BENJAMIN FLORES TORRES","A081520710",1,754.56,null,null,null,null,null,"JUAN MORALES SANCHEZ"]
[null,null,null,{"$f":"COUNTIF($E$1:E491,consulta!$D$1)","v":0},"BENJAMIN FLORES TORRES","A081520710",1,301.82,null,null,null,null,null,"GUSTAVO GONZALEZ GONZALEZ"]
[null,null,null,{"$f":"COUNTIF($E$1:E492,consulta!$D$1)","v":0},"TRANSPORTES URBANOS CALAFIA BC, S.A. DE C.V.","A081522410",1,12820,null,null,null,null,null,"ALICIA NAVARRETE MEZA"]
[null,null,null,{"$f":"COUNTIF($E$1:E493,consulta!$D$1)","v":0},"TRANSPORTES URBANOS CALAFIA BC, S.A. DE C.V.","A081522410",1,17157.75,null,null,null,null,null,"JUAN MANUEL RAMIREZ GUTIERREZ"]
[null,null,null,{"$f":"COUNTIF($E$1:E494,consulta!$D$1)","v":0},"TRANSPORTES URBANOS CALAFIA BC, S.A. DE C.V.","A081522410",1,15319.66,null,null,null,null,null,"COMERCIAL BUENA VISTA SA DE CV"]
[null,null,null,{"$f":"COUNTIF($E$1:E495,consulta!$D$1)","v":0},"TRANSPORTES URBANOS CALAFIA BC, S.A. DE C.V.","A081522410",1,12138.46,null,null,null,null,null,"CLINICA SANTA CLARITA SC"]
[null,null,null,{"$f":"COUNTIF($E$1:E496,consulta!$D$1)","v":0},"TRANSPORTES URBANOS CALAFIA BC, S.A. DE C.V.","A081522410",1,5128,null,null,null,null,null,"JOSE MANUEL RODRIGUEZ VALDIVIA"]
[null,null,null,{"$f":"COUNTIF($E$1:E497,consulta!$D$1)","v":0},"TRANSPORTES URBANOS CALAFIA BC, S.A. DE C.V.","A081522410",2,13985.99,null,null,null,null,null,"MANTENIMIENTO INDUSTRIAL PMK S DE RL DE CV"]
[null,null,null,{"$f":"COUNTIF($E$1:E498,consulta!$D$1)","v":0},"TRANSPORTES URBANOS CALAFIA BC, S.A. DE C.V.","A081522410",2,5594.39,null,null,null,null,null,"INGENIERIA CONSTRUCCION Y AIRE ACONDICIONADO SA DE CV"]
[null,null,null,{"$f":"COUNTIF($E$1:E499,consulta!$D$1)","v":0},"TRANSPORTES URBANOS CALAFIA BC, S.A. DE C.V.","A081522410",1,14111.27,null,null,null,null,null,"CINTHYA RIVERA GONZALEZ"]
[null,null,null,{"$f":"COUNTIF($E$1:E500,consulta!$D$1)","v":0},"TRANSPORTES URBANOS CALAFIA BC, S.A. DE C.V.","A081522410",1,5644.5,null,null,null,null,null,"JAVIER CAMPOS GUTIERREZ"]
[null,null,null,{"$f":"COUNTIF($E$1:E501,consulta!$D$1)","v":0},"TRANSPORTES URBANOS CALAFIA BC, S.A. DE C.V.","A081522410",1,5336.16,null,null,null,null,null,"ROSA MARITZA NAVA MELENDEZ"]
[null,null,null,{"$f":"COUNTIF($E$1:E502,consulta!$D$1)","v":0},"TRANSPORTES URBANOS CALAFIA BC, S.A. DE C.V.","A081522410",1,6863.1,null,null,null,null,null,"MODERA HOSPITAL FAMILIAR S DE RL"]
[null,null,null,{"$f":"COUNTIF($E$1:E503,consulta!$D$1)","v":0},"TRANSPORTES URBANOS CALAFIA BC, S.A. DE C.V.","A081522410",1,6127.86,null,null,null,null,null,"TRANSPORTES EJECUTIVOS PENINSULA SA DE CV"]
[null,null,null,{"$f":"COUNTIF($E$1:E504,consulta!$D$1)","v":0},"TRANSPORTES URBANOS CALAFIA BC, S.A. DE C.V.","A081522410",1,13526.91,null,null,null,null,null,"MAYRA GUADALUPE GARIBAY LOPEZ"]
[null,null,null,{"$f":"COUNTIF($E$1:E505,consulta!$D$1)","v":0},"TRANSPORTES URBANOS CALAFIA BC, S.A. DE C.V.","A081522410",1,5410.76,null,null,null,null,null,"GERARDO ROSALES YA#EZ"]
[null,null,null,{"$f":"COUNTIF($E$1:E506,consulta!$D$1)","v":0},"TRANSPORTES URBANOS CALAFIA BC, S.A. DE C.V.","A081522410",1,4855.38,null,null,null,null,null,"LEOPOLDO RUIZ MARTINEZ"]
[null,null,null,{"$f":"COUNTIF($E$1:E507,consulta!$D$1)","v":0},"CHOIX EDITORES S DE RL DE CV","A081537210",1,31640.240000000002,null,null,null,null,null,"CLAUDIO PINEDA ORTIZ"]
[null,null,null,{"$f":"COUNTIF($E$1:E508,consulta!$D$1)","v":0},"CHOIX EDITORES S DE RL DE CV","A081537210",1,11252.28,null,null,null,null,null,"TRANSPORTES L G A S DE RL DE CV"]
[null,null,null,{"$f":"COUNTIF($E$1:E509,consulta!$D$1)","v":0},"CHOIX EDITORES S DE RL DE CV","A081537210",1,12656.09,null,null,null,null,null,"DISTRIBUIDORA DE TECNOLOGIA SA DE CV"]
[null,null,null,{"$f":"COUNTIF($E$1:E510,consulta!$D$1)","v":0},"SUITES ROYAL DE TIJUANA SA DE CV","A081584810",1,742.39,null,null,null,null,null,"JULIO CESAR ZUART RUIZ"]
[null,null,null,{"$f":"COUNTIF($E$1:E511,consulta!$D$1)","v":0},"SUITES ROYAL DE TIJUANA SA DE CV","A081584810",1,742.39,null,null,null,null,null,"JOSE GERARDO ALVAREZ JIMENEZ"]
[null,null,null,{"$f":"COUNTIF($E$1:E512,consulta!$D$1)","v":0},"SUITES ROYAL DE TIJUANA SA DE CV","A081584810",1,296.95,null,null,null,null,null,"FRANCISCO JAVIER CAVADAS CONTRERAS"]
[null,null,null,{"$f":"COUNTIF($E$1:E513,consulta!$D$1)","v":0},"SUITES ROYAL DE TIJUANA SA DE CV","A081584810",1,940.33,null,null,null,null,null,"MUNDO DIVERTIDO DE LA MESA S DE RL DE CV"]
[null,null,null,{"$f":"COUNTIF($E$1:E514,consulta!$D$1)","v":0},"SUITES ROYAL DE TIJUANA SA DE CV","A081584810",1,376.13,null,null,null,null,null,"BANCO DE SANGRE Y LABORATORIO CLINICO DE BC S DE R"]
[null,null,null,{"$f":"COUNTIF($E$1:E515,consulta!$D$1)","v":0},"SUITES ROYAL DE TIJUANA SA DE CV","A081584810",1,910,null,null,null,null,null,"JUAN GRACIANO SANCHOTENA MEDRANO"]
[null,null,null,{"$f":"COUNTIF($E$1:E516,consulta!$D$1)","v":0},"SUITES ROYAL DE TIJUANA SA DE CV","A081584810",1,364,null,null,null,null,null,"ANDRES LEANDRO ARMENDARIZ YA#EZ"]
[null,null,null,{"$f":"COUNTIF($E$1:E517,consulta!$D$1)","v":0},"SUITES ROYAL DE TIJUANA SA DE CV","A081584810",1,940.33,null,null,null,null,null,"ROSALINA VARGAS TOLEDO"]
[null,null,null,{"$f":"COUNTIF($E$1:E518,consulta!$D$1)","v":0},"SUITES ROYAL DE TIJUANA SA DE CV","A081584810",1,376.13,null,null,null,null,null,"ARTURO CAMACHO SAUL"]
[null,null,null,{"$f":"COUNTIF($E$1:E519,consulta!$D$1)","v":0},"SUITES ROYAL DE TIJUANA SA DE CV","A081584810",1,296.95,null,null,null,null,null,"ANDROMEDA AGENCIA DE VIAJES SA DE CV"]
[null,null,null,{"$f":"COUNTIF($E$1:E520,consulta!$D$1)","v":0},"GASOLINERA MONTE SAN ANTONIO SA DE CV","A081603010",1,10239.14,null,null,null,null,null,"EULALIA VAZQUEZ PRESA"]
[null,null,null,{"$f":"COUNTIF($E$1:E521,consulta!$D$1)","v":0},"GASOLINERA MONTE SAN ANTONIO SA DE CV","A081603010",1,4095.65,null,null,null,null,null,"HECTOR HURTADO HURTADO"]
[null,null,null,{"$f":"COUNTIF($E$1:E522,consulta!$D$1)","v":0},"SALVADOR EUGENIO LEMUS QUINTANILLA","A081614310",1,15943.28,null,null,null,null,null,"MIRIAM LOURDES GONZALEZ ORTEGA"]
[null,null,null,{"$f":"COUNTIF($E$1:E523,consulta!$D$1)","v":0},"SALVADOR EUGENIO LEMUS QUINTANILLA","A081614310",1,5201.79,null,null,null,null,null,"ARGELIA MEJIA ALBA"]
[null,null,null,{"$f":"COUNTIF($E$1:E524,consulta!$D$1)","v":0},"SALVADOR EUGENIO LEMUS QUINTANILLA","A081614310",1,6377.31,null,null,null,null,null,"ARACELI BOCARDO ALVAREZ"]
[null,null,null,{"$f":"COUNTIF($E$1:E525,consulta!$D$1)","v":0},"LA GATITA HAPPY KITTY S DE RL DE CV","A081657610",1,383.1,null,null,null,null,null,"JOSE LUIS VELAZCO VILLASE#OR"]
[null,null,null,{"$f":"COUNTIF($E$1:E526,consulta!$D$1)","v":0},"LA GATITA HAPPY KITTY S DE RL DE CV","A081657610",1,322.69,null,null,null,null,null,"NEFTALI ROSALES LOYA"]
[null,null,null,{"$f":"COUNTIF($E$1:E527,consulta!$D$1)","v":0},"MARCELO RUIZ LUNA","A081670710",2,1460.46,null,null,null,null,null,"YESENIA NATALIA RAMIREZ MENDOZA"]
[null,null,null,{"$f":"COUNTIF($E$1:E528,consulta!$D$1)","v":0},"MARCELO RUIZ LUNA","A081670710",2,1484.78,null,null,null,null,null,"BEATRIZ VICTORIA LOPEZ LEYVA"]
[null,null,null,{"$f":"COUNTIF($E$1:E529,consulta!$D$1)","v":0},"MARCELO RUIZ LUNA","A081670710",2,1484.78,null,null,null,null,null,"ALMA ROSA MAGANA MOSQUEDA"]
[null,null,null,{"$f":"COUNTIF($E$1:E530,consulta!$D$1)","v":0},"MARCELO RUIZ LUNA","A081670710",1,1509.12,null,null,null,null,null,"MARIA DEL CARMEN MEZA"]
[null,null,null,{"$f":"COUNTIF($E$1:E531,consulta!$D$1)","v":0},"MARCELO RUIZ LUNA","A081670710",1,1484.78,null,null,null,null,null,"SILVIA CASTRO LOPEZ"]
[null,null,null,{"$f":"COUNTIF($E$1:E532,consulta!$D$1)","v":0},"MARCELO RUIZ LUNA","A081670710",1,1484.78,null,null,null,null,null,"JESUS CONTRERAS PONCE"]
[null,null,null,{"$f":"COUNTIF($E$1:E533,consulta!$D$1)","v":0},"MARCELO RUIZ LUNA","A081670710",2,584.17999999999995,null,null,null,null,null,"JOSE LAZARO GUERRA PALACIOS"]
[null,null,null,{"$f":"COUNTIF($E$1:E534,consulta!$D$1)","v":0},"MARCELO RUIZ LUNA","A081670710",2,1731.02,null,null,null,null,null,"MIRIAM ALEJANDRA MARTINEZ AMARILLAS"]
[null,null,null,{"$f":"COUNTIF($E$1:E535,consulta!$D$1)","v":0},"MARCELO RUIZ LUNA","A081670710",2,593.91,null,null,null,null,null,"GERARDO BAUTISTA ESPINOZA"]
[null,null,null,{"$f":"COUNTIF($E$1:E536,consulta!$D$1)","v":0},"MARCELO RUIZ LUNA","A081670710",2,692.4,null,null,null,null,null,"ALBERTO GRANADOS GONZALEZ"]
[null,null,null,{"$f":"COUNTIF($E$1:E537,consulta!$D$1)","v":0},"MARCELO RUIZ LUNA","A081670710",2,1850.42,null,null,null,null,null,"PAULA ALCAY MALTOS"]
[null,null,null,{"$f":"COUNTIF($E$1:E538,consulta!$D$1)","v":0},"MARCELO RUIZ LUNA","A081670710",2,593.91,null,null,null,null,null,"AD DESIGN, S. DE R.L. DE C.V."]
[null,null,null,{"$f":"COUNTIF($E$1:E539,consulta!$D$1)","v":0},"MARCELO RUIZ LUNA","A081670710",2,740.16,null,null,null,null,null,"PERMISIONARIOS Y CHOFERES FRANCISCO VILLA AC"]
[null,null,null,{"$f":"COUNTIF($E$1:E540,consulta!$D$1)","v":0},"MARCELO RUIZ LUNA","A081670710",2,1790.74,null,null,null,null,null,"ARSENIO DAVID OTA#EZ MARTINEZ"]
[null,null,null,{"$f":"COUNTIF($E$1:E541,consulta!$D$1)","v":0},"MARCELO RUIZ LUNA","A081670710",2,716.29,null,null,null,null,null,"OPERADORA BRASILE#A SA DE CV"]
[null,null,null,{"$f":"COUNTIF($E$1:E542,consulta!$D$1)","v":0},"MARCELO RUIZ LUNA","A081670710",2,1850.42,null,null,null,null,null,"JUST LABELS DE MEXICO SA DE CV"]
[null,null,null,{"$f":"COUNTIF($E$1:E543,consulta!$D$1)","v":0},"MARCELO RUIZ LUNA","A081670710",1,603.64,null,null,null,null,null,"LOURDES SENORINA SANTOYO HURTADO"]
[null,null,null,{"$f":"COUNTIF($E$1:E544,consulta!$D$1)","v":0},"MARCELO RUIZ LUNA","A081670710",2,740.16,null,null,null,null,null,"COMERCIAL MOPEK SA DE CV"]
[null,null,null,{"$f":"COUNTIF($E$1:E545,consulta!$D$1)","v":0},"MARCELO RUIZ LUNA","A081670710",2,1790.74,null,null,null,null,null,"TIBURCIA VEGA GRIJALVA"]
[null,null,null,{"$f":"COUNTIF($E$1:E546,consulta!$D$1)","v":0},"MARCELO RUIZ LUNA","A081670710",2,716.29,null,null,null,null,null,"LAI HOO MAR ARELLANO"]
[null,null,null,{"$f":"COUNTIF($E$1:E547,consulta!$D$1)","v":0},"MARCELO RUIZ LUNA","A081670710",2,1850.42,null,null,null,null,null,"ARTE PERDIDO S. DE R.L. DE C.V."]
[null,null,null,{"$f":"COUNTIF($E$1:E548,consulta!$D$1)","v":0},"MARCELO RUIZ LUNA","A081670710",2,740.16,null,null,null,null,null,"JUAN MIGUEL SOLORIO ARROYO"]
[null,null,null,{"$f":"COUNTIF($E$1:E549,consulta!$D$1)","v":0},"MARCELO RUIZ LUNA","A081670710",1,593.91,null,null,null,null,null,"JANDD DE MEXICO SA DE CV"]
[null,null,null,{"$f":"COUNTIF($E$1:E550,consulta!$D$1)","v":0},"MARCELO RUIZ LUNA","A081670710",1,1850.42,null,null,null,null,null,"GABRIEL ADOLFO COTA ZEPEDA"]
[null,null,null,{"$f":"COUNTIF($E$1:E551,consulta!$D$1)","v":0},"MARCELO RUIZ LUNA","A081670710",1,740.16,null,null,null,null,null,"RAMIRO GONZALEZ TENORIO"]
[null,null,null,{"$f":"COUNTIF($E$1:E552,consulta!$D$1)","v":0},"MARCELO RUIZ LUNA","A081670710",1,1790.74,null,null,null,null,null,"SISTEMAS DE AUTOMATIZACION DIGITAL SC"]
[null,null,null,{"$f":"COUNTIF($E$1:E553,consulta!$D$1)","v":0},"MARCELO RUIZ LUNA","A081670710",1,716.29,null,null,null,null,null,"FELIPE MOSQUEDA SUAREZ"]
[null,null,null,{"$f":"COUNTIF($E$1:E554,consulta!$D$1)","v":0},"MARCELO RUIZ LUNA","A081670710",1,1850.42,null,null,null,null,null,"VICENTE LOPEZ CAMBEROS"]
[null,null,null,{"$f":"COUNTIF($E$1:E555,consulta!$D$1)","v":0},"MARCELO RUIZ LUNA","A081670710",1,740.16,null,null,null,null,null,"MARIA MAGDALENA ESPINOZA CAMACHO"]
[null,null,null,{"$f":"COUNTIF($E$1:E556,consulta!$D$1)","v":0},"MARCELO RUIZ LUNA","A081670710",1,1790.74,null,null,null,null,null,"PEDRO MARTINEZ CASANOVA"]
[null,null,null,{"$f":"COUNTIF($E$1:E557,consulta!$D$1)","v":0},"MARCELO RUIZ LUNA","A081670710",1,716.29,null,null,null,null,null,"BLOQUERA INDUSTRIAL TIJUANA SA DE CV"]
[null,null,null,{"$f":"COUNTIF($E$1:E558,consulta!$D$1)","v":0},"MARCELO RUIZ LUNA","A081670710",1,1850.42,null,null,null,null,null,"SOLUCIONES AUDIOVISUALES, S. DE R.L. DE C.V."]
[null,null,null,{"$f":"COUNTIF($E$1:E559,consulta!$D$1)","v":0},"MARCELO RUIZ LUNA","A081670710",1,740.16,null,null,null,null,null,"JOSE RAMON NEVAREZ JIMENEZ"]
[null,null,null,{"$f":"COUNTIF($E$1:E560,consulta!$D$1)","v":0},"MARCELO RUIZ LUNA","A081670710",1,593.91,null,null,null,null,null,"CENTRO CAMBIARIO OLYMPIA DEL MAR SA DE CV"]
[null,null,null,{"$f":"COUNTIF($E$1:E561,consulta!$D$1)","v":0},"DESARROLLOS INMOBILIARIOS DEL NOROESTE SA DE CV","A081683610",1,2622.01,null,null,null,null,null,"CONSTRUCCIONES INTERNACIONALES TIJUANA SA DE CV"]
[null,null,null,{"$f":"COUNTIF($E$1:E562,consulta!$D$1)","v":0},"DESARROLLOS INMOBILIARIOS DEL NOROESTE SA DE CV","A081683610",1,4492.1099999999997,null,null,null,null,null,"ROSA IGNACIA SALAS LANDEROS"]
[null,null,null,{"$f":"COUNTIF($E$1:E563,consulta!$D$1)","v":0},"DESARROLLOS INMOBILIARIOS DEL NOROESTE SA DE CV","A081683610",1,1796.84,null,null,null,null,null,"ARMANDO ULLOA VENEGAS"]
[null,null,null,{"$f":"COUNTIF($E$1:E564,consulta!$D$1)","v":0},"DESARROLLOS INMOBILIARIOS DEL NOROESTE SA DE CV","A081683610",1,1048.8,null,null,null,null,null,"DELIA BARRERA ENCISO"]
[null,null,null,{"$f":"COUNTIF($E$1:E565,consulta!$D$1)","v":0},"COLEGIO DE BACHILLERES DEL ESTADO DE BAJA CALIFORNIA","A081722210",1,3419.94,null,null,null,null,null,"RAMON DE JESUS SOTELO FELIX"]
[null,null,null,{"$f":"COUNTIF($E$1:E566,consulta!$D$1)","v":0},"COLEGIO DE BACHILLERES DEL ESTADO DE BAJA CALIFORNIA","A081722210",1,1367.97,null,null,null,null,null,"VICENTE ALEJANDRO SERRANO ANDRADE"]
[null,null,null,{"$f":"COUNTIF($E$1:E567,consulta!$D$1)","v":0},"COLEGIO DE BACHILLERES DEL ESTADO DE BAJA CALIFORNIA","A081722210",1,2710.86,null,null,null,null,null,"SANDRA LUZ MONTIEL HERRERA"]
[null,null,null,{"$f":"COUNTIF($E$1:E568,consulta!$D$1)","v":0},"COLEGIO DE BACHILLERES DEL ESTADO DE BAJA CALIFORNIA","A081722210",1,1084.3399999999999,null,null,null,null,null,"VINOS Y LICORES CASTELLANOS, S.A. DE C.V."]
[null,null,null,{"$f":"COUNTIF($E$1:E569,consulta!$D$1)","v":0},"COLEGIO DE BACHILLERES DEL ESTADO DE BAJA CALIFORNIA","A081722210",1,1646.8,null,null,null,null,null,"YOU HUANG FENG"]
[null,null,null,{"$f":"COUNTIF($E$1:E570,consulta!$D$1)","v":0},"COLEGIO DE BACHILLERES DEL ESTADO DE BAJA CALIFORNIA","A081722210",1,658.72,null,null,null,null,null,"ANA MARIA BELTRAN ISLAS"]
[null,null,null,{"$f":"COUNTIF($E$1:E571,consulta!$D$1)","v":0},"LILLIAN VALENCIA ALONSO","A081739610",1,2195.0500000000002,null,null,null,null,null,"OLIVIA LOPEZ TORRES"]
[null,null,null,{"$f":"COUNTIF($E$1:E572,consulta!$D$1)","v":0},"LILLIAN VALENCIA ALONSO","A081739610",1,2195.0500000000002,null,null,null,null,null,"TOYO DEL PACIFICO SA DE CV"]
[null,null,null,{"$f":"COUNTIF($E$1:E573,consulta!$D$1)","v":0},"LILLIAN VALENCIA ALONSO","A081739610",2,2670.38,null,null,null,null,null,"HECTOR FLORES ESCAMILLA"]
[null,null,null,{"$f":"COUNTIF($E$1:E574,consulta!$D$1)","v":0},"LILLIAN VALENCIA ALONSO","A081739610",2,1068.1500000000001,null,null,null,null,null,"CENTRAL PERFORMANCE, S.A. DE C.V."]
[null,null,null,{"$f":"COUNTIF($E$1:E575,consulta!$D$1)","v":0},"LILLIAN VALENCIA ALONSO","A081739610",1,878.02,null,null,null,null,null,"JOSE LOURDES LEAL ROMAN"]
[null,null,null,{"$f":"COUNTIF($E$1:E576,consulta!$D$1)","v":0},"LILLIAN VALENCIA ALONSO","A081739610",1,2759.37,null,null,null,null,null,"TERESA RAMIREZ MACIAS"]
[null,null,null,{"$f":"COUNTIF($E$1:E577,consulta!$D$1)","v":0},"LILLIAN VALENCIA ALONSO","A081739610",1,1103.74,null,null,null,null,null,"VICTOR ALEJOS FLORES"]
[null,null,null,{"$f":"COUNTIF($E$1:E578,consulta!$D$1)","v":0},"LILLIAN VALENCIA ALONSO","A081739610",1,2759.37,null,null,null,null,null,"TERESA LEAL RAMOS"]
[null,null,null,{"$f":"COUNTIF($E$1:E579,consulta!$D$1)","v":0},"LILLIAN VALENCIA ALONSO","A081739610",1,1103.74,null,null,null,null,null,"ILIANA ZAMBRANO BECERRA"]
[null,null,null,{"$f":"COUNTIF($E$1:E580,consulta!$D$1)","v":0},"LILLIAN VALENCIA ALONSO","A081739610",1,878.02,null,null,null,null,null,"CLASIFICADOS ECONOMICOS SC"]
[null,null,null,{"$f":"COUNTIF($E$1:E581,consulta!$D$1)","v":0},"RAD DIAG CENTRO MED PRADO, S.A.","A081741810",1,3248.15,null,null,null,null,null,"AUTOTRANSPORTES DE GUASAVE SA DE CV"]
[null,null,null,{"$f":"COUNTIF($E$1:E582,consulta!$D$1)","v":0},"RAD DIAG CENTRO MED PRADO, S.A.","A081741810",1,3517.26,null,null,null,null,null,"ENRIQUE ROJAS FLORES"]
[null,null,null,{"$f":"COUNTIF($E$1:E583,consulta!$D$1)","v":0},"MABAMEX SA DE CV","A081757810",2,2559.1,null,null,null,null,null,"AUTOMETRIX SA DE CV"]
[null,null,null,{"$f":"COUNTIF($E$1:E584,consulta!$D$1)","v":0},"MABAMEX SA DE CV","A081757810",2,1023.64,null,null,null,null,null,"VENTAS SAFIRO SA DE CV"]
[null,null,null,{"$f":"COUNTIF($E$1:E585,consulta!$D$1)","v":0},"CENTRO DEPORTIVO BANCARIO DE TIJUANA AC","A081782610",1,4841.5,null,null,null,null,null,"JORGE LUIS CONTRERAS JAUREGUI"]
[null,null,null,{"$f":"COUNTIF($E$1:E586,consulta!$D$1)","v":0},"CENTRO DEPORTIVO BANCARIO DE TIJUANA AC","A081782610",1,4857.8100000000004,null,null,null,null,null,"ARQCOM SA DE CV"]
[null,null,null,{"$f":"COUNTIF($E$1:E587,consulta!$D$1)","v":0},"MARIA LUISA BAYLON ROMERO","A081800810",2,1507.18,null,null,null,null,null,"MARIA CRUZ CAMARENA MARTINEZ"]
[null,null,null,{"$f":"COUNTIF($E$1:E588,consulta!$D$1)","v":0},"MARIA LUISA BAYLON ROMERO","A081800810",2,9899.2199999999993,null,null,null,null,null,"RAQUEL STABINSKY VELAZCO"]
[null,null,null,{"$f":"COUNTIF($E$1:E589,consulta!$D$1)","v":0},"MARIA LUISA BAYLON ROMERO","A081800810",2,9468.9599999999991,null,null,null,null,null,"DAWN FOODS S DE RL DE CV"]
[null,null,null,{"$f":"COUNTIF($E$1:E590,consulta!$D$1)","v":0},"MARIA LUISA BAYLON ROMERO","A081800810",2,9468.9599999999991,null,null,null,null,null,"FELIPE FELIX ROCHA"]
[null,null,null,{"$f":"COUNTIF($E$1:E591,consulta!$D$1)","v":0},"MARIA LUISA BAYLON ROMERO","A081800810",1,7870.27,null,null,null,null,null,"CARLO OVIDIO CARDENAS RUIZ"]
[null,null,null,{"$f":"COUNTIF($E$1:E592,consulta!$D$1)","v":0},"MARIA LUISA BAYLON ROMERO","A081800810",1,7386.1,null,null,null,null,null,"BAJA AIRVENTURES S DE RL DE CV"]
[null,null,null,{"$f":"COUNTIF($E$1:E593,consulta!$D$1)","v":0},"MARIA LUISA BAYLON ROMERO","A081800810",1,7386.1,null,null,null,null,null,"JULIO CESAR PEREZ CERNAS"]
[null,null,null,{"$f":"COUNTIF($E$1:E594,consulta!$D$1)","v":0},"MARIA LUISA BAYLON ROMERO","A081800810",2,602.87,null,null,null,null,null,"COALICION PRO DEFENSA DEL MIGRANTE, A.C."]
[null,null,null,{"$f":"COUNTIF($E$1:E595,consulta!$D$1)","v":0},"MARIA LUISA BAYLON ROMERO","A081800810",2,1585.26,null,null,null,null,null,"AMILCAR SUAREZ DE LA CRUZ"]
[null,null,null,{"$f":"COUNTIF($E$1:E596,consulta!$D$1)","v":0},"MARIA LUISA BAYLON ROMERO","A081800810",2,634.1,null,null,null,null,null,"GSG DE MEXICO SA DE CV"]
[null,null,null,{"$f":"COUNTIF($E$1:E597,consulta!$D$1)","v":0},"MARIA LUISA BAYLON ROMERO","A081800810",2,3959.68,null,null,null,null,null,"FIESTAS EXCLUSIVAS DE TIJUANA SA DE CV"]
[null,null,null,{"$f":"COUNTIF($E$1:E598,consulta!$D$1)","v":0},"MARIA LUISA BAYLON ROMERO","A081800810",2,3787.58,null,null,null,null,null,"NEW IMAGE TOBACCO, S.A. DE C.V."]
[null,null,null,{"$f":"COUNTIF($E$1:E599,consulta!$D$1)","v":0},"MARIA LUISA BAYLON ROMERO","A081800810",2,10464.469999999999,null,null,null,null,null,"EMPRESANTE SC"]
[null,null,null,{"$f":"COUNTIF($E$1:E600,consulta!$D$1)","v":0},"MARIA LUISA BAYLON ROMERO","A081800810",2,3787.58,null,null,null,null,null,"OTONIEL AGRIPINO TLAXCOAPAN POSADAS"]
[null,null,null,{"$f":"COUNTIF($E$1:E601,consulta!$D$1)","v":0},"MARIA LUISA BAYLON ROMERO","A081800810",2,4185.78,null,null,null,null,null,"TAHIANA CRISTINA CARRICART MATA"]
[null,null,null,{"$f":"COUNTIF($E$1:E602,consulta!$D$1)","v":0},"MARIA LUISA BAYLON ROMERO","A081800810",2,10126.98,null,null,null,null,null,"MARTIN ESPINOZA ESPINOZA"]
[null,null,null,{"$f":"COUNTIF($E$1:E603,consulta!$D$1)","v":0},"MARIA LUISA BAYLON ROMERO","A081800810",2,4050.79,null,null,null,null,null,"GRUPO COBUTEC, S.A. DE C.V."]
[null,null,null,{"$f":"COUNTIF($E$1:E604,consulta!$D$1)","v":0},"MARIA LUISA BAYLON ROMERO","A081800810",2,10464.469999999999,null,null,null,null,null,"ALFONSO CESAR COSIO VAZQUEZ"]
[null,null,null,{"$f":"COUNTIF($E$1:E605,consulta!$D$1)","v":0},"MARIA LUISA BAYLON ROMERO","A081800810",1,3148.1,null,null,null,null,null,"RIGOBERTO PALLARES ACEVES"]
[null,null,null,{"$f":"COUNTIF($E$1:E606,consulta!$D$1)","v":0},"MARIA LUISA BAYLON ROMERO","A081800810",2,4185.78,null,null,null,null,null,"JORGE LUMBAN GUTIERREZ"]
[null,null,null,{"$f":"COUNTIF($E$1:E607,consulta!$D$1)","v":0},"MARIA LUISA BAYLON ROMERO","A081800810",2,10126.98,null,null,null,null,null,"TOYOTA MOTOR MANUFACTURING DE BAJA CALIFORNIA S DE RL DE CV"]
[null,null,null,{"$f":"COUNTIF($E$1:E608,consulta!$D$1)","v":0},"MARIA LUISA BAYLON ROMERO","A081800810",2,4050.79,null,null,null,null,null,"FRANCISCO DE CARLOS RUIZ"]
[null,null,null,{"$f":"COUNTIF($E$1:E609,consulta!$D$1)","v":0},"MARIA LUISA BAYLON ROMERO","A081800810",2,9002.6299999999992,null,null,null,null,null,"SALONES DE EVENTOS Y PLAZA COMERCIAL LAS PLAYAS SA DE CV"]
[null,null,null,{"$f":"COUNTIF($E$1:E610,consulta!$D$1)","v":0},"MARIA LUISA BAYLON ROMERO","A081800810",2,3601.05,null,null,null,null,null,"INSTITUTO MODELO FRONTERIZO AC"]
[null,null,null,{"$f":"COUNTIF($E$1:E611,consulta!$D$1)","v":0},"MARIA LUISA BAYLON ROMERO","A081800810",1,2954.44,null,null,null,null,null,"LANG LAB INTERNATIONAL ACADEMY SC"]
[null,null,null,{"$f":"COUNTIF($E$1:E612,consulta!$D$1)","v":0},"MARIA LUISA BAYLON ROMERO","A081800810",1,8269.68,null,null,null,null,null,"CRISSAIR DE MEXICO SA DE CV"]
[null,null,null,{"$f":"COUNTIF($E$1:E613,consulta!$D$1)","v":0},"MARIA LUISA BAYLON ROMERO","A081800810",1,3307.87,null,null,null,null,null,"AGENCIA ADUANAL ANGEL ACEVES SC"]
[null,null,null,{"$f":"COUNTIF($E$1:E614,consulta!$D$1)","v":0},"MARIA LUISA BAYLON ROMERO","A081800810",1,8002.97,null,null,null,null,null,"JESUS MANUEL FIGUEROA PEREZ"]
[null,null,null,{"$f":"COUNTIF($E$1:E615,consulta!$D$1)","v":0},"MARIA LUISA BAYLON ROMERO","A081800810",1,3201.18,null,null,null,null,null,"HECTOR RABADAN ROSALES"]
[null,null,null,{"$f":"COUNTIF($E$1:E616,consulta!$D$1)","v":0},"MARIA LUISA BAYLON ROMERO","A081800810",1,8269.68,null,null,null,null,null,"RAFAEL LEON LOPEZ"]
[null,null,null,{"$f":"COUNTIF($E$1:E617,consulta!$D$1)","v":0},"MARIA LUISA BAYLON ROMERO","A081800810",1,3307.87,null,null,null,null,null,"MARIA IVETT CERVANTES LOPEZ"]
[null,null,null,{"$f":"COUNTIF($E$1:E618,consulta!$D$1)","v":0},"MARIA LUISA BAYLON ROMERO","A081800810",1,8269.68,null,null,null,null,null,"CARLOS HERNANDEZ GUTIERREZ"]
[null,null,null,{"$f":"COUNTIF($E$1:E619,consulta!$D$1)","v":0},"MARIA LUISA BAYLON ROMERO","A081800810",1,3307.87,null,null,null,null,null,"LIJIAN LIANG"]
[null,null,null,{"$f":"COUNTIF($E$1:E620,consulta!$D$1)","v":0},"MARIA LUISA BAYLON ROMERO","A081800810",1,2954.44,null,null,null,null,null,"TRANSPORTES DE CARGA ALVIHNOS, S. DE R.L. DE C.V."]
[null,null,null,{"$f":"COUNTIF($E$1:E621,consulta!$D$1)","v":0},"A.E.I.O.U. SC","A081809310",1,1004.01,null,null,null,null,null,"FABIOLA DEL ROSARIO ESTRADA RODRIGUEZ"]
[null,null,null,{"$f":"COUNTIF($E$1:E622,consulta!$D$1)","v":0},"A.E.I.O.U. SC","A081809310",1,401.6,null,null,null,null,null,"PRESTAMOS PRENDARIOS DEL RIO SA DE CV"]
[null,null,null,{"$f":"COUNTIF($E$1:E623,consulta!$D$1)","v":0},"A.E.I.O.U. SC","A081809310",1,999.93,null,null,null,null,null,"ANA GABRIELA CASTELLANOS KOTKOFF"]
[null,null,null,{"$f":"COUNTIF($E$1:E624,consulta!$D$1)","v":0},"A.E.I.O.U. SC","A081809310",1,399.97,null,null,null,null,null,"LUIS ENRIQUE PARRA CAZARES"]
[null,null,null,{"$f":"COUNTIF($E$1:E625,consulta!$D$1)","v":0},"A.E.I.O.U. SC","A081809310",1,1068.92,null,null,null,null,null,"BUFETE MIGUEL I. SOSA SC"]
[null,null,null,{"$f":"COUNTIF($E$1:E626,consulta!$D$1)","v":0},"A.E.I.O.U. SC","A081809310",1,427.56,null,null,null,null,null,"AUDEL CASTILLO BRAVO"]
[null,null,null,{"$f":"COUNTIF($E$1:E627,consulta!$D$1)","v":0},"A.E.I.O.U. SC","A081809310",1,1034.42,null,null,null,null,null,"ROCIO QUINTERO HERNANDEZ"]
[null,null,null,{"$f":"COUNTIF($E$1:E628,consulta!$D$1)","v":0},"A.E.I.O.U. SC","A081809310",1,413.76,null,null,null,null,null,"YINDO'S DE CULIACAN S DE RL DE CV"]
[null,null,null,{"$f":"COUNTIF($E$1:E629,consulta!$D$1)","v":0},"CENTRO CAMBIARIO MONTA#O SA DE CV","A081876310",1,3347.62,null,null,null,null,null,"AIDA VICTORIA GONZALEZ PEREZ"]
[null,null,null,{"$f":"COUNTIF($E$1:E630,consulta!$D$1)","v":0},"CENTRO CAMBIARIO MONTA#O SA DE CV","A081876310",1,1339.04,null,null,null,null,null,"MARIA DE LA LUZ MARTINEZ CORONA"]
[null,null,null,{"$f":"COUNTIF($E$1:E631,consulta!$D$1)","v":0},"CENTRO CAMBIARIO MONTA#O SA DE CV","A081876310",1,3416.22,null,null,null,null,null,"TITO JAVIER POMPA JARAMILLO"]
[null,null,null,{"$f":"COUNTIF($E$1:E632,consulta!$D$1)","v":0},"CENTRO CAMBIARIO MONTA#O SA DE CV","A081876310",1,1366.48,null,null,null,null,null,"PROMOTORA INTERNACIONAL DE COMERCIO MABE SA DE CV"]
[null,null,null,{"$f":"COUNTIF($E$1:E633,consulta!$D$1)","v":0},"ROBERTO MILANEZ RAMIREZ","A081939210",1,1850.42,null,null,null,null,null,"HOMERO REYES VERDUGO"]
[null,null,null,{"$f":"COUNTIF($E$1:E634,consulta!$D$1)","v":0},"ROBERTO MILANEZ RAMIREZ","A081939210",1,740.16,null,null,null,null,null,"DORA ARGELIA ZAMUDIO LOPEZ"]
[null,null,null,{"$f":"COUNTIF($E$1:E635,consulta!$D$1)","v":0},"MARCOS CALIDAD SA DE CV","A081950510",1,31496.03,null,null,null,null,null,"JORGE MARTIN NAVARRO JIMENEZ"]
[null,null,null,{"$f":"COUNTIF($E$1:E636,consulta!$D$1)","v":0},"MARCOS CALIDAD SA DE CV","A081950510",1,36237.910000000003,null,null,null,null,null,"JORGE PEREZ LEON"]
[null,null,null,{"$f":"COUNTIF($E$1:E637,consulta!$D$1)","v":0},"EL DANDY DEL SUR CAFE CANTANTE SA DE CV","A082010210",1,6036.48,null,null,null,null,null,"HUGO EFREN MURILLO GOMEZ"]
[null,null,null,{"$f":"COUNTIF($E$1:E638,consulta!$D$1)","v":0},"EL DANDY DEL SUR CAFE CANTANTE SA DE CV","A082010210",1,5853.93,null,null,null,null,null,"AUTOTURISMO NAVER SA DE CV"]
[null,null,null,{"$f":"COUNTIF($E$1:E639,consulta!$D$1)","v":0},"EL DANDY DEL SUR CAFE CANTANTE SA DE CV","A082010210",1,2414.59,null,null,null,null,null,"SERVICIOS INDUST DE INVEST Y SEGURIDAD PRIVADA, S.A. DE C.V."]
[null,null,null,{"$f":"COUNTIF($E$1:E640,consulta!$D$1)","v":0},"EL DANDY DEL SUR CAFE CANTANTE SA DE CV","A082010210",1,7341.98,null,null,null,null,null,"GLORIA NOEMI JIMENEZ TORRES"]
[null,null,null,{"$f":"COUNTIF($E$1:E641,consulta!$D$1)","v":0},"EL DANDY DEL SUR CAFE CANTANTE SA DE CV","A082010210",1,2936.79,null,null,null,null,null,"MARTHA ALICIA VERGARA LAMAS"]
[null,null,null,{"$f":"COUNTIF($E$1:E642,consulta!$D$1)","v":0},"EL DANDY DEL SUR CAFE CANTANTE SA DE CV","A082010210",1,2341.5700000000002,null,null,null,null,null,"JOSE ALFREDO VAZQUEZ LOZA"]
[null,null,null,{"$f":"COUNTIF($E$1:E643,consulta!$D$1)","v":0},"DISE#OS BAJA PACIFICO SA DE CV","A082013210",1,923.78,null,null,null,null,null,"ANTONIA TRINIDAD LOPEZ VALDEZ"]
[null,null,null,{"$f":"COUNTIF($E$1:E644,consulta!$D$1)","v":0},"DISE#OS BAJA PACIFICO SA DE CV","A082013210",1,1017.04,null,null,null,null,null,"MARIA DE LA LUZ BRINGAS LOPEZ"]
[null,null,null,{"$f":"COUNTIF($E$1:E645,consulta!$D$1)","v":0},"DISE#OS BAJA PACIFICO SA DE CV","A082013210",1,406.81,null,null,null,null,null,"JOSE JUAN LOPEZ GARCIA"]
[null,null,null,{"$f":"COUNTIF($E$1:E646,consulta!$D$1)","v":0},"DISE#OS BAJA PACIFICO SA DE CV","A082013210",1,369.51,null,null,null,null,null,"EFRAIN RIVERA HERNANDEZ"]
[null,null,null,{"$f":"COUNTIF($E$1:E647,consulta!$D$1)","v":0},"INMUEBLES SANTA FE DE BAJA CALIFORNIA SA","A082065610",2,2428.02,null,null,null,null,null,"MARCOS ALBERTO MIRELES MONTANA"]
[null,null,null,{"$f":"COUNTIF($E$1:E648,consulta!$D$1)","v":0},"INMUEBLES SANTA FE DE BAJA CALIFORNIA SA","A082065610",2,2467.8200000000002,null,null,null,null,null,"IVAN COLOR IBARRA"]
[null,null,null,{"$f":"COUNTIF($E$1:E649,consulta!$D$1)","v":0},"INMUEBLES SANTA FE DE BAJA CALIFORNIA SA","A082065610",2,6960.08,null,null,null,null,null,"DANIEL MUNGUIA NAVARRO"]
[null,null,null,{"$f":"COUNTIF($E$1:E650,consulta!$D$1)","v":0},"INMUEBLES SANTA FE DE BAJA CALIFORNIA SA","A082065610",2,2784.03,null,null,null,null,null,"FORESTAL LARA SA DE CV"]
[null,null,null,{"$f":"COUNTIF($E$1:E651,consulta!$D$1)","v":0},"INMUEBLES SANTA FE DE BAJA CALIFORNIA SA","A082065610",2,6735.58,null,null,null,null,null,"CENTRAL DE EMPLEO S DE RL DE CV"]
[null,null,null,{"$f":"COUNTIF($E$1:E652,consulta!$D$1)","v":0},"INMUEBLES SANTA FE DE BAJA CALIFORNIA SA","A082065610",2,2694.23,null,null,null,null,null,"SILVIA YOLANDA GONZALEZ GONZALEZ"]
[null,null,null,{"$f":"COUNTIF($E$1:E653,consulta!$D$1)","v":0},"INMUEBLES SANTA FE DE BAJA CALIFORNIA SA","A082065610",2,6960.08,null,null,null,null,null,"ANGEL LEAL CASTILLO"]
[null,null,null,{"$f":"COUNTIF($E$1:E654,consulta!$D$1)","v":0},"INMUEBLES SANTA FE DE BAJA CALIFORNIA SA","A082065610",2,2784.03,null,null,null,null,null,"GERARDO CEDILLO VEGA"]
[null,null,null,{"$f":"COUNTIF($E$1:E655,consulta!$D$1)","v":0},"INMUEBLES SANTA FE DE BAJA CALIFORNIA SA","A082065610",2,6735.58,null,null,null,null,null,"EQUIPOS HIGIENE Y SERVICIOS SA DE CV"]
[null,null,null,{"$f":"COUNTIF($E$1:E656,consulta!$D$1)","v":0},"INMUEBLES SANTA FE DE BAJA CALIFORNIA SA","A082065610",2,2694.23,null,null,null,null,null,"DONATO PEREZ GARCIA"]
[null,null,null,{"$f":"COUNTIF($E$1:E657,consulta!$D$1)","v":0},"INMUEBLES SANTA FE DE BAJA CALIFORNIA SA","A082065610",1,2694.23,null,null,null,null,null,"MARTHA BARRERA SANCHEZ"]
[null,null,null,{"$f":"COUNTIF($E$1:E658,consulta!$D$1)","v":0},"OXIDOS Y PIGMENTOS MEXICANOS SA DE CV","A082150010",1,192410.61,null,null,null,null,null,"GRUPO EJECUTIVO PUBLICITARIO SC"]
[null,null,null,{"$f":"COUNTIF($E$1:E659,consulta!$D$1)","v":0},"OXIDOS Y PIGMENTOS MEXICANOS SA DE CV","A082150010",1,76964.240000000005,null,null,null,null,null,"ELITE SERVICIOS EMPRESARIALES SA DE CV"]
[null,null,null,{"$f":"COUNTIF($E$1:E660,consulta!$D$1)","v":0},"LUZ HAYDEE LOPEZ SANTILLAN","A082170710",1,1753.8,null,null,null,null,null,"JOSE ANTONIO MACEDO LERMA"]
[null,null,null,{"$f":"COUNTIF($E$1:E661,consulta!$D$1)","v":0},"LUZ HAYDEE LOPEZ SANTILLAN","A082170710",1,1987.67,null,null,null,null,null,"LILIANA ALEJANDRINA ORTIZ ZARAZUA"]
[null,null,null,{"$f":"COUNTIF($E$1:E662,consulta!$D$1)","v":0},"LUZ HAYDEE LOPEZ SANTILLAN","A082170710",1,795.06,null,null,null,null,null,"LILLIAN ORDO#EZ CLARAMOUNT"]
[null,null,null,{"$f":"COUNTIF($E$1:E663,consulta!$D$1)","v":0},"LUZ HAYDEE LOPEZ SANTILLAN","A082170710",1,701.52,null,null,null,null,null,"JOSE DE JESUS SANTOS CARDENAS"]
[null,null,null,{"$f":"COUNTIF($E$1:E664,consulta!$D$1)","v":0},"CALAFIA FURNITURE SA DE CV","A082180910",1,21603.119999999999,null,null,null,null,null,"PROMOTORA CUGUMART SA DE CV"]
[null,null,null,{"$f":"COUNTIF($E$1:E665,consulta!$D$1)","v":0},"CALAFIA FURNITURE SA DE CV","A082180910",1,20808.259999999998,null,null,null,null,null,"ROYAL LOGISTICS DE MEXICO, S. DE R.L. DE C.V."]
[null,null,null,{"$f":"COUNTIF($E$1:E666,consulta!$D$1)","v":0},"CALAFIA FURNITURE SA DE CV","A082180910",1,8641.24,null,null,null,null,null,"JUAN MANUEL ORTEGA CERDA"]
[null,null,null,{"$f":"COUNTIF($E$1:E667,consulta!$D$1)","v":0},"CALAFIA FURNITURE SA DE CV","A082180910",1,8323.2999999999993,null,null,null,null,null,"RAMIRO PELAYO MARTINEZ"]
[null,null,null,{"$f":"COUNTIF($E$1:E668,consulta!$D$1)","v":0},"CALAFIA FURNITURE SA DE CV","A082180910",1,7135.23,null,null,null,null,null,"OLD WORLD DOOR DE MEXICO SA DE CV"]
[null,null,null,{"$f":"COUNTIF($E$1:E669,consulta!$D$1)","v":0},"CALAFIA FURNITURE SA DE CV","A082180910",1,7311.78,null,null,null,null,null,"ASAMBLEA DE CONDOMINOS DE LADERAS DEL MAR AC"]
[null,null,null,{"$f":"COUNTIF($E$1:E670,consulta!$D$1)","v":0},"CALAFIA FURNITURE SA DE CV","A082180910",1,7075.96,null,null,null,null,null,"ADMINISTRACION DEL CONDOMINIO SANTANA AC"]
[null,null,null,{"$f":"COUNTIF($E$1:E671,consulta!$D$1)","v":0},"CALAFIA FURNITURE SA DE CV","A082180910",1,7311.78,null,null,null,null,null,"HILDA CORONEL SANCHEZ"]
[null,null,null,{"$f":"COUNTIF($E$1:E672,consulta!$D$1)","v":0},"CALAFIA FURNITURE SA DE CV","A082180910",1,7135.23,null,null,null,null,null,"IPEI DEL NOROESTE S DE RL DE CV"]
[null,null,null,{"$f":"COUNTIF($E$1:E673,consulta!$D$1)","v":0},"MADERERIA Y FERRETERIA LUNA SA DE CV","A082206710",1,1601.94,null,null,null,null,null,"INSTITUTO DE ENSE#ANZA MEDIA SUPERIOR SIGLO XXI SC"]
[null,null,null,{"$f":"COUNTIF($E$1:E674,consulta!$D$1)","v":0},"MADERERIA Y FERRETERIA LUNA SA DE CV","A082206710",1,1848.13,null,null,null,null,null,"JULIO ANTONIO SANCHEZ VALDOVINOS"]
[null,null,null,{"$f":"COUNTIF($E$1:E675,consulta!$D$1)","v":0},"MADERERIA Y FERRETERIA LUNA SA DE CV","A082206710",1,739.25,null,null,null,null,null,"MARCAL CREACION ESTRUCTURAL SA DE CV"]
[null,null,null,{"$f":"COUNTIF($E$1:E676,consulta!$D$1)","v":0},"MADERERIA Y FERRETERIA LUNA SA DE CV","A082206710",1,1909.72,null,null,null,null,null,"GABRIEL ZAVALZA ROMERO"]
[null,null,null,{"$f":"COUNTIF($E$1:E677,consulta!$D$1)","v":0},"MADERERIA Y FERRETERIA LUNA SA DE CV","A082206710",1,763.88,null,null,null,null,null,"AUTO TRANSPORTES URBANOS Y SUBURBANOS CORREDOR TIJ"]
[null,null,null,{"$f":"COUNTIF($E$1:E678,consulta!$D$1)","v":0},"MADERERIA Y FERRETERIA LUNA SA DE CV","A082206710",1,640.77,null,null,null,null,null,"JOSE ISRAEL SANDOVAL MARTINEZ"]
[null,null,null,{"$f":"COUNTIF($E$1:E679,consulta!$D$1)","v":0},"FABIAN GUERRERO RODRIGUEZ","A082206810",1,2263.6799999999998,null,null,null,null,null,"ADRIANA GARCIA JIMENEZ"]
[null,null,null,{"$f":"COUNTIF($E$1:E680,consulta!$D$1)","v":0},"FABIAN GUERRERO RODRIGUEZ","A082206810",1,905.47,null,null,null,null,null,"MARIA DEL CARMEN LIZARRAGA URREA"]
[null,null,null,{"$f":"COUNTIF($E$1:E681,consulta!$D$1)","v":0},"FABIAN GUERRERO RODRIGUEZ","A082206810",1,3154.14,null,null,null,null,null,"FERNANDO SANCHEZ FERNANDEZ"]
[null,null,null,{"$f":"COUNTIF($E$1:E682,consulta!$D$1)","v":0},"FABIAN GUERRERO RODRIGUEZ","A082206810",1,1261.6500000000001,null,null,null,null,null,"QUI#ONEZ CONST TIJUANA, S.A. DE C.V."]
[null,null,null,{"$f":"COUNTIF($E$1:E683,consulta!$D$1)","v":0},"FABIAN GUERRERO RODRIGUEZ","A082206810",1,3154.14,null,null,null,null,null,"ESTEBAN GILDARDO VALENZUELA CASTRO"]
[null,null,null,{"$f":"COUNTIF($E$1:E684,consulta!$D$1)","v":0},"FABIAN GUERRERO RODRIGUEZ","A082206810",1,1261.6500000000001,null,null,null,null,null,"OPERADORA DE HOTELES Y RESTAURANTES RIO TIJUANA SA DE CV"]
[null,null,null,{"$f":"COUNTIF($E$1:E685,consulta!$D$1)","v":0},"BIRRIERIA MI LEON GUANAJUATO SA DE CV","A082222210",1,5434.63,null,null,null,null,null,"VICTOR MANUEL GALLARDO FAHME"]
[null,null,null,{"$f":"COUNTIF($E$1:E686,consulta!$D$1)","v":0},"BIRRIERIA MI LEON GUANAJUATO SA DE CV","A082222210",1,5434.63,null,null,null,null,null,"SERVICIOS Y PROYECTOS ELECTRICOS BAJA S DE RL DE CV"]
[null,null,null,{"$f":"COUNTIF($E$1:E687,consulta!$D$1)","v":0},"BIRRIERIA MI LEON GUANAJUATO SA DE CV","A082222210",1,2209.4899999999998,null,null,null,null,null,"IRMA LETICIA GUZMAN GARCIA"]
[null,null,null,{"$f":"COUNTIF($E$1:E688,consulta!$D$1)","v":0},"BIRRIERIA MI LEON GUANAJUATO SA DE CV","A082222210",1,2173.85,null,null,null,null,null,"SARH S DE RL DE CV"]
[null,null,null,{"$f":"COUNTIF($E$1:E689,consulta!$D$1)","v":0},"BIRRIERIA MI LEON GUANAJUATO SA DE CV","A082222210",1,2454.21,null,null,null,null,null,"ORLANDO AYON SANDOVAL"]
[null,null,null,{"$f":"COUNTIF($E$1:E690,consulta!$D$1)","v":0},"BIRRIERIA MI LEON GUANAJUATO SA DE CV","A082222210",1,6135.53,null,null,null,null,null,"EDUARDO ATALO MAHLER ORDO#EZ"]
[null,null,null,{"$f":"COUNTIF($E$1:E691,consulta!$D$1)","v":0},"BIRRIERIA MI LEON GUANAJUATO SA DE CV","A082222210",1,2454.21,null,null,null,null,null,"ROMAN CISNEROS PEREZ"]
[null,null,null,{"$f":"COUNTIF($E$1:E692,consulta!$D$1)","v":0},"BIRRIERIA MI LEON GUANAJUATO SA DE CV","A082222210",1,2375.0500000000002,null,null,null,null,null,"C.I.D.E.T. SC"]
[null,null,null,{"$f":"COUNTIF($E$1:E693,consulta!$D$1)","v":0},"BIRRIERIA MI LEON GUANAJUATO SA DE CV","A082222210",1,6135.53,null,null,null,null,null,"JESUS ARMANDO HERRERA MANSIR"]
[null,null,null,{"$f":"COUNTIF($E$1:E694,consulta!$D$1)","v":0},"BIRRIERIA MI LEON GUANAJUATO SA DE CV","A082222210",1,2454.21,null,null,null,null,null,"MANPOWER INDUSTRIAL S DE RL DE CV"]
[null,null,null,{"$f":"COUNTIF($E$1:E695,consulta!$D$1)","v":0},"BIRRIERIA MI LEON GUANAJUATO SA DE CV","A082222210",1,2173.85,null,null,null,null,null,"OCUVISION, S.A. DE C.V."]
[null,null,null,{"$f":"COUNTIF($E$1:E696,consulta!$D$1)","v":0},"INSTITUTO CUAUHTLATOHUAC AC","A082253510",1,15805.08,null,null,null,null,null,"MIGUEL ANGEL BETANCOURT GALLARDO"]
[null,null,null,{"$f":"COUNTIF($E$1:E697,consulta!$D$1)","v":0},"INSTITUTO CUAUHTLATOHUAC AC","A082253510",1,7933.72,null,null,null,null,null,"COPAV SA DE CV"]
[null,null,null,{"$f":"COUNTIF($E$1:E698,consulta!$D$1)","v":0},"INSTITUTO CUAUHTLATOHUAC AC","A082253510",1,6817.27,null,null,null,null,null,"CONSORCIO CONSTRUCTOR DEL CONCRETO S DE RL DE CV"]
[null,null,null,{"$f":"COUNTIF($E$1:E699,consulta!$D$1)","v":0},"INSTITUTO CUAUHTLATOHUAC AC","A082253510",1,5817.55,null,null,null,null,null,"CARLOS ALFONSO SILVA MERIDA"]
[null,null,null,{"$f":"COUNTIF($E$1:E700,consulta!$D$1)","v":0},"INSTITUTO CUAUHTLATOHUAC AC","A082253510",1,6322.03,null,null,null,null,null,"INFINITY PAPELERIA S DE RL DE CV"]
[null,null,null,{"$f":"COUNTIF($E$1:E701,consulta!$D$1)","v":0},"PRODUCTOS INTERNACIONALES MABE SA DE CV","A082275610",1,1770.5,null,null,null,null,null,"POLYLEX SA DE CV"]
[null,null,null,{"$f":"COUNTIF($E$1:E702,consulta!$D$1)","v":0},"PRODUCTOS INTERNACIONALES MABE SA DE CV","A082275610",1,708.2,null,null,null,null,null,"EDUARDO ANTONIO CISNEROS GARCIA"]
[null,null,null,{"$f":"COUNTIF($E$1:E703,consulta!$D$1)","v":0},"OSCAR SEVILLA CUEVA","A082301810",1,2259,null,null,null,null,null,"BEATRIZ ELENA RODRIGUEZ LEA#O"]
[null,null,null,{"$f":"COUNTIF($E$1:E704,consulta!$D$1)","v":0},"OSCAR SEVILLA CUEVA","A082301810",1,2296.65,null,null,null,null,null,"PEQUE#OS TRAVIESOS II SC"]
[null,null,null,{"$f":"COUNTIF($E$1:E705,consulta!$D$1)","v":0},"OSCAR SEVILLA CUEVA","A082301810",1,2296.65,null,null,null,null,null,"VICENTE GOMEZ VILLA"]
[null,null,null,{"$f":"COUNTIF($E$1:E706,consulta!$D$1)","v":0},"OSCAR SEVILLA CUEVA","A082301810",1,2334.3000000000002,null,null,null,null,null,"OPTICAS MADDOX SA DE CV"]
[null,null,null,{"$f":"COUNTIF($E$1:E707,consulta!$D$1)","v":0},"OSCAR SEVILLA CUEVA","A082301810",1,2296.65,null,null,null,null,null,"FEMA EDIFICACIONES, S.A. DE C.V."]
[null,null,null,{"$f":"COUNTIF($E$1:E708,consulta!$D$1)","v":0},"OSCAR SEVILLA CUEVA","A082301810",1,2296.65,null,null,null,null,null,"YADIRA AURORA SANCHEZ VELAZQUEZ"]
[null,null,null,{"$f":"COUNTIF($E$1:E709,consulta!$D$1)","v":0},"OSCAR SEVILLA CUEVA","A082301810",1,903.6,null,null,null,null,null,"JUAN JOSE LEY MORGAN"]
[null,null,null,{"$f":"COUNTIF($E$1:E710,consulta!$D$1)","v":0},"OSCAR SEVILLA CUEVA","A082301810",1,918.66,null,null,null,null,null,"QUAN LI LIANG ZHUNG"]
[null,null,null,{"$f":"COUNTIF($E$1:E711,consulta!$D$1)","v":0},"OSCAR SEVILLA CUEVA","A082301810",1,918.66,null,null,null,null,null,"ALEJANDRO ROMO HERRERA"]
[null,null,null,{"$f":"COUNTIF($E$1:E712,consulta!$D$1)","v":0},"OSCAR SEVILLA CUEVA","A082301810",1,933.72,null,null,null,null,null,"JESUS ARNULFO ARMENTA RUIZ"]
[null,null,null,{"$f":"COUNTIF($E$1:E713,consulta!$D$1)","v":0},"OSCAR SEVILLA CUEVA","A082301810",1,918.66,null,null,null,null,null,"OBRA CIVIL DE BAJA CALIFORNIA SA DE CV"]
[null,null,null,{"$f":"COUNTIF($E$1:E714,consulta!$D$1)","v":0},"OSCAR SEVILLA CUEVA","A082301810",1,2720.13,null,null,null,null,null,"GRUPO METRIC ARQUITECTOS SA DE CV"]
[null,null,null,{"$f":"COUNTIF($E$1:E715,consulta!$D$1)","v":0},"OSCAR SEVILLA CUEVA","A082301810",1,1088.05,null,null,null,null,null,"JAIME ROBERTO CRUZ CONTRERAS"]
[null,null,null,{"$f":"COUNTIF($E$1:E716,consulta!$D$1)","v":0},"OSCAR SEVILLA CUEVA","A082301810",1,2720.13,null,null,null,null,null,"ALMA LIDIA BRISE#O RODRIGUEZ"]
[null,null,null,{"$f":"COUNTIF($E$1:E717,consulta!$D$1)","v":0},"OSCAR SEVILLA CUEVA","A082301810",1,1088.05,null,null,null,null,null,"GENOVEVA DURAN RODRIGUEZ"]
[null,null,null,{"$f":"COUNTIF($E$1:E718,consulta!$D$1)","v":0},"OSCAR SEVILLA CUEVA","A082301810",1,2810.79,null,null,null,null,null,"SERVICIOS INTERNACIONALES DEL MEDIO AMBIENTE SA DE CV"]
[null,null,null,{"$f":"COUNTIF($E$1:E719,consulta!$D$1)","v":0},"OSCAR SEVILLA CUEVA","A082301810",1,1124.31,null,null,null,null,null,"LUIS CRUZ BORQUEZ"]
[null,null,null,{"$f":"COUNTIF($E$1:E720,consulta!$D$1)","v":0},"OSCAR SEVILLA CUEVA","A082301810",1,2810.79,null,null,null,null,null,"ESMERALDA AYALA SUAREZ"]
[null,null,null,{"$f":"COUNTIF($E$1:E721,consulta!$D$1)","v":0},"OSCAR SEVILLA CUEVA","A082301810",1,1124.31,null,null,null,null,null,"LOGISTICA MAP SA DE CV"]
[null,null,null,{"$f":"COUNTIF($E$1:E722,consulta!$D$1)","v":0},"OSCAR SEVILLA CUEVA","A082301810",1,918.66,null,null,null,null,null,"SERGIO OSCAR ALVAREZ HUESCA"]
[null,null,null,{"$f":"COUNTIF($E$1:E723,consulta!$D$1)","v":0},"CARLOS PONCE POZO","A082310210",1,741.34,null,null,null,null,null,"MARICELA NERIA SAMBRANO"]
[null,null,null,{"$f":"COUNTIF($E$1:E724,consulta!$D$1)","v":0},"CARLOS PONCE POZO","A082310210",1,596.24,null,null,null,null,null,"CONSTRUCTORA BEHAR INGENIERIA Y ARQUITECTURA SA DE"]
[null,null,null,{"$f":"COUNTIF($E$1:E725,consulta!$D$1)","v":0},"JORGE CANDELARIO BAZUA GUERRERO","A082312310",1,109.53,null,null,null,null,null,"GUALBERTO LOPEZ VARGAS"]
[null,null,null,{"$f":"COUNTIF($E$1:E726,consulta!$D$1)","v":0},"MIGUEL HERNANDEZ DURAN","A082321410",1,925.21,null,null,null,null,null,"WINDOW DEPOT DE MEXICO SA DE CV"]
[null,null,null,{"$f":"COUNTIF($E$1:E727,consulta!$D$1)","v":0},"MIGUEL HERNANDEZ DURAN","A082321410",1,370.08,null,null,null,null,null,"GUSTAVO FIDEL ORTIZ MENDOZA"]
[null,null,null,{"$f":"COUNTIF($E$1:E728,consulta!$D$1)","v":0},"MEXHON S DE RL DE CV","A082359510",1,647.65,null,null,null,null,null,"BAJA DEV S DE RL DE CV"]
[null,null,null,{"$f":"COUNTIF($E$1:E729,consulta!$D$1)","v":0},"JAVIER VALDEZ ACEVES","A082375510",1,954.43,null,null,null,null,null,"GRUPO SILIMSA SA DE CV"]
[null,null,null,{"$f":"COUNTIF($E$1:E730,consulta!$D$1)","v":0},"JAVIER VALDEZ ACEVES","A082375510",1,381.77,null,null,null,null,null,"ANA ROSA MELENDEZ MARIN"]
[null,null,null,{"$f":"COUNTIF($E$1:E731,consulta!$D$1)","v":0},"JAVIER VALDEZ ACEVES","A082375510",1,954.43,null,null,null,null,null,"ASESORIA Y SERVICIOS EN COMUNICACIONES Y ELECTRONICA SA DE CV"]
[null,null,null,{"$f":"COUNTIF($E$1:E732,consulta!$D$1)","v":0},"JAVIER VALDEZ ACEVES","A082375510",1,381.77,null,null,null,null,null,"LIZETH HORTENSIA TORRES SANDOVAL"]
[null,null,null,{"$f":"COUNTIF($E$1:E733,consulta!$D$1)","v":0},"JAVIER VALDEZ ACEVES","A082375510",1,954.43,null,null,null,null,null,"CRUBER CONSTRUCCIONES S DE RL DE CV"]
[null,null,null,{"$f":"COUNTIF($E$1:E734,consulta!$D$1)","v":0},"JAVIER VALDEZ ACEVES","A082375510",1,381.77,null,null,null,null,null,"SALVADOR PLAZA VARGAS"]
[null,null,null,{"$f":"COUNTIF($E$1:E735,consulta!$D$1)","v":0},"CARBAR INDUSTRIAL SA","A082381510",1,8076.33,null,null,null,null,null,"BIKLIN S DE RL DE CV"]
[null,null,null,{"$f":"COUNTIF($E$1:E736,consulta!$D$1)","v":0},"CARBAR INDUSTRIAL SA","A082381510",1,7141.28,null,null,null,null,null,"AUTO TRANSPORTES URBANOS Y SUB URBANOS LIBRES DE TIJUANA BC SA DE CV"]
[null,null,null,{"$f":"COUNTIF($E$1:E737,consulta!$D$1)","v":0},"CARBAR INDUSTRIAL SA","A082381510",1,2856.51,null,null,null,null,null,"ANA LUISA RAMIREZ GARCIA"]
[null,null,null,{"$f":"COUNTIF($E$1:E738,consulta!$D$1)","v":0},"CARBAR INDUSTRIAL SA","A082381510",1,3360.96,null,null,null,null,null,"ALMA YOLANDA JIMENEZ OCHOA"]
[null,null,null,{"$f":"COUNTIF($E$1:E739,consulta!$D$1)","v":0},"CARBAR INDUSTRIAL SA","A082381510",1,8767.91,null,null,null,null,null,"BLINDADO SEGURO SA DE CV"]
[null,null,null,{"$f":"COUNTIF($E$1:E740,consulta!$D$1)","v":0},"CARBAR INDUSTRIAL SA","A082381510",1,3507.16,null,null,null,null,null,"CONSTRUCTORA FIVES SA DE CV"]
[null,null,null,{"$f":"COUNTIF($E$1:E741,consulta!$D$1)","v":0},"CARBAR INDUSTRIAL SA","A082381510",1,3230.53,null,null,null,null,null,"JUAN ANTONIO JUAREZ LIZARRAGA"]
[null,null,null,{"$f":"COUNTIF($E$1:E742,consulta!$D$1)","v":0},"JESUS MANUEL LARA GRACIA","A082392710",1,450.3,null,null,null,null,null,"NESTLE SERVICIOS CORPORATIVOS SA DE CV"]
[null,null,null,{"$f":"COUNTIF($E$1:E743,consulta!$D$1)","v":0},"JESUS MANUEL LARA GRACIA","A082392710",1,203.49,null,null,null,null,null,"GENDEMA DE MEXICO SA DE CV"]
[null,null,null,{"$f":"COUNTIF($E$1:E744,consulta!$D$1)","v":0},"JESUS MANUEL LARA GRACIA","A082392710",1,81.39,null,null,null,null,null,"HERMELINDA CUEVAS CRUZ"]
[null,null,null,{"$f":"COUNTIF($E$1:E745,consulta!$D$1)","v":0},"JESUS MANUEL LARA GRACIA","A082392710",1,1051.3800000000001,null,null,null,null,null,"RAYMUNDO ISLAS MARTINEZ"]
[null,null,null,{"$f":"COUNTIF($E$1:E746,consulta!$D$1)","v":0},"JESUS MANUEL LARA GRACIA","A082392710",1,420.55,null,null,null,null,null,"LILIA SUSANA ESPINOZA NU#EZ"]
[null,null,null,{"$f":"COUNTIF($E$1:E747,consulta!$D$1)","v":0},"JESUS MANUEL LARA GRACIA","A082392710",1,180.12,null,null,null,null,null,"JOSE SABINO JAVIER RIVAS GUEVARA"]
[null,null,null,{"$f":"COUNTIF($E$1:E748,consulta!$D$1)","v":0},"AUTO TRANSPORTES DE PASAJEROS URBANOS Y SUB-URBANOS CALFIA DE TIJUANA SA DE CV","A082431410",1,194657.47,null,null,null,null,null,"MANEJO INTEGRAL DE RECURSOS SA DE CV"]
[null,null,null,{"$f":"COUNTIF($E$1:E749,consulta!$D$1)","v":0},"AUTO TRANSPORTES DE PASAJEROS URBANOS Y SUB-URBANOS CALFIA DE TIJUANA SA DE CV","A082431410",1,236741.03,null,null,null,null,null,"LETICIA CATALINA BARRAGAN BRAVO"]
[null,null,null,{"$f":"COUNTIF($E$1:E750,consulta!$D$1)","v":0},"AUTO TRANSPORTES DE PASAJEROS URBANOS Y SUB-URBANOS CALFIA DE TIJUANA SA DE CV","A082431410",1,94696.41,null,null,null,null,null,"ALBERTO ARENAS CASTILLO"]
[null,null,null,{"$f":"COUNTIF($E$1:E751,consulta!$D$1)","v":0},"AUTO TRANSPORTES DE PASAJEROS URBANOS Y SUB-URBANOS CALFIA DE TIJUANA SA DE CV","A082431410",1,77862.98,null,null,null,null,null,"MARIA DE LOS ANGELES BENITEZ GONZALEZ"]
[null,null,null,{"$f":"COUNTIF($E$1:E752,consulta!$D$1)","v":0},"NACIONAL EDITORA SA DE CV","A082441110",1,413.94,null,null,null,null,null,"INK THROWERS DE MEXICO SA DE CV"]
[null,null,null,{"$f":"COUNTIF($E$1:E753,consulta!$D$1)","v":0},"NACIONAL EDITORA SA DE CV","A082441110",1,427.74,null,null,null,null,null,"LUIS MIGUEL LIZARRAGA CABANILLAS"]
[null,null,null,{"$f":"COUNTIF($E$1:E754,consulta!$D$1)","v":0},"NACIONAL EDITORA SA DE CV","A082441110",1,408.58,null,null,null,null,null,"INSTITUTO SIERCOR AC"]
[null,null,null,{"$f":"COUNTIF($E$1:E755,consulta!$D$1)","v":0},"JOSUE GONZALEZ ALVARADO","A082444410",1,742.39,null,null,null,null,null,"MARTHA LETICIA VAZQUEZ CASTRO"]
[null,null,null,{"$f":"COUNTIF($E$1:E756,consulta!$D$1)","v":0},"JOSUE GONZALEZ ALVARADO","A082444410",1,963.13,null,null,null,null,null,"RIGOBERTO PADILLA FLORES"]
[null,null,null,{"$f":"COUNTIF($E$1:E757,consulta!$D$1)","v":0},"JOSUE GONZALEZ ALVARADO","A082444410",1,385.25,null,null,null,null,null,"AARON SALINAS CABRERA"]
[null,null,null,{"$f":"COUNTIF($E$1:E758,consulta!$D$1)","v":0},"JOSUE GONZALEZ ALVARADO","A082444410",1,296.95,null,null,null,null,null,"PAAJTAL, S. DE R.L. DE C.V."]
[null,null,null,{"$f":"COUNTIF($E$1:E759,consulta!$D$1)","v":0},"DOMINGO CORRALES MADRID","A082450310",1,742.39,null,null,null,null,null,"LICEO UDC SC"]
[null,null,null,{"$f":"COUNTIF($E$1:E760,consulta!$D$1)","v":0},"DOMINGO CORRALES MADRID","A082450310",1,742.39,null,null,null,null,null,"SILVIA CRUZ RAMOS"]
[null,null,null,{"$f":"COUNTIF($E$1:E761,consulta!$D$1)","v":0},"DOMINGO CORRALES MADRID","A082450310",1,296.95,null,null,null,null,null,"KARLA YADIRA PERALTA BARRERAS"]
[null,null,null,{"$f":"COUNTIF($E$1:E762,consulta!$D$1)","v":0},"DOMINGO CORRALES MADRID","A082450310",1,925.21,null,null,null,null,null,"KAREN GUAKIL IBARRA"]
[null,null,null,{"$f":"COUNTIF($E$1:E763,consulta!$D$1)","v":0},"DOMINGO CORRALES MADRID","A082450310",1,370.08,null,null,null,null,null,"ESTANCIAS INFANTILES DE BAJA CALIFORNIA AC"]
[null,null,null,{"$f":"COUNTIF($E$1:E764,consulta!$D$1)","v":0},"DOMINGO CORRALES MADRID","A082450310",1,925.21,null,null,null,null,null,"ALFRA EQUIPOS AEROPORTUARIOS SA DE CV"]
[null,null,null,{"$f":"COUNTIF($E$1:E765,consulta!$D$1)","v":0},"DOMINGO CORRALES MADRID","A082450310",1,370.08,null,null,null,null,null,"INTEGRACION MOBO SA DE CV"]
[null,null,null,{"$f":"COUNTIF($E$1:E766,consulta!$D$1)","v":0},"DOMINGO CORRALES MADRID","A082450310",1,296.95,null,null,null,null,null,"MARTIN JAIME GARCIA RUIZ"]
[null,null,null,{"$f":"COUNTIF($E$1:E767,consulta!$D$1)","v":0},"PROVEEDORA ART FIESTAS, S.A.","A082464310",1,2095.0300000000002,null,null,null,null,null,"LOS NI#OS DE BAJA CALIFORNIA, A.C."]
[null,null,null,{"$f":"COUNTIF($E$1:E768,consulta!$D$1)","v":0},"PROVEEDORA ART FIESTAS, S.A.","A082464310",1,2121.12,null,null,null,null,null,"BENCHMARK ELECTRONICS TIJUANA S DE RL DE CV"]
[null,null,null,{"$f":"COUNTIF($E$1:E769,consulta!$D$1)","v":0},"PROVEEDORA ART FIESTAS, S.A.","A082464310",1,848.44,null,null,null,null,null,"RAUL ARELLANO MENDOZA"]
[null,null,null,{"$f":"COUNTIF($E$1:E770,consulta!$D$1)","v":0},"PROVEEDORA ART FIESTAS, S.A.","A082464310",1,838.01,null,null,null,null,null,"ESTHER MUHLBACH MARQUEZ"]
[null,null,null,{"$f":"COUNTIF($E$1:E771,consulta!$D$1)","v":0},"TURBO TECNOLOGIA DE REPARACIONES SA DE CV","A082465010",1,47954.16,null,null,null,null,null,"CENTRO DE VIGILANCIA Y OBSERVACION SA DE CV"]
[null,null,null,{"$f":"COUNTIF($E$1:E772,consulta!$D$1)","v":0},"ALBERTO B MONTA#O RUBIO","A082480110",1,742.39,null,null,null,null,null,"PARROQUIA SAGRADO CORAZON DE JESUS EN TIJUANA AR"]
[null,null,null,{"$f":"COUNTIF($E$1:E773,consulta!$D$1)","v":0},"ALBERTO B MONTA#O RUBIO","A082480110",1,925.21,null,null,null,null,null,"FARMAMIL, S.A. DE C.V."]
[null,null,null,{"$f":"COUNTIF($E$1:E774,consulta!$D$1)","v":0},"ALBERTO B MONTA#O RUBIO","A082480110",1,370.08,null,null,null,null,null,"KILIWAS CONSTRUCTORA S DE RL DE CV"]
[null,null,null,{"$f":"COUNTIF($E$1:E775,consulta!$D$1)","v":0},"ALBERTO B MONTA#O RUBIO","A082480110",1,296.95,null,null,null,null,null,"GRISELDA ORTEGA BELTRAN"]
[null,null,null,{"$f":"COUNTIF($E$1:E776,consulta!$D$1)","v":0},"LAMKIN DE MEXICO SA DE CV","A082515110",1,2232.88,null,null,null,null,null,"MA MARTA ELENA DE LOZA GARCIA"]
[null,null,null,{"$f":"COUNTIF($E$1:E777,consulta!$D$1)","v":0},"LAMKIN DE MEXICO SA DE CV","A082515110",1,893.15,null,null,null,null,null,"CEMA INGENIERIA SA DE CV"]
[null,null,null,{"$f":"COUNTIF($E$1:E778,consulta!$D$1)","v":0},"FRANCISCO JAVIER JIMENEZ SERRANO","A082538910",1,5323.29,null,null,null,null,null,"SERVICIOS GLOBALES EN ADMINISTRACION Y VENTAS S DE RL DE CV"]
[null,null,null,{"$f":"COUNTIF($E$1:E779,consulta!$D$1)","v":0},"FRANCISCO JAVIER JIMENEZ SERRANO","A082538910",1,5236.03,null,null,null,null,null,"HOSPITAL DE SALUD MENTAL DE TIJUANA AC"]
[null,null,null,{"$f":"COUNTIF($E$1:E780,consulta!$D$1)","v":0},"FRANCISCO JAVIER JIMENEZ SERRANO","A082538910",1,5323.29,null,null,null,null,null,"VICTOR JESUS LAGUNAS CABRERA"]
[null,null,null,{"$f":"COUNTIF($E$1:E781,consulta!$D$1)","v":0},"FRANCISCO JAVIER JIMENEZ SERRANO","A082538910",1,4657.46,null,null,null,null,null,"GABRIELA ODETTE LOPEZ MACIAS"]
[null,null,null,{"$f":"COUNTIF($E$1:E782,consulta!$D$1)","v":0},"FRANCISCO JAVIER JIMENEZ SERRANO","A082538910",1,4263.83,null,null,null,null,null,"GRUPO CASEME S DE RL DE CV"]
[null,null,null,{"$f":"COUNTIF($E$1:E783,consulta!$D$1)","v":0},"FRANCISCO JAVIER JIMENEZ SERRANO","A082538910",1,4195.0600000000004,null,null,null,null,null,"LIDIA VILLALOBOS VAZQUEZ"]
[null,null,null,{"$f":"COUNTIF($E$1:E784,consulta!$D$1)","v":0},"FRANCISCO JAVIER JIMENEZ SERRANO","A082538910",1,4195.0600000000004,null,null,null,null,null,"FELICITAS MACIAS ARRONA"]
[null,null,null,{"$f":"COUNTIF($E$1:E785,consulta!$D$1)","v":0},"FRANCISCO JAVIER JIMENEZ SERRANO","A082538910",1,2129.31,null,null,null,null,null,"EDUARDO WADE BAEZA"]
[null,null,null,{"$f":"COUNTIF($E$1:E786,consulta!$D$1)","v":0},"FRANCISCO JAVIER JIMENEZ SERRANO","A082538910",1,4845.46,null,null,null,null,null,"PROCESS ENGINEERING S DE RL DE CV"]
[null,null,null,{"$f":"COUNTIF($E$1:E787,consulta!$D$1)","v":0},"FRANCISCO JAVIER JIMENEZ SERRANO","A082538910",1,1938.18,null,null,null,null,null,"MARCOS SALAZAR SAN MARTIN"]
[null,null,null,{"$f":"COUNTIF($E$1:E788,consulta!$D$1)","v":0},"FRANCISCO JAVIER JIMENEZ SERRANO","A082538910",1,5006.9799999999996,null,null,null,null,null,"ERIK ALBERTO PICHARDO ANDRADE"]
[null,null,null,{"$f":"COUNTIF($E$1:E789,consulta!$D$1)","v":0},"FRANCISCO JAVIER JIMENEZ SERRANO","A082538910",1,2002.79,null,null,null,null,null,"HOTELERA C B A SA DE CV"]
[null,null,null,{"$f":"COUNTIF($E$1:E790,consulta!$D$1)","v":0},"FRANCISCO JAVIER JIMENEZ SERRANO","A082538910",1,5006.9799999999996,null,null,null,null,null,"JESUS RABADAN ROSALES"]
[null,null,null,{"$f":"COUNTIF($E$1:E791,consulta!$D$1)","v":0},"FRANCISCO JAVIER JIMENEZ SERRANO","A082538910",1,2094.41,null,null,null,null,null,"TERESA MERCEDES LUNG JIMENEZ"]
[null,null,null,{"$f":"COUNTIF($E$1:E792,consulta!$D$1)","v":0},"FRANCISCO JAVIER JIMENEZ SERRANO","A082538910",1,2002.79,null,null,null,null,null,"ERNESTO LEOBARDO RODRIGUERA OSUNA"]
[null,null,null,{"$f":"COUNTIF($E$1:E793,consulta!$D$1)","v":0},"FRANCISCO JAVIER JIMENEZ SERRANO","A082538910",1,4728.68,null,null,null,null,null,"MANUEL CAPETILLO SUAREZ"]
[null,null,null,{"$f":"COUNTIF($E$1:E794,consulta!$D$1)","v":0},"FRANCISCO JAVIER JIMENEZ SERRANO","A082538910",1,2129.31,null,null,null,null,null,"SOFIA SALAZAR SAN MARTIN"]
[null,null,null,{"$f":"COUNTIF($E$1:E795,consulta!$D$1)","v":0},"FRANCISCO JAVIER JIMENEZ SERRANO","A082538910",1,1891.47,null,null,null,null,null,"MARCOS ALVARADO BARAJAS"]
[null,null,null,{"$f":"COUNTIF($E$1:E796,consulta!$D$1)","v":0},"FRANCISCO JAVIER JIMENEZ SERRANO","A082538910",1,5054.7700000000004,null,null,null,null,null,"AMERICAN LOAN EMPLOYEE SERVICES SA DE CV"]
[null,null,null,{"$f":"COUNTIF($E$1:E797,consulta!$D$1)","v":0},"FRANCISCO JAVIER JIMENEZ SERRANO","A082538910",1,1862.98,null,null,null,null,null,"RAFAEL ALAPIZCO MORALES"]
[null,null,null,{"$f":"COUNTIF($E$1:E798,consulta!$D$1)","v":0},"FRANCISCO JAVIER JIMENEZ SERRANO","A082538910",1,2021.9,null,null,null,null,null,"SANDRA DE ROSAS HERNANDEZ"]
[null,null,null,{"$f":"COUNTIF($E$1:E799,consulta!$D$1)","v":0},"FRANCISCO JAVIER JIMENEZ SERRANO","A082538910",1,4891.72,null,null,null,null,null,"NORMA ZURITA GERMAN"]
[null,null,null,{"$f":"COUNTIF($E$1:E800,consulta!$D$1)","v":0},"FRANCISCO JAVIER JIMENEZ SERRANO","A082538910",1,1705.53,null,null,null,null,null,"PEREZ-BRAVO & HUIZAR SC"]
[null,null,null,{"$f":"COUNTIF($E$1:E801,consulta!$D$1)","v":0},"FRANCISCO JAVIER JIMENEZ SERRANO","A082538910",1,1956.68,null,null,null,null,null,"JESUS JOSE MENDOZA ORTEGA"]
[null,null,null,{"$f":"COUNTIF($E$1:E802,consulta!$D$1)","v":0},"FRANCISCO JAVIER JIMENEZ SERRANO","A082538910",1,4834.82,null,null,null,null,null,"OCEANSIDE GLASSTILE MEXICO S DE RL DE CV"]
[null,null,null,{"$f":"COUNTIF($E$1:E803,consulta!$D$1)","v":0},"FRANCISCO JAVIER JIMENEZ SERRANO","A082538910",1,1678.02,null,null,null,null,null,"JOSE ARMANDO BALVANERA GONZALEZ"]
[null,null,null,{"$f":"COUNTIF($E$1:E804,consulta!$D$1)","v":0},"FRANCISCO JAVIER JIMENEZ SERRANO","A082538910",1,1933.92,null,null,null,null,null,"AMADA CARDONA MU#OZ"]
[null,null,null,{"$f":"COUNTIF($E$1:E805,consulta!$D$1)","v":0},"FRANCISCO JAVIER JIMENEZ SERRANO","A082538910",1,3791.99,null,null,null,null,null,"ELISEO GONZALEZ ROSAS"]
[null,null,null,{"$f":"COUNTIF($E$1:E806,consulta!$D$1)","v":0},"FRANCISCO JAVIER JIMENEZ SERRANO","A082538910",1,1516.79,null,null,null,null,null,"MANUFACTURER DE MEXICO MAJESTY MAJOR S DE RL DE CV"]
[null,null,null,{"$f":"COUNTIF($E$1:E807,consulta!$D$1)","v":0},"FRANCISCO JAVIER JIMENEZ SERRANO","A082538910",1,3918.41,null,null,null,null,null,"COMERCIALIZADORA ROVIROSA S DE RL DE CV"]
[null,null,null,{"$f":"COUNTIF($E$1:E808,consulta!$D$1)","v":0},"FRANCISCO JAVIER JIMENEZ SERRANO","A082538910",1,1567.36,null,null,null,null,null,"FELIPE RAFAEL CRUZ SANTOS"]
[null,null,null,{"$f":"COUNTIF($E$1:E809,consulta!$D$1)","v":0},"FRANCISCO JAVIER JIMENEZ SERRANO","A082538910",1,3918.41,null,null,null,null,null,"COMERCIALIZADORA DE SERVICIOS INTEGRALES PEISAL SA DE CV"]
[null,null,null,{"$f":"COUNTIF($E$1:E810,consulta!$D$1)","v":0},"FRANCISCO JAVIER JIMENEZ SERRANO","A082538910",1,1567.36,null,null,null,null,null,"RAMON DAVID RINCON VARGAS"]
[null,null,null,{"$f":"COUNTIF($E$1:E811,consulta!$D$1)","v":0},"FRANCISCO JAVIER JIMENEZ SERRANO","A082538910",1,3791.99,null,null,null,null,null,"SEGO INDUSTRIES, S. DE R.L. DE C.V."]
[null,null,null,{"$f":"COUNTIF($E$1:E812,consulta!$D$1)","v":0},"FRANCISCO JAVIER JIMENEZ SERRANO","A082538910",1,1516.79,null,null,null,null,null,"JOSE GABRIEL PATRON SARABIA"]
[null,null,null,{"$f":"COUNTIF($E$1:E813,consulta!$D$1)","v":0},"FRANCISCO JAVIER JIMENEZ SERRANO","A082538910",1,3918.41,null,null,null,null,null,"GASPAR SOTELO DURAN"]
[null,null,null,{"$f":"COUNTIF($E$1:E814,consulta!$D$1)","v":0},"FRANCISCO JAVIER JIMENEZ SERRANO","A082538910",1,1567.36,null,null,null,null,null,"SS LOGISTIC, S.A. DE C.V."]
[null,null,null,{"$f":"COUNTIF($E$1:E815,consulta!$D$1)","v":0},"FRANCISCO JAVIER JIMENEZ SERRANO","A082538910",1,3918.41,null,null,null,null,null,"SERV ELECTR Y MANTEN ESPECIALIZADO S.A. DE C.V."]
[null,null,null,{"$f":"COUNTIF($E$1:E816,consulta!$D$1)","v":0},"FRANCISCO JAVIER JIMENEZ SERRANO","A082538910",1,1567.36,null,null,null,null,null,"FUEL SYSTEM SA"]
[null,null,null,{"$f":"COUNTIF($E$1:E817,consulta!$D$1)","v":0},"FRANCISCO JAVIER JIMENEZ SERRANO","A082538910",1,1678.02,null,null,null,null,null,"SBL PHARMACEUTICALS S DE RL DE CV"]
[null,null,null,{"$f":"COUNTIF($E$1:E818,consulta!$D$1)","v":0},"MEXICOCHE SA DE CV","A082539610",1,13486.03,null,null,null,null,null,"I E M S CONSTRUCCIONES SA DE CV"]
[null,null,null,{"$f":"COUNTIF($E$1:E819,consulta!$D$1)","v":0},"MEXICOCHE SA DE CV","A082539610",1,11261.02,null,null,null,null,null,"JESUS GONZALEZ ANDONAEGUI"]
[null,null,null,{"$f":"COUNTIF($E$1:E820,consulta!$D$1)","v":0},"MEXICOCHE SA DE CV","A082539610",1,17850.41,null,null,null,null,null,"ODILIA DIAZ AMBRIZ"]
[null,null,null,{"$f":"COUNTIF($E$1:E821,consulta!$D$1)","v":0},"MEXICOCHE SA DE CV","A082539610",1,5394.41,null,null,null,null,null,"GRUPO CONSULTOR A & M SC"]
[null,null,null,{"$f":"COUNTIF($E$1:E822,consulta!$D$1)","v":0},"MEXICOCHE SA DE CV","A082539610",1,13746.52,null,null,null,null,null,"GRUPO PULIDO POMPA ZAVALA AC"]
[null,null,null,{"$f":"COUNTIF($E$1:E823,consulta!$D$1)","v":0},"MEXICOCHE SA DE CV","A082539610",1,4504.3999999999996,null,null,null,null,null,"COMPA#IA DE AUDIO Y ESCENARIOS DE B.C. S DE RL DE"]
[null,null,null,{"$f":"COUNTIF($E$1:E824,consulta!$D$1)","v":0},"MEXICOCHE SA DE CV","A082539610",1,5498.6,null,null,null,null,null,"ESTEBAN PEDRO JIMENEZ ESCOBAR"]
[null,null,null,{"$f":"COUNTIF($E$1:E825,consulta!$D$1)","v":0},"MEXICOCHE SA DE CV","A082539610",1,6709.29,null,null,null,null,null,"FRANCISCO JAVIER CARRANZA PEREZ"]
[null,null,null,{"$f":"COUNTIF($E$1:E826,consulta!$D$1)","v":0},"MEXICOCHE SA DE CV","A082539610",1,7140.16,null,null,null,null,null,"JOSE ANTONIO ZARATE REYES"]
[null,null,null,{"$f":"COUNTIF($E$1:E827,consulta!$D$1)","v":0},"MEXICOCHE SA DE CV","A082539610",1,2683.71,null,null,null,null,null,"KARLA CHANTAL GONZALEZ GARCIA"]
[null,null,null,{"$f":"COUNTIF($E$1:E828,consulta!$D$1)","v":0},"MEXICOCHE SA DE CV","A082539610",1,7678.36,null,null,null,null,null,"JOSE YAEL RODRIGUEZ ALEMAN"]
[null,null,null,{"$f":"COUNTIF($E$1:E829,consulta!$D$1)","v":0},"MEXICOCHE SA DE CV","A082539610",1,3071.34,null,null,null,null,null,"DANIEL ABURTO JR COTA"]
[null,null,null,{"$f":"COUNTIF($E$1:E830,consulta!$D$1)","v":0},"MEXICOCHE SA DE CV","A082539610",1,9392.99,null,null,null,null,null,"CONSTRUCCIONES Y SERVICIOS ALEFEL S SA DE CV"]
[null,null,null,{"$f":"COUNTIF($E$1:E831,consulta!$D$1)","v":0},"MEXICOCHE SA DE CV","A082539610",1,3757.19,null,null,null,null,null,"VICALY ASOCIADOS SA DE CV"]
[null,null,null,{"$f":"COUNTIF($E$1:E832,consulta!$D$1)","v":0},"MEXICOCHE SA DE CV","A082539610",1,13865.76,null,null,null,null,null,"JUAN CARLOS SILVA PADILLA"]
[null,null,null,{"$f":"COUNTIF($E$1:E833,consulta!$D$1)","v":0},"MEXICOCHE SA DE CV","A082539610",1,5546.3,null,null,null,null,null,"TANIA IBARRA MONTOYA"]
[null,null,null,{"$f":"COUNTIF($E$1:E834,consulta!$D$1)","v":0},"MEXICOCHE SA DE CV","A082539610",1,14611.34,null,null,null,null,null,"DANIEL NAVARRO MONROY"]
[null,null,null,{"$f":"COUNTIF($E$1:E835,consulta!$D$1)","v":0},"MEXICOCHE SA DE CV","A082539610",1,5844.53,null,null,null,null,null,"FRANCISCO DOMINGUEZ SERRANO"]
[null,null,null,{"$f":"COUNTIF($E$1:E836,consulta!$D$1)","v":0},"BERENICE CUENCA LOPEZ","A082550810",1,2989.3,null,null,null,null,null,"CONSTRUCCION Y PROYECTO DE SISTEMAS ELECTRICOS S DE RL DE CV"]
[null,null,null,{"$f":"COUNTIF($E$1:E837,consulta!$D$1)","v":0},"BERENICE CUENCA LOPEZ","A082550810",1,1195.72,null,null,null,null,null,"V PRESTADORA DE SERVICIOS SA DE CV"]
[null,null,null,{"$f":"COUNTIF($E$1:E838,consulta!$D$1)","v":0},"BERENICE CUENCA LOPEZ","A082550810",1,3976.76,null,null,null,null,null,"CENTRO DE ESTUDIOS TECNICOS DE TIJUANA SC"]
[null,null,null,{"$f":"COUNTIF($E$1:E839,consulta!$D$1)","v":0},"BERENICE CUENCA LOPEZ","A082550810",1,1590.7,null,null,null,null,null,"JOM METODOS MEXICANOS, S.A. DE C.V."]
[null,null,null,{"$f":"COUNTIF($E$1:E840,consulta!$D$1)","v":0},"FETASA TIJUANA SA DE CV","A082594110",1,3030.25,null,null,null,null,null,"ACIERTTA CONSULTORES SC"]
[null,null,null,{"$f":"COUNTIF($E$1:E841,consulta!$D$1)","v":0},"FETASA TIJUANA SA DE CV","A082594110",1,242.42,null,null,null,null,null,"LOPEZ ALANIS Y ASOCIADOS SC"]
[null,null,null,{"$f":"COUNTIF($E$1:E842,consulta!$D$1)","v":0},"LUZ MA DGUEZ MTEZ","A082608810",1,370.08,null,null,null,null,null,"DISTEX COSMETICOS SA DE CV"]
[null,null,null,{"$f":"COUNTIF($E$1:E843,consulta!$D$1)","v":0},"LUZ MA DGUEZ MTEZ","A082608810",1,296.95,null,null,null,null,null,"LUIS MANUEL OCHOA HAYASHI"]
[null,null,null,{"$f":"COUNTIF($E$1:E844,consulta!$D$1)","v":0},"AMAC IMPRESOS SA DE CV","A082658210",1,189471.25,null,null,null,null,null,"ROZ SA DE CV"]
[null,null,null,{"$f":"COUNTIF($E$1:E845,consulta!$D$1)","v":0},"AMAC IMPRESOS SA DE CV","A082658210",1,168573.07,null,null,null,null,null,"ROGELIA TALAMANTES BENITEZ"]
[null,null,null,{"$f":"COUNTIF($E$1:E846,consulta!$D$1)","v":0},"AMAC IMPRESOS SA DE CV","A082658210",1,67429.22,null,null,null,null,null,"JOSE DE JESUS VASQUEZ LARA"]
[null,null,null,{"$f":"COUNTIF($E$1:E847,consulta!$D$1)","v":0},"AMAC IMPRESOS SA DE CV","A082658210",1,75788.5,null,null,null,null,null,"BLANCA ESTELA RAMIREZ AGUILAR"]
[null,null,null,{"$f":"COUNTIF($E$1:E848,consulta!$D$1)","v":0},"GEO BAJA CALIFORNIA SA DE CV","A082691010",1,5498.56,null,null,null,null,null,"BLANCA ROCIO LIMON GONZALEZ"]
[null,null,null,{"$f":"COUNTIF($E$1:E849,consulta!$D$1)","v":0},"GEO BAJA CALIFORNIA SA DE CV","A082691010",1,3879.43,null,null,null,null,null,"PYE ELECTRIFICACIONES S DE RL DE CV"]
[null,null,null,{"$f":"COUNTIF($E$1:E850,consulta!$D$1)","v":0},"GEO BAJA CALIFORNIA SA DE CV","A082691010",1,1551.77,null,null,null,null,null,"MARIO ALBERTO LOZANO ZEPEDA"]
[null,null,null,{"$f":"COUNTIF($E$1:E851,consulta!$D$1)","v":0},"GEO BAJA CALIFORNIA SA DE CV","A082691010",1,2199.42,null,null,null,null,null,"INSITU DIALISIS SC"]
[null,null,null,{"$f":"COUNTIF($E$1:E852,consulta!$D$1)","v":0},"PLASTICOS AMC DE MEXICO SA DE CV","A082705210",1,2389.71,null,null,null,null,null,"EQUIPOS WINDSOR SA DE CV"]
[null,null,null,{"$f":"COUNTIF($E$1:E853,consulta!$D$1)","v":0},"PLASTICOS AMC DE MEXICO SA DE CV","A082705210",1,955.88,null,null,null,null,null,"ADMINISTRADORA ESTRATEGIA Y DESARROLLO EDUC, A.C."]
[null,null,null,{"$f":"COUNTIF($E$1:E854,consulta!$D$1)","v":0},"PLASTICOS AMC DE MEXICO SA DE CV","A082705210",1,2613.4,null,null,null,null,null,"MEGAPLATA SA DE CV"]
[null,null,null,{"$f":"COUNTIF($E$1:E855,consulta!$D$1)","v":0},"PLASTICOS AMC DE MEXICO SA DE CV","A082705210",1,1045.3599999999999,null,null,null,null,null,"ALEXANDRO ANDA CONTRERAS"]
[null,null,null,{"$f":"COUNTIF($E$1:E856,consulta!$D$1)","v":0},"PLASTICOS AMC DE MEXICO SA DE CV","A082705210",1,4912.59,null,null,null,null,null,"OSCAR LARA CARO"]
[null,null,null,{"$f":"COUNTIF($E$1:E857,consulta!$D$1)","v":0},"PLASTICOS AMC DE MEXICO SA DE CV","A082705210",1,1965.03,null,null,null,null,null,"RAUL SORIANO CA#EDO"]
[null,null,null,{"$f":"COUNTIF($E$1:E858,consulta!$D$1)","v":0},"PROYECCIONES EDUCATIVAS AC","A082711210",1,107458.38,null,null,null,null,null,"CFE DE ROSARITO"]
[null,null,null,{"$f":"COUNTIF($E$1:E859,consulta!$D$1)","v":0},"PROYECCIONES EDUCATIVAS AC","A082711210",2,41118.67,null,null,null,null,null,"INTERNACIONAL DE ELEVADORES SA DE CV"]
[null,null,null,{"$f":"COUNTIF($E$1:E860,consulta!$D$1)","v":0},"PROYECCIONES EDUCATIVAS AC","A082711210",1,96611.05,null,null,null,null,null,"CONTADORES Y ADMINISTRADORES SOTO IBARRA Y ASOCIADOS SC"]
[null,null,null,{"$f":"COUNTIF($E$1:E861,consulta!$D$1)","v":0},"PROYECCIONES EDUCATIVAS AC","A082711210",1,38644.42,null,null,null,null,null,"ARMANDO EFRAIN BAUTISTA GARCIA"]
[null,null,null,{"$f":"COUNTIF($E$1:E862,consulta!$D$1)","v":0},"PROYECCIONES EDUCATIVAS AC","A082711210",1,42983.35,null,null,null,null,null,"WEILIANG XIAO"]
[null,null,null,{"$f":"COUNTIF($E$1:E863,consulta!$D$1)","v":0},"FERNANDO HUMBERTO PARRA CARRILLO","A082720210",1,730.23,null,null,null,null,null,"CORPORACION HOTELERA LAS ROCAS SA DE CV"]
[null,null,null,{"$f":"COUNTIF($E$1:E864,consulta!$D$1)","v":0},"FERNANDO HUMBERTO PARRA CARRILLO","A082720210",1,292.08999999999997,null,null,null,null,null,"OLIVIA MERCEDES GUTIERREZ ESPINOZA"]
[null,null,null,{"$f":"COUNTIF($E$1:E865,consulta!$D$1)","v":0},"JUAN MANUEL FLORES GARCIA","A082722510",1,3628.92,null,null,null,null,null,"MA CONCEPCION RANGEL AGUILAR"]
[null,null,null,{"$f":"COUNTIF($E$1:E866,consulta!$D$1)","v":0},"JUAN MANUEL FLORES GARCIA","A082722510",1,3414.93,null,null,null,null,null,"SIGLO XXI DESARROLLOS INDUSTRIALES SA DE CV"]
[null,null,null,{"$f":"COUNTIF($E$1:E867,consulta!$D$1)","v":0},"JUAN MANUEL FLORES GARCIA","A082722510",1,3402.68,null,null,null,null,null,"LUIS CONTRERAS MAGA#A"]
[null,null,null,{"$f":"COUNTIF($E$1:E868,consulta!$D$1)","v":0},"JUAN MANUEL FLORES GARCIA","A082722510",1,1451.56,null,null,null,null,null,"ASOCIACION DE MIEMBROS DE CASTILLOS DEL MAR AC"]
[null,null,null,{"$f":"COUNTIF($E$1:E869,consulta!$D$1)","v":0},"JUAN MANUEL FLORES GARCIA","A082722510",1,1591.58,null,null,null,null,null,"HOTEL PALMAS QUINTERO SA DE CV"]
[null,null,null,{"$f":"COUNTIF($E$1:E870,consulta!$D$1)","v":0},"JUAN MANUEL FLORES GARCIA","A082722510",1,1365.97,null,null,null,null,null,"BAZAR INTERNACIONAL SA DE CV"]
[null,null,null,{"$f":"COUNTIF($E$1:E871,consulta!$D$1)","v":0},"JUAN MANUEL FLORES GARCIA","A082722510",1,2236.62,null,null,null,null,null,"LUIS ENRIQUE PACHECO CASTRO"]
[null,null,null,{"$f":"COUNTIF($E$1:E872,consulta!$D$1)","v":0},"JUAN MANUEL FLORES GARCIA","A082722510",1,1695.36,null,null,null,null,null,"LUIS GARCIA RIOS"]
[null,null,null,{"$f":"COUNTIF($E$1:E873,consulta!$D$1)","v":0},"JUAN MANUEL FLORES GARCIA","A082722510",1,4101.71,null,null,null,null,null,"CONCRETOS BAJA NOR SA DE CV"]
[null,null,null,{"$f":"COUNTIF($E$1:E874,consulta!$D$1)","v":0},"JUAN MANUEL FLORES GARCIA","A082722510",1,1640.68,null,null,null,null,null,"AZALEA TRINIDAD VALENZUELA MARQUEZ"]
[null,null,null,{"$f":"COUNTIF($E$1:E875,consulta!$D$1)","v":0},"JUAN MANUEL FLORES GARCIA","A082722510",1,4270.45,null,null,null,null,null,"RAFAEL CROSTHWAITE REYES"]
[null,null,null,{"$f":"COUNTIF($E$1:E876,consulta!$D$1)","v":0},"JUAN MANUEL FLORES GARCIA","A082722510",1,1708.18,null,null,null,null,null,"MONITOREO DE ALARMAS EL VIGILANTE SA DE CV"]
[null,null,null,{"$f":"COUNTIF($E$1:E877,consulta!$D$1)","v":0},"JUAN MANUEL FLORES GARCIA","A082722510",1,4238.3999999999996,null,null,null,null,null,"GABRIELA IRAZEMA LOPEZ SOLTERO"]
[null,null,null,{"$f":"COUNTIF($E$1:E878,consulta!$D$1)","v":0},"JUAN MANUEL FLORES GARCIA","A082722510",1,1695.36,null,null,null,null,null,"JUAN ANTONIO GARAY MACHADO"]
[null,null,null,{"$f":"COUNTIF($E$1:E879,consulta!$D$1)","v":0},"JUAN MANUEL FLORES GARCIA","A082722510",1,1361.07,null,null,null,null,null,"MARMOLES Y ONIX DE LA LAGUNA SA DE CV"]
[null,null,null,{"$f":"COUNTIF($E$1:E880,consulta!$D$1)","v":0},"PLUMA NACIONAL SA DE CV","A082733410",1,2688.98,null,null,null,null,null,"MA SOCORRO HERNANDEZ MARQUEZ"]
[null,null,null,{"$f":"COUNTIF($E$1:E881,consulta!$D$1)","v":0},"PLUMA NACIONAL SA DE CV","A082733410",1,1075.5899999999999,null,null,null,null,null,"JESSICA IRASU OLIVARRIA CARVAJAL"]
[null,null,null,{"$f":"COUNTIF($E$1:E882,consulta!$D$1)","v":0},"PLUMA NACIONAL SA DE CV","A082733410",1,2645.4,null,null,null,null,null,"DAVID ALBERTO SUAREZ VENEGAS"]
[null,null,null,{"$f":"COUNTIF($E$1:E883,consulta!$D$1)","v":0},"PLUMA NACIONAL SA DE CV","A082733410",1,1058.1600000000001,null,null,null,null,null,"ERICK ALFREDO BAHENA VILLALEJO"]
[null,null,null,{"$f":"COUNTIF($E$1:E884,consulta!$D$1)","v":0},"PLUMA NACIONAL SA DE CV","A082733410",1,2672.9,null,null,null,null,null,"ROSA RODRIGUEZ AGUILAR"]
[null,null,null,{"$f":"COUNTIF($E$1:E885,consulta!$D$1)","v":0},"PLUMA NACIONAL SA DE CV","A082733410",1,1069.1600000000001,null,null,null,null,null,"COLEGIO SIMON BOLIVAR BILINGUE AC"]
[null,null,null,{"$f":"COUNTIF($E$1:E886,consulta!$D$1)","v":0},"AGENCIA ADUANAL ENRIQUE TRONCOSO SC","A082761910",1,34358.239999999998,null,null,null,null,null,"MUEBLES Y DISE#OS DE ROSARITO S DE RL DE CV"]
[null,null,null,{"$f":"COUNTIF($E$1:E887,consulta!$D$1)","v":0},"AGENCIA ADUANAL ENRIQUE TRONCOSO SC","A082761910",1,34358.239999999998,null,null,null,null,null,"ARIANA YANIRE RODRIGUEZ BORQUEZ"]
[null,null,null,{"$f":"COUNTIF($E$1:E888,consulta!$D$1)","v":0},"AGENCIA ADUANAL ENRIQUE TRONCOSO SC","A082761910",1,13743.29,null,null,null,null,null,"FRANCISCO KACHIRISKY RAMIREZ"]
[null,null,null,{"$f":"COUNTIF($E$1:E889,consulta!$D$1)","v":0},"AGENCIA ADUANAL ENRIQUE TRONCOSO SC","A082761910",1,30135.85,null,null,null,null,null,"JOSE LUIS ANDRADE GUARDADO"]
[null,null,null,{"$f":"COUNTIF($E$1:E890,consulta!$D$1)","v":0},"AGENCIA ADUANAL ENRIQUE TRONCOSO SC","A082761910",1,12054.34,null,null,null,null,null,"MARIA ANTONIETA HUIZAR ROBLES"]
[null,null,null,{"$f":"COUNTIF($E$1:E891,consulta!$D$1)","v":0},"AGENCIA ADUANAL ENRIQUE TRONCOSO SC","A082761910",1,29163.89,null,null,null,null,null,"MARIELA AIDEE ROBLES GARCIA"]
[null,null,null,{"$f":"COUNTIF($E$1:E892,consulta!$D$1)","v":0},"AGENCIA ADUANAL ENRIQUE TRONCOSO SC","A082761910",1,11665.55,null,null,null,null,null,"MARIA FRANCISCA PLASCENCIA POSADA"]
[null,null,null,{"$f":"COUNTIF($E$1:E893,consulta!$D$1)","v":0},"AGENCIA ADUANAL ENRIQUE TRONCOSO SC","A082761910",1,30135.85,null,null,null,null,null,"GUSTAVO ALFREDO ORTIZ MACKLIS"]
[null,null,null,{"$f":"COUNTIF($E$1:E894,consulta!$D$1)","v":0},"AGENCIA ADUANAL ENRIQUE TRONCOSO SC","A082761910",1,12054.34,null,null,null,null,null,"BAJA WINDOW SHADING S DE RL DE CV"]
[null,null,null,{"$f":"COUNTIF($E$1:E895,consulta!$D$1)","v":0},"AGENCIA ADUANAL ENRIQUE TRONCOSO SC","A082761910",1,13743.29,null,null,null,null,null,"INSTITUTO BILINGUE SANTILLANA DEL MAR AC"]
[null,null,null,{"$f":"COUNTIF($E$1:E896,consulta!$D$1)","v":0},"SERVICIO LONDRES DE TIJUANA SA DE CV","A082767310",1,262.31,null,null,null,null,null,"JULIO CESAR MAPLE LOPEZ"]
[null,null,null,{"$f":"COUNTIF($E$1:E897,consulta!$D$1)","v":0},"SERVICIO LONDRES DE TIJUANA SA DE CV","A082767310",1,104.92,null,null,null,null,null,"ISMAEL BERNAL VILLALOBOS"]
[null,null,null,{"$f":"COUNTIF($E$1:E898,consulta!$D$1)","v":0},"TECNICAS Y SERVICIOS INTERNACIONALES SA DE CV","A082781310",1,18139.22,null,null,null,null,null,"LIDIA ALARCON ZAZUETA"]
[null,null,null,{"$f":"COUNTIF($E$1:E899,consulta!$D$1)","v":0},"TECNICAS Y SERVICIOS INTERNACIONALES SA DE CV","A082781310",1,20968.18,null,null,null,null,null,"JUAN RAMIREZ RAMIREZ"]
[null,null,null,{"$f":"COUNTIF($E$1:E900,consulta!$D$1)","v":0},"TECNICAS Y SERVICIOS INTERNACIONALES SA DE CV","A082781310",1,16958.55,null,null,null,null,null,"MLS BAJA PROPERTIES SC"]
[null,null,null,{"$f":"COUNTIF($E$1:E901,consulta!$D$1)","v":0},"TECNICAS Y SERVICIOS INTERNACIONALES SA DE CV","A082781310",1,8387.27,null,null,null,null,null,"CRISTOPHER GALINDO RAMIREZ"]
[null,null,null,{"$f":"COUNTIF($E$1:E902,consulta!$D$1)","v":0},"TECNICAS Y SERVICIOS INTERNACIONALES SA DE CV","A082781310",1,7255.68,null,null,null,null,null,"FINO SOLUTION SA DE CV"]
[null,null,null,{"$f":"COUNTIF($E$1:E903,consulta!$D$1)","v":0},"TECNICAS Y SERVICIOS INTERNACIONALES SA DE CV","A082781310",1,6783.42,null,null,null,null,null,"HOSPITAL BONANOVA SA DE CV"]
[null,null,null,{"$f":"COUNTIF($E$1:E904,consulta!$D$1)","v":0},"AMBIENTE INFANTIL MONTESSORI SC","A082783410",1,23354.92,null,null,null,null,null,"DESPACHO CORP ESPEC FIS Y JUR MORALES ASOC, S.C."]
[null,null,null,{"$f":"COUNTIF($E$1:E905,consulta!$D$1)","v":0},"AMBIENTE INFANTIL MONTESSORI SC","A082783410",1,21792.639999999999,null,null,null,null,null,"SILVIA BERENICE SILVA RODRIGUEZ"]
[null,null,null,{"$f":"COUNTIF($E$1:E906,consulta!$D$1)","v":0},"AMBIENTE INFANTIL MONTESSORI SC","A082783410",1,8717.0499999999993,null,null,null,null,null,"APPLEMEX SA DE CV"]
[null,null,null,{"$f":"COUNTIF($E$1:E907,consulta!$D$1)","v":0},"AMBIENTE INFANTIL MONTESSORI SC","A082783410",1,9341.9599999999991,null,null,null,null,null,"ASOCIACION DE RESIDENTES DEL CONJUNTO VILLAS DEL MAR AC"]
[null,null,null,{"$f":"COUNTIF($E$1:E908,consulta!$D$1)","v":0},"VIAJES PETRA SA DE CV","A082841910",1,86.62,null,null,null,null,null,"RESTAURANT CALIFORNIA SA DE CV"]
[null,null,null,{"$f":"COUNTIF($E$1:E909,consulta!$D$1)","v":0},"VIAJES PETRA SA DE CV","A082841910",1,34.64,null,null,null,null,null,"JUAN MANUEL PEREZ VELOZ"]
[null,null,null,{"$f":"COUNTIF($E$1:E910,consulta!$D$1)","v":0},"CASA HOGAR LA GLORIA AC","A082844110",1,7540.11,null,null,null,null,null,"HECTOR MATA SOLIS"]
[null,null,null,{"$f":"COUNTIF($E$1:E911,consulta!$D$1)","v":0},"CASA HOGAR LA GLORIA AC","A082844110",1,7791.39,null,null,null,null,null,"AEI SOLUCIONES EXPERTAS PARA LA CONSTRUCCION, S.A. DE C.V."]
[null,null,null,{"$f":"COUNTIF($E$1:E912,consulta!$D$1)","v":0},"CASA HOGAR LA GLORIA AC","A082844110",1,6943.2,null,null,null,null,null,"ARTOPCON SA DE CV"]
[null,null,null,{"$f":"COUNTIF($E$1:E913,consulta!$D$1)","v":0},"UNIDAD HOSPITALARIA RVH S DE RL DE CV","A082857510",1,13606.44,null,null,null,null,null,"ZAIDA LIZETTE MARCHEN QUINTERO"]
[null,null,null,{"$f":"COUNTIF($E$1:E914,consulta!$D$1)","v":0},"UNIDAD HOSPITALARIA RVH S DE RL DE CV","A082857510",1,5442.57,null,null,null,null,null,"VIAJES Y TURISMO DEL NOROESTE SA DE CV"]
[null,null,null,{"$f":"COUNTIF($E$1:E915,consulta!$D$1)","v":0},"UNIDAD HOSPITALARIA RVH S DE RL DE CV","A082857510",1,13768.41,null,null,null,null,null,"THE KINGTHEM HOMES SA DE CV"]
[null,null,null,{"$f":"COUNTIF($E$1:E916,consulta!$D$1)","v":0},"UNIDAD HOSPITALARIA RVH S DE RL DE CV","A082857510",1,5507.36,null,null,null,null,null,"FRUVEMEX MEXICALI SA DE CV"]
[null,null,null,{"$f":"COUNTIF($E$1:E917,consulta!$D$1)","v":0},"UNIDAD HOSPITALARIA RVH S DE RL DE CV","A082857510",1,5507.36,null,null,null,null,null,"GUILLERMO AUGUSTO RODRIGUEZ MORINEAU"]
[null,null,null,{"$f":"COUNTIF($E$1:E918,consulta!$D$1)","v":0},"UNIDAD HOSPITALARIA RVH S DE RL DE CV","A082857510",1,5442.57,null,null,null,null,null,"HECTOR MANUEL BARRAZA LEON"]
[null,null,null,{"$f":"COUNTIF($E$1:E919,consulta!$D$1)","v":0},"J. ROGELIO MADRIGAL GUZMAN","A082863710",1,742.39,null,null,null,null,null,"CALIFORNIA GRANITE WORKS DE MEXICO S DE RL DE CV"]
[null,null,null,{"$f":"COUNTIF($E$1:E920,consulta!$D$1)","v":0},"J. ROGELIO MADRIGAL GUZMAN","A082863710",1,742.39,null,null,null,null,null,"CENTROS CAMBIARIOS SAN MIGUEL SA DE CV"]
[null,null,null,{"$f":"COUNTIF($E$1:E921,consulta!$D$1)","v":0},"J. ROGELIO MADRIGAL GUZMAN","A082863710",1,754.56,null,null,null,null,null,"HACIENDA ORTEGAS SA DE CV"]
[null,null,null,{"$f":"COUNTIF($E$1:E922,consulta!$D$1)","v":0},"J. ROGELIO MADRIGAL GUZMAN","A082863710",1,742.39,null,null,null,null,null,"SANTIAGO MUNGUIA CASTRO"]
[null,null,null,{"$f":"COUNTIF($E$1:E923,consulta!$D$1)","v":0},"J. ROGELIO MADRIGAL GUZMAN","A082863710",1,983.54,null,null,null,null,null,"JULIO ADAN BAUTISTA CASTA#EDA"]
[null,null,null,{"$f":"COUNTIF($E$1:E924,consulta!$D$1)","v":0},"J. ROGELIO MADRIGAL GUZMAN","A082863710",1,296.95,null,null,null,null,null,"CONTROLES Y SERVICIOS PROFESIONALES S DE RL DE CV"]
[null,null,null,{"$f":"COUNTIF($E$1:E925,consulta!$D$1)","v":0},"J. ROGELIO MADRIGAL GUZMAN","A082863710",1,393.41,null,null,null,null,null,"GIMNASIOS AFDM SA DE CV"]
[null,null,null,{"$f":"COUNTIF($E$1:E926,consulta!$D$1)","v":0},"J. ROGELIO MADRIGAL GUZMAN","A082863710",1,296.95,null,null,null,null,null,"AURORA ORNELAS MENDEZ"]
[null,null,null,{"$f":"COUNTIF($E$1:E927,consulta!$D$1)","v":0},"J. ROGELIO MADRIGAL GUZMAN","A082863710",1,1017.47,null,null,null,null,null,"GRUPO MERCANTIL DE ROSARITO SA DE CV"]
[null,null,null,{"$f":"COUNTIF($E$1:E928,consulta!$D$1)","v":0},"J. ROGELIO MADRIGAL GUZMAN","A082863710",1,301.82,null,null,null,null,null,"IMPERIAL DRAPERY & BEDDING S DE RL DE CV"]
[null,null,null,{"$f":"COUNTIF($E$1:E929,consulta!$D$1)","v":0},"J. ROGELIO MADRIGAL GUZMAN","A082863710",1,406.98,null,null,null,null,null,"COLEGIO MILENIO AC"]
[null,null,null,{"$f":"COUNTIF($E$1:E930,consulta!$D$1)","v":0},"J. ROGELIO MADRIGAL GUZMAN","A082863710",1,296.95,null,null,null,null,null,"TRGE S DE RL DE CV"]
[null,null,null,{"$f":"COUNTIF($E$1:E931,consulta!$D$1)","v":0},"J. ROGELIO MADRIGAL GUZMAN","A082863710",1,1017.47,null,null,null,null,null,"EDGAR ROMERO PEREZ"]
[null,null,null,{"$f":"COUNTIF($E$1:E932,consulta!$D$1)","v":0},"J. ROGELIO MADRIGAL GUZMAN","A082863710",1,406.98,null,null,null,null,null,"HUGO ALBERTO LARA RODRIGUEZ"]
[null,null,null,{"$f":"COUNTIF($E$1:E933,consulta!$D$1)","v":0},"J. ROGELIO MADRIGAL GUZMAN","A082863710",1,1051.3800000000001,null,null,null,null,null,"COMPA#IA OPERADORA SA DE CV"]
[null,null,null,{"$f":"COUNTIF($E$1:E934,consulta!$D$1)","v":0},"J. ROGELIO MADRIGAL GUZMAN","A082863710",1,420.55,null,null,null,null,null,"ELIZABETH MORENO"]
[null,null,null,{"$f":"COUNTIF($E$1:E935,consulta!$D$1)","v":0},"J. ROGELIO MADRIGAL GUZMAN","A082863710",1,1051.3800000000001,null,null,null,null,null,"GRUPO ASP S DE RL DE CV"]
[null,null,null,{"$f":"COUNTIF($E$1:E936,consulta!$D$1)","v":0},"J. ROGELIO MADRIGAL GUZMAN","A082863710",1,420.55,null,null,null,null,null,"OSCAR DURAZNO MASTRANZO"]
[null,null,null,{"$f":"COUNTIF($E$1:E937,consulta!$D$1)","v":0},"J. ROGELIO MADRIGAL GUZMAN","A082863710",1,1017.47,null,null,null,null,null,"JUAN DIEGO GUZMAN TORRES"]
[null,null,null,{"$f":"COUNTIF($E$1:E938,consulta!$D$1)","v":0},"J. ROGELIO MADRIGAL GUZMAN","A082863710",1,406.98,null,null,null,null,null,"ANGELICA MARIA RODRIGO BOJORQUEZ"]
[null,null,null,{"$f":"COUNTIF($E$1:E939,consulta!$D$1)","v":0},"J. ROGELIO MADRIGAL GUZMAN","A082863710",1,1051.3800000000001,null,null,null,null,null,"IMEXPO BROKERS SC"]
[null,null,null,{"$f":"COUNTIF($E$1:E940,consulta!$D$1)","v":0},"J. ROGELIO MADRIGAL GUZMAN","A082863710",1,420.55,null,null,null,null,null,"GABRIEL HUGO MINJARES MONTES"]
[null,null,null,{"$f":"COUNTIF($E$1:E941,consulta!$D$1)","v":0},"INDUSTRIAL DE GRASAS Y DERIVADOS SA DE CV","A082895910",1,7999.02,null,null,null,null,null,"BEATRIZ ESTELA MOYA LOPEZ"]
[null,null,null,{"$f":"COUNTIF($E$1:E942,consulta!$D$1)","v":0},"INDUSTRIAL DE GRASAS Y DERIVADOS SA DE CV","A082895910",1,3199.6,null,null,null,null,null,"MARTIN ADAME BELTRAN"]
[null,null,null,{"$f":"COUNTIF($E$1:E943,consulta!$D$1)","v":0},"INDUSTRIAL DE GRASAS Y DERIVADOS SA DE CV","A082895910",1,7696.93,null,null,null,null,null,"LUIS ENRIQUE GALLEGOS GARCIA"]
[null,null,null,{"$f":"COUNTIF($E$1:E944,consulta!$D$1)","v":0},"INDUSTRIAL DE GRASAS Y DERIVADOS SA DE CV","A082895910",1,3078.77,null,null,null,null,null,"GRUPO REINTEGRADOR NUEVA VIDA SA DE CV"]
[null,null,null,{"$f":"COUNTIF($E$1:E945,consulta!$D$1)","v":0},"INDUSTRIAL DE GRASAS Y DERIVADOS SA DE CV","A082895910",1,8053.59,null,null,null,null,null,"CUPULAS DE ROSARITO SA DE CV"]
[null,null,null,{"$f":"COUNTIF($E$1:E946,consulta!$D$1)","v":0},"INDUSTRIAL DE GRASAS Y DERIVADOS SA DE CV","A082895910",1,3221.43,null,null,null,null,null,"BAJA MEDGATE S DE RL DE CV"]
[null,null,null,{"$f":"COUNTIF($E$1:E947,consulta!$D$1)","v":0},"CALIXTO HERRERA FELIX","A082948410",1,296.95,null,null,null,null,null,"JESUS PEDRO HERNANDEZ PE#A"]
[null,null,null,{"$f":"COUNTIF($E$1:E948,consulta!$D$1)","v":0},"CALIXTO HERRERA FELIX","A082948410",1,372.82,null,null,null,null,null,"CENTRO INTEGRACION ENFERMOS ALCOHOLISMO DROGADICCION MARIO CAMACHO ESPIRITU AC"]
[null,null,null,{"$f":"COUNTIF($E$1:E949,consulta!$D$1)","v":0},"CALIXTO HERRERA FELIX","A082948410",1,385.25,null,null,null,null,null,"RANDY ENTERPRISES SA DE CV"]
[null,null,null,{"$f":"COUNTIF($E$1:E950,consulta!$D$1)","v":0},"CALIXTO HERRERA FELIX","A082948410",1,385.25,null,null,null,null,null,"MARIO ALBERTO MORENO NAVARRO"]
[null,null,null,{"$f":"COUNTIF($E$1:E951,consulta!$D$1)","v":0},"CALIXTO HERRERA FELIX","A082948410",1,296.95,null,null,null,null,null,"DAYANE ISABEL SOSA VAZQUEZ"]
[null,null,null,{"$f":"COUNTIF($E$1:E952,consulta!$D$1)","v":0},"INDUSTRIAS NORO DE ENSAMBLES SA DE CV","A082972410",1,1737.6,null,null,null,null,null,"RAMONA ELIZABETH LOMELI RUIZ"]
[null,null,null,{"$f":"COUNTIF($E$1:E953,consulta!$D$1)","v":0},"INDUSTRIAS NORO DE ENSAMBLES SA DE CV","A082972410",1,12633.44,null,null,null,null,null,"PRODUCTOS AGROPECUARIOS DESDE 1950 S DE RL DE CV"]
[null,null,null,{"$f":"COUNTIF($E$1:E954,consulta!$D$1)","v":0},"INDUSTRIAS NORO DE ENSAMBLES SA DE CV","A082972410",1,5053.37,null,null,null,null,null,"FABRIKNTART SA DE CV"]
[null,null,null,{"$f":"COUNTIF($E$1:E955,consulta!$D$1)","v":0},"ANA DE MEXICO SA DE CV","A082993610",1,1663.92,null,null,null,null,null,"MARIA CRUZ PERES VALENZUELA"]
[null,null,null,{"$f":"COUNTIF($E$1:E956,consulta!$D$1)","v":0},"ANA DE MEXICO SA DE CV","A082993610",1,8526.99,null,null,null,null,null,"JORGE LOPEZ BA#UELOS"]
[null,null,null,{"$f":"COUNTIF($E$1:E957,consulta!$D$1)","v":0},"ANA DE MEXICO SA DE CV","A082993610",1,665.56,null,null,null,null,null,"XIMENA ABIGAIL VILLASE#OR SAUCEDO"]
[null,null,null,{"$f":"COUNTIF($E$1:E958,consulta!$D$1)","v":0},"ANA DE MEXICO SA DE CV","A082993610",1,3803.78,null,null,null,null,null,"MARIA DEL SOCORRO DELGADO CERVANTES"]
[null,null,null,{"$f":"COUNTIF($E$1:E959,consulta!$D$1)","v":0},"ANA DE MEXICO SA DE CV","A082993610",1,1521.51,null,null,null,null,null,"JORGE ALBERTO VELEZ ADAME"]
[null,null,null,{"$f":"COUNTIF($E$1:E960,consulta!$D$1)","v":0},"ANA DE MEXICO SA DE CV","A082993610",1,1811.37,null,null,null,null,null,"EVANGELINA CAMACHO ELIZONDO"]
[null,null,null,{"$f":"COUNTIF($E$1:E961,consulta!$D$1)","v":0},"ANA DE MEXICO SA DE CV","A082993610",1,724.54,null,null,null,null,null,"ALEJANDRA GUADALUPE JIMENEZ PAOLI"]
[null,null,null,{"$f":"COUNTIF($E$1:E962,consulta!$D$1)","v":0},"FABRICANTES CONSOLIDADOS S DE RL DE CV","A083020310",1,10653.44,null,null,null,null,null,"CONSTRUCCION INTEGRAL Y SOLUCIONES EMPRESARIALES R"]
[null,null,null,{"$f":"COUNTIF($E$1:E963,consulta!$D$1)","v":0},"FABRICANTES CONSOLIDADOS S DE RL DE CV","A083020310",1,4477.96,null,null,null,null,null,"CENTRO CAMBIARIO LA PARADA SA DE CV"]
[null,null,null,{"$f":"COUNTIF($E$1:E964,consulta!$D$1)","v":0},"FABRICANTES CONSOLIDADOS S DE RL DE CV","A083020310",1,1791.18,null,null,null,null,null,"MIGUEL ANGEL ROJO GANDARILLA"]
[null,null,null,{"$f":"COUNTIF($E$1:E965,consulta!$D$1)","v":0},"FABRICANTES CONSOLIDADOS S DE RL DE CV","A083020310",1,15985.18,null,null,null,null,null,"OSCAR MELIN MONTOYA"]
[null,null,null,{"$f":"COUNTIF($E$1:E966,consulta!$D$1)","v":0},"FABRICANTES CONSOLIDADOS S DE RL DE CV","A083020310",1,6394.07,null,null,null,null,null,"AGRUPACION DE PRODUCTORES DE LA CUENCA LECHERA EL DESCANSO AC"]
[null,null,null,{"$f":"COUNTIF($E$1:E967,consulta!$D$1)","v":0},"FABRICANTES CONSOLIDADOS S DE RL DE CV","A083020310",1,4261.37,null,null,null,null,null,"CORPORATIVO SEIS DE BAJA CALIFORNIA SA DE CV"]
[null,null,null,{"$f":"COUNTIF($E$1:E968,consulta!$D$1)","v":0},"JOSE CASTILLO COTA","A083070110",1,7324.31,null,null,null,null,null,"BRANDO HERIBERTO HUESO TOLEDO"]
[null,null,null,{"$f":"COUNTIF($E$1:E969,consulta!$D$1)","v":0},"JOSE CASTILLO COTA","A083070110",1,7444.34,null,null,null,null,null,"OSCAR RENE LOZOYA LOPEZ"]
[null,null,null,{"$f":"COUNTIF($E$1:E970,consulta!$D$1)","v":0},"JOSE CASTILLO COTA","A083070110",1,6379.19,null,null,null,null,null,"JORGE ALBERTO FLORIAN DE LA CRUZ"]
[null,null,null,{"$f":"COUNTIF($E$1:E971,consulta!$D$1)","v":0},"JOSE CASTILLO COTA","A083070110",1,7261.75,null,null,null,null,null,"GABEMIS SERVICIOS PROFESIONALES SC"]
[null,null,null,{"$f":"COUNTIF($E$1:E972,consulta!$D$1)","v":0},"JOSE CASTILLO COTA","A083070110",1,2929.72,null,null,null,null,null,"LUIS ENRIQUE GUTIERREZ BOJORQUEZ"]
[null,null,null,{"$f":"COUNTIF($E$1:E973,consulta!$D$1)","v":0},"JOSE CASTILLO COTA","A083070110",1,2977.73,null,null,null,null,null,"MAIRA ALAJANDRA VARGAS HERNANDEZ"]
[null,null,null,{"$f":"COUNTIF($E$1:E974,consulta!$D$1)","v":0},"JOSE CASTILLO COTA","A083070110",1,2551.67,null,null,null,null,null,"RICARDO PARTIDA GARCIA"]
[null,null,null,{"$f":"COUNTIF($E$1:E975,consulta!$D$1)","v":0},"JOSE CASTILLO COTA","A083070110",1,8103.13,null,null,null,null,null,"CRISTINA WINELLIA GARCIA ASTORGA"]
[null,null,null,{"$f":"COUNTIF($E$1:E976,consulta!$D$1)","v":0},"JOSE CASTILLO COTA","A083070110",1,3241.25,null,null,null,null,null,"OPERADORA CURCO S DE RL DE CV"]
[null,null,null,{"$f":"COUNTIF($E$1:E977,consulta!$D$1)","v":0},"JOSE CASTILLO COTA","A083070110",1,5870.93,null,null,null,null,null,"MANTENIMIENTO INDUSTRIALES Y CONSTRUCCIONES ELECTRONICAS SA DE CV"]
[null,null,null,{"$f":"COUNTIF($E$1:E978,consulta!$D$1)","v":0},"JOSE CASTILLO COTA","A083070110",1,2348.37,null,null,null,null,null,"CARLOS ZATARAIN PATRON"]
[null,null,null,{"$f":"COUNTIF($E$1:E979,consulta!$D$1)","v":0},"JOSE CASTILLO COTA","A083070110",1,7433.55,null,null,null,null,null,"PAUL GARCIA CASTRO"]
[null,null,null,{"$f":"COUNTIF($E$1:E980,consulta!$D$1)","v":0},"JOSE CASTILLO COTA","A083070110",1,2973.42,null,null,null,null,null,"SEGURIDAD PRIVADA EL CORCEL SA DE CV"]
[null,null,null,{"$f":"COUNTIF($E$1:E981,consulta!$D$1)","v":0},"JOSE CASTILLO COTA","A083070110",1,7127.19,null,null,null,null,null,"FLEXI PROCESOS DE CALIDAD S DE RL DE CV"]
[null,null,null,{"$f":"COUNTIF($E$1:E982,consulta!$D$1)","v":0},"JOSE CASTILLO COTA","A083070110",1,2850.87,null,null,null,null,null,"JOSE MARTIN CHAVEZ GUTIERREZ"]
[null,null,null,{"$f":"COUNTIF($E$1:E983,consulta!$D$1)","v":0},"JOSE CASTILLO COTA","A083070110",1,2904.7,null,null,null,null,null,"BLOCK ROSARITO S DE RL DE CV"]
[null,null,null,{"$f":"COUNTIF($E$1:E984,consulta!$D$1)","v":0},"JAVIER HERNANDEZ HERNANDEZ","A083091310",1,12.55,null,null,null,null,null,"UKAME INGENIERIA SUPERVISION Y CONSTRUCION ESPECIALIZADA S DE RL DE CV"]
[null,null,null,{"$f":"COUNTIF($E$1:E985,consulta!$D$1)","v":0},"ROYAL CABINETS DE MEXICO S DE RL DE CV","A083123910",1,6216.99,null,null,null,null,null,"NEWPORT DEVELOPMENTS S DE RL DE CV"]
[null,null,null,{"$f":"COUNTIF($E$1:E986,consulta!$D$1)","v":0},"CONSULTORES, INGENIEROS Y ADMINISTRADORES DE TIJUANA SA DE CV","A083133710",1,251026.12,null,null,null,null,null,"MONICA PAOLA TAPIA CARDENAS"]
[null,null,null,{"$f":"COUNTIF($E$1:E987,consulta!$D$1)","v":0},"CONSULTORES, INGENIEROS Y ADMINISTRADORES DE TIJUANA SA DE CV","A083133710",1,109361.74,null,null,null,null,null,"ROSARITO ORGANIZACION INTEGRAL SA DE CV"]
[null,null,null,{"$f":"COUNTIF($E$1:E988,consulta!$D$1)","v":0},"CARTELERAS Y SERVICIOS SA DE CV","A083158710",1,857.76,null,null,null,null,null,"LA ORGANIZACION PARA EL BIENESTAR DE LOS OLVIDADOS AC"]
[null,null,null,{"$f":"COUNTIF($E$1:E989,consulta!$D$1)","v":0},"CARTELERAS Y SERVICIOS SA DE CV","A083158710",1,857.76,null,null,null,null,null,"KITCHENS & DRINKS DE ROSARITO S DE RL DE CV"]
[null,null,null,{"$f":"COUNTIF($E$1:E990,consulta!$D$1)","v":0},"CARTELERAS Y SERVICIOS SA DE CV","A083158710",1,343.1,null,null,null,null,null,"AMAREVITA SC"]
[null,null,null,{"$f":"COUNTIF($E$1:E991,consulta!$D$1)","v":0},"CARTELERAS Y SERVICIOS SA DE CV","A083158710",1,983.61,null,null,null,null,null,"AARON ANTONIO GAXIOLA SANCHEZ"]
[null,null,null,{"$f":"COUNTIF($E$1:E992,consulta!$D$1)","v":0},"CARTELERAS Y SERVICIOS SA DE CV","A083158710",1,393.44,null,null,null,null,null,"YESSICA KRISTAL LOPEZ ECHEVERRIA"]
[null,null,null,{"$f":"COUNTIF($E$1:E993,consulta!$D$1)","v":0},"CARTELERAS Y SERVICIOS SA DE CV","A083158710",1,983.61,null,null,null,null,null,"MARCO ANTONIO VAZQUEZ RANGEL"]
[null,null,null,{"$f":"COUNTIF($E$1:E994,consulta!$D$1)","v":0},"CARTELERAS Y SERVICIOS SA DE CV","A083158710",1,393.44,null,null,null,null,null,"DERMATOLOGICA ROSARITO SC"]
[null,null,null,{"$f":"COUNTIF($E$1:E995,consulta!$D$1)","v":0},"CARTELERAS Y SERVICIOS SA DE CV","A083158710",1,343.1,null,null,null,null,null,"SININ DE BAJA CALIFORNIA S DE RL DE CV"]
[null,null,null,{"$f":"COUNTIF($E$1:E996,consulta!$D$1)","v":0},"JOSE MA GLEZ AHUAGE","A083190810",1,742.39,null,null,null,null,null,"LAS OLAS GRAND HOME OWNERS ASSOCIATION AC"]
[null,null,null,{"$f":"COUNTIF($E$1:E997,consulta!$D$1)","v":0},"JOSE MA GLEZ AHUAGE","A083190810",1,742.39,null,null,null,null,null,"VIRGINIA ALFARO MORALES"]
[null,null,null,{"$f":"COUNTIF($E$1:E998,consulta!$D$1)","v":0},"JOSE MA GLEZ AHUAGE","A083190810",1,754.56,null,null,null,null,null,"WENCESLAO VELASQUEZ CELAYA"]
[null,null,null,{"$f":"COUNTIF($E$1:E999,consulta!$D$1)","v":0},"JOSE MA GLEZ AHUAGE","A083190810",1,742.39,null,null,null,null,null,"HORTENCIA LOPEZ CERVANTES"]
[null,null,null,{"$f":"COUNTIF($E$1:E1000,consulta!$D$1)","v":0},"JOSE MA GLEZ AHUAGE","A083190810",1,742.39,null,null,null,null,null,"PORFIRIO ABURTO TAPIA"]
[null,null,null,{"$f":"COUNTIF($E$1:E1001,consulta!$D$1)","v":0},"JOSE MA GLEZ AHUAGE","A083190810",1,296.95,null,null,null,null,null,"VOCIO BAJA S DE RL DE CV"]
[null,null,null,{"$f":"COUNTIF($E$1:E1002,consulta!$D$1)","v":0},"JOSE MA GLEZ AHUAGE","A083190810",1,925.21,null,null,null,null,null,"HUGO ORTIZ PANTOJA"]
[null,null,null,{"$f":"COUNTIF($E$1:E1003,consulta!$D$1)","v":0},"JOSE MA GLEZ AHUAGE","A083190810",1,296.95,null,null,null,null,null,"PEDRO ANTONIO GOMEZ ARELLANO"]
[null,null,null,{"$f":"COUNTIF($E$1:E1004,consulta!$D$1)","v":0},"JOSE MA GLEZ AHUAGE","A083190810",1,370.08,null,null,null,null,null,"ASOCIACION DEL CONDOMINIO TURISTICO LA PALOMA AC"]
[null,null,null,{"$f":"COUNTIF($E$1:E1005,consulta!$D$1)","v":0},"JOSE MA GLEZ AHUAGE","A083190810",1,895.37,null,null,null,null,null,"AGNES CAMELEYRE"]
[null,null,null,{"$f":"COUNTIF($E$1:E1006,consulta!$D$1)","v":0},"JOSE MA GLEZ AHUAGE","A083190810",1,301.82,null,null,null,null,null,"MARTIN ANGEL AVILA RANGEL"]
[null,null,null,{"$f":"COUNTIF($E$1:E1007,consulta!$D$1)","v":0},"JOSE MA GLEZ AHUAGE","A083190810",1,358.14,null,null,null,null,null,"ORGANIZACION EMPRESARIAL DE ALIMENTOS SA DE CV"]
[null,null,null,{"$f":"COUNTIF($E$1:E1008,consulta!$D$1)","v":0},"JOSE MA GLEZ AHUAGE","A083190810",1,925.21,null,null,null,null,null,"GREEN BAJA AUTOGAS S DE RL DE CV"]
[null,null,null,{"$f":"COUNTIF($E$1:E1009,consulta!$D$1)","v":0},"JOSE MA GLEZ AHUAGE","A083190810",1,296.95,null,null,null,null,null,"ASOCIACION INTERNACIONAL DE COACHES Y CONFERENCISTAS SC"]
[null,null,null,{"$f":"COUNTIF($E$1:E1010,consulta!$D$1)","v":0},"JOSE MA GLEZ AHUAGE","A083190810",1,370.08,null,null,null,null,null,"GASERMEX S DE RL DE CV"]
[null,null,null,{"$f":"COUNTIF($E$1:E1011,consulta!$D$1)","v":0},"JOSE MA GLEZ AHUAGE","A083190810",1,895.37,null,null,null,null,null,"MARITZA CISNEROS ORCI"]
[null,null,null,{"$f":"COUNTIF($E$1:E1012,consulta!$D$1)","v":0},"JOSE MA GLEZ AHUAGE","A083190810",1,358.14,null,null,null,null,null,"JOVITA ERIKA SANCHEZ GOMEZ"]
[null,null,null,{"$f":"COUNTIF($E$1:E1013,consulta!$D$1)","v":0},"JOSE MA GLEZ AHUAGE","A083190810",1,925.21,null,null,null,null,null,"LEYCA CONSTRUCTORES DEL NOROESTE SA DE CV"]
[null,null,null,{"$f":"COUNTIF($E$1:E1014,consulta!$D$1)","v":0},"JOSE MA GLEZ AHUAGE","A083190810",1,370.08,null,null,null,null,null,"FIDEL ANTONIO VILLEGAS JIMENEZ"]
[null,null,null,{"$f":"COUNTIF($E$1:E1015,consulta!$D$1)","v":0},"JOSE MA GLEZ AHUAGE","A083190810",1,925.21,null,null,null,null,null,"V + M FABRICACIONES METALICAS S DE RL DE CV"]
[null,null,null,{"$f":"COUNTIF($E$1:E1016,consulta!$D$1)","v":0},"JOSE MA GLEZ AHUAGE","A083190810",1,370.08,null,null,null,null,null,"PEDRO BAHENA AVILES"]
[null,null,null,{"$f":"COUNTIF($E$1:E1017,consulta!$D$1)","v":0},"JOSE MA GLEZ AHUAGE","A083190810",1,895.37,null,null,null,null,null,"SANJUANA CONTRERAS ARIAS"]
[null,null,null,{"$f":"COUNTIF($E$1:E1018,consulta!$D$1)","v":0},"JOSE MA GLEZ AHUAGE","A083190810",1,925.21,null,null,null,null,null,"CENTRO CAMBIARIO LA CAMPI#A SA DE CV"]
[null,null,null,{"$f":"COUNTIF($E$1:E1019,consulta!$D$1)","v":0},"JOSE MA GLEZ AHUAGE","A083190810",1,370.08,null,null,null,null,null,"JETAI MEXICO PACKING SA DE CV"]
[null,null,null,{"$f":"COUNTIF($E$1:E1020,consulta!$D$1)","v":0},"JOSE MA GLEZ AHUAGE","A083190810",1,925.21,null,null,null,null,null,"INFRAELEC DE BAJA CALIFORNIA S DE RL DE CV"]
[null,null,null,{"$f":"COUNTIF($E$1:E1021,consulta!$D$1)","v":0},"JOSE MA GLEZ AHUAGE","A083190810",1,370.08,null,null,null,null,null,"CLAUDIUS VI#A Y BODEGA SA DE CV"]
[null,null,null,{"$f":"COUNTIF($E$1:E1022,consulta!$D$1)","v":0},"JOSE MA GLEZ AHUAGE","A083190810",1,296.95,null,null,null,null,null,"DIANA JUDITH SOTO IBARRA"]
[null,null,null,{"$f":"COUNTIF($E$1:E1023,consulta!$D$1)","v":0},"NI#EZ, JUVENTUD Y CULTURA SC","A083200610",1,5698.13,null,null,null,null,null,"SALVADOR COBOS MEDINA"]
[null,null,null,{"$f":"COUNTIF($E$1:E1024,consulta!$D$1)","v":0},"NI#EZ, JUVENTUD Y CULTURA SC","A083200610",1,5791.55,null,null,null,null,null,"CENTRO DE DESARROLLO DE SOFTWARE EPICO SA DE CV"]
[null,null,null,{"$f":"COUNTIF($E$1:E1025,consulta!$D$1)","v":0},"NI#EZ, JUVENTUD Y CULTURA SC","A083200610",1,4502.8999999999996,null,null,null,null,null,"DON MONTE SA DE CV"]
[null,null,null,{"$f":"COUNTIF($E$1:E1026,consulta!$D$1)","v":0},"NI#EZ, JUVENTUD Y CULTURA SC","A083200610",1,3663.27,null,null,null,null,null,"LUZ MARIA GONZALEZ TORRES"]
[null,null,null,{"$f":"COUNTIF($E$1:E1027,consulta!$D$1)","v":0},"NI#EZ, JUVENTUD Y CULTURA SC","A083200610",1,2279.25,null,null,null,null,null,"CENTRO DE ESTUDIOS SUPERIORES EN COMERCIO EXTERIOR Y FISCAL S DE RL DE CV"]
[null,null,null,{"$f":"COUNTIF($E$1:E1028,consulta!$D$1)","v":0},"NI#EZ, JUVENTUD Y CULTURA SC","A083200610",1,2316.62,null,null,null,null,null,"SOCORRO CABRERA SILVA"]
[null,null,null,{"$f":"COUNTIF($E$1:E1029,consulta!$D$1)","v":0},"NI#EZ, JUVENTUD Y CULTURA SC","A083200610",1,1801.16,null,null,null,null,null,"LINDA DIANE CONE"]
[null,null,null,{"$f":"COUNTIF($E$1:E1030,consulta!$D$1)","v":0},"NI#EZ, JUVENTUD Y CULTURA SC","A083200610",1,1465.3,null,null,null,null,null,"CONSTRUCTORA SONOSUR SA DE CV"]
[null,null,null,{"$f":"COUNTIF($E$1:E1031,consulta!$D$1)","v":0},"ENSAMBLES DEL PACIFICO S DE RL DE CV","A083207910",1,1586,null,null,null,null,null,"PAULA LIZETH ZARAGOZA HERRERO"]
[null,null,null,{"$f":"COUNTIF($E$1:E1032,consulta!$D$1)","v":0},"ESTANCIA INFANTIL TIP AC","A083209810",1,16407.52,null,null,null,null,null,"FERNANDO RENTERIA SANCHEZ"]
[null,null,null,{"$f":"COUNTIF($E$1:E1033,consulta!$D$1)","v":0},"ESTANCIA INFANTIL TIP AC","A083209810",1,14728.94,null,null,null,null,null,"DANNY FRANK REYES SUAREZ"]
[null,null,null,{"$f":"COUNTIF($E$1:E1034,consulta!$D$1)","v":0},"JOSE LUIS FEDERICO TAPIA LIMA","A083226910",1,2775.63,null,null,null,null,null,"BLOQUERA STAR DE BC S DE RL DE CV"]
[null,null,null,{"$f":"COUNTIF($E$1:E1035,consulta!$D$1)","v":0},"JOSE LUIS FEDERICO TAPIA LIMA","A083226910",1,1110.25,null,null,null,null,null,"FABIAN MARTINEZ BARRON"]
[null,null,null,{"$f":"COUNTIF($E$1:E1036,consulta!$D$1)","v":0},"UNIVERSIDAD DE LAS CALIFORNIAS INTERNACIONAL SC","A083253810",1,298702.64,null,null,null,null,null,"ERICK JESUS CUBILLAS SANTAOLAYA"]
[null,null,null,{"$f":"COUNTIF($E$1:E1037,consulta!$D$1)","v":0},"UNIVERSIDAD DE LAS CALIFORNIAS INTERNACIONAL SC","A083253810",2,87.85,null,null,null,null,null,"JOSE CARLOS DE LEON BELTRAN"]
[null,null,null,{"$f":"COUNTIF($E$1:E1038,consulta!$D$1)","v":0},"UNIVERSIDAD DE LAS CALIFORNIAS INTERNACIONAL SC","A083253810",1,229306.29,null,null,null,null,null,"IMPORTACIONES CARRANCO S DE RL"]
[null,null,null,{"$f":"COUNTIF($E$1:E1039,consulta!$D$1)","v":0},"UNIVERSIDAD DE LAS CALIFORNIAS INTERNACIONAL SC","A083253810",1,91722.51,null,null,null,null,null,"ALEJANDRO DE JESUS LARA MARQUEZ"]
[null,null,null,{"$f":"COUNTIF($E$1:E1040,consulta!$D$1)","v":0},"UNIVERSIDAD DE LAS CALIFORNIAS INTERNACIONAL SC","A083253810",1,119481.05,null,null,null,null,null,"JOSE DE JESUS VERDUZCO VERDUZCO"]
[null,null,null,{"$f":"COUNTIF($E$1:E1041,consulta!$D$1)","v":0},"MANUEL RAMOS GALLO","A083281610",1,2227.17,null,null,null,null,null,"JUNIOR MANUEL HERNANDEZ PEREZ"]
[null,null,null,{"$f":"COUNTIF($E$1:E1042,consulta!$D$1)","v":0},"MANUEL RAMOS GALLO","A083281610",1,2227.17,null,null,null,null,null,"JOSE MANUEL YEPIZ CASTRO"]
[null,null,null,{"$f":"COUNTIF($E$1:E1043,consulta!$D$1)","v":0},"MANUEL RAMOS GALLO","A083281610",1,2263.6799999999998,null,null,null,null,null,"OLGA ELIZABETH TORRES NEBUAY"]
[null,null,null,{"$f":"COUNTIF($E$1:E1044,consulta!$D$1)","v":0},"MANUEL RAMOS GALLO","A083281610",1,2227.17,null,null,null,null,null,"SIAT TIJUANA S DE RL DE CV"]
[null,null,null,{"$f":"COUNTIF($E$1:E1045,consulta!$D$1)","v":0},"MANUEL RAMOS GALLO","A083281610",1,2227.17,null,null,null,null,null,"RAFAEL IVAN GONZALEZ FUENTES"]
[null,null,null,{"$f":"COUNTIF($E$1:E1046,consulta!$D$1)","v":0},"MANUEL RAMOS GALLO","A083281610",1,890.86,null,null,null,null,null,"PAVIMENTOS Y URBANIZACIONES DEL PACIFICO SA DE CV"]
[null,null,null,{"$f":"COUNTIF($E$1:E1047,consulta!$D$1)","v":0},"MANUEL RAMOS GALLO","A083281610",1,890.86,null,null,null,null,null,"CONCRETO ROSARITO S DE RL DE CV"]
[null,null,null,{"$f":"COUNTIF($E$1:E1048,consulta!$D$1)","v":0},"MANUEL RAMOS GALLO","A083281610",1,2686.11,null,null,null,null,null,"GLADYS SIMEY BOJORQUEZ RIVERA"]
[null,null,null,{"$f":"COUNTIF($E$1:E1049,consulta!$D$1)","v":0},"MANUEL RAMOS GALLO","A083281610",1,905.47,null,null,null,null,null,"VIRIDIANA RODRIGUEZ ESPINOZA"]
[null,null,null,{"$f":"COUNTIF($E$1:E1050,consulta!$D$1)","v":0},"MANUEL RAMOS GALLO","A083281610",1,1074.44,null,null,null,null,null,"ELITANIA SERRANO ASCENCIO"]
[null,null,null,{"$f":"COUNTIF($E$1:E1051,consulta!$D$1)","v":0},"MANUEL RAMOS GALLO","A083281610",1,2775.63,null,null,null,null,null,"SOLAZO GROUP INTERNATIONAL S DE RL DE CV"]
[null,null,null,{"$f":"COUNTIF($E$1:E1052,consulta!$D$1)","v":0},"MANUEL RAMOS GALLO","A083281610",1,890.86,null,null,null,null,null,"TRES G MATERIALS SA DE CV"]
[null,null,null,{"$f":"COUNTIF($E$1:E1053,consulta!$D$1)","v":0},"MANUEL RAMOS GALLO","A083281610",1,1110.25,null,null,null,null,null,"GABRIEL OROZCO RUIZ"]
[null,null,null,{"$f":"COUNTIF($E$1:E1054,consulta!$D$1)","v":0},"MANUEL RAMOS GALLO","A083281610",1,2686.11,null,null,null,null,null,"PAOLA INFANTE CRUZ"]
[null,null,null,{"$f":"COUNTIF($E$1:E1055,consulta!$D$1)","v":0},"MANUEL RAMOS GALLO","A083281610",1,1074.44,null,null,null,null,null,"BLANCA JULIA CONTRERAS FIERROS"]
[null,null,null,{"$f":"COUNTIF($E$1:E1056,consulta!$D$1)","v":0},"MANUEL RAMOS GALLO","A083281610",1,2775.63,null,null,null,null,null,"ORANEO ROMANILLO ARAUJO"]
[null,null,null,{"$f":"COUNTIF($E$1:E1057,consulta!$D$1)","v":0},"MANUEL RAMOS GALLO","A083281610",1,1110.25,null,null,null,null,null,"CHRISTOPHER HUGHES BELLO"]
[null,null,null,{"$f":"COUNTIF($E$1:E1058,consulta!$D$1)","v":0},"MANUEL RAMOS GALLO","A083281610",1,2775.63,null,null,null,null,null,"SILVIA NU#EZ RASCON"]
[null,null,null,{"$f":"COUNTIF($E$1:E1059,consulta!$D$1)","v":0},"MANUEL RAMOS GALLO","A083281610",1,1110.25,null,null,null,null,null,"ANGEL FERNANDO FLORES PONCE"]
[null,null,null,{"$f":"COUNTIF($E$1:E1060,consulta!$D$1)","v":0},"MANUEL RAMOS GALLO","A083281610",1,2686.11,null,null,null,null,null,"LA RECETA DE HERMANOS SAS DE CV"]
[null,null,null,{"$f":"COUNTIF($E$1:E1061,consulta!$D$1)","v":0},"MANUEL RAMOS GALLO","A083281610",1,1074.44,null,null,null,null,null,"SHIELD,PROTEC SA DE CV"]
[null,null,null,{"$f":"COUNTIF($E$1:E1062,consulta!$D$1)","v":0},"MANUEL RAMOS GALLO","A083281610",1,2775.63,null,null,null,null,null,"PERSONAL DE RESGUARDO OPTIMO Y TECNOLOGIAS DE VIGILANCIA SAS DE CV"]
[null,null,null,{"$f":"COUNTIF($E$1:E1063,consulta!$D$1)","v":0},"MANUEL RAMOS GALLO","A083281610",1,1110.25,null,null,null,null,null,"CONSTRUCCION Y CONSERVACION DE CARRETERAS SEMA S DE RL DE CV"]
[null,null,null,{"$f":"COUNTIF($E$1:E1064,consulta!$D$1)","v":0},"MANUEL RAMOS GALLO","A083281610",1,2775.63,null,null,null,null,null,"INSTITUTO DE ARTE Y CULTURA DE ROSARITO"]
[null,null,null,{"$f":"COUNTIF($E$1:E1065,consulta!$D$1)","v":0},"MANUEL RAMOS GALLO","A083281610",1,1110.25,null,null,null,null,null,"UMBRELLA SERVICIOS SEGURIDAD PRIVADA S DE RL DE CV"]
[null,null,null,{"$f":"COUNTIF($E$1:E1066,consulta!$D$1)","v":0},"MANUEL RAMOS GALLO","A083281610",1,890.86,null,null,null,null,null,"CONCISO GRUPO INMOBILIARIO DE BAJA CALIFORNIA S DE RL DE CV"]
[null,null,null,{"$f":"COUNTIF($E$1:E1067,consulta!$D$1)","v":0},"LUIS MAYA FRANCO","A083288410",1,742.39,null,null,null,null,null,"CONSTRUCTORA ATZCO SA DE CV"]
[null,null,null,{"$f":"COUNTIF($E$1:E1068,consulta!$D$1)","v":0},"LUIS MAYA FRANCO","A083288410",1,925.21,null,null,null,null,null,"RICHARD RUBEN CENDOYA X"]
[null,null,null,{"$f":"COUNTIF($E$1:E1069,consulta!$D$1)","v":0},"LUIS MAYA FRANCO","A083288410",1,370.08,null,null,null,null,null,"COMEDOR LA SABROSURA FOOD S DE RL DE CV"]
[null,null,null,{"$f":"COUNTIF($E$1:E1070,consulta!$D$1)","v":0},"LUIS MAYA FRANCO","A083288410",1,296.95,null,null,null,null,null,"ANABEL VILLALOBOS"]
[null,null,null,{"$f":"COUNTIF($E$1:E1071,consulta!$D$1)","v":0},"CESAR ROMANO MONTALVO","A083298610",1,48.69,null,null,null,null,null,"MIGUEL ANGEL MARTINEZ TORRES"]
[null,null,null,{"$f":"COUNTIF($E$1:E1072,consulta!$D$1)","v":0},"CESAR ROMANO MONTALVO","A083298610",1,19.47,null,null,null,null,null,"CLAUDIA TERESA BRAMBILA RUIZ"]
[null,null,null,{"$f":"COUNTIF($E$1:E1073,consulta!$D$1)","v":0},"SILVERIO ROMERO OCHOA","A083305110",1,782.41,null,null,null,null,null,"ANTONIO VERDEL ANTUNEZ"]
[null,null,null,{"$f":"COUNTIF($E$1:E1074,consulta!$D$1)","v":0},"SILVERIO ROMERO OCHOA","A083305110",1,312.95999999999998,null,null,null,null,null,"CARLOS MARIO PADILLA RAMIREZ"]
[null,null,null,{"$f":"COUNTIF($E$1:E1075,consulta!$D$1)","v":0},"J. JESUS MIRELES CERENO","A083306410",1,1484.78,null,null,null,null,null,"ACQUA RESTAURANTES S DE RL DE CV"]
[null,null,null,{"$f":"COUNTIF($E$1:E1076,consulta!$D$1)","v":0},"J. JESUS MIRELES CERENO","A083306410",1,1790.74,null,null,null,null,null,"CARLOS GARCIA LICEA"]
[null,null,null,{"$f":"COUNTIF($E$1:E1077,consulta!$D$1)","v":0},"J. JESUS MIRELES CERENO","A083306410",1,716.29,null,null,null,null,null,"JAIME ARREDONDO GUZMAN"]
[null,null,null,{"$f":"COUNTIF($E$1:E1078,consulta!$D$1)","v":0},"J. JESUS MIRELES CERENO","A083306410",1,1850.42,null,null,null,null,null,"EMPRESAS BONO SA DE CV"]
[null,null,null,{"$f":"COUNTIF($E$1:E1079,consulta!$D$1)","v":0},"J. JESUS MIRELES CERENO","A083306410",1,740.16,null,null,null,null,null,"JOSE MARGARITO ERNESTO GOMEZ PADUA"]
[null,null,null,{"$f":"COUNTIF($E$1:E1080,consulta!$D$1)","v":0},"J. JESUS MIRELES CERENO","A083306410",1,593.91,null,null,null,null,null,"PRODUCTOS DENTALES DENMART SA DE CV"]
[null,null,null,{"$f":"COUNTIF($E$1:E1081,consulta!$D$1)","v":0},"XINGMIN LIN","A083337310",1,742.39,null,null,null,null,null,"YLEMA CORPORACION S DE RL DE CV"]
[null,null,null,{"$f":"COUNTIF($E$1:E1082,consulta!$D$1)","v":0},"REYNALDO SANDOVAL CORDOVA","A083351610",1,579.4,null,null,null,null,null,"ZWEI S ARQUITECTOS SA DE CV"]
[null,null,null,{"$f":"COUNTIF($E$1:E1083,consulta!$D$1)","v":0},"NEXT LINK COMUNICATIONS, S.A.","A083353710",1,4972.0200000000004,null,null,null,null,null,"IRMA LETICIA RAMIREZ VELEZ"]
[null,null,null,{"$f":"COUNTIF($E$1:E1084,consulta!$D$1)","v":0},"NEXT LINK COMUNICATIONS, S.A.","A083353710",1,7058.09,null,null,null,null,null,"JAVIER PINEDA RODRIGUEZ"]
[null,null,null,{"$f":"COUNTIF($E$1:E1085,consulta!$D$1)","v":0},"NEXT LINK COMUNICATIONS, S.A.","A083353710",1,2823.23,null,null,null,null,null,"DANIEL BARBA GARCIA"]
[null,null,null,{"$f":"COUNTIF($E$1:E1086,consulta!$D$1)","v":0},"NEXT LINK COMUNICATIONS, S.A.","A083353710",1,1988.8,null,null,null,null,null,"EDICIONES ILCSA SA DE CV"]
[null,null,null,{"$f":"COUNTIF($E$1:E1087,consulta!$D$1)","v":0},"OMAR FRANCISCO GONZALEZ SALGADO","A083379510",1,8296.94,null,null,null,null,null,"VIDRIERA ALMADA SA DE CV"]
[null,null,null,{"$f":"COUNTIF($E$1:E1088,consulta!$D$1)","v":0},"OMAR FRANCISCO GONZALEZ SALGADO","A083379510",1,1859.43,null,null,null,null,null,"MARIA DEL CARMEN SALAZAR JASSO"]
[null,null,null,{"$f":"COUNTIF($E$1:E1089,consulta!$D$1)","v":0},"OMAR FRANCISCO GONZALEZ SALGADO","A083379510",1,743.77,null,null,null,null,null,"BAJA PROFESSIONAL CLEAN SERVICE S DE RL DE CV"]
[null,null,null,{"$f":"COUNTIF($E$1:E1090,consulta!$D$1)","v":0},"OMAR FRANCISCO GONZALEZ SALGADO","A083379510",1,12513.76,null,null,null,null,null,"MARCELLO HINOJOSA JIMENEZ"]
[null,null,null,{"$f":"COUNTIF($E$1:E1091,consulta!$D$1)","v":0},"OMAR FRANCISCO GONZALEZ SALGADO","A083379510",1,5005.5,null,null,null,null,null,"ALFREDO MEDINA LAFARGA"]
[null,null,null,{"$f":"COUNTIF($E$1:E1092,consulta!$D$1)","v":0},"OMAR FRANCISCO GONZALEZ SALGADO","A083379510",1,3318.77,null,null,null,null,null,"JUAN MANUEL SOLIS CASTILLO"]
[null,null,null,{"$f":"COUNTIF($E$1:E1093,consulta!$D$1)","v":0},"COLEGIO FAMILIA DE TIJUANA AC","A083385810",1,49129.85,null,null,null,null,null,"GABRIEL GARCIA MU#OZ"]
[null,null,null,{"$f":"COUNTIF($E$1:E1094,consulta!$D$1)","v":0},"MARIO RODRIGUEZ","A083405110",1,3132.07,null,null,null,null,null,"MIRIAM ILIANA ORTIZ ZU#IGA"]
[null,null,null,{"$f":"COUNTIF($E$1:E1095,consulta!$D$1)","v":0},"MARIO RODRIGUEZ","A083405110",1,3186.16,null,null,null,null,null,"FUNDACION DE APOYO PARA NI&OS ESPECIALES JESUS EDUARDO TORRES AC"]
[null,null,null,{"$f":"COUNTIF($E$1:E1096,consulta!$D$1)","v":0},"MARIO RODRIGUEZ","A083405110",1,1252.82,null,null,null,null,null,"JOEL LEY TORRES"]
[null,null,null,{"$f":"COUNTIF($E$1:E1097,consulta!$D$1)","v":0},"MARIO RODRIGUEZ","A083405110",1,1274.46,null,null,null,null,null,"ORGOM SA DE CV"]
[null,null,null,{"$f":"COUNTIF($E$1:E1098,consulta!$D$1)","v":0},"MARIO RODRIGUEZ","A083405110",1,3757.69,null,null,null,null,null,"EMPAQUES BAJA SA DE CV"]
[null,null,null,{"$f":"COUNTIF($E$1:E1099,consulta!$D$1)","v":0},"MARIO RODRIGUEZ","A083405110",1,1503.07,null,null,null,null,null,"DANIEL FORTUNATO JIMENEZ SUSARREY"]
[null,null,null,{"$f":"COUNTIF($E$1:E1100,consulta!$D$1)","v":0},"MARIO RODRIGUEZ","A083405110",1,1127.48,null,null,null,null,null,"DISMEDIQ SA DE CV"]
[null,null,null,{"$f":"COUNTIF($E$1:E1101,consulta!$D$1)","v":0},"MARIO RODRIGUEZ","A083405110",1,1165.06,null,null,null,null,null,"SALDOM CONSTRUCCION Y OBRA CIVIL SA DE CV"]
[null,null,null,{"$f":"COUNTIF($E$1:E1102,consulta!$D$1)","v":0},"MARIO RODRIGUEZ","A083405110",1,998.41,null,null,null,null,null,"GUILLERMO LEYVA DIAZ"]
[null,null,null,{"$f":"COUNTIF($E$1:E1103,consulta!$D$1)","v":0},"ENSAMBLES HYSON SA DE CV","A083437810",2,2619.63,null,null,null,null,null,"LUIS ALBERTO ZEPEDA VARGAS"]
[null,null,null,{"$f":"COUNTIF($E$1:E1104,consulta!$D$1)","v":0},"ENSAMBLES HYSON SA DE CV","A083437810",2,1047.8499999999999,null,null,null,null,null,"ADRIANA EQUIHUA MARTINEZ"]
[null,null,null,{"$f":"COUNTIF($E$1:E1105,consulta!$D$1)","v":0},"FCO RAMIREZ GUERRERO","A083456010",1,2263.6799999999998,null,null,null,null,null,"CONSUELO ALVARADO ZENDEJAS"]
[null,null,null,{"$f":"COUNTIF($E$1:E1106,consulta!$D$1)","v":0},"FCO RAMIREZ GUERRERO","A083456010",1,2227.17,null,null,null,null,null,"MARIA ELENA GONZALEZ GARCIA"]
[null,null,null,{"$f":"COUNTIF($E$1:E1107,consulta!$D$1)","v":0},"FCO RAMIREZ GUERRERO","A083456010",1,2227.17,null,null,null,null,null,"DETALLADOS CORONA SA DE CV"]
[null,null,null,{"$f":"COUNTIF($E$1:E1108,consulta!$D$1)","v":0},"FCO RAMIREZ GUERRERO","A083456010",1,905.47,null,null,null,null,null,"ROBERTO VAZQUEZ RUEDA"]
[null,null,null,{"$f":"COUNTIF($E$1:E1109,consulta!$D$1)","v":0},"FCO RAMIREZ GUERRERO","A083456010",1,890.86,null,null,null,null,null,"MARIBEL DEL CARMEN BAYARDO GUZMAN"]
[null,null,null,{"$f":"COUNTIF($E$1:E1110,consulta!$D$1)","v":0},"FCO RAMIREZ GUERRERO","A083456010",1,4054.26,null,null,null,null,null,"MARIA REYES DOZAL RAMOS"]
[null,null,null,{"$f":"COUNTIF($E$1:E1111,consulta!$D$1)","v":0},"FCO RAMIREZ GUERRERO","A083456010",1,1621.7,null,null,null,null,null,"ALMA OFELIA MORALES JUAREZ"]
[null,null,null,{"$f":"COUNTIF($E$1:E1112,consulta!$D$1)","v":0},"FCO RAMIREZ GUERRERO","A083456010",1,4054.26,null,null,null,null,null,"PALOMA GARCIA VARGAS"]
[null,null,null,{"$f":"COUNTIF($E$1:E1113,consulta!$D$1)","v":0},"FCO RAMIREZ GUERRERO","A083456010",1,1621.7,null,null,null,null,null,"TK SYSTEMS, S. DE R.L. DE C.V."]
[null,null,null,{"$f":"COUNTIF($E$1:E1114,consulta!$D$1)","v":0},"FCO RAMIREZ GUERRERO","A083456010",1,3923.49,null,null,null,null,null,"SERVICIOS PROFESIONALES DE OPERACION SA DE CV"]
[null,null,null,{"$f":"COUNTIF($E$1:E1115,consulta!$D$1)","v":0},"FCO RAMIREZ GUERRERO","A083456010",1,1569.39,null,null,null,null,null,"JULIO ABIMAEL SANCHEZ RESENDIZ"]
[null,null,null,{"$f":"COUNTIF($E$1:E1116,consulta!$D$1)","v":0},"FCO RAMIREZ GUERRERO","A083456010",1,4054.26,null,null,null,null,null,"MANUEL MORA HERNANDEZ"]
[null,null,null,{"$f":"COUNTIF($E$1:E1117,consulta!$D$1)","v":0},"FCO RAMIREZ GUERRERO","A083456010",1,1621.7,null,null,null,null,null,"IVAN GONZALEZ REVELEZ"]
[null,null,null,{"$f":"COUNTIF($E$1:E1118,consulta!$D$1)","v":0},"FCO RAMIREZ GUERRERO","A083456010",1,3923.49,null,null,null,null,null,"JESUS MEZA CORONA"]
[null,null,null,{"$f":"COUNTIF($E$1:E1119,consulta!$D$1)","v":0},"FCO RAMIREZ GUERRERO","A083456010",1,1569.39,null,null,null,null,null,"ACEITES Y LUBRICANTES MR SA DE CV"]
[null,null,null,{"$f":"COUNTIF($E$1:E1120,consulta!$D$1)","v":0},"FCO RAMIREZ GUERRERO","A083456010",1,4054.26,null,null,null,null,null,"JULIO CESAR CHAVEZ ALFARO"]
[null,null,null,{"$f":"COUNTIF($E$1:E1121,consulta!$D$1)","v":0},"FCO RAMIREZ GUERRERO","A083456010",1,1621.7,null,null,null,null,null,"ISRAEL LEON MONTES"]
[null,null,null,{"$f":"COUNTIF($E$1:E1122,consulta!$D$1)","v":0},"FCO RAMIREZ GUERRERO","A083456010",1,890.86,null,null,null,null,null,"RAMON BARRERA BENITEZ"]
[null,null,null,{"$f":"COUNTIF($E$1:E1123,consulta!$D$1)","v":0},"NEREIDA JIMENEZ QUINTANA","A083483010",1,6201.21,null,null,null,null,null,"ROBERTO LOPEZ RAMIREZ"]
[null,null,null,{"$f":"COUNTIF($E$1:E1124,consulta!$D$1)","v":0},"NEREIDA JIMENEZ QUINTANA","A083483010",1,2480.48,null,null,null,null,null,"REGALADO GARCIA Y ABOGADOS ASOCIADOS SC"]
[null,null,null,{"$f":"COUNTIF($E$1:E1125,consulta!$D$1)","v":0},"NEREIDA JIMENEZ QUINTANA","A083483010",1,6605.88,null,null,null,null,null,"URBANIZACIONES ANGULO, S.A. DE C.V."]
[null,null,null,{"$f":"COUNTIF($E$1:E1126,consulta!$D$1)","v":0},"NEREIDA JIMENEZ QUINTANA","A083483010",1,2642.35,null,null,null,null,null,"SOFIA ALEJANDRA HEREDIA GUZMAN"]
[null,null,null,{"$f":"COUNTIF($E$1:E1127,consulta!$D$1)","v":0},"CONSTRUCCIONES EDIFICS URBS CABRERA, S.A. DE C.V.","A083487110",1,1307.83,null,null,null,null,null,"REYNA GUADALUPE ENRIQUEZ FELIX"]
[null,null,null,{"$f":"COUNTIF($E$1:E1128,consulta!$D$1)","v":0},"CONSTRUCCIONES EDIFICS URBS CABRERA, S.A. DE C.V.","A083487110",1,523.13,null,null,null,null,null,"LUIS ANGEL SANCHEZ VILLAGOMEZ"]
[null,null,null,{"$f":"COUNTIF($E$1:E1129,consulta!$D$1)","v":0},"ESTELA BARAJAS GARCIA","A083487710",1,2400.46,null,null,null,null,null,"GERMAN CRISTOBAL RODRIGUEZ PELAYO"]
[null,null,null,{"$f":"COUNTIF($E$1:E1130,consulta!$D$1)","v":0},"ESTELA BARAJAS GARCIA","A083487710",1,960.18,null,null,null,null,null,"ESPIRIDION RODRIGUEZ GALLEGOS"]
[null,null,null,{"$f":"COUNTIF($E$1:E1131,consulta!$D$1)","v":0},"ESTELA BARAJAS GARCIA","A083487710",1,2371.58,null,null,null,null,null,"ANGLUS CONSTRUCTORA SA DE CV"]
[null,null,null,{"$f":"COUNTIF($E$1:E1132,consulta!$D$1)","v":0},"ESTELA BARAJAS GARCIA","A083487710",1,948.63,null,null,null,null,null,"EMPLEOS EXTERNOS S DE RL DE CV"]
[null,null,null,{"$f":"COUNTIF($E$1:E1133,consulta!$D$1)","v":0},"LORENZO PULIDO SOTELO","A083526910",1,991.25,null,null,null,null,null,"LUIS ANTONIO CARDENAS CASTRO"]
[null,null,null,{"$f":"COUNTIF($E$1:E1134,consulta!$D$1)","v":0},"LORENZO PULIDO SOTELO","A083526910",1,396.5,null,null,null,null,null,"SERGIO MOYA ZAMORA"]
[null,null,null,{"$f":"COUNTIF($E$1:E1135,consulta!$D$1)","v":0},"GERARDO LOPEZ BRITO","A083552210",1,742.39,null,null,null,null,null,"JOSE DE JESUS JIMENEZ GONZALEZ"]
[null,null,null,{"$f":"COUNTIF($E$1:E1136,consulta!$D$1)","v":0},"FRANCISCO JAVIER LEGAZPI FLORES","A083558410",1,2206.69,null,null,null,null,null,"IZCHEL AZALIA XCHEL AYALA CAMACHO"]
[null,null,null,{"$f":"COUNTIF($E$1:E1137,consulta!$D$1)","v":0},"FRANCISCO JAVIER LEGAZPI FLORES","A083558410",1,2206.69,null,null,null,null,null,"ALMAROD CONSTRUCCIONES SA DE CV"]
[null,null,null,{"$f":"COUNTIF($E$1:E1138,consulta!$D$1)","v":0},"FRANCISCO JAVIER LEGAZPI FLORES","A083558410",1,2206.69,null,null,null,null,null,"TERESA HERNANDEZ HERNANDEZ"]
[null,null,null,{"$f":"COUNTIF($E$1:E1139,consulta!$D$1)","v":0},"FRANCISCO JAVIER LEGAZPI FLORES","A083558410",1,882.67,null,null,null,null,null,"ERNESTO AGUILAR RIVERA"]
[null,null,null,{"$f":"COUNTIF($E$1:E1140,consulta!$D$1)","v":0},"FRANCISCO JAVIER LEGAZPI FLORES","A083558410",1,2237.83,null,null,null,null,null,"JOSE GUADALUPE MARQUEZ AYALA"]
[null,null,null,{"$f":"COUNTIF($E$1:E1141,consulta!$D$1)","v":0},"FRANCISCO JAVIER LEGAZPI FLORES","A083558410",1,895.13,null,null,null,null,null,"RAUL ALEJANDRO MENCHACA SINENCIO"]
[null,null,null,{"$f":"COUNTIF($E$1:E1142,consulta!$D$1)","v":0},"FRANCISCO JAVIER LEGAZPI FLORES","A083558410",1,882.67,null,null,null,null,null,"GUGA MERCANTIL SA DE CV"]
[null,null,null,{"$f":"COUNTIF($E$1:E1143,consulta!$D$1)","v":0},"FRANCISCO JAVIER LEGAZPI FLORES","A083558410",1,2264.7399999999998,null,null,null,null,null,"SAMUEL NAVARRO ALVAREZ"]
[null,null,null,{"$f":"COUNTIF($E$1:E1144,consulta!$D$1)","v":0},"FRANCISCO JAVIER LEGAZPI FLORES","A083558410",1,905.89,null,null,null,null,null,"RICARDO RAMIREZ IBARRA"]
[null,null,null,{"$f":"COUNTIF($E$1:E1145,consulta!$D$1)","v":0},"FRANCISCO JAVIER LEGAZPI FLORES","A083558410",1,2264.7399999999998,null,null,null,null,null,"DULCES MIXTOS DE B.C. S DE RL DE CV"]
[null,null,null,{"$f":"COUNTIF($E$1:E1146,consulta!$D$1)","v":0},"FRANCISCO JAVIER LEGAZPI FLORES","A083558410",1,905.89,null,null,null,null,null,"JOAQUIN FLORES PILA"]
[null,null,null,{"$f":"COUNTIF($E$1:E1147,consulta!$D$1)","v":0},"FRANCISCO JAVIER LEGAZPI FLORES","A083558410",1,882.67,null,null,null,null,null,"ARTURO ALVAREZ TOSTADO VERDUGO"]
[null,null,null,{"$f":"COUNTIF($E$1:E1148,consulta!$D$1)","v":0},"EMANUEL TADEO DE LA PAZ","A083559010",1,742.39,null,null,null,null,null,"HOSPITAL TJ SC"]
[null,null,null,{"$f":"COUNTIF($E$1:E1149,consulta!$D$1)","v":0},"EMANUEL TADEO DE LA PAZ","A083559010",1,864.09,null,null,null,null,null,"CESAR RAUL KONDO ROBLES"]
[null,null,null,{"$f":"COUNTIF($E$1:E1150,consulta!$D$1)","v":0},"EMANUEL TADEO DE LA PAZ","A083559010",1,296.95,null,null,null,null,null,"LA VEREDA DE LA VIDA AC"]
[null,null,null,{"$f":"COUNTIF($E$1:E1151,consulta!$D$1)","v":0},"EMANUEL TADEO DE LA PAZ","A083559010",1,740.16,null,null,null,null,null,"PREMIER LOGISTIC SERVICES SA DE CV"]
[null,null,null,{"$f":"COUNTIF($E$1:E1152,consulta!$D$1)","v":0},"EMANUEL TADEO DE LA PAZ","A083559010",1,925.21,null,null,null,null,null,"COLEGIO ALAMAR, A.C."]
[null,null,null,{"$f":"COUNTIF($E$1:E1153,consulta!$D$1)","v":0},"EMANUEL TADEO DE LA PAZ","A083559010",1,370.08,null,null,null,null,null,"SERVICIOS DE MANTENIMIENTO INMOBILIARIO S DE RL"]
[null,null,null,{"$f":"COUNTIF($E$1:E1154,consulta!$D$1)","v":0},"EMANUEL TADEO DE LA PAZ","A083559010",1,1223.67,null,null,null,null,null,"OSVALDO INFANTE GALINDO"]
[null,null,null,{"$f":"COUNTIF($E$1:E1155,consulta!$D$1)","v":0},"EMANUEL TADEO DE LA PAZ","A083559010",1,489.46,null,null,null,null,null,"GRUPO GRAFICO MARKA SA DE CV"]
[null,null,null,{"$f":"COUNTIF($E$1:E1156,consulta!$D$1)","v":0},"EMANUEL TADEO DE LA PAZ","A083559010",1,345.63,null,null,null,null,null,"JOSE JUVENAL CENDEJAS CHAVEZ"]
[null,null,null,{"$f":"COUNTIF($E$1:E1157,consulta!$D$1)","v":0},"BAJA SATELITE Y SERVICIOS SA DE CV","A083559410",1,17376.759999999998,null,null,null,null,null,"COLEGIO EDUCATIVO SINALOA SC"]
[null,null,null,{"$f":"COUNTIF($E$1:E1158,consulta!$D$1)","v":0},"BAJA SATELITE Y SERVICIOS SA DE CV","A083559410",1,17376.759999999998,null,null,null,null,null,"FRANCISCO JAVIER MARTINEZ SOUZA"]
[null,null,null,{"$f":"COUNTIF($E$1:E1159,consulta!$D$1)","v":0},"BAJA SATELITE Y SERVICIOS SA DE CV","A083559410",1,6950.7,null,null,null,null,null,"JOSE LUIS OTERO CHAVEZ"]
[null,null,null,{"$f":"COUNTIF($E$1:E1160,consulta!$D$1)","v":0},"BAJA SATELITE Y SERVICIOS SA DE CV","A083559410",1,14760.71,null,null,null,null,null,"ANEL CORTI TORRES"]
[null,null,null,{"$f":"COUNTIF($E$1:E1161,consulta!$D$1)","v":0},"BAJA SATELITE Y SERVICIOS SA DE CV","A083559410",1,5904.28,null,null,null,null,null,"JULIO CESAR ZURITA VIDAL"]
[null,null,null,{"$f":"COUNTIF($E$1:E1162,consulta!$D$1)","v":0},"BAJA SATELITE Y SERVICIOS SA DE CV","A083559410",1,14760.71,null,null,null,null,null,"UNIDAD DE ESPECIALIDADES MEDICAS BC"]
[null,null,null,{"$f":"COUNTIF($E$1:E1163,consulta!$D$1)","v":0},"BAJA SATELITE Y SERVICIOS SA DE CV","A083559410",1,5904.28,null,null,null,null,null,"SILVIA DEL CARMEN ANGULO ESPINOZA"]
[null,null,null,{"$f":"COUNTIF($E$1:E1164,consulta!$D$1)","v":0},"BAJA SATELITE Y SERVICIOS SA DE CV","A083559410",1,14284.57,null,null,null,null,null,"MARIA ESTHER CARMONA ORNELAS"]
[null,null,null,{"$f":"COUNTIF($E$1:E1165,consulta!$D$1)","v":0},"BAJA SATELITE Y SERVICIOS SA DE CV","A083559410",1,5713.82,null,null,null,null,null,"REVIVE INDUSTRIAS SA DE CV"]
[null,null,null,{"$f":"COUNTIF($E$1:E1166,consulta!$D$1)","v":0},"BAJA SATELITE Y SERVICIOS SA DE CV","A083559410",1,14760.71,null,null,null,null,null,"ALFONSO VARGAS ANGELES"]
[null,null,null,{"$f":"COUNTIF($E$1:E1167,consulta!$D$1)","v":0},"BAJA SATELITE Y SERVICIOS SA DE CV","A083559410",1,5904.28,null,null,null,null,null,"DEISA PROYECTOS INTEGRALES Y AMBIENTALES S DE RL DE CV"]
[null,null,null,{"$f":"COUNTIF($E$1:E1168,consulta!$D$1)","v":0},"BAJA SATELITE Y SERVICIOS SA DE CV","A083559410",1,14760.71,null,null,null,null,null,"OSVALDO SA#UDO PADILLA"]
[null,null,null,{"$f":"COUNTIF($E$1:E1169,consulta!$D$1)","v":0},"BAJA SATELITE Y SERVICIOS SA DE CV","A083559410",1,5904.28,null,null,null,null,null,"LUIS ALBERTO LUGO OLIVARES"]
[null,null,null,{"$f":"COUNTIF($E$1:E1170,consulta!$D$1)","v":0},"BAJA SATELITE Y SERVICIOS SA DE CV","A083559410",1,6950.7,null,null,null,null,null,"FERNANDO ESPINOZA SALAZAR"]
[null,null,null,{"$f":"COUNTIF($E$1:E1171,consulta!$D$1)","v":0},"EQUIPOS Y SERVICIOS INDUSTRIALES DE TIJUANA SA DE CV","A083562810",1,11716.23,null,null,null,null,null,"ZAIDE BECERRA LOPEZ"]
[null,null,null,{"$f":"COUNTIF($E$1:E1172,consulta!$D$1)","v":0},"EQUIPOS Y SERVICIOS INDUSTRIALES DE TIJUANA SA DE CV","A083562810",1,11911.42,null,null,null,null,null,"GABRIEL TEJADA COVIAN"]
[null,null,null,{"$f":"COUNTIF($E$1:E1173,consulta!$D$1)","v":0},"EQUIPOS Y SERVICIOS INDUSTRIALES DE TIJUANA SA DE CV","A083562810",1,11704.53,null,null,null,null,null,"CARLOS ENRIQUE OCHOA BRACAMONTES"]
[null,null,null,{"$f":"COUNTIF($E$1:E1174,consulta!$D$1)","v":0},"EQUIPOS Y SERVICIOS INDUSTRIALES DE TIJUANA SA DE CV","A083562810",1,4686.49,null,null,null,null,null,"JUAN ASCENCIO LIZARRAGA"]
[null,null,null,{"$f":"COUNTIF($E$1:E1175,consulta!$D$1)","v":0},"EQUIPOS Y SERVICIOS INDUSTRIALES DE TIJUANA SA DE CV","A083562810",1,11527.34,null,null,null,null,null,"FRANCISCO JAVIER CRUZ BARBA"]
[null,null,null,{"$f":"COUNTIF($E$1:E1176,consulta!$D$1)","v":0},"EQUIPOS Y SERVICIOS INDUSTRIALES DE TIJUANA SA DE CV","A083562810",1,4610.93,null,null,null,null,null,"SELENE PE#UELAS MEDINA"]
[null,null,null,{"$f":"COUNTIF($E$1:E1177,consulta!$D$1)","v":0},"EQUIPOS Y SERVICIOS INDUSTRIALES DE TIJUANA SA DE CV","A083562810",1,4764.5600000000004,null,null,null,null,null,"ARGELYZ SANTOS USCANGA"]
[null,null,null,{"$f":"COUNTIF($E$1:E1178,consulta!$D$1)","v":0},"EQUIPOS Y SERVICIOS INDUSTRIALES DE TIJUANA SA DE CV","A083562810",1,12396.13,null,null,null,null,null,"MARTHA HAYDEE GONZALEZ OJEDA"]
[null,null,null,{"$f":"COUNTIF($E$1:E1179,consulta!$D$1)","v":0},"EQUIPOS Y SERVICIOS INDUSTRIALES DE TIJUANA SA DE CV","A083562810",1,4958.45,null,null,null,null,null,"JUAN ANTONIO ESCOBEDO PEREZ"]
[null,null,null,{"$f":"COUNTIF($E$1:E1180,consulta!$D$1)","v":0},"EQUIPOS Y SERVICIOS INDUSTRIALES DE TIJUANA SA DE CV","A083562810",1,11888.76,null,null,null,null,null,"EDUCACION DE EXCELENCIA SC"]
[null,null,null,{"$f":"COUNTIF($E$1:E1181,consulta!$D$1)","v":0},"EQUIPOS Y SERVICIOS INDUSTRIALES DE TIJUANA SA DE CV","A083562810",1,4755.5,null,null,null,null,null,"BOSGRAF S DE RL DE CV"]
[null,null,null,{"$f":"COUNTIF($E$1:E1182,consulta!$D$1)","v":0},"EQUIPOS Y SERVICIOS INDUSTRIALES DE TIJUANA SA DE CV","A083562810",1,4681.8100000000004,null,null,null,null,null,"GLOBAL BAJA SC"]
[null,null,null,{"$f":"COUNTIF($E$1:E1183,consulta!$D$1)","v":0},"DISTRIBUIDORA CUESTA, S.A. DE C.V.","A083565310",1,742.39,null,null,null,null,null,"PAOLA ZAZUETA COTA"]
[null,null,null,{"$f":"COUNTIF($E$1:E1184,consulta!$D$1)","v":0},"DISTRIBUIDORA CUESTA, S.A. DE C.V.","A083565310",1,925.21,null,null,null,null,null,"HECTOR MANUEL SERRANO MEDINA"]
[null,null,null,{"$f":"COUNTIF($E$1:E1185,consulta!$D$1)","v":0},"DISTRIBUIDORA CUESTA, S.A. DE C.V.","A083565310",1,370.08,null,null,null,null,null,"ARGUS TECNOLOGIAS, S.A. DE C.V."]
[null,null,null,{"$f":"COUNTIF($E$1:E1186,consulta!$D$1)","v":0},"DISTRIBUIDORA CUESTA, S.A. DE C.V.","A083565310",1,296.95,null,null,null,null,null,"MANUEL ARNULFO QUINTERO LLAUSAS"]
[null,null,null,{"$f":"COUNTIF($E$1:E1187,consulta!$D$1)","v":0},"MANUFACTURERA BAJAMEX SA DE CV","A083580810",1,17053.02,null,null,null,null,null,"MARGOT LEMUS CENDEJAS"]
[null,null,null,{"$f":"COUNTIF($E$1:E1188,consulta!$D$1)","v":0},"MANUFACTURERA BAJAMEX SA DE CV","A083580810",1,6981.25,null,null,null,null,null,"LOGISTICA Y ADMINISTRACION SC"]
[null,null,null,{"$f":"COUNTIF($E$1:E1189,consulta!$D$1)","v":0},"MANUFACTURERA BAJAMEX SA DE CV","A083580810",1,7869.47,null,null,null,null,null,"MARIA MARGARITA SARMIENTO ANAYA"]
[null,null,null,{"$f":"COUNTIF($E$1:E1190,consulta!$D$1)","v":0},"MANUFACTURERA BAJAMEX SA DE CV","A083580810",1,18524.189999999999,null,null,null,null,null,"PRESTAMOS RUMOL SA DE CV"]
[null,null,null,{"$f":"COUNTIF($E$1:E1191,consulta!$D$1)","v":0},"MANUFACTURERA BAJAMEX SA DE CV","A083580810",1,7409.67,null,null,null,null,null,"RAUL SALDA#A ARAIZA"]
[null,null,null,{"$f":"COUNTIF($E$1:E1192,consulta!$D$1)","v":0},"MANUFACTURERA BAJAMEX SA DE CV","A083580810",1,6821.2,null,null,null,null,null,"JOAQUIN RAMIREZ PACHECO"]
[null,null,null,{"$f":"COUNTIF($E$1:E1193,consulta!$D$1)","v":0},"JOSE CARLOS RODRIGUEZ LOPEZ","A083593410",1,2274.0300000000002,null,null,null,null,null,"RODOL INGENIERIA Y ASOCIADOS S DE RL DE CV"]
[null,null,null,{"$f":"COUNTIF($E$1:E1194,consulta!$D$1)","v":0},"JOSE CARLOS RODRIGUEZ LOPEZ","A083593410",1,2237.35,null,null,null,null,null,"RAYMUNDO LARA BUENO"]
[null,null,null,{"$f":"COUNTIF($E$1:E1195,consulta!$D$1)","v":0},"JOSE CARLOS RODRIGUEZ LOPEZ","A083593410",1,2237.35,null,null,null,null,null,"OSCAR SANTIAGO RODRIGUEZ IRETA"]
[null,null,null,{"$f":"COUNTIF($E$1:E1196,consulta!$D$1)","v":0},"JOSE CARLOS RODRIGUEZ LOPEZ","A083593410",1,909.61,null,null,null,null,null,"SENTEL S DE RL DE CV"]
[null,null,null,{"$f":"COUNTIF($E$1:E1197,consulta!$D$1)","v":0},"JOSE CARLOS RODRIGUEZ LOPEZ","A083593410",1,2780.79,null,null,null,null,null,"JUAN AURELIO MORALES BECERRA"]
[null,null,null,{"$f":"COUNTIF($E$1:E1198,consulta!$D$1)","v":0},"JOSE CARLOS RODRIGUEZ LOPEZ","A083593410",1,1112.31,null,null,null,null,null,"LUCY LILIAN LOPEZ ROMERO"]
[null,null,null,{"$f":"COUNTIF($E$1:E1199,consulta!$D$1)","v":0},"JOSE CARLOS RODRIGUEZ LOPEZ","A083593410",1,894.94,null,null,null,null,null,"M. ESTELA IBARRA GONZALES"]
[null,null,null,{"$f":"COUNTIF($E$1:E1200,consulta!$D$1)","v":0},"JOSE CARLOS RODRIGUEZ LOPEZ","A083593410",1,2780.79,null,null,null,null,null,"INVENTARIO IMAGINARIO SA DE CV"]
[null,null,null,{"$f":"COUNTIF($E$1:E1201,consulta!$D$1)","v":0},"JOSE CARLOS RODRIGUEZ LOPEZ","A083593410",1,1076.43,null,null,null,null,null,"DORA LUZ GOMEZ LLANOS REYNOSO"]
[null,null,null,{"$f":"COUNTIF($E$1:E1202,consulta!$D$1)","v":0},"JOSE CARLOS RODRIGUEZ LOPEZ","A083593410",1,1112.31,null,null,null,null,null,"GABRIEL GUTIERREZ COTA"]
[null,null,null,{"$f":"COUNTIF($E$1:E1203,consulta!$D$1)","v":0},"JOSE CARLOS RODRIGUEZ LOPEZ","A083593410",1,2780.79,null,null,null,null,null,"MDSTELECOMM SA DE CV"]
[null,null,null,{"$f":"COUNTIF($E$1:E1204,consulta!$D$1)","v":0},"JOSE CARLOS RODRIGUEZ LOPEZ","A083593410",1,1112.31,null,null,null,null,null,"VICENTE LEONARDO LEDEZMA RAUDALES"]
[null,null,null,{"$f":"COUNTIF($E$1:E1205,consulta!$D$1)","v":0},"JOSE CARLOS RODRIGUEZ LOPEZ","A083593410",1,894.94,null,null,null,null,null,"JOAQUIN HERNANDEZ HERNANDEZ"]
[null,null,null,{"$f":"COUNTIF($E$1:E1206,consulta!$D$1)","v":0},"JOSE RAZO BERVER","A083598710",1,2881.92,null,null,null,null,null,"R&R EDIFICACIONES S DE RL DE CV"]
[null,null,null,{"$f":"COUNTIF($E$1:E1207,consulta!$D$1)","v":0},"JOSE RAZO BERVER","A083598710",1,1855.46,null,null,null,null,null,"ALEJANDRO ISRAEL URIBE RODRIGUEZ"]
[null,null,null,{"$f":"COUNTIF($E$1:E1208,consulta!$D$1)","v":0},"FIESTA MEXICANA DEL VALLE SA DE CV","A083616510",1,7769.56,null,null,null,null,null,"FRANCISCO JAVIER MARTINEZ SILVA"]
[null,null,null,{"$f":"COUNTIF($E$1:E1209,consulta!$D$1)","v":0},"FIESTA MEXICANA DEL VALLE SA DE CV","A083616510",1,7644.24,null,null,null,null,null,"FERNANDO VERDUGO AMADOR"]
[null,null,null,{"$f":"COUNTIF($E$1:E1210,consulta!$D$1)","v":0},"FIESTA MEXICANA DEL VALLE SA DE CV","A083616510",1,7644.24,null,null,null,null,null,"JUAN CARLOS ARREOLA VAZQUEZ"]
[null,null,null,{"$f":"COUNTIF($E$1:E1211,consulta!$D$1)","v":0},"FIESTA MEXICANA DEL VALLE SA DE CV","A083616510",1,3107.82,null,null,null,null,null,"JOSE GIL COTA MONTOYA"]
[null,null,null,{"$f":"COUNTIF($E$1:E1212,consulta!$D$1)","v":0},"FIESTA MEXICANA DEL VALLE SA DE CV","A083616510",1,3057.69,null,null,null,null,null,"DIANA SOLEDAD ALDERETE VASQUEZ"]
[null,null,null,{"$f":"COUNTIF($E$1:E1213,consulta!$D$1)","v":0},"FIESTA MEXICANA DEL VALLE SA DE CV","A083616510",1,7802.3,null,null,null,null,null,"HORMIGA VERDE SA DE CV"]
[null,null,null,{"$f":"COUNTIF($E$1:E1214,consulta!$D$1)","v":0},"FIESTA MEXICANA DEL VALLE SA DE CV","A083616510",1,3120.92,null,null,null,null,null,"HECTOR RAUL HERNANDEZ LEY"]
[null,null,null,{"$f":"COUNTIF($E$1:E1215,consulta!$D$1)","v":0},"FIESTA MEXICANA DEL VALLE SA DE CV","A083616510",1,7802.3,null,null,null,null,null,"PROMOCIONARTE SA DE CV"]
[null,null,null,{"$f":"COUNTIF($E$1:E1216,consulta!$D$1)","v":0},"FIESTA MEXICANA DEL VALLE SA DE CV","A083616510",1,3120.92,null,null,null,null,null,"HECTOR SAEB PIMENTEL"]
[null,null,null,{"$f":"COUNTIF($E$1:E1217,consulta!$D$1)","v":0},"FIESTA MEXICANA DEL VALLE SA DE CV","A083616510",1,7550.61,null,null,null,null,null,"ECUA PLASTICS INDUSTRIES DE MEXICO SA DE CV"]
[null,null,null,{"$f":"COUNTIF($E$1:E1218,consulta!$D$1)","v":0},"FIESTA MEXICANA DEL VALLE SA DE CV","A083616510",1,3020.24,null,null,null,null,null,"HILDA BEATRIZ ANGULO VALLE"]
[null,null,null,{"$f":"COUNTIF($E$1:E1219,consulta!$D$1)","v":0},"FIESTA MEXICANA DEL VALLE SA DE CV","A083616510",1,7802.3,null,null,null,null,null,"BBS BAJA S DE RL DE CV"]
[null,null,null,{"$f":"COUNTIF($E$1:E1220,consulta!$D$1)","v":0},"FIESTA MEXICANA DEL VALLE SA DE CV","A083616510",1,3120.92,null,null,null,null,null,"MIRNA MORALES HERRERA"]
[null,null,null,{"$f":"COUNTIF($E$1:E1221,consulta!$D$1)","v":0},"FIESTA MEXICANA DEL VALLE SA DE CV","A083616510",1,7802.3,null,null,null,null,null,"LOURDES FLORES AMES"]
[null,null,null,{"$f":"COUNTIF($E$1:E1222,consulta!$D$1)","v":0},"FIESTA MEXICANA DEL VALLE SA DE CV","A083616510",1,3120.92,null,null,null,null,null,"ROSA ISELA ORTIZ HERNANDEZ"]
[null,null,null,{"$f":"COUNTIF($E$1:E1223,consulta!$D$1)","v":0},"FIESTA MEXICANA DEL VALLE SA DE CV","A083616510",1,3057.69,null,null,null,null,null,"MARIO ALBERTO SOBERANIS MARTINEZ"]
[null,null,null,{"$f":"COUNTIF($E$1:E1224,consulta!$D$1)","v":0},"MARIO VICENTE FIERRO SANCHEZ","A083625310",1,1741.52,null,null,null,null,null,"OSCAR ALVAREZ GONZALEZ"]
[null,null,null,{"$f":"COUNTIF($E$1:E1225,consulta!$D$1)","v":0},"MARIO VICENTE FIERRO SANCHEZ","A083625310",1,696.6,null,null,null,null,null,"SERVICIOS ADMINISTRATIVOS Y PROFESIONALES DEL NORO"]
[null,null,null,{"$f":"COUNTIF($E$1:E1226,consulta!$D$1)","v":0},"RICARDO LUIS MONGE LOPEZ","A083673410",1,998.05,null,null,null,null,null,"TRANSPORTES DEL VALLE DE GUADALUPE SA DE CV"]
[null,null,null,{"$f":"COUNTIF($E$1:E1227,consulta!$D$1)","v":0},"RICARDO LUIS MONGE LOPEZ","A083673410",1,399.22,null,null,null,null,null,"JACUZZI DE MEXICO SA DE CV"]
[null,null,null,{"$f":"COUNTIF($E$1:E1228,consulta!$D$1)","v":0},"JESUS MANUEL AVILA ZAPATA","A083699110",1,370.08,null,null,null,null,null,"PUENTE DE AMISTAD, A.C."]
[null,null,null,{"$f":"COUNTIF($E$1:E1229,consulta!$D$1)","v":0},"JESUS MANUEL AVILA ZAPATA","A083699110",1,296.95,null,null,null,null,null,"ASESORIA Y SERVICIO FCA SC"]
[null,null,null,{"$f":"COUNTIF($E$1:E1230,consulta!$D$1)","v":0},"CESAR JAVIER ESCANDON OJEDA","A083782710",1,8908.68,null,null,null,null,null,"COMPLEJO EDUCATIVO FORJADORES DE LA PATRIA AC"]
[null,null,null,{"$f":"COUNTIF($E$1:E1231,consulta!$D$1)","v":0},"CESAR JAVIER ESCANDON OJEDA","A083782710",1,3563.47,null,null,null,null,null,"DANIEL VALDIVIA VAZQUEZ"]
[null,null,null,{"$f":"COUNTIF($E$1:E1232,consulta!$D$1)","v":0},"CESAR JAVIER ESCANDON OJEDA","A083782710",1,11102.52,null,null,null,null,null,"MAC MANUFACTURING S DE RL DE CV"]
[null,null,null,{"$f":"COUNTIF($E$1:E1233,consulta!$D$1)","v":0},"CESAR JAVIER ESCANDON OJEDA","A083782710",1,4441,null,null,null,null,null,"ABQUIM SA DE CV"]
[null,null,null,{"$f":"COUNTIF($E$1:E1234,consulta!$D$1)","v":0},"CESAR JAVIER ESCANDON OJEDA","A083782710",1,3939.62,null,null,null,null,null,"MARIANO HERRERA RIVERA"]
[null,null,null,{"$f":"COUNTIF($E$1:E1235,consulta!$D$1)","v":0},"CESAR JAVIER ESCANDON OJEDA","A083782710",1,4070.92,null,null,null,null,null,"JOSE ANGEL CARDENAS LUGO"]
[null,null,null,{"$f":"COUNTIF($E$1:E1236,consulta!$D$1)","v":0},"CESAR JAVIER ESCANDON OJEDA","A083782710",1,3266.51,null,null,null,null,null,"SIMON MORA NAVA"]
[null,null,null,{"$f":"COUNTIF($E$1:E1237,consulta!$D$1)","v":0},"GENARO ORNELAS MENDEZ","A083822310",1,742.39,null,null,null,null,null,"LUIS BARBA ALHADRO"]
[null,null,null,{"$f":"COUNTIF($E$1:E1238,consulta!$D$1)","v":0},"GENARO ORNELAS MENDEZ","A083822310",1,932.07,null,null,null,null,null,"ESTEBAN HERIBERTO ESCAMILLA HERRERA"]
[null,null,null,{"$f":"COUNTIF($E$1:E1239,consulta!$D$1)","v":0},"GENARO ORNELAS MENDEZ","A083822310",1,372.82,null,null,null,null,null,"FRANCISCA LOZANO AYALA"]
[null,null,null,{"$f":"COUNTIF($E$1:E1240,consulta!$D$1)","v":0},"GENARO ORNELAS MENDEZ","A083822310",1,963.13,null,null,null,null,null,"JAVIER ALFONSO MONZON MU#OZ"]
[null,null,null,{"$f":"COUNTIF($E$1:E1241,consulta!$D$1)","v":0},"GENARO ORNELAS MENDEZ","A083822310",1,385.25,null,null,null,null,null,"GASTON MIGUEL ANGEL JIMENEZ SOLIS"]
[null,null,null,{"$f":"COUNTIF($E$1:E1242,consulta!$D$1)","v":0},"GENARO ORNELAS MENDEZ","A083822310",1,296.95,null,null,null,null,null,"FRANCISCO JAVIER NU#EZ ALFARO"]
[null,null,null,{"$f":"COUNTIF($E$1:E1243,consulta!$D$1)","v":0},"EQUIPOS ELECTRICOS DE BAJA CALIFORNIA SA DE CV","A083822410",1,1432.21,null,null,null,null,null,"INEXE DE B.C. SA DE CV"]
[null,null,null,{"$f":"COUNTIF($E$1:E1244,consulta!$D$1)","v":0},"JORGE ARTURO ALVELAIS PALACIOS","A083834710",1,754.56,null,null,null,null,null,"JOSE ANGEL ARREOLA HERRERA"]
[null,null,null,{"$f":"COUNTIF($E$1:E1245,consulta!$D$1)","v":0},"JORGE ARTURO ALVELAIS PALACIOS","A083834710",1,301.82,null,null,null,null,null,"SISTEMA INTEGRAL DE PROTECCION Y DEFENSA SA DE CV"]
[null,null,null,{"$f":"COUNTIF($E$1:E1246,consulta!$D$1)","v":0},"JORGE ARTURO ALVELAIS PALACIOS","A083834710",1,925.21,null,null,null,null,null,"SERGIO RENE NU#EZ RIVERA"]
[null,null,null,{"$f":"COUNTIF($E$1:E1247,consulta!$D$1)","v":0},"JORGE ARTURO ALVELAIS PALACIOS","A083834710",1,370.08,null,null,null,null,null,"SEGNOR S DE RL DE CV"]
[null,null,null,{"$f":"COUNTIF($E$1:E1248,consulta!$D$1)","v":0},"DIVE CONSTRUCTORA DE BAJA CALIFORNIA S DE RL DE CV","A083846510",1,1949.36,null,null,null,null,null,"OCTAVIO CESAR IBARRA BARBA"]
[null,null,null,{"$f":"COUNTIF($E$1:E1249,consulta!$D$1)","v":0},"RAFAEL ARMANDO BARCO PINZON","A083874310",1,2769.96,null,null,null,null,null,"GRUAS MARTINEZ SA DE CV"]
[null,null,null,{"$f":"COUNTIF($E$1:E1250,consulta!$D$1)","v":0},"RAFAEL ARMANDO BARCO PINZON","A083874310",1,3949.9,null,null,null,null,null,"SERVICIOS PREVENTIVOS EN SALUD OCUPACIONAL SC"]
[null,null,null,{"$f":"COUNTIF($E$1:E1251,consulta!$D$1)","v":0},"ALFONSO ALEXANDER BROWN","A083876610",1,2913.64,null,null,null,null,null,"JORGE LUIS LOPEZ GUEVARA"]
[null,null,null,{"$f":"COUNTIF($E$1:E1252,consulta!$D$1)","v":0},"ALFONSO ALEXANDER BROWN","A083876610",1,2694.58,null,null,null,null,null,"OBRAS E INFRAESTRUCTURA DEL NOROESTE SA DE CV"]
[null,null,null,{"$f":"COUNTIF($E$1:E1253,consulta!$D$1)","v":0},"ALFONSO ALEXANDER BROWN","A083876610",1,2171.25,null,null,null,null,null,"R+R EDIFICACIONES Y PROYECTOS S DE RL"]
[null,null,null,{"$f":"COUNTIF($E$1:E1254,consulta!$D$1)","v":0},"ALFONSO ALEXANDER BROWN","A083876610",1,1165.45,null,null,null,null,null,"ENEGIN SC"]
[null,null,null,{"$f":"COUNTIF($E$1:E1255,consulta!$D$1)","v":0},"ALFONSO ALEXANDER BROWN","A083876610",1,1077.83,null,null,null,null,null,"CONSTRUCTORA DE VIVIENDA HORMIGA SA DE CV"]
[null,null,null,{"$f":"COUNTIF($E$1:E1256,consulta!$D$1)","v":0},"ALFONSO ALEXANDER BROWN","A083876610",1,3073.07,null,null,null,null,null,"EVISA SERVICIOS MULTIPLES Y ASOC SC"]
[null,null,null,{"$f":"COUNTIF($E$1:E1257,consulta!$D$1)","v":0},"ALFONSO ALEXANDER BROWN","A083876610",1,1229.22,null,null,null,null,null,"GRUPO ARCOMA-ARQUITECTURA CONSTRUCCION MANTENIMIEN"]
[null,null,null,{"$f":"COUNTIF($E$1:E1258,consulta!$D$1)","v":0},"ALFONSO ALEXANDER BROWN","A083876610",1,3175.47,null,null,null,null,null,"MAGDALENA ISABEL CRUZ NORIEGA"]
[null,null,null,{"$f":"COUNTIF($E$1:E1259,consulta!$D$1)","v":0},"ALFONSO ALEXANDER BROWN","A083876610",1,868.5,null,null,null,null,null,"RENE GONZALEZ MERCADO"]
[null,null,null,{"$f":"COUNTIF($E$1:E1260,consulta!$D$1)","v":0},"ALFONSO ALEXANDER BROWN","A083876610",1,1270.18,null,null,null,null,null,"LA Q CAMPESTRE S DE RL DE CV"]
[null,null,null,{"$f":"COUNTIF($E$1:E1261,consulta!$D$1)","v":0},"ALFONSO ALEXANDER BROWN","A083876610",1,2535.85,null,null,null,null,null,"GG INDUSTRIAL DE MUEBLES SA DE CV"]
[null,null,null,{"$f":"COUNTIF($E$1:E1262,consulta!$D$1)","v":0},"ALFONSO ALEXANDER BROWN","A083876610",1,1014.34,null,null,null,null,null,"BALI EXPRESS SERVICES"]
[null,null,null,{"$f":"COUNTIF($E$1:E1263,consulta!$D$1)","v":0},"ALFONSO ALEXANDER BROWN","A083876610",1,2250.2600000000002,null,null,null,null,null,"VICTOR MANUEL AGUILAR MELCHOR"]
[null,null,null,{"$f":"COUNTIF($E$1:E1264,consulta!$D$1)","v":0},"ALFONSO ALEXANDER BROWN","A083876610",1,900.1,null,null,null,null,null,"VICTOR MANUEL DOLORES SARMIENTO"]
[null,null,null,{"$f":"COUNTIF($E$1:E1265,consulta!$D$1)","v":0},"ALFONSO ALEXANDER BROWN","A083876610",1,2250.2600000000002,null,null,null,null,null,"EUNIME POR TIJUANA AC"]
[null,null,null,{"$f":"COUNTIF($E$1:E1266,consulta!$D$1)","v":0},"ALFONSO ALEXANDER BROWN","A083876610",1,900.1,null,null,null,null,null,"JOSE MAGDALENO QUIMI"]
[null,null,null,{"$f":"COUNTIF($E$1:E1267,consulta!$D$1)","v":0},"G M ELECTROMECANICA SA DE CV","A083899110",1,5198.3,null,null,null,null,null,"LUIS MIGUEL GARCIA GIL"]
[null,null,null,{"$f":"COUNTIF($E$1:E1268,consulta!$D$1)","v":0},"G M ELECTROMECANICA SA DE CV","A083899110",1,2079.3200000000002,null,null,null,null,null,"EFRAIN LOAIZA SOTO"]
[null,null,null,{"$f":"COUNTIF($E$1:E1269,consulta!$D$1)","v":0},"G M ELECTROMECANICA SA DE CV","A083899110",1,3118.72,null,null,null,null,null,"STTIC DE MEXICO, S.A. DE C.V."]
[null,null,null,{"$f":"COUNTIF($E$1:E1270,consulta!$D$1)","v":0},"G M ELECTROMECANICA SA DE CV","A083899110",1,1247.48,null,null,null,null,null,"COMERCIALIZADORA EDIFICATE SA DE CV"]
[null,null,null,{"$f":"COUNTIF($E$1:E1271,consulta!$D$1)","v":0},"G M ELECTROMECANICA SA DE CV","A083899110",1,3022.52,null,null,null,null,null,"AMALIA ARACELI SERRANO GARCIA"]
[null,null,null,{"$f":"COUNTIF($E$1:E1272,consulta!$D$1)","v":0},"G M ELECTROMECANICA SA DE CV","A083899110",1,1209,null,null,null,null,null,"RICARDO LARA"]
[null,null,null,{"$f":"COUNTIF($E$1:E1273,consulta!$D$1)","v":0},"JOSE ANTONIO MENDOZA SALAS","A083899210",1,681.57,null,null,null,null,null,"RAMON TAPIA ACOSTA"]
[null,null,null,{"$f":"COUNTIF($E$1:E1274,consulta!$D$1)","v":0},"DANIEL DE LOS REYES DUARTE","A083905910",1,964.32,null,null,null,null,null,"CONSTRUCCIONES LOS POTROS SA DE CV"]
[null,null,null,{"$f":"COUNTIF($E$1:E1275,consulta!$D$1)","v":0},"DANIEL DE LOS REYES DUARTE","A083905910",1,385.72,null,null,null,null,null,"SM ELECTROMECANICOS S DE RL DE CV"]
[null,null,null,{"$f":"COUNTIF($E$1:E1276,consulta!$D$1)","v":0},"PIEDRAS HEADWATERS S DE RL DE CV","A083916210",1,11465.79,null,null,null,null,null,"MAYTE MERCEDES LOPEZ MONTOYA"]
[null,null,null,{"$f":"COUNTIF($E$1:E1277,consulta!$D$1)","v":0},"SIGNIFY ELECTRONICS MEXICO SA DE CV","A083955110",1,1527.54,null,null,null,null,null,"INGENIEROS ELECTROMECANICOS Y ASOCIADOS SA DE CV"]
[null,null,null,{"$f":"COUNTIF($E$1:E1278,consulta!$D$1)","v":0},"SIGNIFY ELECTRONICS MEXICO SA DE CV","A083955110",1,3015.92,null,null,null,null,null,"INMUEBLES MOAC S DE RL DE CV"]
[null,null,null,{"$f":"COUNTIF($E$1:E1279,consulta!$D$1)","v":0},"SIGNIFY ELECTRONICS MEXICO SA DE CV","A083955110",1,1206.3599999999999,null,null,null,null,null,"RICARDO ALBERTO ORTIZ THEN"]
[null,null,null,{"$f":"COUNTIF($E$1:E1280,consulta!$D$1)","v":0},"SIGNIFY ELECTRONICS MEXICO SA DE CV","A083955110",1,611.01,null,null,null,null,null,"ARQCOS DE TIJUANA S DE RL DE CV"]
[null,null,null,{"$f":"COUNTIF($E$1:E1281,consulta!$D$1)","v":0},"MARIA AUXILIO MARTINEZ GARCIA","A083971110",1,1484.78,null,null,null,null,null,"MA. ENRIQUETA ANGELES JARAMILLO"]
[null,null,null,{"$f":"COUNTIF($E$1:E1282,consulta!$D$1)","v":0},"MARIA AUXILIO MARTINEZ GARCIA","A083971110",1,716.29,null,null,null,null,null,"PI#A SILVA VEGA ASESORES Y CONSULTORES SC"]
[null,null,null,{"$f":"COUNTIF($E$1:E1283,consulta!$D$1)","v":0},"MARIA AUXILIO MARTINEZ GARCIA","A083971110",1,1850.42,null,null,null,null,null,"KARLA FLAVIOLA DURON MORENTIN"]
[null,null,null,{"$f":"COUNTIF($E$1:E1284,consulta!$D$1)","v":0},"MARIA AUXILIO MARTINEZ GARCIA","A083971110",1,740.16,null,null,null,null,null,"EVELIO BRIONES GODINEZ"]
[null,null,null,{"$f":"COUNTIF($E$1:E1285,consulta!$D$1)","v":0},"MARIA AUXILIO MARTINEZ GARCIA","A083971110",1,593.91,null,null,null,null,null,"MARIA DE LOS ANGELES MURILLO"]
[null,null,null,{"$f":"COUNTIF($E$1:E1286,consulta!$D$1)","v":0},"YOLANDA TORRES PETROFF","A083971410",1,1509.12,null,null,null,null,null,"GLOBAL TRADE LOGISTICS MEXICO S DE RL DE CV"]
[null,null,null,{"$f":"COUNTIF($E$1:E1287,consulta!$D$1)","v":0},"YOLANDA TORRES PETROFF","A083971410",1,603.64,null,null,null,null,null,"EXPERIENCIAS CULINARIAS SA DE CV"]
[null,null,null,{"$f":"COUNTIF($E$1:E1288,consulta!$D$1)","v":0},"YOLANDA TORRES PETROFF","A083971410",1,1850.42,null,null,null,null,null,"NOE BERNAL SALOMON"]
[null,null,null,{"$f":"COUNTIF($E$1:E1289,consulta!$D$1)","v":0},"YOLANDA TORRES PETROFF","A083971410",1,740.16,null,null,null,null,null,"YESENIA VILLASE#OR YA#EZ"]
[null,null,null,{"$f":"COUNTIF($E$1:E1290,consulta!$D$1)","v":0},"JOSE DE JESUS CUSTODIO JIMENEZ","A083991710",1,742.39,null,null,null,null,null,"CARROCERIA Y PINTURA TRIPLE J.J.J. S DE RL DE CV"]
[null,null,null,{"$f":"COUNTIF($E$1:E1291,consulta!$D$1)","v":0},"JOSE DE JESUS CUSTODIO JIMENEZ","A083991710",1,742.39,null,null,null,null,null,"MARGARITO COTA VALENZUELA"]
[null,null,null,{"$f":"COUNTIF($E$1:E1292,consulta!$D$1)","v":0},"JOSE DE JESUS CUSTODIO JIMENEZ","A083991710",1,296.95,null,null,null,null,null,"SERVICIOS LOGISTICOS KEISER S.A. DE C.V."]
[null,null,null,{"$f":"COUNTIF($E$1:E1293,consulta!$D$1)","v":0},"JOSE DE JESUS CUSTODIO JIMENEZ","A083991710",1,925.21,null,null,null,null,null,"NEPCOMEX S DE RL DE CV"]
[null,null,null,{"$f":"COUNTIF($E$1:E1294,consulta!$D$1)","v":0},"JOSE DE JESUS CUSTODIO JIMENEZ","A083991710",1,370.08,null,null,null,null,null,"CARMELA HERNANDEZ ALVARADO"]
[null,null,null,{"$f":"COUNTIF($E$1:E1295,consulta!$D$1)","v":0},"JOSE DE JESUS CUSTODIO JIMENEZ","A083991710",1,925.21,null,null,null,null,null,"TREND SMART DISPLAY SERVICE MEXICO S DE RL DE CV"]
[null,null,null,{"$f":"COUNTIF($E$1:E1296,consulta!$D$1)","v":0},"JOSE DE JESUS CUSTODIO JIMENEZ","A083991710",1,370.08,null,null,null,null,null,"ROSCO INDUSTRIAL ENGINEERING SA DE CV"]
[null,null,null,{"$f":"COUNTIF($E$1:E1297,consulta!$D$1)","v":0},"JOSE DE JESUS CUSTODIO JIMENEZ","A083991710",1,925.21,null,null,null,null,null,"LEONARDO POMPA TOVAR"]
[null,null,null,{"$f":"COUNTIF($E$1:E1298,consulta!$D$1)","v":0},"JOSE DE JESUS CUSTODIO JIMENEZ","A083991710",1,370.08,null,null,null,null,null,"COMPARTAMOS SERVICIOS SA DE CV"]
[null,null,null,{"$f":"COUNTIF($E$1:E1299,consulta!$D$1)","v":0},"JOSE DE JESUS CUSTODIO JIMENEZ","A083991710",1,296.95,null,null,null,null,null,"GUADALUPE RAMIREZ CONTRERAS"]
[null,null,null,{"$f":"COUNTIF($E$1:E1300,consulta!$D$1)","v":0},"MA KUO WEIXING","A084008710",1,754.56,null,null,null,null,null,"CARLOS SALAZAR SANCHEZ"]
[null,null,null,{"$f":"COUNTIF($E$1:E1301,consulta!$D$1)","v":0},"MA KUO WEIXING","A084008710",1,742.39,null,null,null,null,null,"COOPERATIVA LA JOYA II SC DE RL DE CV"]
[null,null,null,{"$f":"COUNTIF($E$1:E1302,consulta!$D$1)","v":0},"MA KUO WEIXING","A084008710",1,925.21,null,null,null,null,null,"SERVICIOS PARA LA OPTIMIZACION EMPRESARIAL SA DE CV"]
[null,null,null,{"$f":"COUNTIF($E$1:E1303,consulta!$D$1)","v":0},"MA KUO WEIXING","A084008710",1,370.08,null,null,null,null,null,"ELIZABETH DURAN RAMIREZ"]
[null,null,null,{"$f":"COUNTIF($E$1:E1304,consulta!$D$1)","v":0},"MA KUO WEIXING","A084008710",1,296.95,null,null,null,null,null,"MARIA GREGORIA GONZALEZ MORALES"]
[null,null,null,{"$f":"COUNTIF($E$1:E1305,consulta!$D$1)","v":0},"RADIOMOVIL DIPSA SA DE CV","A084014510",1,5026.25,null,null,null,null,null,"SERVICIOS DE DISE#O DE JARDINES S DE RL"]
[null,null,null,{"$f":"COUNTIF($E$1:E1306,consulta!$D$1)","v":0},"RADIOMOVIL DIPSA SA DE CV","A084014510",1,5108.6499999999996,null,null,null,null,null,"CRISTIAN IVAN MACHAIN HERNANDEZ"]
[null,null,null,{"$f":"COUNTIF($E$1:E1307,consulta!$D$1)","v":0},"RADIOMOVIL DIPSA SA DE CV","A084014510",1,2010.5,null,null,null,null,null,"GUILLERMO VELARDE PEREGRINA"]
[null,null,null,{"$f":"COUNTIF($E$1:E1308,consulta!$D$1)","v":0},"RADIOMOVIL DIPSA SA DE CV","A084014510",1,2043.46,null,null,null,null,null,"MARTHA OLIVIA VALDEZ CORONA"]
[null,null,null,{"$f":"COUNTIF($E$1:E1309,consulta!$D$1)","v":0},"RADIOMOVIL DIPSA SA DE CV","A084014510",1,3620.34,null,null,null,null,null,"MARIA BEATRIZ MARISCAL GOVEA"]
[null,null,null,{"$f":"COUNTIF($E$1:E1310,consulta!$D$1)","v":0},"RADIOMOVIL DIPSA SA DE CV","A084014510",1,1448.13,null,null,null,null,null,"GRUPO OPERATIVO EMPRESARIAL SC"]
[null,null,null,{"$f":"COUNTIF($E$1:E1311,consulta!$D$1)","v":0},"RADIOMOVIL DIPSA SA DE CV","A084014510",1,3620.34,null,null,null,null,null,"JOSE LUIS NIEVES VIVAS"]
[null,null,null,{"$f":"COUNTIF($E$1:E1312,consulta!$D$1)","v":0},"RADIOMOVIL DIPSA SA DE CV","A084014510",1,1448.13,null,null,null,null,null,"ASOCIANDO LAS ALIANZAS Y SINERGIAS SC"]
[null,null,null,{"$f":"COUNTIF($E$1:E1313,consulta!$D$1)","v":0},"RADIOMOVIL DIPSA SA DE CV","A084014510",1,3503.55,null,null,null,null,null,"JOSE SAUL GONZALEZ GAMI#O"]
[null,null,null,{"$f":"COUNTIF($E$1:E1314,consulta!$D$1)","v":0},"RADIOMOVIL DIPSA SA DE CV","A084014510",1,1401.42,null,null,null,null,null,"CEVA FREIGHT MANAGEMENT MEXICO SA DE CV"]
[null,null,null,{"$f":"COUNTIF($E$1:E1315,consulta!$D$1)","v":0},"RADIOMOVIL DIPSA SA DE CV","A084014510",1,3503.55,null,null,null,null,null,"MIGUEL GALINDO MONTES"]
[null,null,null,{"$f":"COUNTIF($E$1:E1316,consulta!$D$1)","v":0},"RADIOMOVIL DIPSA SA DE CV","A084014510",1,1401.42,null,null,null,null,null,"JORGE MARTIN MONTOR MERCADO"]
[null,null,null,{"$f":"COUNTIF($E$1:E1317,consulta!$D$1)","v":0},"ISMAEL PESQUEIRA ESCALANTE","A084032110",1,3254.41,null,null,null,null,null,"DES Y ASOCIADOS SC"]
[null,null,null,{"$f":"COUNTIF($E$1:E1318,consulta!$D$1)","v":0},"ISMAEL PESQUEIRA ESCALANTE","A084032110",1,1301.76,null,null,null,null,null,"CENTRO CAMBIARIO EL PORVENIR SA DE CV"]
[null,null,null,{"$f":"COUNTIF($E$1:E1319,consulta!$D$1)","v":0},"ISMAEL PESQUEIRA ESCALANTE","A084032110",1,4240.51,null,null,null,null,null,"HECTOR MANUEL MEZA GOMEZ"]
[null,null,null,{"$f":"COUNTIF($E$1:E1320,consulta!$D$1)","v":0},"ISMAEL PESQUEIRA ESCALANTE","A084032110",1,1696.2,null,null,null,null,null,"ESTRUCTURAS Y MANIOBRAS DEL PACIFICO S DE RL DE CV"]
[null,null,null,{"$f":"COUNTIF($E$1:E1321,consulta!$D$1)","v":0},"ISMAEL PESQUEIRA ESCALANTE","A084032110",1,2567.67,null,null,null,null,null,"ADVANCED ARROW S DE RL DE CV"]
[null,null,null,{"$f":"COUNTIF($E$1:E1322,consulta!$D$1)","v":0},"ISMAEL PESQUEIRA ESCALANTE","A084032110",1,2496.06,null,null,null,null,null,"PAZ ANGELICA RAMIREZ VELAZQUEZ"]
[null,null,null,{"$f":"COUNTIF($E$1:E1323,consulta!$D$1)","v":0},"ISMAEL PESQUEIRA ESCALANTE","A084032110",1,2066.04,null,null,null,null,null,"MARTHA PATRICIA BOBADILLA ALCANTARA"]
[null,null,null,{"$f":"COUNTIF($E$1:E1324,consulta!$D$1)","v":0},"MINERVA BARRAGAN CA#EDO","A084064210",1,765.55,null,null,null,null,null,"JORGE GARCIA DOMINGUEZ"]
[null,null,null,{"$f":"COUNTIF($E$1:E1325,consulta!$D$1)","v":0},"MINERVA BARRAGAN CA#EDO","A084064210",1,765.55,null,null,null,null,null,"SEGURIDAD PRIVADA INTEGRAL Y PREVENTIVA LEONES SA DE CV"]
[null,null,null,{"$f":"COUNTIF($E$1:E1326,consulta!$D$1)","v":0},"MINERVA BARRAGAN CA#EDO","A084064210",1,936.93,null,null,null,null,null,"JOSE LUIS VALLEJO RAYAS"]
[null,null,null,{"$f":"COUNTIF($E$1:E1327,consulta!$D$1)","v":0},"MINERVA BARRAGAN CA#EDO","A084064210",1,374.77,null,null,null,null,null,"DISTRIBUCION PROFESIONAL DE BC SA DE CV"]
[null,null,null,{"$f":"COUNTIF($E$1:E1328,consulta!$D$1)","v":0},"MINERVA BARRAGAN CA#EDO","A084064210",1,306.22000000000003,null,null,null,null,null,"SERVICIOS ADMINISTRATIVOS DE NOMINA SC"]
[null,null,null,{"$f":"COUNTIF($E$1:E1329,consulta!$D$1)","v":0},"MINERVA BARRAGAN CA#EDO","A084064210",1,936.93,null,null,null,null,null,"MARIO ALBERTO LAMAS ALFARO"]
[null,null,null,{"$f":"COUNTIF($E$1:E1330,consulta!$D$1)","v":0},"MINERVA BARRAGAN CA#EDO","A084064210",1,374.77,null,null,null,null,null,"D LA VID SPA HOLISTICO SC"]
[null,null,null,{"$f":"COUNTIF($E$1:E1331,consulta!$D$1)","v":0},"MINERVA BARRAGAN CA#EDO","A084064210",1,306.22000000000003,null,null,null,null,null,"RICARDO RAFAEL RAMIREZ RODRIGUEZ"]
[null,null,null,{"$f":"COUNTIF($E$1:E1332,consulta!$D$1)","v":0},"JESUS ENRIQUE VALDEZ SAUCEDO","A084082710",1,1071.6500000000001,null,null,null,null,null,"CLAUDIA SANCHEZ GUZMAN"]
[null,null,null,{"$f":"COUNTIF($E$1:E1333,consulta!$D$1)","v":0},"JESUS ENRIQUE VALDEZ SAUCEDO","A084082710",1,1054.08,null,null,null,null,null,"PHILIP ANTHONY GAVILA III JEWELL"]
[null,null,null,{"$f":"COUNTIF($E$1:E1334,consulta!$D$1)","v":0},"JESUS ENRIQUE VALDEZ SAUCEDO","A084082710",1,428.66,null,null,null,null,null,"SOLUCIONES INTEGRALES DE RECURSOS HUMANOS S DE RL DE CV"]
[null,null,null,{"$f":"COUNTIF($E$1:E1335,consulta!$D$1)","v":0},"JESUS ENRIQUE VALDEZ SAUCEDO","A084082710",1,1271.2,null,null,null,null,null,"TROPICOS DEL NOROESTE, S.A. DE C.V."]
[null,null,null,{"$f":"COUNTIF($E$1:E1336,consulta!$D$1)","v":0},"JESUS ENRIQUE VALDEZ SAUCEDO","A084082710",1,508.48,null,null,null,null,null,"URBANIZADO Y PAVIMENTACION DE BAJA CALIFORNIA SA DE CV"]
[null,null,null,{"$f":"COUNTIF($E$1:E1337,consulta!$D$1)","v":0},"JESUS ENRIQUE VALDEZ SAUCEDO","A084082710",1,1271.2,null,null,null,null,null,"EJIDO GENERAL FRANCISCO VILLA, A.C."]
[null,null,null,{"$f":"COUNTIF($E$1:E1338,consulta!$D$1)","v":0},"JESUS ENRIQUE VALDEZ SAUCEDO","A084082710",1,421.63,null,null,null,null,null,"JONATHAN RIVERA MORENO"]
[null,null,null,{"$f":"COUNTIF($E$1:E1339,consulta!$D$1)","v":0},"JESUS ENRIQUE VALDEZ SAUCEDO","A084082710",1,508.48,null,null,null,null,null,"JESUS ANTONIO MOLINA AYALA"]
[null,null,null,{"$f":"COUNTIF($E$1:E1340,consulta!$D$1)","v":0},"JESUS ENRIQUE VALDEZ SAUCEDO","A084082710",1,1200.2,null,null,null,null,null,"ASESORES PROFESIONALES UNIVERSALES S DE RL DE CV"]
[null,null,null,{"$f":"COUNTIF($E$1:E1341,consulta!$D$1)","v":0},"JESUS ENRIQUE VALDEZ SAUCEDO","A084082710",1,480.08,null,null,null,null,null,"DAE S DE RL DE CV"]
[null,null,null,{"$f":"COUNTIF($E$1:E1342,consulta!$D$1)","v":0},"JESUS ENRIQUE VALDEZ SAUCEDO","A084082710",1,1196.19,null,null,null,null,null,"MARTIN GILBERTO LOYA LARA"]
[null,null,null,{"$f":"COUNTIF($E$1:E1343,consulta!$D$1)","v":0},"JESUS ENRIQUE VALDEZ SAUCEDO","A084082710",1,478.47,null,null,null,null,null,"JOSE MAX GREENHOUSE GARCIA"]
[null,null,null,{"$f":"COUNTIF($E$1:E1344,consulta!$D$1)","v":0},"ADALBERTO GONZALEZ VARGAS","A084137410",1,2227.17,null,null,null,null,null,"TECHNICAL ASSEMBLY S DE RL DE CV"]
[null,null,null,{"$f":"COUNTIF($E$1:E1345,consulta!$D$1)","v":0},"ADALBERTO GONZALEZ VARGAS","A084137410",1,890.86,null,null,null,null,null,"EXCELENCIA EN AIRE ACONDICIONADO S DE RL DE CV"]
[null,null,null,{"$f":"COUNTIF($E$1:E1346,consulta!$D$1)","v":0},"ADALBERTO GONZALEZ VARGAS","A084137410",1,2775.63,null,null,null,null,null,"PALMIRA ELIZABETH ABUNDIS SILVA"]
[null,null,null,{"$f":"COUNTIF($E$1:E1347,consulta!$D$1)","v":0},"ADALBERTO GONZALEZ VARGAS","A084137410",1,1110.25,null,null,null,null,null,"ANTHONY MICHAEL LEWIS"]
[null,null,null,{"$f":"COUNTIF($E$1:E1348,consulta!$D$1)","v":0},"COLEGIO LA SALLE BAJA CALIFORNIANO AC","A084146910",1,8489.98,null,null,null,null,null,"JOEL CARRASCO SANCHEZ"]
[null,null,null,{"$f":"COUNTIF($E$1:E1349,consulta!$D$1)","v":0},"COLEGIO LA SALLE BAJA CALIFORNIANO AC","A084146910",1,6327.31,null,null,null,null,null,"ASOCIACION DE CONDOMINOS FR ECOINTELIGENTE PLAYAS"]
[null,null,null,{"$f":"COUNTIF($E$1:E1350,consulta!$D$1)","v":0},"COLEGIO LA SALLE BAJA CALIFORNIANO AC","A084146910",1,5491.71,null,null,null,null,null,"ENRIQUE HERNANDEZ CASTILLO"]
[null,null,null,{"$f":"COUNTIF($E$1:E1351,consulta!$D$1)","v":0},"COLEGIO LA SALLE BAJA CALIFORNIANO AC","A084146910",1,3395.99,null,null,null,null,null,"SANDRA LUZ MARQUEZ CORREA"]
[null,null,null,{"$f":"COUNTIF($E$1:E1352,consulta!$D$1)","v":0},"COLEGIO LA SALLE BAJA CALIFORNIANO AC","A084146910",1,10007.530000000001,null,null,null,null,null,"UNIDAD DE SEGURIDAD PRIVADA Y SERVICIOS S DE RL DE CV"]
[null,null,null,{"$f":"COUNTIF($E$1:E1353,consulta!$D$1)","v":0},"COLEGIO LA SALLE BAJA CALIFORNIANO AC","A084146910",1,4003.01,null,null,null,null,null,"PARTS PLUS DE MEXICO SA DE CV"]
[null,null,null,{"$f":"COUNTIF($E$1:E1354,consulta!$D$1)","v":0},"COLEGIO LA SALLE BAJA CALIFORNIANO AC","A084146910",1,2530.92,null,null,null,null,null,"TODO TECNOLOGICO COMERCIAL E INDUSTRIAL, S. DE R.L. DE C.V."]
[null,null,null,{"$f":"COUNTIF($E$1:E1355,consulta!$D$1)","v":0},"COLEGIO LA SALLE BAJA CALIFORNIANO AC","A084146910",1,9868.0499999999993,null,null,null,null,null,"TJ FRAMES & MOLDINGS SA DE CV"]
[null,null,null,{"$f":"COUNTIF($E$1:E1356,consulta!$D$1)","v":0},"COLEGIO LA SALLE BAJA CALIFORNIANO AC","A084146910",1,3947.22,null,null,null,null,null,"BIO REGENERADORA DE BAJA CALIFORNIA SA DE CV"]
[null,null,null,{"$f":"COUNTIF($E$1:E1357,consulta!$D$1)","v":0},"COLEGIO LA SALLE BAJA CALIFORNIANO AC","A084146910",1,6625.77,null,null,null,null,null,"METALUSA SA DE CV"]
[null,null,null,{"$f":"COUNTIF($E$1:E1358,consulta!$D$1)","v":0},"COLEGIO LA SALLE BAJA CALIFORNIANO AC","A084146910",1,2650.3,null,null,null,null,null,"JOEL JASSO MORALES"]
[null,null,null,{"$f":"COUNTIF($E$1:E1359,consulta!$D$1)","v":0},"COLEGIO LA SALLE BAJA CALIFORNIANO AC","A084146910",1,6625.77,null,null,null,null,null,"ADITIVA SA DE CV"]
[null,null,null,{"$f":"COUNTIF($E$1:E1360,consulta!$D$1)","v":0},"COLEGIO LA SALLE BAJA CALIFORNIANO AC","A084146910",1,2650.3,null,null,null,null,null,"GRUPO GUSLA RH SA DE CV"]
[null,null,null,{"$f":"COUNTIF($E$1:E1361,consulta!$D$1)","v":0},"COLEGIO LA SALLE BAJA CALIFORNIANO AC","A084146910",1,2196.6799999999998,null,null,null,null,null,"ADRIANA RAMIREZ OROPEZA"]
[null,null,null,{"$f":"COUNTIF($E$1:E1362,consulta!$D$1)","v":0},"JUAN MARTIN RAMIREZ AMES","A084151210",1,4752.8,null,null,null,null,null,"RECREACION CON ENTRETENIMIENTO SA DE CV"]
[null,null,null,{"$f":"COUNTIF($E$1:E1363,consulta!$D$1)","v":0},"JUAN MARTIN RAMIREZ AMES","A084151210",1,1901.12,null,null,null,null,null,"MARIA ISABEL LANDIN GARCIA"]
[null,null,null,{"$f":"COUNTIF($E$1:E1364,consulta!$D$1)","v":0},"OSCAR VALLE VIRGEN","A084170010",1,2181.8200000000002,null,null,null,null,null,"STAR CLINIC DE MEXICO, S. DE R.L."]
[null,null,null,{"$f":"COUNTIF($E$1:E1365,consulta!$D$1)","v":0},"OSCAR VALLE VIRGEN","A084170010",1,1805.37,null,null,null,null,null,"MARTIN LOPEZ CASTRO"]
[null,null,null,{"$f":"COUNTIF($E$1:E1366,consulta!$D$1)","v":0},"OSCAR VALLE VIRGEN","A084170010",1,722.14,null,null,null,null,null,"JOSE ALFREDO DIAZ SAAIB"]
[null,null,null,{"$f":"COUNTIF($E$1:E1367,consulta!$D$1)","v":0},"OSCAR VALLE VIRGEN","A084170010",1,872.72,null,null,null,null,null,"JARDINERIA INTEGRAL Y DE RIEGO SA DE CV"]
[null,null,null,{"$f":"COUNTIF($E$1:E1368,consulta!$D$1)","v":0},"AVAILMED SA DE CV","A084174810",1,6878.95,null,null,null,null,null,"GRACIELA RUIZ CORONA"]
[null,null,null,{"$f":"COUNTIF($E$1:E1369,consulta!$D$1)","v":0},"AVAILMED SA DE CV","A084174810",1,2751.58,null,null,null,null,null,"ALBERTO MARQUEZ VIRUETE"]
[null,null,null,{"$f":"COUNTIF($E$1:E1370,consulta!$D$1)","v":0},"DANIEL ANTONIO ARMENDARIZ BELTRAN","A084175710",1,754.56,null,null,null,null,null,"LOYES INGENIERIA S DE RL DE CV"]
[null,null,null,{"$f":"COUNTIF($E$1:E1371,consulta!$D$1)","v":0},"DANIEL ANTONIO ARMENDARIZ BELTRAN","A084175710",1,742.39,null,null,null,null,null,"AWA INGENIERIA SA DE CV"]
[null,null,null,{"$f":"COUNTIF($E$1:E1372,consulta!$D$1)","v":0},"DANIEL ANTONIO ARMENDARIZ BELTRAN","A084175710",1,742.39,null,null,null,null,null,"JCB CONSTRUCCIONES SA DE CV"]
[null,null,null,{"$f":"COUNTIF($E$1:E1373,consulta!$D$1)","v":0},"DANIEL ANTONIO ARMENDARIZ BELTRAN","A084175710",1,301.82,null,null,null,null,null,"GRUPO CORAMICH S DE RL DE CV"]
[null,null,null,{"$f":"COUNTIF($E$1:E1374,consulta!$D$1)","v":0},"DANIEL ANTONIO ARMENDARIZ BELTRAN","A084175710",1,296.95,null,null,null,null,null,"PLASMA DISE#O DE STANDS S DE RL DE CV"]
[null,null,null,{"$f":"COUNTIF($E$1:E1375,consulta!$D$1)","v":0},"DANIEL ANTONIO ARMENDARIZ BELTRAN","A084175710",1,925.21,null,null,null,null,null,"DORA CONCEPCION LAFARGA BARRON"]
[null,null,null,{"$f":"COUNTIF($E$1:E1376,consulta!$D$1)","v":0},"DANIEL ANTONIO ARMENDARIZ BELTRAN","A084175710",1,370.08,null,null,null,null,null,"SABERHACER S DE RL DE CV"]
[null,null,null,{"$f":"COUNTIF($E$1:E1377,consulta!$D$1)","v":0},"DANIEL ANTONIO ARMENDARIZ BELTRAN","A084175710",1,895.37,null,null,null,null,null,"ADAN BELLO RUVALCABA"]
[null,null,null,{"$f":"COUNTIF($E$1:E1378,consulta!$D$1)","v":0},"DANIEL ANTONIO ARMENDARIZ BELTRAN","A084175710",1,358.14,null,null,null,null,null,"JULIO GURROLA RODRIGUEZ"]
[null,null,null,{"$f":"COUNTIF($E$1:E1379,consulta!$D$1)","v":0},"DANIEL ANTONIO ARMENDARIZ BELTRAN","A084175710",1,925.21,null,null,null,null,null,"JOSE MARIA VEGA SOTOMAYOR"]
[null,null,null,{"$f":"COUNTIF($E$1:E1380,consulta!$D$1)","v":0},"DANIEL ANTONIO ARMENDARIZ BELTRAN","A084175710",1,370.08,null,null,null,null,null,"S Q I CONSULTORES AMBIENTALES, S.C."]
[null,null,null,{"$f":"COUNTIF($E$1:E1381,consulta!$D$1)","v":0},"DANIEL ANTONIO ARMENDARIZ BELTRAN","A084175710",1,925.21,null,null,null,null,null,"J COSME BECERRA RANGEL"]
[null,null,null,{"$f":"COUNTIF($E$1:E1382,consulta!$D$1)","v":0},"DANIEL ANTONIO ARMENDARIZ BELTRAN","A084175710",1,370.08,null,null,null,null,null,"BALEROS Y CADENAS BENTON S DE RL DE CV"]
[null,null,null,{"$f":"COUNTIF($E$1:E1383,consulta!$D$1)","v":0},"DANIEL ANTONIO ARMENDARIZ BELTRAN","A084175710",1,296.95,null,null,null,null,null,"AMERICA NALLELY LOREDO GARCIA"]
[null,null,null,{"$f":"COUNTIF($E$1:E1384,consulta!$D$1)","v":0},"GERARDO WILFRIDO TRUJILLO BARRAZA","A084177610",1,522.51,null,null,null,null,null,"SANTA MAURA MEXICO S A P I DE CV"]
[null,null,null,{"$f":"COUNTIF($E$1:E1385,consulta!$D$1)","v":0},"GERARDO WILFRIDO TRUJILLO BARRAZA","A084177610",1,371.16,null,null,null,null,null,"MAQUILA DIE CUTS & SLITTING DE MEXICO SA DE CV"]
[null,null,null,{"$f":"COUNTIF($E$1:E1386,consulta!$D$1)","v":0},"CHRISTIAN TRULIN TORRES","A084236310",1,370.9,null,null,null,null,null,"JAES S DE RL DE CV"]
[null,null,null,{"$f":"COUNTIF($E$1:E1387,consulta!$D$1)","v":0},"CHRISTIAN TRULIN TORRES","A084236310",1,298.56,null,null,null,null,null,"CARLOS TORRES NAVEJAS"]
[null,null,null,{"$f":"COUNTIF($E$1:E1388,consulta!$D$1)","v":0},"JOSE CARLOS BRIBIESCA FERRON","A084238810",1,2604.59,null,null,null,null,null,"ORLANDO CASTILLO LINO"]
[null,null,null,{"$f":"COUNTIF($E$1:E1389,consulta!$D$1)","v":0},"JOSE CARLOS BRIBIESCA FERRON","A084238810",1,2520.6999999999998,null,null,null,null,null,"IRIS RUVALCABA MEJIA"]
[null,null,null,{"$f":"COUNTIF($E$1:E1390,consulta!$D$1)","v":0},"JOSE CARLOS BRIBIESCA FERRON","A084238810",1,2604.71,null,null,null,null,null,"INTRANSPORT SERVICES MX SA DE CV"]
[null,null,null,{"$f":"COUNTIF($E$1:E1391,consulta!$D$1)","v":0},"JOSE CARLOS BRIBIESCA FERRON","A084238810",1,2106.62,null,null,null,null,null,"MARIA DEL CARMEN MARTINEZ BARRERA"]
[null,null,null,{"$f":"COUNTIF($E$1:E1392,consulta!$D$1)","v":0},"MARIELA FRANCO GARCIA","A084257110",1,985.74,null,null,null,null,null,"LUZ DEL CARMEN REYES SALDA#A"]
[null,null,null,{"$f":"COUNTIF($E$1:E1393,consulta!$D$1)","v":0},"MARIELA FRANCO GARCIA","A084257110",1,1024.7,null,null,null,null,null,"FOTOMUNDO DIGITAL S DE RL DE CV"]
[null,null,null,{"$f":"COUNTIF($E$1:E1394,consulta!$D$1)","v":0},"LUIS ALFONSO MENDEZ TAMAYO","A084302910",1,370.08,null,null,null,null,null,"FELIPE SAUCEDA JIMENEZ"]
[null,null,null,{"$f":"COUNTIF($E$1:E1395,consulta!$D$1)","v":0},"LUIS ALFONSO MENDEZ TAMAYO","A084302910",1,296.95,null,null,null,null,null,"MIGUEL ALBERTO ARCE HERNANDEZ"]
[null,null,null,{"$f":"COUNTIF($E$1:E1396,consulta!$D$1)","v":0},"JUAN JOSE PARCERO VALDES","A084316010",1,2700.01,null,null,null,null,null,"LICEOS DEL NOROESTE AC"]
[null,null,null,{"$f":"COUNTIF($E$1:E1397,consulta!$D$1)","v":0},"JUAN JOSE PARCERO VALDES","A084316010",1,1080,null,null,null,null,null,"DISTRIBUIDORA LA RANCHERA SA DE CV"]
[null,null,null,{"$f":"COUNTIF($E$1:E1398,consulta!$D$1)","v":0},"JUAN JOSE PARCERO VALDES","A084316010",1,3014.97,null,null,null,null,null,"EZEQUIEL SANCHEZ MACIAS"]
[null,null,null,{"$f":"COUNTIF($E$1:E1399,consulta!$D$1)","v":0},"JUAN JOSE PARCERO VALDES","A084316010",1,1205.98,null,null,null,null,null,"EQUIPOS E INSTALACIONES INDUSTRIALES PARA LA CONSTRUCCION SA DE CV"]
[null,null,null,{"$f":"COUNTIF($E$1:E1400,consulta!$D$1)","v":0},"ENRIQUE GONZALEZ ALCAZAR","A084318310",1,716.29,null,null,null,null,null,"LETICIA CAMARENA DURAN"]
[null,null,null,{"$f":"COUNTIF($E$1:E1401,consulta!$D$1)","v":0},"TRACTOPARTES Y SERVICIOS DIESEL CORONA SA DE CV","A084325110",1,596.64,null,null,null,null,null,"PROMOTORA TLACAELEL SA DE CV"]
[null,null,null,{"$f":"COUNTIF($E$1:E1402,consulta!$D$1)","v":0},"TRACTOPARTES Y SERVICIOS DIESEL CORONA SA DE CV","A084325110",1,741.54,null,null,null,null,null,"VANESA ADRIANA CHAVEZ VEGA"]
[null,null,null,{"$f":"COUNTIF($E$1:E1403,consulta!$D$1)","v":0},"TRACTOPARTES Y SERVICIOS DIESEL CORONA SA DE CV","A084325110",1,717.63,null,null,null,null,null,"LEYDOM CONSTRUCCIONES SC"]
[null,null,null,{"$f":"COUNTIF($E$1:E1404,consulta!$D$1)","v":0},"TRACTOPARTES Y SERVICIOS DIESEL CORONA SA DE CV","A084325110",1,741.54,null,null,null,null,null,"TEXTILES GAEL S DE RL DE CV"]
[null,null,null,{"$f":"COUNTIF($E$1:E1405,consulta!$D$1)","v":0},"TRACTOPARTES Y SERVICIOS DIESEL CORONA SA DE CV","A084325110",1,596.64,null,null,null,null,null,"ANA GABRIELA HERNANDEZ AMAYA"]
[null,null,null,{"$f":"COUNTIF($E$1:E1406,consulta!$D$1)","v":0},"ALICIA ELIZABETH MERAZ OCHOA","A084353610",1,963.13,null,null,null,null,null,"MA TRINIDAD RAMIREZ RAMOS"]
[null,null,null,{"$f":"COUNTIF($E$1:E1407,consulta!$D$1)","v":0},"ALICIA ELIZABETH MERAZ OCHOA","A084353610",1,385.25,null,null,null,null,null,"GRUPO ANGUS BEEF S DE RL DE CV"]
[null,null,null,{"$f":"COUNTIF($E$1:E1408,consulta!$D$1)","v":0},"ALICIA ELIZABETH MERAZ OCHOA","A084353610",1,963.13,null,null,null,null,null,"ALFREDO VALDIVIA RAMOS"]
[null,null,null,{"$f":"COUNTIF($E$1:E1409,consulta!$D$1)","v":0},"ALICIA ELIZABETH MERAZ OCHOA","A084353610",1,385.25,null,null,null,null,null,"AGENCIA ADUANAL SORIANO Y ASOCIADOS SC"]
[null,null,null,{"$f":"COUNTIF($E$1:E1410,consulta!$D$1)","v":0},"RAUL CASTILLO ORTIZ","A084357310",1,429.2,null,null,null,null,null,"AGUSTIN JAIME LUNA ROMERO"]
[null,null,null,{"$f":"COUNTIF($E$1:E1411,consulta!$D$1)","v":0},"RAUL CASTILLO ORTIZ","A084357310",1,443.14,null,null,null,null,null,"SERVINGE S. DE R.L. DE C.V."]
[null,null,null,{"$f":"COUNTIF($E$1:E1412,consulta!$D$1)","v":0},"ANUNCIO E IMAGEN DE B.C. SA DE CV","A084363910",1,16744.060000000001,null,null,null,null,null,"TJ COMUNICACIONES SA DE CV"]
[null,null,null,{"$f":"COUNTIF($E$1:E1413,consulta!$D$1)","v":0},"ANUNCIO E IMAGEN DE B.C. SA DE CV","A084363910",1,6697.62,null,null,null,null,null,"TELEVISORA FRONTERIZA SA DE CV"]
[null,null,null,{"$f":"COUNTIF($E$1:E1414,consulta!$D$1)","v":0},"ANUNCIO E IMAGEN DE B.C. SA DE CV","A084363910",1,7314.43,null,null,null,null,null,"TELE-DATA TIJUANA SA DE CV"]
[null,null,null,{"$f":"COUNTIF($E$1:E1415,consulta!$D$1)","v":0},"ROBERTO BUENDIA SOSA","A084364210",1,742.39,null,null,null,null,null,"FELIPE OMAR AGUILAR ESTRADA"]
[null,null,null,{"$f":"COUNTIF($E$1:E1416,consulta!$D$1)","v":0},"ROBERTO BUENDIA SOSA","A084364210",1,742.39,null,null,null,null,null,"JESUCRISTO GARZA AMADO"]
[null,null,null,{"$f":"COUNTIF($E$1:E1417,consulta!$D$1)","v":0},"ROBERTO BUENDIA SOSA","A084364210",1,296.95,null,null,null,null,null,"ENRIQUE ALBERTO GUIRADO GARCIA"]
[null,null,null,{"$f":"COUNTIF($E$1:E1418,consulta!$D$1)","v":0},"ROBERTO BUENDIA SOSA","A084364210",1,925.21,null,null,null,null,null,"ELITE BY CARGA SA DE CV"]
[null,null,null,{"$f":"COUNTIF($E$1:E1419,consulta!$D$1)","v":0},"ROBERTO BUENDIA SOSA","A084364210",1,370.08,null,null,null,null,null,"JAVIER ALVAREZ ZURITA"]
[null,null,null,{"$f":"COUNTIF($E$1:E1420,consulta!$D$1)","v":0},"ROBERTO BUENDIA SOSA","A084364210",1,925.21,null,null,null,null,null,"HECTOR HIRAM CENTENO MARTIN"]
[null,null,null,{"$f":"COUNTIF($E$1:E1421,consulta!$D$1)","v":0},"ROBERTO BUENDIA SOSA","A084364210",1,370.08,null,null,null,null,null,"JOAQUIN EMILIO DOMINGUEZ FUENTES"]
[null,null,null,{"$f":"COUNTIF($E$1:E1422,consulta!$D$1)","v":0},"ROBERTO BUENDIA SOSA","A084364210",1,296.95,null,null,null,null,null,"DESARROLLO INTEGRAL DE MAQUINARIA SA DE CV"]
[null,null,null,{"$f":"COUNTIF($E$1:E1423,consulta!$D$1)","v":0},"HECTOR ZARATE PAREDES","A084371910",1,1577.63,null,null,null,null,null,"G-GLOBAL SA DE CV"]
[null,null,null,{"$f":"COUNTIF($E$1:E1424,consulta!$D$1)","v":0},"HECTOR ZARATE PAREDES","A084371910",1,631.04999999999995,null,null,null,null,null,"AIRES DE TIJUANA SA DE CV"]
[null,null,null,{"$f":"COUNTIF($E$1:E1425,consulta!$D$1)","v":0},"TOOGINO S PIZZA SA DE CV","A084376210",1,78204.22,null,null,null,null,null,"ADVANCE HEALTH MEDICAL CENTER SA DE CV"]
[null,null,null,{"$f":"COUNTIF($E$1:E1426,consulta!$D$1)","v":0},"TOOGINO S PIZZA SA DE CV","A084376210",1,129596.66,null,null,null,null,null,"ROSA MARIA JIMENEZ SICAEROS"]
[null,null,null,{"$f":"COUNTIF($E$1:E1427,consulta!$D$1)","v":0},"TOOGINO S PIZZA SA DE CV","A084376210",1,51838.66,null,null,null,null,null,"JEM PLASTICS SA DE CV"]
[null,null,null,{"$f":"COUNTIF($E$1:E1428,consulta!$D$1)","v":0},"TOOGINO S PIZZA SA DE CV","A084376210",1,31281.68,null,null,null,null,null,"RICARDO ARTURO RAYA MORALES"]
[null,null,null,{"$f":"COUNTIF($E$1:E1429,consulta!$D$1)","v":0},"JORGE ENRIQUE ASTIAZARAN ORCI","A084401410",1,2157.96,null,null,null,null,null,"SOLUCIONES EXPRESS SA DE CV"]
[null,null,null,{"$f":"COUNTIF($E$1:E1430,consulta!$D$1)","v":0},"JORGE ENRIQUE ASTIAZARAN ORCI","A084401410",1,863.18,null,null,null,null,null,"EDGAR REYES PADILLA"]
[null,null,null,{"$f":"COUNTIF($E$1:E1431,consulta!$D$1)","v":0},"IMPERIAL TOY DE MEXICO S DE RL DE CV","A084423110",2,504598.42,null,null,null,null,null,"LUIS MANUEL AMEZQUITA DURAN"]
[null,null,null,{"$f":"COUNTIF($E$1:E1432,consulta!$D$1)","v":0},"IMPERIAL TOY DE MEXICO S DE RL DE CV","A084423110",1,504598.42,null,null,null,null,null,"ANA BRENDA GONZALEZ HERNANDEZ"]
[null,null,null,{"$f":"COUNTIF($E$1:E1433,consulta!$D$1)","v":0},"IMPERIAL TOY DE MEXICO S DE RL DE CV","A084423110",2,201839.35999999999,null,null,null,null,null,"VALUCENA DEL NORTE S DE RL DE CV"]
[null,null,null,{"$f":"COUNTIF($E$1:E1434,consulta!$D$1)","v":0},"IMPERIAL TOY DE MEXICO S DE RL DE CV","A084423110",1,529756.62,null,null,null,null,null,"RAFAEL GARCIA ARCE"]
[null,null,null,{"$f":"COUNTIF($E$1:E1435,consulta!$D$1)","v":0},"IMPERIAL TOY DE MEXICO S DE RL DE CV","A084423110",1,211902.64,null,null,null,null,null,"SAUL MAGDALENO PALENCIA"]
[null,null,null,{"$f":"COUNTIF($E$1:E1436,consulta!$D$1)","v":0},"IMPERIAL TOY DE MEXICO S DE RL DE CV","A084423110",1,512669.44,null,null,null,null,null,"BIG SERVICES S DE RL DE CV"]
[null,null,null,{"$f":"COUNTIF($E$1:E1437,consulta!$D$1)","v":0},"IMPERIAL TOY DE MEXICO S DE RL DE CV","A084423110",1,205067.77,null,null,null,null,null,"MANUFACTURA DE EMPAQUE PENINSULAR S DE RL DE CV"]
[null,null,null,{"$f":"COUNTIF($E$1:E1438,consulta!$D$1)","v":0},"IMPERIAL TOY DE MEXICO S DE RL DE CV","A084423110",1,529756.62,null,null,null,null,null,"ISRAEL AYALA VELOZ"]
[null,null,null,{"$f":"COUNTIF($E$1:E1439,consulta!$D$1)","v":0},"IMPERIAL TOY DE MEXICO S DE RL DE CV","A084423110",1,211902.64,null,null,null,null,null,"JOSE ROBERTO GONZALEZ MEDINA"]
[null,null,null,{"$f":"COUNTIF($E$1:E1440,consulta!$D$1)","v":0},"IMPERIAL TOY DE MEXICO S DE RL DE CV","A084423110",1,201839.35999999999,null,null,null,null,null,"PERSONNEL ASIST S DE RL DE CV"]
[null,null,null,{"$f":"COUNTIF($E$1:E1441,consulta!$D$1)","v":0},"MAM DE LA FRONTERA SA DE CV","A084429810",1,3762.38,null,null,null,null,null,"SAMIL FOAM DE MEXICO SA DE CV"]
[null,null,null,{"$f":"COUNTIF($E$1:E1442,consulta!$D$1)","v":0},"MAM DE LA FRONTERA SA DE CV","A084429810",1,3100.94,null,null,null,null,null,"CGS ARQUITECTURA SA DE CV"]
[null,null,null,{"$f":"COUNTIF($E$1:E1443,consulta!$D$1)","v":0},"MAM DE LA FRONTERA SA DE CV","A084429810",1,5084.22,null,null,null,null,null,"ARH RIVERO & ASSOCIATES SC"]
[null,null,null,{"$f":"COUNTIF($E$1:E1444,consulta!$D$1)","v":0},"MAM DE LA FRONTERA SA DE CV","A084429810",1,2033.68,null,null,null,null,null,"MARCO ANTONIO PERALTA VIRUETE"]
[null,null,null,{"$f":"COUNTIF($E$1:E1445,consulta!$D$1)","v":0},"MAM DE LA FRONTERA SA DE CV","A084429810",1,1504.95,null,null,null,null,null,"FROYLAN AGUILAR CASTRO"]
[null,null,null,{"$f":"COUNTIF($E$1:E1446,consulta!$D$1)","v":0},"MAM DE LA FRONTERA SA DE CV","A084429810",1,2134.6,null,null,null,null,null,"SERVANDO GABRIEL VAZQUEZ CARRILLO"]
[null,null,null,{"$f":"COUNTIF($E$1:E1447,consulta!$D$1)","v":0},"MAM DE LA FRONTERA SA DE CV","A084429810",1,853.84,null,null,null,null,null,"NOE GASTELUM INZUNZA"]
[null,null,null,{"$f":"COUNTIF($E$1:E1448,consulta!$D$1)","v":0},"MAM DE LA FRONTERA SA DE CV","A084429810",1,1926.27,null,null,null,null,null,"GS MEX SA DE CV"]
[null,null,null,{"$f":"COUNTIF($E$1:E1449,consulta!$D$1)","v":0},"MAM DE LA FRONTERA SA DE CV","A084429810",1,6014.3,null,null,null,null,null,"CHRISTIAN MANUEL BRAVO BRAVO"]
[null,null,null,{"$f":"COUNTIF($E$1:E1450,consulta!$D$1)","v":0},"MAM DE LA FRONTERA SA DE CV","A084429810",1,2405.7199999999998,null,null,null,null,null,"JOSAFAT GARCIA QUINTERO"]
[null,null,null,{"$f":"COUNTIF($E$1:E1451,consulta!$D$1)","v":0},"MAM DE LA FRONTERA SA DE CV","A084429810",1,2626.64,null,null,null,null,null,"KMA SURTIDORA INDUSTRIAL SA DE CV"]
[null,null,null,{"$f":"COUNTIF($E$1:E1452,consulta!$D$1)","v":0},"MAM DE LA FRONTERA SA DE CV","A084429810",1,1050.6500000000001,null,null,null,null,null,"TIE TAX CONSULTORES SC"]
[null,null,null,{"$f":"COUNTIF($E$1:E1453,consulta!$D$1)","v":0},"MAM DE LA FRONTERA SA DE CV","A084429810",1,4237.12,null,null,null,null,null,"ANDREA JOHANA MERECIAS LOPEZ"]
[null,null,null,{"$f":"COUNTIF($E$1:E1454,consulta!$D$1)","v":0},"MAM DE LA FRONTERA SA DE CV","A084429810",1,1694.84,null,null,null,null,null,"SERGIO MARCHEN BARRAZA"]
[null,null,null,{"$f":"COUNTIF($E$1:E1455,consulta!$D$1)","v":0},"MAM DE LA FRONTERA SA DE CV","A084429810",1,1240.3699999999999,null,null,null,null,null,"JIACHAO LI"]
[null,null,null,{"$f":"COUNTIF($E$1:E1456,consulta!$D$1)","v":0},"GILBERTO TIRADO ANGULO","A084505910",1,3819.47,null,null,null,null,null,"SAM DENTAL SC"]
[null,null,null,{"$f":"COUNTIF($E$1:E1457,consulta!$D$1)","v":0},"GILBERTO TIRADO ANGULO","A084505910",1,2691.13,null,null,null,null,null,"ADAN GUILLEN AVENDA#O"]
[null,null,null,{"$f":"COUNTIF($E$1:E1458,consulta!$D$1)","v":0},"UGCOM, S.A. DE C.V.","A084507110",1,116553.93,null,null,null,null,null,"TRANSPORTES Y LOGISTICA BINACIONAL SA DE CV"]
[null,null,null,{"$f":"COUNTIF($E$1:E1459,consulta!$D$1)","v":0},"UGCOM, S.A. DE C.V.","A084507110",1,109691.69,null,null,null,null,null,"NOEMI RUBISEL QUINTERO CARRILLO"]
[null,null,null,{"$f":"COUNTIF($E$1:E1460,consulta!$D$1)","v":0},"UGCOM, S.A. DE C.V.","A084507110",1,43876.67,null,null,null,null,null,"DAVID LOPEZ VENTURA"]
[null,null,null,{"$f":"COUNTIF($E$1:E1461,consulta!$D$1)","v":0},"UGCOM, S.A. DE C.V.","A084507110",1,46621.57,null,null,null,null,null,"YISI LIANG"]
[null,null,null,{"$f":"COUNTIF($E$1:E1462,consulta!$D$1)","v":0},"THOMAS HENRY GOLDING","A084558610",1,7598.03,null,null,null,null,null,"BERRY ARQUITECTOS ASOCIADOS S DE RL DE CV"]
[null,null,null,{"$f":"COUNTIF($E$1:E1463,consulta!$D$1)","v":0},"THOMAS HENRY GOLDING","A084558610",1,7412.1,null,null,null,null,null,"BAS ADMINISTRACION SC"]
[null,null,null,{"$f":"COUNTIF($E$1:E1464,consulta!$D$1)","v":0},"THOMAS HENRY GOLDING","A084558610",1,2964.84,null,null,null,null,null,"CONSORCIO DESARROLLADOR DEL NORTE SA DE CV"]
[null,null,null,{"$f":"COUNTIF($E$1:E1465,consulta!$D$1)","v":0},"THOMAS HENRY GOLDING","A084558610",1,3039.21,null,null,null,null,null,"INZI DISPLAY MEXICO SA DE CV"]
[null,null,null,{"$f":"COUNTIF($E$1:E1466,consulta!$D$1)","v":0},"LEANDRO LOZANO RODRIGUEZ","A084644010",1,1494.5,null,null,null,null,null,"PABLO PARTIDA ROJAS"]
[null,null,null,{"$f":"COUNTIF($E$1:E1467,consulta!$D$1)","v":0},"LEANDRO LOZANO RODRIGUEZ","A084644010",1,1494.5,null,null,null,null,null,"SUBURBUS SA DE CV"]
[null,null,null,{"$f":"COUNTIF($E$1:E1468,consulta!$D$1)","v":0},"LEANDRO LOZANO RODRIGUEZ","A084644010",1,597.79999999999995,null,null,null,null,null,"CARINA ELIZABETH AGUAYO GUTIERREZ"]
[null,null,null,{"$f":"COUNTIF($E$1:E1469,consulta!$D$1)","v":0},"LEANDRO LOZANO RODRIGUEZ","A084644010",1,1855.35,null,null,null,null,null,"EVA MARIA GUERRERO BAEZ"]
[null,null,null,{"$f":"COUNTIF($E$1:E1470,consulta!$D$1)","v":0},"LEANDRO LOZANO RODRIGUEZ","A084644010",1,742.14,null,null,null,null,null,"FLOR ANGELI MADRIGAL COSSIO"]
[null,null,null,{"$f":"COUNTIF($E$1:E1471,consulta!$D$1)","v":0},"LEANDRO LOZANO RODRIGUEZ","A084644010",1,718.19,null,null,null,null,null,"MANUEL GRANADOS ALEJANDRE"]
[null,null,null,{"$f":"COUNTIF($E$1:E1472,consulta!$D$1)","v":0},"LEANDRO LOZANO RODRIGUEZ","A084644010",1,1855.35,null,null,null,null,null,"SERVIPACK EXPRESS SA DE CV"]
[null,null,null,{"$f":"COUNTIF($E$1:E1473,consulta!$D$1)","v":0},"LEANDRO LOZANO RODRIGUEZ","A084644010",1,742.14,null,null,null,null,null,"T-SHIRTS DE CALIDAD SA DE CV"]
[null,null,null,{"$f":"COUNTIF($E$1:E1474,consulta!$D$1)","v":0},"LEANDRO LOZANO RODRIGUEZ","A084644010",1,597.79999999999995,null,null,null,null,null,"BARDOMIANO COTA GOMEZ"]
[null,null,null,{"$f":"COUNTIF($E$1:E1475,consulta!$D$1)","v":0},"RAMON REYNOSO GTEZ","A084651010",1,1187.82,null,null,null,null,null,"COORDINACION EMPRESARIAL INTEGRAL S DE RL DE CV"]
[null,null,null,{"$f":"COUNTIF($E$1:E1476,consulta!$D$1)","v":0},"RAMON REYNOSO GTEZ","A084651010",1,1682.2,null,null,null,null,null,"GUADALUPE DEL ROCIO BELTRAN ESQUER"]
[null,null,null,{"$f":"COUNTIF($E$1:E1477,consulta!$D$1)","v":0},"RAMON REYNOSO GTEZ","A084651010",1,1627.95,null,null,null,null,null,"JAVIER GRACIANO CONTRERAS"]
[null,null,null,{"$f":"COUNTIF($E$1:E1478,consulta!$D$1)","v":0},"RAMON REYNOSO GTEZ","A084651010",1,1682.2,null,null,null,null,null,"GABRIEL ALBERTO REYES AGUILAR"]
[null,null,null,{"$f":"COUNTIF($E$1:E1479,consulta!$D$1)","v":0},"RAMON REYNOSO GTEZ","A084651010",1,1187.82,null,null,null,null,null,"JOSE ALBERTO RODRIGUEZ DOMINGUEZ"]
[null,null,null,{"$f":"COUNTIF($E$1:E1480,consulta!$D$1)","v":0},"LOURDES GUADALUPE ORTIZ BANDA","A084651410",1,1058.82,null,null,null,null,null,"DESARROLLADORA Y CONSTRUCTORA DEL NORTE S A P I DE CV"]
[null,null,null,{"$f":"COUNTIF($E$1:E1481,consulta!$D$1)","v":0},"LOURDES GUADALUPE ORTIZ BANDA","A084651410",1,423.52,null,null,null,null,null,"MARIA CATALINA TONELLA RODRIGUEZ"]
[null,null,null,{"$f":"COUNTIF($E$1:E1482,consulta!$D$1)","v":0},"LOURDES GUADALUPE ORTIZ BANDA","A084651410",1,1701.2,null,null,null,null,null,"TYJ INGENIERIA SC"]
[null,null,null,{"$f":"COUNTIF($E$1:E1483,consulta!$D$1)","v":0},"LOURDES GUADALUPE ORTIZ BANDA","A084651410",1,680.48,null,null,null,null,null,"JUAN RAMON OSUNA CARRANZA"]
[null,null,null,{"$f":"COUNTIF($E$1:E1484,consulta!$D$1)","v":0},"OPERACIONES DE CLASE MUNDIAL SA DE CV","A084664110",1,18631.57,null,null,null,null,null,"SYCAA S DE RL DE CV"]
[null,null,null,{"$f":"COUNTIF($E$1:E1485,consulta!$D$1)","v":0},"OPERACIONES DE CLASE MUNDIAL SA DE CV","A084664110",1,7452.62,null,null,null,null,null,"PAFER FOODS & BEVERAGES S DE RL DE CV"]
[null,null,null,{"$f":"COUNTIF($E$1:E1486,consulta!$D$1)","v":0},"OPERACIONES DE CLASE MUNDIAL SA DE CV","A084664110",1,35367.800000000003,null,null,null,null,null,"DIN AVALUOS SA DE CV"]
[null,null,null,{"$f":"COUNTIF($E$1:E1487,consulta!$D$1)","v":0},"OPERACIONES DE CLASE MUNDIAL SA DE CV","A084664110",1,14147.12,null,null,null,null,null,"SIMPACK DE MEXICO SA DE CV"]
[null,null,null,{"$f":"COUNTIF($E$1:E1488,consulta!$D$1)","v":0},"MARIA DEL ROSARIO CORONA COSIO","A084690910",1,1259.33,null,null,null,null,null,"SISTEMAS INTEGRALES DE SEGURIDAD Y COMUNICACION SA DE CV"]
[null,null,null,{"$f":"COUNTIF($E$1:E1489,consulta!$D$1)","v":0},"MARIA DEL ROSARIO CORONA COSIO","A084690910",1,619.35,null,null,null,null,null,"INGRID MARCELA FERNANDEZ VALENCIA"]
[null,null,null,{"$f":"COUNTIF($E$1:E1490,consulta!$D$1)","v":0},"MARIA DEL ROSARIO CORONA COSIO","A084690910",1,503.73,null,null,null,null,null,"JOSE MANUEL HERRERA DOMINGUEZ"]
[null,null,null,{"$f":"COUNTIF($E$1:E1491,consulta!$D$1)","v":0},"MARIA DEL ROSARIO CORONA COSIO","A084690910",1,1218.6600000000001,null,null,null,null,null,"S J HAIR CO S DE RL DE CV"]
[null,null,null,{"$f":"COUNTIF($E$1:E1492,consulta!$D$1)","v":0},"MARIA DEL ROSARIO CORONA COSIO","A084690910",1,487.46,null,null,null,null,null,"GAMALIEL GONZALEZ BARBA"]
[null,null,null,{"$f":"COUNTIF($E$1:E1493,consulta!$D$1)","v":0},"MARIA DEL ROSARIO CORONA COSIO","A084690910",1,247.74,null,null,null,null,null,"INMOBILIARIA Y DESARROLLADORA TU KASA SA DE CV"]
[null,null,null,{"$f":"COUNTIF($E$1:E1494,consulta!$D$1)","v":0},"ESTANCIA INFANTIL A#O INTERNACIONAL DEL NI#O AC","A084693010",1,8195.17,null,null,null,null,null,"ISRAEL AMPARAN FIGUEROA"]
[null,null,null,{"$f":"COUNTIF($E$1:E1495,consulta!$D$1)","v":0},"ESTANCIA INFANTIL A#O INTERNACIONAL DEL NI#O AC","A084693010",1,8195.17,null,null,null,null,null,"DANIEL EDUARDO CARDENAS CARRILLO"]
[null,null,null,{"$f":"COUNTIF($E$1:E1496,consulta!$D$1)","v":0},"ESTANCIA INFANTIL A#O INTERNACIONAL DEL NI#O AC","A084693010",2,8424.7800000000007,null,null,null,null,null,"GRUPO ARK + OS ARQUITECTOS S DE RL DE CV"]
[null,null,null,{"$f":"COUNTIF($E$1:E1497,consulta!$D$1)","v":0},"ESTANCIA INFANTIL A#O INTERNACIONAL DEL NI#O AC","A084693010",2,3369.91,null,null,null,null,null,"RAMON RICARDO VELASCO BUELNA"]
[null,null,null,{"$f":"COUNTIF($E$1:E1498,consulta!$D$1)","v":0},"ESTANCIA INFANTIL A#O INTERNACIONAL DEL NI#O AC","A084693010",1,3278.06,null,null,null,null,null,"CENTRO CAMBIARIO FEG DEL NOROESTE SA DE CV"]
[null,null,null,{"$f":"COUNTIF($E$1:E1499,consulta!$D$1)","v":0},"ESTANCIA INFANTIL A#O INTERNACIONAL DEL NI#O AC","A084693010",1,8705.58,null,null,null,null,null,"SERVICIOS CORPORATIVOS EN ALIMENTOS QUALITY FOOD SA DE CV"]
[null,null,null,{"$f":"COUNTIF($E$1:E1500,consulta!$D$1)","v":0},"ESTANCIA INFANTIL A#O INTERNACIONAL DEL NI#O AC","A084693010",1,3482.23,null,null,null,null,null,"ANA DORINA MACCHETTO GERALDO"]
[null,null,null,{"$f":"COUNTIF($E$1:E1501,consulta!$D$1)","v":0},"ESTANCIA INFANTIL A#O INTERNACIONAL DEL NI#O AC","A084693010",1,8705.58,null,null,null,null,null,"JONATHAN BECERRA TORRES"]
[null,null,null,{"$f":"COUNTIF($E$1:E1502,consulta!$D$1)","v":0},"ESTANCIA INFANTIL A#O INTERNACIONAL DEL NI#O AC","A084693010",1,3482.23,null,null,null,null,null,"CARLOS VALENZUELA BENAVIDES"]
[null,null,null,{"$f":"COUNTIF($E$1:E1503,consulta!$D$1)","v":0},"ESTANCIA INFANTIL A#O INTERNACIONAL DEL NI#O AC","A084693010",1,3278.06,null,null,null,null,null,"THELMA LOZOYA VENEGAS"]
[null,null,null,{"$f":"COUNTIF($E$1:E1504,consulta!$D$1)","v":0},"JAVIER DE LA O FRANCO","A084704210",1,932.07,null,null,null,null,null,"ESPERANZA RODRIGUEZ IBA#EZ"]
[null,null,null,{"$f":"COUNTIF($E$1:E1505,consulta!$D$1)","v":0},"JAVIER DE LA O FRANCO","A084704210",1,372.82,null,null,null,null,null,"JOSE ENRIQUE RODRIGUEZ ALFARO"]
[null,null,null,{"$f":"COUNTIF($E$1:E1506,consulta!$D$1)","v":0},"SYNTECH DE BAJA CALIFORNIA S DE RL DE CV","A084704810",1,19364.2,null,null,null,null,null,"SUSANA ELIZABETH PE#A VERDIN"]
[null,null,null,{"$f":"COUNTIF($E$1:E1507,consulta!$D$1)","v":0},"SYNTECH DE BAJA CALIFORNIA S DE RL DE CV","A084704810",1,7745.68,null,null,null,null,null,"FENG LIU"]
[null,null,null,{"$f":"COUNTIF($E$1:E1508,consulta!$D$1)","v":0},"SMART & FINAL DEL NOROESTE SA DE CV","A084785310",1,1737.6,null,null,null,null,null,"OSCAR NAVARRO MOZQUEDA"]
[null,null,null,{"$f":"COUNTIF($E$1:E1509,consulta!$D$1)","v":0},"SMART & FINAL DEL NOROESTE SA DE CV","A084785310",1,5623.41,null,null,null,null,null,"MARIA GUADALUPE REYES PICENO"]
[null,null,null,{"$f":"COUNTIF($E$1:E1510,consulta!$D$1)","v":0},"SMART & FINAL DEL NOROESTE SA DE CV","A084785310",1,2249.36,null,null,null,null,null,"BLANCA GUADALUPE FUENTES REYNA"]
[null,null,null,{"$f":"COUNTIF($E$1:E1511,consulta!$D$1)","v":0},"SMART & FINAL DEL NOROESTE SA DE CV","A084785310",1,5212.59,null,null,null,null,null,"SUGEISI DEL SOCORRO YI FIGUEROA"]
[null,null,null,{"$f":"COUNTIF($E$1:E1512,consulta!$D$1)","v":0},"SMART & FINAL DEL NOROESTE SA DE CV","A084785310",1,2085.0300000000002,null,null,null,null,null,"AXIS CNC SALES DE MEXICO S DE RL DE CV"]
[null,null,null,{"$f":"COUNTIF($E$1:E1513,consulta!$D$1)","v":0},"FRANCISCO MARTINEZ AYALA","A084799310",1,2312.36,null,null,null,null,null,"G MARK GLOBAL MARKETING SA DE CV"]
[null,null,null,{"$f":"COUNTIF($E$1:E1514,consulta!$D$1)","v":0},"FRANCISCO MARTINEZ AYALA","A084799310",1,2969.56,null,null,null,null,null,"ANA CECILIA COTA ESPERO"]
[null,null,null,{"$f":"COUNTIF($E$1:E1515,consulta!$D$1)","v":0},"FRANCISCO MARTINEZ AYALA","A084799310",1,924.94,null,null,null,null,null,"IMPORTADORA Y EXPORTADORA SAN BLAS S DE RL DE CV"]
[null,null,null,{"$f":"COUNTIF($E$1:E1516,consulta!$D$1)","v":0},"FRANCISCO MARTINEZ AYALA","A084799310",1,2298.11,null,null,null,null,null,"JORGE ALBERTO AVELAR RUIZ"]
[null,null,null,{"$f":"COUNTIF($E$1:E1517,consulta!$D$1)","v":0},"FRANCISCO MARTINEZ AYALA","A084799310",1,919.24,null,null,null,null,null,"MARIA ANITA GARCIA"]
[null,null,null,{"$f":"COUNTIF($E$1:E1518,consulta!$D$1)","v":0},"FRANCISCO MARTINEZ AYALA","A084799310",1,3372.54,null,null,null,null,null,"CONSTRUCTORA MAHED S DE RL DE CV"]
[null,null,null,{"$f":"COUNTIF($E$1:E1519,consulta!$D$1)","v":0},"FRANCISCO MARTINEZ AYALA","A084799310",1,1349.01,null,null,null,null,null,"UNITED CALIFORNIAS ACADEMY SC"]
[null,null,null,{"$f":"COUNTIF($E$1:E1520,consulta!$D$1)","v":0},"FRANCISCO MARTINEZ AYALA","A084799310",1,3700.84,null,null,null,null,null,"SALVADOR MARTIN YA#EZ NAVARRO"]
[null,null,null,{"$f":"COUNTIF($E$1:E1521,consulta!$D$1)","v":0},"FRANCISCO MARTINEZ AYALA","A084799310",1,1480.33,null,null,null,null,null,"BACESA DE TIJUANA S DE RL DE CV"]
[null,null,null,{"$f":"COUNTIF($E$1:E1522,consulta!$D$1)","v":0},"FRANCISCO MARTINEZ AYALA","A084799310",1,1187.82,null,null,null,null,null,"VISION EN SEGURIDAD PRIVADA SA DE CV"]
[null,null,null,{"$f":"COUNTIF($E$1:E1523,consulta!$D$1)","v":0},"SERGIO OLIVARES RODRIGUEZ","A084810010",1,925.21,null,null,null,null,null,"LUIS GERARDO SANCHEZ DELGADO"]
[null,null,null,{"$f":"COUNTIF($E$1:E1524,consulta!$D$1)","v":0},"SERGIO OLIVARES RODRIGUEZ","A084810010",1,370.08,null,null,null,null,null,"SERVICIO Y EQUIPO PARA GASOLINERAS SA DE CV"]
[null,null,null,{"$f":"COUNTIF($E$1:E1525,consulta!$D$1)","v":0},"COMERCIAL KARACOL SA DE CV","A084817510",1,2034.39,null,null,null,null,null,"ANDREA VANESSA CARRION DOMINGUEZ"]
[null,null,null,{"$f":"COUNTIF($E$1:E1526,consulta!$D$1)","v":0},"COMERCIAL KARACOL SA DE CV","A084817510",1,1798.03,null,null,null,null,null,"ANDRES ARTURO GOMEZ LLANOS LEON"]
[null,null,null,{"$f":"COUNTIF($E$1:E1527,consulta!$D$1)","v":0},"COMERCIAL KARACOL SA DE CV","A084817510",1,1798.03,null,null,null,null,null,"PROMOTORA Y DISTRIBUIDORA DE PRODUCTOS DE LA TIERRA SA DE CV"]
[null,null,null,{"$f":"COUNTIF($E$1:E1528,consulta!$D$1)","v":0},"COMERCIAL KARACOL SA DE CV","A084817510",1,2034.39,null,null,null,null,null,"ROQUE SERGIO ALVES DOS SANTOS"]
[null,null,null,{"$f":"COUNTIF($E$1:E1529,consulta!$D$1)","v":0},"MA REFUGIO VELAZQUEZ URZUA","A084828510",1,370.08,null,null,null,null,null,"ARTURO RAUL PERALTA JIMENEZ"]
[null,null,null,{"$f":"COUNTIF($E$1:E1530,consulta!$D$1)","v":0},"MA REFUGIO VELAZQUEZ URZUA","A084828510",1,296.95,null,null,null,null,null,"RUBEN RODRIGUEZ SERRANO"]
[null,null,null,{"$f":"COUNTIF($E$1:E1531,consulta!$D$1)","v":0},"BERTHA ORDU#O ZAMUDIO","A084836510",1,1850.42,null,null,null,null,null,"CONSTRUCCION Y MANTENIMIENTO DE PAVIMENTOS SA DE CV"]
[null,null,null,{"$f":"COUNTIF($E$1:E1532,consulta!$D$1)","v":0},"BERTHA ORDU#O ZAMUDIO","A084836510",1,740.16,null,null,null,null,null,"MIGUEL JAVIER HERNANDEZ RAMIREZ"]
[null,null,null,{"$f":"COUNTIF($E$1:E1533,consulta!$D$1)","v":0},"MARGARITA MEZA VILLARREAL","A084851910",1,1352.07,null,null,null,null,null,"GRUPO FAMAA DE BAJA CALIFORNIA S DE RL DE CV"]
[null,null,null,{"$f":"COUNTIF($E$1:E1534,consulta!$D$1)","v":0},"MARGARITA MEZA VILLARREAL","A084851910",1,1937.44,null,null,null,null,null,"JOEL DELGADO SANTANA"]
[null,null,null,{"$f":"COUNTIF($E$1:E1535,consulta!$D$1)","v":0},"MARGARITA MEZA VILLARREAL","A084851910",1,540.82000000000005,null,null,null,null,null,"EDUCANDO EN COMPETENCIA SC"]
[null,null,null,{"$f":"COUNTIF($E$1:E1536,consulta!$D$1)","v":0},"MARGARITA MEZA VILLARREAL","A084851910",1,774.97,null,null,null,null,null,"MEXMOLD SA DE CV"]
[null,null,null,{"$f":"COUNTIF($E$1:E1537,consulta!$D$1)","v":0},"MARGARITA MEZA VILLARREAL","A084851910",1,1937.44,null,null,null,null,null,"OBRAS E INFRAESTRUCTURA DE TIJUANA SA DE CV"]
[null,null,null,{"$f":"COUNTIF($E$1:E1538,consulta!$D$1)","v":0},"MARGARITA MEZA VILLARREAL","A084851910",1,365.35,null,null,null,null,null,"ARSA-LAB SA DE CV"]
[null,null,null,{"$f":"COUNTIF($E$1:E1539,consulta!$D$1)","v":0},"MARGARITA MEZA VILLARREAL","A084851910",1,774.97,null,null,null,null,null,"TERRAZA LA CHOPERIA MACROPLAZA SA DE CV"]
[null,null,null,{"$f":"COUNTIF($E$1:E1540,consulta!$D$1)","v":0},"MARGARITA MEZA VILLARREAL","A084851910",1,1128.45,null,null,null,null,null,"AUTOSERVICIO ARSA S DE RL DE CV"]
[null,null,null,{"$f":"COUNTIF($E$1:E1541,consulta!$D$1)","v":0},"MARGARITA MEZA VILLARREAL","A084851910",1,451.38,null,null,null,null,null,"PMS SERVICIOS COMERCIALES S DE RL DE CV"]
[null,null,null,{"$f":"COUNTIF($E$1:E1542,consulta!$D$1)","v":0},"MARGARITA MEZA VILLARREAL","A084851910",1,404.7,null,null,null,null,null,"ANSA MEXICO SA DE CV"]
[null,null,null,{"$f":"COUNTIF($E$1:E1543,consulta!$D$1)","v":0},"MARGARITA MEZA VILLARREAL","A084851910",1,391.65,null,null,null,null,null,"OSCAR RUVALCABA MONTA#O"]
[null,null,null,{"$f":"COUNTIF($E$1:E1544,consulta!$D$1)","v":0},"CENTRO DE ENDODONCIA SC","A084882610",1,4306.1400000000003,null,null,null,null,null,"SHELPRO S DE RL DE CV"]
[null,null,null,{"$f":"COUNTIF($E$1:E1545,consulta!$D$1)","v":0},"CENTRO DE ENDODONCIA SC","A084882610",1,1722.45,null,null,null,null,null,"SONAE INGENIERIA SA DE CV"]
[null,null,null,{"$f":"COUNTIF($E$1:E1546,consulta!$D$1)","v":0},"CENTRO DE ENDODONCIA SC","A084882610",1,4375.2700000000004,null,null,null,null,null,"FELIPE DE JESUS ACOSTA ALVAREZ"]
[null,null,null,{"$f":"COUNTIF($E$1:E1547,consulta!$D$1)","v":0},"CENTRO DE ENDODONCIA SC","A084882610",1,1750.1,null,null,null,null,null,"COLEGIO LOMA DORADA DE TIJUANA SC"]
[null,null,null,{"$f":"COUNTIF($E$1:E1548,consulta!$D$1)","v":0},"CENTRO DE ENDODONCIA SC","A084882610",1,4234.13,null,null,null,null,null,"RAQUEL MEDINA GUTIERREZ"]
[null,null,null,{"$f":"COUNTIF($E$1:E1549,consulta!$D$1)","v":0},"CENTRO DE ENDODONCIA SC","A084882610",1,1693.65,null,null,null,null,null,"ELIZABETH VALLE NAVARRO"]
[null,null,null,{"$f":"COUNTIF($E$1:E1550,consulta!$D$1)","v":0},"BJAM MEXICANA SA DE CV","A084886910",2,23894.67,null,null,null,null,null,"GUADALUPE BORJA ROBLES LINARES"]
[null,null,null,{"$f":"COUNTIF($E$1:E1551,consulta!$D$1)","v":0},"HUI LIANG HUO","A084892010",2,8300.16,null,null,null,null,null,"PEDRO ANTONIO AGUIRRE URIZA"]
[null,null,null,{"$f":"COUNTIF($E$1:E1552,consulta!$D$1)","v":0},"HUI LIANG HUO","A084892010",1,5196.7299999999996,null,null,null,null,null,"ALEBRIJE DEL RIO SA DE CV"]
[null,null,null,{"$f":"COUNTIF($E$1:E1553,consulta!$D$1)","v":0},"HUI LIANG HUO","A084892010",2,3320.06,null,null,null,null,null,"JAVIER LOPEZ DE CARDENAS CANALES"]
[null,null,null,{"$f":"COUNTIF($E$1:E1554,consulta!$D$1)","v":0},"HUI LIANG HUO","A084892010",2,10177.31,null,null,null,null,null,"ASOCIACION MEXICANA DE ASISTENCIA EN EL RETIRO AC"]
[null,null,null,{"$f":"COUNTIF($E$1:E1555,consulta!$D$1)","v":0},"HUI LIANG HUO","A084892010",2,4070.92,null,null,null,null,null,"MIRIAM MIRTA MEDINA PERAZA"]
[null,null,null,{"$f":"COUNTIF($E$1:E1556,consulta!$D$1)","v":0},"HUI LIANG HUO","A084892010",2,9849.07,null,null,null,null,null,"JULIO CESAR CORTE GONZALEZ"]
[null,null,null,{"$f":"COUNTIF($E$1:E1557,consulta!$D$1)","v":0},"HUI LIANG HUO","A084892010",2,3939.62,null,null,null,null,null,"PABLO VAZQUEZ RAMOS"]
[null,null,null,{"$f":"COUNTIF($E$1:E1558,consulta!$D$1)","v":0},"HUI LIANG HUO","A084892010",1,6715.23,null,null,null,null,null,"CINTHIA INES PEREZ JIMENEZ"]
[null,null,null,{"$f":"COUNTIF($E$1:E1559,consulta!$D$1)","v":0},"HUI LIANG HUO","A084892010",1,2686.09,null,null,null,null,null,"PATTSY DAENA ESPINOSA FERNANDEZ"]
[null,null,null,{"$f":"COUNTIF($E$1:E1560,consulta!$D$1)","v":0},"HUI LIANG HUO","A084892010",1,6476.47,null,null,null,null,null,"EDUARDO MONDRAGON HERNANDEZ"]
[null,null,null,{"$f":"COUNTIF($E$1:E1561,consulta!$D$1)","v":0},"HUI LIANG HUO","A084892010",1,2590.58,null,null,null,null,null,"PASSION SPLASH S DE RL DE CV"]
[null,null,null,{"$f":"COUNTIF($E$1:E1562,consulta!$D$1)","v":0},"HUI LIANG HUO","A084892010",1,2078.69,null,null,null,null,null,"MARIA DE JESUS GARCIA"]
[null,null,null,{"$f":"COUNTIF($E$1:E1563,consulta!$D$1)","v":0},"JAIME JULIAN PLACENCIA HUERTA","A084911410",1,21652.69,null,null,null,null,null,"GRUPO ZUKSA SC"]
[null,null,null,{"$f":"COUNTIF($E$1:E1564,consulta!$D$1)","v":0},"JAIME JULIAN PLACENCIA HUERTA","A084911410",1,9027.51,null,null,null,null,null,"SERGIO GAMBOA RODRIGUEZ"]
[null,null,null,{"$f":"COUNTIF($E$1:E1565,consulta!$D$1)","v":0},"JAIME JULIAN PLACENCIA HUERTA","A084911410",1,9315.92,null,null,null,null,null,"LABORATORIO TAI DEL NOROESTE S DE RL DE CV"]
[null,null,null,{"$f":"COUNTIF($E$1:E1566,consulta!$D$1)","v":0},"JAIME JULIAN PLACENCIA HUERTA","A084911410",1,22133.48,null,null,null,null,null,"MORCOMEX MARKETING SA DE CV"]
[null,null,null,{"$f":"COUNTIF($E$1:E1567,consulta!$D$1)","v":0},"JAIME JULIAN PLACENCIA HUERTA","A084911410",1,8853.39,null,null,null,null,null,"CONSTRUCCIONES Y TRITURADOS PACNOR S DE RL DE CV"]
[null,null,null,{"$f":"COUNTIF($E$1:E1568,consulta!$D$1)","v":0},"JAIME JULIAN PLACENCIA HUERTA","A084911410",1,8661.07,null,null,null,null,null,"MARTHA CHEE RANGEL"]
[null,null,null,{"$f":"COUNTIF($E$1:E1569,consulta!$D$1)","v":0},"JOSE GPE GARCIA MORALES","A084913110",1,5215.49,null,null,null,null,null,"ELIZABETH CERVANTES DIAZ"]
[null,null,null,{"$f":"COUNTIF($E$1:E1570,consulta!$D$1)","v":0},"JOSE GPE GARCIA MORALES","A084913110",1,4827.54,null,null,null,null,null,"FUTBOL SIETE BULEVARD DOS MIL SA DE CV"]
[null,null,null,{"$f":"COUNTIF($E$1:E1571,consulta!$D$1)","v":0},"VICTOR MANUEL FLORES GERALDO","A084928910",1,454.94,null,null,null,null,null,"SERVICIOS EDUCATIVOS DE B.C AC"]
[null,null,null,{"$f":"COUNTIF($E$1:E1572,consulta!$D$1)","v":0},"JUAN ANTONIO RANGEL FONSECA","A084970010",1,6710.62,null,null,null,null,null,"UNIVERSAL PAINT DEL NOROESTE S DE RL DE CV"]
[null,null,null,{"$f":"COUNTIF($E$1:E1573,consulta!$D$1)","v":0},"JUAN ANTONIO RANGEL FONSECA","A084970010",1,7985.48,null,null,null,null,null,"EFRAIN VALDEZ PARENTE"]
[null,null,null,{"$f":"COUNTIF($E$1:E1574,consulta!$D$1)","v":0},"JUAN ANTONIO RANGEL FONSECA","A084970010",1,3194.19,null,null,null,null,null,"MARIA ALEJANDRA GONZALEZ GUERRA"]
[null,null,null,{"$f":"COUNTIF($E$1:E1575,consulta!$D$1)","v":0},"JUAN ANTONIO RANGEL FONSECA","A084970010",1,2684.24,null,null,null,null,null,"RB INGENIERIA ELECTROMECANICA SA DE CV"]
[null,null,null,{"$f":"COUNTIF($E$1:E1576,consulta!$D$1)","v":0},"DENISSE PANADERIA Y REPOSTERIA SA DE CV","A084985610",1,1484.78,null,null,null,null,null,"TECNICAS DE VERIFICACION AGUA CALIENTE SA DE CV"]
[null,null,null,{"$f":"COUNTIF($E$1:E1577,consulta!$D$1)","v":0},"DENISSE PANADERIA Y REPOSTERIA SA DE CV","A084985610",1,1484.78,null,null,null,null,null,"VERIFICENTRO VIA PONIENTE SA DE CV"]
[null,null,null,{"$f":"COUNTIF($E$1:E1578,consulta!$D$1)","v":0},"DENISSE PANADERIA Y REPOSTERIA SA DE CV","A084985610",1,593.91,null,null,null,null,null,"SERVICIOS DE VERIFICACION DE TIJUANA SA DE CV"]
[null,null,null,{"$f":"COUNTIF($E$1:E1579,consulta!$D$1)","v":0},"DENISSE PANADERIA Y REPOSTERIA SA DE CV","A084985610",1,1850.42,null,null,null,null,null,"CENTRO AMBIENTAL LA MESA SA DE CV"]
[null,null,null,{"$f":"COUNTIF($E$1:E1580,consulta!$D$1)","v":0},"DENISSE PANADERIA Y REPOSTERIA SA DE CV","A084985610",1,740.16,null,null,null,null,null,"JARDIN DE NI#OS FLORECITA MONTESSORI SC"]
[null,null,null,{"$f":"COUNTIF($E$1:E1581,consulta!$D$1)","v":0},"DENISSE PANADERIA Y REPOSTERIA SA DE CV","A084985610",1,1850.42,null,null,null,null,null,"KARINA CASTRO CARRILLO"]
[null,null,null,{"$f":"COUNTIF($E$1:E1582,consulta!$D$1)","v":0},"DENISSE PANADERIA Y REPOSTERIA SA DE CV","A084985610",1,740.16,null,null,null,null,null,"FIBRAS ACTEL S DE RL DE CV"]
[null,null,null,{"$f":"COUNTIF($E$1:E1583,consulta!$D$1)","v":0},"DENISSE PANADERIA Y REPOSTERIA SA DE CV","A084985610",1,593.91,null,null,null,null,null,"DISARES DE MEXICO SA DE CV"]
[null,null,null,{"$f":"COUNTIF($E$1:E1584,consulta!$D$1)","v":0},"MARIO MORENO LOPEZ","A084989710",1,2342.1999999999998,null,null,null,null,null,"GRUPO TECNOSEM CENTRO S DE RL DE CV"]
[null,null,null,{"$f":"COUNTIF($E$1:E1585,consulta!$D$1)","v":0},"MARIO MORENO LOPEZ","A084989710",1,936.88,null,null,null,null,null,"TERESA DE JESUS MENDOZA VASQUEZ"]
[null,null,null,{"$f":"COUNTIF($E$1:E1586,consulta!$D$1)","v":0},"MARIO MORENO LOPEZ","A084989710",1,936.88,null,null,null,null,null,"PROYECTOS DESARROLLOS Y MATERIALES PARA LA CONSTRUCCION DE BC SA DE CV"]
[null,null,null,{"$f":"COUNTIF($E$1:E1587,consulta!$D$1)","v":0},"WALTER PADILLA MIRAMONTES","A084991610",1,4166.13,null,null,null,null,null,"OBESITY GOOD BYE CLINIC SA DE CV"]
[null,null,null,{"$f":"COUNTIF($E$1:E1588,consulta!$D$1)","v":0},"WALTER PADILLA MIRAMONTES","A084991610",1,3961.37,null,null,null,null,null,"DISTRIBUIDORA INTERNACIONAL DE PUERTAS DE GARAGE SA DE CV"]
[null,null,null,{"$f":"COUNTIF($E$1:E1589,consulta!$D$1)","v":0},"WALTER PADILLA MIRAMONTES","A084991610",1,1584.54,null,null,null,null,null,"GISSELA MEJIA RAMIREZ"]
[null,null,null,{"$f":"COUNTIF($E$1:E1590,consulta!$D$1)","v":0},"WALTER PADILLA MIRAMONTES","A084991610",1,1666.45,null,null,null,null,null,"BAJA WASTEWATER SOLUTION S DE RL DE CV"]
[null,null,null,{"$f":"COUNTIF($E$1:E1591,consulta!$D$1)","v":0},"NAPOLEON EXPRESS SA DE CV","A084992610",1,5172.05,null,null,null,null,null,"BEEPLASTIC S DE RL DE CV"]
[null,null,null,{"$f":"COUNTIF($E$1:E1592,consulta!$D$1)","v":0},"NAPOLEON EXPRESS SA DE CV","A084992610",1,2068.8200000000002,null,null,null,null,null,"PATRICIA LIZBETH GONZALEZ CAMARGO"]
[null,null,null,{"$f":"COUNTIF($E$1:E1593,consulta!$D$1)","v":0},"FRANCISCO JAVIER BUCIO MONTEMAYOR","A084993410",1,4188.6000000000004,null,null,null,null,null,"BERNY BERMUDEZ MENDOZA"]
[null,null,null,{"$f":"COUNTIF($E$1:E1594,consulta!$D$1)","v":0},"FRANCISCO JAVIER BUCIO MONTEMAYOR","A084993410",1,1675.44,null,null,null,null,null,"BERNARDO MACKLIS ANAYA"]
[null,null,null,{"$f":"COUNTIF($E$1:E1595,consulta!$D$1)","v":0},"FRANCISCO JAVIER BUCIO MONTEMAYOR","A084993410",1,6066.33,null,null,null,null,null,"PAVIMENTOS Y ASFALTOS INTEGRALES SA DE CV"]
[null,null,null,{"$f":"COUNTIF($E$1:E1596,consulta!$D$1)","v":0},"FRANCISCO JAVIER BUCIO MONTEMAYOR","A084993410",1,2426.5300000000002,null,null,null,null,null,"BA#UELOS Y SALAZAR ASESORES Y PROMOTORES SC"]
[null,null,null,{"$f":"COUNTIF($E$1:E1597,consulta!$D$1)","v":0},"FRANCISCO JAVIER BUCIO MONTEMAYOR","A084993410",1,3131.02,null,null,null,null,null,"MARCO ANTONIO MEZA GARCIA"]
[null,null,null,{"$f":"COUNTIF($E$1:E1598,consulta!$D$1)","v":0},"FRANCISCO JAVIER BUCIO MONTEMAYOR","A084993410",1,1252.4000000000001,null,null,null,null,null,"KUDRET SA DE CV"]
[null,null,null,{"$f":"COUNTIF($E$1:E1599,consulta!$D$1)","v":0},"FRANCISCO JAVIER BUCIO MONTEMAYOR","A084993410",1,835.67,null,null,null,null,null,"MERARDO SALVADOR GUTIERREZ CALVILLO"]
[null,null,null,{"$f":"COUNTIF($E$1:E1600,consulta!$D$1)","v":0},"FRANCISCO JAVIER BUCIO MONTEMAYOR","A084993410",1,334.26,null,null,null,null,null,"ADMINISTRACION DE SERVICIOS EN TIERRA SA DE CV"]
[null,null,null,{"$f":"COUNTIF($E$1:E1601,consulta!$D$1)","v":0},"FRANCISCO JAVIER BUCIO MONTEMAYOR","A084993410",1,370.08,null,null,null,null,null,"LORETO LOPEZ LIZARRAGA"]
[null,null,null,{"$f":"COUNTIF($E$1:E1602,consulta!$D$1)","v":0},"FRANCISCO JAVIER BUCIO MONTEMAYOR","A084993410",1,296.95,null,null,null,null,null,"BIANNEY BAENA MAYORGA"]
[null,null,null,{"$f":"COUNTIF($E$1:E1603,consulta!$D$1)","v":0},"MARIA ELENA BECERRA GALLEGOS","A085016510",1,742.39,null,null,null,null,null,"EXCEL TECHNICAL SERVICES DE MEXICO SA DE CV"]
[null,null,null,{"$f":"COUNTIF($E$1:E1604,consulta!$D$1)","v":0},"MARIA ELENA BECERRA GALLEGOS","A085016510",1,742.39,null,null,null,null,null,"MARTHA LASTENIA GIBERT FONSECA"]
[null,null,null,{"$f":"COUNTIF($E$1:E1605,consulta!$D$1)","v":0},"MARIA ELENA BECERRA GALLEGOS","A085016510",1,296.95,null,null,null,null,null,"MARIA GUADALUPE VAZQUEZ BARRON"]
[null,null,null,{"$f":"COUNTIF($E$1:E1606,consulta!$D$1)","v":0},"MARIA ELENA BECERRA GALLEGOS","A085016510",1,925.21,null,null,null,null,null,"LUIS OSORIO LOPEZ"]
[null,null,null,{"$f":"COUNTIF($E$1:E1607,consulta!$D$1)","v":0},"MARIA ELENA BECERRA GALLEGOS","A085016510",1,370.08,null,null,null,null,null,"ECO HAUS S DE RL DE CV"]
[null,null,null,{"$f":"COUNTIF($E$1:E1608,consulta!$D$1)","v":0},"MARIA ELENA BECERRA GALLEGOS","A085016510",1,925.21,null,null,null,null,null,"CENTRO CAMBIARIO YARLIN SA DE CV"]
[null,null,null,{"$f":"COUNTIF($E$1:E1609,consulta!$D$1)","v":0},"MARIA ELENA BECERRA GALLEGOS","A085016510",1,370.08,null,null,null,null,null,"PROMOCION DE IMPACTO SA DE CV"]
[null,null,null,{"$f":"COUNTIF($E$1:E1610,consulta!$D$1)","v":0},"MARIA ELENA BECERRA GALLEGOS","A085016510",1,296.95,null,null,null,null,null,"MARIA LETICIA ZU#IGA CASTA#OS"]
[null,null,null,{"$f":"COUNTIF($E$1:E1611,consulta!$D$1)","v":0},"IMPERCAL S DE RL DE CV","A085068010",1,22109.59,null,null,null,null,null,"ADOLFO MARIO OLIVA ESQUIVEL"]
[null,null,null,{"$f":"COUNTIF($E$1:E1612,consulta!$D$1)","v":0},"IMPERCAL S DE RL DE CV","A085068010",1,8891.1200000000008,null,null,null,null,null,"MARIA TERESA ANZAR VAZQUEZ"]
[null,null,null,{"$f":"COUNTIF($E$1:E1613,consulta!$D$1)","v":0},"IMPERCAL S DE RL DE CV","A085068010",1,9044.91,null,null,null,null,null,"NORA NAYELI BARRAZA AYON"]
[null,null,null,{"$f":"COUNTIF($E$1:E1614,consulta!$D$1)","v":0},"IMPERCAL S DE RL DE CV","A085068010",1,10349.1,null,null,null,null,null,"MONICA CORRALES DOMINGUEZ"]
[null,null,null,{"$f":"COUNTIF($E$1:E1615,consulta!$D$1)","v":0},"IMPERCAL S DE RL DE CV","A085068010",1,25859.15,null,null,null,null,null,"UTOPIKA PROJECT GROUP SA DE CV"]
[null,null,null,{"$f":"COUNTIF($E$1:E1616,consulta!$D$1)","v":0},"IMPERCAL S DE RL DE CV","A085068010",1,10343.66,null,null,null,null,null,"JOSE LUCIO RODOLFO CUELLAR MUNGUIA"]
[null,null,null,{"$f":"COUNTIF($E$1:E1617,consulta!$D$1)","v":0},"IMPERCAL S DE RL DE CV","A085068010",1,8843.83,null,null,null,null,null,"HOSPITAL HL S DE RL DE CV"]
[null,null,null,{"$f":"COUNTIF($E$1:E1618,consulta!$D$1)","v":0},"AMPELIO GOMEZ ALFARO","A085084010",1,742.39,null,null,null,null,null,"SARA VALDEZ ACOSTA"]
[null,null,null,{"$f":"COUNTIF($E$1:E1619,consulta!$D$1)","v":0},"AMPELIO GOMEZ ALFARO","A085084010",1,742.39,null,null,null,null,null,"GUSTAVO CESAR BRAVO"]
[null,null,null,{"$f":"COUNTIF($E$1:E1620,consulta!$D$1)","v":0},"AMPELIO GOMEZ ALFARO","A085084010",1,296.95,null,null,null,null,null,"JOSE HUMBERTO MARTINEZ MAGA#A"]
[null,null,null,{"$f":"COUNTIF($E$1:E1621,consulta!$D$1)","v":0},"AMPELIO GOMEZ ALFARO","A085084010",1,925.21,null,null,null,null,null,"GIVANNA PAOLA ROMERO MAR"]
[null,null,null,{"$f":"COUNTIF($E$1:E1622,consulta!$D$1)","v":0},"AMPELIO GOMEZ ALFARO","A085084010",1,370.08,null,null,null,null,null,"CARLOS ALBERTO SANCHEZ GARCIA"]
[null,null,null,{"$f":"COUNTIF($E$1:E1623,consulta!$D$1)","v":0},"AMPELIO GOMEZ ALFARO","A085084010",1,895.37,null,null,null,null,null,"MARCOS ABRAHAM FLORES VALENZUELA"]
[null,null,null,{"$f":"COUNTIF($E$1:E1624,consulta!$D$1)","v":0},"AMPELIO GOMEZ ALFARO","A085084010",1,358.14,null,null,null,null,null,"ROBERTO CARBALLO VICENCIO"]
[null,null,null,{"$f":"COUNTIF($E$1:E1625,consulta!$D$1)","v":0},"AMPELIO GOMEZ ALFARO","A085084010",1,925.21,null,null,null,null,null,"MAQUINTRAK SA DE CV"]
[null,null,null,{"$f":"COUNTIF($E$1:E1626,consulta!$D$1)","v":0},"AMPELIO GOMEZ ALFARO","A085084010",1,370.08,null,null,null,null,null,"JUAN GABRIEL CEJA URIBE"]
[null,null,null,{"$f":"COUNTIF($E$1:E1627,consulta!$D$1)","v":0},"AMPELIO GOMEZ ALFARO","A085084010",1,296.95,null,null,null,null,null,"NEZCO S DE RL DE CV"]
[null,null,null,{"$f":"COUNTIF($E$1:E1628,consulta!$D$1)","v":0},"ARTE Y COLOR DE MEXICO SA DE CV","A085085710",1,2988.05,null,null,null,null,null,"JUAN DURAN JACOBO"]
[null,null,null,{"$f":"COUNTIF($E$1:E1629,consulta!$D$1)","v":0},"ARTE Y COLOR DE MEXICO SA DE CV","A085085710",1,1195.22,null,null,null,null,null,"GRISELDA MARQUEZ RODRIGUEZ"]
[null,null,null,{"$f":"COUNTIF($E$1:E1630,consulta!$D$1)","v":0},"ARTE Y COLOR DE MEXICO SA DE CV","A085085710",1,1484.08,null,null,null,null,null,"CLAVE MANUFACTURING DE CALIFORNIA S DE RL DE CV"]
[null,null,null,{"$f":"COUNTIF($E$1:E1631,consulta!$D$1)","v":0},"ARTE Y COLOR DE MEXICO SA DE CV","A085085710",1,3710.2,null,null,null,null,null,"ASOCIACION DE AGENTES INMOBILIARIOS DE BAJA CALIFORNIA AC"]
[null,null,null,{"$f":"COUNTIF($E$1:E1632,consulta!$D$1)","v":0},"ARTE Y COLOR DE MEXICO SA DE CV","A085085710",1,1484.08,null,null,null,null,null,"RAL SERVICIOS S DE RL DE CV"]
[null,null,null,{"$f":"COUNTIF($E$1:E1633,consulta!$D$1)","v":0},"ARTE Y COLOR DE MEXICO SA DE CV","A085085710",1,1195.22,null,null,null,null,null,"JORGE QUIROZ COYOTL"]
[null,null,null,{"$f":"COUNTIF($E$1:E1634,consulta!$D$1)","v":0},"VECTOR DE BAJA CALIFORNIA SA DE CV","A085111810",1,25485.25,null,null,null,null,null,"OPERADORA Y SUMINISTRO DE PERSONAL SC"]
[null,null,null,{"$f":"COUNTIF($E$1:E1635,consulta!$D$1)","v":0},"A FIESTA ELEGANTE SA DE CV","A085126510",1,2394.58,null,null,null,null,null,"CENTRO CAMBIARIO EL CONQUISTADOR SA DE CV"]
[null,null,null,{"$f":"COUNTIF($E$1:E1636,consulta!$D$1)","v":0},"A FIESTA ELEGANTE SA DE CV","A085126510",1,1841.68,null,null,null,null,null,"RADIADOR CITY S DE RL DE CV"]
[null,null,null,{"$f":"COUNTIF($E$1:E1637,consulta!$D$1)","v":0},"OPERADORA WAL MART S DE RL DE CV","A085149010",2,14436.87,null,null,null,null,null,"ROBERTO JOSELITO MORALES GARCIA"]
[null,null,null,{"$f":"COUNTIF($E$1:E1638,consulta!$D$1)","v":0},"OPERADORA WAL MART S DE RL DE CV","A085149010",2,5774.74,null,null,null,null,null,"RICARDO ALONSO QUIROZ NEVAREZ"]
[null,null,null,{"$f":"COUNTIF($E$1:E1639,consulta!$D$1)","v":0},"ENSAMBLES DE CALIDAD MEXICO SA DE CV","A085149410",1,1974.04,null,null,null,null,null,"JESUS GONZALO PI#A VILLANUEVA"]
[null,null,null,{"$f":"COUNTIF($E$1:E1640,consulta!$D$1)","v":0},"ENSAMBLES DE CALIDAD MEXICO SA DE CV","A085149410",1,2306.8000000000002,null,null,null,null,null,"SERGIO RICA#O REYES"]
[null,null,null,{"$f":"COUNTIF($E$1:E1641,consulta!$D$1)","v":0},"ENSAMBLES DE CALIDAD MEXICO SA DE CV","A085149410",1,789.61,null,null,null,null,null,"MARIO CESAR MONTIEL RAMIREZ"]
[null,null,null,{"$f":"COUNTIF($E$1:E1642,consulta!$D$1)","v":0},"ENSAMBLES DE CALIDAD MEXICO SA DE CV","A085149410",1,2196.58,null,null,null,null,null,"SEARUS MEXICANA S DE RL DE CV"]
[null,null,null,{"$f":"COUNTIF($E$1:E1643,consulta!$D$1)","v":0},"ENSAMBLES DE CALIDAD MEXICO SA DE CV","A085149410",1,878.63,null,null,null,null,null,"CONSULTORIA CON-CORP DE MEXICO S DE RL DE CV"]
[null,null,null,{"$f":"COUNTIF($E$1:E1644,consulta!$D$1)","v":0},"ENSAMBLES DE CALIDAD MEXICO SA DE CV","A085149410",1,2171.2399999999998,null,null,null,null,null,"UNICO TEXTIL S DE RL DE CV"]
[null,null,null,{"$f":"COUNTIF($E$1:E1645,consulta!$D$1)","v":0},"ENSAMBLES DE CALIDAD MEXICO SA DE CV","A085149410",1,868.49,null,null,null,null,null,"IMPERMEABILIZANTES Y ADITIVOS KARISA S DE RL DE CV"]
[null,null,null,{"$f":"COUNTIF($E$1:E1646,consulta!$D$1)","v":0},"ENSAMBLES DE CALIDAD MEXICO SA DE CV","A085149410",1,2789.82,null,null,null,null,null,"VALET PERSONALIZADO EN CUSTODIA EMPRESARIAL V.A.P."]
[null,null,null,{"$f":"COUNTIF($E$1:E1647,consulta!$D$1)","v":0},"ENSAMBLES DE CALIDAD MEXICO SA DE CV","A085149410",1,1115.92,null,null,null,null,null,"JOSE ROBERTO MORGAN GARCIA"]
[null,null,null,{"$f":"COUNTIF($E$1:E1648,consulta!$D$1)","v":0},"ENSAMBLES DE CALIDAD MEXICO SA DE CV","A085149410",1,922.72,null,null,null,null,null,"GABRIEL PAREDES POLANCO"]
[null,null,null,{"$f":"COUNTIF($E$1:E1649,consulta!$D$1)","v":0},"MEDIMEXICO S DE RL DE CV","A085150710",1,2306.4899999999998,null,null,null,null,null,"MECACIT SA DE CV"]
[null,null,null,{"$f":"COUNTIF($E$1:E1650,consulta!$D$1)","v":0},"MEDIMEXICO S DE RL DE CV","A085150710",1,1575.45,null,null,null,null,null,"TURISMO GARGO SA DE CV"]
[null,null,null,{"$f":"COUNTIF($E$1:E1651,consulta!$D$1)","v":0},"MEDIMEXICO S DE RL DE CV","A085150710",1,2027.83,null,null,null,null,null,"SOYLU KEMAL"]
[null,null,null,{"$f":"COUNTIF($E$1:E1652,consulta!$D$1)","v":0},"MEDIMEXICO S DE RL DE CV","A085150710",1,811.13,null,null,null,null,null,"DISTRIBUIDORA MITRADIS S DE RL DE CV"]
[null,null,null,{"$f":"COUNTIF($E$1:E1653,consulta!$D$1)","v":0},"MEDIMEXICO S DE RL DE CV","A085150710",1,922.59,null,null,null,null,null,"ADOLFO REYES VAZQUEZ"]
[null,null,null,{"$f":"COUNTIF($E$1:E1654,consulta!$D$1)","v":0},"MEDIMEXICO S DE RL DE CV","A085150710",1,1892.65,null,null,null,null,null,"EMP EDIFICACIONES SA DE CV"]
[null,null,null,{"$f":"COUNTIF($E$1:E1655,consulta!$D$1)","v":0},"MEDIMEXICO S DE RL DE CV","A085150710",1,757.06,null,null,null,null,null,"ESTANCIA INFANTIL Y GUARDERIA PICCOLINI S DE RL DE CV"]
[null,null,null,{"$f":"COUNTIF($E$1:E1656,consulta!$D$1)","v":0},"MEDIMEXICO S DE RL DE CV","A085150710",1,1904.68,null,null,null,null,null,"INSTALACIONES GREEN SOLAR S DE RL DE CV"]
[null,null,null,{"$f":"COUNTIF($E$1:E1657,consulta!$D$1)","v":0},"MEDIMEXICO S DE RL DE CV","A085150710",1,761.87,null,null,null,null,null,"I-XPORT SA DE CV"]
[null,null,null,{"$f":"COUNTIF($E$1:E1658,consulta!$D$1)","v":0},"ARCANGELES HOSPITAL SA DE CV","A085150910",1,24613.75,null,null,null,null,null,"INTELIPROOF S DE RL DE CV"]
[null,null,null,{"$f":"COUNTIF($E$1:E1659,consulta!$D$1)","v":0},"ARCANGELES HOSPITAL SA DE CV","A085150910",1,9845.5,null,null,null,null,null,"CARDIOLOGICA INSURGENTES S DE RL DE CV"]
[null,null,null,{"$f":"COUNTIF($E$1:E1660,consulta!$D$1)","v":0},"MARCO ANTONIO DELGADO HDEZ","A085156110",1,243.41,null,null,null,null,null,"LESLIE STEPHANIE NIEBLA BOJORQUEZ"]
[null,null,null,{"$f":"COUNTIF($E$1:E1661,consulta!$D$1)","v":0},"MARCO ANTONIO DELGADO HDEZ","A085156110",1,1256.21,null,null,null,null,null,"GLORIA ARLETTE ZAMARRIPA LOPEZ"]
[null,null,null,{"$f":"COUNTIF($E$1:E1662,consulta!$D$1)","v":0},"MARCO ANTONIO DELGADO HDEZ","A085156110",1,502.48,null,null,null,null,null,"PRESBAJA SA DE CV"]
[null,null,null,{"$f":"COUNTIF($E$1:E1663,consulta!$D$1)","v":0},"MARCO ANTONIO DELGADO HDEZ","A085156110",1,862.13,null,null,null,null,null,"CENTRO DE CONTROL AMBIENTAL DE BAJA CALIFORNIA SA DE CV"]
[null,null,null,{"$f":"COUNTIF($E$1:E1664,consulta!$D$1)","v":0},"MARCO ANTONIO DELGADO HDEZ","A085156110",1,97.36,null,null,null,null,null,"MARIO CAMACHO ORTIZ"]
[null,null,null,{"$f":"COUNTIF($E$1:E1665,consulta!$D$1)","v":0},"MARCO ANTONIO DELGADO HDEZ","A085156110",1,344.85,null,null,null,null,null,"ASOCIACION PRO BOMBEROS DE TIJUANA AC"]
[null,null,null,{"$f":"COUNTIF($E$1:E1666,consulta!$D$1)","v":0},"LUIS MARTIN Y HERNANDEZ AC","A085162510",1,32356.28,null,null,null,null,null,"ACADEMIA INFANTIL FROBEL AC"]
[null,null,null,{"$f":"COUNTIF($E$1:E1667,consulta!$D$1)","v":0},"LUIS MARTIN Y HERNANDEZ AC","A085162510",1,35528.269999999997,null,null,null,null,null,"LEONARDO RADAMES SOTO SAUCEDA"]
[null,null,null,{"$f":"COUNTIF($E$1:E1668,consulta!$D$1)","v":0},"LUIS MARTIN Y HERNANDEZ AC","A085162510",1,14211.3,null,null,null,null,null,"OPERADORA ATT SA DE CV"]
[null,null,null,{"$f":"COUNTIF($E$1:E1669,consulta!$D$1)","v":0},"LUIS MARTIN Y HERNANDEZ AC","A085162510",1,12942.51,null,null,null,null,null,"IRMA YESENIA MENDOZA VALDEZ"]
[null,null,null,{"$f":"COUNTIF($E$1:E1670,consulta!$D$1)","v":0},"TECNOLOGIA URBANA DEL NOROESTE SA DE CV","A085173010",1,3881.82,null,null,null,null,null,"DAVID PEREZ JIMENEZ"]
[null,null,null,{"$f":"COUNTIF($E$1:E1671,consulta!$D$1)","v":0},"TECNOLOGIA URBANA DEL NOROESTE SA DE CV","A085173010",1,3562.95,null,null,null,null,null,"REAL STEAM DE MEXICO S DE RL"]
[null,null,null,{"$f":"COUNTIF($E$1:E1672,consulta!$D$1)","v":0},"TECNOLOGIA URBANA DEL NOROESTE SA DE CV","A085173010",1,3562.95,null,null,null,null,null,"COLEGIO DE OFTALMOLOGIA DE BAJA CALIFORNIA AC"]
[null,null,null,{"$f":"COUNTIF($E$1:E1673,consulta!$D$1)","v":0},"TECNOLOGIA URBANA DEL NOROESTE SA DE CV","A085173010",1,3621.35,null,null,null,null,null,"PROYECTOS E INSTALACIONES DE LAS AMERICAS SA DE CV"]
[null,null,null,{"$f":"COUNTIF($E$1:E1674,consulta!$D$1)","v":0},"TECNOLOGIA URBANA DEL NOROESTE SA DE CV","A085173010",1,3562.95,null,null,null,null,null,"CISTEM INNOVACION SA DE CV"]
[null,null,null,{"$f":"COUNTIF($E$1:E1675,consulta!$D$1)","v":0},"TECNOLOGIA URBANA DEL NOROESTE SA DE CV","A085173010",1,3562.95,null,null,null,null,null,"LUIS ALBERTO SANTOS CRUCES"]
[null,null,null,{"$f":"COUNTIF($E$1:E1676,consulta!$D$1)","v":0},"TECNOLOGIA URBANA DEL NOROESTE SA DE CV","A085173010",1,4358.91,null,null,null,null,null,"MGR MAQUINADOS S DE RL DE CV"]
[null,null,null,{"$f":"COUNTIF($E$1:E1677,consulta!$D$1)","v":0},"TECNOLOGIA URBANA DEL NOROESTE SA DE CV","A085173010",1,1552.72,null,null,null,null,null,"NAYELI GUADALUPE RUBALCAVA GUTIERREZ"]
[null,null,null,{"$f":"COUNTIF($E$1:E1678,consulta!$D$1)","v":0},"TECNOLOGIA URBANA DEL NOROESTE SA DE CV","A085173010",1,1743.56,null,null,null,null,null,"PROCESOS GASTRONOMICOS DE INDUSTRIALES SA DE CV"]
[null,null,null,{"$f":"COUNTIF($E$1:E1679,consulta!$D$1)","v":0},"TECNOLOGIA URBANA DEL NOROESTE SA DE CV","A085173010",1,3187.12,null,null,null,null,null,"JESUS ADRIAN VEGA MILLAN"]
[null,null,null,{"$f":"COUNTIF($E$1:E1680,consulta!$D$1)","v":0},"TECNOLOGIA URBANA DEL NOROESTE SA DE CV","A085173010",1,1425.18,null,null,null,null,null,"PAPIK ALFREDO RAMIREZ BERNAL"]
[null,null,null,{"$f":"COUNTIF($E$1:E1681,consulta!$D$1)","v":0},"TECNOLOGIA URBANA DEL NOROESTE SA DE CV","A085173010",1,1274.8399999999999,null,null,null,null,null,"SERAD EMPRESARIAL SA DE CV"]
[null,null,null,{"$f":"COUNTIF($E$1:E1682,consulta!$D$1)","v":0},"TECNOLOGIA URBANA DEL NOROESTE SA DE CV","A085173010",1,3118.37,null,null,null,null,null,"SERPRO SOUL SA DE CV"]
[null,null,null,{"$f":"COUNTIF($E$1:E1683,consulta!$D$1)","v":0},"TECNOLOGIA URBANA DEL NOROESTE SA DE CV","A085173010",1,1425.18,null,null,null,null,null,"CDI SA DE CV"]
[null,null,null,{"$f":"COUNTIF($E$1:E1684,consulta!$D$1)","v":0},"TECNOLOGIA URBANA DEL NOROESTE SA DE CV","A085173010",1,1247.3399999999999,null,null,null,null,null,"JAVIER MELENDEZ IGNACIO"]
[null,null,null,{"$f":"COUNTIF($E$1:E1685,consulta!$D$1)","v":0},"TECNOLOGIA URBANA DEL NOROESTE SA DE CV","A085173010",1,3017.77,null,null,null,null,null,"PROCESADORA JOVI SA DE CV"]
[null,null,null,{"$f":"COUNTIF($E$1:E1686,consulta!$D$1)","v":0},"TECNOLOGIA URBANA DEL NOROESTE SA DE CV","A085173010",1,1448.54,null,null,null,null,null,"JOVITA MECILLAS CABRERA"]
[null,null,null,{"$f":"COUNTIF($E$1:E1687,consulta!$D$1)","v":0},"TECNOLOGIA URBANA DEL NOROESTE SA DE CV","A085173010",1,1207.0999999999999,null,null,null,null,null,"SOUTHLAND FLEX PRODUCTS S DE RL DE CV"]
[null,null,null,{"$f":"COUNTIF($E$1:E1688,consulta!$D$1)","v":0},"TECNOLOGIA URBANA DEL NOROESTE SA DE CV","A085173010",1,3118.37,null,null,null,null,null,"BA#OS, IDEAS Y ACABADOS S DE RL DE CV"]
[null,null,null,{"$f":"COUNTIF($E$1:E1689,consulta!$D$1)","v":0},"TECNOLOGIA URBANA DEL NOROESTE SA DE CV","A085173010",1,1425.18,null,null,null,null,null,"JOSE RENE TOVAR SANCHEZ"]
[null,null,null,{"$f":"COUNTIF($E$1:E1690,consulta!$D$1)","v":0},"TECNOLOGIA URBANA DEL NOROESTE SA DE CV","A085173010",1,1247.3399999999999,null,null,null,null,null,"HILDA MARTINEZ MONDRAGON"]
[null,null,null,{"$f":"COUNTIF($E$1:E1691,consulta!$D$1)","v":0},"TECNOLOGIA URBANA DEL NOROESTE SA DE CV","A085173010",1,3017.77,null,null,null,null,null,"EXTERNA SERVICIOS SA DE CV"]
[null,null,null,{"$f":"COUNTIF($E$1:E1692,consulta!$D$1)","v":0},"TECNOLOGIA URBANA DEL NOROESTE SA DE CV","A085173010",1,1207.0999999999999,null,null,null,null,null,"ANJUPAT SOCIEDAD CIVIL"]
[null,null,null,{"$f":"COUNTIF($E$1:E1693,consulta!$D$1)","v":0},"TECNOLOGIA URBANA DEL NOROESTE SA DE CV","A085173010",1,3118.37,null,null,null,null,null,"NET INNOVACION SA DE CV"]
[null,null,null,{"$f":"COUNTIF($E$1:E1694,consulta!$D$1)","v":0},"TECNOLOGIA URBANA DEL NOROESTE SA DE CV","A085173010",1,1247.3399999999999,null,null,null,null,null,"ENRIQUE MENDEZ ALVAREZ"]
[null,null,null,{"$f":"COUNTIF($E$1:E1695,consulta!$D$1)","v":0},"TECNOLOGIA URBANA DEL NOROESTE SA DE CV","A085173010",1,3118.37,null,null,null,null,null,"CINCO FANTASTICOS SA DE CV"]
[null,null,null,{"$f":"COUNTIF($E$1:E1696,consulta!$D$1)","v":0},"TECNOLOGIA URBANA DEL NOROESTE SA DE CV","A085173010",1,1247.3399999999999,null,null,null,null,null,"MARIA DE JESUS AYALA MIRANDA"]
[null,null,null,{"$f":"COUNTIF($E$1:E1697,consulta!$D$1)","v":0},"TECNOLOGIA URBANA DEL NOROESTE SA DE CV","A085173010",1,3017.77,null,null,null,null,null,"LAURA LETICIA REYES NU#EZ"]
[null,null,null,{"$f":"COUNTIF($E$1:E1698,consulta!$D$1)","v":0},"TECNOLOGIA URBANA DEL NOROESTE SA DE CV","A085173010",1,1207.0999999999999,null,null,null,null,null,"ALTERNATIVAS ECOSUSTENTABLES SA DE CV"]
[null,null,null,{"$f":"COUNTIF($E$1:E1699,consulta!$D$1)","v":0},"TECNOLOGIA URBANA DEL NOROESTE SA DE CV","A085173010",1,3118.37,null,null,null,null,null,"CORPORATIVO LOGISTICO Y CONTABLE GGM SC"]
[null,null,null,{"$f":"COUNTIF($E$1:E1700,consulta!$D$1)","v":0},"TECNOLOGIA URBANA DEL NOROESTE SA DE CV","A085173010",1,1247.3399999999999,null,null,null,null,null,"OLGA AYLIN COTA COTA"]
[null,null,null,{"$f":"COUNTIF($E$1:E1701,consulta!$D$1)","v":0},"TECNOLOGIA URBANA DEL NOROESTE SA DE CV","A085173010",1,3118.37,null,null,null,null,null,"CORPORATIVO HOTELERO DEL NORTE SA DE CV"]
[null,null,null,{"$f":"COUNTIF($E$1:E1702,consulta!$D$1)","v":0},"TECNOLOGIA URBANA DEL NOROESTE SA DE CV","A085173010",1,1247.3399999999999,null,null,null,null,null,"RAMONA ALICIA LOPEZ LOPEZ"]
[null,null,null,{"$f":"COUNTIF($E$1:E1703,consulta!$D$1)","v":0},"TECNOLOGIA URBANA DEL NOROESTE SA DE CV","A085173010",1,1425.18,null,null,null,null,null,"CINEPOLIS DE MEXICO SA DE CV"]
[null,null,null,{"$f":"COUNTIF($E$1:E1704,consulta!$D$1)","v":0},"OPERADORA DE FUTBOL RAPIDO DE TIJUANA SA DE CV","A085182110",1,10650.54,null,null,null,null,null,"CHRISTIAN ALEJO BARAJAS LOZANO"]
[null,null,null,{"$f":"COUNTIF($E$1:E1705,consulta!$D$1)","v":0},"OPERADORA DE FUTBOL RAPIDO DE TIJUANA SA DE CV","A085182110",1,10650.54,null,null,null,null,null,"BUNKERSANTPROTECCION S DE RL DE CV"]
[null,null,null,{"$f":"COUNTIF($E$1:E1706,consulta!$D$1)","v":0},"OPERADORA DE FUTBOL RAPIDO DE TIJUANA SA DE CV","A085182110",1,4260.21,null,null,null,null,null,"MA DEL CARMEN LINA MORALES RAMIREZ"]
[null,null,null,{"$f":"COUNTIF($E$1:E1707,consulta!$D$1)","v":0},"OPERADORA DE FUTBOL RAPIDO DE TIJUANA SA DE CV","A085182110",1,12593.02,null,null,null,null,null,"EVELYN MIRANDA ARCOS"]
[null,null,null,{"$f":"COUNTIF($E$1:E1708,consulta!$D$1)","v":0},"OPERADORA DE FUTBOL RAPIDO DE TIJUANA SA DE CV","A085182110",1,5037.2,null,null,null,null,null,"CENTRO INFANTIL MINI CITY S A P I DE CV"]
[null,null,null,{"$f":"COUNTIF($E$1:E1709,consulta!$D$1)","v":0},"OPERADORA DE FUTBOL RAPIDO DE TIJUANA SA DE CV","A085182110",1,12593.02,null,null,null,null,null,"COFE TU ASESOR INTEGRAL SC"]
[null,null,null,{"$f":"COUNTIF($E$1:E1710,consulta!$D$1)","v":0},"OPERADORA DE FUTBOL RAPIDO DE TIJUANA SA DE CV","A085182110",1,5037.2,null,null,null,null,null,"CESAR MANUEL PEREZ NORIEGA"]
[null,null,null,{"$f":"COUNTIF($E$1:E1711,consulta!$D$1)","v":0},"OPERADORA DE FUTBOL RAPIDO DE TIJUANA SA DE CV","A085182110",1,4260.21,null,null,null,null,null,"INSTITUTO FISCAL DE BAJA CALIFORNIA AC"]
[null,null,null,{"$f":"COUNTIF($E$1:E1712,consulta!$D$1)","v":0},"SAMUEL HERRERA CALDERON","A085182310",1,1389.45,null,null,null,null,null,"GOVE DE TIJUANA SA DE CV"]
[null,null,null,{"$f":"COUNTIF($E$1:E1713,consulta!$D$1)","v":0},"SAMUEL HERRERA CALDERON","A085182310",1,1367.04,null,null,null,null,null,"IMPRESERVICIO DEL NOROESTE S DE RL DE CV"]
[null,null,null,{"$f":"COUNTIF($E$1:E1714,consulta!$D$1)","v":0},"SAMUEL HERRERA CALDERON","A085182310",1,555.78,null,null,null,null,null,"GABRIELA MAGDALENA MENDOZA GAMBOA"]
[null,null,null,{"$f":"COUNTIF($E$1:E1715,consulta!$D$1)","v":0},"SAMUEL HERRERA CALDERON","A085182310",1,546.80999999999995,null,null,null,null,null,"RAUL ESCUDERO CURIEL"]
[null,null,null,{"$f":"COUNTIF($E$1:E1716,consulta!$D$1)","v":0},"SAMUEL HERRERA CALDERON","A085182310",1,1518.6,null,null,null,null,null,"INNOVATIO CONSULTORES SC"]
[null,null,null,{"$f":"COUNTIF($E$1:E1717,consulta!$D$1)","v":0},"SAMUEL HERRERA CALDERON","A085182310",1,607.44000000000005,null,null,null,null,null,"POMODORO DEL NORTE SA DE CV"]
[null,null,null,{"$f":"COUNTIF($E$1:E1718,consulta!$D$1)","v":0},"SAMUEL HERRERA CALDERON","A085182310",1,1518.6,null,null,null,null,null,"COLABORADORES POR UN MEJOR FUTURO AC"]
[null,null,null,{"$f":"COUNTIF($E$1:E1719,consulta!$D$1)","v":0},"SAMUEL HERRERA CALDERON","A085182310",1,607.44000000000005,null,null,null,null,null,"NACHOS Y FRANQUICIAS DEL NOROESTE S DE RL DE CV"]
[null,null,null,{"$f":"COUNTIF($E$1:E1720,consulta!$D$1)","v":0},"SAMUEL HERRERA CALDERON","A085182310",1,1518.6,null,null,null,null,null,"MARLO DE BAJA CALIFORNIA SA DE CV"]
[null,null,null,{"$f":"COUNTIF($E$1:E1721,consulta!$D$1)","v":0},"SAMUEL HERRERA CALDERON","A085182310",1,607.44000000000005,null,null,null,null,null,"ROBERTO ALEXANDER FRAIJO VELAZQUEZ"]
[null,null,null,{"$f":"COUNTIF($E$1:E1722,consulta!$D$1)","v":0},"FILIBERTO RODRIGUEZ VAZQUEZ","A085184510",1,771.8,null,null,null,null,null,"HYR SERVICIOS S DE RL DE CV"]
[null,null,null,{"$f":"COUNTIF($E$1:E1723,consulta!$D$1)","v":0},"FILIBERTO RODRIGUEZ VAZQUEZ","A085184510",1,596.24,null,null,null,null,null,"JUAN CARLOS PEREZ SAINZ"]
[null,null,null,{"$f":"COUNTIF($E$1:E1724,consulta!$D$1)","v":0},"RICARDO MARTINEZ ESPINOZA","A085189910",1,371.13,null,null,null,null,null,"USAMEX CLOTHING S DE RL DE CV"]
[null,null,null,{"$f":"COUNTIF($E$1:E1725,consulta!$D$1)","v":0},"RICARDO MARTINEZ ESPINOZA","A085189910",1,296.95,null,null,null,null,null,"STICHWELL S DE RL DE CV"]
[null,null,null,{"$f":"COUNTIF($E$1:E1726,consulta!$D$1)","v":0},"SOCIEDAD DE COMERCIANTES UNIDOS AUTOMOV, S.A. DE C.V.","A085191310",1,1484.78,null,null,null,null,null,"CLARO MAXIMINO AVILA MARIN"]
[null,null,null,{"$f":"COUNTIF($E$1:E1727,consulta!$D$1)","v":0},"SOCIEDAD DE COMERCIANTES UNIDOS AUTOMOV, S.A. DE C.V.","A085191310",1,1850.42,null,null,null,null,null,"MEDI EDUCATIVOS SA DE CV"]
[null,null,null,{"$f":"COUNTIF($E$1:E1728,consulta!$D$1)","v":0},"SOCIEDAD DE COMERCIANTES UNIDOS AUTOMOV, S.A. DE C.V.","A085191310",1,740.16,null,null,null,null,null,"CONSTANTINO GALVAN VAZQUEZ"]
[null,null,null,{"$f":"COUNTIF($E$1:E1729,consulta!$D$1)","v":0},"SOCIEDAD DE COMERCIANTES UNIDOS AUTOMOV, S.A. DE C.V.","A085191310",1,593.91,null,null,null,null,null,"MCD TRANSPORTE INTERNACIONAL S DE RL DE CV"]
[null,null,null,{"$f":"COUNTIF($E$1:E1730,consulta!$D$1)","v":0},"ELIZABETH HERNANDEZ GARCIA","A085194210",1,1547.56,null,null,null,null,null,"MONICA ISEL GARAY AVILA"]
[null,null,null,{"$f":"COUNTIF($E$1:E1731,consulta!$D$1)","v":0},"ELIZABETH HERNANDEZ GARCIA","A085194210",1,4779.7299999999996,null,null,null,null,null,"D ALBA EVENTOS S DE RL DE CV"]
[null,null,null,{"$f":"COUNTIF($E$1:E1732,consulta!$D$1)","v":0},"ELIZABETH HERNANDEZ GARCIA","A085194210",1,3121.72,null,null,null,null,null,"FK AMBIENTAL S DE RL DE CV"]
[null,null,null,{"$f":"COUNTIF($E$1:E1733,consulta!$D$1)","v":0},"ELIZABETH HERNANDEZ GARCIA","A085194210",1,3411.06,null,null,null,null,null,"ALEJANDRO REYES SALAS"]
[null,null,null,{"$f":"COUNTIF($E$1:E1734,consulta!$D$1)","v":0},"ELIZABETH HERNANDEZ GARCIA","A085194210",1,4570.12,null,null,null,null,null,"MERCADO INDUSTRIAL DE BC SA DE CV"]
[null,null,null,{"$f":"COUNTIF($E$1:E1735,consulta!$D$1)","v":0},"ELIZABETH HERNANDEZ GARCIA","A085194210",1,619.02,null,null,null,null,null,"GAC ARQUITECTURA Y CONSTRUCCION S DE RL DE CV"]
[null,null,null,{"$f":"COUNTIF($E$1:E1736,consulta!$D$1)","v":0},"ELIZABETH HERNANDEZ GARCIA","A085194210",1,862.55,null,null,null,null,null,"JOSE LUIS ROSAS BLANCO"]
[null,null,null,{"$f":"COUNTIF($E$1:E1737,consulta!$D$1)","v":0},"ELIZABETH HERNANDEZ GARCIA","A085194210",1,1911.89,null,null,null,null,null,"DIANEY LOZADA ESPINOZA"]
[null,null,null,{"$f":"COUNTIF($E$1:E1738,consulta!$D$1)","v":0},"ELIZABETH HERNANDEZ GARCIA","A085194210",1,345.02,null,null,null,null,null,"MARLEN AMOR WOHL"]
[null,null,null,{"$f":"COUNTIF($E$1:E1739,consulta!$D$1)","v":0},"ELIZABETH HERNANDEZ GARCIA","A085194210",1,1248.68,null,null,null,null,null,"GUADALUPE MONTSERRAT HEREDIA GUZMAN"]
[null,null,null,{"$f":"COUNTIF($E$1:E1740,consulta!$D$1)","v":0},"ELIZABETH HERNANDEZ GARCIA","A085194210",1,1364.42,null,null,null,null,null,"WEIHUI HE XU"]
[null,null,null,{"$f":"COUNTIF($E$1:E1741,consulta!$D$1)","v":0},"ELIZABETH HERNANDEZ GARCIA","A085194210",1,5268.3,null,null,null,null,null,"GERMAN ARIEL SOTO RODRIGUEZ"]
[null,null,null,{"$f":"COUNTIF($E$1:E1742,consulta!$D$1)","v":0},"ELIZABETH HERNANDEZ GARCIA","A085194210",1,2107.3200000000002,null,null,null,null,null,"MEJORAS Y BIENES SA DE CV"]
[null,null,null,{"$f":"COUNTIF($E$1:E1743,consulta!$D$1)","v":0},"ELIZABETH HERNANDEZ GARCIA","A085194210",1,3654.58,null,null,null,null,null,"JOEL MARTINEZ CHACON"]
[null,null,null,{"$f":"COUNTIF($E$1:E1744,consulta!$D$1)","v":0},"ELIZABETH HERNANDEZ GARCIA","A085194210",1,1461.83,null,null,null,null,null,"PRODUCTOS ESPECIALES AUTOMOTRICES SA DE CV"]
[null,null,null,{"$f":"COUNTIF($E$1:E1745,consulta!$D$1)","v":0},"ELIZABETH HERNANDEZ GARCIA","A085194210",1,3798.05,null,null,null,null,null,"MARIA ROSINA GONZALEZ CORONA"]
[null,null,null,{"$f":"COUNTIF($E$1:E1746,consulta!$D$1)","v":0},"ELIZABETH HERNANDEZ GARCIA","A085194210",1,1519.22,null,null,null,null,null,"JOSE ANTONIO MARTINEZ GARCIA"]
[null,null,null,{"$f":"COUNTIF($E$1:E1747,consulta!$D$1)","v":0},"ELIZABETH HERNANDEZ GARCIA","A085194210",1,3924.62,null,null,null,null,null,"NORMA PATRICIA MORALES TREJO"]
[null,null,null,{"$f":"COUNTIF($E$1:E1748,consulta!$D$1)","v":0},"ELIZABETH HERNANDEZ GARCIA","A085194210",1,1569.84,null,null,null,null,null,"AVILEY INGENIERIA SA DE CV"]
[null,null,null,{"$f":"COUNTIF($E$1:E1749,consulta!$D$1)","v":0},"ELIZABETH HERNANDEZ GARCIA","A085194210",1,5784.92,null,null,null,null,null,"CESAR RAUL RAMIREZ LEY"]
[null,null,null,{"$f":"COUNTIF($E$1:E1750,consulta!$D$1)","v":0},"ELIZABETH HERNANDEZ GARCIA","A085194210",1,2313.96,null,null,null,null,null,"P.S.R. CONSTRUCTORA S DE RL DE CV"]
[null,null,null,{"$f":"COUNTIF($E$1:E1751,consulta!$D$1)","v":0},"ELIZABETH HERNANDEZ GARCIA","A085194210",1,1828.04,null,null,null,null,null,"ERNESTO ANDRADE JACQUEZ"]
[null,null,null,{"$f":"COUNTIF($E$1:E1752,consulta!$D$1)","v":0},"AGUSTIN JARAMILLO GARCIA","A085218110",1,742.39,null,null,null,null,null,"MAURICIO ALEJANDRO CENTENO MARTIN"]
[null,null,null,{"$f":"COUNTIF($E$1:E1753,consulta!$D$1)","v":0},"AGUSTIN JARAMILLO GARCIA","A085218110",1,925.21,null,null,null,null,null,"CLAUDIA CASTRO TORRES"]
[null,null,null,{"$f":"COUNTIF($E$1:E1754,consulta!$D$1)","v":0},"AGUSTIN JARAMILLO GARCIA","A085218110",1,370.08,null,null,null,null,null,"MANTENIMIENTO MAYOR Y CONSTRUCCION SA DE CV"]
[null,null,null,{"$f":"COUNTIF($E$1:E1755,consulta!$D$1)","v":0},"AGUSTIN JARAMILLO GARCIA","A085218110",1,296.95,null,null,null,null,null,"HIRAM MENCHACA RODRIGUEZ"]
[null,null,null,{"$f":"COUNTIF($E$1:E1756,consulta!$D$1)","v":0},"DJ ORTHOPEDICS DE MEXICO SA DE CV","A085220510",1,21685.73,null,null,null,null,null,"MANUEL ROGELIO CASTILLO GUTIERREZ"]
[null,null,null,{"$f":"COUNTIF($E$1:E1757,consulta!$D$1)","v":0},"DJ ORTHOPEDICS DE MEXICO SA DE CV","A085220510",1,9367.4599999999991,null,null,null,null,null,"MIRIAM JANNET MARTINEZ MONTA#O"]
[null,null,null,{"$f":"COUNTIF($E$1:E1758,consulta!$D$1)","v":0},"DJ ORTHOPEDICS DE MEXICO SA DE CV","A085220510",1,3746.98,null,null,null,null,null,"FRANCISCA MURILLO GONZALEZ"]
[null,null,null,{"$f":"COUNTIF($E$1:E1759,consulta!$D$1)","v":0},"DJ ORTHOPEDICS DE MEXICO SA DE CV","A085220510",1,22602.68,null,null,null,null,null,"JULIO CESAR BENITEZ CAMACHO"]
[null,null,null,{"$f":"COUNTIF($E$1:E1760,consulta!$D$1)","v":0},"DJ ORTHOPEDICS DE MEXICO SA DE CV","A085220510",1,9041.07,null,null,null,null,null,"EL RUBI CENTRO CAMBIARIO SA DE CV"]
[null,null,null,{"$f":"COUNTIF($E$1:E1761,consulta!$D$1)","v":0},"DJ ORTHOPEDICS DE MEXICO SA DE CV","A085220510",1,8674.2900000000009,null,null,null,null,null,"ROSA ISELA LOPEZ ANGUIANO"]
[null,null,null,{"$f":"COUNTIF($E$1:E1762,consulta!$D$1)","v":0},"JOSE LUIS GUTIERREZ POLINO","A085237910",1,730.23,null,null,null,null,null,"GLOBAL JAB S DE RL DE CV"]
[null,null,null,{"$f":"COUNTIF($E$1:E1763,consulta!$D$1)","v":0},"JOSE LUIS GUTIERREZ POLINO","A085237910",1,742.39,null,null,null,null,null,"MF IMAGENES PREVENTIVAS SA DE CV"]
[null,null,null,{"$f":"COUNTIF($E$1:E1764,consulta!$D$1)","v":0},"JOSE LUIS GUTIERREZ POLINO","A085237910",1,742.39,null,null,null,null,null,"AUTOTRANSPORTE Y COMERCIALIZADORA JARA SA DE CV"]
[null,null,null,{"$f":"COUNTIF($E$1:E1765,consulta!$D$1)","v":0},"JOSE LUIS GUTIERREZ POLINO","A085237910",1,754.56,null,null,null,null,null,"CORAL ARIDAI ORDO#EZ PEREZ"]
[null,null,null,{"$f":"COUNTIF($E$1:E1766,consulta!$D$1)","v":0},"JOSE LUIS GUTIERREZ POLINO","A085237910",1,742.39,null,null,null,null,null,"GRACIA MARIA ALVARADO GUERRERO"]
[null,null,null,{"$f":"COUNTIF($E$1:E1767,consulta!$D$1)","v":0},"JOSE LUIS GUTIERREZ POLINO","A085237910",1,742.39,null,null,null,null,null,"PRODUCTORA DE BEBIDAS ARTESANALES DE LA BAJA S DE RL DE CV"]
[null,null,null,{"$f":"COUNTIF($E$1:E1768,consulta!$D$1)","v":0},"JOSE LUIS GUTIERREZ POLINO","A085237910",1,292.08999999999997,null,null,null,null,null,"ISABELLA NOVIAS SA DE CV"]
[null,null,null,{"$f":"COUNTIF($E$1:E1769,consulta!$D$1)","v":0},"JOSE LUIS GUTIERREZ POLINO","A085237910",1,865.51,null,null,null,null,null,"MAURILIO SANCHEZ CORAZA"]
[null,null,null,{"$f":"COUNTIF($E$1:E1770,consulta!$D$1)","v":0},"JOSE LUIS GUTIERREZ POLINO","A085237910",1,296.95,null,null,null,null,null,"TRUST DIGITAL DENTISTRY S DE RL DE CV"]
[null,null,null,{"$f":"COUNTIF($E$1:E1771,consulta!$D$1)","v":0},"JOSE LUIS GUTIERREZ POLINO","A085237910",1,346.2,null,null,null,null,null,"GERARDO ALBERTO SANCHEZ PONCE DE LEON"]
[null,null,null,{"$f":"COUNTIF($E$1:E1772,consulta!$D$1)","v":0},"JOSE LUIS GUTIERREZ POLINO","A085237910",1,925.21,null,null,null,null,null,"PUBLICIDAD ELITE S DE RL DE CV"]
[null,null,null,{"$f":"COUNTIF($E$1:E1773,consulta!$D$1)","v":0},"JOSE LUIS GUTIERREZ POLINO","A085237910",1,296.95,null,null,null,null,null,"MARIANA MEZA RODRIGUEZ"]
[null,null,null,{"$f":"COUNTIF($E$1:E1774,consulta!$D$1)","v":0},"JOSE LUIS GUTIERREZ POLINO","A085237910",1,370.08,null,null,null,null,null,"CONSTRUCTORA Y ARRENDADORA ARMUSA S DE RL DE CV"]
[null,null,null,{"$f":"COUNTIF($E$1:E1775,consulta!$D$1)","v":0},"JOSE LUIS GUTIERREZ POLINO","A085237910",1,895.37,null,null,null,null,null,"CORPORATIVO TEKSEG S DE RL DE CV"]
[null,null,null,{"$f":"COUNTIF($E$1:E1776,consulta!$D$1)","v":0},"JOSE LUIS GUTIERREZ POLINO","A085237910",1,301.82,null,null,null,null,null,"EDUARDO MONTES ESQUIVEL"]
[null,null,null,{"$f":"COUNTIF($E$1:E1777,consulta!$D$1)","v":0},"JOSE LUIS GUTIERREZ POLINO","A085237910",1,358.14,null,null,null,null,null,"CUBIERTAS Y MANTENIMIENTOS INDUSTRIALES S DE RL DE CV"]
[null,null,null,{"$f":"COUNTIF($E$1:E1778,consulta!$D$1)","v":0},"JOSE LUIS GUTIERREZ POLINO","A085237910",1,925.21,null,null,null,null,null,"GECKO-LOGIC-MEXICO S DE RL DE CV"]
[null,null,null,{"$f":"COUNTIF($E$1:E1779,consulta!$D$1)","v":0},"JOSE LUIS GUTIERREZ POLINO","A085237910",1,296.95,null,null,null,null,null,"LUIS ALBERTO LOPEZ ORTEGA"]
[null,null,null,{"$f":"COUNTIF($E$1:E1780,consulta!$D$1)","v":0},"JOSE LUIS GUTIERREZ POLINO","A085237910",1,370.08,null,null,null,null,null,"SP SERVICOM S DE RL DE CV"]
[null,null,null,{"$f":"COUNTIF($E$1:E1781,consulta!$D$1)","v":0},"JOSE LUIS GUTIERREZ POLINO","A085237910",1,895.37,null,null,null,null,null,"BLING-BLING SA DE CV"]
[null,null,null,{"$f":"COUNTIF($E$1:E1782,consulta!$D$1)","v":0},"JOSE LUIS GUTIERREZ POLINO","A085237910",1,358.14,null,null,null,null,null,"SOLUCIONES DE INGENIERIA DE TIJUANA S DE RL DE CV"]
[null,null,null,{"$f":"COUNTIF($E$1:E1783,consulta!$D$1)","v":0},"JOSE LUIS GUTIERREZ POLINO","A085237910",1,925.21,null,null,null,null,null,"GERARDO AMADO RUBI PULIDO"]
[null,null,null,{"$f":"COUNTIF($E$1:E1784,consulta!$D$1)","v":0},"JOSE LUIS GUTIERREZ POLINO","A085237910",1,370.08,null,null,null,null,null,"ADRIANA GONZALEZ RODRIGUEZ"]
[null,null,null,{"$f":"COUNTIF($E$1:E1785,consulta!$D$1)","v":0},"JOSE LUIS GUTIERREZ POLINO","A085237910",1,925.21,null,null,null,null,null,"KARLA VERONICA LOBATO HUIZAR"]
[null,null,null,{"$f":"COUNTIF($E$1:E1786,consulta!$D$1)","v":0},"JOSE LUIS GUTIERREZ POLINO","A085237910",1,370.08,null,null,null,null,null,"JOSE FRANCISCO AGUIRRE CORTES"]
[null,null,null,{"$f":"COUNTIF($E$1:E1787,consulta!$D$1)","v":0},"JOSE LUIS GUTIERREZ POLINO","A085237910",1,895.37,null,null,null,null,null,"ASESORIA TECNICA CONSTRUCTIVA S DE RL DE CV"]
[null,null,null,{"$f":"COUNTIF($E$1:E1788,consulta!$D$1)","v":0},"JOSE LUIS GUTIERREZ POLINO","A085237910",1,358.14,null,null,null,null,null,"JUAN PABLO ROBLES NORIEGA"]
[null,null,null,{"$f":"COUNTIF($E$1:E1789,consulta!$D$1)","v":0},"JOSE LUIS GUTIERREZ POLINO","A085237910",1,925.21,null,null,null,null,null,"OPERADORA ADUANAL DE TIJUANA SC"]
[null,null,null,{"$f":"COUNTIF($E$1:E1790,consulta!$D$1)","v":0},"JOSE LUIS GUTIERREZ POLINO","A085237910",1,370.08,null,null,null,null,null,"BAJA ACCOUNTING SC"]
[null,null,null,{"$f":"COUNTIF($E$1:E1791,consulta!$D$1)","v":0},"JOSE LUIS GUTIERREZ POLINO","A085237910",1,925.21,null,null,null,null,null,"SAUL ANDRES MEZA BUELNA"]
[null,null,null,{"$f":"COUNTIF($E$1:E1792,consulta!$D$1)","v":0},"JOSE LUIS GUTIERREZ POLINO","A085237910",1,370.08,null,null,null,null,null,"ALEJANDRO BURQUEZ COTA"]
[null,null,null,{"$f":"COUNTIF($E$1:E1793,consulta!$D$1)","v":0},"JOSE LUIS GUTIERREZ POLINO","A085237910",1,296.95,null,null,null,null,null,"ASSERVAN SA DE CV"]
[null,null,null,{"$f":"COUNTIF($E$1:E1794,consulta!$D$1)","v":0},"GUADALUPE SALAZAR CUEVAS","A085254310",1,1516.66,null,null,null,null,null,"SMART PROVEEDORES INDUSTRIALES SA DE CV"]
[null,null,null,{"$f":"COUNTIF($E$1:E1795,consulta!$D$1)","v":0},"GUADALUPE SALAZAR CUEVAS","A085254310",1,1492.2,null,null,null,null,null,"NSERVICIO CONSULTORIA Y ESTRATEGIAS EMPRESARIALES SC DE RL DE CV"]
[null,null,null,{"$f":"COUNTIF($E$1:E1796,consulta!$D$1)","v":0},"GUADALUPE SALAZAR CUEVAS","A085254310",1,1492.2,null,null,null,null,null,"SEGO HITEC S DE RL DE CV"]
[null,null,null,{"$f":"COUNTIF($E$1:E1797,consulta!$D$1)","v":0},"GUADALUPE SALAZAR CUEVAS","A085254310",1,606.66,null,null,null,null,null,"KARIME ROMERO MARTINEZ"]
[null,null,null,{"$f":"COUNTIF($E$1:E1798,consulta!$D$1)","v":0},"GUADALUPE SALAZAR CUEVAS","A085254310",1,596.88,null,null,null,null,null,"ORLANDO CASTRO CAMARGO"]
[null,null,null,{"$f":"COUNTIF($E$1:E1799,consulta!$D$1)","v":0},"GUADALUPE SALAZAR CUEVAS","A085254310",1,1854.18,null,null,null,null,null,"LUZ MARIA PEREZ PEREZ"]
[null,null,null,{"$f":"COUNTIF($E$1:E1800,consulta!$D$1)","v":0},"GUADALUPE SALAZAR CUEVAS","A085254310",1,741.67,null,null,null,null,null,"JOSE SOTO AYON"]
[null,null,null,{"$f":"COUNTIF($E$1:E1801,consulta!$D$1)","v":0},"GUADALUPE SALAZAR CUEVAS","A085254310",1,1854.18,null,null,null,null,null,"ARCELIA YANID CASTRO REYES"]
[null,null,null,{"$f":"COUNTIF($E$1:E1802,consulta!$D$1)","v":0},"GUADALUPE SALAZAR CUEVAS","A085254310",1,741.67,null,null,null,null,null,"VICTOR HUGO LOPEZ BRITO"]
[null,null,null,{"$f":"COUNTIF($E$1:E1803,consulta!$D$1)","v":0},"GUADALUPE SALAZAR CUEVAS","A085254310",1,1794.37,null,null,null,null,null,"FUNERALES JOSMAN SA DE CV"]
[null,null,null,{"$f":"COUNTIF($E$1:E1804,consulta!$D$1)","v":0},"GUADALUPE SALAZAR CUEVAS","A085254310",1,717.74,null,null,null,null,null,"CANTINA LA CHOPERIA TIJUANA SA DE CV"]
[null,null,null,{"$f":"COUNTIF($E$1:E1805,consulta!$D$1)","v":0},"GUADALUPE SALAZAR CUEVAS","A085254310",1,1854.18,null,null,null,null,null,"CENADURIA DE ENSENADA S DE RL DE CV"]
[null,null,null,{"$f":"COUNTIF($E$1:E1806,consulta!$D$1)","v":0},"GUADALUPE SALAZAR CUEVAS","A085254310",1,741.67,null,null,null,null,null,"GRUPO INMOBILIARIO CREDICASAS S DE RL"]
[null,null,null,{"$f":"COUNTIF($E$1:E1807,consulta!$D$1)","v":0},"GUADALUPE SALAZAR CUEVAS","A085254310",1,1854.18,null,null,null,null,null,"SAMUEL DELGADO RODRIGUEZ"]
[null,null,null,{"$f":"COUNTIF($E$1:E1808,consulta!$D$1)","v":0},"GUADALUPE SALAZAR CUEVAS","A085254310",1,741.67,null,null,null,null,null,"MIRNA ULBRICH LABASTIDA"]
[null,null,null,{"$f":"COUNTIF($E$1:E1809,consulta!$D$1)","v":0},"GUADALUPE SALAZAR CUEVAS","A085254310",1,596.88,null,null,null,null,null,"NANCY LILYANA CALZADILLA ROSALES"]
[null,null,null,{"$f":"COUNTIF($E$1:E1810,consulta!$D$1)","v":0},"MIGUEL ANGEL GRANADOS HERNANDEZ","A085254810",1,1658.88,null,null,null,null,null,"LKO MANUFACTURING S DE RL DE CV"]
[null,null,null,{"$f":"COUNTIF($E$1:E1811,consulta!$D$1)","v":0},"MIGUEL ANGEL GRANADOS HERNANDEZ","A085254810",1,663.55,null,null,null,null,null,"RECUBRIMIENTOS Y EXTRACCION DE METALES S DE RL DE CV"]
[null,null,null,{"$f":"COUNTIF($E$1:E1812,consulta!$D$1)","v":0},"L.G. COMERCIAL DE BAJA CALIFORNIA SA DE CV","A085277310",1,3127.19,null,null,null,null,null,"CASTA VITIVINICOLA SA DE CV"]
[null,null,null,{"$f":"COUNTIF($E$1:E1813,consulta!$D$1)","v":0},"L.G. COMERCIAL DE BAJA CALIFORNIA SA DE CV","A085277310",1,3559.56,null,null,null,null,null,"ELIZABETH ALBA LUZ YORBA ZENDEJAS"]
[null,null,null,{"$f":"COUNTIF($E$1:E1814,consulta!$D$1)","v":0},"IVAN GARCIA PARTIDA","A085293010",1,3435.78,null,null,null,null,null,"ALOM FASHION S DE RL DE CV"]
[null,null,null,{"$f":"COUNTIF($E$1:E1815,consulta!$D$1)","v":0},"IVAN GARCIA PARTIDA","A085293010",1,1374.31,null,null,null,null,null,"MARGARITA ESQUER VILLANAZUL"]
[null,null,null,{"$f":"COUNTIF($E$1:E1816,consulta!$D$1)","v":0},"IVAN GARCIA PARTIDA","A085293010",1,3908.76,null,null,null,null,null,"LEON, MARMOL Y GRANITO SA DE CV"]
[null,null,null,{"$f":"COUNTIF($E$1:E1817,consulta!$D$1)","v":0},"IVAN GARCIA PARTIDA","A085293010",1,1563.5,null,null,null,null,null,"CARLOS EDUARDO CARDENAS ALVAREZ"]
[null,null,null,{"$f":"COUNTIF($E$1:E1818,consulta!$D$1)","v":0},"NOSCOM INDUSTRIAL SA DE CV","A085294810",1,3108.14,null,null,null,null,null,"VICTORY UNITED CANNING COMPANY SA DE CV"]
[null,null,null,{"$f":"COUNTIF($E$1:E1819,consulta!$D$1)","v":0},"NOSCOM INDUSTRIAL SA DE CV","A085294810",1,5059.8100000000004,null,null,null,null,null,"FSEM DE MEXICO SA DE CV"]
[null,null,null,{"$f":"COUNTIF($E$1:E1820,consulta!$D$1)","v":0},"NOSCOM INDUSTRIAL SA DE CV","A085294810",1,2023.92,null,null,null,null,null,"ELECTRONICOS EMERI DE MEXICO SA DE CV"]
[null,null,null,{"$f":"COUNTIF($E$1:E1821,consulta!$D$1)","v":0},"NOSCOM INDUSTRIAL SA DE CV","A085294810",1,1243.25,null,null,null,null,null,"MARIO ALBERTO ZAMORA DE SANTIAGO"]
[null,null,null,{"$f":"COUNTIF($E$1:E1822,consulta!$D$1)","v":0},"BAJA DIALISIS SC","A085365310",1,7699.17,null,null,null,null,null,"RH HABILIDADES INTEGRALES DE PERSONAL SC"]
[null,null,null,{"$f":"COUNTIF($E$1:E1823,consulta!$D$1)","v":0},"BAJA DIALISIS SC","A085365310",1,8433.2999999999993,null,null,null,null,null,"FRANCISCO VINICIO ALBA CORTES"]
[null,null,null,{"$f":"COUNTIF($E$1:E1824,consulta!$D$1)","v":0},"JOSE ROBERTO RUIZ PEREZ","A085367410",1,742.39,null,null,null,null,null,"MARTHA ALICIA MURO LEPE"]
[null,null,null,{"$f":"COUNTIF($E$1:E1825,consulta!$D$1)","v":0},"JOSE ROBERTO RUIZ PEREZ","A085367410",1,963.13,null,null,null,null,null,"XOCHITL GABRIELA MARTINEZ FONSECA"]
[null,null,null,{"$f":"COUNTIF($E$1:E1826,consulta!$D$1)","v":0},"JOSE ROBERTO RUIZ PEREZ","A085367410",1,385.25,null,null,null,null,null,"PROYECTOS Y CONSTRUCCIONES VELISA S DE RL DE CV"]
[null,null,null,{"$f":"COUNTIF($E$1:E1827,consulta!$D$1)","v":0},"JOSE ROBERTO RUIZ PEREZ","A085367410",1,296.95,null,null,null,null,null,"DISTRIBUIDORA DE MATERIALES RJ S DE RL DE CV"]
[null,null,null,{"$f":"COUNTIF($E$1:E1828,consulta!$D$1)","v":0},"RITA GORETTY PEREZ PEREZ","A085400110",1,1484.78,null,null,null,null,null,"EMILIA RITA QUEZADA PEREZ"]
[null,null,null,{"$f":"COUNTIF($E$1:E1829,consulta!$D$1)","v":0},"RITA GORETTY PEREZ PEREZ","A085400110",1,593.91,null,null,null,null,null,"SICAP CONSTRUCCIONES Y PROYECTOS S DE RL DE CV"]
[null,null,null,{"$f":"COUNTIF($E$1:E1830,consulta!$D$1)","v":0},"RITA GORETTY PEREZ PEREZ","A085400110",1,841.1,null,null,null,null,null,"ENRIQUE LIZARRAGA CABANILLAS"]
[null,null,null,{"$f":"COUNTIF($E$1:E1831,consulta!$D$1)","v":0},"RITA GORETTY PEREZ PEREZ","A085400110",1,2102.7600000000002,null,null,null,null,null,"ELIZABETH MARIA ROBLES PEREZ"]
[null,null,null,{"$f":"COUNTIF($E$1:E1832,consulta!$D$1)","v":0},"RITA GORETTY PEREZ PEREZ","A085400110",1,841.1,null,null,null,null,null,"RSSH DE MEXICO S DE RL DE CV"]
[null,null,null,{"$f":"COUNTIF($E$1:E1833,consulta!$D$1)","v":0},"RITA GORETTY PEREZ PEREZ","A085400110",1,593.91,null,null,null,null,null,"DESARROLLADORA EL ARCA S A P I DE CV"]
[null,null,null,{"$f":"COUNTIF($E$1:E1834,consulta!$D$1)","v":0},"CARLOS EDUARDO AHUMADA ARRUTI","A085404610",1,8611.15,null,null,null,null,null,"MIGUEL ANGEL LIZARRAGA GARCIA"]
[null,null,null,{"$f":"COUNTIF($E$1:E1835,consulta!$D$1)","v":0},"DANILO VILLANUEVA OCEGUERA","A085429310",1,1850.42,null,null,null,null,null,"ASESORIA CONTABLE Y ADMINISTRATIVA DEL NOROESTE SA DE CV"]
[null,null,null,{"$f":"COUNTIF($E$1:E1836,consulta!$D$1)","v":0},"DANILO VILLANUEVA OCEGUERA","A085429310",1,740.16,null,null,null,null,null,"MARTHA VERONICA CARRE#O GARCIA"]
[null,null,null,{"$f":"COUNTIF($E$1:E1837,consulta!$D$1)","v":0},"MARIBEL CORRALES SANDOVAL","A085429710",1,765.55,null,null,null,null,null,"JUAN MATEO ENRIQUEZ HERNANDEZ"]
[null,null,null,{"$f":"COUNTIF($E$1:E1838,consulta!$D$1)","v":0},"MARIBEL CORRALES SANDOVAL","A085429710",1,939.63,null,null,null,null,null,"CARLOS ENRIQUE MERCADO GONZALEZ"]
[null,null,null,{"$f":"COUNTIF($E$1:E1839,consulta!$D$1)","v":0},"MARIBEL CORRALES SANDOVAL","A085429710",1,375.85,null,null,null,null,null,"GRUPO RICE SA DE CV"]
[null,null,null,{"$f":"COUNTIF($E$1:E1840,consulta!$D$1)","v":0},"MARIBEL CORRALES SANDOVAL","A085429710",1,306.22000000000003,null,null,null,null,null,"BAJA FX CENTRO CAMBIARIO SA DE CV"]
[null,null,null,{"$f":"COUNTIF($E$1:E1841,consulta!$D$1)","v":0},"GRACIELA PIZANO DOMINGUEZ","A085432710",1,2421.4299999999998,null,null,null,null,null,"CARLOS JESUS BARBOZA ARAMBULA"]
[null,null,null,{"$f":"COUNTIF($E$1:E1842,consulta!$D$1)","v":0},"GRACIELA PIZANO DOMINGUEZ","A085432710",1,2421.4299999999998,null,null,null,null,null,"MSI DE MEXICO S DE RL DE CV"]
[null,null,null,{"$f":"COUNTIF($E$1:E1843,consulta!$D$1)","v":0},"GRACIELA PIZANO DOMINGUEZ","A085432710",1,968.57,null,null,null,null,null,"MODUYA SA DE CV"]
[null,null,null,{"$f":"COUNTIF($E$1:E1844,consulta!$D$1)","v":0},"GRACIELA PIZANO DOMINGUEZ","A085432710",1,2873.97,null,null,null,null,null,"OCTAVIO ROMERO GOMEZ"]
[null,null,null,{"$f":"COUNTIF($E$1:E1845,consulta!$D$1)","v":0},"GRACIELA PIZANO DOMINGUEZ","A085432710",1,1149.58,null,null,null,null,null,"CENTRO TECNOLOGICO SIGLO XXI FUNDADORES SC"]
[null,null,null,{"$f":"COUNTIF($E$1:E1846,consulta!$D$1)","v":0},"GRACIELA PIZANO DOMINGUEZ","A085432710",1,2873.97,null,null,null,null,null,"KELLY SERVICES MEXICO SA DE CV"]
[null,null,null,{"$f":"COUNTIF($E$1:E1847,consulta!$D$1)","v":0},"GRACIELA PIZANO DOMINGUEZ","A085432710",1,1149.58,null,null,null,null,null,"SERGIO RAMOS FIGUEROA"]
[null,null,null,{"$f":"COUNTIF($E$1:E1848,consulta!$D$1)","v":0},"GRACIELA PIZANO DOMINGUEZ","A085432710",1,968.57,null,null,null,null,null,"LUIS ALONSO CORONA ZAMORA"]
[null,null,null,{"$f":"COUNTIF($E$1:E1849,consulta!$D$1)","v":0},"ARCADIO ARIAS CHAVEZ","A085439710",1,742.39,null,null,null,null,null,"IFASHION S DE RL DE CV"]
[null,null,null,{"$f":"COUNTIF($E$1:E1850,consulta!$D$1)","v":0},"ARCADIO ARIAS CHAVEZ","A085439710",1,925.21,null,null,null,null,null,"MARLEN MAGDALENA MARTINEZ MORALES"]
[null,null,null,{"$f":"COUNTIF($E$1:E1851,consulta!$D$1)","v":0},"ARCADIO ARIAS CHAVEZ","A085439710",1,370.08,null,null,null,null,null,"ALFONSO RAFAEL RAMIREZ TOVAR"]
[null,null,null,{"$f":"COUNTIF($E$1:E1852,consulta!$D$1)","v":0},"ARCADIO ARIAS CHAVEZ","A085439710",1,296.95,null,null,null,null,null,"LAURA PATRICIA JIMENEZ LOZANO"]
[null,null,null,{"$f":"COUNTIF($E$1:E1853,consulta!$D$1)","v":0},"DHL METROPOLITAN LOGISTICS SC MEXICO SA DE CV","A085453010",1,24278.01,null,null,null,null,null,"MARCO ANTONIO ORTIZ GONZALEZ"]
[null,null,null,{"$f":"COUNTIF($E$1:E1854,consulta!$D$1)","v":0},"DHL METROPOLITAN LOGISTICS SC MEXICO SA DE CV","A085453010",1,28577.919999999998,null,null,null,null,null,"RAGO ESTRUCTURAS METALICAS DE TIJUANA S DE RL DE CV"]
[null,null,null,{"$f":"COUNTIF($E$1:E1855,consulta!$D$1)","v":0},"ESCUELA EN ELECTRONICA DIGITAL AC","A085461410",1,1484.78,null,null,null,null,null,"ZIONNE S DE RL DE CV"]
[null,null,null,{"$f":"COUNTIF($E$1:E1856,consulta!$D$1)","v":0},"ESCUELA EN ELECTRONICA DIGITAL AC","A085461410",1,593.91,null,null,null,null,null,"OSCAR ESEQUIEL VELEZ SALAZAR"]
[null,null,null,{"$f":"COUNTIF($E$1:E1857,consulta!$D$1)","v":0},"ESCUELA EN ELECTRONICA DIGITAL AC","A085461410",1,1850.42,null,null,null,null,null,"ANA COBOS HERMIDA"]
[null,null,null,{"$f":"COUNTIF($E$1:E1858,consulta!$D$1)","v":0},"ESCUELA EN ELECTRONICA DIGITAL AC","A085461410",1,740.16,null,null,null,null,null,"GRUPO SEGUP S DE RL DE CV"]
[null,null,null,{"$f":"COUNTIF($E$1:E1859,consulta!$D$1)","v":0},"JOSE ANTONIO CABALLERO MARTINEZ","A085463210",1,754.56,null,null,null,null,null,"JESUS FERNANDO GASTELUM CAMACHO"]
[null,null,null,{"$f":"COUNTIF($E$1:E1860,consulta!$D$1)","v":0},"JOSE ANTONIO CABALLERO MARTINEZ","A085463210",1,742.39,null,null,null,null,null,"JOSE CARLO LOPEZ CUADRAS"]
[null,null,null,{"$f":"COUNTIF($E$1:E1861,consulta!$D$1)","v":0},"JOSE ANTONIO CABALLERO MARTINEZ","A085463210",1,301.82,null,null,null,null,null,"JOSE ENRIQUE OLGUIN GABI#A"]
[null,null,null,{"$f":"COUNTIF($E$1:E1862,consulta!$D$1)","v":0},"JOSE ANTONIO CABALLERO MARTINEZ","A085463210",1,925.21,null,null,null,null,null,"ROCIO YOLANDA GOMEZ LOPEZ"]
[null,null,null,{"$f":"COUNTIF($E$1:E1863,consulta!$D$1)","v":0},"JOSE ANTONIO CABALLERO MARTINEZ","A085463210",1,370.08,null,null,null,null,null,"LR BY LILIANA REAL SA DE CV"]
[null,null,null,{"$f":"COUNTIF($E$1:E1864,consulta!$D$1)","v":0},"JOSE ANTONIO CABALLERO MARTINEZ","A085463210",1,925.21,null,null,null,null,null,"BRENDA LETICIA HERRERA ACU#A"]
[null,null,null,{"$f":"COUNTIF($E$1:E1865,consulta!$D$1)","v":0},"JOSE ANTONIO CABALLERO MARTINEZ","A085463210",1,370.08,null,null,null,null,null,"ASISTENTES AUXILIARES DE TIJUANA AC"]
[null,null,null,{"$f":"COUNTIF($E$1:E1866,consulta!$D$1)","v":0},"JOSE ANTONIO CABALLERO MARTINEZ","A085463210",1,296.95,null,null,null,null,null,"FASTENAL MEXICO SERVICES S DE RL DE CV"]
[null,null,null,{"$f":"COUNTIF($E$1:E1867,consulta!$D$1)","v":0},"HUGO FERNANDO CAZARES BARUCH","A085465510",1,1484.78,null,null,null,null,null,"FORKTECH DE MEXICO S DE RL DE CV"]
[null,null,null,{"$f":"COUNTIF($E$1:E1868,consulta!$D$1)","v":0},"HUGO FERNANDO CAZARES BARUCH","A085465510",1,1850.42,null,null,null,null,null,"LUCERO DEL ROCIO MERCADO SALAS"]
[null,null,null,{"$f":"COUNTIF($E$1:E1869,consulta!$D$1)","v":0},"HUGO FERNANDO CAZARES BARUCH","A085465510",1,740.16,null,null,null,null,null,"HERIBERTO SANTOS GARCIA"]
[null,null,null,{"$f":"COUNTIF($E$1:E1870,consulta!$D$1)","v":0},"HUGO FERNANDO CAZARES BARUCH","A085465510",1,593.91,null,null,null,null,null,"ROXANA CRISTERNA ACOSTA"]
[null,null,null,{"$f":"COUNTIF($E$1:E1871,consulta!$D$1)","v":0},"HOSPITAL CENTRO MEDICO NOVA SA DE CV","A085467210",1,129449.86,null,null,null,null,null,"KAALIS SA DE CV"]
[null,null,null,{"$f":"COUNTIF($E$1:E1872,consulta!$D$1)","v":0},"HOSPITAL CENTRO MEDICO NOVA SA DE CV","A085467210",1,144309.85999999999,null,null,null,null,null,"M M TJ SERVICES S DE RL DE CV"]
[null,null,null,{"$f":"COUNTIF($E$1:E1873,consulta!$D$1)","v":0},"HOSPITAL CENTRO MEDICO NOVA SA DE CV","A085467210",1,51779.94,null,null,null,null,null,"ASESORES FISCALES EMPRESARIALES ELITE SA DE CV"]
[null,null,null,{"$f":"COUNTIF($E$1:E1874,consulta!$D$1)","v":0},"HOSPITAL CENTRO MEDICO NOVA SA DE CV","A085467210",1,134707.76,null,null,null,null,null,"CONSTRUCTORA MIBAJA S DE RL DE CV"]
[null,null,null,{"$f":"COUNTIF($E$1:E1875,consulta!$D$1)","v":0},"HOSPITAL CENTRO MEDICO NOVA SA DE CV","A085467210",1,53883.1,null,null,null,null,null,"SISTEMAS SUSTENTABLES DE MEXICO S DE RL DE CV"]
[null,null,null,{"$f":"COUNTIF($E$1:E1876,consulta!$D$1)","v":0},"HOSPITAL CENTRO MEDICO NOVA SA DE CV","A085467210",1,57723.94,null,null,null,null,null,"COLEGIO JULIETA QUESADA AC"]
[null,null,null,{"$f":"COUNTIF($E$1:E1877,consulta!$D$1)","v":0},"PROMOTORA COL SA DE CV","A085472910",1,13616.32,null,null,null,null,null,"ALICO ELEGANCE S DE RL DE CV"]
[null,null,null,{"$f":"COUNTIF($E$1:E1878,consulta!$D$1)","v":0},"PROMOTORA COL SA DE CV","A085472910",1,13616.32,null,null,null,null,null,"LACROME SA DE CV"]
[null,null,null,{"$f":"COUNTIF($E$1:E1879,consulta!$D$1)","v":0},"PROMOTORA COL SA DE CV","A085472910",1,5446.52,null,null,null,null,null,"DANIEL EDUARDO URIARTE PEREZ"]
[null,null,null,{"$f":"COUNTIF($E$1:E1880,consulta!$D$1)","v":0},"PROMOTORA COL SA DE CV","A085472910",1,5446.52,null,null,null,null,null,"CONSTRUCTORA INMOBILIARIA LORETO SA DE CV"]
[null,null,null,{"$f":"COUNTIF($E$1:E1881,consulta!$D$1)","v":0},"HECTOR CENTENO BERRUETA","A085480510",1,2974.39,null,null,null,null,null,"EMPLOYEES MANAGEMENT SERVICES SC"]
[null,null,null,{"$f":"COUNTIF($E$1:E1882,consulta!$D$1)","v":0},"HECTOR CENTENO BERRUETA","A085480510",1,2974.39,null,null,null,null,null,"SUSHI BOULEVARD S DE RL DE CV"]
[null,null,null,{"$f":"COUNTIF($E$1:E1883,consulta!$D$1)","v":0},"HECTOR CENTENO BERRUETA","A085480510",1,1189.75,null,null,null,null,null,"CENTRO INTEGRAL PARA LA ORGANIZACION DE COMUNIDADES AC"]
[null,null,null,{"$f":"COUNTIF($E$1:E1884,consulta!$D$1)","v":0},"HECTOR CENTENO BERRUETA","A085480510",1,3725.11,null,null,null,null,null,"T.V.P. CONSTRUCCIONES S DE RL DE CV"]
[null,null,null,{"$f":"COUNTIF($E$1:E1885,consulta!$D$1)","v":0},"HECTOR CENTENO BERRUETA","A085480510",1,1490.04,null,null,null,null,null,"IGNACIA DEL CARMEN ARGUETA ESTRADA"]
[null,null,null,{"$f":"COUNTIF($E$1:E1886,consulta!$D$1)","v":0},"HECTOR CENTENO BERRUETA","A085480510",1,3725.11,null,null,null,null,null,"INDUSTRIAS KOVET S DE RL DE CV"]
[null,null,null,{"$f":"COUNTIF($E$1:E1887,consulta!$D$1)","v":0},"HECTOR CENTENO BERRUETA","A085480510",1,1490.04,null,null,null,null,null,"MARIA DENIS ALFARO GONZALEZ"]
[null,null,null,{"$f":"COUNTIF($E$1:E1888,consulta!$D$1)","v":0},"HECTOR CENTENO BERRUETA","A085480510",1,1189.75,null,null,null,null,null,"DISTRIBUIDORA Y COMERCIALIZADORA DE ARRANCADORES Y ALTER DEL NTE SRL CV"]
[null,null,null,{"$f":"COUNTIF($E$1:E1889,consulta!$D$1)","v":0},"HECTOR GERARDO CASTILLO CERDA","A085486810",1,2413.5300000000002,null,null,null,null,null,"ALMA ESPERANZA DIAZ ROMERO"]
[null,null,null,{"$f":"COUNTIF($E$1:E1890,consulta!$D$1)","v":0},"COLEGIO CARLOS ARAIZA PE#A AC","A085497010",1,6496.84,null,null,null,null,null,"LUIS MIGUEL VALLEJO MADUE#O"]
[null,null,null,{"$f":"COUNTIF($E$1:E1891,consulta!$D$1)","v":0},"COLEGIO CARLOS ARAIZA PE#A AC","A085497010",1,6494.7,null,null,null,null,null,"GERMAN GUADALUPE RIVERA CONTRERAS"]
[null,null,null,{"$f":"COUNTIF($E$1:E1892,consulta!$D$1)","v":0},"COLEGIO CARLOS ARAIZA PE#A AC","A085497010",1,6602.92,null,null,null,null,null,"OPERADORA DE HOTELES BRUES SA DE CV"]
[null,null,null,{"$f":"COUNTIF($E$1:E1893,consulta!$D$1)","v":0},"COLEGIO CARLOS ARAIZA PE#A AC","A085497010",1,6602.92,null,null,null,null,null,"CSE EQUIPOS Y SERVICIOS, SA DE CV"]
[null,null,null,{"$f":"COUNTIF($E$1:E1894,consulta!$D$1)","v":0},"COLEGIO CARLOS ARAIZA PE#A AC","A085497010",1,6711.17,null,null,null,null,null,"MIGUEL ANGEL MENDOZA ARIAS"]
[null,null,null,{"$f":"COUNTIF($E$1:E1895,consulta!$D$1)","v":0},"COLEGIO CARLOS ARAIZA PE#A AC","A085497010",1,6602.92,null,null,null,null,null,"AARON GUAKIL FAENA"]
[null,null,null,{"$f":"COUNTIF($E$1:E1896,consulta!$D$1)","v":0},"COLEGIO CARLOS ARAIZA PE#A AC","A085497010",1,6602.92,null,null,null,null,null,"GOPERMEX S DE RL DE CV"]
[null,null,null,{"$f":"COUNTIF($E$1:E1897,consulta!$D$1)","v":0},"COLEGIO CARLOS ARAIZA PE#A AC","A085497010",1,2598.73,null,null,null,null,null,"MIGUEL PINEDO VEGA"]
[null,null,null,{"$f":"COUNTIF($E$1:E1898,consulta!$D$1)","v":0},"COLEGIO CARLOS ARAIZA PE#A AC","A085497010",1,7109.47,null,null,null,null,null,"JOSE DE JESUS OLGUIN LUNA"]
[null,null,null,{"$f":"COUNTIF($E$1:E1899,consulta!$D$1)","v":0},"COLEGIO CARLOS ARAIZA PE#A AC","A085497010",1,2843.78,null,null,null,null,null,"ELVIA GOMEZ GONZALEZ"]
[null,null,null,{"$f":"COUNTIF($E$1:E1900,consulta!$D$1)","v":0},"COLEGIO CARLOS ARAIZA PE#A AC","A085497010",1,7163.17,null,null,null,null,null,"COMPACT COMERCE INTER S DE RL DE CV"]
[null,null,null,{"$f":"COUNTIF($E$1:E1901,consulta!$D$1)","v":0},"COLEGIO CARLOS ARAIZA PE#A AC","A085497010",1,2597.88,null,null,null,null,null,"ILDA MARCELA VILLARREAL ROMAN"]
[null,null,null,{"$f":"COUNTIF($E$1:E1902,consulta!$D$1)","v":0},"COLEGIO CARLOS ARAIZA PE#A AC","A085497010",1,2865.26,null,null,null,null,null,"DALIA MARGARITA MACHADO REA"]
[null,null,null,{"$f":"COUNTIF($E$1:E1903,consulta!$D$1)","v":0},"COLEGIO CARLOS ARAIZA PE#A AC","A085497010",1,6790.68,null,null,null,null,null,"FABIAN ARMANDO GARDEA MORENO"]
[null,null,null,{"$f":"COUNTIF($E$1:E1904,consulta!$D$1)","v":0},"COLEGIO CARLOS ARAIZA PE#A AC","A085497010",1,2641.16,null,null,null,null,null,"LUIS DANIEL MARTINEZ ACERO"]
[null,null,null,{"$f":"COUNTIF($E$1:E1905,consulta!$D$1)","v":0},"COLEGIO CARLOS ARAIZA PE#A AC","A085497010",1,2716.27,null,null,null,null,null,"CIGAR HOUSE INTERNATIONAL SA DE CV"]
[null,null,null,{"$f":"COUNTIF($E$1:E1906,consulta!$D$1)","v":0},"COLEGIO CARLOS ARAIZA PE#A AC","A085497010",1,7259.01,null,null,null,null,null,"ANA ELIZABETH HERRERA MURILLO"]
[null,null,null,{"$f":"COUNTIF($E$1:E1907,consulta!$D$1)","v":0},"COLEGIO CARLOS ARAIZA PE#A AC","A085497010",1,2641.16,null,null,null,null,null,"ERIKA LIN Y ASOCIADOS SC"]
[null,null,null,{"$f":"COUNTIF($E$1:E1908,consulta!$D$1)","v":0},"COLEGIO CARLOS ARAIZA PE#A AC","A085497010",1,2903.6,null,null,null,null,null,"MARIA CELIDA LOPEZ AGUIRRE"]
[null,null,null,{"$f":"COUNTIF($E$1:E1909,consulta!$D$1)","v":0},"COLEGIO CARLOS ARAIZA PE#A AC","A085497010",1,7024.91,null,null,null,null,null,"JEOVANNY AGUILAR ROBLES AGUILERA"]
[null,null,null,{"$f":"COUNTIF($E$1:E1910,consulta!$D$1)","v":0},"COLEGIO CARLOS ARAIZA PE#A AC","A085497010",1,2684.46,null,null,null,null,null,"ALBERTO PRIMITIVO HERNANDEZ ROBLES"]
[null,null,null,{"$f":"COUNTIF($E$1:E1911,consulta!$D$1)","v":0},"COLEGIO CARLOS ARAIZA PE#A AC","A085497010",1,2809.96,null,null,null,null,null,"GUENA GRAPHIX S DE RL DE CV"]
[null,null,null,{"$f":"COUNTIF($E$1:E1912,consulta!$D$1)","v":0},"COLEGIO CARLOS ARAIZA PE#A AC","A085497010",1,7259.01,null,null,null,null,null,"AUXILIARES INTEGRALES Y PROFESIONALES AC"]
[null,null,null,{"$f":"COUNTIF($E$1:E1913,consulta!$D$1)","v":0},"COLEGIO CARLOS ARAIZA PE#A AC","A085497010",1,2641.16,null,null,null,null,null,"MYMLAB MEXICO SA DE CV"]
[null,null,null,{"$f":"COUNTIF($E$1:E1914,consulta!$D$1)","v":0},"COLEGIO CARLOS ARAIZA PE#A AC","A085497010",1,2903.6,null,null,null,null,null,"MANUEL IRINEO PEREZ ALARCON"]
[null,null,null,{"$f":"COUNTIF($E$1:E1915,consulta!$D$1)","v":0},"COLEGIO CARLOS ARAIZA PE#A AC","A085497010",1,7024.91,null,null,null,null,null,"JAVIER BENITEZ CRUZ"]
[null,null,null,{"$f":"COUNTIF($E$1:E1916,consulta!$D$1)","v":0},"COLEGIO CARLOS ARAIZA PE#A AC","A085497010",1,2809.96,null,null,null,null,null,"D & M COMERCIO EXTERIOR S DE RL DE CV"]
[null,null,null,{"$f":"COUNTIF($E$1:E1917,consulta!$D$1)","v":0},"COLEGIO CARLOS ARAIZA PE#A AC","A085497010",1,7259.01,null,null,null,null,null,"AUTOMATIC SISTEM INTELLIGENT DE MEXICO SA DE CV"]
[null,null,null,{"$f":"COUNTIF($E$1:E1918,consulta!$D$1)","v":0},"COLEGIO CARLOS ARAIZA PE#A AC","A085497010",1,2903.6,null,null,null,null,null,"VIRGINIA VALVERDE ZARATE"]
[null,null,null,{"$f":"COUNTIF($E$1:E1919,consulta!$D$1)","v":0},"COLEGIO CARLOS ARAIZA PE#A AC","A085497010",1,7259.01,null,null,null,null,null,"CANWEN ZENG"]
[null,null,null,{"$f":"COUNTIF($E$1:E1920,consulta!$D$1)","v":0},"COLEGIO CARLOS ARAIZA PE#A AC","A085497010",1,2903.6,null,null,null,null,null,"SALVADOR FLORES FUERTE"]
[null,null,null,{"$f":"COUNTIF($E$1:E1921,consulta!$D$1)","v":0},"COLEGIO CARLOS ARAIZA PE#A AC","A085497010",1,7024.91,null,null,null,null,null,"ASESORES PUBLICITARIOS DE TIJUANA"]
[null,null,null,{"$f":"COUNTIF($E$1:E1922,consulta!$D$1)","v":0},"COLEGIO CARLOS ARAIZA PE#A AC","A085497010",1,2809.96,null,null,null,null,null,"AIRE TERMICO DE TIJUANA S DE RL DE CV"]
[null,null,null,{"$f":"COUNTIF($E$1:E1923,consulta!$D$1)","v":0},"COLEGIO CARLOS ARAIZA PE#A AC","A085497010",1,7259.01,null,null,null,null,null,"BOSTON COLLEGE AC"]
[null,null,null,{"$f":"COUNTIF($E$1:E1924,consulta!$D$1)","v":0},"COLEGIO CARLOS ARAIZA PE#A AC","A085497010",1,2903.6,null,null,null,null,null,"OFELIA HIPOLITO GONZALEZ"]
[null,null,null,{"$f":"COUNTIF($E$1:E1925,consulta!$D$1)","v":0},"COLEGIO CARLOS ARAIZA PE#A AC","A085497010",1,7259.01,null,null,null,null,null,"NOBLE MILLWORK S DE RL"]
[null,null,null,{"$f":"COUNTIF($E$1:E1926,consulta!$D$1)","v":0},"COLEGIO CARLOS ARAIZA PE#A AC","A085497010",1,2903.6,null,null,null,null,null,"PARK  S TRADING SA DE CV"]
[null,null,null,{"$f":"COUNTIF($E$1:E1927,consulta!$D$1)","v":0},"COLEGIO CARLOS ARAIZA PE#A AC","A085497010",1,2641.16,null,null,null,null,null,"SANDRA EVELYN VALDEZ HERNANDEZ"]
[null,null,null,{"$f":"COUNTIF($E$1:E1928,consulta!$D$1)","v":0},"LEONARDO VERDUGO CAMPOS","A085503610",1,3303.04,null,null,null,null,null,"MARCIA JANETH VAZQUEZ ARELLANO"]
[null,null,null,{"$f":"COUNTIF($E$1:E1929,consulta!$D$1)","v":0},"LEONARDO VERDUGO CAMPOS","A085503610",1,1836.93,null,null,null,null,null,"FRANCISCO RODRIGUEZ RODRIGUEZ"]
[null,null,null,{"$f":"COUNTIF($E$1:E1930,consulta!$D$1)","v":0},"COHEN S ROOFING S DE RL DE CV","A085508310",1,4087.13,null,null,null,null,null,"HERNAN PERALTA HINOJOZA"]
[null,null,null,{"$f":"COUNTIF($E$1:E1931,consulta!$D$1)","v":0},"COHEN S ROOFING S DE RL DE CV","A085508310",1,4082.31,null,null,null,null,null,"IMMOBILIER BC SA DE CV"]
[null,null,null,{"$f":"COUNTIF($E$1:E1932,consulta!$D$1)","v":0},"MARIA DEL CARMEN GUTIERREZ HERNANDEZ","A085546310",1,2227.17,null,null,null,null,null,"LESBIA LORENA ALMARAZ GASPAR"]
[null,null,null,{"$f":"COUNTIF($E$1:E1933,consulta!$D$1)","v":0},"MARIA DEL CARMEN GUTIERREZ HERNANDEZ","A085546310",1,890.86,null,null,null,null,null,"RICARDO ESPINOSA PE#A"]
[null,null,null,{"$f":"COUNTIF($E$1:E1934,consulta!$D$1)","v":0},"MARIA DEL CARMEN GUTIERREZ HERNANDEZ","A085546310",1,2775.63,null,null,null,null,null,"ANTONIO ESPINOZA ROJAS"]
[null,null,null,{"$f":"COUNTIF($E$1:E1935,consulta!$D$1)","v":0},"MARIA DEL CARMEN GUTIERREZ HERNANDEZ","A085546310",1,1110.25,null,null,null,null,null,"LUIS FRANCISCO NAVARRO BLANCO"]
[null,null,null,{"$f":"COUNTIF($E$1:E1936,consulta!$D$1)","v":0},"JOSE ARMANDO LEAL CALLEJAS","A085554810",1,5196.7299999999996,null,null,null,null,null,"SUSANA LILIANA FIGUEROA ROMERO"]
[null,null,null,{"$f":"COUNTIF($E$1:E1937,consulta!$D$1)","v":0},"JOSE ARMANDO LEAL CALLEJAS","A085554810",1,5196.7299999999996,null,null,null,null,null,"PRODUCCION AGRICOLA LA RANCHERA S.P.R. DE R.L."]
[null,null,null,{"$f":"COUNTIF($E$1:E1938,consulta!$D$1)","v":0},"JOSE ARMANDO LEAL CALLEJAS","A085554810",1,2078.69,null,null,null,null,null,"ADMINISTRADORA DE COMERCIO EXTERIOR S DE RL DE CV"]
[null,null,null,{"$f":"COUNTIF($E$1:E1939,consulta!$D$1)","v":0},"JOSE ARMANDO LEAL CALLEJAS","A085554810",1,6476.47,null,null,null,null,null,"MARTIN GERARDO PUENTE LOPEZ"]
[null,null,null,{"$f":"COUNTIF($E$1:E1940,consulta!$D$1)","v":0},"JOSE ARMANDO LEAL CALLEJAS","A085554810",1,2590.58,null,null,null,null,null,"TELEDATA DIGITAL ESPECIALIZADA DEL NORTE SA DE CV"]
[null,null,null,{"$f":"COUNTIF($E$1:E1941,consulta!$D$1)","v":0},"JOSE ARMANDO LEAL CALLEJAS","A085554810",1,6476.47,null,null,null,null,null,"SANDRA LUZ REYES VAZQUEZ"]
[null,null,null,{"$f":"COUNTIF($E$1:E1942,consulta!$D$1)","v":0},"JOSE ARMANDO LEAL CALLEJAS","A085554810",1,2590.58,null,null,null,null,null,"JOSE LEONEL CHAVEZ PEREZ"]
[null,null,null,{"$f":"COUNTIF($E$1:E1943,consulta!$D$1)","v":0},"JOSE ARMANDO LEAL CALLEJAS","A085554810",1,2078.69,null,null,null,null,null,"HECTOR GUTIERREZ MARTINEZ"]
[null,null,null,{"$f":"COUNTIF($E$1:E1944,consulta!$D$1)","v":0},"DISE#OS MARLIZ SA DE CV","A085555010",1,7541.09,null,null,null,null,null,"FUSION MEXICANA DE PROYECTOS S DE RL DE CV"]
[null,null,null,{"$f":"COUNTIF($E$1:E1945,consulta!$D$1)","v":0},"DISE#OS MARLIZ SA DE CV","A085555010",1,8368.14,null,null,null,null,null,"AGENCIA BGT SA DE CV"]
[null,null,null,{"$f":"COUNTIF($E$1:E1946,consulta!$D$1)","v":0},"OPERADORA ALCOMESA SA DE CV","A085555910",1,5077.43,null,null,null,null,null,"GUADALUPE CHAVEZ MONTIEL"]
[null,null,null,{"$f":"COUNTIF($E$1:E1947,consulta!$D$1)","v":0},"OPERADORA ALCOMESA SA DE CV","A085555910",1,71299.05,null,null,null,null,null,"TERRAPLENES Y RENTAS SA DE CV"]
[null,null,null,{"$f":"COUNTIF($E$1:E1948,consulta!$D$1)","v":0},"OPERADORA ALCOMESA SA DE CV","A085555910",1,1737.6,null,null,null,null,null,"JAZTOM PHARMA SA DE CV"]
[null,null,null,{"$f":"COUNTIF($E$1:E1949,consulta!$D$1)","v":0},"IMPORTACIONES DE PISOS Y RECUBRIMIENTOS DEL NTE S DE RL DE CV","A085570510",1,1567.47,null,null,null,null,null,"ROSALVA MARTINEZ LARA"]
[null,null,null,{"$f":"COUNTIF($E$1:E1950,consulta!$D$1)","v":0},"IMPORTACIONES DE PISOS Y RECUBRIMIENTOS DEL NTE S DE RL DE CV","A085570510",1,626.98,null,null,null,null,null,"FELIPE SANTA CRUZ MORALES"]
[null,null,null,{"$f":"COUNTIF($E$1:E1951,consulta!$D$1)","v":0},"IMPORTACIONES DE PISOS Y RECUBRIMIENTOS DEL NTE S DE RL DE CV","A085570510",1,1831.24,null,null,null,null,null,"MEDICINA DEL DEPORTE Y REHABILITACION PHYSIOMED SC"]
[null,null,null,{"$f":"COUNTIF($E$1:E1952,consulta!$D$1)","v":0},"IMPORTACIONES DE PISOS Y RECUBRIMIENTOS DEL NTE S DE RL DE CV","A085570510",1,732.49,null,null,null,null,null,"PEDRO GARCIA DE LEON FIMBRES"]
[null,null,null,{"$f":"COUNTIF($E$1:E1953,consulta!$D$1)","v":0},"ASESORIA Y CONSTRS ESPECIALIZADAS, S.A. DE C.V.","A085584610",1,13602.63,null,null,null,null,null,"MARTIN LUGO FONSECA"]
[null,null,null,{"$f":"COUNTIF($E$1:E1954,consulta!$D$1)","v":0},"ASESORIA Y CONSTRS ESPECIALIZADAS, S.A. DE C.V.","A085584610",1,5441.05,null,null,null,null,null,"CARGO MANTENIMIENTO SA DE CV"]
[null,null,null,{"$f":"COUNTIF($E$1:E1955,consulta!$D$1)","v":0},"ASESORIA Y CONSTRS ESPECIALIZADAS, S.A. DE C.V.","A085584610",1,15766.13,null,null,null,null,null,"DENISSE SUHEID LOPEZ ZAZUETA"]
[null,null,null,{"$f":"COUNTIF($E$1:E1956,consulta!$D$1)","v":0},"ASESORIA Y CONSTRS ESPECIALIZADAS, S.A. DE C.V.","A085584610",1,6306.45,null,null,null,null,null,"GRISELDA MONTESINO ALVAREZ"]
[null,null,null,{"$f":"COUNTIF($E$1:E1957,consulta!$D$1)","v":0},"LA TOUR DE FER SA DE CV","A085598110",1,28256.27,null,null,null,null,null,"JUAN GABRIEL JIMENEZ VENEGAS"]
[null,null,null,{"$f":"COUNTIF($E$1:E1958,consulta!$D$1)","v":0},"LA TOUR DE FER SA DE CV","A085598110",1,35598.230000000003,null,null,null,null,null,"JOSE ALBERTO ACOSTA LEON"]
[null,null,null,{"$f":"COUNTIF($E$1:E1959,consulta!$D$1)","v":0},"TARIMAS DEL TORO S DE RL","A085604710",1,47577.5,null,null,null,null,null,"RIGOBERTO JUAREZ FERREIRO"]
[null,null,null,{"$f":"COUNTIF($E$1:E1960,consulta!$D$1)","v":0},"TARIMAS DEL TORO S DE RL","A085604710",1,46775.7,null,null,null,null,null,"EVA ISABEL MARTINEZ GAMBOA"]
[null,null,null,{"$f":"COUNTIF($E$1:E1961,consulta!$D$1)","v":0},"TARIMAS DEL TORO S DE RL","A085604710",1,19031,null,null,null,null,null,"CHRISTIAN OMAR TAMAYO LOPEZ"]
[null,null,null,{"$f":"COUNTIF($E$1:E1962,consulta!$D$1)","v":0},"TARIMAS DEL TORO S DE RL","A085604710",1,52015.93,null,null,null,null,null,"CIRCE CECILIA RODRIGUEZ LOPEZ"]
[null,null,null,{"$f":"COUNTIF($E$1:E1963,consulta!$D$1)","v":0},"TARIMAS DEL TORO S DE RL","A085604710",1,20806.37,null,null,null,null,null,"MIGUEL FRANCISCO ROBLES GUERRERO"]
[null,null,null,{"$f":"COUNTIF($E$1:E1964,consulta!$D$1)","v":0},"TARIMAS DEL TORO S DE RL","A085604710",1,50673.599999999999,null,null,null,null,null,"TRANEIELT SA DE CV"]
[null,null,null,{"$f":"COUNTIF($E$1:E1965,consulta!$D$1)","v":0},"TARIMAS DEL TORO S DE RL","A085604710",1,20269.439999999999,null,null,null,null,null,"VILLA SERVICIO Y ASESORIA PROFESIONAL EN OFICIOS VARIOS SC DE RL DE CV"]
[null,null,null,{"$f":"COUNTIF($E$1:E1966,consulta!$D$1)","v":0},"TARIMAS DEL TORO S DE RL","A085604710",1,18710.28,null,null,null,null,null,"BEATRIZ EUGENIA MARGARITA LOPEZ ROJO"]
[null,null,null,{"$f":"COUNTIF($E$1:E1967,consulta!$D$1)","v":0},"LIBRA INGENIEROS CIVILES SA DE CV","A085605410",1,9187.92,null,null,null,null,null,"TEODORA REYES"]
[null,null,null,{"$f":"COUNTIF($E$1:E1968,consulta!$D$1)","v":0},"LIBRA INGENIEROS CIVILES SA DE CV","A085605410",1,8723.4,null,null,null,null,null,"VENDESI TELECOMUNICACIONES S DE RL DE CV"]
[null,null,null,{"$f":"COUNTIF($E$1:E1969,consulta!$D$1)","v":0},"LIBRA INGENIEROS CIVILES SA DE CV","A085605410",1,8085.17,null,null,null,null,null,"SERVICIOS DIVERSIFICADOS DE TURISMO S DE RL DE CV"]
[null,null,null,{"$f":"COUNTIF($E$1:E1970,consulta!$D$1)","v":0},"LIBRA INGENIEROS CIVILES SA DE CV","A085605410",1,1988.16,null,null,null,null,null,"SANDY LILIANA CARDENAS TORRES"]
[null,null,null,{"$f":"COUNTIF($E$1:E1971,consulta!$D$1)","v":0},"LIBRA INGENIEROS CIVILES SA DE CV","A085605410",1,3675.16,null,null,null,null,null,"MARKETING STEEL COMERCIALIZADORA S DE RL DE CV"]
[null,null,null,{"$f":"COUNTIF($E$1:E1972,consulta!$D$1)","v":0},"LIBRA INGENIEROS CIVILES SA DE CV","A085605410",1,6285.91,null,null,null,null,null,"JOSEFINA CASAS GARCIA"]
[null,null,null,{"$f":"COUNTIF($E$1:E1973,consulta!$D$1)","v":0},"LIBRA INGENIEROS CIVILES SA DE CV","A085605410",1,3489.36,null,null,null,null,null,"JOSE LUIS BELTRAN SANDOVAL"]
[null,null,null,{"$f":"COUNTIF($E$1:E1974,consulta!$D$1)","v":0},"LIBRA INGENIEROS CIVILES SA DE CV","A085605410",1,2514.36,null,null,null,null,null,"JOSE LUIS URIARTE ALVAREZ"]
[null,null,null,{"$f":"COUNTIF($E$1:E1975,consulta!$D$1)","v":0},"LIBRA INGENIEROS CIVILES SA DE CV","A085605410",1,6719.43,null,null,null,null,null,"MARIO FRANCO ERENAS"]
[null,null,null,{"$f":"COUNTIF($E$1:E1976,consulta!$D$1)","v":0},"LIBRA INGENIEROS CIVILES SA DE CV","A085605410",1,3234.06,null,null,null,null,null,"EDUARDO JOSE LUIS ARRIAGA RIVERA"]
[null,null,null,{"$f":"COUNTIF($E$1:E1977,consulta!$D$1)","v":0},"LIBRA INGENIEROS CIVILES SA DE CV","A085605410",1,2687.77,null,null,null,null,null,"HONORIO MENDOZA CUEVAS"]
[null,null,null,{"$f":"COUNTIF($E$1:E1978,consulta!$D$1)","v":0},"LIBRA INGENIEROS CIVILES SA DE CV","A085605410",1,5325.41,null,null,null,null,null,"MARIA MAGDALENA GARCIA ANAYA"]
[null,null,null,{"$f":"COUNTIF($E$1:E1979,consulta!$D$1)","v":0},"LIBRA INGENIEROS CIVILES SA DE CV","A085605410",1,795.26,null,null,null,null,null,"ADRIANA FRANCO PEREZ"]
[null,null,null,{"$f":"COUNTIF($E$1:E1980,consulta!$D$1)","v":0},"LIBRA INGENIEROS CIVILES SA DE CV","A085605410",1,2130.16,null,null,null,null,null,"AGENCIA DE PROYECTOS BAJA S DE RL DE CV"]
[null,null,null,{"$f":"COUNTIF($E$1:E1981,consulta!$D$1)","v":0},"LIBRA INGENIEROS CIVILES SA DE CV","A085605410",1,5502.93,null,null,null,null,null,"CLUTCH PRINTING S DE RL DE CV"]
[null,null,null,{"$f":"COUNTIF($E$1:E1982,consulta!$D$1)","v":0},"LIBRA INGENIEROS CIVILES SA DE CV","A085605410",1,2201.17,null,null,null,null,null,"JESUS JAIME DE LEON BLANDO"]
[null,null,null,{"$f":"COUNTIF($E$1:E1983,consulta!$D$1)","v":0},"LIBRA INGENIEROS CIVILES SA DE CV","A085605410",1,2917.44,null,null,null,null,null,"OSCAR ALBERTO CHAVEZ GARCIA"]
[null,null,null,{"$f":"COUNTIF($E$1:E1984,consulta!$D$1)","v":0},"LIBRA INGENIEROS CIVILES SA DE CV","A085605410",1,1166.97,null,null,null,null,null,"INTERBLINDS SA DE CV"]
[null,null,null,{"$f":"COUNTIF($E$1:E1985,consulta!$D$1)","v":0},"LIBRA INGENIEROS CIVILES SA DE CV","A085605410",1,1458.73,null,null,null,null,null,"JOEL QUINTERO"]
[null,null,null,{"$f":"COUNTIF($E$1:E1986,consulta!$D$1)","v":0},"LIBRA INGENIEROS CIVILES SA DE CV","A085605410",1,583.49,null,null,null,null,null,"AUTOBUSES ABC PLUS SA DE CV"]
[null,null,null,{"$f":"COUNTIF($E$1:E1987,consulta!$D$1)","v":0},"JESUS GLEZ MTEZ","A085607410",1,925.21,null,null,null,null,null,"RONALIE RAMOS MORALES"]
[null,null,null,{"$f":"COUNTIF($E$1:E1988,consulta!$D$1)","v":0},"JESUS GLEZ MTEZ","A085607410",1,370.08,null,null,null,null,null,"M & E CONSTRUCCIONES E INGENIERIA ELECTROMECANICA S DE RL DE CV"]
[null,null,null,{"$f":"COUNTIF($E$1:E1989,consulta!$D$1)","v":0},"MARINA EUGENIA CERVANTES ESTRADA","A085610510",1,754.56,null,null,null,null,null,"JOSE ISAIN LOPEZ VEA"]
[null,null,null,{"$f":"COUNTIF($E$1:E1990,consulta!$D$1)","v":0},"MARINA EUGENIA CERVANTES ESTRADA","A085610510",1,742.39,null,null,null,null,null,"LOVMAR CONSTRUCTORA S DE RL DE CV"]
[null,null,null,{"$f":"COUNTIF($E$1:E1991,consulta!$D$1)","v":0},"MARINA EUGENIA CERVANTES ESTRADA","A085610510",1,742.39,null,null,null,null,null,"JOSE DE JESUS ESPINOZA SKINFIELD"]
[null,null,null,{"$f":"COUNTIF($E$1:E1992,consulta!$D$1)","v":0},"MARINA EUGENIA CERVANTES ESTRADA","A085610510",1,301.82,null,null,null,null,null,"JINFENG LIANG"]
[null,null,null,{"$f":"COUNTIF($E$1:E1993,consulta!$D$1)","v":0},"MARINA EUGENIA CERVANTES ESTRADA","A085610510",1,296.95,null,null,null,null,null,"ASOCIACION DE CONDOMINOS Y PROPIETARIOS DEL FRACC"]
[null,null,null,{"$f":"COUNTIF($E$1:E1994,consulta!$D$1)","v":0},"MARINA EUGENIA CERVANTES ESTRADA","A085610510",1,540.55999999999995,null,null,null,null,null,"DULCE MARIA PACHECO RUBIO"]
[null,null,null,{"$f":"COUNTIF($E$1:E1995,consulta!$D$1)","v":0},"MARINA EUGENIA CERVANTES ESTRADA","A085610510",1,523.13,null,null,null,null,null,"ORLANDO NEVID LOPEZ HERNANDEZ"]
[null,null,null,{"$f":"COUNTIF($E$1:E1996,consulta!$D$1)","v":0},"MARINA EUGENIA CERVANTES ESTRADA","A085610510",1,540.55999999999995,null,null,null,null,null,"BENJAMIN MIRANDA ARCOS"]
[null,null,null,{"$f":"COUNTIF($E$1:E1997,consulta!$D$1)","v":0},"MARINA EUGENIA CERVANTES ESTRADA","A085610510",1,523.13,null,null,null,null,null,"JOSE ANGEL AMADO RODRIGUEZ RUIZ"]
[null,null,null,{"$f":"COUNTIF($E$1:E1998,consulta!$D$1)","v":0},"MARINA EUGENIA CERVANTES ESTRADA","A085610510",1,1351.42,null,null,null,null,null,"TELESPACE SA DE CV"]
[null,null,null,{"$f":"COUNTIF($E$1:E1999,consulta!$D$1)","v":0},"MARINA EUGENIA CERVANTES ESTRADA","A085610510",1,540.55999999999995,null,null,null,null,null,"SAFEL INGENIERIA SA DE CV"]
[null,null,null,{"$f":"COUNTIF($E$1:E2000,consulta!$D$1)","v":0},"MARINA EUGENIA CERVANTES ESTRADA","A085610510",1,296.95,null,null,null,null,null,"GLOBAL MANUFACTURING PALLETS S DE RL DE CV"]
[null,null,null,{"$f":"COUNTIF($E$1:E2012,consulta!$D$1)","v":0},"JESUS RIVERA ROBLES","A085654410",1,925.21,null,null,null,null,null,"LORENZA HIGINIA SANCHEZ CHIQUETE"]
[null,null,null,{"$f":"COUNTIF($E$1:E2016,consulta!$D$1)","v":0},"GAROCA, S.A. DE C.V.","A085657710",1,1484.78,null,null,null,null,null,"LUX SURFACES SA DE CV"]
[null,null,null,{"$f":"COUNTIF($E$1:E2033,consulta!$D$1)","v":0},"PASCUAL MARTINEZ DE LA CRUZ","A085660910",1,365.84,null,null,null,null,null,"CONSUELO ANGELICA OSUNA AMEZCUA"]
[null,null,null,{"$f":"COUNTIF($E$1:E2046,consulta!$D$1)","v":0},"COMERCIAL IBC SA DE CV","A085680110",1,1236.2,null,null,null,null,null,"ERICKA JANETH GUZMAN DE LA ROSA"]
[null,null,null,{"$f":"COUNTIF($E$1:E2061,consulta!$D$1)","v":0},"ELDA VILLARREAL VILLARREAL","A085727710",1,2180.1,null,null,null,null,null,"LUSCH SA DE CV"]
[null,null,null,{"$f":"COUNTIF($E$1:E2084,consulta!$D$1)","v":0},"MIGUEL ROMERO CASTILLO","A085790510",1,1790.74,null,null,null,null,null,"DISTRIBUIDORA DE MATERIALES PARA LA CONSTRUCCION MCV S DE RL DE CV"]
[null,null,null,{"$f":"COUNTIF($E$1:E2091,consulta!$D$1)","v":0},"CASA HOGAR SAN INOCENCIO PARA VARONES ADOLECENTES AC","A085791610",1,7396.62,null,null,null,null,null,"CALUMEDIC S DE RL DE CV"]
[null,null,null,{"$f":"COUNTIF($E$1:E2105,consulta!$D$1)","v":0},"RAMON ROJAS GARCIA","A085804010",1,292.08999999999997,null,null,null,null,null,"RAFAEL SANCHEZ GONZALEZ"]
[null,null,null,{"$f":"COUNTIF($E$1:E2121,consulta!$D$1)","v":0},"RAMON ROJAS GARCIA","A085804010",1,895.37,null,null,null,null,null,"QC CONTROL SYSTEM SC"]
[null,null,null,{"$f":"COUNTIF($E$1:E2136,consulta!$D$1)","v":0},"MARTA MIRELES MURO","A085831710",1,963.13,null,null,null,null,null,"NADIA GRESS MONTOYA"]
[null,null,null,{"$f":"COUNTIF($E$1:E2156,consulta!$D$1)","v":0},"MANUEL GARCIA RODRIGUEZ","A085836410",1,1110.25,null,null,null,null,null,"NARANJOS PALLETS S DE RL DE CV"]
[null,null,null,{"$f":"COUNTIF($E$1:E2166,consulta!$D$1)","v":0},"AYALA CONSTRUCTORES SA DE CV","A085844010",1,13139.35,null,null,null,null,null,"DAISY ANAHY PUENTE GASTELUM"]
[null,null,null,{"$f":"COUNTIF($E$1:E2177,consulta!$D$1)","v":0},"BERASTICA PAEZ GRUPO INMOBILIARIO SA DE CV","A085860210",1,370.08,null,null,null,null,null,"PEDRO ARREGUIN MENDOZA"]
[null,null,null,{"$f":"COUNTIF($E$1:E2195,consulta!$D$1)","v":0},"JOSE DE JESUS MACIAS BONILLA","A085911410",1,2111.81,null,null,null,null,null,"CESAR ARMANDO RIVERA CALVILLO"]
[null,null,null,{"$f":"COUNTIF($E$1:E2211,consulta!$D$1)","v":0},"COORDINADORA PLUS DE TIJUANA S DE RL DE CV","A085915310",2,7682.56,null,null,null,null,null,"ARMIDA TERESA GARCIA GUERRERO"]
[null,null,null,{"$f":"COUNTIF($E$1:E2228,consulta!$D$1)","v":0},"VIVEROS TIJUANA SA DE CV","A085962410",1,71.66,null,null,null,null,null,"BAUHAUS CONSTRUCTORA S DE RL DE CV"]
[null,null,null,{"$f":"COUNTIF($E$1:E2241,consulta!$D$1)","v":0},"EQUIPOS Y SISTEMAS CONTRA INCENDIO SA DE CV","A085998710",1,3700.84,null,null,null,null,null,"ALFONSO IGNACIO ARIAS CAMPILLO"]
[null,null,null,{"$f":"COUNTIF($E$1:E2249,consulta!$D$1)","v":0},"JESUS MORA FELIX","A086001010",1,399.88,null,null,null,null,null,"PSI PROYECTOS Y SUMINISTROS INDUSTRIALES S DE RL D"]
[null,null,null,{"$f":"COUNTIF($E$1:E2270,consulta!$D$1)","v":0},"SUSANO TISNADO GARCIA","A086050310",1,4816.3100000000004,null,null,null,null,null,"ERNESTO ARCE ENCISO"]
[null,null,null,{"$f":"COUNTIF($E$1:E2286,consulta!$D$1)","v":0},"GASTRONOMIA DEL NOROESTE SA DE CV","A086110310",1,10863.33,null,null,null,null,null,"A DESARROLLA S DE RL DE CV"]
[null,null,null,{"$f":"COUNTIF($E$1:E2300,consulta!$D$1)","v":0},"GASTRONOMIA DEL NOROESTE SA DE CV","A086110310",1,4557.5200000000004,null,null,null,null,null,"PRINTERZONE S DE RL DE CV"]
[null,null,null,{"$f":"COUNTIF($E$1:E2316,consulta!$D$1)","v":0},"CECYT SC","A086126210",1,1511.44,null,null,null,null,null,"GASTROBAJA SA DE CV"]
[null,null,null,{"$f":"COUNTIF($E$1:E2331,consulta!$D$1)","v":0},"GRUPO LAMBIC SC","A086134210",1,4037.59,null,null,null,null,null,"JUAN MANUEL QUIROZ SANTIAGO"]
[null,null,null,{"$f":"COUNTIF($E$1:E2337,consulta!$D$1)","v":0},"AGUSTIN MONTANO MENESES","A086147710",1,2402.61,null,null,null,null,null,"EQUIPOS Y SERVICIOS INDUSTRIALES GENERALES SA DE CV"]
[null,null,null,{"$f":"COUNTIF($E$1:E2361,consulta!$D$1)","v":0},"D SABINO SA DE CV","A086157510",1,3945.44,null,null,null,null,null,"JOSE ALBERTO PRADO LOPEZ"]
[null,null,null,{"$f":"COUNTIF($E$1:E2372,consulta!$D$1)","v":0},"ENRIQUE ALBERTO MORA ORTIZ","A086171610",1,14902.36,null,null,null,null,null,"FRANCISCO JAVIER MOROYOQUI GONZALEZ"]
[null,null,null,{"$f":"COUNTIF($E$1:E2390,consulta!$D$1)","v":0},"ENRIQUE ALBERTO MORA ORTIZ","A086171610",1,17594.89,null,null,null,null,null,"PEDRO RAMIREZ XICOTENCATL"]
[null,null,null,{"$f":"COUNTIF($E$1:E2406,consulta!$D$1)","v":0},"JOSE FRANCISCO RAYGOZA MACIAS","A086246310",1,464.72,null,null,null,null,null,"CONSTRUCTORA OSRAM S DE RL DE CV"]
[null,null,null,{"$f":"COUNTIF($E$1:E2423,consulta!$D$1)","v":0},"CONSEJO DE DESARROLLO ECONOMICO DE TIJUANA AC","A086251510",1,889.62,null,null,null,null,null,"ULISES MARCOFF DE LA TORRE"]
[null,null,null,{"$f":"COUNTIF($E$1:E2436,consulta!$D$1)","v":0},"MARIA GUADALUPE MARTIN PEREZ","A086263910",1,9560.7800000000007,null,null,null,null,null,"JOSEFA BARQUIN RIVERA"]
[null,null,null,{"$f":"COUNTIF($E$1:E2444,consulta!$D$1)","v":0},"SERVICIOS DE DISTRIBUCION PLYMOUTH SC","A086280510",1,5937,null,null,null,null,null,"RENATA OROZCO ESPINO"]
[null,null,null,{"$f":"COUNTIF($E$1:E2465,consulta!$D$1)","v":0},"MARIA ZIDE FIGUEROA ROBLES","A086305810",1,2966.29,null,null,null,null,null,"ISAAC VALDEZ IBARRA"]
[null,null,null,{"$f":"COUNTIF($E$1:E2481,consulta!$D$1)","v":0},"JUAN PAZ MONTES ESCAJEDA","A086354510",1,6074.1,null,null,null,null,null,"GJ FURNITURE WOOD SUPPLY S DE RL DE CV"]
[null,null,null,{"$f":"COUNTIF($E$1:E2495,consulta!$D$1)","v":0},"ARMANDO RAYGOZA TOSTADO","A086388410",1,4177.01,null,null,null,null,null,"TJKJ S DE RL DE CV"]
[null,null,null,{"$f":"COUNTIF($E$1:E2510,consulta!$D$1)","v":0},"LIDIA MEDINA MALAGA","A086482210",1,754.56,null,null,null,null,null,"ILUMINACION ZAFIRO S DE RL DE CV"]
[null,null,null,{"$f":"COUNTIF($E$1:E2516,consulta!$D$1)","v":0},"INDELI DE TIJUANA SA DE CV","A086487110",1,3808.89,null,null,null,null,null,"MARCELO ISAAC MEJIA MORA"]
[null,null,null,{"$f":"COUNTIF($E$1:E2540,consulta!$D$1)","v":0},"IGLESIA DEL EVANGELIO CUADRANGULAR EN MEXICO DISTRITO PACIFICO, A.R.","A086519610",1,371.13,null,null,null,null,null,"JUAN CARLOS ROMERO SILVA"]
[null,null,null,{"$f":"COUNTIF($E$1:E2541,consulta!$D$1)","v":0},"IGLESIA DEL EVANGELIO CUADRANGULAR EN MEXICO DISTRITO PACIFICO, A.R.","A086519610",1,897.91,null,null,null,null,null,"GEOVANY DAVID RODRIGUEZ CABRERA"]
[null,null,null,{"$f":"COUNTIF($E$1:E2567,consulta!$D$1)","v":0},"LUZ VERONICA IBARRA MARTINEZ","A086581110",1,2287.1999999999998,null,null,null,null,null,"BRAULIO ANDRES CARRERA SORIA"]
[null,null,null,{"$f":"COUNTIF($E$1:E2570,consulta!$D$1)","v":0},"RJ INGENIERIA SA DE CV","A086598210",1,522.55999999999995,null,null,null,null,null,"SERGIO ALEJANDRO GUTIERREZ JUAREZ"]
[null,null,null,{"$f":"COUNTIF($E$1:E2586,consulta!$D$1)","v":0},"GRUPO FORMAQ SA DE CV","A086615910",1,8030.06,null,null,null,null,null,"MARIA ILIANA ESPINOZA GOMEZ"]
[null,null,null,{"$f":"COUNTIF($E$1:E2604,consulta!$D$1)","v":0},"KARLA ARELI NU#EZ DOMINGUEZ","A086664410",1,5076.2700000000004,null,null,null,null,null,"RODRIGUEZ MONTOYA Y ASOCIADOS SC"]
[null,null,null,{"$f":"COUNTIF($E$1:E2616,consulta!$D$1)","v":0},"SILVIA ARIAS ARBALLO","A086672210",1,1881.25,null,null,null,null,null,"COPELLAZO S DE RL DE CV"]
[null,null,null,{"$f":"COUNTIF($E$1:E2639,consulta!$D$1)","v":0},"ESTRUCTURAS METALICAS LA POPULAR SA DE CV","A086733710",1,110229.33,null,null,null,null,null,"DUCEM INFRAESTRUCTURA Y CONSTRUCCION SAS DE CV"]
[null,null,null,{"$f":"COUNTIF($E$1:E2645,consulta!$D$1)","v":0},"ESTRUCTURAS METALICAS LA POPULAR SA DE CV","A086733710",1,55360.55,null,null,null,null,null,"MONICA TRINIDAD GONZALEZ GRANADOS"]
[null,null,null,{"$f":"COUNTIF($E$1:E2661,consulta!$D$1)","v":0},"MIGUEL ANGEL ROJAS PINEDA","A086745610",1,967.8,null,null,null,null,null,"COMERCIALIZADORA EN TELECOMUNICACIONES EXTERNA SA DE CV"]
[null,null,null,{"$f":"COUNTIF($E$1:E2676,consulta!$D$1)","v":0},"SALON DE FIESTAS EL CASTILLO SA DE CV","A086761010",1,1732.03,null,null,null,null,null,"EVENTOS GASTRONOMICOS DEL NOROESTE S DE RL DE CV"]
[null,null,null,{"$f":"COUNTIF($E$1:E2690,consulta!$D$1)","v":0},"MANUEL PEREZ GRANADOS","A086786710",1,610.32000000000005,null,null,null,null,null,"OTAY CENTRO CAMBIARIO SA DE CV"]
[null,null,null,{"$f":"COUNTIF($E$1:E2711,consulta!$D$1)","v":0},"GABRIEL VIZCAINO","A086824810",1,2984.43,null,null,null,null,null,"CENTRO CAMBIARIO SALINAS SA DE CV"]
[null,null,null,{"$f":"COUNTIF($E$1:E2720,consulta!$D$1)","v":0},"PATRICIA VERONICA PADILLA CASTELO","A086840810",1,370.08,null,null,null,null,null,"BRILLOTEC S DE RL DE CV"]
[null,null,null,{"$f":"COUNTIF($E$1:E2736,consulta!$D$1)","v":0},"BLANCA ROSALIA ZAMORA COTA","A086851710",1,1017.47,null,null,null,null,null,"YINGLI LIANG"]
[null,null,null,{"$f":"COUNTIF($E$1:E2748,consulta!$D$1)","v":0},"JM INDUSTRIAL SA DE CV","A086897110",1,6049.66,null,null,null,null,null,"ELIZABETH CAMPOS BETANCOURT"]
[null,null,null,{"$f":"COUNTIF($E$1:E2765,consulta!$D$1)","v":0},"MARTIN OSCAR RUIZ VALDEZ","A086922210",1,1174.92,null,null,null,null,null,"OPERADORA LA CERVE SA DE CV"]
[null,null,null,{"$f":"COUNTIF($E$1:E2783,consulta!$D$1)","v":0},"URBANIZACIONES GOAR SA DE CV","A086951510",1,10621.36,null,null,null,null,null,"FINCA TRE AMIGOS SA DE CV"]
[null,null,null,{"$f":"COUNTIF($E$1:E2795,consulta!$D$1)","v":0},"JAIME GARCIA ROBLES","A086959510",1,1051.3800000000001,null,null,null,null,null,"SERVICIOS Y CONSULTORIA PROFESIONAL GRUPO ASAMEX SA DE CV"]
[null,null,null,{"$f":"COUNTIF($E$1:E2811,consulta!$D$1)","v":0},"JAIME GARCIA ROBLES","A086959510",1,406.98,null,null,null,null,null,"JESUS MANUEL BUENO GARCIA"]
[null,null,null,{"$f":"COUNTIF($E$1:E2820,consulta!$D$1)","v":0},"BILMA RUIZ CASTRO","A086965910",1,742.39,null,null,null,null,null,"VISUAL OPTICOS CORPORACION SA DE CV"]
[null,null,null,{"$f":"COUNTIF($E$1:E2840,consulta!$D$1)","v":0},"PAROMI SA DE CV","A086995910",1,2227.17,null,null,null,null,null,"JUAN DE DIOS D.N.A. DIAZ FLORES"]
[null,null,null,{"$f":"COUNTIF($E$1:E2855,consulta!$D$1)","v":0},"AUTO AGENCIA ADUANAL DEL NOROESTE SC","A087029410",1,16805.439999999999,null,null,null,null,null,"EVERARDO RODRIGUEZ OLMOS"]
[null,null,null,{"$f":"COUNTIF($E$1:E2870,consulta!$D$1)","v":0},"RODOLFO MICHEL MURILLO","A087034310",1,1801.96,null,null,null,null,null,"CAJAS PARA VINO RUDAMETKIN S DE RL DE CV"]
[null,null,null,{"$f":"COUNTIF($E$1:E2885,consulta!$D$1)","v":0},"MINIBODEGAS MINIMAX SA DE CV","A087037010",1,3137.81,null,null,null,null,null,"LUIS RAUL HERRERA ACU#A"]
[null,null,null,{"$f":"COUNTIF($E$1:E2892,consulta!$D$1)","v":0},"HIDROCARBUROS DEL NORTE SA DE CV","A087041410",1,3330.75,null,null,null,null,null,"JULIO DAVID CORTEZ MEDINA"]
[null,null,null,{"$f":"COUNTIF($E$1:E2915,consulta!$D$1)","v":0},"CORAZA SA DE CV","A087116710",1,52341.82,null,null,null,null,null,"MAURICIO HERIBERTO INZUNZA IRIARTE"]
[null,null,null,{"$f":"COUNTIF($E$1:E2931,consulta!$D$1)","v":0},"ESTANCIA INFANTIL DE BAJA CALIFORNIA SC","A087147910",1,4831.34,null,null,null,null,null,"JUAN CARLOS TINOCO ARREOLA"]
[null,null,null,{"$f":"COUNTIF($E$1:E2943,consulta!$D$1)","v":0},"ESTANCIA INFANTIL DE BAJA CALIFORNIA SC","A087147910",1,3918.14,null,null,null,null,null,"JR & 3I CONSTRUCCIONES SA DE CV"]
[null,null,null,{"$f":"COUNTIF($E$1:E2960,consulta!$D$1)","v":0},"NELLY MALFAVON PRADO","A087163310",1,2102.7600000000002,null,null,null,null,null,"MAT AUTOMOTION SA DE CV"]
[null,null,null,{"$f":"COUNTIF($E$1:E2978,consulta!$D$1)","v":0},"ALICIA NAVARRETE MEZA","A087206310",1,1541,null,null,null,null,null,"ZACE GLOBAL SOLUCIONES"]
[null,null,null,{"$f":"COUNTIF($E$1:E2990,consulta!$D$1)","v":0},"JOSE MANUEL RODRIGUEZ VALDIVIA","A087211710",1,352.94,null,null,null,null,null,"ILLIA GABRIELA SILVA GUTIERREZ"]
[null,null,null,{"$f":"COUNTIF($E$1:E3005,consulta!$D$1)","v":0},"CINTHYA RIVERA GONZALEZ","A087236310",1,1866.18,null,null,null,null,null,"INNOVECTOR BCO SA DE CV"]
[null,null,null,{"$f":"COUNTIF($E$1:E3015,consulta!$D$1)","v":0},"JAVIER CAMPOS GUTIERREZ","A087236710",1,4190.3100000000004,null,null,null,null,null,"EN ALIANZA SERVICIOS EMPRESARIALES PROFESIONALES Y"]
[null,null,null,{"$f":"COUNTIF($E$1:E3035,consulta!$D$1)","v":0},"LEOPOLDO RUIZ MARTINEZ","A087292210",1,742.4,null,null,null,null,null,"V2 FINE INTERIORS DE MEXICO S DE RL DE CV"]
[null,null,null,{"$f":"COUNTIF($E$1:E3050,consulta!$D$1)","v":0},"JOSE GERARDO ALVAREZ JIMENEZ","A087326210",1,3470.8,null,null,null,null,null,"TJKJ DE MEXICO S DE RL DE CV"]
[null,null,null,{"$f":"COUNTIF($E$1:E3065,consulta!$D$1)","v":0},"MUNDO DIVERTIDO DE LA MESA S DE RL DE CV","A087338310",1,4783.76,null,null,null,null,null,"POKROV SA DE CV"]
[null,null,null,{"$f":"COUNTIF($E$1:E3080,consulta!$D$1)","v":0},"ROSALINA VARGAS TOLEDO","A087345510",1,160.63999999999999,null,null,null,null,null,"GEORGE ANTHONY TORRES"]
[null,null,null,{"$f":"COUNTIF($E$1:E3087,consulta!$D$1)","v":0},"ARTURO CAMACHO SAUL","A087362010",1,1426.45,null,null,null,null,null,"CACCIOTJ GROUP S DE RL DE CV"]
[null,null,null,{"$f":"COUNTIF($E$1:E3110,consulta!$D$1)","v":0},"HECTOR HURTADO HURTADO","A087382110",1,742.39,null,null,null,null,null,"RAMON DELGADO CABRERA"]
[null,null,null,{"$f":"COUNTIF($E$1:E3122,consulta!$D$1)","v":0},"ARACELI BOCARDO ALVAREZ","A087417110",1,263.70999999999998,null,null,null,null,null,"KOMITACHI S DE RL DE CV"]
[null,null,null,{"$f":"COUNTIF($E$1:E3125,consulta!$D$1)","v":0},"NEFTALI ROSALES LOYA","A087422810",1,2227.17,null,null,null,null,null,"HT CENTRO CAMBIARIO SA DE CV"]
[null,null,null,{"$f":"COUNTIF($E$1:E3140,consulta!$D$1)","v":0},"YESENIA NATALIA RAMIREZ MENDOZA","A087441910",1,746.41,null,null,null,null,null,"AUDITORIA MASTER S DE RL DE CV"]
[null,null,null,{"$f":"COUNTIF($E$1:E3159,consulta!$D$1)","v":0},"MARIA DEL CARMEN MEZA","A087464610",1,4559.5200000000004,null,null,null,null,null,"AUTOTRANSPORTES DE PERSONAL Y SERVS ESPECIALES SOLANOS SRLCV"]
[null,null,null,{"$f":"COUNTIF($E$1:E3170,consulta!$D$1)","v":0},"JESUS CONTRERAS PONCE","A087476510",1,314.58999999999997,null,null,null,null,null,"LEONEL VALENCIA CASTILLO"]
[null,null,null,{"$f":"COUNTIF($E$1:E3185,consulta!$D$1)","v":0},"ALBERTO GRANADOS GONZALEZ","A087499010",1,5014.38,null,null,null,null,null,"SANDRA SUSANA NAVA GONZALEZ"]
[null,null,null,{"$f":"COUNTIF($E$1:E3210,consulta!$D$1)","v":0},"JUST LABELS DE MEXICO SA DE CV","A087534710",1,2038.02,null,null,null,null,null,"MARTEL COMUNICACIONES S DE RL DE CV"]
[null,null,null,{"$f":"COUNTIF($E$1:E3215,consulta!$D$1)","v":0},"LOURDES SENORINA SANTOYO HURTADO","A087539210",1,4533.76,null,null,null,null,null,"ROBERTO AGUIRRE ARRONA"]
[null,null,null,{"$f":"COUNTIF($E$1:E3231,consulta!$D$1)","v":0},"LOURDES SENORINA SANTOYO HURTADO","A087539210",1,1492.02,null,null,null,null,null,"SERVICIOS CORPORATIVOS CONFIA TJ SA DE CV"]
[null,null,null,{"$f":"COUNTIF($E$1:E3245,consulta!$D$1)","v":0},"ARTE PERDIDO S. DE R.L. DE C.V.","A087583010",1,2765.16,null,null,null,null,null,"CONDO ADMIN DE MEXICO S DE RL DE CV"]
[null,null,null,{"$f":"COUNTIF($E$1:E3260,consulta!$D$1)","v":0},"GABRIEL ADOLFO COTA ZEPEDA","A087602110",1,5819.07,null,null,null,null,null,"DISE#O E INGENIERIA ELECTROMECANICA DEL N S DE RL DE CV"]
[null,null,null,{"$f":"COUNTIF($E$1:E3282,consulta!$D$1)","v":0},"SISTEMAS DE AUTOMATIZACION DIGITAL SC","A087619710",1,6304.45,null,null,null,null,null,"NORTH COLLECT AND RECOVER SA DE CV"]
[null,null,null,{"$f":"COUNTIF($E$1:E3290,consulta!$D$1)","v":0},"SISTEMAS DE AUTOMATIZACION DIGITAL SC","A087619710",1,7481.06,null,null,null,null,null,"KENIA GUADALUPE GURROLA ORDU#O"]
[null,null,null,{"$f":"COUNTIF($E$1:E3313,consulta!$D$1)","v":0},"PEDRO MARTINEZ CASANOVA","A087638810",1,5614.17,null,null,null,null,null,"FERNANDO MANUEL MARTINEZ LUTTEROTH"]
[null,null,null,{"$f":"COUNTIF($E$1:E3320,consulta!$D$1)","v":0},"PEDRO MARTINEZ CASANOVA","A087638810",1,1737.6,null,null,null,null,null,"JUAN NOLBERTO FREGOSO SEDANO"]
[null,null,null,{"$f":"COUNTIF($E$1:E3335,consulta!$D$1)","v":0},"PEDRO MARTINEZ CASANOVA","A087638810",1,3868.04,null,null,null,null,null,"RIGOBERTO ALVAREZ VALENZUELA"]
[null,null,null,{"$f":"COUNTIF($E$1:E3354,consulta!$D$1)","v":0},"SOLUCIONES AUDIOVISUALES, S. DE R.L. DE C.V.","A087645810",1,4440.37,null,null,null,null,null,"FRAMEWORK SCIENCE S DE RL DE CV"]
[null,null,null,{"$f":"COUNTIF($E$1:E3365,consulta!$D$1)","v":0},"SOLUCIONES AUDIOVISUALES, S. DE R.L. DE C.V.","A087645810",1,2774.46,null,null,null,null,null,"GUADALUPE GLORIA BARRUTIA CALDERON"]
[null,null,null,{"$f":"COUNTIF($E$1:E3385,consulta!$D$1)","v":0},"JOSE RAMON NEVAREZ JIMENEZ","A087649010",1,2200.73,null,null,null,null,null,"FRANCISCO JAVIER PEREZ DIMAS"]
[null,null,null,{"$f":"COUNTIF($E$1:E3395,consulta!$D$1)","v":0},"CENTRO CAMBIARIO OLYMPIA DEL MAR SA DE CV","A087650710",1,9189.7999999999993,null,null,null,null,null,"JESUS ALBERTO JIMENEZ CUENCA"]
[null,null,null,{"$f":"COUNTIF($E$1:E3410,consulta!$D$1)","v":0},"ARMANDO ULLOA VENEGAS","A087673310",1,52433.3,null,null,null,null,null,"BSE INT S DE RL DE CV"]
[null,null,null,{"$f":"COUNTIF($E$1:E3426,consulta!$D$1)","v":0},"VICENTE ALEJANDRO SERRANO ANDRADE","A087680310",1,700.76,null,null,null,null,null,"JUAN FRANCISCO BALDERRAMA GARCIA"]
[null,null,null,{"$f":"COUNTIF($E$1:E3440,consulta!$D$1)","v":0},"YOU HUANG FENG","A087689010",1,2851.82,null,null,null,null,null,"EPIFANIA ALBARRAN SANCHEZ"]
[null,null,null,{"$f":"COUNTIF($E$1:E3455,consulta!$D$1)","v":0},"ANA MARIA BELTRAN ISLAS","A087695010",1,296.95,null,null,null,null,null,"MARIA ANGELICA MORENO ARAUJO"]
[null,null,null,{"$f":"COUNTIF($E$1:E3463,consulta!$D$1)","v":0},"ANA MARIA BELTRAN ISLAS","A087695010",1,312.95999999999998,null,null,null,null,null,"MARGIE CONTRERAS GOMEZ"]
[null,null,null,{"$f":"COUNTIF($E$1:E3485,consulta!$D$1)","v":0},"OLIVIA LOPEZ TORRES","A087695810",2,443.05,null,null,null,null,null,"JORGE DANIEL ESTRELLA LEIJA"]
[null,null,null,{"$f":"COUNTIF($E$1:E3494,consulta!$D$1)","v":0},"OLIVIA LOPEZ TORRES","A087695810",1,457.81,null,null,null,null,null,"OMAR LOPEZ MORENO"]
[null,null,null,{"$f":"COUNTIF($E$1:E3515,consulta!$D$1)","v":0},"JOSE LOURDES LEAL ROMAN","A087714310",1,1336.3,null,null,null,null,null,"ALEJANDRO DEL VILLAR CASAS"]
[null,null,null,{"$f":"COUNTIF($E$1:E3530,consulta!$D$1)","v":0},"TERESA LEAL RAMOS","A087741510",1,4714.3599999999997,null,null,null,null,null,"PABLO AXEL BRICE#O LOPEZ"]
[null,null,null,{"$f":"COUNTIF($E$1:E3535,consulta!$D$1)","v":0},"TERESA LEAL RAMOS","A087741510",1,3279.19,null,null,null,null,null,"LIDIA ESTHELA MENDOZA LOPEZ"]
[null,null,null,{"$f":"COUNTIF($E$1:E3560,consulta!$D$1)","v":0},"AUTOTRANSPORTES DE GUASAVE SA DE CV","A087763910",1,1153.44,null,null,null,null,null,"HRA PUBLICIDAD EXTERIOR SA DE CV"]
[null,null,null,{"$f":"COUNTIF($E$1:E3566,consulta!$D$1)","v":0},"AUTOTRANSPORTES DE GUASAVE SA DE CV","A087763910",1,676.36,null,null,null,null,null,"ARMENDIA S DE RL DE CV"]
[null,null,null,{"$f":"COUNTIF($E$1:E3590,consulta!$D$1)","v":0},"JORGE LUIS CONTRERAS JAUREGUI","A087776010",1,3180.45,null,null,null,null,null,"LOURDES MARIA CABRERA BRISE#O"]
[null,null,null,{"$f":"COUNTIF($E$1:E3605,consulta!$D$1)","v":0},"RAQUEL STABINSKY VELAZCO","A087795110",1,258.01,null,null,null,null,null,"METAREX MAQUILA SA DE CV"]
[null,null,null,{"$f":"COUNTIF($E$1:E3621,consulta!$D$1)","v":0},"FELIPE FELIX ROCHA","A087801510",1,1351.42,null,null,null,null,null,"JUAN CARLOS NAJERA PACHECO"]
[null,null,null,{"$f":"COUNTIF($E$1:E3635,consulta!$D$1)","v":0},"BAJA AIRVENTURES S DE RL DE CV","A087813810",1,5132.92,null,null,null,null,null,"NORMA LETICIA MEDINA SANCHEZ"]
[null,null,null,{"$f":"COUNTIF($E$1:E3638,consulta!$D$1)","v":0},"BAJA AIRVENTURES S DE RL DE CV","A087813810",1,2577.88,null,null,null,null,null,"UNIDADES MANEJADORAS SA DE CV"]
[null,null,null,{"$f":"COUNTIF($E$1:E3665,consulta!$D$1)","v":0},"NEW IMAGE TOBACCO, S.A. DE C.V.","A087855910",2,14409.78,null,null,null,null,null,"FRANCISCO MARQUEZ DOMINGUEZ"]
[null,null,null,{"$f":"COUNTIF($E$1:E3680,consulta!$D$1)","v":0},"OTONIEL AGRIPINO TLAXCOAPAN POSADAS","A087886110",1,1110.92,null,null,null,null,null,"TAMISUR S DE RL DE CV"]
[null,null,null,{"$f":"COUNTIF($E$1:E3689,consulta!$D$1)","v":0},"MARTIN ESPINOZA ESPINOZA","A087909910",1,1285.2,null,null,null,null,null,"MAYRA KARELY AHUMADA ARAUJO"]
[null,null,null,{"$f":"COUNTIF($E$1:E3695,consulta!$D$1)","v":0},"GRUPO COBUTEC, S.A. DE C.V.","A087913810",1,313.87,null,null,null,null,null,"EDGAR MARIN MOTHE"]
[null,null,null,{"$f":"COUNTIF($E$1:E3710,consulta!$D$1)","v":0},"JORGE LUMBAN GUTIERREZ","A087936310",1,581.05999999999995,null,null,null,null,null,"SILVIA FERNANDA MARTIN ORTEGA"]
[null,null,null,{"$f":"COUNTIF($E$1:E3725,consulta!$D$1)","v":0},"SALONES DE EVENTOS Y PLAZA COMERCIAL LAS PLAYAS SA DE CV","A087953210",1,1201.71,null,null,null,null,null,"COORDINADORES JRT SA DE CV"]
[null,null,null,{"$f":"COUNTIF($E$1:E3740,consulta!$D$1)","v":0},"AGENCIA ADUANAL ANGEL ACEVES SC","A087968510",1,42034.98,null,null,null,null,null,"YUECHAO CEN"]
[null,null,null,{"$f":"COUNTIF($E$1:E3761,consulta!$D$1)","v":0},"CARLOS HERNANDEZ GUTIERREZ","A087992210",1,1507.94,null,null,null,null,null,"ESPECIALISTAS EN ACABADOS DE CONSTRUCCION HERNANDEZ Y ASOCIADOS SA DE CV"]
[null,null,null,{"$f":"COUNTIF($E$1:E3770,consulta!$D$1)","v":0},"FABIOLA DEL ROSARIO ESTRADA RODRIGUEZ","A088015310",1,1460.46,null,null,null,null,null,"GUSTAVO JAVIER CHAVEZ"]
[null,null,null,{"$f":"COUNTIF($E$1:E3785,consulta!$D$1)","v":0},"LUIS ENRIQUE PARRA CAZARES","A088026710",1,296.95,null,null,null,null,null,"JUAN PEDRO FERNANDEZ SOTELO"]
[null,null,null,{"$f":"COUNTIF($E$1:E3798,consulta!$D$1)","v":0},"AUDEL CASTILLO BRAVO","A088033810",1,2594.58,null,null,null,null,null,"JOSE REYES JIMENEZ BRIZUELA"]
[null,null,null,{"$f":"COUNTIF($E$1:E3815,consulta!$D$1)","v":0},"MARIA DE LA LUZ MARTINEZ CORONA","A088053010",1,963.13,null,null,null,null,null,"JESUS ARTURO ESPINOZA OCHOA"]
[null,null,null,{"$f":"COUNTIF($E$1:E3833,consulta!$D$1)","v":0},"PROMOTORA INTERNACIONAL DE COMERCIO MABE SA DE CV","A088054010",1,355.99,null,null,null,null,null,"BEP LEGAL SC"]
[null,null,null,{"$f":"COUNTIF($E$1:E3845,consulta!$D$1)","v":0},"HOMERO REYES VERDUGO","A088056510",1,6959.04,null,null,null,null,null,"JUVEMCOOP SC DE RL DE CV"]
[null,null,null,{"$f":"COUNTIF($E$1:E3860,consulta!$D$1)","v":0},"HOMERO REYES VERDUGO","A088056510",1,16122.91,null,null,null,null,null,"NOEL MISAEL SIERRA CRUZ"]
[null,null,null,{"$f":"COUNTIF($E$1:E3884,consulta!$D$1)","v":0},"JORGE PEREZ LEON","A088075410",1,1093.6300000000001,null,null,null,null,null,"ALTEC EXPERIENCIAS DEPORTIVAS S DE RL DE CV"]
[null,null,null,{"$f":"COUNTIF($E$1:E3890,consulta!$D$1)","v":0},"JORGE PEREZ LEON","A088075410",1,437.45,null,null,null,null,null,"ZFT S DE RL DE CV"]
[null,null,null,{"$f":"COUNTIF($E$1:E3905,consulta!$D$1)","v":0},"HUGO EFREN MURILLO GOMEZ","A088083410",1,740.16,null,null,null,null,null,"ADOLFO JAVIER DELGADO ARMENTA"]
[null,null,null,{"$f":"COUNTIF($E$1:E3920,consulta!$D$1)","v":0},"SERVICIOS INDUST DE INVEST Y SEGURIDAD PRIVADA, S.A. DE C.V.","A088095110",1,6952.05,null,null,null,null,null,"SISTEMAS DE EXCELENCIA Y LOGISTICA SA DE CV"]
[null,null,null,{"$f":"COUNTIF($E$1:E3935,consulta!$D$1)","v":0},"GLORIA NOEMI JIMENEZ TORRES","A088099510",1,301.82,null,null,null,null,null,"MISSION MARKETING GROUP SAS DE CV"]
[null,null,null,{"$f":"COUNTIF($E$1:E3956,consulta!$D$1)","v":0},"EFRAIN RIVERA HERNANDEZ","A088125610",1,296.95,null,null,null,null,null,"ABRAHAM SIGALA MARTINEZ"]
[null,null,null,{"$f":"COUNTIF($E$1:E3965,consulta!$D$1)","v":0},"IVAN COLOR IBARRA","A088131110",1,1221.9000000000001,null,null,null,null,null,"EMD SEGURIDAD PRIVADA S DE RL DE CV"]
[null,null,null,{"$f":"COUNTIF($E$1:E3977,consulta!$D$1)","v":0},"DANIEL MUNGUIA NAVARRO","A088132510",1,2702.84,null,null,null,null,null,"RECICLABLES REAL DE LA JOYA S DE RL DE CV"]
[null,null,null,{"$f":"COUNTIF($E$1:E3994,consulta!$D$1)","v":0},"FORESTAL LARA SA DE CV","A088132710",1,23022.959999999999,null,null,null,null,null,"DIANA PERALTA DE LA CUESTA"]
[null,null,null,{"$f":"COUNTIF($E$1:E4010,consulta!$D$1)","v":0},"GERARDO CEDILLO VEGA","A088151410",1,1850.42,null,null,null,null,null,"OMAR FRANCISCO FLORES LARA"]
[null,null,null,{"$f":"COUNTIF($E$1:E4028,consulta!$D$1)","v":0},"GRUPO EJECUTIVO PUBLICITARIO SC","A088167410",1,47.89,null,null,null,null,null,"ARMIDA BASOCO RAMOS"]
[null,null,null,{"$f":"COUNTIF($E$1:E4040,consulta!$D$1)","v":0},"JOSE ANTONIO MACEDO LERMA","A088175910",1,890.86,null,null,null,null,null,"VECINOS BELLA VISTA 1 AC"]
[null,null,null,{"$f":"COUNTIF($E$1:E4055,consulta!$D$1)","v":0},"JOSE DE JESUS SANTOS CARDENAS","A088209210",1,346.2,null,null,null,null,null,"KSHIELD SA DE CV"]
[null,null,null,{"$f":"COUNTIF($E$1:E4065,consulta!$D$1)","v":0},"JOSE DE JESUS SANTOS CARDENAS","A088209210",1,895.37,null,null,null,null,null,"BLANCA YAZMIN WUITRON CAMACHO"]
[null,null,null,{"$f":"COUNTIF($E$1:E4085,consulta!$D$1)","v":0},"JUAN MANUEL ORTEGA CERDA","A088218710",1,742.39,null,null,null,null,null,"PROVEEDORA DE MATERIALES READY MIX S DE RL DE CV"]
[null,null,null,{"$f":"COUNTIF($E$1:E4100,consulta!$D$1)","v":0},"RAMIRO PELAYO MARTINEZ","A088223710",1,1972.37,null,null,null,null,null,"JONATHAN PANDURO MACIAS"]
[null,null,null,{"$f":"COUNTIF($E$1:E4115,consulta!$D$1)","v":0},"ASAMBLEA DE CONDOMINOS DE LADERAS DEL MAR AC","A088240510",1,1573.02,null,null,null,null,null,"MANUFACTURA DE PRODUCTOS T S DE RL DE CV"]
[null,null,null,{"$f":"COUNTIF($E$1:E4130,consulta!$D$1)","v":0},"ADMINISTRACION DEL CONDOMINIO SANTANA AC","A088241710",1,833.52,null,null,null,null,null,"ARANEA TELECOM S DE RL DE CV"]
[null,null,null,{"$f":"COUNTIF($E$1:E4137,consulta!$D$1)","v":0},"HILDA CORONEL SANCHEZ","A088250610",1,925.21,null,null,null,null,null,"CLAUDIO GONZALEZ AMBROCIO"]
[null,null,null,{"$f":"COUNTIF($E$1:E4160,consulta!$D$1)","v":0},"GABRIEL ZAVALZA ROMERO","A088267410",1,1648.9,null,null,null,null,null,"CONCIENCIA ECOLOGICA EN GESTION DE RESIDUOS INDUSTRIALES S DE RL DE CV"]
[null,null,null,{"$f":"COUNTIF($E$1:E4172,consulta!$D$1)","v":0},"FERNANDO SANCHEZ FERNANDEZ","A088278210",1,742.39,null,null,null,null,null,"GD TRANSPORT S DE RL DE CV"]
[null,null,null,{"$f":"COUNTIF($E$1:E4189,consulta!$D$1)","v":0},"VICTOR MANUEL GALLARDO FAHME","A088301410",1,593.91,null,null,null,null,null,"GRUPO TRITON CONSULTORES Y CONSTRUCTORES SA DE CV"]
[null,null,null,{"$f":"COUNTIF($E$1:E4205,consulta!$D$1)","v":0},"SERVICIOS Y PROYECTOS ELECTRICOS BAJA S DE RL DE CV","A088303710",1,1177.18,null,null,null,null,null,"ALEJANDRA VILLENA COLIN"]
[null,null,null,{"$f":"COUNTIF($E$1:E4209,consulta!$D$1)","v":0},"SERVICIOS Y PROYECTOS ELECTRICOS BAJA S DE RL DE CV","A088303710",1,1139.22,null,null,null,null,null,"SOLMET DE MEXICALI S DE RL DE CV"]
[null,null,null,{"$f":"COUNTIF($E$1:E4235,consulta!$D$1)","v":0},"EDUARDO ATALO MAHLER ORDO#EZ","A088317210",1,370.08,null,null,null,null,null,"FELIPE DE JESUS ALVAREZ SANCHEZ"]
[null,null,null,{"$f":"COUNTIF($E$1:E4244,consulta!$D$1)","v":0},"ROMAN CISNEROS PEREZ","A088321210",1,540.55999999999995,null,null,null,null,null,"GLOBAL TRADE LOGISTICS NORTHWEST S DE RL DE CV"]
[null,null,null,{"$f":"COUNTIF($E$1:E4264,consulta!$D$1)","v":0},"OCUVISION, S.A. DE C.V.","A088343510",1,2316.4,null,null,null,null,null,"JAVIER MONTEJANO CALDERON"]
[null,null,null,{"$f":"COUNTIF($E$1:E4265,consulta!$D$1)","v":0},"OCUVISION, S.A. DE C.V.","A088343510",1,6226.22,null,null,null,null,null,"JUANA MU#OZ GONZALEZ"]
[null,null,null,{"$f":"COUNTIF($E$1:E4281,consulta!$D$1)","v":0},"INFINITY PAPELERIA S DE RL DE CV","A088363410",1,613.05999999999995,null,null,null,null,null,"ALEJANDRO RIQUE GAMBOA"]
[null,null,null,{"$f":"COUNTIF($E$1:E4294,consulta!$D$1)","v":0},"POLYLEX SA DE CV","A088368710",2,30065.48,null,null,null,null,null,"LUIS ALBERTO RAMIREZ BETANCOURT"]
[null,null,null,{"$f":"COUNTIF($E$1:E4316,consulta!$D$1)","v":0},"POLYLEX SA DE CV","A088368710",2,18843.36,null,null,null,null,null,"OMAR NEFTALI ESCOBAR ESCOBAR"]
[null,null,null,{"$f":"COUNTIF($E$1:E4324,consulta!$D$1)","v":0},"EDUARDO ANTONIO CISNEROS GARCIA","A088374210",1,3914.29,null,null,null,null,null,"AGDA GESTION DE PERSONAL SA DE CV"]
[null,null,null,{"$f":"COUNTIF($E$1:E4340,consulta!$D$1)","v":0},"PEQUE#OS TRAVIESOS II SC","A088378710",1,6791.13]
[null,null,null,{"$f":"COUNTIF($E$1:E4353,consulta!$D$1)","v":0},"VICENTE GOMEZ VILLA","A088380910",1,2986.94]
[null,null,null,{"$f":"COUNTIF($E$1:E4369,consulta!$D$1)","v":0},"JUAN JOSE LEY MORGAN","A088398110",1,1850.42]
[null,null,null,{"$f":"COUNTIF($E$1:E4385,consulta!$D$1)","v":0},"JESUS ARNULFO ARMENTA RUIZ","A088411010",1,960.08]
[null,null,null,{"$f":"COUNTIF($E$1:E4404,consulta!$D$1)","v":0},"JESUS ARNULFO ARMENTA RUIZ","A088411010",1,960.08]
[null,null,null,{"$f":"COUNTIF($E$1:E4415,consulta!$D$1)","v":0},"GENOVEVA DURAN RODRIGUEZ","A088433810",1,730.23]
[null,null,null,{"$f":"COUNTIF($E$1:E4439,consulta!$D$1)","v":0},"SERVICIOS INTERNACIONALES DEL MEDIO AMBIENTE SA DE CV","A088440010",1,6682.69]
[null,null,null,{"$f":"COUNTIF($E$1:E4444,consulta!$D$1)","v":0},"SERVICIOS INTERNACIONALES DEL MEDIO AMBIENTE SA DE CV","A088440010",1,2873.06]
[null,null,null,{"$f":"COUNTIF($E$1:E4460,consulta!$D$1)","v":0},"LOGISTICA MAP SA DE CV","A088450310",1,540.87]
[null,null,null,{"$f":"COUNTIF($E$1:E4476,consulta!$D$1)","v":0},"GUALBERTO LOPEZ VARGAS","A088470710",1,49280.47]
[null,null,null,{"$f":"COUNTIF($E$1:E4489,consulta!$D$1)","v":0},"BAJA DEV S DE RL DE CV","A088491510",1,19845.09]
[null,null,null,{"$f":"COUNTIF($E$1:E4511,consulta!$D$1)","v":0},"ASESORIA Y SERVICIOS EN COMUNICACIONES Y ELECTRONICA SA DE CV","A088505410",1,2801.81]
[null,null,null,{"$f":"COUNTIF($E$1:E4519,consulta!$D$1)","v":0},"ASESORIA Y SERVICIOS EN COMUNICACIONES Y ELECTRONICA SA DE CV","A088505410",1,1047.01]
[null,null,null,{"$f":"COUNTIF($E$1:E4535,consulta!$D$1)","v":0},"SALVADOR PLAZA VARGAS","A088521310",1,742.39]
[null,null,null,{"$f":"COUNTIF($E$1:E4548,consulta!$D$1)","v":0},"AUTO TRANSPORTES URBANOS Y SUB URBANOS LIBRES DE TIJUANA BC SA DE CV","A088528010",1,34555.24]
[null,null,null,{"$f":"COUNTIF($E$1:E4564,consulta!$D$1)","v":0},"ALMA YOLANDA JIMENEZ OCHOA","A088532710",1,2778.1]
[null,null,null,{"$f":"COUNTIF($E$1:E4583,consulta!$D$1)","v":0},"NESTLE SERVICIOS CORPORATIVOS SA DE CV","A088558710",2,2591.89]
[null,null,null,{"$f":"COUNTIF($E$1:E4594,consulta!$D$1)","v":0},"GENDEMA DE MEXICO SA DE CV","A088559010",1,10958.66]
[null,null,null,{"$f":"COUNTIF($E$1:E4609,consulta!$D$1)","v":0},"LILIA SUSANA ESPINOZA NU#EZ","A088562310",1,197.65]
[null,null,null,{"$f":"COUNTIF($E$1:E4620,consulta!$D$1)","v":0},"LETICIA CATALINA BARRAGAN BRAVO","A088583110",2,17482.38]
[null,null,null,{"$f":"COUNTIF($E$1:E4639,consulta!$D$1)","v":0},"LUIS MIGUEL LIZARRAGA CABANILLAS","A088589010",1,1474.59]
[null,null,null,{"$f":"COUNTIF($E$1:E4655,consulta!$D$1)","v":0},"INSTITUTO SIERCOR AC","A088589910",1,6693.56]
[null,null,null,{"$f":"COUNTIF($E$1:E4671,consulta!$D$1)","v":0},"RIGOBERTO PADILLA FLORES","A088603710",1,742.39]
[null,null,null,{"$f":"COUNTIF($E$1:E4684,consulta!$D$1)","v":0},"LICEO UDC SC","A088620910",1,39976.42]
[null,null,null,{"$f":"COUNTIF($E$1:E4692,consulta!$D$1)","v":0},"LICEO UDC SC","A088620910",1,15990.56]
[null,null,null,{"$f":"COUNTIF($E$1:E4714,consulta!$D$1)","v":0},"ESTANCIAS INFANTILES DE BAJA CALIFORNIA AC","A088643610",1,36709.74]
[null,null,null,{"$f":"COUNTIF($E$1:E4730,consulta!$D$1)","v":0},"RAUL ARELLANO MENDOZA","A088657910",1,1212.2]
[null,null,null,{"$f":"COUNTIF($E$1:E4743,consulta!$D$1)","v":0},"FARMAMIL, S.A. DE C.V.","A088674410",1,754.56]
[null,null,null,{"$f":"COUNTIF($E$1:E4759,consulta!$D$1)","v":0},"FARMAMIL, S.A. DE C.V.","A088674410",1,925.21]
[null,null,null,{"$f":"COUNTIF($E$1:E4764,consulta!$D$1)","v":0},"KILIWAS CONSTRUCTORA S DE RL DE CV","A088676810",1,28786.31]
[null,null,null,{"$f":"COUNTIF($E$1:E4789,consulta!$D$1)","v":0},"CEMA INGENIERIA SA DE CV","A088685610",1,2824.93]
[null,null,null,{"$f":"COUNTIF($E$1:E4804,consulta!$D$1)","v":0},"VICTOR JESUS LAGUNAS CABRERA","A088690710",1,697.49]
[null,null,null,{"$f":"COUNTIF($E$1:E4815,consulta!$D$1)","v":0},"GABRIELA ODETTE LOPEZ MACIAS","A088695710",1,1859.43]
[null,null,null,{"$f":"COUNTIF($E$1:E4834,consulta!$D$1)","v":0},"PROCESS ENGINEERING S DE RL DE CV","A088726410",1,34059.83]
[null,null,null,{"$f":"COUNTIF($E$1:E4836,consulta!$D$1)","v":0},"PROCESS ENGINEERING S DE RL DE CV","A088726410",1,22087.47]
[null,null,null,{"$f":"COUNTIF($E$1:E4849,consulta!$D$1)","v":0},"JESUS RABADAN ROSALES","A088742310",1,3873.9]
[null,null,null,{"$f":"COUNTIF($E$1:E4864,consulta!$D$1)","v":0},"SOFIA SALAZAR SAN MARTIN","A088756710",2,525.78]
[null,null,null,{"$f":"COUNTIF($E$1:E4887,consulta!$D$1)","v":0},"MARCOS ALVARADO BARAJAS","A088762710",1,420.55]
[null,null,null,{"$f":"COUNTIF($E$1:E4894,consulta!$D$1)","v":0},"AMERICAN LOAN EMPLOYEE SERVICES SA DE CV","A088765010",1,1304.96]
[null,null,null,{"$f":"COUNTIF($E$1:E4910,consulta!$D$1)","v":0},"PEREZ-BRAVO & HUIZAR SC","A088779110",1,678.85]
[null,null,null,{"$f":"COUNTIF($E$1:E4924,consulta!$D$1)","v":0},"JOSE ARMANDO BALVANERA GONZALEZ","A088785510",1,742.39]
[null,null,null,{"$f":"COUNTIF($E$1:E4939,consulta!$D$1)","v":0},"MANUFACTURER DE MEXICO MAJESTY MAJOR S DE RL DE CV","A088797910",1,2227.17]
[null,null,null,{"$f":"COUNTIF($E$1:E4959,consulta!$D$1)","v":0},"COMERCIALIZADORA DE SERVICIOS INTEGRALES PEISAL SA DE CV","A088819410",2,17711.48]
[null,null,null,{"$f":"COUNTIF($E$1:E4969,consulta!$D$1)","v":0},"COMERCIALIZADORA DE SERVICIOS INTEGRALES PEISAL SA DE CV","A088819410",1,6023.41]
[null,null,null,{"$f":"COUNTIF($E$1:E4984,consulta!$D$1)","v":0},"SEGO INDUSTRIES, S. DE R.L. DE C.V.","A088831710",1,320.06]
[null,null,null,{"$f":"COUNTIF($E$1:E4996,consulta!$D$1)","v":0},"SS LOGISTIC, S.A. DE C.V.","A088835110",1,3798.66]
[null,null,null,{"$f":"COUNTIF($E$1:E5014,consulta!$D$1)","v":0},"I E M S CONSTRUCCIONES SA DE CV","A088861110",1,12790.66]
[null,null,null,{"$f":"COUNTIF($E$1:E5031,consulta!$D$1)","v":0},"JESUS GONZALEZ ANDONAEGUI","A088862310",1,1309.83]
[null,null,null,{"$f":"COUNTIF($E$1:E5044,consulta!$D$1)","v":0},"GRUPO PULIDO POMPA ZAVALA AC","A088872910",1,11037.36]
[null,null,null,{"$f":"COUNTIF($E$1:E5059,consulta!$D$1)","v":0},"JOSE ANTONIO ZARATE REYES","A088883310",1,2227.17]
[null,null,null,{"$f":"COUNTIF($E$1:E5082,consulta!$D$1)","v":0},"KARLA CHANTAL GONZALEZ GARCIA","A088884010",1,932.07]
[null,null,null,{"$f":"COUNTIF($E$1:E5089,consulta!$D$1)","v":0},"KARLA CHANTAL GONZALEZ GARCIA","A088884010",1,372.82]
[null,null,null,{"$f":"COUNTIF($E$1:E5099,consulta!$D$1)","v":0},"DANIEL ABURTO JR COTA","A088887010",1,385.25]
[null,null,null,{"$f":"COUNTIF($E$1:E5119,consulta!$D$1)","v":0},"DANIEL NAVARRO MONROY","A088907610",1,6385.3]
[null,null,null,{"$f":"COUNTIF($E$1:E5134,consulta!$D$1)","v":0},"JOM METODOS MEXICANOS, S.A. DE C.V.","A088930410",1,7557.7]
[null,null,null,{"$f":"COUNTIF($E$1:E5154,consulta!$D$1)","v":0},"LOPEZ ALANIS Y ASOCIADOS SC","A088934110",1,4525.7299999999996]
[null,null,null,{"$f":"COUNTIF($E$1:E5164,consulta!$D$1)","v":0},"DISTEX COSMETICOS SA DE CV","A088935910",1,1850.42]
[null,null,null,{"$f":"COUNTIF($E$1:E5171,consulta!$D$1)","v":0},"DISTEX COSMETICOS SA DE CV","A088935910",1,740.16]
[null,null,null,{"$f":"COUNTIF($E$1:E5194,consulta!$D$1)","v":0},"ROGELIA TALAMANTES BENITEZ","A088949310",1,1473.83]
[null,null,null,{"$f":"COUNTIF($E$1:E5209,consulta!$D$1)","v":0},"BLANCA ROCIO LIMON GONZALEZ","A088969910",1,594.71]
[null,null,null,{"$f":"COUNTIF($E$1:E5226,consulta!$D$1)","v":0},"INSITU DIALISIS SC","A088979410",2,5410.08]
[null,null,null,{"$f":"COUNTIF($E$1:E5239,consulta!$D$1)","v":0},"ADMINISTRADORA ESTRATEGIA Y DESARROLLO EDUC, A.C.","A088982310",1,742.39]
[null,null,null,{"$f":"COUNTIF($E$1:E5254,consulta!$D$1)","v":0},"ALEXANDRO ANDA CONTRERAS","A088992910",1,495]
[null,null,null,{"$f":"COUNTIF($E$1:E5263,consulta!$D$1)","v":0},"RAUL SORIANO CA#EDO","Y941003910",1,2220.5]
[null,null,null,{"$f":"COUNTIF($E$1:E5284,consulta!$D$1)","v":0},"CORPORACION HOTELERA LAS ROCAS SA DE CV","Y941016910",2,2384.88]
[null,null,null,{"$f":"COUNTIF($E$1:E5294,consulta!$D$1)","v":0},"SIGLO XXI DESARROLLOS INDUSTRIALES SA DE CV","Y941036610",1,36793.46]
[null,null,null,{"$f":"COUNTIF($E$1:E5314,consulta!$D$1)","v":0},"ASOCIACION DE MIEMBROS DE CASTILLOS DEL MAR AC","Y941045210",1,2833.66]
[null,null,null,{"$f":"COUNTIF($E$1:E5329,consulta!$D$1)","v":0},"ASOCIACION DE MIEMBROS DE CASTILLOS DEL MAR AC","Y941045210",1,2742.27]
[null,null,null,{"$f":"COUNTIF($E$1:E5335,consulta!$D$1)","v":0},"ASOCIACION DE MIEMBROS DE CASTILLOS DEL MAR AC","Y941045210",1,936.72]
[null,null,null,{"$f":"COUNTIF($E$1:E5359,consulta!$D$1)","v":0},"BAZAR INTERNACIONAL SA DE CV","Y941060310",1,3996.1]
[null,null,null,{"$f":"COUNTIF($E$1:E5366,consulta!$D$1)","v":0},"BAZAR INTERNACIONAL SA DE CV","Y941060310",2,4024.39]
[null,null,null,{"$f":"COUNTIF($E$1:E5389,consulta!$D$1)","v":0},"AZALEA TRINIDAD VALENZUELA MARQUEZ","Y941121810",1,618.12]
[null,null,null,{"$f":"COUNTIF($E$1:E5404,consulta!$D$1)","v":0},"MONITOREO DE ALARMAS EL VIGILANTE SA DE CV","Y941145710",1,370.08]
[null,null,null,{"$f":"COUNTIF($E$1:E5417,consulta!$D$1)","v":0},"JUAN ANTONIO GARAY MACHADO","Y941181210",1,1910.13]
[null,null,null,{"$f":"COUNTIF($E$1:E5419,consulta!$D$1)","v":0},"JUAN ANTONIO GARAY MACHADO","Y941181210",1,764.05]
[null,null,null,{"$f":"COUNTIF($E$1:E5438,consulta!$D$1)","v":0},"MARMOLES Y ONIX DE LA LAGUNA SA DE CV","Y941203710",1,5685.15]
[null,null,null,{"$f":"COUNTIF($E$1:E5449,consulta!$D$1)","v":0},"DAVID ALBERTO SUAREZ VENEGAS","Y941227410",1,27.13]
[null,null,null,{"$f":"COUNTIF($E$1:E5464,consulta!$D$1)","v":0},"COLEGIO SIMON BOLIVAR BILINGUE AC","Y941229410",1,744.31]
[null,null,null,{"$f":"COUNTIF($E$1:E5489,consulta!$D$1)","v":0},"MARIA ANTONIETA HUIZAR ROBLES","Y941261810",1,358.14]
[null,null,null,{"$f":"COUNTIF($E$1:E5494,consulta!$D$1)","v":0},"MARIELA AIDEE ROBLES GARCIA","Y941310910",1,742.39]
[null,null,null,{"$f":"COUNTIF($E$1:E5509,consulta!$D$1)","v":0},"GUSTAVO ALFREDO ORTIZ MACKLIS","Y941313510",1,1549.31]
[null,null,null,{"$f":"COUNTIF($E$1:E5530,consulta!$D$1)","v":0},"JULIO CESAR MAPLE LOPEZ","Y941324410",1,14895.57]
[null,null,null,{"$f":"COUNTIF($E$1:E5539,consulta!$D$1)","v":0},"ISMAEL BERNAL VILLALOBOS","Y941325710",1,723.64]
[null,null,null,{"$f":"COUNTIF($E$1:E5561,consulta!$D$1)","v":0},"JUAN RAMIREZ RAMIREZ","Y941328210",1,306.22000000000003]
[null,null,null,{"$f":"COUNTIF($E$1:E5569,consulta!$D$1)","v":0},"JUAN RAMIREZ RAMIREZ","Y941328210",1,532.80999999999995]
[null,null,null,{"$f":"COUNTIF($E$1:E5584,consulta!$D$1)","v":0},"FINO SOLUTION SA DE CV","Y941337210",1,2579.73]
[null,null,null,{"$f":"COUNTIF($E$1:E5598,consulta!$D$1)","v":0},"APPLEMEX SA DE CV","Y941356510",1,14001.01]
[null,null,null,{"$f":"COUNTIF($E$1:E5614,consulta!$D$1)","v":0},"HECTOR MATA SOLIS","Y941375110",1,1484.78]
[null,null,null,{"$f":"COUNTIF($E$1:E5633,consulta!$D$1)","v":0},"ZAIDA LIZETTE MARCHEN QUINTERO","Y941379910",1,10616.27]
[null,null,null,{"$f":"COUNTIF($E$1:E5644,consulta!$D$1)","v":0},"FRUVEMEX MEXICALI SA DE CV","Y941389010",1,62123.15]
[null,null,null,{"$f":"COUNTIF($E$1:E5659,consulta!$D$1)","v":0},"CALIFORNIA GRANITE WORKS DE MEXICO S DE RL DE CV","Y941393610",1,5507.42]
[null,null,null,{"$f":"COUNTIF($E$1:E5670,consulta!$D$1)","v":0},"SANTIAGO MUNGUIA CASTRO","Y941394410",1,513.19000000000005]
[null,null,null,{"$f":"COUNTIF($E$1:E5689,consulta!$D$1)","v":0},"GRUPO MERCANTIL DE ROSARITO SA DE CV","Y941399910",1,2251.5100000000002]
[null,null,null,{"$f":"COUNTIF($E$1:E5705,consulta!$D$1)","v":0},"COLEGIO MILENIO AC","Y941403710",1,6634.19]
[null,null,null,{"$f":"COUNTIF($E$1:E5719,consulta!$D$1)","v":0},"EDGAR ROMERO PEREZ","Y941408210",1,1467.71]
[null,null,null,{"$f":"COUNTIF($E$1:E5734,consulta!$D$1)","v":0},"COMPA#IA OPERADORA SA DE CV","Y941410810",1,1925.49]
[null,null,null,{"$f":"COUNTIF($E$1:E5742,consulta!$D$1)","v":0},"GRUPO ASP S DE RL DE CV","Y941413210",1,123125.96]
[null,null,null,{"$f":"COUNTIF($E$1:E5764,consulta!$D$1)","v":0},"GABRIEL HUGO MINJARES MONTES","Y941418710",1,1074.44]
[null,null,null,{"$f":"COUNTIF($E$1:E5777,consulta!$D$1)","v":0},"GRUPO REINTEGRADOR NUEVA VIDA SA DE CV","Y941421410",1,477.07]
[null,null,null,{"$f":"COUNTIF($E$1:E5793,consulta!$D$1)","v":0},"CENTRO INTEGRACION ENFERMOS ALCOHOLISMO DROGADICCION MARIO CAMACHO ESPIRITU AC","Y941425410",1,4197.26]
[null,null,null,{"$f":"COUNTIF($E$1:E5809,consulta!$D$1)","v":0},"MARIO ALBERTO MORENO NAVARRO","Y941428410",1,2686.11]
[null,null,null,{"$f":"COUNTIF($E$1:E5814,consulta!$D$1)","v":0},"MARIO ALBERTO MORENO NAVARRO","Y941428410",1,1110.25]
[null,null,null,{"$f":"COUNTIF($E$1:E5839,consulta!$D$1)","v":0},"PRODUCTOS AGROPECUARIOS DESDE 1950 S DE RL DE CV","Y941429913",1,2104.5]
[null,null,null,{"$f":"COUNTIF($E$1:E5854,consulta!$D$1)","v":0},"FABRIKNTART SA DE CV","Y941430310",1,2840.53]
[null,null,null,{"$f":"COUNTIF($E$1:E5865,consulta!$D$1)","v":0},"FABRIKNTART SA DE CV","Y941430310",1,1387.44]
[null,null,null,{"$f":"COUNTIF($E$1:E5884,consulta!$D$1)","v":0},"MARIA CRUZ PERES VALENZUELA","Y941433110",1,900.98]
[null,null,null,{"$f":"COUNTIF($E$1:E5900,consulta!$D$1)","v":0},"JORGE LOPEZ BA#UELOS","Y941433310",1,895.37]
[null,null,null,{"$f":"COUNTIF($E$1:E5913,consulta!$D$1)","v":0},"EVANGELINA CAMACHO ELIZONDO","Y941442910",1,306.01]
[null,null,null,{"$f":"COUNTIF($E$1:E5929,consulta!$D$1)","v":0},"ALEJANDRA GUADALUPE JIMENEZ PAOLI","Y941443310",1,298.45999999999998]
[null,null,null,{"$f":"COUNTIF($E$1:E5937,consulta!$D$1)","v":0},"CENTRO CAMBIARIO LA PARADA SA DE CV","Y941451110",1,6137.69]
[null,null,null,{"$f":"COUNTIF($E$1:E5959,consulta!$D$1)","v":0},"OSCAR RENE LOZOYA LOPEZ","Y941456210",1,742.39]
[null,null,null,{"$f":"COUNTIF($E$1:E5972,consulta!$D$1)","v":0},"OSCAR RENE LOZOYA LOPEZ","Y941456210",1,468.42]
[null,null,null,{"$f":"COUNTIF($E$1:E5988,consulta!$D$1)","v":0},"GABEMIS SERVICIOS PROFESIONALES SC","Y941456910",1,35342.9]
[null,null,null,{"$f":"COUNTIF($E$1:E5989,consulta!$D$1)","v":0},"GABEMIS SERVICIOS PROFESIONALES SC","Y941456910",1,33996.19]
[null,null,null,{"$f":"COUNTIF($E$1:E6009,consulta!$D$1)","v":0},"LUIS ENRIQUE GUTIERREZ BOJORQUEZ","Y941457710",1,2349.84]
[null,null,null,{"$f":"COUNTIF($E$1:E6019,consulta!$D$1)","v":0},"LUIS ENRIQUE GUTIERREZ BOJORQUEZ","Y941457710",1,939.93]
[null,null,null,{"$f":"COUNTIF($E$1:E6044,consulta!$D$1)","v":0},"OPERADORA CURCO S DE RL DE CV","Y941462210",1,14833.77]
[null,null,null,{"$f":"COUNTIF($E$1:E6048,consulta!$D$1)","v":0},"MANTENIMIENTO INDUSTRIALES Y CONSTRUCCIONES ELECTRONICAS SA DE CV","Y941464310",1,593.91]
[null,null,null,{"$f":"COUNTIF($E$1:E6064,consulta!$D$1)","v":0},"CARLOS ZATARAIN PATRON","Y941465310",1,1312.04]
[null,null,null,{"$f":"COUNTIF($E$1:E6081,consulta!$D$1)","v":0},"CARLOS ZATARAIN PATRON","Y941465310",1,532.80999999999995]
[null,null,null,{"$f":"COUNTIF($E$1:E6093,consulta!$D$1)","v":0},"JOSE MARTIN CHAVEZ GUTIERREZ","Y941468610",1,1258.72]
[null,null,null,{"$f":"COUNTIF($E$1:E6109,consulta!$D$1)","v":0},"UKAME INGENIERIA SUPERVISION Y CONSTRUCION ESPECIALIZADA S DE RL DE CV","Y941468910",1,13472.27]
[null,null,null,{"$f":"COUNTIF($E$1:E6132,consulta!$D$1)","v":0},"LA ORGANIZACION PARA EL BIENESTAR DE LOS OLVIDADOS AC","Y941473610",1,4815.6499999999996]
[null,null,null,{"$f":"COUNTIF($E$1:E6139,consulta!$D$1)","v":0},"AARON ANTONIO GAXIOLA SANCHEZ","Y941475410",1,3022.34]
[null,null,null,{"$f":"COUNTIF($E$1:E6153,consulta!$D$1)","v":0},"MARCO ANTONIO VAZQUEZ RANGEL","Y941476710",1,2544.44]
[null,null,null,{"$f":"COUNTIF($E$1:E6168,consulta!$D$1)","v":0},"SININ DE BAJA CALIFORNIA S DE RL DE CV","Y941481510",1,3889.92]
[null,null,null,{"$f":"COUNTIF($E$1:E6184,consulta!$D$1)","v":0},"PORFIRIO ABURTO TAPIA","Y941485610",1,73.02]
[null,null,null,{"$f":"COUNTIF($E$1:E6204,consulta!$D$1)","v":0},"AGNES CAMELEYRE","Y941488210",1,740.16]
[null,null,null,{"$f":"COUNTIF($E$1:E6214,consulta!$D$1)","v":0},"ASOCIACION INTERNACIONAL DE COACHES Y CONFERENCISTAS SC","Y941490610",1,292.10000000000002]
[null,null,null,{"$f":"COUNTIF($E$1:E6225,consulta!$D$1)","v":0},"GASERMEX S DE RL DE CV","Y941490810",1,459.33]
[null,null,null,{"$f":"COUNTIF($E$1:E6243,consulta!$D$1)","v":0},"PEDRO BAHENA AVILES","Y941495110",1,1460.46]
[null,null,null,{"$f":"COUNTIF($E$1:E6259,consulta!$D$1)","v":0},"INFRAELEC DE BAJA CALIFORNIA S DE RL DE CV","Y941498310",1,3675.15]
[null,null,null,{"$f":"COUNTIF($E$1:E6276,consulta!$D$1)","v":0},"DIANA JUDITH SOTO IBARRA","Y941499110",1,292.08999999999997]
[null,null,null,{"$f":"COUNTIF($E$1:E6288,consulta!$D$1)","v":0},"SALVADOR COBOS MEDINA","Y941501210",1,2674.38]
[null,null,null,{"$f":"COUNTIF($E$1:E6297,consulta!$D$1)","v":0},"CENTRO DE DESARROLLO DE SOFTWARE EPICO SA DE CV","Y941501410",1,8661.18]
[null,null,null,{"$f":"COUNTIF($E$1:E6318,consulta!$D$1)","v":0},"CENTRO DE DESARROLLO DE SOFTWARE EPICO SA DE CV","Y941501410",1,3598.15]
[null,null,null,{"$f":"COUNTIF($E$1:E6334,consulta!$D$1)","v":0},"DON MONTE SA DE CV","Y941501610",1,4442.1499999999996]
[null,null,null,{"$f":"COUNTIF($E$1:E6348,consulta!$D$1)","v":0},"CENTRO DE ESTUDIOS SUPERIORES EN COMERCIO EXTERIOR Y FISCAL S DE RL DE CV","Y941502110",1,2978.82]
[null,null,null,{"$f":"COUNTIF($E$1:E6363,consulta!$D$1)","v":0},"CONSTRUCTORA SONOSUR SA DE CV","Y941503810",1,2263.7399999999998]
[null,null,null,{"$f":"COUNTIF($E$1:E6379,consulta!$D$1)","v":0},"PAULA LIZETH ZARAGOZA HERRERO","Y941505410",1,2371.9]
[null,null,null,{"$f":"COUNTIF($E$1:E6385,consulta!$D$1)","v":0},"DANNY FRANK REYES SUAREZ","Y941507110",1,3674.64]
[null,null,null,{"$f":"COUNTIF($E$1:E6408,consulta!$D$1)","v":0},"ERICK JESUS CUBILLAS SANTAOLAYA","Y941508610",1,420.55]
[null,null,null,{"$f":"COUNTIF($E$1:E6420,consulta!$D$1)","v":0},"JUNIOR MANUEL HERNANDEZ PEREZ","Y941510710",1,1509.12]
[null,null,null,{"$f":"COUNTIF($E$1:E6438,consulta!$D$1)","v":0},"JUNIOR MANUEL HERNANDEZ PEREZ","Y941510710",1,2274.06]
[null,null,null,{"$f":"COUNTIF($E$1:E6454,consulta!$D$1)","v":0},"OLGA ELIZABETH TORRES NEBUAY","Y941512710",1,52.87]
[null,null,null,{"$f":"COUNTIF($E$1:E6457,consulta!$D$1)","v":0},"SIAT TIJUANA S DE RL DE CV","Y941512810",1,2688.12]
[null,null,null,{"$f":"COUNTIF($E$1:E6483,consulta!$D$1)","v":0},"GLADYS SIMEY BOJORQUEZ RIVERA","Y941514710",1,1014.44]
[null,null,null,{"$f":"COUNTIF($E$1:E6492,consulta!$D$1)","v":0},"TRES G MATERIALS SA DE CV","Y941517210",1,45405.73]
[null,null,null,{"$f":"COUNTIF($E$1:E6513,consulta!$D$1)","v":0},"BLANCA JULIA CONTRERAS FIERROS","Y941518610",1,10620.23]
[null,null,null,{"$f":"COUNTIF($E$1:E6529,consulta!$D$1)","v":0},"CHRISTOPHER HUGHES BELLO","Y941519210",1,3321.46]
[null,null,null,{"$f":"COUNTIF($E$1:E6543,consulta!$D$1)","v":0},"ANGEL FERNANDO FLORES PONCE","Y941519810",1,963.13]
[null,null,null,{"$f":"COUNTIF($E$1:E6558,consulta!$D$1)","v":0},"SHIELD,PROTEC SA DE CV","Y941523410",1,6724.79]
[null,null,null,{"$f":"COUNTIF($E$1:E6564,consulta!$D$1)","v":0},"SHIELD,PROTEC SA DE CV","Y941523410",1,6585.01]
[null,null,null,{"$f":"COUNTIF($E$1:E6573,consulta!$D$1)","v":0},"CONSTRUCCION Y CONSERVACION DE CARRETERAS SEMA S DE RL DE CV","Y941525010",2,4815.0600000000004]
[null,null,null,{"$f":"COUNTIF($E$1:E6588,consulta!$D$1)","v":0},"UMBRELLA SERVICIOS SEGURIDAD PRIVADA S DE RL DE CV","Y941526110",1,11272.03]
[null,null,null,{"$f":"COUNTIF($E$1:E6615,consulta!$D$1)","v":0},"RICHARD RUBEN CENDOYA X","Y941529510",1,1187.82]
[null,null,null,{"$f":"COUNTIF($E$1:E6618,consulta!$D$1)","v":0},"RICHARD RUBEN CENDOYA X","Y941529510",1,2092.52]
[null,null,null,{"$f":"COUNTIF($E$1:E6636,consulta!$D$1)","v":0},"ANABEL VILLALOBOS","Y941530410",1,116.83]
[null,null,null,{"$f":"COUNTIF($E$1:E6648,consulta!$D$1)","v":0},"ANABEL VILLALOBOS","Y941530410",1,598.78]
[null,null,null,{"$f":"COUNTIF($E$1:E6663,consulta!$D$1)","v":0},"ACQUA RESTAURANTES S DE RL DE CV","Y941539910",1,4623.55]
[null,null,null,{"$f":"COUNTIF($E$1:E6687,consulta!$D$1)","v":0},"JOSE MARGARITO ERNESTO GOMEZ PADUA","Z311036610",1,1249.6500000000001]
[null,null,null,{"$f":"COUNTIF($E$1:E6693,consulta!$D$1)","v":0},"PRODUCTOS DENTALES DENMART SA DE CV","Z311043010",1,1484.78]
[null,null,null,{"$f":"COUNTIF($E$1:E6708,consulta!$D$1)","v":0},"IRMA LETICIA RAMIREZ VELEZ","Z311047610",1,2227.17]
[null,null,null,{"$f":"COUNTIF($E$1:E6724,consulta!$D$1)","v":0},"JAVIER PINEDA RODRIGUEZ","Z311051410",1,939.93]
[null,null,null,{"$f":"COUNTIF($E$1:E6738,consulta!$D$1)","v":0},"JAVIER PINEDA RODRIGUEZ","Z311051410",1,909.62]
[null,null,null,{"$f":"COUNTIF($E$1:E6759,consulta!$D$1)","v":0},"VIDRIERA ALMADA SA DE CV","Z311067710",1,1378.73]
[null,null,null,{"$f":"COUNTIF($E$1:E6768,consulta!$D$1)","v":0},"VIDRIERA ALMADA SA DE CV","Z311067710",1,1566.46]
[null,null,null,{"$f":"COUNTIF($E$1:E6783,consulta!$D$1)","v":0},"JUAN MANUEL SOLIS CASTILLO","Z311080310",1,2977.6]
[null,null,null,{"$f":"COUNTIF($E$1:E6796,consulta!$D$1)","v":0},"GABRIEL GARCIA MU#OZ","Z311082110",1,1081.31]
[null,null,null,{"$f":"COUNTIF($E$1:E6813,consulta!$D$1)","v":0},"MIRIAM ILIANA ORTIZ ZU#IGA","Z311086110",1,370.08]
[null,null,null,{"$f":"COUNTIF($E$1:E6831,consulta!$D$1)","v":0},"DANIEL FORTUNATO JIMENEZ SUSARREY","Z311099610",2,3743.3]
[null,null,null,{"$f":"COUNTIF($E$1:E6843,consulta!$D$1)","v":0},"SALDOM CONSTRUCCION Y OBRA CIVIL SA DE CV","Z311106510",1,1443.91]
[null,null,null,{"$f":"COUNTIF($E$1:E6858,consulta!$D$1)","v":0},"ADRIANA EQUIHUA MARTINEZ","Z311119810",1,742.39]
[null,null,null,{"$f":"COUNTIF($E$1:E6868,consulta!$D$1)","v":0},"CONSUELO ALVARADO ZENDEJAS","Z311130410",1,2396.2800000000002]
[null,null,null,{"$f":"COUNTIF($E$1:E6888,consulta!$D$1)","v":0},"DETALLADOS CORONA SA DE CV","Z311133110",1,7984.61]
[null,null,null,{"$f":"COUNTIF($E$1:E6899,consulta!$D$1)","v":0},"DETALLADOS CORONA SA DE CV","Z311133110",1,19961.54]
[null,null,null,{"$f":"COUNTIF($E$1:E6918,consulta!$D$1)","v":0},"MARIA REYES DOZAL RAMOS","Z311139410",1,925.21]
[null,null,null,{"$f":"COUNTIF($E$1:E6933,consulta!$D$1)","v":0},"ALMA OFELIA MORALES JUAREZ","Z311140110",1,597.41999999999996]
[null,null,null,{"$f":"COUNTIF($E$1:E6940,consulta!$D$1)","v":0},"ALMA OFELIA MORALES JUAREZ","Z311140110",1,741.94]
[null,null,null,{"$f":"COUNTIF($E$1:E6963,consulta!$D$1)","v":0},"TK SYSTEMS, S. DE R.L. DE C.V.","Z311145210",1,296.95]
[null,null,null,{"$f":"COUNTIF($E$1:E6978,consulta!$D$1)","v":0},"TK SYSTEMS, S. DE R.L. DE C.V.","Z311145210",1,523.13]
[null,null,null,{"$f":"COUNTIF($E$1:E6991,consulta!$D$1)","v":0},"SERVICIOS PROFESIONALES DE OPERACION SA DE CV","Z311145510",1,1531.72]
[null,null,null,{"$f":"COUNTIF($E$1:E7008,consulta!$D$1)","v":0},"JESUS MEZA CORONA","Z311151410",1,742.39]
[null,null,null,{"$f":"COUNTIF($E$1:E7012,consulta!$D$1)","v":0},"JESUS MEZA CORONA","Z311151410",1,895.37]
[null,null,null,{"$f":"COUNTIF($E$1:E7038,consulta!$D$1)","v":0},"ISRAEL LEON MONTES","Z311157010",1,655.36]
[null,null,null,{"$f":"COUNTIF($E$1:E7053,consulta!$D$1)","v":0},"URBANIZACIONES ANGULO, S.A. DE C.V.","Z311185010",1,3504.36]
[null,null,null,{"$f":"COUNTIF($E$1:E7063,consulta!$D$1)","v":0},"LUIS ANGEL SANCHEZ VILLAGOMEZ","Z311199910",1,3129.55]
[null,null,null,{"$f":"COUNTIF($E$1:E7083,consulta!$D$1)","v":0},"IZCHEL AZALIA XCHEL AYALA CAMACHO","Z311228710",1,2967.62]
[null,null,null,{"$f":"COUNTIF($E$1:E7094,consulta!$D$1)","v":0},"ERNESTO AGUILAR RIVERA","Z311236310",1,2702.84]
[null,null,null,{"$f":"COUNTIF($E$1:E7113,consulta!$D$1)","v":0},"RICARDO RAMIREZ IBARRA","Z311261110",1,1107.68]
[null,null,null,{"$f":"COUNTIF($E$1:E7128,consulta!$D$1)","v":0},"HOSPITAL TJ SC","Z311280010",1,4301.7299999999996]
[null,null,null,{"$f":"COUNTIF($E$1:E7135,consulta!$D$1)","v":0},"CESAR RAUL KONDO ROBLES","Z311287110",1,4593.53]
[null,null,null,{"$f":"COUNTIF($E$1:E7143,consulta!$D$1)","v":0},"LA VEREDA DE LA VIDA AC","Z311289910",1,1434.3]
[null,null,null,{"$f":"COUNTIF($E$1:E7166,consulta!$D$1)","v":0},"COLEGIO EDUCATIVO SINALOA SC","Z311306010",1,14903.25]
[null,null,null,{"$f":"COUNTIF($E$1:E7173,consulta!$D$1)","v":0},"FRANCISCO JAVIER MARTINEZ SOUZA","Z311307010",1,1509.12]
[null,null,null,{"$f":"COUNTIF($E$1:E7188,consulta!$D$1)","v":0},"FRANCISCO JAVIER MARTINEZ SOUZA","Z311307010",1,1855.66]
[null,null,null,{"$f":"COUNTIF($E$1:E7203,consulta!$D$1)","v":0},"JULIO CESAR ZURITA VIDAL","Z311316810",1,2221.7199999999998]
[null,null,null,{"$f":"COUNTIF($E$1:E7218,consulta!$D$1)","v":0},"SILVIA DEL CARMEN ANGULO ESPINOZA","Z311319010",1,3330.75]
[null,null,null,{"$f":"COUNTIF($E$1:E7238,consulta!$D$1)","v":0},"ALFONSO VARGAS ANGELES","Z311325510",1,963.13]
[null,null,null,{"$f":"COUNTIF($E$1:E7248,consulta!$D$1)","v":0},"OSVALDO SA#UDO PADILLA","Z311331210",1,2864.08]
[null,null,null,{"$f":"COUNTIF($E$1:E7263,consulta!$D$1)","v":0},"JUAN ASCENCIO LIZARRAGA","Z311346310",1,701.6]
[null,null,null,{"$f":"COUNTIF($E$1:E7275,consulta!$D$1)","v":0},"MARTHA HAYDEE GONZALEZ OJEDA","Z311354210",1,358.14]
[null,null,null,{"$f":"COUNTIF($E$1:E7293,consulta!$D$1)","v":0},"HECTOR MANUEL SERRANO MEDINA","Z311371010",1,4612.59]
[null,null,null,{"$f":"COUNTIF($E$1:E7308,consulta!$D$1)","v":0},"MANUEL ARNULFO QUINTERO LLAUSAS","Z311373510",1,808.74]
[null,null,null,{"$f":"COUNTIF($E$1:E7330,consulta!$D$1)","v":0},"RODOL INGENIERIA Y ASOCIADOS S DE RL DE CV","Z311418510",1,732.38]
[null,null,null,{"$f":"COUNTIF($E$1:E7338,consulta!$D$1)","v":0},"JUAN AURELIO MORALES BECERRA","Z311434310",1,358.14]
[null,null,null,{"$f":"COUNTIF($E$1:E7361,consulta!$D$1)","v":0},"DORA LUZ GOMEZ LLANOS REYNOSO","Z311446010",1,3416.8]
[null,null,null,{"$f":"COUNTIF($E$1:E7368,consulta!$D$1)","v":0},"GABRIEL GUTIERREZ COTA","Z311447710",1,932.07]
[null,null,null,{"$f":"COUNTIF($E$1:E7383,consulta!$D$1)","v":0},"VICENTE LEONARDO LEDEZMA RAUDALES","Z311452310",1,1194.43]
[null,null,null,{"$f":"COUNTIF($E$1:E7398,consulta!$D$1)","v":0},"FERNANDO VERDUGO AMADOR","Z311462910",1,209.35]
[null,null,null,{"$f":"COUNTIF($E$1:E7413,consulta!$D$1)","v":0},"DIANA SOLEDAD ALDERETE VASQUEZ","Z311470110",1,2227.17]
[null,null,null,{"$f":"COUNTIF($E$1:E7433,consulta!$D$1)","v":0},"HORMIGA VERDE SA DE CV","Z311473410",1,483.38]
[null,null,null,{"$f":"COUNTIF($E$1:E7443,consulta!$D$1)","v":0},"HORMIGA VERDE SA DE CV","Z311473410",1,540.55999999999995]
[null,null,null,{"$f":"COUNTIF($E$1:E7458,consulta!$D$1)","v":0},"HECTOR RAUL HERNANDEZ LEY","Z311475510",1,3581.48]
[null,null,null,{"$f":"COUNTIF($E$1:E7470,consulta!$D$1)","v":0},"PROMOCIONARTE SA DE CV","Z311478010",1,11461.43]
[null,null,null,{"$f":"COUNTIF($E$1:E7488,consulta!$D$1)","v":0},"PROMOCIONARTE SA DE CV","Z311478010",1,19013.66]
[null,null,null,{"$f":"COUNTIF($E$1:E7505,consulta!$D$1)","v":0},"HILDA BEATRIZ ANGULO VALLE","Z311491910",1,1148.99]
[null,null,null,{"$f":"COUNTIF($E$1:E7518,consulta!$D$1)","v":0},"MIRNA MORALES HERRERA","Z311493510",1,6050.12]
[null,null,null,{"$f":"COUNTIF($E$1:E7533,consulta!$D$1)","v":0},"LOURDES FLORES AMES","Z311495610",1,2615.66]
[null,null,null,{"$f":"COUNTIF($E$1:E7542,consulta!$D$1)","v":0},"LOURDES FLORES AMES","Z311495610",1,1081.1300000000001]
[null,null,null,{"$f":"COUNTIF($E$1:E7563,consulta!$D$1)","v":0},"MARIO ALBERTO SOBERANIS MARTINEZ","Z311501010",1,990.67]
[null,null,null,{"$f":"COUNTIF($E$1:E7578,consulta!$D$1)","v":0},"JACUZZI DE MEXICO SA DE CV","Z311506210",1,1435.59]
[null,null,null,{"$f":"COUNTIF($E$1:E7593,consulta!$D$1)","v":0},"JACUZZI DE MEXICO SA DE CV","Z311506210",1,2000]
[null,null,null,{"$f":"COUNTIF($E$1:E7608,consulta!$D$1)","v":0},"COMPLEJO EDUCATIVO FORJADORES DE LA PATRIA AC","Z311521710",1,8386.6]
[null,null,null,{"$f":"COUNTIF($E$1:E7614,consulta!$D$1)","v":0},"COMPLEJO EDUCATIVO FORJADORES DE LA PATRIA AC","Z311521710",1,8602.6200000000008]
[null,null,null,{"$f":"COUNTIF($E$1:E7638,consulta!$D$1)","v":0},"JOSE ANGEL CARDENAS LUGO","Z311531510",1,8806.3799999999992]
[null,null,null,{"$f":"COUNTIF($E$1:E7653,consulta!$D$1)","v":0},"LUIS BARBA ALHADRO","Z311545310",1,2288.61]
[null,null,null,{"$f":"COUNTIF($E$1:E7665,consulta!$D$1)","v":0},"LUIS BARBA ALHADRO","Z311545310",1,915.44]
[null,null,null,{"$f":"COUNTIF($E$1:E7683,consulta!$D$1)","v":0},"FRANCISCA LOZANO AYALA","Z311548210",1,3773.39]
[null,null,null,{"$f":"COUNTIF($E$1:E7686,consulta!$D$1)","v":0},"FRANCISCA LOZANO AYALA","Z311548210",1,2119.38]
[null,null,null,{"$f":"COUNTIF($E$1:E7712,consulta!$D$1)","v":0},"INEXE DE B.C. SA DE CV","Z311562410",1,1549.72]
[null,null,null,{"$f":"COUNTIF($E$1:E7713,consulta!$D$1)","v":0},"INEXE DE B.C. SA DE CV","Z311562410",1,891.02]
[null,null,null,{"$f":"COUNTIF($E$1:E7737,consulta!$D$1)","v":0},"SERGIO RENE NU#EZ RIVERA","Z311575110",1,1168.3599999999999]
[null,null,null,{"$f":"COUNTIF($E$1:E7743,consulta!$D$1)","v":0},"SERGIO RENE NU#EZ RIVERA","Z311575110",1,1682.2]
[null,null,null,{"$f":"COUNTIF($E$1:E7758,consulta!$D$1)","v":0},"SERGIO RENE NU#EZ RIVERA","Z311575110",1,4205.5200000000004]
[null,null,null,{"$f":"COUNTIF($E$1:E7772,consulta!$D$1)","v":0},"GRUAS MARTINEZ SA DE CV","Z311583210",1,5906.2]
[null,null,null,{"$f":"COUNTIF($E$1:E7788,consulta!$D$1)","v":0},"OBRAS E INFRAESTRUCTURA DEL NOROESTE SA DE CV","Z311590410",1,374.85]
[null,null,null,{"$f":"COUNTIF($E$1:E7809,consulta!$D$1)","v":0},"R+R EDIFICACIONES Y PROYECTOS S DE RL","Z311590710",1,8307.5]
[null,null,null,{"$f":"COUNTIF($E$1:E7818,consulta!$D$1)","v":0},"ENEGIN SC","Z311591010",1,1790.74]
[null,null,null,{"$f":"COUNTIF($E$1:E7833,consulta!$D$1)","v":0},"EVISA SERVICIOS MULTIPLES Y ASOC SC","Z311594510",1,603.25]
[null,null,null,{"$f":"COUNTIF($E$1:E7846,consulta!$D$1)","v":0},"LA Q CAMPESTRE S DE RL DE CV","Z311605010",1,21673.41]
[null,null,null,{"$f":"COUNTIF($E$1:E7863,consulta!$D$1)","v":0},"GG INDUSTRIAL DE MUEBLES SA DE CV","Z311608210",1,48736.4]
[null,null,null,{"$f":"COUNTIF($E$1:E7881,consulta!$D$1)","v":0},"EUNIME POR TIJUANA AC","Z311615610",1,4381.38]
[null,null,null,{"$f":"COUNTIF($E$1:E7892,consulta!$D$1)","v":0},"JOSE MAGDALENO QUIMI","Z311616510",1,5196.7299999999996]
[null,null,null,{"$f":"COUNTIF($E$1:E7908,consulta!$D$1)","v":0},"STTIC DE MEXICO, S.A. DE C.V.","Z311620910",1,60830.47]
[null,null,null,{"$f":"COUNTIF($E$1:E7918,consulta!$D$1)","v":0},"COMERCIALIZADORA EDIFICATE SA DE CV","Z311626010",1,65415.08]
[null,null,null,{"$f":"COUNTIF($E$1:E7938,consulta!$D$1)","v":0},"COMERCIALIZADORA EDIFICATE SA DE CV","Z311626010",1,34966.699999999997]
[null,null,null,{"$f":"COUNTIF($E$1:E7953,consulta!$D$1)","v":0},"AMALIA ARACELI SERRANO GARCIA","Z311631610",1,385.25]
[null,null,null,{"$f":"COUNTIF($E$1:E7967,consulta!$D$1)","v":0},"SM ELECTROMECANICOS S DE RL DE CV","Z311638810",1,13826.86]
[null,null,null,{"$f":"COUNTIF($E$1:E7983,consulta!$D$1)","v":0},"MAYTE MERCEDES LOPEZ MONTOYA","Z311639710",1,540.55999999999995]
[null,null,null,{"$f":"COUNTIF($E$1:E8004,consulta!$D$1)","v":0},"ARQCOS DE TIJUANA S DE RL DE CV","Z311653610",1,1484.78]
[null,null,null,{"$f":"COUNTIF($E$1:E8012,consulta!$D$1)","v":0},"PI#A SILVA VEGA ASESORES Y CONSULTORES SC","Z311662210",1,2775.63]
[null,null,null,{"$f":"COUNTIF($E$1:E8025,consulta!$D$1)","v":0},"EVELIO BRIONES GODINEZ","Z311667110",1,1484.78]
[null,null,null,{"$f":"COUNTIF($E$1:E8042,consulta!$D$1)","v":0},"NOE BERNAL SALOMON","Z311673110",1,612.44000000000005]
[null,null,null,{"$f":"COUNTIF($E$1:E8058,consulta!$D$1)","v":0},"MARGARITO COTA VALENZUELA","Z311677310",1,11131.74]
[null,null,null,{"$f":"COUNTIF($E$1:E8076,consulta!$D$1)","v":0},"LEONARDO POMPA TOVAR","Z311690610",1,1526.26]
[null,null,null,{"$f":"COUNTIF($E$1:E8087,consulta!$D$1)","v":0},"GUADALUPE RAMIREZ CONTRERAS","Z311692010",1,1450.14]
[null,null,null,{"$f":"COUNTIF($E$1:E8097,consulta!$D$1)","v":0},"CARLOS SALAZAR SANCHEZ","Z311692510",1,370.08]
[null,null,null,{"$f":"COUNTIF($E$1:E8117,consulta!$D$1)","v":0},"MARIA GREGORIA GONZALEZ MORALES","Z311696510",1,925.21]
[null,null,null,{"$f":"COUNTIF($E$1:E8133,consulta!$D$1)","v":0},"GUILLERMO VELARDE PEREGRINA","Z311699710",1,370.08]
[null,null,null,{"$f":"COUNTIF($E$1:E8148,consulta!$D$1)","v":0},"JOSE LUIS NIEVES VIVAS","Z311705610",1,832.06]
[null,null,null,{"$f":"COUNTIF($E$1:E8162,consulta!$D$1)","v":0},"CEVA FREIGHT MANAGEMENT MEXICO SA DE CV","Z311717110",1,11473.44]
[null,null,null,{"$f":"COUNTIF($E$1:E8178,consulta!$D$1)","v":0},"JORGE MARTIN MONTOR MERCADO","Z311736410",1,473.74]
[null,null,null,{"$f":"COUNTIF($E$1:E8185,consulta!$D$1)","v":0},"DES Y ASOCIADOS SC","Z311739910",1,1819.05]
[null,null,null,{"$f":"COUNTIF($E$1:E8207,consulta!$D$1)","v":0},"JORGE GARCIA DOMINGUEZ","Z311758010",1,742.39]
[null,null,null,{"$f":"COUNTIF($E$1:E8220,consulta!$D$1)","v":0},"SEGURIDAD PRIVADA INTEGRAL Y PREVENTIVA LEONES SA DE CV","Z311759010",2,24431.439999999999]
[null,null,null,{"$f":"COUNTIF($E$1:E8237,consulta!$D$1)","v":0},"DISTRIBUCION PROFESIONAL DE BC SA DE CV","Z311761110",1,2452.38]
[null,null,null,{"$f":"COUNTIF($E$1:E8253,consulta!$D$1)","v":0},"SERVICIOS ADMINISTRATIVOS DE NOMINA SC","Z311763610",1,814.76]
[null,null,null,{"$f":"COUNTIF($E$1:E8257,consulta!$D$1)","v":0},"MARIO ALBERTO LAMAS ALFARO","Z311763910",1,1850.42]
[null,null,null,{"$f":"COUNTIF($E$1:E8282,consulta!$D$1)","v":0},"PHILIP ANTHONY GAVILA III JEWELL","Z311767710",1,4481.6099999999997]
[null,null,null,{"$f":"COUNTIF($E$1:E8292,consulta!$D$1)","v":0},"SOLUCIONES INTEGRALES DE RECURSOS HUMANOS S DE RL DE CV","Z311773010",1,940.81]
[null,null,null,{"$f":"COUNTIF($E$1:E8297,consulta!$D$1)","v":0},"URBANIZADO Y PAVIMENTACION DE BAJA CALIFORNIA SA DE CV","Z311776210",1,7451.59]
[null,null,null,{"$f":"COUNTIF($E$1:E8313,consulta!$D$1)","v":0},"JONATHAN RIVERA MORENO","Z311783310",1,1334.85]
[null,null,null,{"$f":"COUNTIF($E$1:E8329,consulta!$D$1)","v":0},"JESUS ANTONIO MOLINA AYALA","Z311786210",1,358.14]
[null,null,null,{"$f":"COUNTIF($E$1:E8342,consulta!$D$1)","v":0},"JOSE MAX GREENHOUSE GARCIA","Z311794310",1,742.39]
[null,null,null,{"$f":"COUNTIF($E$1:E8364,consulta!$D$1)","v":0},"PALMIRA ELIZABETH ABUNDIS SILVA","Z311808010",1,740.16]
[null,null,null,{"$f":"COUNTIF($E$1:E8372,consulta!$D$1)","v":0},"JOEL CARRASCO SANCHEZ","Z311809310",1,11985.25]
[null,null,null,{"$f":"COUNTIF($E$1:E8387,consulta!$D$1)","v":0},"ENRIQUE HERNANDEZ CASTILLO","Z311812510",1,1597.36]
[null,null,null,{"$f":"COUNTIF($E$1:E8401,consulta!$D$1)","v":0},"SANDRA LUZ MARQUEZ CORREA","Z311814110",1,385.25]
[null,null,null,{"$f":"COUNTIF($E$1:E8417,consulta!$D$1)","v":0},"PARTS PLUS DE MEXICO SA DE CV","Z311820210",1,11470.34]
[null,null,null,{"$f":"COUNTIF($E$1:E8433,consulta!$D$1)","v":0},"METALUSA SA DE CV","Z311825010",2,1094.18]
[null,null,null,{"$f":"COUNTIF($E$1:E8452,consulta!$D$1)","v":0},"RECREACION CON ENTRETENIMIENTO SA DE CV","Z311835510",1,742.39]
[null,null,null,{"$f":"COUNTIF($E$1:E8462,consulta!$D$1)","v":0},"RECREACION CON ENTRETENIMIENTO SA DE CV","Z311835510",1,87.62]
[null,null,null,{"$f":"COUNTIF($E$1:E8473,consulta!$D$1)","v":0},"MARTIN LOPEZ CASTRO","Z311843210",1,4478.95]
[null,null,null,{"$f":"COUNTIF($E$1:E8492,consulta!$D$1)","v":0},"JARDINERIA INTEGRAL Y DE RIEGO SA DE CV","Z311846310",1,282.81]
[null,null,null,{"$f":"COUNTIF($E$1:E8507,consulta!$D$1)","v":0},"JARDINERIA INTEGRAL Y DE RIEGO SA DE CV","Z311846310",1,1174.92]
[null,null,null,{"$f":"COUNTIF($E$1:E8524,consulta!$D$1)","v":0},"AWA INGENIERIA SA DE CV","Z311852310",1,1673.53]
[null,null,null,{"$f":"COUNTIF($E$1:E8537,consulta!$D$1)","v":0},"PLASMA DISE#O DE STANDS S DE RL DE CV","Z311858510",1,1780.01]
[null,null,null,{"$f":"COUNTIF($E$1:E8559,consulta!$D$1)","v":0},"JULIO GURROLA RODRIGUEZ","Z311870910",1,1014.73]
[null,null,null,{"$f":"COUNTIF($E$1:E8567,consulta!$D$1)","v":0},"JOSE MARIA VEGA SOTOMAYOR","Z311871510",1,1583.2]
[null,null,null,{"$f":"COUNTIF($E$1:E8582,consulta!$D$1)","v":0},"JOSE MARIA VEGA SOTOMAYOR","Z311871510",1,1532.13]
[null,null,null,{"$f":"COUNTIF($E$1:E8596,consulta!$D$1)","v":0},"J COSME BECERRA RANGEL","Z311875710",1,2361.02]
[null,null,null,{"$f":"COUNTIF($E$1:E8612,consulta!$D$1)","v":0},"BALEROS Y CADENAS BENTON S DE RL DE CV","Z311877510",1,1966.37]
[null,null,null,{"$f":"COUNTIF($E$1:E8631,consulta!$D$1)","v":0},"AMERICA NALLELY LOREDO GARCIA","Z311881010",1,593.91]
[null,null,null,{"$f":"COUNTIF($E$1:E8642,consulta!$D$1)","v":0},"AMERICA NALLELY LOREDO GARCIA","Z311881010",1,2102.7600000000002]
[null,null,null,{"$f":"COUNTIF($E$1:E8657,consulta!$D$1)","v":0},"CARLOS TORRES NAVEJAS","Z311889410",1,1111.46]
[null,null,null,{"$f":"COUNTIF($E$1:E8668,consulta!$D$1)","v":0},"ORLANDO CASTILLO LINO","Z311889710",1,7642.96]
[null,null,null,{"$f":"COUNTIF($E$1:E8687,consulta!$D$1)","v":0},"ORLANDO CASTILLO LINO","Z311889710",1,3294.94]
[null,null,null,{"$f":"COUNTIF($E$1:E8699,consulta!$D$1)","v":0},"MARIA DEL CARMEN MARTINEZ BARRERA","Z311895710",1,754.56]
[null,null,null,{"$f":"COUNTIF($E$1:E8717,consulta!$D$1)","v":0},"MARIA DEL CARMEN MARTINEZ BARRERA","Z311895710",1,925.21]
[null,null,null,{"$f":"COUNTIF($E$1:E8732,consulta!$D$1)","v":0},"MIGUEL ALBERTO ARCE HERNANDEZ","Z311902910",1,697.03]
[null,null,null,{"$f":"COUNTIF($E$1:E8740,consulta!$D$1)","v":0},"EZEQUIEL SANCHEZ MACIAS","Z311910010",1,5107.1000000000004]
[null,null,null,{"$f":"COUNTIF($E$1:E8762,consulta!$D$1)","v":0},"MA TRINIDAD RAMIREZ RAMOS","Z311925010",1,420.55]
[null,null,null,{"$f":"COUNTIF($E$1:E8777,consulta!$D$1)","v":0},"ALFREDO VALDIVIA RAMOS","Z311933410",1,742.39]
[null,null,null,{"$f":"COUNTIF($E$1:E8791,consulta!$D$1)","v":0},"AGENCIA ADUANAL SORIANO Y ASOCIADOS SC","Z311938110",1,51689.04]
[null,null,null,{"$f":"COUNTIF($E$1:E8807,consulta!$D$1)","v":0},"TJ COMUNICACIONES SA DE CV","Z311948410",1,1055.96]
[null,null,null,{"$f":"COUNTIF($E$1:E8822,consulta!$D$1)","v":0},"TJ COMUNICACIONES SA DE CV","Z311948410",1,1092.3800000000001]
[null,null,null,{"$f":"COUNTIF($E$1:E8837,consulta!$D$1)","v":0},"TELEVISORA FRONTERIZA SA DE CV","Z311951710",1,2796.21]
[null,null,null,{"$f":"COUNTIF($E$1:E8852,consulta!$D$1)","v":0},"TELE-DATA TIJUANA SA DE CV","Z311952910",1,3821.92]
[null,null,null,{"$f":"COUNTIF($E$1:E8863,consulta!$D$1)","v":0},"JESUCRISTO GARZA AMADO","Z311957210",1,296.95]
[null,null,null,{"$f":"COUNTIF($E$1:E8867,consulta!$D$1)","v":0},"ENRIQUE ALBERTO GUIRADO GARCIA","Z311958510",1,2190.69]
[null,null,null,{"$f":"COUNTIF($E$1:E8894,consulta!$D$1)","v":0},"ENRIQUE ALBERTO GUIRADO GARCIA","Z311958510",1,1569.39]
[null,null,null,{"$f":"COUNTIF($E$1:E8897,consulta!$D$1)","v":0},"ENRIQUE ALBERTO GUIRADO GARCIA","Z311958510",1,4054.26]
[null,null,null,{"$f":"COUNTIF($E$1:E8912,consulta!$D$1)","v":0},"JAVIER ALVAREZ ZURITA","Z311964910",1,890.86]
[null,null,null,{"$f":"COUNTIF($E$1:E8935,consulta!$D$1)","v":0},"HECTOR HIRAM CENTENO MARTIN","Z311967310",1,2039.43]
[null,null,null,{"$f":"COUNTIF($E$1:E8942,consulta!$D$1)","v":0},"JOAQUIN EMILIO DOMINGUEZ FUENTES","Z311969810",1,603.16999999999996]
[null,null,null,{"$f":"COUNTIF($E$1:E8966,consulta!$D$1)","v":0},"JEM PLASTICS SA DE CV","Z311977610",1,60626.97]
[null,null,null,{"$f":"COUNTIF($E$1:E8972,consulta!$D$1)","v":0},"SOLUCIONES EXPRESS SA DE CV","Z311985310",1,2779.59]
[null,null,null,{"$f":"COUNTIF($E$1:E8987,consulta!$D$1)","v":0},"LUIS MANUEL AMEZQUITA DURAN","Z311990210",1,2681.86]
[null,null,null,{"$f":"COUNTIF($E$1:E9003,consulta!$D$1)","v":0},"ANA BRENDA GONZALEZ HERNANDEZ","Z311991010",1,1122.83]
[null,null,null,{"$f":"COUNTIF($E$1:E9017,consulta!$D$1)","v":0},"RAFAEL GARCIA ARCE","Z311997110",1,2342.1]
[null,null,null,{"$f":"COUNTIF($E$1:E9032,consulta!$D$1)","v":0},"MANUFACTURA DE EMPAQUE PENINSULAR S DE RL DE CV","Z312002410",2,3180.68]
[null,null,null,{"$f":"COUNTIF($E$1:E9044,consulta!$D$1)","v":0},"ISRAEL AYALA VELOZ","Z312006210",1,10754.1]
[null,null,null,{"$f":"COUNTIF($E$1:E9062,consulta!$D$1)","v":0},"JOSE ROBERTO GONZALEZ MEDINA","Z312007510",1,2775.63]
[null,null,null,{"$f":"COUNTIF($E$1:E9075,consulta!$D$1)","v":0},"CGS ARQUITECTURA SA DE CV","Z312011110",1,2381.0300000000002]
[null,null,null,{"$f":"COUNTIF($E$1:E9092,consulta!$D$1)","v":0},"MARCO ANTONIO PERALTA VIRUETE","Z312013110",1,900.13]
[null,null,null,{"$f":"COUNTIF($E$1:E9107,consulta!$D$1)","v":0},"SERVANDO GABRIEL VAZQUEZ CARRILLO","Z312016510",1,2993.91]
[null,null,null,{"$f":"COUNTIF($E$1:E9116,consulta!$D$1)","v":0},"SERVANDO GABRIEL VAZQUEZ CARRILLO","Z312016510",1,505.68]
[null,null,null,{"$f":"COUNTIF($E$1:E9137,consulta!$D$1)","v":0},"SERVANDO GABRIEL VAZQUEZ CARRILLO","Z312016510",1,523.13]
[null,null,null,{"$f":"COUNTIF($E$1:E9147,consulta!$D$1)","v":0},"GS MEX SA DE CV","Z312020410",1,14325.69]
[null,null,null,{"$f":"COUNTIF($E$1:E9167,consulta!$D$1)","v":0},"CHRISTIAN MANUEL BRAVO BRAVO","Z312023510",1,3861.14]
[null,null,null,{"$f":"COUNTIF($E$1:E9182,consulta!$D$1)","v":0},"JOSAFAT GARCIA QUINTERO","Z312026310",1,3863.1]
[null,null,null,{"$f":"COUNTIF($E$1:E9198,consulta!$D$1)","v":0},"KMA SURTIDORA INDUSTRIAL SA DE CV","Z312030610",1,5594.5]
[null,null,null,{"$f":"COUNTIF($E$1:E9212,consulta!$D$1)","v":0},"ANDREA JOHANA MERECIAS LOPEZ","Z312032610",1,370.08]
[null,null,null,{"$f":"COUNTIF($E$1:E9219,consulta!$D$1)","v":0},"JIACHAO LI","Z312039110",1,248.51]
[null,null,null,{"$f":"COUNTIF($E$1:E9242,consulta!$D$1)","v":0},"ADAN GUILLEN AVENDA#O","Z312042710",1,3582.27]
[null,null,null,{"$f":"COUNTIF($E$1:E9257,consulta!$D$1)","v":0},"ADAN GUILLEN AVENDA#O","Z312042710",1,1110.25]
[null,null,null,{"$f":"COUNTIF($E$1:E9270,consulta!$D$1)","v":0},"NOEMI RUBISEL QUINTERO CARRILLO","Z312052410",1,439.64]
[null,null,null,{"$f":"COUNTIF($E$1:E9287,consulta!$D$1)","v":0},"BERRY ARQUITECTOS ASOCIADOS S DE RL DE CV","Z312056910",2,4345.8599999999997]
[null,null,null,{"$f":"COUNTIF($E$1:E9302,consulta!$D$1)","v":0},"BAS ADMINISTRACION SC","Z312057110",1,611.24]
[null,null,null,{"$f":"COUNTIF($E$1:E9307,consulta!$D$1)","v":0},"PABLO PARTIDA ROJAS","Z312063410",1,1051.3800000000001]
[null,null,null,{"$f":"COUNTIF($E$1:E9332,consulta!$D$1)","v":0},"SUBURBUS SA DE CV","Z312065010",1,48497.279999999999]
[null,null,null,{"$f":"COUNTIF($E$1:E9342,consulta!$D$1)","v":0},"FLOR ANGELI MADRIGAL COSSIO","Z312074610",1,1606.1]
[null,null,null,{"$f":"COUNTIF($E$1:E9362,consulta!$D$1)","v":0},"T-SHIRTS DE CALIDAD SA DE CV","Z312076510",1,11979.48]
[null,null,null,{"$f":"COUNTIF($E$1:E9377,consulta!$D$1)","v":0},"GUADALUPE DEL ROCIO BELTRAN ESQUER","Z312085210",1,1054.2]
[null,null,null,{"$f":"COUNTIF($E$1:E9379,consulta!$D$1)","v":0},"JAVIER GRACIANO CONTRERAS","Z312085410",1,1143.08]
[null,null,null,{"$f":"COUNTIF($E$1:E9407,consulta!$D$1)","v":0},"MARIA CATALINA TONELLA RODRIGUEZ","Z312087610",1,742.26]
[null,null,null,{"$f":"COUNTIF($E$1:E9414,consulta!$D$1)","v":0},"JUAN RAMON OSUNA CARRANZA","Z312091010",1,4523.7]
[null,null,null,{"$f":"COUNTIF($E$1:E9422,consulta!$D$1)","v":0},"SIMPACK DE MEXICO SA DE CV","Z312097910",1,2193.62]
[null,null,null,{"$f":"COUNTIF($E$1:E9437,consulta!$D$1)","v":0},"JOSE MANUEL HERRERA DOMINGUEZ","Z312099510",1,1190.4000000000001]
[null,null,null,{"$f":"COUNTIF($E$1:E9465,consulta!$D$1)","v":0},"GAMALIEL GONZALEZ BARBA","Z312100510",1,358.14]
[null,null,null,{"$f":"COUNTIF($E$1:E9467,consulta!$D$1)","v":0},"GAMALIEL GONZALEZ BARBA","Z312100510",1,370.08]
[null,null,null,{"$f":"COUNTIF($E$1:E9486,consulta!$D$1)","v":0},"DANIEL EDUARDO CARDENAS CARRILLO","Z312102810",1,5278.04]
[null,null,null,{"$f":"COUNTIF($E$1:E9496,consulta!$D$1)","v":0},"RAMON RICARDO VELASCO BUELNA","Z312103810",1,5596.8]
[null,null,null,{"$f":"COUNTIF($E$1:E9512,consulta!$D$1)","v":0},"SERVICIOS CORPORATIVOS EN ALIMENTOS QUALITY FOOD SA DE CV","Z312105910",1,2293.5700000000002]
[null,null,null,{"$f":"COUNTIF($E$1:E9537,consulta!$D$1)","v":0},"ANA DORINA MACCHETTO GERALDO","Z312106210",1,813.97]
[null,null,null,{"$f":"COUNTIF($E$1:E9542,consulta!$D$1)","v":0},"ANA DORINA MACCHETTO GERALDO","Z312106210",1,841.1]
[null,null,null,{"$f":"COUNTIF($E$1:E9558,consulta!$D$1)","v":0},"THELMA LOZOYA VENEGAS","Z312110910",1,431.51]
[null,null,null,{"$f":"COUNTIF($E$1:E9571,consulta!$D$1)","v":0},"FENG LIU","Z312114710",1,742.39]
[null,null,null,{"$f":"COUNTIF($E$1:E9587,consulta!$D$1)","v":0},"OSCAR NAVARRO MOZQUEDA","Z312115510",1,925.21]
[null,null,null,{"$f":"COUNTIF($E$1:E9609,consulta!$D$1)","v":0},"AXIS CNC SALES DE MEXICO S DE RL DE CV","Z312123910",1,2327.9699999999998]
[null,null,null,{"$f":"COUNTIF($E$1:E9617,consulta!$D$1)","v":0},"G MARK GLOBAL MARKETING SA DE CV","Z312125910",1,727.57]
[null,null,null,{"$f":"COUNTIF($E$1:E9632,consulta!$D$1)","v":0},"JORGE ALBERTO AVELAR RUIZ","Z312135610",1,8131.28]
[null,null,null,{"$f":"COUNTIF($E$1:E9646,consulta!$D$1)","v":0},"JORGE ALBERTO AVELAR RUIZ","Z312135610",1,3305.83]
[null,null,null,{"$f":"COUNTIF($E$1:E9662,consulta!$D$1)","v":0},"JORGE ALBERTO AVELAR RUIZ","Z312135610",1,1597.23]
[null,null,null,{"$f":"COUNTIF($E$1:E9681,consulta!$D$1)","v":0},"SALVADOR MARTIN YA#EZ NAVARRO","Z312143510",1,6604.32]
[null,null,null,{"$f":"COUNTIF($E$1:E9691,consulta!$D$1)","v":0},"SALVADOR MARTIN YA#EZ NAVARRO","Z312143510",1,9159.74]
[null,null,null,{"$f":"COUNTIF($E$1:E9707,consulta!$D$1)","v":0},"SALVADOR MARTIN YA#EZ NAVARRO","Z312143510",1,1722.72]
[null,null,null,{"$f":"COUNTIF($E$1:E9718,consulta!$D$1)","v":0},"BACESA DE TIJUANA S DE RL DE CV","Z312145610",1,4127.5]
[null,null,null,{"$f":"COUNTIF($E$1:E9737,consulta!$D$1)","v":0},"LUIS GERARDO SANCHEZ DELGADO","Z312149910",2,296.95]
[null,null,null,{"$f":"COUNTIF($E$1:E9753,consulta!$D$1)","v":0},"LUIS GERARDO SANCHEZ DELGADO","Z312149910",1,371.13]
[null,null,null,{"$f":"COUNTIF($E$1:E9766,consulta!$D$1)","v":0},"ANDREA VANESSA CARRION DOMINGUEZ","Z312154610",1,584.17999999999995]
[null,null,null,{"$f":"COUNTIF($E$1:E9782,consulta!$D$1)","v":0},"ANDREA VANESSA CARRION DOMINGUEZ","Z312154610",1,1926.26]
[null,null,null,{"$f":"COUNTIF($E$1:E9790,consulta!$D$1)","v":0},"ANDREA VANESSA CARRION DOMINGUEZ","Z312154610",1,1926.26]
[null,null,null,{"$f":"COUNTIF($E$1:E9811,consulta!$D$1)","v":0},"PROMOTORA Y DISTRIBUIDORA DE PRODUCTOS DE LA TIERRA SA DE CV","Z312158210",1,4638.5]
[null,null,null,{"$f":"COUNTIF($E$1:E9825,consulta!$D$1)","v":0},"ROQUE SERGIO ALVES DOS SANTOS","Z312159210",1,3233.64]
[null,null,null,{"$f":"COUNTIF($E$1:E9841,consulta!$D$1)","v":0},"RUBEN RODRIGUEZ SERRANO","Z312159510",1,16382.88]
[null,null,null,{"$f":"COUNTIF($E$1:E9857,consulta!$D$1)","v":0},"RUBEN RODRIGUEZ SERRANO","Z312159510",1,6916.97]
[null,null,null,{"$f":"COUNTIF($E$1:E9862,consulta!$D$1)","v":0},"CONSTRUCCION Y MANTENIMIENTO DE PAVIMENTOS SA DE CV","Z312160510",1,17306.39]
[null,null,null,{"$f":"COUNTIF($E$1:E9886,consulta!$D$1)","v":0},"EDUCANDO EN COMPETENCIA SC","Z312162910",1,1534.6]
[null,null,null,{"$f":"COUNTIF($E$1:E9902,consulta!$D$1)","v":0},"MEXMOLD SA DE CV","Z312163410",1,8646.33]
[null,null,null,{"$f":"COUNTIF($E$1:E9913,consulta!$D$1)","v":0},"OBRAS E INFRAESTRUCTURA DE TIJUANA SA DE CV","Z312164210",1,4686.34]
[null,null,null,{"$f":"COUNTIF($E$1:E9932,consulta!$D$1)","v":0},"OBRAS E INFRAESTRUCTURA DE TIJUANA SA DE CV","Z312164210",2,6081.83]
[null,null,null,{"$f":"COUNTIF($E$1:E9934,consulta!$D$1)","v":0},"OBRAS E INFRAESTRUCTURA DE TIJUANA SA DE CV","Z312164210",2,5885.79]
[null,null,null,{"$f":"COUNTIF($E$1:E9961,consulta!$D$1)","v":0},"AUTOSERVICIO ARSA S DE RL DE CV","Z312169910",1,603.64]
[null,null,null,{"$f":"COUNTIF($E$1:E9977,consulta!$D$1)","v":0},"PMS SERVICIOS COMERCIALES S DE RL DE CV","Z312171610",1,7577.4]
[null,null,null,{"$f":"COUNTIF($E$1:E9985,consulta!$D$1)","v":0},"OSCAR RUVALCABA MONTA#O","Z312175710",1,973.62]
[null,null,null,{"$f":"COUNTIF($E$1:E10006,consulta!$D$1)","v":0},"RAQUEL MEDINA GUTIERREZ","Z312183910",1,1082.1500000000001]
[null,null,null,{"$f":"COUNTIF($E$1:E10020,consulta!$D$1)","v":0},"RAQUEL MEDINA GUTIERREZ","Z312183910",1,1064.82]
[null,null,null,{"$f":"COUNTIF($E$1:E10021,consulta!$D$1)","v":0},"RAQUEL MEDINA GUTIERREZ","Z312183910",1,2750.75]
[null,null,null,{"$f":"COUNTIF($E$1:E10037,consulta!$D$1)","v":0},"ELIZABETH VALLE NAVARRO","Z312184010",1,2916.33]
[null,null,null,{"$f":"COUNTIF($E$1:E10057,consulta!$D$1)","v":0},"ALEBRIJE DEL RIO SA DE CV","Z312187210",1,7584.62]
[null,null,null,{"$f":"COUNTIF($E$1:E10066,consulta!$D$1)","v":0},"JAVIER LOPEZ DE CARDENAS CANALES","Z312187810",1,1790.74]
[null,null,null,{"$f":"COUNTIF($E$1:E10092,consulta!$D$1)","v":0},"JULIO CESAR CORTE GONZALEZ","Z312189810",1,3348.41]
[null,null,null,{"$f":"COUNTIF($E$1:E10096,consulta!$D$1)","v":0},"JULIO CESAR CORTE GONZALEZ","Z312189810",1,2644.21]
[null,null,null,{"$f":"COUNTIF($E$1:E10111,consulta!$D$1)","v":0},"PABLO VAZQUEZ RAMOS","Z312191710",1,1850.42]
[null,null,null,{"$f":"COUNTIF($E$1:E10129,consulta!$D$1)","v":0},"CINTHIA INES PEREZ JIMENEZ","Z312194910",1,6267.89]
[null,null,null,{"$f":"COUNTIF($E$1:E10141,consulta!$D$1)","v":0},"EDUARDO MONDRAGON HERNANDEZ","Z312198010",1,502.48]
[null,null,null,{"$f":"COUNTIF($E$1:E10164,consulta!$D$1)","v":0},"SERGIO GAMBOA RODRIGUEZ","Z312203810",1,2328.9299999999998]
[null,null,null,{"$f":"COUNTIF($E$1:E10171,consulta!$D$1)","v":0},"LABORATORIO TAI DEL NOROESTE S DE RL DE CV","Z312204410",1,8331.7900000000009]
[null,null,null,{"$f":"COUNTIF($E$1:E10186,consulta!$D$1)","v":0},"CONSTRUCCIONES Y TRITURADOS PACNOR S DE RL DE CV","Z312207910",1,1707.34]
[null,null,null,{"$f":"COUNTIF($E$1:E10201,consulta!$D$1)","v":0},"CONSTRUCCIONES Y TRITURADOS PACNOR S DE RL DE CV","Z312207910",1,649.58000000000004]
[null,null,null,{"$f":"COUNTIF($E$1:E10216,consulta!$D$1)","v":0},"FUTBOL SIETE BULEVARD DOS MIL SA DE CV","Z312219610",1,4797.16]
[null,null,null,{"$f":"COUNTIF($E$1:E10232,consulta!$D$1)","v":0},"UNIVERSAL PAINT DEL NOROESTE S DE RL DE CV","Z312223610",1,1059.94]
[null,null,null,{"$f":"COUNTIF($E$1:E10252,consulta!$D$1)","v":0},"RB INGENIERIA ELECTROMECANICA SA DE CV","Z312226910",1,1265.47]
[null,null,null,{"$f":"COUNTIF($E$1:E10261,consulta!$D$1)","v":0},"TECNICAS DE VERIFICACION AGUA CALIENTE SA DE CV","Z312229410",1,1163.6400000000001]
[null,null,null,{"$f":"COUNTIF($E$1:E10273,consulta!$D$1)","v":0},"TECNICAS DE VERIFICACION AGUA CALIENTE SA DE CV","Z312229410",1,7730.27]
[null,null,null,{"$f":"COUNTIF($E$1:E10291,consulta!$D$1)","v":0},"VERIFICENTRO VIA PONIENTE SA DE CV","Z312229610",2,12855.55]
[null,null,null,{"$f":"COUNTIF($E$1:E10306,consulta!$D$1)","v":0},"VERIFICENTRO VIA PONIENTE SA DE CV","Z312229610",2,15332.44]
[null,null,null,{"$f":"COUNTIF($E$1:E10324,consulta!$D$1)","v":0},"SERVICIOS DE VERIFICACION DE TIJUANA SA DE CV","Z312229710",1,13700.44]
[null,null,null,{"$f":"COUNTIF($E$1:E10336,consulta!$D$1)","v":0},"SERVICIOS DE VERIFICACION DE TIJUANA SA DE CV","Z312229710",1,16344.31]
[null,null,null,{"$f":"COUNTIF($E$1:E10345,consulta!$D$1)","v":0},"SERVICIOS DE VERIFICACION DE TIJUANA SA DE CV","Z312229710",1,15817.17]
[null,null,null,{"$f":"COUNTIF($E$1:E10366,consulta!$D$1)","v":0},"CENTRO AMBIENTAL LA MESA SA DE CV","Z312229910",1,4630.03]
[null,null,null,{"$f":"COUNTIF($E$1:E10381,consulta!$D$1)","v":0},"CENTRO AMBIENTAL LA MESA SA DE CV","Z312229910",1,1487.92]
[null,null,null,{"$f":"COUNTIF($E$1:E10396,consulta!$D$1)","v":0},"GRUPO TECNOSEM CENTRO S DE RL DE CV","Z312234910",1,3717.8]
[null,null,null,{"$f":"COUNTIF($E$1:E10411,consulta!$D$1)","v":0},"PROYECTOS DESARROLLOS Y MATERIALES PARA LA CONSTRUCCION DE BC SA DE CV","Z312235410",1,4612.58]
[null,null,null,{"$f":"COUNTIF($E$1:E10417,consulta!$D$1)","v":0},"PROYECTOS DESARROLLOS Y MATERIALES PARA LA CONSTRUCCION DE BC SA DE CV","Z312235410",1,5015.87]
[null,null,null,{"$f":"COUNTIF($E$1:E10441,consulta!$D$1)","v":0},"BEEPLASTIC S DE RL DE CV","Z312239110",1,29072.55]
[null,null,null,{"$f":"COUNTIF($E$1:E10456,consulta!$D$1)","v":0},"BEEPLASTIC S DE RL DE CV","Z312239110",1,11868.45]
[null,null,null,{"$f":"COUNTIF($E$1:E10468,consulta!$D$1)","v":0},"PATRICIA LIZBETH GONZALEZ CAMARGO","Z312240810",1,692.1]
[null,null,null,{"$f":"COUNTIF($E$1:E10486,consulta!$D$1)","v":0},"PAVIMENTOS Y ASFALTOS INTEGRALES SA DE CV","Z312247010",1,16652.71]
[null,null,null,{"$f":"COUNTIF($E$1:E10501,consulta!$D$1)","v":0},"MARCO ANTONIO MEZA GARCIA","Z312247910",1,5262.49]
[null,null,null,{"$f":"COUNTIF($E$1:E10505,consulta!$D$1)","v":0},"MARCO ANTONIO MEZA GARCIA","Z312247910",1,6853.81]
[null,null,null,{"$f":"COUNTIF($E$1:E10531,consulta!$D$1)","v":0},"MARIA GUADALUPE VAZQUEZ BARRON","Z312266610",1,742.39]
[null,null,null,{"$f":"COUNTIF($E$1:E10540,consulta!$D$1)","v":0},"MARIA GUADALUPE VAZQUEZ BARRON","Z312266610",1,420.55]
[null,null,null,{"$f":"COUNTIF($E$1:E10561,consulta!$D$1)","v":0},"ECO HAUS S DE RL DE CV","Z312267610",1,4878.03]
[null,null,null,{"$f":"COUNTIF($E$1:E10576,consulta!$D$1)","v":0},"MARIA LETICIA ZU#IGA CASTA#OS","Z312274010",1,6176.83]
[null,null,null,{"$f":"COUNTIF($E$1:E10577,consulta!$D$1)","v":0},"MARIA LETICIA ZU#IGA CASTA#OS","Z312274010",1,6176.83]
[null,null,null,{"$f":"COUNTIF($E$1:E10591,consulta!$D$1)","v":0},"MARIA LETICIA ZU#IGA CASTA#OS","Z312274010",2,6854.02]
[null,null,null,{"$f":"COUNTIF($E$1:E10608,consulta!$D$1)","v":0},"MARIA LETICIA ZU#IGA CASTA#OS","Z312274010",1,2470.73]
[null,null,null,{"$f":"COUNTIF($E$1:E10621,consulta!$D$1)","v":0},"MARIA TERESA ANZAR VAZQUEZ","Z312278110",1,1113.3900000000001]
[null,null,null,{"$f":"COUNTIF($E$1:E10636,consulta!$D$1)","v":0},"JOSE LUCIO RODOLFO CUELLAR MUNGUIA","Z312283710",1,296.95]
[null,null,null,{"$f":"COUNTIF($E$1:E10663,consulta!$D$1)","v":0},"SARA VALDEZ ACOSTA","Z312287310",1,4445.6099999999997]
[null,null,null,{"$f":"COUNTIF($E$1:E10666,consulta!$D$1)","v":0},"SARA VALDEZ ACOSTA","Z312287310",1,6557.76]
[null,null,null,{"$f":"COUNTIF($E$1:E10680,consulta!$D$1)","v":0},"GIVANNA PAOLA ROMERO MAR","Z312290710",1,2139.5700000000002]
[null,null,null,{"$f":"COUNTIF($E$1:E10696,consulta!$D$1)","v":0},"ROBERTO CARBALLO VICENCIO","Z312294410",1,742.26]
[null,null,null,{"$f":"COUNTIF($E$1:E10711,consulta!$D$1)","v":0},"NEZCO S DE RL DE CV","Z312301910",1,17622.580000000002]
[null,null,null,{"$f":"COUNTIF($E$1:E10735,consulta!$D$1)","v":0},"RAL SERVICIOS S DE RL DE CV","Z312308910",1,2256.3200000000002]
[null,null,null,{"$f":"COUNTIF($E$1:E10741,consulta!$D$1)","v":0},"JORGE QUIROZ COYOTL","Z312309410",1,934.2]
[null,null,null,{"$f":"COUNTIF($E$1:E10756,consulta!$D$1)","v":0},"CENTRO CAMBIARIO EL CONQUISTADOR SA DE CV","Z312312210",1,578.48]
[null,null,null,{"$f":"COUNTIF($E$1:E10772,consulta!$D$1)","v":0},"RICARDO ALONSO QUIROZ NEVAREZ","Z312318810",1,927.83]
[null,null,null,{"$f":"COUNTIF($E$1:E10786,consulta!$D$1)","v":0},"MARIO CESAR MONTIEL RAMIREZ","Z312327410",1,296.95]
[null,null,null,{"$f":"COUNTIF($E$1:E10803,consulta!$D$1)","v":0},"CONSULTORIA CON-CORP DE MEXICO S DE RL DE CV","Z312330110",1,391.07]
[null,null,null,{"$f":"COUNTIF($E$1:E10816,consulta!$D$1)","v":0},"IMPERMEABILIZANTES Y ADITIVOS KARISA S DE RL DE CV","Z312333510",1,771.12]
[null,null,null,{"$f":"COUNTIF($E$1:E10831,consulta!$D$1)","v":0},"VALET PERSONALIZADO EN CUSTODIA EMPRESARIAL V.A.P.","Z312334610",2,104301.2]
[null,null,null,{"$f":"COUNTIF($E$1:E10844,consulta!$D$1)","v":0},"MECACIT SA DE CV","Z312340610",1,13768.21]
[null,null,null,{"$f":"COUNTIF($E$1:E10861,consulta!$D$1)","v":0},"SOYLU KEMAL","Z312341810",1,740.16]
[null,null,null,{"$f":"COUNTIF($E$1:E10875,consulta!$D$1)","v":0},"ESTANCIA INFANTIL Y GUARDERIA PICCOLINI S DE RL DE CV","Z312347210",1,1879.26]
[null,null,null,{"$f":"COUNTIF($E$1:E10891,consulta!$D$1)","v":0},"INTELIPROOF S DE RL DE CV","Z312351110",1,7502.2]
[null,null,null,{"$f":"COUNTIF($E$1:E10906,consulta!$D$1)","v":0},"LESLIE STEPHANIE NIEBLA BOJORQUEZ","Z312352610",1,925.21]
[null,null,null,{"$f":"COUNTIF($E$1:E10926,consulta!$D$1)","v":0},"PRESBAJA SA DE CV","Z312354510",2,9565.5]
[null,null,null,{"$f":"COUNTIF($E$1:E10936,consulta!$D$1)","v":0},"CENTRO DE CONTROL AMBIENTAL DE BAJA CALIFORNIA SA DE CV","Z312354710",1,4400.1499999999996]
[null,null,null,{"$f":"COUNTIF($E$1:E10947,consulta!$D$1)","v":0},"CENTRO DE CONTROL AMBIENTAL DE BAJA CALIFORNIA SA DE CV","Z312354710",1,4361.37]
[null,null,null,{"$f":"COUNTIF($E$1:E10966,consulta!$D$1)","v":0},"ASOCIACION PRO BOMBEROS DE TIJUANA AC","Z312355710",1,716.08]
[null,null,null,{"$f":"COUNTIF($E$1:E10981,consulta!$D$1)","v":0},"IRMA YESENIA MENDOZA VALDEZ","Z312359110",1,3269.38]
[null,null,null,{"$f":"COUNTIF($E$1:E10998,consulta!$D$1)","v":0},"PROYECTOS E INSTALACIONES DE LAS AMERICAS SA DE CV","Z312371810",1,21278.53]
[null,null,null,{"$f":"COUNTIF($E$1:E11011,consulta!$D$1)","v":0},"MGR MAQUINADOS S DE RL DE CV","Z312374110",1,14344.01]
[null,null,null,{"$f":"COUNTIF($E$1:E11019,consulta!$D$1)","v":0},"PROCESOS GASTRONOMICOS DE INDUSTRIALES SA DE CV","Z312375410",1,5309.91]
[null,null,null,{"$f":"COUNTIF($E$1:E11041,consulta!$D$1)","v":0},"PAPIK ALFREDO RAMIREZ BERNAL","Z312380410",1,1850.42]
[null,null,null,{"$f":"COUNTIF($E$1:E11056,consulta!$D$1)","v":0},"PROCESADORA JOVI SA DE CV","Z312386110",1,15927.24]
[null,null,null,{"$f":"COUNTIF($E$1:E11070,consulta!$D$1)","v":0},"JOSE RENE TOVAR SANCHEZ","Z312390310",1,1850.42]
[null,null,null,{"$f":"COUNTIF($E$1:E11086,consulta!$D$1)","v":0},"HILDA MARTINEZ MONDRAGON","Z312391110",1,126.57]
[null,null,null,{"$f":"COUNTIF($E$1:E11101,consulta!$D$1)","v":0},"ENRIQUE MENDEZ ALVAREZ","Z312396810",1,1484.78]
[null,null,null,{"$f":"COUNTIF($E$1:E11107,consulta!$D$1)","v":0},"ENRIQUE MENDEZ ALVAREZ","Z312396810",1,2102.7600000000002]
[null,null,null,{"$f":"COUNTIF($E$1:E11131,consulta!$D$1)","v":0},"CINCO FANTASTICOS SA DE CV","Z312403410",1,3357.85]
[null,null,null,{"$f":"COUNTIF($E$1:E11142,consulta!$D$1)","v":0},"MARIA DE JESUS AYALA MIRANDA","Z312404010",1,370.08]
[null,null,null,{"$f":"COUNTIF($E$1:E11146,consulta!$D$1)","v":0},"LAURA LETICIA REYES NU#EZ","Z312405410",1,740.16]
[null,null,null,{"$f":"COUNTIF($E$1:E11161,consulta!$D$1)","v":0},"ALTERNATIVAS ECOSUSTENTABLES SA DE CV","Z312406810",1,1074.44]
[null,null,null,{"$f":"COUNTIF($E$1:E11179,consulta!$D$1)","v":0},"CORPORATIVO HOTELERO DEL NORTE SA DE CV","Z312408710",2,4036.29]
[null,null,null,{"$f":"COUNTIF($E$1:E11191,consulta!$D$1)","v":0},"CORPORATIVO HOTELERO DEL NORTE SA DE CV","Z312408710",1,6384.99]
[null,null,null,{"$f":"COUNTIF($E$1:E11214,consulta!$D$1)","v":0},"MA DEL CARMEN LINA MORALES RAMIREZ","Z312416510",1,1159.94]
[null,null,null,{"$f":"COUNTIF($E$1:E11221,consulta!$D$1)","v":0},"EVELYN MIRANDA ARCOS","Z312418310",1,593.91]
[null,null,null,{"$f":"COUNTIF($E$1:E11236,consulta!$D$1)","v":0},"INSTITUTO FISCAL DE BAJA CALIFORNIA AC","Z312425110",1,905.47]
[null,null,null,{"$f":"COUNTIF($E$1:E11251,consulta!$D$1)","v":0},"IMPRESERVICIO DEL NOROESTE S DE RL DE CV","Z312432010",1,740.16]
[null,null,null,{"$f":"COUNTIF($E$1:E11266,consulta!$D$1)","v":0},"GABRIELA MAGDALENA MENDOZA GAMBOA","Z312432210",1,296.95]
[null,null,null,{"$f":"COUNTIF($E$1:E11286,consulta!$D$1)","v":0},"NACHOS Y FRANQUICIAS DEL NOROESTE S DE RL DE CV","Z312436310",1,6479.42]
[null,null,null,{"$f":"COUNTIF($E$1:E11295,consulta!$D$1)","v":0},"MARLO DE BAJA CALIFORNIA SA DE CV","Z312437210",1,1425.34]
[null,null,null,{"$f":"COUNTIF($E$1:E11311,consulta!$D$1)","v":0},"HYR SERVICIOS S DE RL DE CV","Z312442310",1,11360.22]
[null,null,null,{"$f":"COUNTIF($E$1:E11323,consulta!$D$1)","v":0},"USAMEX CLOTHING S DE RL DE CV","Z312442810",1,11878.24]
[null,null,null,{"$f":"COUNTIF($E$1:E11341,consulta!$D$1)","v":0},"MEDI EDUCATIVOS SA DE CV","Z312447310",1,1663.38]
[null,null,null,{"$f":"COUNTIF($E$1:E11356,consulta!$D$1)","v":0},"CONSTANTINO GALVAN VAZQUEZ","Z312451410",1,8964.85]
[null,null,null,{"$f":"COUNTIF($E$1:E11374,consulta!$D$1)","v":0},"MERCADO INDUSTRIAL DE BC SA DE CV","Z312456410",1,3405.9]
[null,null,null,{"$f":"COUNTIF($E$1:E11386,consulta!$D$1)","v":0},"GAC ARQUITECTURA Y CONSTRUCCION S DE RL DE CV","Z312457510",1,4604.22]
[null,null,null,{"$f":"COUNTIF($E$1:E11395,consulta!$D$1)","v":0},"MARLEN AMOR WOHL","Z312463010",1,2104.73]
[null,null,null,{"$f":"COUNTIF($E$1:E11415,consulta!$D$1)","v":0},"JOEL MARTINEZ CHACON","Z312471410",1,3943.91]
[null,null,null,{"$f":"COUNTIF($E$1:E11431,consulta!$D$1)","v":0},"MARIA ROSINA GONZALEZ CORONA","Z312476310",1,296.95]
[null,null,null,{"$f":"COUNTIF($E$1:E11446,consulta!$D$1)","v":0},"CESAR RAUL RAMIREZ LEY","Z312481110",1,1110.25]
[null,null,null,{"$f":"COUNTIF($E$1:E11461,consulta!$D$1)","v":0},"CLAUDIA CASTRO TORRES","Z312484610",1,49856.47]
[null,null,null,{"$f":"COUNTIF($E$1:E11481,consulta!$D$1)","v":0},"MANUEL ROGELIO CASTILLO GUTIERREZ","Z312490310",1,595.20000000000005]
[null,null,null,{"$f":"COUNTIF($E$1:E11490,consulta!$D$1)","v":0},"FRANCISCA MURILLO GONZALEZ","Z312490810",1,372.82]
[null,null,null,{"$f":"COUNTIF($E$1:E11506,consulta!$D$1)","v":0},"AUTOTRANSPORTE Y COMERCIALIZADORA JARA SA DE CV","Z312501210",1,396.96]
[null,null,null,{"$f":"COUNTIF($E$1:E11518,consulta!$D$1)","v":0},"ISABELLA NOVIAS SA DE CV","Z312504710",1,1110.25]
[null,null,null,{"$f":"COUNTIF($E$1:E11536,consulta!$D$1)","v":0},"MARIANA MEZA RODRIGUEZ","Z312511210",1,593.91]
[null,null,null,{"$f":"COUNTIF($E$1:E11553,consulta!$D$1)","v":0},"CONSTRUCTORA Y ARRENDADORA ARMUSA S DE RL DE CV","Z312511710",1,5884.48]
[null,null,null,{"$f":"COUNTIF($E$1:E11565,consulta!$D$1)","v":0},"EDUARDO MONTES ESQUIVEL","Z312522610",2,13338.55]
[null,null,null,{"$f":"COUNTIF($E$1:E11581,consulta!$D$1)","v":0},"EDUARDO MONTES ESQUIVEL","Z312522610",1,20011.29]
[null,null,null,{"$f":"COUNTIF($E$1:E11590,consulta!$D$1)","v":0},"CUBIERTAS Y MANTENIMIENTOS INDUSTRIALES S DE RL DE CV","Z312525610",1,5752.32]
[null,null,null,{"$f":"COUNTIF($E$1:E11610,consulta!$D$1)","v":0},"GECKO-LOGIC-MEXICO S DE RL DE CV","Z312526510",1,4662.1499999999996]
[null,null,null,{"$f":"COUNTIF($E$1:E11625,consulta!$D$1)","v":0},"SP SERVICOM S DE RL DE CV","Z312533710",1,22893.3]
[null,null,null,{"$f":"COUNTIF($E$1:E11640,consulta!$D$1)","v":0},"SP SERVICOM S DE RL DE CV","Z312533710",1,8700.2800000000007]
[null,null,null,{"$f":"COUNTIF($E$1:E11656,consulta!$D$1)","v":0},"SP SERVICOM S DE RL DE CV","Z312533710",1,41213.71]
[null,null,null,{"$f":"COUNTIF($E$1:E11662,consulta!$D$1)","v":0},"SP SERVICOM S DE RL DE CV","Z312533710",1,44765.54]
[null,null,null,{"$f":"COUNTIF($E$1:E11685,consulta!$D$1)","v":0},"SP SERVICOM S DE RL DE CV","Z312533710",1,22073.84]
[null,null,null,{"$f":"COUNTIF($E$1:E11701,consulta!$D$1)","v":0},"SOLUCIONES DE INGENIERIA DE TIJUANA S DE RL DE CV","Z312535910",1,718.68]
[null,null,null,{"$f":"COUNTIF($E$1:E11713,consulta!$D$1)","v":0},"SOLUCIONES DE INGENIERIA DE TIJUANA S DE RL DE CV","Z312535910",1,502.48]
[null,null,null,{"$f":"COUNTIF($E$1:E11716,consulta!$D$1)","v":0},"SOLUCIONES DE INGENIERIA DE TIJUANA S DE RL DE CV","Z312535910",1,1336.52]
[null,null,null,{"$f":"COUNTIF($E$1:E11734,consulta!$D$1)","v":0},"SOLUCIONES DE INGENIERIA DE TIJUANA S DE RL DE CV","Z312535910",1,540.65]
[null,null,null,{"$f":"COUNTIF($E$1:E11745,consulta!$D$1)","v":0},"GERARDO AMADO RUBI PULIDO","Z312536010",1,523.33000000000004]
[null,null,null,{"$f":"COUNTIF($E$1:E11761,consulta!$D$1)","v":0},"JUAN PABLO ROBLES NORIEGA","Z312540510",1,1484.78]
[null,null,null,{"$f":"COUNTIF($E$1:E11785,consulta!$D$1)","v":0},"ALEJANDRO BURQUEZ COTA","Z312550310",1,927.83]
[null,null,null,{"$f":"COUNTIF($E$1:E11790,consulta!$D$1)","v":0},"ASSERVAN SA DE CV","Z312550810",1,16210.61]
[null,null,null,{"$f":"COUNTIF($E$1:E11806,consulta!$D$1)","v":0},"NSERVICIO CONSULTORIA Y ESTRATEGIAS EMPRESARIALES SC DE RL DE CV","Z312552710",1,93533.78]
[null,null,null,{"$f":"COUNTIF($E$1:E11820,consulta!$D$1)","v":0},"SEGO HITEC S DE RL DE CV","Z312553510",1,62528.98]
[null,null,null,{"$f":"COUNTIF($E$1:E11836,consulta!$D$1)","v":0},"SEGO HITEC S DE RL DE CV","Z312553510",1,32067.040000000001]
[null,null,null,{"$f":"COUNTIF($E$1:E11857,consulta!$D$1)","v":0},"ORLANDO CASTRO CAMARGO","Z312555710",1,3373.06]
[null,null,null,{"$f":"COUNTIF($E$1:E11865,consulta!$D$1)","v":0},"ORLANDO CASTRO CAMARGO","Z312555710",1,1891.41]
[null,null,null,{"$f":"COUNTIF($E$1:E11878,consulta!$D$1)","v":0},"JOSE SOTO AYON","Z312556710",1,925.21]
[null,null,null,{"$f":"COUNTIF($E$1:E11895,consulta!$D$1)","v":0},"VICTOR HUGO LOPEZ BRITO","Z312557110",1,3793.98]
[null,null,null,{"$f":"COUNTIF($E$1:E11910,consulta!$D$1)","v":0},"CANTINA LA CHOPERIA TIJUANA SA DE CV","Z312558810",1,1557.36]
[null,null,null,{"$f":"COUNTIF($E$1:E11929,consulta!$D$1)","v":0},"GRUPO INMOBILIARIO CREDICASAS S DE RL","Z312560110",1,1041.45]
[null,null,null,{"$f":"COUNTIF($E$1:E11940,consulta!$D$1)","v":0},"SAMUEL DELGADO RODRIGUEZ","Z312561610",1,644.42999999999995]
[null,null,null,{"$f":"COUNTIF($E$1:E11956,consulta!$D$1)","v":0},"NANCY LILYANA CALZADILLA ROSALES","Z312562810",1,2401.94]
[null,null,null,{"$f":"COUNTIF($E$1:E11966,consulta!$D$1)","v":0},"LKO MANUFACTURING S DE RL DE CV","Z312562910",1,2875.21]
[null,null,null,{"$f":"COUNTIF($E$1:E11985,consulta!$D$1)","v":0},"MARGARITA ESQUER VILLANAZUL","Z312573510",1,5624.1]
[null,null,null,{"$f":"COUNTIF($E$1:E12001,consulta!$D$1)","v":0},"FSEM DE MEXICO SA DE CV","Z312577410",1,44272.5]
[null,null,null,{"$f":"COUNTIF($E$1:E12015,consulta!$D$1)","v":0},"FSEM DE MEXICO SA DE CV","Z312577410",1,846.3]
[null,null,null,{"$f":"COUNTIF($E$1:E12031,consulta!$D$1)","v":0},"MARIO ALBERTO ZAMORA DE SANTIAGO","Z312580010",2,1391.04]
[null,null,null,{"$f":"COUNTIF($E$1:E12038,consulta!$D$1)","v":0},"RH HABILIDADES INTEGRALES DE PERSONAL SC","Z312580710",1,2215.96]
[null,null,null,{"$f":"COUNTIF($E$1:E12060,consulta!$D$1)","v":0},"DISTRIBUIDORA DE MATERIALES RJ S DE RL DE CV","Z312585610",1,15226.67]
[null,null,null,{"$f":"COUNTIF($E$1:E12073,consulta!$D$1)","v":0},"ENRIQUE LIZARRAGA CABANILLAS","Z312587210",1,3869.09]
[null,null,null,{"$f":"COUNTIF($E$1:E12090,consulta!$D$1)","v":0},"MIGUEL ANGEL LIZARRAGA GARCIA","Z312591110",1,411.93]
[null,null,null,{"$f":"COUNTIF($E$1:E12105,consulta!$D$1)","v":0},"JUAN MATEO ENRIQUEZ HERNANDEZ","Z312592310",1,420.32]
[null,null,null,{"$f":"COUNTIF($E$1:E12124,consulta!$D$1)","v":0},"BAJA FX CENTRO CAMBIARIO SA DE CV","Z312594410",1,7225.54]
[null,null,null,{"$f":"COUNTIF($E$1:E12135,consulta!$D$1)","v":0},"MODUYA SA DE CV","Z312595710",1,243991.73]
[null,null,null,{"$f":"COUNTIF($E$1:E12145,consulta!$D$1)","v":0},"MODUYA SA DE CV","Z312595710",1,247739.78]
[null,null,null,{"$f":"COUNTIF($E$1:E12165,consulta!$D$1)","v":0},"MODUYA SA DE CV","Z312595710",1,138404.65]
[null,null,null,{"$f":"COUNTIF($E$1:E12180,consulta!$D$1)","v":0},"OCTAVIO ROMERO GOMEZ","Z312597310",1,5843.66]
[null,null,null,{"$f":"COUNTIF($E$1:E12196,consulta!$D$1)","v":0},"CENTRO TECNOLOGICO SIGLO XXI FUNDADORES SC","Z312598310",1,3045.46]
[null,null,null,{"$f":"COUNTIF($E$1:E12210,consulta!$D$1)","v":0},"IFASHION S DE RL DE CV","Z312604210",1,1201.94]
[null,null,null,{"$f":"COUNTIF($E$1:E12225,consulta!$D$1)","v":0},"MARCO ANTONIO ORTIZ GONZALEZ","Z312608110",1,593.91]
[null,null,null,{"$f":"COUNTIF($E$1:E12233,consulta!$D$1)","v":0},"ZIONNE S DE RL DE CV","Z312609310",1,4509.2]
[null,null,null,{"$f":"COUNTIF($E$1:E12255,consulta!$D$1)","v":0},"ANA COBOS HERMIDA","Z312611010",1,201.92]
[null,null,null,{"$f":"COUNTIF($E$1:E12268,consulta!$D$1)","v":0},"JOSE CARLO LOPEZ CUADRAS","Z312616910",1,321.52999999999997]
[null,null,null,{"$f":"COUNTIF($E$1:E12285,consulta!$D$1)","v":0},"FASTENAL MEXICO SERVICES S DE RL DE CV","Z312624410",1,4249.88]
[null,null,null,{"$f":"COUNTIF($E$1:E12300,consulta!$D$1)","v":0},"LUCERO DEL ROCIO MERCADO SALAS","Z312626810",1,593.91]
[null,null,null,{"$f":"COUNTIF($E$1:E12305,consulta!$D$1)","v":0},"LUCERO DEL ROCIO MERCADO SALAS","Z312626810",1,742.26]
[null,null,null,{"$f":"COUNTIF($E$1:E12315,consulta!$D$1)","v":0},"ROXANA CRISTERNA ACOSTA","Z312628310",1,891.63]
[null,null,null,{"$f":"COUNTIF($E$1:E12340,consulta!$D$1)","v":0},"SISTEMAS SUSTENTABLES DE MEXICO S DE RL DE CV","Z312630110",1,284.10000000000002]
[null,null,null,{"$f":"COUNTIF($E$1:E12345,consulta!$D$1)","v":0},"SISTEMAS SUSTENTABLES DE MEXICO S DE RL DE CV","Z312630110",1,1147.8599999999999]
[null,null,null,{"$f":"COUNTIF($E$1:E12360,consulta!$D$1)","v":0},"LACROME SA DE CV","Z312632810",1,12555.45]
[null,null,null,{"$f":"COUNTIF($E$1:E12377,consulta!$D$1)","v":0},"EMPLOYEES MANAGEMENT SERVICES SC","Z312636110",1,76887.12]
[null,null,null,{"$f":"COUNTIF($E$1:E12390,consulta!$D$1)","v":0},"EMPLOYEES MANAGEMENT SERVICES SC","Z312638910",1,40598.15]
[null,null,null,{"$f":"COUNTIF($E$1:E12408,consulta!$D$1)","v":0},"DISTRIBUIDORA Y COMERCIALIZADORA DE ARRANCADORES Y ALTER DEL NTE SRL CV","Z312641610",1,1170.04]
[null,null,null,{"$f":"COUNTIF($E$1:E12420,consulta!$D$1)","v":0},"GERMAN GUADALUPE RIVERA CONTRERAS","Z312643210",1,1145.04]
[null,null,null,{"$f":"COUNTIF($E$1:E12435,consulta!$D$1)","v":0},"CSE EQUIPOS Y SERVICIOS, SA DE CV","Z312644810",1,94.95]
[null,null,null,{"$f":"COUNTIF($E$1:E12449,consulta!$D$1)","v":0},"JOSE DE JESUS OLGUIN LUNA","Z312651510",1,3298.2]
[null,null,null,{"$f":"COUNTIF($E$1:E12465,consulta!$D$1)","v":0},"JOSE DE JESUS OLGUIN LUNA","Z312651510",1,5405.68]
[null,null,null,{"$f":"COUNTIF($E$1:E12480,consulta!$D$1)","v":0},"COMPACT COMERCE INTER S DE RL DE CV","Z312652410",1,915.64]
[null,null,null,{"$f":"COUNTIF($E$1:E12495,consulta!$D$1)","v":0},"ILDA MARCELA VILLARREAL ROMAN","Z312652710",1,742.26]
[null,null,null,{"$f":"COUNTIF($E$1:E12510,consulta!$D$1)","v":0},"LUIS DANIEL MARTINEZ ACERO","Z312655810",1,370.08]
[null,null,null,{"$f":"COUNTIF($E$1:E12521,consulta!$D$1)","v":0},"ERIKA LIN Y ASOCIADOS SC","Z312659010",1,6027.45]
[null,null,null,{"$f":"COUNTIF($E$1:E12540,consulta!$D$1)","v":0},"MYMLAB MEXICO SA DE CV","Z312662110",1,2052.44]
[null,null,null,{"$f":"COUNTIF($E$1:E12555,consulta!$D$1)","v":0},"D & M COMERCIO EXTERIOR S DE RL DE CV","Z312665710",2,2700.93]
[null,null,null,{"$f":"COUNTIF($E$1:E12572,consulta!$D$1)","v":0},"D & M COMERCIO EXTERIOR S DE RL DE CV","Z312665710",2,1154.8699999999999]
[null,null,null,{"$f":"COUNTIF($E$1:E12585,consulta!$D$1)","v":0},"CANWEN ZENG","Z312669510",1,1454.56]
[null,null,null,{"$f":"COUNTIF($E$1:E12603,consulta!$D$1)","v":0},"SALVADOR FLORES FUERTE","Z312670610",1,301.82]
[null,null,null,{"$f":"COUNTIF($E$1:E12615,consulta!$D$1)","v":0},"BOSTON COLLEGE AC","Z312671710",2,9615.69]
[null,null,null,{"$f":"COUNTIF($E$1:E12630,consulta!$D$1)","v":0},"PARK  S TRADING SA DE CV","Z312674210",1,6287.98]
[null,null,null,{"$f":"COUNTIF($E$1:E12644,consulta!$D$1)","v":0},"MARCIA JANETH VAZQUEZ ARELLANO","Z312674810",1,7247.88]
[null,null,null,{"$f":"COUNTIF($E$1:E12660,consulta!$D$1)","v":0},"MARCIA JANETH VAZQUEZ ARELLANO","Z312674810",1,8108.52]
[null,null,null,{"$f":"COUNTIF($E$1:E12675,consulta!$D$1)","v":0},"FRANCISCO RODRIGUEZ RODRIGUEZ","Z312675610",1,925.21]
[null,null,null,{"$f":"COUNTIF($E$1:E12690,consulta!$D$1)","v":0},"IMMOBILIER BC SA DE CV","Z312679310",1,4400.41]
[null,null,null,{"$f":"COUNTIF($E$1:E12705,consulta!$D$1)","v":0},"RICARDO ESPINOSA PE#A","Z312679710",1,10714.04]
[null,null,null,{"$f":"COUNTIF($E$1:E12712,consulta!$D$1)","v":0},"LUIS FRANCISCO NAVARRO BLANCO","Z312681110",1,2208.5700000000002]
[null,null,null,{"$f":"COUNTIF($E$1:E12735,consulta!$D$1)","v":0},"MARTIN GERARDO PUENTE LOPEZ","Z312686210",1,5061.24]
[null,null,null,{"$f":"COUNTIF($E$1:E12747,consulta!$D$1)","v":0},"MARTIN GERARDO PUENTE LOPEZ","Z312686210",1,1359.46]
[null,null,null,{"$f":"COUNTIF($E$1:E12765,consulta!$D$1)","v":0},"SANDRA LUZ REYES VAZQUEZ","Z312686610",1,540.55999999999995]
[null,null,null,{"$f":"COUNTIF($E$1:E12780,consulta!$D$1)","v":0},"FUSION MEXICANA DE PROYECTOS S DE RL DE CV","Z312690110",1,647.46]
[null,null,null,{"$f":"COUNTIF($E$1:E12784,consulta!$D$1)","v":0},"FUSION MEXICANA DE PROYECTOS S DE RL DE CV","Z312690110",1,2702.84]
[null,null,null,{"$f":"COUNTIF($E$1:E12810,consulta!$D$1)","v":0},"FELIPE SANTA CRUZ MORALES","Z312698210",1,1907.81]
[null,null,null,{"$f":"COUNTIF($E$1:E12825,consulta!$D$1)","v":0},"MARTIN LUGO FONSECA","Z312699413",2,9956.31]
[null,null,null,{"$f":"COUNTIF($E$1:E12839,consulta!$D$1)","v":0},"MARTIN LUGO FONSECA","Z312699413",2,10325.379999999999]
[null,null,null,{"$f":"COUNTIF($E$1:E12855,consulta!$D$1)","v":0},"MARTIN LUGO FONSECA","Z312699413",1,3274.1]
[null,null,null,{"$f":"COUNTIF($E$1:E12856,consulta!$D$1)","v":0},"CARGO MANTENIMIENTO SA DE CV","Z312700210",1,5849.51]
[null,null,null,{"$f":"COUNTIF($E$1:E12870,consulta!$D$1)","v":0},"GRISELDA MONTESINO ALVAREZ","Z312704210",1,742.39]
[null,null,null,{"$f":"COUNTIF($E$1:E12885,consulta!$D$1)","v":0},"RIGOBERTO JUAREZ FERREIRO","Z312705610",1,700.09]
[null,null,null,{"$f":"COUNTIF($E$1:E12907,consulta!$D$1)","v":0},"TRANEIELT SA DE CV","Z312707410",1,392088.76]
[null,null,null,{"$f":"COUNTIF($E$1:E12915,consulta!$D$1)","v":0},"TRANEIELT SA DE CV","Z312707410",1,87677.73]
[null,null,null,{"$f":"COUNTIF($E$1:E12942,consulta!$D$1)","v":0},"BEATRIZ EUGENIA MARGARITA LOPEZ ROJO","Z312710310",1,1509.15]
[null,null,null,{"$f":"COUNTIF($E$1:E12945,consulta!$D$1)","v":0},"BEATRIZ EUGENIA MARGARITA LOPEZ ROJO","Z312710310",1,4476.8900000000003]
[null,null,null,{"$f":"COUNTIF($E$1:E12960,consulta!$D$1)","v":0},"SERVICIOS DIVERSIFICADOS DE TURISMO S DE RL DE CV","Z312714610",1,2679.98]
[null,null,null,{"$f":"COUNTIF($E$1:E12979,consulta!$D$1)","v":0},"JOSE LUIS URIARTE ALVAREZ","Z312720410",1,47182.83]
[null,null,null,{"$f":"COUNTIF($E$1:E12990,consulta!$D$1)","v":0},"MARIO FRANCO ERENAS","Z312720810",1,3034.15]
[null,null,null,{"$f":"COUNTIF($E$1:E13014,consulta!$D$1)","v":0},"AGENCIA DE PROYECTOS BAJA S DE RL DE CV","Z312724810",1,2056.0500000000002]
[null,null,null,{"$f":"COUNTIF($E$1:E13020,consulta!$D$1)","v":0},"JESUS JAIME DE LEON BLANDO","Z312725410",1,6499.13]
[null,null,null,{"$f":"COUNTIF($E$1:E13035,consulta!$D$1)","v":0},"JOEL QUINTERO","Z312728110",1,236.96]
[null,null,null,{"$f":"COUNTIF($E$1:E13051,consulta!$D$1)","v":0},"M & E CONSTRUCCIONES E INGENIERIA ELECTROMECANICA S DE RL DE CV","Z312731410",1,498.45]
[null,null,null,{"$f":"COUNTIF($E$1:E13065,consulta!$D$1)","v":0},"LOVMAR CONSTRUCTORA S DE RL DE CV","Z312733610",1,6817.8]
[null,null,null,{"$f":"COUNTIF($E$1:E13086,consulta!$D$1)","v":0},"JINFENG LIANG","Z312736110",1,1168.3599999999999]
[null,null,null,{"$f":"COUNTIF($E$1:E13094,consulta!$D$1)","v":0},"JINFENG LIANG","Z312736110",1,905.47]
[null,null,null,{"$f":"COUNTIF($E$1:E13110,consulta!$D$1)","v":0},"JINFENG LIANG","Z312736110",1,1565.08]
[null,null,null,{"$f":"COUNTIF($E$1:E13123,consulta!$D$1)","v":0},"ORLANDO NEVID LOPEZ HERNANDEZ","Z312740010",1,1227.1099999999999]
[null,null,null,{"$f":"COUNTIF($E$1:E13140,consulta!$D$1)","v":0},"JOSE ANGEL AMADO RODRIGUEZ RUIZ","Z312741410",1,12714.17]
[null,null,null,{"$f":"COUNTIF($E$1:E13155,consulta!$D$1)","v":0},"TELESPACE SA DE CV","Z312743710",1,4463.1000000000004]
[null,null,null,{"$f":"COUNTIF($E$1:E13174,consulta!$D$1)","v":0},"SAFEL INGENIERIA SA DE CV","Z312744310",1,806.8]
[null,null,null,{"$f":"COUNTIF($E$1:E13185,consulta!$D$1)","v":0},"VERICAN MEXICO S DE RL DE CV","Z312744910",1,5107.67]
[null,null,null,{"$f":"COUNTIF($E$1:E13195,consulta!$D$1)","v":0},"VERICAN MEXICO S DE RL DE CV","Z312744910",2,2076.56]
[null,null,null,{"$f":"COUNTIF($E$1:E13214,consulta!$D$1)","v":0},"SERVICIOS EDUCATIVOS PROF. MARCO ANTONIO BOLA#OS CACHO AC","Z312745010",1,4668.8900000000003]
[null,null,null,{"$f":"COUNTIF($E$1:E13230,consulta!$D$1)","v":0},"ALFA TIJUANA SSP S DE RL DE CV","Z312749310",1,6488.18]
[null,null,null,{"$f":"COUNTIF($E$1:E13246,consulta!$D$1)","v":0},"EMILIO LARA VAZQUEZ","Z312756210",1,742.39]
[null,null,null,{"$f":"COUNTIF($E$1:E13260,consulta!$D$1)","v":0},"FERNANDO CASTRO BURGOS","Z312757410",1,3088.99]
[null,null,null,{"$f":"COUNTIF($E$1:E13267,consulta!$D$1)","v":0},"FERNANDO CASTRO BURGOS","Z312757410",1,4387.7700000000004]
[null,null,null,{"$f":"COUNTIF($E$1:E13289,consulta!$D$1)","v":0},"LORENZA HIGINIA SANCHEZ CHIQUETE","Z312757610",1,406.98]
[null,null,null,{"$f":"COUNTIF($E$1:E13305,consulta!$D$1)","v":0},"ESTRUCTURAS Y ACABADOS CARRILLO S DE RL DE CV","Z312759610",1,14020.76]
[null,null,null,{"$f":"COUNTIF($E$1:E13318,consulta!$D$1)","v":0},"LUX SURFACES SA DE CV","Z312762010",1,32135.47]
[null,null,null,{"$f":"COUNTIF($E$1:E13335,consulta!$D$1)","v":0},"SERGIO LUIS SOLER SANCHEZ","Z312764410",2,1155.75]
[null,null,null,{"$f":"COUNTIF($E$1:E13339,consulta!$D$1)","v":0},"SERGIO LUIS SOLER SANCHEZ","Z312764410",2,1155.75]
[null,null,null,{"$f":"COUNTIF($E$1:E13364,consulta!$D$1)","v":0},"JESUS ALONSO SERRANO GASTELUM","Z312768010",1,1414.06]
[null,null,null,{"$f":"COUNTIF($E$1:E13380,consulta!$D$1)","v":0},"JESUS ALONSO SERRANO GASTELUM","Z312768010",1,593.91]
[null,null,null,{"$f":"COUNTIF($E$1:E13390,consulta!$D$1)","v":0},"JESUS ALONSO SERRANO GASTELUM","Z312768010",1,939.93]
[null,null,null,{"$f":"COUNTIF($E$1:E13409,consulta!$D$1)","v":0},"LOGISTICA EN SOLUCIONES INTEGRALES DE VIVIENDA SA DE CV","Z312769310",1,6588.01]
[null,null,null,{"$f":"COUNTIF($E$1:E13425,consulta!$D$1)","v":0},"SEPROFLOT S DE RL DE CV","Z312772410",1,1056.8599999999999]
[null,null,null,{"$f":"COUNTIF($E$1:E13427,consulta!$D$1)","v":0},"ALFREDO HARRIS DOMINGUEZ","Z312774110",1,14.6]
[null,null,null,{"$f":"COUNTIF($E$1:E13440,consulta!$D$1)","v":0},"GEMA TORRES GONZALEZ","Z312777310",1,664.85]
[null,null,null,{"$f":"COUNTIF($E$1:E13462,consulta!$D$1)","v":0},"ALMA DELFINA MENDOZA ROBLES","Z312780510",1,1036.94]
[null,null,null,{"$f":"COUNTIF($E$1:E13469,consulta!$D$1)","v":0},"ALMA DELFINA MENDOZA ROBLES","Z312780510",1,301.82]
[null,null,null,{"$f":"COUNTIF($E$1:E13485,consulta!$D$1)","v":0},"ALMA DELFINA MENDOZA ROBLES","Z312780510",1,370.08]
[null,null,null,{"$f":"COUNTIF($E$1:E13499,consulta!$D$1)","v":0},"PAVIMENTOS HIDRAULICOS DEL SURESTE S DE RL DE CV","Z312782610",1,4671.84]
[null,null,null,{"$f":"COUNTIF($E$1:E13514,consulta!$D$1)","v":0},"JOEL ROBERTO GARCIA CRUZ","Z312784610",1,865.51]
[null,null,null,{"$f":"COUNTIF($E$1:E13534,consulta!$D$1)","v":0},"SONY BUENROSTRO HERRERA","Z312786010",1,2775.63]
[null,null,null,{"$f":"COUNTIF($E$1:E13544,consulta!$D$1)","v":0},"SURTICALZA SA DE CV","Z312787710",1,9908.82]
[null,null,null,{"$f":"COUNTIF($E$1:E13560,consulta!$D$1)","v":0},"COLEGIO MAGNA SC","Z312788710",1,9085.73]
[null,null,null,{"$f":"COUNTIF($E$1:E13585,consulta!$D$1)","v":0},"COLEGIO MAGNA SC","Z312788710",1,4273.7]
[null,null,null,{"$f":"COUNTIF($E$1:E13589,consulta!$D$1)","v":0},"MUROTEC S DE RL DE CV","Z312790010",1,8890.6]
[null,null,null,{"$f":"COUNTIF($E$1:E13606,consulta!$D$1)","v":0},"JUAN LEONARDO ORTEGA CASTA#EDA","Z312796310",1,2547.2199999999998]
[null,null,null,{"$f":"COUNTIF($E$1:E13619,consulta!$D$1)","v":0},"COMERCIALIZADORA ALBON SA DE CV","Z312796910",1,358.14]
[null,null,null,{"$f":"COUNTIF($E$1:E13635,consulta!$D$1)","v":0},"MARIA LUISA MORENO FERNANDEZ","Z312805510",1,716.29]
[null,null,null,{"$f":"COUNTIF($E$1:E13657,consulta!$D$1)","v":0},"ACCESORIOS Y MADERAS TORRES SA DE CV","Z312813010",1,3088.79]
[null,null,null,{"$f":"COUNTIF($E$1:E13664,consulta!$D$1)","v":0},"JOSEFINA SANCHEZ SANCHEZ","Z312816110",1,3004.11]
[null,null,null,{"$f":"COUNTIF($E$1:E13680,consulta!$D$1)","v":0},"ELDA CABRERA VERA","Z312817310",1,18327.48]
[null,null,null,{"$f":"COUNTIF($E$1:E13694,consulta!$D$1)","v":0},"ROXANA LOPEZ LOPEZ","Z312819210",1,417.78]
[null,null,null,{"$f":"COUNTIF($E$1:E13709,consulta!$D$1)","v":0},"ROGELIO BADILLO BECERRIL","Z312819410",1,358.14]
[null,null,null,{"$f":"COUNTIF($E$1:E13729,consulta!$D$1)","v":0},"ALVARO AVILA VAZQUEZ","Z312823710",2,28589.119999999999]
[null,null,null,{"$f":"COUNTIF($E$1:E13739,consulta!$D$1)","v":0},"MARIELA ROSARIO GOMEZ GOMEZ","Z312825010",1,13663.2]
[null,null,null,{"$f":"COUNTIF($E$1:E13755,consulta!$D$1)","v":0},"MARIO ALEJANDRO OCHOA VALDEZ","Z312825410",1,540.55999999999995]
[null,null,null,{"$f":"COUNTIF($E$1:E13766,consulta!$D$1)","v":0},"CLINICA MEDICA Y DENTAL RIO SC","Z312828010",1,4422.34]
[null,null,null,{"$f":"COUNTIF($E$1:E13784,consulta!$D$1)","v":0},"COMPA#IA DE COMEDORES SINCO SA DE CV","Z312828910",1,5495.12]
[null,null,null,{"$f":"COUNTIF($E$1:E13801,consulta!$D$1)","v":0},"EDITORIAL SEPTIMO DIA SA DE CV","Z312830710",1,2227.17]
[null,null,null,{"$f":"COUNTIF($E$1:E13814,consulta!$D$1)","v":0},"EDITORIAL SEPTIMO DIA SA DE CV","Z312830710",2,1118.48]
[null,null,null,{"$f":"COUNTIF($E$1:E13830,consulta!$D$1)","v":0},"DOS GRUPO CREATIVO SA DE CV","Z312830810",1,8064.07]
[null,null,null,{"$f":"COUNTIF($E$1:E13838,consulta!$D$1)","v":0},"GREEN EAGLE TRANSPORTES S DE RL DE CV","Z312834210",1,783.29]
[null,null,null,{"$f":"COUNTIF($E$1:E13859,consulta!$D$1)","v":0},"KARLA ALEJANDRA MADRIGAL NIEVES","Z312836510",1,1926.26]
[null,null,null,{"$f":"COUNTIF($E$1:E13873,consulta!$D$1)","v":0},"COMERCIALIZADORA QUIBA SA DE CV","Z312836610",2,2050.5100000000002]
[null,null,null,{"$f":"COUNTIF($E$1:E13889,consulta!$D$1)","v":0},"DISTRIBUIDORA DE MATERIALES PARA LA CONSTRUCCION MCV S DE RL DE CV","Z312837910",1,8224.44]
[null,null,null,{"$f":"COUNTIF($E$1:E13904,consulta!$D$1)","v":0},"ORLANDO SANCHEZ CAMACHO","Z312838610",1,492.48]
[null,null,null,{"$f":"COUNTIF($E$1:E13910,consulta!$D$1)","v":0},"JESUS ALEJANDRO VAL TIRADO","Z312844710",1,707.03]
[null,null,null,{"$f":"COUNTIF($E$1:E13934,consulta!$D$1)","v":0},"GRUPO ARANEA S DE RL DE CV","Z312845010",1,39983.26]
[null,null,null,{"$f":"COUNTIF($E$1:E13945,consulta!$D$1)","v":0},"CALUMEDIC S DE RL DE CV","Z312846210",1,356.87]
[null,null,null,{"$f":"COUNTIF($E$1:E13964,consulta!$D$1)","v":0},"CALUMEDIC S DE RL DE CV","Z312846210",1,925.21]
[null,null,null,{"$f":"COUNTIF($E$1:E13979,consulta!$D$1)","v":0},"ENRIQUE ROCHA BELTRAN","Z312846410",1,4278.99]
[null,null,null,{"$f":"COUNTIF($E$1:E13982,consulta!$D$1)","v":0},"ENRIQUE ROCHA BELTRAN","Z312846410",1,4421.59]
[null,null,null,{"$f":"COUNTIF($E$1:E14009,consulta!$D$1)","v":0},"SOUTH CONE HOME MEXICO S DE RL DE CV","Z312850810",1,3514.65]
[null,null,null,{"$f":"COUNTIF($E$1:E14024,consulta!$D$1)","v":0},"ELSA MARIA ENCINAS FLORES","Z312852510",1,925.21]
[null,null,null,{"$f":"COUNTIF($E$1:E14033,consulta!$D$1)","v":0},"AARON DARIO VARGAS LOPEZ","Z312853710",1,296.95]
[null,null,null,{"$f":"COUNTIF($E$1:E14039,consulta!$D$1)","v":0},"SANDRA MARCELA MEDINA","Z312854910",1,385.61]
[null,null,null,{"$f":"COUNTIF($E$1:E14054,consulta!$D$1)","v":0},"SAMUEL DIAZ OROZCO","Z312856410",1,976]
[null,null,null,{"$f":"COUNTIF($E$1:E14069,consulta!$D$1)","v":0},"RAFAEL SANCHEZ GONZALEZ","Z312858310",1,1173.21]
[null,null,null,{"$f":"COUNTIF($E$1:E14084,consulta!$D$1)","v":0},"JOHARA CAMACHO FARIAS","Z312864510",1,1316.72]
[null,null,null,{"$f":"COUNTIF($E$1:E14105,consulta!$D$1)","v":0},"MARIA DE LA LUZ GRESS GARCIA","Z312866910",1,296.95]
[null,null,null,{"$f":"COUNTIF($E$1:E14114,consulta!$D$1)","v":0},"ORIONIS SERVICIOS CONSULTORIA Y PROYECTOS S DE RL DE CV","Z312871210",1,7885.16]
[null,null,null,{"$f":"COUNTIF($E$1:E14140,consulta!$D$1)","v":0},"JOSE LUIS MORALES SANCHEZ","Z312872410",1,476.17]
[null,null,null,{"$f":"COUNTIF($E$1:E14144,consulta!$D$1)","v":0},"JOSE LUIS MORALES SANCHEZ","Z312872410",1,476.17]
[null,null,null,{"$f":"COUNTIF($E$1:E14159,consulta!$D$1)","v":0},"AGUSTIN LOPEZ REYNOZO","Z312877010",1,373.84]
[null,null,null,{"$f":"COUNTIF($E$1:E14177,consulta!$D$1)","v":0},"ABRAHAM GALINDO SANDOVAL","Z312878510",1,1214.8]
[null,null,null,{"$f":"COUNTIF($E$1:E14189,consulta!$D$1)","v":0},"QC CONTROL SYSTEM SC","Z312879610",1,1424.21]
[null,null,null,{"$f":"COUNTIF($E$1:E14208,consulta!$D$1)","v":0},"QC CONTROL SYSTEM SC","Z312879610",1,1851.18]
[null,null,null,{"$f":"COUNTIF($E$1:E14219,consulta!$D$1)","v":0},"MARISOL GUADALUPE SALAZAR GURROLA","Z312879910",1,593.91]
[null,null,null,{"$f":"COUNTIF($E$1:E14234,consulta!$D$1)","v":0},"ALIMENTOS Y BEBIDAS POZOLITO S DE RL DE CV","Z312886910",2,17775.419999999998]
[null,null,null,{"$f":"COUNTIF($E$1:E14249,consulta!$D$1)","v":0},"ALIMENTOS Y BEBIDAS POZOLITO S DE RL DE CV","Z312886910",2,21981.89]
[null,null,null,{"$f":"COUNTIF($E$1:E14264,consulta!$D$1)","v":0},"ALIMENTOS Y BEBIDAS POZOLITO S DE RL DE CV","Z312886910",1,6247.74]
[null,null,null,{"$f":"COUNTIF($E$1:E14279,consulta!$D$1)","v":0},"AMERICAN ROSE S DE RL DE CV","Z312888310",1,20195.86]
[null,null,null,{"$f":"COUNTIF($E$1:E14300,consulta!$D$1)","v":0},"NADIA GRESS MONTOYA","Z312891610",1,1716.02]
[null,null,null,{"$f":"COUNTIF($E$1:E14309,consulta!$D$1)","v":0},"NADIA GRESS MONTOYA","Z312891610",1,716.29]
[null,null,null,{"$f":"COUNTIF($E$1:E14317,consulta!$D$1)","v":0},"ALFONSO CRUZ RICO","Z312894210",1,143.26]
[null,null,null,{"$f":"COUNTIF($E$1:E14339,consulta!$D$1)","v":0},"RECICLADOS BAJA NW SA DE CV","Z312899110",1,29548.080000000002]
[null,null,null,{"$f":"COUNTIF($E$1:E14354,consulta!$D$1)","v":0},"TORTILLERIA LA PROVEEDORA S DE RL DE CV","Z312903010",2,3221.16]
[null,null,null,{"$f":"COUNTIF($E$1:E14372,consulta!$D$1)","v":0},"BAJA VANS Y REMOLQUES SA DE CV","Z312905210",1,1906.72]
[null,null,null,{"$f":"COUNTIF($E$1:E14384,consulta!$D$1)","v":0},"LITOFORMAS PRINTING & PACKAGING SA DE CV","Z312906210",1,6855.78]
[null,null,null,{"$f":"COUNTIF($E$1:E14403,consulta!$D$1)","v":0},"JOSE CARLOS ESCALANTE PORTILLO","Z312910710",1,2365.17]
[null,null,null,{"$f":"COUNTIF($E$1:E14414,consulta!$D$1)","v":0},"JOSE CARLOS ESCALANTE PORTILLO","Z312910710",1,1528.09]
[null,null,null,{"$f":"COUNTIF($E$1:E14429,consulta!$D$1)","v":0},"DETALLADO AUTOMOTRIZ CUAUHTEMOC SA DE CV","Z312911610",1,4218.72]
[null,null,null,{"$f":"COUNTIF($E$1:E14444,consulta!$D$1)","v":0},"HECTOR IVAN ALVARADO LOZANO","Z312914210",1,3454.84]
[null,null,null,{"$f":"COUNTIF($E$1:E14459,consulta!$D$1)","v":0},"SANDRA CAMACHO ZARAGOZA","Z312917810",1,754.56]
[null,null,null,{"$f":"COUNTIF($E$1:E14475,consulta!$D$1)","v":0},"CLAUDIA MARIA URTUSUASTEGUI FIERRO","Z312919610",1,4933.46]
[null,null,null,{"$f":"COUNTIF($E$1:E14489,consulta!$D$1)","v":0},"DAISY ANAHY PUENTE GASTELUM","Z312921910",1,296.95]
[null,null,null,{"$f":"COUNTIF($E$1:E14504,consulta!$D$1)","v":0},"DAISY ANAHY PUENTE GASTELUM","Z312921910",1,1174.92]
[null,null,null,{"$f":"COUNTIF($E$1:E14512,consulta!$D$1)","v":0},"EARA COMERCIALIZADORA S DE RL DE CV","Z312922810",1,835.98]
[null,null,null,{"$f":"COUNTIF($E$1:E14534,consulta!$D$1)","v":0},"ENERGIA APLICADA EN CONSTRUCCION SA DE CV","Z312924310",1,26133.59]
[null,null,null,{"$f":"COUNTIF($E$1:E14547,consulta!$D$1)","v":0},"JUAN RODOLFO SAENZ ROMERO","Z312925210",1,3748.56]
[null,null,null,{"$f":"COUNTIF($E$1:E14564,consulta!$D$1)","v":0},"JUAN RODOLFO SAENZ ROMERO","Z312925210",1,1077.45]
[null,null,null,{"$f":"COUNTIF($E$1:E14579,consulta!$D$1)","v":0},"CARLOS IBARRA ALEMAN","Z312926910",1,2906.93]
[null,null,null,{"$f":"COUNTIF($E$1:E14584,consulta!$D$1)","v":0},"CARLOS IBARRA ALEMAN","Z312926910",1,1140.02]
[null,null,null,{"$f":"COUNTIF($E$1:E14594,consulta!$D$1)","v":0},"CARLOS IBARRA ALEMAN","Z312926910",1,6539.15]
[null,null,null,{"$f":"COUNTIF($E$1:E14609,consulta!$D$1)","v":0},"CENTERCOMM JM S DE RL DE CV","Z312927510",1,45479.839999999997]
[null,null,null,{"$f":"COUNTIF($E$1:E14625,consulta!$D$1)","v":0},"SUPLEMENTOS INDUSTRIALES PARA MAQUILADORAS S DE RL DE CV","Z312928410",1,704.38]
[null,null,null,{"$f":"COUNTIF($E$1:E14639,consulta!$D$1)","v":0},"RICARDO RENE SILVA MURILLO","Z312929910",1,404.93]
[null,null,null,{"$f":"COUNTIF($E$1:E14656,consulta!$D$1)","v":0},"JOSE LUIS TORRES GARCIA","Z312931310",1,775.66]
[null,null,null,{"$f":"COUNTIF($E$1:E14669,consulta!$D$1)","v":0},"ALEJANDRO BELTRAN SAUCEDO","Z312933810",1,420.55]
[null,null,null,{"$f":"COUNTIF($E$1:E14684,consulta!$D$1)","v":0},"MARIANA PATRICIA SEGOVIANO CAMPOS","Z312934310",1,2257.2600000000002]
[null,null,null,{"$f":"COUNTIF($E$1:E14707,consulta!$D$1)","v":0},"VIJA DESARROLLADORA SA DE CV","Z312940810",1,742.39]
[null,null,null,{"$f":"COUNTIF($E$1:E14714,consulta!$D$1)","v":0},"VIJA DESARROLLADORA SA DE CV","Z312940810",1,296.95]
[null,null,null,{"$f":"COUNTIF($E$1:E14728,consulta!$D$1)","v":0},"VIJA DESARROLLADORA SA DE CV","Z312940810",1,540.55999999999995]
[null,null,null,{"$f":"COUNTIF($E$1:E14744,consulta!$D$1)","v":0},"ARELY ILLAN FRAIJO","Z312941610",1,1092.93]
[null,null,null,{"$f":"COUNTIF($E$1:E14759,consulta!$D$1)","v":0},"MARIA AUXILIO MIREYA BURGOS JAURENA","Z312947110",1,2102.7600000000002]
[null,null,null,{"$f":"COUNTIF($E$1:E14779,consulta!$D$1)","v":0},"ANA MARIA ANACLETA PORTILLO HERNANDEZ","Z312950710",1,306.22000000000003]
[null,null,null,{"$f":"COUNTIF($E$1:E14789,consulta!$D$1)","v":0},"IMC FINISHING S DE RL DE CV","Z312951610",1,3732.05]
[null,null,null,{"$f":"COUNTIF($E$1:E14800,consulta!$D$1)","v":0},"CLAUDIA TORRES RIOS","Z312954310",1,754.56]
[null,null,null,{"$f":"COUNTIF($E$1:E14818,consulta!$D$1)","v":0},"CLAUDIA TORRES RIOS","Z312954310",1,370.08]
[null,null,null,{"$f":"COUNTIF($E$1:E14834,consulta!$D$1)","v":0},"ARTURO REYES PRUDENCIO","Z312955710",1,2766.69]
[null,null,null,{"$f":"COUNTIF($E$1:E14851,consulta!$D$1)","v":0},"JUAN ALEJANDRO HERNANDEZ SANDOVAL","Z312957010",1,301.82]
[null,null,null,{"$f":"COUNTIF($E$1:E14864,consulta!$D$1)","v":0},"ALVARO SANCHEZ GUTIERREZ","Z312958710",1,890.86]
[null,null,null,{"$f":"COUNTIF($E$1:E14879,consulta!$D$1)","v":0},"FRANCISCO ORLANDO ORTIZ ZU#IGA","Z312960110",1,1081.1600000000001]
[null,null,null,{"$f":"COUNTIF($E$1:E14888,consulta!$D$1)","v":0},"ARMIDA TERESA GARCIA GUERRERO","Z312960810",1,1816.49]
[null,null,null,{"$f":"COUNTIF($E$1:E14909,consulta!$D$1)","v":0},"SUPPLIER SUPPORT BAJIO S DE RL DE CV","Z312965610",1,42702.6]
[null,null,null,{"$f":"COUNTIF($E$1:E14923,consulta!$D$1)","v":0},"FELSA RECICLIN SA DE CV","Z312968310",1,296.95]
[null,null,null,{"$f":"COUNTIF($E$1:E14939,consulta!$D$1)","v":0},"JB CONSTRUCCIONES Y ESTRUCTURAS SA DE CV","Z312968410",1,1774.26]
[null,null,null,{"$f":"COUNTIF($E$1:E14954,consulta!$D$1)","v":0},"PJ KOREA SA DE CV","Z312970610",1,1853.49]
[null,null,null,{"$f":"COUNTIF($E$1:E14960,consulta!$D$1)","v":0},"PJ KOREA SA DE CV","Z312970610",1,7224.52]
[null,null,null,{"$f":"COUNTIF($E$1:E14984,consulta!$D$1)","v":0},"PJ KOREA SA DE CV","Z312970610",1,1514.56]
[null,null,null,{"$f":"COUNTIF($E$1:E14995,consulta!$D$1)","v":0},"AUTOMOTRIZ 4 A SA DE CV","Z312971510",1,502.96]
[null,null,null,{"$f":"COUNTIF($E$1:E15013,consulta!$D$1)","v":0},"JUAN ARRIAGA ROMERO","Z312974010",1,1054.68]
[null,null,null,{"$f":"COUNTIF($E$1:E15029,consulta!$D$1)","v":0},"JOSE ANGEL LUNA ARMENTA","Z312977810",1,2250.33]
[null,null,null,{"$f":"COUNTIF($E$1:E15046,consulta!$D$1)","v":0},"CBL MEDICAL CLINIC SC","Z312979910",1,17379.849999999999]
[null,null,null,{"$f":"COUNTIF($E$1:E15059,consulta!$D$1)","v":0},"CARLOS IVAN CABRERA CAMU#EZ","Z312985910",2,718.62]
[null,null,null,{"$f":"COUNTIF($E$1:E15067,consulta!$D$1)","v":0},"EL BARZON AC BAJA CALIFORNIA AC","Z312986810",1,4454.3500000000004]
[null,null,null,{"$f":"COUNTIF($E$1:E15088,consulta!$D$1)","v":0},"JULIO CESAR ARRIAZA GODOY","Z312990210",1,5502.94]
[null,null,null,{"$f":"COUNTIF($E$1:E15104,consulta!$D$1)","v":0},"HECTOR HUGO DIAZ BOJORQUEZ","Z312994210",1,2227.17]
[null,null,null,{"$f":"COUNTIF($E$1:E15118,consulta!$D$1)","v":0},"HECTOR HUGO DIAZ BOJORQUEZ","Z312994210",1,1621.7]
[null,null,null,{"$f":"COUNTIF($E$1:E15134,consulta!$D$1)","v":0},"ARTURO URIBE AVILA","Z312998110",1,880.74]
[null,null,null,{"$f":"COUNTIF($E$1:E15149,consulta!$D$1)","v":0},"OPERADORA CANTINA EXPERIMENTAL S DE RL DE CV","Z313003410",1,12960.34]
[null,null,null,{"$f":"COUNTIF($E$1:E15155,consulta!$D$1)","v":0},"SALVADOR ARIAS JIMENEZ","Z313004810",1,458.65]
[null,null,null,{"$f":"COUNTIF($E$1:E15164,consulta!$D$1)","v":0},"BEST LEAD SOLUTION SA DE CV","Z313005810",1,13692.97]
[null,null,null,{"$f":"COUNTIF($E$1:E15190,consulta!$D$1)","v":0},"GRUPO JAPONES BC S DE RL DE CV","Z313005910",1,932.07]
[null,null,null,{"$f":"COUNTIF($E$1:E15193,consulta!$D$1)","v":0},"GRUPO JAPONES BC S DE RL DE CV","Z313005910",1,385.25]
[null,null,null,{"$f":"COUNTIF($E$1:E15209,consulta!$D$1)","v":0},"LUIS MIGUEL RAMIREZ LIZARRAGA","Z313011210",1,8004.94]
[null,null,null,{"$f":"COUNTIF($E$1:E15227,consulta!$D$1)","v":0},"DANIA TOPACIO ROBLES GONZALEZ","Z313012010",1,2278.2800000000002]
[null,null,null,{"$f":"COUNTIF($E$1:E15239,consulta!$D$1)","v":0},"DAVID DURAN AGUIRRE","Z313012710",1,5183.2]
[null,null,null,{"$f":"COUNTIF($E$1:E15262,consulta!$D$1)","v":0},"ALBERTO PADILLA PE#ALOZA","Z313017210",2,925.21]
[null,null,null,{"$f":"COUNTIF($E$1:E15268,consulta!$D$1)","v":0},"BAJAMARKETING INTERNACIONAL SA DE CV","Z313018810",1,11826.02]
[null,null,null,{"$f":"COUNTIF($E$1:E15284,consulta!$D$1)","v":0},"GENARO FAVELA LOPEZ","Z313020810",1,1524.76]
[null,null,null,{"$f":"COUNTIF($E$1:E15299,consulta!$D$1)","v":0},"SARAHI PITONES NU#EZ","Z313021810",1,8681.56]
[null,null,null,{"$f":"COUNTIF($E$1:E15313,consulta!$D$1)","v":0},"ERNESTO ARCE ENCISO","Z313023010",1,1931.18]
[null,null,null,{"$f":"COUNTIF($E$1:E15334,consulta!$D$1)","v":0},"TERESA ANN RODRIGUEZ","Z313028510",1,2275.86]
[null,null,null,{"$f":"COUNTIF($E$1:E15343,consulta!$D$1)","v":0},"CENTRO CAMBIARIO ESTEFANI SA DE CV","Z313029810",1,4118.43]
[null,null,null,{"$f":"COUNTIF($E$1:E15359,consulta!$D$1)","v":0},"LORENA DEL CARMEN TREVI#O ORTEGA","Z313031410",1,4996.1499999999996]
[null,null,null,{"$f":"COUNTIF($E$1:E15371,consulta!$D$1)","v":0},"RAES RESTAURANTE S DE RL DE CV","Z313032810",1,1484.78]
[null,null,null,{"$f":"COUNTIF($E$1:E15388,consulta!$D$1)","v":0},"AG Y M TRANSPORT S DE RL DE CV","Z313033410",1,662.39]
[null,null,null,{"$f":"COUNTIF($E$1:E15406,consulta!$D$1)","v":0},"A DESARROLLA S DE RL DE CV","Z313036610",1,1738.96]
[null,null,null,{"$f":"COUNTIF($E$1:E15418,consulta!$D$1)","v":0},"RAFAEL CASTILLO","Z313039510",1,358.69]
[null,null,null,{"$f":"COUNTIF($E$1:E15434,consulta!$D$1)","v":0},"ABRAHAM MIZAEL COMPARAN NU#EZ","Z313043210",1,3700.84]
[null,null,null,{"$f":"COUNTIF($E$1:E15443,consulta!$D$1)","v":0},"ANDREA YASMIN NAVARRO CHAVEZ","Z313044210",1,4016.96]
[null,null,null,{"$f":"COUNTIF($E$1:E15463,consulta!$D$1)","v":0},"SAMUEL GALLO MARTINEZ","Z313044610",1,385.25]
[null,null,null,{"$f":"COUNTIF($E$1:E15479,consulta!$D$1)","v":0},"MEXARGC SA DE CV","Z313048410",1,10606.24]
[null,null,null,{"$f":"COUNTIF($E$1:E15494,consulta!$D$1)","v":0},"AGUA CALIENTE SPA HOT SPRING S DE RL DE CV","Z313049810",1,5551.81]
[null,null,null,{"$f":"COUNTIF($E$1:E15508,consulta!$D$1)","v":0},"JOSE RUBEN DIAZ RUIZ","Z313050410",1,963.13]
[null,null,null,{"$f":"COUNTIF($E$1:E15515,consulta!$D$1)","v":0},"PRINTERZONE S DE RL DE CV","Z313050710",1,3121.58]
[null,null,null,{"$f":"COUNTIF($E$1:E15538,consulta!$D$1)","v":0},"ALICIA LISSET ARROYO ELIZALDE","Z313055310",1,1397.12]
[null,null,null,{"$f":"COUNTIF($E$1:E15554,consulta!$D$1)","v":0},"JORGE CLEMENTE URIARTE ANGULO","Z313057910",1,963.13]
[null,null,null,{"$f":"COUNTIF($E$1:E15566,consulta!$D$1)","v":0},"MARTIN RIVAS LOPEZ","Z313063310",1,11983.25]
[null,null,null,{"$f":"COUNTIF($E$1:E15583,consulta!$D$1)","v":0},"CESAR IVAN GOMEZ ACOSTA","Z313075210",1,1462.33]
[null,null,null,{"$f":"COUNTIF($E$1:E15601,consulta!$D$1)","v":0},"CARBONERA DEL BOSQUE S DE RL DE CV","Z313078810",1,2065.09]
[null,null,null,{"$f":"COUNTIF($E$1:E15613,consulta!$D$1)","v":0},"TRATADOS INTEGRALES SA DE CV","Z313086210",1,9089.48]
[null,null,null,{"$f":"COUNTIF($E$1:E15628,consulta!$D$1)","v":0},"JOSE LUIS TORRE MURGUIA","Z313087010",1,905.67]
[null,null,null,{"$f":"COUNTIF($E$1:E15638,consulta!$D$1)","v":0},"JOSE LUIS TORRE MURGUIA","Z313087010",1,1505.91]
[null,null,null,{"$f":"COUNTIF($E$1:E15658,consulta!$D$1)","v":0},"CASA HOGAR BELEN AC","Z313090210",1,744.16]
[null,null,null,{"$f":"COUNTIF($E$1:E15673,consulta!$D$1)","v":0},"SANDRA NATALIA SANCHEZ BRAVO","Z313093910",1,2775.63]
[null,null,null,{"$f":"COUNTIF($E$1:E15688,consulta!$D$1)","v":0},"JUAN MANUEL QUIROZ SANTIAGO","Z313094810",1,2054.58]
[null,null,null,{"$f":"COUNTIF($E$1:E15703,consulta!$D$1)","v":0},"JONATHAN PANTOJA VEGA","Z313099810",1,359.5]
[null,null,null,{"$f":"COUNTIF($E$1:E15710,consulta!$D$1)","v":0},"RAUL ANTONIO DE AGUINAGA GODINEZ","Z313101010",1,2594.9899999999998]
[null,null,null,{"$f":"COUNTIF($E$1:E15733,consulta!$D$1)","v":0},"SALON SOCIAL CHAREY SA DE CV","Z313103210",1,2666.55]
[null,null,null,{"$f":"COUNTIF($E$1:E15734,consulta!$D$1)","v":0},"SALON SOCIAL CHAREY SA DE CV","Z313103210",1,2228.2800000000002]
[null,null,null,{"$f":"COUNTIF($E$1:E15761,consulta!$D$1)","v":0},"BRONSON REFRIGERACION S DE RL DE CV","Z313105910",1,70.27]
[null,null,null,{"$f":"COUNTIF($E$1:E15763,consulta!$D$1)","v":0},"AERODESCARGAS FRONTERIZAS SC","Z313108910",1,930.84]
[null,null,null,{"$f":"COUNTIF($E$1:E15782,consulta!$D$1)","v":0},"PERLA YADIRA OSUNA ESTRADA","Z313110410",1,300.37]
[null,null,null,{"$f":"COUNTIF($E$1:E15793,consulta!$D$1)","v":0},"ROSA ELENA GAFARO OJEDA","Z313117910",1,742.39]
[null,null,null,{"$f":"COUNTIF($E$1:E15808,consulta!$D$1)","v":0},"INDUSTRIAS DE COPIADO SA DE CV","Z313119410",1,1855.66]
[null,null,null,{"$f":"COUNTIF($E$1:E15833,consulta!$D$1)","v":0},"OSJACA S DE RL DE CV","Z313122710",1,246405.21]
[null,null,null,{"$f":"COUNTIF($E$1:E15838,consulta!$D$1)","v":0},"FINIXT SA DE CV","Z313132910",1,672.24]
[null,null,null,{"$f":"COUNTIF($E$1:E15854,consulta!$D$1)","v":0},"FINIXT SA DE CV","Z313132910",1,1850.42]
[null,null,null,{"$f":"COUNTIF($E$1:E15868,consulta!$D$1)","v":0},"CATALINA NOHEMI CASTA#EDA LEY","Z313137510",1,3159.88]
[null,null,null,{"$f":"COUNTIF($E$1:E15883,consulta!$D$1)","v":0},"FERRETERIA GOAN S DE RL DE CV","Z313139710",1,7541.83]
[null,null,null,{"$f":"COUNTIF($E$1:E15905,consulta!$D$1)","v":0},"JOSE ALBERTO PRADO LOPEZ","Z313139910",2,915.93]
[null,null,null,{"$f":"COUNTIF($E$1:E15913,consulta!$D$1)","v":0},"JOSE ALBERTO PRADO LOPEZ","Z313139910",1,946.46]
[null,null,null,{"$f":"COUNTIF($E$1:E15926,consulta!$D$1)","v":0},"INMOBILIARIA RONIZ SA DE CV","Z313140710",1,2755.98]
[null,null,null,{"$f":"COUNTIF($E$1:E15943,consulta!$D$1)","v":0},"DARIO ZARATE SIORDIA","Z313143310",1,452]
[null,null,null,{"$f":"COUNTIF($E$1:E15958,consulta!$D$1)","v":0},"LENIN JOSUE BRIZUELA LAGUNA","Z313144010",1,2342.1]
[null,null,null,{"$f":"COUNTIF($E$1:E15977,consulta!$D$1)","v":0},"FRANCISCO JAVIER MOROYOQUI GONZALEZ","Z313147410",1,1516.78]
[null,null,null,{"$f":"COUNTIF($E$1:E15988,consulta!$D$1)","v":0},"FRANCISCO JAVIER MOROYOQUI GONZALEZ","Z313147410",1,797.44]
[null,null,null,{"$f":"COUNTIF($E$1:E16008,consulta!$D$1)","v":0},"ALFA BARRE SA DE CV","Z313151910",1,740.16]
[null,null,null,{"$f":"COUNTIF($E$1:E16018,consulta!$D$1)","v":0},"MAYLA MELO RODRIGUEZ","Z313152410",1,1819.29]
[null,null,null,{"$f":"COUNTIF($E$1:E16033,consulta!$D$1)","v":0},"KAREN GUADALUPE ARREOLA GARCIA","Z313155810",1,1309.3900000000001]
[null,null,null,{"$f":"COUNTIF($E$1:E16049,consulta!$D$1)","v":0},"FRANCISCO ARTURO PEREZ ALVARADO","Z313158910",1,1664.41]
[null,null,null,{"$f":"COUNTIF($E$1:E16063,consulta!$D$1)","v":0},"MARIA GUADALUPE TARANGO REYES","Z313159810",1,52.46]
[null,null,null,{"$f":"COUNTIF($E$1:E16078,consulta!$D$1)","v":0},"CONSTRUCCION Y SERVICIOS ADMINISTRATIVOS SA DE CV","Z313161110",1,13762.76]
[null,null,null,{"$f":"COUNTIF($E$1:E16086,consulta!$D$1)","v":0},"MARIA ESTHER ZUZUARREGUI RUIZ","Z313163210",1,1485.16]
[null,null,null,{"$f":"COUNTIF($E$1:E16108,consulta!$D$1)","v":0},"BELAJ SA DE CV","Z313165710",1,2387.64]
[null,null,null,{"$f":"COUNTIF($E$1:E16117,consulta!$D$1)","v":0},"JOSE ALFREDO VALDEZ VERDUZCO","Z313166610",1,316.26]
[null,null,null,{"$f":"COUNTIF($E$1:E16138,consulta!$D$1)","v":0},"SALVADOR CUADRAS BELLO","Z313167010",1,932.07]
[null,null,null,{"$f":"COUNTIF($E$1:E16153,consulta!$D$1)","v":0},"SAN JUANA LOPEZ MARTINEZ","Z313173010",1,2951.08]
[null,null,null,{"$f":"COUNTIF($E$1:E16158,consulta!$D$1)","v":0},"EDITH NAVAR VIZCARRA","Z313176510",1,370.08]
[null,null,null,{"$f":"COUNTIF($E$1:E16183,consulta!$D$1)","v":0},"SE SHIN.OP S DE RL DE CV","Z313185310",1,119.38]
[null,null,null,{"$f":"COUNTIF($E$1:E16189,consulta!$D$1)","v":0},"BOGART RODRIGO ARAUJO CERVANTES","Z313188210",1,744.34]
[null,null,null,{"$f":"COUNTIF($E$1:E16213,consulta!$D$1)","v":0},"SERVICIOS DE ALTA ADMINISTRACION MEXICANOS SA DE CV","Z313193510",1,70607.61]
[null,null,null,{"$f":"COUNTIF($E$1:E16228,consulta!$D$1)","v":0},"CYNTHIA GUADALUPE PEREZ WONG","Z313194410",1,2107.35]
[null,null,null,{"$f":"COUNTIF($E$1:E16244,consulta!$D$1)","v":0},"SELEMAN SC","Z313196810",1,98593.53]
[null,null,null,{"$f":"COUNTIF($E$1:E16258,consulta!$D$1)","v":0},"HORIS WORK SA DE CV","Z313198510",1,895.37]
[null,null,null,{"$f":"COUNTIF($E$1:E16261,consulta!$D$1)","v":0},"LUIS ALFONSO SERVIN VILLANUEVA","Z313199310",1,2092.2600000000002]
[null,null,null,{"$f":"COUNTIF($E$1:E16288,consulta!$D$1)","v":0},"YARON ARTURO DEL MORAL ORTEGA","Z313204210",1,4123.01]
[null,null,null,{"$f":"COUNTIF($E$1:E16303,consulta!$D$1)","v":0},"DANIEL RICARDO MORENO VALENZUELA","Z313208410",1,593.91]
[null,null,null,{"$f":"COUNTIF($E$1:E16312,consulta!$D$1)","v":0},"DANIEL RICARDO MORENO VALENZUELA","Z313208410",1,1081.1300000000001]
[null,null,null,{"$f":"COUNTIF($E$1:E16318,consulta!$D$1)","v":0},"HD PANEL MEXICO SA DE CV","Z313217510",1,28901.94]
[null,null,null,{"$f":"COUNTIF($E$1:E16333,consulta!$D$1)","v":0},"MARCO ANTONIO CASTRO LOPEZ","Z313221510",1,1484.52]
[null,null,null,{"$f":"COUNTIF($E$1:E16353,consulta!$D$1)","v":0},"SUAVECITO POMADE S DE RL DE CV","Z313223210",1,7261.92]
[null,null,null,{"$f":"COUNTIF($E$1:E16363,consulta!$D$1)","v":0},"FRANCISCO DIAZ RAMIREZ","Z313230910",1,593.91]
[null,null,null,{"$f":"COUNTIF($E$1:E16384,consulta!$D$1)","v":0},"SMARECOVY S DE RL DE CV","Z313235310",1,27818.51]
[null,null,null,{"$f":"COUNTIF($E$1:E16393,consulta!$D$1)","v":0},"VELZAC IC S DE RL DE CV","Z313235610",1,6541.48]
[null,null,null,{"$f":"COUNTIF($E$1:E16408,consulta!$D$1)","v":0},"INGENIERIA ESPECIALIZADA EN OBRA CIVIL SA DE CV","Z313237010",1,632.86]
[null,null,null,{"$f":"COUNTIF($E$1:E16425,consulta!$D$1)","v":0},"VICTOR MANUEL AGUILERA COLMENERO","Z313237710",1,730.23]
[null,null,null,{"$f":"COUNTIF($E$1:E16438,consulta!$D$1)","v":0},"PABLO ANTONIO MOLINA RUELAS","Z313238310",2,1307.8]
[null,null,null,{"$f":"COUNTIF($E$1:E16456,consulta!$D$1)","v":0},"LIDIA FAVIOLA CARBALLO POZO","Z313244610",1,2227.17]
[null,null,null,{"$f":"COUNTIF($E$1:E16468,consulta!$D$1)","v":0},"TRANSPORTE Y MANTENIMIENTO CDA S DE RL DE CV","Z313244710",1,995.09]
[null,null,null,{"$f":"COUNTIF($E$1:E16483,consulta!$D$1)","v":0},"TRANSPORTE Y MANTENIMIENTO CDA S DE RL DE CV","Z313244710",1,411.3]
[null,null,null,{"$f":"COUNTIF($E$1:E16507,consulta!$D$1)","v":0},"ALMA VERDE ADMINISTRADORA DE RESTAURANTES S DE RL DE CV","Z313251610",2,24453.77]
[null,null,null,{"$f":"COUNTIF($E$1:E16513,consulta!$D$1)","v":0},"ALMA VERDE ADMINISTRADORA DE RESTAURANTES S DE RL DE CV","Z313251610",2,22725.1]
[null,null,null,{"$f":"COUNTIF($E$1:E16528,consulta!$D$1)","v":0},"JAIME CORRAL MARTINEZ","Z313253810",1,3850.17]
[null,null,null,{"$f":"COUNTIF($E$1:E16543,consulta!$D$1)","v":0},"PABLO AYALA TORRES","Z313255010",1,704.94]
[null,null,null,{"$f":"COUNTIF($E$1:E16558,consulta!$D$1)","v":0},"MARGARITA PONCE ALVAREZ","Z313256810",1,1264.22]
[null,null,null,{"$f":"COUNTIF($E$1:E16579,consulta!$D$1)","v":0},"MARGARITA PONCE ALVAREZ","Z313256810",1,540.55999999999995]
[null,null,null,{"$f":"COUNTIF($E$1:E16588,consulta!$D$1)","v":0},"GRUPO INNOVATORS MEX DE BAJA CALIFORNIA SA DE CV","Z313257510",1,11690.29]
[null,null,null,{"$f":"COUNTIF($E$1:E16603,consulta!$D$1)","v":0},"SEM CASTRO TORRES","Z313258510",1,742.39]
[null,null,null,{"$f":"COUNTIF($E$1:E16616,consulta!$D$1)","v":0},"SEM CASTRO TORRES","Z313258510",1,492.46]
[null,null,null,{"$f":"COUNTIF($E$1:E16633,consulta!$D$1)","v":0},"SEM CASTRO TORRES","Z313258510",1,1231.17]
[null,null,null,{"$f":"COUNTIF($E$1:E16651,consulta!$D$1)","v":0},"MARIA ESTHER SILVA MEDINA","Z313264110",1,497.62]
[null,null,null,{"$f":"COUNTIF($E$1:E16663,consulta!$D$1)","v":0},"MARIA ESTHER SILVA MEDINA","Z313264110",1,370.08]
[null,null,null,{"$f":"COUNTIF($E$1:E16678,consulta!$D$1)","v":0},"FLAVIO ALFREDO ALVARADO GONZALEZ","Z313272410",1,742.39]
[null,null,null,{"$f":"COUNTIF($E$1:E16688,consulta!$D$1)","v":0},"FLAVIO ALFREDO ALVARADO GONZALEZ","Z313272410",1,540.55999999999995]
[null,null,null,{"$f":"COUNTIF($E$1:E16708,consulta!$D$1)","v":0},"SERGIO OSCAR SANTIAGO CRUZ","Z313273510",1,770.5]
[null,null,null,{"$f":"COUNTIF($E$1:E16723,consulta!$D$1)","v":0},"ARRENDADORA OMAQSA SA DE CV","Z313277110",1,3827.47]
[null,null,null,{"$f":"COUNTIF($E$1:E16738,consulta!$D$1)","v":0},"ARRENDADORA OMAQSA SA DE CV","Z313277110",1,1530.98]
[null,null,null,{"$f":"COUNTIF($E$1:E16753,consulta!$D$1)","v":0},"ARRENDADORA OMAQSA SA DE CV","Z313277110",1,1791.46]
[null,null,null,{"$f":"COUNTIF($E$1:E16760,consulta!$D$1)","v":0},"PABLO MIRANDA ISLAS","Z313278010",1,301.82]
[null,null,null,{"$f":"COUNTIF($E$1:E16783,consulta!$D$1)","v":0},"DANIEL ESCOBAR MALDONADO","Z313278510",1,292.08999999999997]
[null,null,null,{"$f":"COUNTIF($E$1:E16795,consulta!$D$1)","v":0},"DANIEL ESCOBAR MALDONADO","Z313278510",1,370.08]
[null,null,null,{"$f":"COUNTIF($E$1:E16812,consulta!$D$1)","v":0},"GJ FURNITURE WOOD SUPPLY S DE RL DE CV","Z313279010",1,11017.47]
[null,null,null,{"$f":"COUNTIF($E$1:E16828,consulta!$D$1)","v":0},"GJ FURNITURE WOOD SUPPLY S DE RL DE CV","Z313279010",1,8915.25]
[null,null,null,{"$f":"COUNTIF($E$1:E16832,consulta!$D$1)","v":0},"GJ FURNITURE WOOD SUPPLY S DE RL DE CV","Z313279010",1,15361.61]
[null,null,null,{"$f":"COUNTIF($E$1:E16858,consulta!$D$1)","v":0},"SALOMON ROMERO NAVIDAD","Z313279810",1,9713.5400000000009]
[null,null,null,{"$f":"COUNTIF($E$1:E16867,consulta!$D$1)","v":0},"SALOMON ROMERO NAVIDAD","Z313279810",1,8742.0400000000009]
[null,null,null,{"$f":"COUNTIF($E$1:E16887,consulta!$D$1)","v":0},"MIGUEL ALEJANDRO MAYA BARBOZA","Z313282010",1,8777.5400000000009]
[null,null,null,{"$f":"COUNTIF($E$1:E16888,consulta!$D$1)","v":0},"MIGUEL ALEJANDRO MAYA BARBOZA","Z313282010",1,3511.01]
[null,null,null,{"$f":"COUNTIF($E$1:E16904,consulta!$D$1)","v":0},"DINPAS SA","Z313287910",1,18727.78]
[null,null,null,{"$f":"COUNTIF($E$1:E16917,consulta!$D$1)","v":0},"ODILON ARMOUR MENDIA SOLANO","Z313289610",1,16433.48]
[null,null,null,{"$f":"COUNTIF($E$1:E16933,consulta!$D$1)","v":0},"DISE#OS INNOVADORES DE BAJA CALIFORNIA S DE RL DE CV","Z313289910",1,26393.88]
[null,null,null,{"$f":"COUNTIF($E$1:E16955,consulta!$D$1)","v":0},"CONSTRUCTORA ICEBERG DE BC S DE RL DE CV","Z313292410",1,7413.97]
[null,null,null,{"$f":"COUNTIF($E$1:E16963,consulta!$D$1)","v":0},"JESUS ENRIQUE FIGUEROA MORENO","Z313292510",1,811.67]
[null,null,null,{"$f":"COUNTIF($E$1:E16976,consulta!$D$1)","v":0},"JESUS ENRIQUE FIGUEROA MORENO","Z313292510",1,1098.21]
[null,null,null,{"$f":"COUNTIF($E$1:E16992,consulta!$D$1)","v":0},"FRANCISCO ZAMUDIO JIMENEZ","Z313293110",1,7943.19]
[null,null,null,{"$f":"COUNTIF($E$1:E17008,consulta!$D$1)","v":0},"PODER DIESEL DE TIJUANA S DE RL DE CV","Z313293710",1,5457.04]
[null,null,null,{"$f":"COUNTIF($E$1:E17027,consulta!$D$1)","v":0},"COMUNIDAD INFANTIL MATERNA S DE RL DE CV","Z313295110",1,925.21]
[null,null,null,{"$f":"COUNTIF($E$1:E17038,consulta!$D$1)","v":0},"ANTONIO RODRIGUEZ PEREZ","Z313300210",1,1705.4]
[null,null,null,{"$f":"COUNTIF($E$1:E17062,consulta!$D$1)","v":0},"SALVADOR CHAVEZ ISLAS","Z313307910",1,742.39]
[null,null,null,{"$f":"COUNTIF($E$1:E17067,consulta!$D$1)","v":0},"SALVADOR CHAVEZ ISLAS","Z313307910",2,296.95]
[null,null,null,{"$f":"COUNTIF($E$1:E17083,consulta!$D$1)","v":0},"SALVADOR CHAVEZ ISLAS","Z313307910",1,1017.47]
[null,null,null,{"$f":"COUNTIF($E$1:E17099,consulta!$D$1)","v":0},"JUAN EDGAR MORAN BERUMEN","Z313311210",2,359.33]
[null,null,null,{"$f":"COUNTIF($E$1:E17112,consulta!$D$1)","v":0},"JUAN EDGAR MORAN BERUMEN","Z313311210",2,932.07]
[null,null,null,{"$f":"COUNTIF($E$1:E17134,consulta!$D$1)","v":0},"JESUS ALBERTO CUMPLIDO OROZCO","Z313313010",1,296.95]
[null,null,null,{"$f":"COUNTIF($E$1:E17142,consulta!$D$1)","v":0},"MARCELO ISAAC MEJIA MORA","Z313313510",1,372.82]
[null,null,null,{"$f":"COUNTIF($E$1:E17158,consulta!$D$1)","v":0},"MAXICAL MADERAS S DE RL DE CV","Z313315410",1,4779.9799999999996]
[null,null,null,{"$f":"COUNTIF($E$1:E17171,consulta!$D$1)","v":0},"ALONDRA VANESSA CAMACHO GASTELUM","Z313317610",1,17899.080000000002]
[null,null,null,{"$f":"COUNTIF($E$1:E17187,consulta!$D$1)","v":0},"CARLOS ALBERTO MARTA OSUNA","Z313323310",1,3724.52]
[null,null,null,{"$f":"COUNTIF($E$1:E17203,consulta!$D$1)","v":0},"MARIO EDGAR CARMONA LOPEZ","Z313324310",1,3868.92]
[null,null,null,{"$f":"COUNTIF($E$1:E17222,consulta!$D$1)","v":0},"LORENZO CARRILLO CONTRERAS","Z313328110",1,199.35]
[null,null,null,{"$f":"COUNTIF($E$1:E17233,consulta!$D$1)","v":0},"FORTALEZA ESPARTA SA DE CV","Z313328710",1,12943.16]
[null,null,null,{"$f":"COUNTIF($E$1:E17243,consulta!$D$1)","v":0},"P.Q. AMCO S DE RL DE CV","Z313329610",1,1769.19]
[null,null,null,{"$f":"COUNTIF($E$1:E17262,consulta!$D$1)","v":0},"P.Q. AMCO S DE RL DE CV","Z313329610",1,6132.5]
[null,null,null,{"$f":"COUNTIF($E$1:E17278,consulta!$D$1)","v":0},"ROYAL LAW FIRM SC","Z313331710",1,894.58]
[null,null,null,{"$f":"COUNTIF($E$1:E17294,consulta!$D$1)","v":0},"JUAN CARLOS SANCHEZ MORENO","Z313334710",1,358.33]
[null,null,null,{"$f":"COUNTIF($E$1:E17307,consulta!$D$1)","v":0},"CONCEPCION VILLARREAL AGUILAR","Z313338610",1,3475.18]
[null,null,null,{"$f":"COUNTIF($E$1:E17315,consulta!$D$1)","v":0},"FERRUM BLACKSMITH SA DE CV","Z313340610",2,3191.96]
[null,null,null,{"$f":"COUNTIF($E$1:E17337,consulta!$D$1)","v":0},"MARIA DEL SOCORRO AGUILAR RODRIGUEZ","Z313343910",1,4660.38]
[null,null,null,{"$f":"COUNTIF($E$1:E17353,consulta!$D$1)","v":0},"MARIO ALBERTO LOPEZ SALAZAR","Z313350510",1,296.95]
[null,null,null,{"$f":"COUNTIF($E$1:E17366,consulta!$D$1)","v":0},"SALUNATIR CORP SA DE CV","Z313351110",1,3707.8]
[null,null,null,{"$f":"COUNTIF($E$1:E17382,consulta!$D$1)","v":0},"JULIO CESAR QUI#ONEZ NEVAREZ","Z313352810",1,103189.28]
[null,null,null,{"$f":"COUNTIF($E$1:E17387,consulta!$D$1)","v":0},"EL SEGUNDO FARO S DE RL DE CV","Z313354010",1,3398.95]
[null,null,null,{"$f":"COUNTIF($E$1:E17412,consulta!$D$1)","v":0},"JOSE MARTIN MEJIA GONZALEZ","Z313356310",1,963.13]
[null,null,null,{"$f":"COUNTIF($E$1:E17427,consulta!$D$1)","v":0},"JOSE MARTIN MEJIA GONZALEZ","Z313356310",1,296.95]
[null,null,null,{"$f":"COUNTIF($E$1:E17438,consulta!$D$1)","v":0},"DELIA LEONOR DURAN LAVARIEGA","Z313359710",1,3824.3]
[null,null,null,{"$f":"COUNTIF($E$1:E17457,consulta!$D$1)","v":0},"JOSE HILARIO HERNANDEZ PALOMARES","Z313362610",1,4522.28]
[null,null,null,{"$f":"COUNTIF($E$1:E17459,consulta!$D$1)","v":0},"KARLA TERESA SECE#AS LEDEZMA","Z313362710",1,2365.17]
[null,null,null,{"$f":"COUNTIF($E$1:E17472,consulta!$D$1)","v":0},"EDUARDO ANTUNEZ PUGA","Z313364510",1,363.58]
[null,null,null,{"$f":"COUNTIF($E$1:E17487,consulta!$D$1)","v":0},"ALLIED COLLECTION SERVICES S DE RL DE CV","Z313367110",1,21094.35]
[null,null,null,{"$f":"COUNTIF($E$1:E17510,consulta!$D$1)","v":0},"MARIO TOMAS OSORIO CALDERA","Z313369110",1,874.27]
[null,null,null,{"$f":"COUNTIF($E$1:E17517,consulta!$D$1)","v":0},"BRAULIO ANDRES CARRERA SORIA","Z313371310",1,1989.1]
[null,null,null,{"$f":"COUNTIF($E$1:E17533,consulta!$D$1)","v":0},"S&N CONSULTORES JURIDICOS SC","Z313372010",1,756.28]
[null,null,null,{"$f":"COUNTIF($E$1:E17547,consulta!$D$1)","v":0},"ZAVALA Y VARGAS SERVICIOS SA DE CV","Z313373410",1,13403.99]
[null,null,null,{"$f":"COUNTIF($E$1:E17562,consulta!$D$1)","v":0},"SERVICIOS, POLIZAS Y MANTENIMIENTO INTEGRAL VICO SA DE CV","Z313374010",1,204433.07]
[null,null,null,{"$f":"COUNTIF($E$1:E17582,consulta!$D$1)","v":0},"MARTY ANGEL DIAZ","Z313374810",1,750.44]
[null,null,null,{"$f":"COUNTIF($E$1:E17592,consulta!$D$1)","v":0},"VOGA BOUTIQUE S DE RL DE CV","Z313375810",1,742.39]
[null,null,null,{"$f":"COUNTIF($E$1:E17607,consulta!$D$1)","v":0},"DECABA COCINAS Y MUEBLES MODULARES SA DE CV","Z313377610",1,3047.16]
[null,null,null,{"$f":"COUNTIF($E$1:E17619,consulta!$D$1)","v":0},"OXXO EXPRESS SA DE CV","Z313381710",1,2185.2199999999998]
[null,null,null,{"$f":"COUNTIF($E$1:E17637,consulta!$D$1)","v":0},"MIGUEL ANGEL CARRANZA VALDEZ","Z313385110",2,2615.66]
[null,null,null,{"$f":"COUNTIF($E$1:E17654,consulta!$D$1)","v":0},"JOSE ROGELIO NU#EZ OSUNA","Z313386110",1,420.55]
[null,null,null,{"$f":"COUNTIF($E$1:E17667,consulta!$D$1)","v":0},"CLAUDIA MARIBEL MARAVEL PI#ON","Z313386610",1,1074.44]
[null,null,null,{"$f":"COUNTIF($E$1:E17682,consulta!$D$1)","v":0},"ALLAN PONCE DE LEON PONCE DE LEON","Z313386910",1,902.28]
[null,null,null,{"$f":"COUNTIF($E$1:E17705,consulta!$D$1)","v":0},"PYA INGENIERIA S DE RL DE CV","Z313389710",2,26384.32]
[null,null,null,{"$f":"COUNTIF($E$1:E17712,consulta!$D$1)","v":0},"REDES Y SOLUCIONES EN ACERO SA DE CV","Z313390810",1,96056.74]
[null,null,null,{"$f":"COUNTIF($E$1:E17722,consulta!$D$1)","v":0},"CRISTIAN GARCIA PEREZ","Z313391510",1,2565.75]
[null,null,null,{"$f":"COUNTIF($E$1:E17742,consulta!$D$1)","v":0},"JESUS FERMIN MERCADO ALMADER","Z313394110",1,995.3]
[null,null,null,{"$f":"COUNTIF($E$1:E17757,consulta!$D$1)","v":0},"MARTHA LETICIA HUERTA LARIOS","Z313396510",1,4229.4799999999996]
[null,null,null,{"$f":"COUNTIF($E$1:E17777,consulta!$D$1)","v":0},"INMOBILIARIA VILLA DEL ALAMAR SA DE CV","Z313396810",1,1710.18]
[null,null,null,{"$f":"COUNTIF($E$1:E17787,consulta!$D$1)","v":0},"MAV CONSTRUCCIONES Y SERVICIOS BAJA S DE RL DE CV","Z313400610",1,13746.57]
[null,null,null,{"$f":"COUNTIF($E$1:E17802,consulta!$D$1)","v":0},"RAMON ALEJANDRO GARCIA MENDEZ","Z313402510",1,742.39]
[null,null,null,{"$f":"COUNTIF($E$1:E17814,consulta!$D$1)","v":0},"COPELLAZO S DE RL DE CV","Z313405010",1,4163.9399999999996]
[null,null,null,{"$f":"COUNTIF($E$1:E17832,consulta!$D$1)","v":0},"COPELLAZO S DE RL DE CV","Z313405010",1,1665.57]
[null,null,null,{"$f":"COUNTIF($E$1:E17849,consulta!$D$1)","v":0},"FERMIN SERRANO BARRON","Z313407610",1,730.23]
[null,null,null,{"$f":"COUNTIF($E$1:E17862,consulta!$D$1)","v":0},"FERMIN SERRANO BARRON","Z313407610",1,296.95]
[null,null,null,{"$f":"COUNTIF($E$1:E17877,consulta!$D$1)","v":0},"FERMIN SERRANO BARRON","Z313407610",1,454.81]
[null,null,null,{"$f":"COUNTIF($E$1:E17886,consulta!$D$1)","v":0},"MARIA DEL REFUGIO ROMO ESPITIA","Z313408310",1,742.39]
[null,null,null,{"$f":"COUNTIF($E$1:E17907,consulta!$D$1)","v":0},"HECTOR JAVIER LUNA LOPEZ","Z313410110",1,2741.76]
[null,null,null,{"$f":"COUNTIF($E$1:E17917,consulta!$D$1)","v":0},"CDK METALES S DE RL DE CV","Z313410910",1,939.96]
[null,null,null,{"$f":"COUNTIF($E$1:E17937,consulta!$D$1)","v":0},"CDK METALES S DE RL DE CV","Z313410910",1,1004.79]
[null,null,null,{"$f":"COUNTIF($E$1:E17952,consulta!$D$1)","v":0},"GRANITE GALERY S DE RL DE CV","Z313414910",1,13880.16]
[null,null,null,{"$f":"COUNTIF($E$1:E17958,consulta!$D$1)","v":0},"VIDRALM DE B.C. S DE RL DE CV","Z313415910",2,2643.24]
[null,null,null,{"$f":"COUNTIF($E$1:E17982,consulta!$D$1)","v":0},"ELSY EDUVIGES LOPEZ DEL REAL","Z313417210",1,296.95]
[null,null,null,{"$f":"COUNTIF($E$1:E17989,consulta!$D$1)","v":0},"SCARLETT ADRIANA CONTRERAS MC ALEER","Z313418510",1,363.43]
[null,null,null,{"$f":"COUNTIF($E$1:E18012,consulta!$D$1)","v":0},"ROCIO MARTINEZ RUIZ","Z313418610",1,5551.26]
[null,null,null,{"$f":"COUNTIF($E$1:E18027,consulta!$D$1)","v":0},"CONTROL RVH SC","Z313419210",1,528.70000000000005]
[null,null,null,{"$f":"COUNTIF($E$1:E18030,consulta!$D$1)","v":0},"EDUARDO MACIAS BERNAL","Z313419710",1,864.09]
[null,null,null,{"$f":"COUNTIF($E$1:E18042,consulta!$D$1)","v":0},null,"Z313422810",1,1737.6]
[null,null,null,{"$f":"COUNTIF($E$1:E18057,consulta!$D$1)","v":0},"DUCEM INFRAESTRUCTURA Y CONSTRUCCION SAS DE CV","Z313426610",1,873.82]
[null,null,null,{"$f":"COUNTIF($E$1:E18081,consulta!$D$1)","v":0},"ARCADIO GADIEL CASTA#EDA ZU#IGA","Z313429010",1,371.13]
[null,null,null,{"$f":"COUNTIF($E$1:E18087,consulta!$D$1)","v":0},"MONICA TRINIDAD GONZALEZ GRANADOS","Z313432710",1,762.1]
[null,null,null,{"$f":"COUNTIF($E$1:E18112,consulta!$D$1)","v":0},"EXCELENTE IMPORTACIONES Y EXPORTACIONES SA DE CV","Z313436610",1,19712.77]
[null,null,null,{"$f":"COUNTIF($E$1:E18117,consulta!$D$1)","v":0},"EXCELENTE IMPORTACIONES Y EXPORTACIONES SA DE CV","Z313436610",1,19567.259999999998]
[null,null,null,{"$f":"COUNTIF($E$1:E18132,consulta!$D$1)","v":0},"JESUS ARMANDO GARCIA AVILA","Z313438510",1,865.81]
[null,null,null,{"$f":"COUNTIF($E$1:E18153,consulta!$D$1)","v":0},"JESUS ARMANDO GARCIA AVILA","Z313438510",1,927.83]
[null,null,null,{"$f":"COUNTIF($E$1:E18162,consulta!$D$1)","v":0},"JESUS ARMANDO GARCIA AVILA","Z313438510",1,371.13]
[null,null,null,{"$f":"COUNTIF($E$1:E18184,consulta!$D$1)","v":0},"PEDRO ANTONIO VARGAS MADRIGAL","Z313438610",1,371.13]
[null,null,null,{"$f":"COUNTIF($E$1:E18192,consulta!$D$1)","v":0},"SEPRIBAJA S DE RL DE CV","Z313439210",1,13083.1]
[null,null,null,{"$f":"COUNTIF($E$1:E18207,consulta!$D$1)","v":0},"SEPRIBAJA S DE RL DE CV","Z313439210",1,5048.25]
[null,null,null,{"$f":"COUNTIF($E$1:E18221,consulta!$D$1)","v":0},"ALFREDO YOSEFT DIAZ LOPEZ","Z313442110",1,48.68]
[null,null,null,{"$f":"COUNTIF($E$1:E18237,consulta!$D$1)","v":0},"COMERCIALIZADORA EN TELECOMUNICACIONES EXTERNA SA DE CV","Z313450010",1,2225.2600000000002]
[null,null,null,{"$f":"COUNTIF($E$1:E18256,consulta!$D$1)","v":0},"GRUPO COMERCIALIZADOR DE VIVIENDA DEL NOROESTE S DE RL DE CV","Z313451710",1,948.4]
[null,null,null,{"$f":"COUNTIF($E$1:E18267,consulta!$D$1)","v":0},"VALORES UNIVERSALES DE RECOLECCION DE RECURSOS Y OPERACIONES SA DE CV","Z313453110",1,10510.37]
[null,null,null,{"$f":"COUNTIF($E$1:E18282,consulta!$D$1)","v":0},"ABASTECEDORA DE POLLO CALIFORNIA SA DE CV","Z313457910",1,5596.86]
[null,null,null,{"$f":"COUNTIF($E$1:E18293,consulta!$D$1)","v":0},"GONVARRI MS BAJA CALIFORNIA SA DE CV","Z313463410",1,4672.1400000000003]
[null,null,null,{"$f":"COUNTIF($E$1:E18312,consulta!$D$1)","v":0},"JOSE LUIS BALCAZAR CAAMAL","Z313463610",1,932.07]
[null,null,null,{"$f":"COUNTIF($E$1:E18328,consulta!$D$1)","v":0},"ERIKA MARISELA BARONA BERNARDINO","Z313464710",1,2250.33]
[null,null,null,{"$f":"COUNTIF($E$1:E18342,consulta!$D$1)","v":0},"INGENIERIA Y PROYECTOS REANDART SA DE CV","Z313466810",1,5418.89]
[null,null,null,{"$f":"COUNTIF($E$1:E18357,consulta!$D$1)","v":0},"PROTECCION Y ALARMAS CDMX SA DE CV","Z313468410",1,88099.45]
[null,null,null,{"$f":"COUNTIF($E$1:E18365,consulta!$D$1)","v":0},"PROTECCION Y ALARMAS CDMX SA DE CV","Z313468410",1,43268.12]
[null,null,null,{"$f":"COUNTIF($E$1:E18387,consulta!$D$1)","v":0},"HERRERIA GUAYCURA S DE RL DE CV","Z313473510",1,5058.68]
[null,null,null,{"$f":"COUNTIF($E$1:E18402,consulta!$D$1)","v":0},"RUBEN CAZARES OCHOA","Z313473810",1,3746.72]
[null,null,null,{"$f":"COUNTIF($E$1:E18416,consulta!$D$1)","v":0},"RUBEN CAZARES OCHOA","Z313473810",1,1498.68]
[null,null,null,{"$f":"COUNTIF($E$1:E18432,consulta!$D$1)","v":0},"JESUS MANUEL YA#EZ SEGURA","Z313474110",1,1414.26]
[null,null,null,{"$f":"COUNTIF($E$1:E18437,consulta!$D$1)","v":0},"JESUS MANUEL YA#EZ SEGURA","Z313474110",1,1020.61]
[null,null,null,{"$f":"COUNTIF($E$1:E18462,consulta!$D$1)","v":0},"ALMA HERLINDA PEREZ GARCIA","Z313476410",1,1111.56]
[null,null,null,{"$f":"COUNTIF($E$1:E18477,consulta!$D$1)","v":0},"MILKY WOAY SA DE CV","Z313476710",1,84294.95]
[null,null,null,{"$f":"COUNTIF($E$1:E18488,consulta!$D$1)","v":0},"JUAN ANTONIO SALGUERO LOPEZ","Z313478210",2,9053.0400000000009]
[null,null,null,{"$f":"COUNTIF($E$1:E18507,consulta!$D$1)","v":0},"MARCELLA LUCIA FUNCKE TORRES","Z313478910",1,1441.83]
[null,null,null,{"$f":"COUNTIF($E$1:E18523,consulta!$D$1)","v":0},"JOSE MANUEL MORALES DOMINGUEZ","Z313484010",1,3735.11]
[null,null,null,{"$f":"COUNTIF($E$1:E18537,consulta!$D$1)","v":0},"ARTURO VALDEZ MARTINEZ","Z313485510",1,1265.7]
[null,null,null,{"$f":"COUNTIF($E$1:E18552,consulta!$D$1)","v":0},"KNOWLEDGE CITY LLC SIN TIPO DE SOCIEDAD","Z313488710",1,3069.41]
[null,null,null,{"$f":"COUNTIF($E$1:E18560,consulta!$D$1)","v":0},"CENMAR AUTOPARTES SA DE CV","Z313489910",1,6970.94]
[null,null,null,{"$f":"COUNTIF($E$1:E18582,consulta!$D$1)","v":0},"PRISCILIA LEY MEDINA","Z313494010",1,296.95]
[null,null,null,{"$f":"COUNTIF($E$1:E18595,consulta!$D$1)","v":0},"PRISCILIA LEY MEDINA","Z313494010",1,1351.42]
[null,null,null,{"$f":"COUNTIF($E$1:E18611,consulta!$D$1)","v":0},"MAQUINADOS INDUSTRIALES Y EMBOBINADOS FG SA DE CV","Z313496010",1,15652.8]
[null,null,null,{"$f":"COUNTIF($E$1:E18612,consulta!$D$1)","v":0},"MAQUINADOS INDUSTRIALES Y EMBOBINADOS FG SA DE CV","Z313496010",1,20119.47]
[null,null,null,{"$f":"COUNTIF($E$1:E18632,consulta!$D$1)","v":0},"PIEDRA Y BARRO DEL NOROESTE S DE RL DE CV","Z313501710",1,1549.22]
[null,null,null,{"$f":"COUNTIF($E$1:E18642,consulta!$D$1)","v":0},"JOSE GUADALUPE ENRIQUEZ GARCIA","Z313503910",1,742.39]
[null,null,null,{"$f":"COUNTIF($E$1:E18657,consulta!$D$1)","v":0},"ARTURO URIBE CARRETE","Z313507410",1,841.1]
[null,null,null,{"$f":"COUNTIF($E$1:E18683,consulta!$D$1)","v":0},"RICARDO ALEJANDRO VAZQUEZ SANTILLAN","Z313509410",1,5088.13]
[null,null,null,{"$f":"COUNTIF($E$1:E18687,consulta!$D$1)","v":0},"ROLANDO ANTONIO ESCOBEDO MU#OZ","Z313510510",1,372.82]
[null,null,null,{"$f":"COUNTIF($E$1:E18704,consulta!$D$1)","v":0},"ALMA CELESTE GARCIA MEZA","Z313511010",1,813.97]
[null,null,null,{"$f":"COUNTIF($E$1:E18716,consulta!$D$1)","v":0},"BRILLOTEC S DE RL DE CV","Z313511610",1,3711.95]
[null,null,null,{"$f":"COUNTIF($E$1:E18732,consulta!$D$1)","v":0},"PROTECCION Y CUSTODIA EMPRESARIAL S DE RL DE CV","Z313512610",1,56983.68]
[null,null,null,{"$f":"COUNTIF($E$1:E18755,consulta!$D$1)","v":0},"JOSE LUIS CARLOS CHAVEZ","Z313518610",1,1500.48]
[null,null,null,{"$f":"COUNTIF($E$1:E18762,consulta!$D$1)","v":0},"JORGE EDUARDO PATI#O RAMIREZ","Z313519410",1,1423.9]
[null,null,null,{"$f":"COUNTIF($E$1:E18776,consulta!$D$1)","v":0},"CRISTINA MARIA MALDONADO FREGOSO","Z313521010",1,925.21]
[null,null,null,{"$f":"COUNTIF($E$1:E18791,consulta!$D$1)","v":0},"PIPAD SA DE CV","Z313522710",1,1737.6]
[null,null,null,{"$f":"COUNTIF($E$1:E18807,consulta!$D$1)","v":0},"MARIA DE LA LUZ CHAVEZ ADRIANO","Z313523910",1,927.83]
[null,null,null,{"$f":"COUNTIF($E$1:E18827,consulta!$D$1)","v":0},"ARTURO VALDES MENDOZA","Z313525310",2,7845.8]
[null,null,null,{"$f":"COUNTIF($E$1:E18837,consulta!$D$1)","v":0},"ARTURO VALDES MENDOZA","Z313525310",1,42462.52]
[null,null,null,{"$f":"COUNTIF($E$1:E18848,consulta!$D$1)","v":0},"ARTURO VALDES MENDOZA","Z313525310",1,110728.15]
[null,null,null,{"$f":"COUNTIF($E$1:E18866,consulta!$D$1)","v":0},"EXPORTACION E IMPORTACION DEL NOROESTE SA DE CV","Z313532810",1,5012.62]
[null,null,null,{"$f":"COUNTIF($E$1:E18882,consulta!$D$1)","v":0},"EXPORTACION E IMPORTACION DEL NOROESTE SA DE CV","Z313532810",1,9983.92]
[null,null,null,{"$f":"COUNTIF($E$1:E18899,consulta!$D$1)","v":0},"GRUPO FAMILIAR DE MANUFACTURA SA DE CV","Z313534310",1,11652.28]
[null,null,null,{"$f":"COUNTIF($E$1:E18911,consulta!$D$1)","v":0},"GRUPO FAMILIAR DE MANUFACTURA SA DE CV","Z313534310",1,13304.11]
[null,null,null,{"$f":"COUNTIF($E$1:E18920,consulta!$D$1)","v":0},"GRUPO FAMILIAR DE MANUFACTURA SA DE CV","Z313534310",1,11760.71]
[null,null,null,{"$f":"COUNTIF($E$1:E18941,consulta!$D$1)","v":0},"FM SERVICIOS CONTABLES Y FISCALES SC","Z313536710",1,1110.01]
[null,null,null,{"$f":"COUNTIF($E$1:E18957,consulta!$D$1)","v":0},"GRUPO CONSTRUCTOR W34 SA DE CV","Z313539910",1,540.55999999999995]
[null,null,null,{"$f":"COUNTIF($E$1:E18971,consulta!$D$1)","v":0},"OUTPATIENT CALL SOLUTIONS S DE RL DE CV","Z313542110",1,652.69000000000005]
[null,null,null,{"$f":"COUNTIF($E$1:E18986,consulta!$D$1)","v":0},"COMERCIALIZADORA MELERO PLASTICS S DE RL DE CV","Z313545910",1,1895.84]
[null,null,null,{"$f":"COUNTIF($E$1:E19002,consulta!$D$1)","v":0},"MARTHA ALICIA CASTA#EDA MORAN","Z313547710",1,296.95]
[null,null,null,{"$f":"COUNTIF($E$1:E19008,consulta!$D$1)","v":0},"JUAN JOSE DIAZ RUIZ","Z313550110",1,281.12]
[null,null,null,{"$f":"COUNTIF($E$1:E19031,consulta!$D$1)","v":0},"ANTONIO GONZALEZ JIMENEZ","Z313552610",1,355.36]
[null,null,null,{"$f":"COUNTIF($E$1:E19043,consulta!$D$1)","v":0},"TERENTIA S DE RL DE CV","Z313556410",1,4933.2700000000004]
[null,null,null,{"$f":"COUNTIF($E$1:E19061,consulta!$D$1)","v":0},"IT STEP ACADEMY INTERNATIONAL SC","Z313559410",1,4623.2700000000004]
[null,null,null,{"$f":"COUNTIF($E$1:E19077,consulta!$D$1)","v":0},"JOSE ALONSO HERNANDEZ RAMIREZ","Z313563310",1,6319.32]
[null,null,null,{"$f":"COUNTIF($E$1:E19080,consulta!$D$1)","v":0},"MARISELA MONDRAGON MONROY","Z313564810",1,730.23]
[null,null,null,{"$f":"COUNTIF($E$1:E19106,consulta!$D$1)","v":0},"MARISELA MONDRAGON MONROY","Z313564810",1,385.25]
[null,null,null,{"$f":"COUNTIF($E$1:E19115,consulta!$D$1)","v":0},"OPERADORA LA CERVE SA DE CV","Z313566810",1,998.5]
[null,null,null,{"$f":"COUNTIF($E$1:E19136,consulta!$D$1)","v":0},"PG MARKETING, MEDIA Y COMUNICACION SA DE CV","Z313568710",2,1083.68]
[null,null,null,{"$f":"COUNTIF($E$1:E19152,consulta!$D$1)","v":0},"QSR SERVICIOS INTEGRALES S DE RL DE CV","Z313571310",2,16916.04]
[null,null,null,{"$f":"COUNTIF($E$1:E19166,consulta!$D$1)","v":0},"YAMEL YARELI COTA OJEDA","Z313572210",1,44125.9]
[null,null,null,{"$f":"COUNTIF($E$1:E19181,consulta!$D$1)","v":0},"PADCO CONSTRUCCIONES SAS DE CV","Z313572710",1,2227.17]
[null,null,null,{"$f":"COUNTIF($E$1:E19187,consulta!$D$1)","v":0},"PADCO CONSTRUCCIONES SAS DE CV","Z313572710",1,1449.57]
[null,null,null,{"$f":"COUNTIF($E$1:E19196,consulta!$D$1)","v":0},"PADCO CONSTRUCCIONES SAS DE CV","Z313572710",1,1621.7]
[null,null,null,{"$f":"COUNTIF($E$1:E19211,consulta!$D$1)","v":0},"ESTEBAN GAMALIEL PIZA#A TORRES","Z313574010",1,13631.02]
[null,null,null,{"$f":"COUNTIF($E$1:E19238,consulta!$D$1)","v":0},"JUAN CARLOS FALCON TELLEZ","Z313575710",1,296.95]
[null,null,null,{"$f":"COUNTIF($E$1:E19241,consulta!$D$1)","v":0},"INSTITUTO PHILIA SC","Z313576810",1,742.39]
[null,null,null,{"$f":"COUNTIF($E$1:E19257,consulta!$D$1)","v":0},"ENRIQUE CALDERON CUEVAS","Z313577910",1,742.39]
[null,null,null,{"$f":"COUNTIF($E$1:E19275,consulta!$D$1)","v":0},"MARIA DEL CARMEN SANCHEZ FLORES","Z313578610",1,811.72]
[null,null,null,{"$f":"COUNTIF($E$1:E19286,consulta!$D$1)","v":0},"JOSE DOMINGUEZ RODRIGUEZ","Z313579910",1,1187.82]
[null,null,null,{"$f":"COUNTIF($E$1:E19310,consulta!$D$1)","v":0},"ANGEL MAURICIO COSIO FUENTES","Z313580710",1,1484.78]
[null,null,null,{"$f":"COUNTIF($E$1:E19316,consulta!$D$1)","v":0},"GABRIEL JUAREZ ROBLES","Z313584410",2,1549.77]
[null,null,null,{"$f":"COUNTIF($E$1:E19332,consulta!$D$1)","v":0},"LAURA ANGELICA AVILA AMAYA","Z313587710",1,5236.05]
[null,null,null,{"$f":"COUNTIF($E$1:E19347,consulta!$D$1)","v":0},"LAURA ANGELICA AVILA AMAYA","Z313587710",1,1987.03]
[null,null,null,{"$f":"COUNTIF($E$1:E19361,consulta!$D$1)","v":0},"PABLO AREVALO LEON","Z313589210",1,5024.84]
[null,null,null,{"$f":"COUNTIF($E$1:E19382,consulta!$D$1)","v":0},"PABLO AREVALO LEON","Z313589210",1,5405.68]
[null,null,null,{"$f":"COUNTIF($E$1:E19391,consulta!$D$1)","v":0},"PABLO AREVALO LEON","Z313589210",1,2162.27]
[null,null,null,{"$f":"COUNTIF($E$1:E19406,consulta!$D$1)","v":0},"ANDRES DELGADO RODRIGUEZ","Z313592510",1,1449.92]
[null,null,null,{"$f":"COUNTIF($E$1:E19419,consulta!$D$1)","v":0},"MEDIA INDEX LATAM","Z313594010",1,1189.43]
[null,null,null,{"$f":"COUNTIF($E$1:E19436,consulta!$D$1)","v":0},"JUANA SANCHEZ TOLENTINO","Z313596810",1,1084.5999999999999]
[null,null,null,{"$f":"COUNTIF($E$1:E19454,consulta!$D$1)","v":0},"EDITH ALEJANDRA PUENTES DIAZ","Z313601710",1,1200.23]
[null,null,null,{"$f":"COUNTIF($E$1:E19466,consulta!$D$1)","v":0},"EDITH ALEJANDRA PUENTES DIAZ","Z313601710",1,634.1]
[null,null,null,{"$f":"COUNTIF($E$1:E19481,consulta!$D$1)","v":0},"ERNESTO FAUSTINO DIAZ MARTINEZ","Z313603310",1,431.53]
[null,null,null,{"$f":"COUNTIF($E$1:E19491,consulta!$D$1)","v":0},"SANTOS AYALA DELGADO","Z313607810",1,683.84]
[null,null,null,{"$f":"COUNTIF($E$1:E19511,consulta!$D$1)","v":0},"JUAN YAIR BALLESTEROS VALADEZ","Z313610310",1,2459.67]
[null,null,null,{"$f":"COUNTIF($E$1:E19526,consulta!$D$1)","v":0},"JESUS MANUEL BUENO GARCIA","Z313611810",1,296.95]
[null,null,null,{"$f":"COUNTIF($E$1:E19542,consulta!$D$1)","v":0},"VAMSA PLUS MEXICO SA DE CV","Z313612110",2,149581.29999999999]
[null,null,null,{"$f":"COUNTIF($E$1:E19556,consulta!$D$1)","v":0},"RUBEN CEDANO VELAZQUEZ","Z313612810",1,14632.68]
[null,null,null,{"$f":"COUNTIF($E$1:E19563,consulta!$D$1)","v":0},"RUBEN CEDANO VELAZQUEZ","Z313612810",1,14053.95]
[null,null,null,{"$f":"COUNTIF($E$1:E19586,consulta!$D$1)","v":0},"AARON ACOSTA GARCIA","Z313614810",1,461.21]
[null,null,null,{"$f":"COUNTIF($E$1:E19601,consulta!$D$1)","v":0},"COLORADO INDUSTRIAL SUPPLY S DE RL DE CV","Z313621910",1,16848.72]
[null,null,null,{"$f":"COUNTIF($E$1:E19614,consulta!$D$1)","v":0},"FUERZA EXTRA S DE RL DE CV","Z313625710",1,1504.54]
[null,null,null,{"$f":"COUNTIF($E$1:E19631,consulta!$D$1)","v":0},"DAVID EVARISTO RAMIREZ","Z313627510",1,907.78]
[null,null,null,{"$f":"COUNTIF($E$1:E19635,consulta!$D$1)","v":0},"INGENIERIA ARQUITECTONICA DE LA BAJA SA DE CV","Z313627910",1,742.46]
[null,null,null,{"$f":"COUNTIF($E$1:E19661,consulta!$D$1)","v":0},"GRUPO LUTT GON SA DE CV","Z313629910",1,19074.830000000002]
[null,null,null,{"$f":"COUNTIF($E$1:E19676,consulta!$D$1)","v":0},"GRUPO LUTT GON SA DE CV","Z313629910",1,44886.82]
[null,null,null,{"$f":"COUNTIF($E$1:E19686,consulta!$D$1)","v":0},"GRUPO LUTT GON SA DE CV","Z313629910",1,14993.71]
[null,null,null,{"$f":"COUNTIF($E$1:E19706,consulta!$D$1)","v":0},"ELVIRA CAROLINA HERNANDEZ PELAYO","Z313633910",1,867.96]
[null,null,null,{"$f":"COUNTIF($E$1:E19717,consulta!$D$1)","v":0},"ELVIRA CAROLINA HERNANDEZ PELAYO","Z313633910",1,371.13]
[null,null,null,{"$f":"COUNTIF($E$1:E19736,consulta!$D$1)","v":0},"HAMMURABI NAHUM HARO ORTIZ","Z313634510",1,239.44]
[null,null,null,{"$f":"COUNTIF($E$1:E19751,consulta!$D$1)","v":0},"AG CONSULTORIA ADMINISTRATIVA FISCAL FINANCIERA SAS DE CV","Z313636510",1,11848.7]
[null,null,null,{"$f":"COUNTIF($E$1:E19758,consulta!$D$1)","v":0},"AG CONSULTORIA ADMINISTRATIVA FISCAL FINANCIERA SAS DE CV","Z313636510",1,37568.35]
[null,null,null,{"$f":"COUNTIF($E$1:E19766,consulta!$D$1)","v":0},"AG CONSULTORIA ADMINISTRATIVA FISCAL FINANCIERA SAS DE CV","Z313636510",1,12249.49]
[null,null,null,{"$f":"COUNTIF($E$1:E19789,consulta!$D$1)","v":0},"JUAN DE DIOS D.N.A. DIAZ FLORES","Z313642410",1,426.81]
[null,null,null,{"$f":"COUNTIF($E$1:E19796,consulta!$D$1)","v":0},"JUAN DE DIOS D.N.A. DIAZ FLORES","Z313642410",1,1032.6099999999999]
[null,null,null,{"$f":"COUNTIF($E$1:E19811,consulta!$D$1)","v":0},"ROSA SOTO VELASCO","Z313643910",1,925.21]
[null,null,null,{"$f":"COUNTIF($E$1:E19826,consulta!$D$1)","v":0},"MARINA AIDEE MANCILLAS ARELLANO","Z313644310",2,2041.32]
[null,null,null,{"$f":"COUNTIF($E$1:E19841,consulta!$D$1)","v":0},"MARINA AIDEE MANCILLAS ARELLANO","Z313644310",1,843.74]
[null,null,null,{"$f":"COUNTIF($E$1:E19856,consulta!$D$1)","v":0},"LUIS RICARDO VILLEGAS BRAVO","Z313647710",1,4302.46]
[null,null,null,{"$f":"COUNTIF($E$1:E19881,consulta!$D$1)","v":0},"EDGAR ALAN CUELLAR PARRA","Z313656610",1,1926.26]
[null,null,null,{"$f":"COUNTIF($E$1:E19886,consulta!$D$1)","v":0},"D REYES CONFECCIONES S DE RL DE CV","Z313656710",1,5311.69]
[null,null,null,{"$f":"COUNTIF($E$1:E19898,consulta!$D$1)","v":0},"OPERADORA DE NEGOCIOS Y FRANQUICIAS SEMA SA DE CV","Z313656910",1,6540.36]
[null,null,null,{"$f":"COUNTIF($E$1:E19916,consulta!$D$1)","v":0},"GRUPO LAMINS S DE RL DE CV","Z313658210",1,2106.56]
[null,null,null,{"$f":"COUNTIF($E$1:E19931,consulta!$D$1)","v":0},"MAYRA JULIANA RODRIGUEZ VERA","Z313659810",1,372.82]
[null,null,null,{"$f":"COUNTIF($E$1:E19953,consulta!$D$1)","v":0},"RV CONSULTORES DE MEXICO SC","Z313663010",1,14297.32]
[null,null,null,{"$f":"COUNTIF($E$1:E19961,consulta!$D$1)","v":0},"ESTERIMEX SOLUCIONES S DE RL DE CV","Z313664210",1,3257.36]
[null,null,null,{"$f":"COUNTIF($E$1:E19984,consulta!$D$1)","v":0},"ELIZABETH CUEVAS RAMIREZ","Z313668510",1,925.21]
[null,null,null,{"$f":"COUNTIF($E$1:E19991,consulta!$D$1)","v":0},"MARIA RAMIREZ VELEZ","Z313670510",1,511.16]
[null,null,null,{"$f":"COUNTIF($E$1:E20006,consulta!$D$1)","v":0},"SALCO INSTALACIONES SA DE CV","Z313672310",1,1504.48]
[null,null,null,{"$f":"COUNTIF($E$1:E20021,consulta!$D$1)","v":0},"KESLE S DE RL DE CV","Z313674510",1,10078.870000000001]
[null,null,null,{"$f":"COUNTIF($E$1:E20036,consulta!$D$1)","v":0},"ROMAN DE LOS SANTOS MOLINA","Z313676710",1,754.56]
[null,null,null,{"$f":"COUNTIF($E$1:E20056,consulta!$D$1)","v":0},"PAOLA CITLALLI CARDENAS CAMACHO","Z313678210",1,1070.43]
[null,null,null,{"$f":"COUNTIF($E$1:E20066,consulta!$D$1)","v":0},"ALONDRA VANESSA CAMACHO GASTELUM","Z313683610",1,55155.37]
[null,null,null,{"$f":"COUNTIF($E$1:E20081,consulta!$D$1)","v":0},"TERESA DE JESUS MANZANAREZ VALDES","Z313686410",1,867.96]
[null,null,null,{"$f":"COUNTIF($E$1:E20093,consulta!$D$1)","v":0},"CONSTRUCTORA VMSL S DE RL DE CV","Z313688110",1,1133.44]
[null,null,null,{"$f":"COUNTIF($E$1:E20111,consulta!$D$1)","v":0},"JUMODE INMOBILIARIA SA DE CV","Z313690210",1,64644.08]
[null,null,null,{"$f":"COUNTIF($E$1:E20126,consulta!$D$1)","v":0},"LEOPOLDO YA#EZ NAVARRO","Z313694010",1,1349.89]
[null,null,null,{"$f":"COUNTIF($E$1:E20134,consulta!$D$1)","v":0},"RMR CORPORACION TACTICA DE SERVICIO Y PROTECCION SA DE CV","Z313694410",1,9205.6299999999992]
[null,null,null,{"$f":"COUNTIF($E$1:E20156,consulta!$D$1)","v":0},"JOSE LUIS MU#IZ DEL TORO","Z313696210",1,622.48]
[null,null,null,{"$f":"COUNTIF($E$1:E20165,consulta!$D$1)","v":0},"JOSE LUIS MU#IZ DEL TORO","Z313696210",1,2020.24]
[null,null,null,{"$f":"COUNTIF($E$1:E20186,consulta!$D$1)","v":0},"ELID VAZQUEZ PEREZ","Z313699610",1,742.39]
[null,null,null,{"$f":"COUNTIF($E$1:E20201,consulta!$D$1)","v":0},"AURORA GARCIA HENKEL","Z313701510",1,925.21]
[null,null,null,{"$f":"COUNTIF($E$1:E20216,consulta!$D$1)","v":0},"ARQUITECTURA DISE#O Y CONSTRUCCION GOPE S DE RL DE CV","Z313702810",1,10235.450000000001]
[null,null,null,{"$f":"COUNTIF($E$1:E20231,consulta!$D$1)","v":0},"ROCA MAR TIJUANA SA","Z313703010",1,2227.17]
[null,null,null,{"$f":"COUNTIF($E$1:E20237,consulta!$D$1)","v":0},"ROCA MAR TIJUANA SA","Z313703010",1,404.93]
[null,null,null,{"$f":"COUNTIF($E$1:E20261,consulta!$D$1)","v":0},"SOLUCIONES EMPRENDEDORAS S DE RL DE CV","Z313704310",1,2174.2199999999998]
[null,null,null,{"$f":"COUNTIF($E$1:E20276,consulta!$D$1)","v":0},"SOAACTIVITIES SA DE CV","Z313704510",1,2864.6]
[null,null,null,{"$f":"COUNTIF($E$1:E20288,consulta!$D$1)","v":0},"FAN FACTORY S DE RL","Z313709810",1,10632.4]
[null,null,null,{"$f":"COUNTIF($E$1:E20306,consulta!$D$1)","v":0},"MARIO CECE#A GAXIOLA","Z313713510",1,385.25]
[null,null,null,{"$f":"COUNTIF($E$1:E20309,consulta!$D$1)","v":0},"MARIA DE LA LUZ AGUIRRE","Z313714410",1,4799.55]
[null,null,null,{"$f":"COUNTIF($E$1:E20335,consulta!$D$1)","v":0},"MARIA ENGRACIA OSORIO SANCHEZ","Z313714910",1,939.7]
[null,null,null,{"$f":"COUNTIF($E$1:E20336,consulta!$D$1)","v":0},"MARIA ENGRACIA OSORIO SANCHEZ","Z313714910",1,375.88]
[null,null,null,{"$f":"COUNTIF($E$1:E20360,consulta!$D$1)","v":0},null,"Z313715710",2,580647.12]
[null,null,null,{"$f":"COUNTIF($E$1:E20366,consulta!$D$1)","v":0},"MAURICIO HERIBERTO INZUNZA IRIARTE","Z313718910",1,1342]
[null,null,null,{"$f":"COUNTIF($E$1:E20381,consulta!$D$1)","v":0},"JUAN RAMIRO URBALEJO GONZALEZ","Z313721610",1,593.91]
[null,null,null,{"$f":"COUNTIF($E$1:E20395,consulta!$D$1)","v":0},"CICLO ENERGIA SA DE CV","Z313722210",1,4324.54]
[null,null,null,{"$f":"COUNTIF($E$1:E20411,consulta!$D$1)","v":0},"DOLORES GUADALUPE TIRADO ANDRADE","Z313729910",1,655.86]
[null,null,null,{"$f":"COUNTIF($E$1:E20432,consulta!$D$1)","v":0},"GILBERTO VILLALOBOS MARTINEZ","Z313733810",2,1484.34]
[null,null,null,{"$f":"COUNTIF($E$1:E20441,consulta!$D$1)","v":0},"GILBERTO VILLALOBOS MARTINEZ","Z313733810",2,564.76]
[null,null,null,{"$f":"COUNTIF($E$1:E20456,consulta!$D$1)","v":0},"MIGUEL ALBERTO ZU#IGA PEREZ","Z313740510",1,742.39]
[null,null,null,{"$f":"COUNTIF($E$1:E20469,consulta!$D$1)","v":0},"XTENDER RECURSOS SC","Z313743610",1,8180.16]
[null,null,null,{"$f":"COUNTIF($E$1:E20486,consulta!$D$1)","v":0},"BANI BALBUENA AGUILAR","Z313744710",1,765.55]
[null,null,null,{"$f":"COUNTIF($E$1:E20504,consulta!$D$1)","v":0},"BANI BALBUENA AGUILAR","Z313744710",1,1376.43]
[null,null,null,{"$f":"COUNTIF($E$1:E20515,consulta!$D$1)","v":0},"ADMINISTRADORA DE PROFESIONALES DE LA BAJA SA DE CV","Z313745010",1,26983.34]
[null,null,null,{"$f":"COUNTIF($E$1:E20531,consulta!$D$1)","v":0},"EDUARDO MARTIN MARTIN","Z313746110",1,813.28]
[null,null,null,{"$f":"COUNTIF($E$1:E20541,consulta!$D$1)","v":0},"EDUARDO MARTIN MARTIN","Z313746110",1,320.06]
[null,null,null,{"$f":"COUNTIF($E$1:E20561,consulta!$D$1)","v":0},"POWERPLASTICS SA DE CV","Z313747610",1,565.88]
[null,null,null,{"$f":"COUNTIF($E$1:E20576,consulta!$D$1)","v":0},"JOSE DANIEL ISORDIA BAUTISTA","Z313750410",1,2227.17]
[null,null,null,{"$f":"COUNTIF($E$1:E20590,consulta!$D$1)","v":0},"JORGE MANUEL LOMELI CAMACHO","Z313751110",1,2928.99]
[null,null,null,{"$f":"COUNTIF($E$1:E20606,consulta!$D$1)","v":0},"VIGA ROJA SAS DE CV","Z313754310",1,2647.39]
[null,null,null,{"$f":"COUNTIF($E$1:E20627,consulta!$D$1)","v":0},"NATALIA CALVARIO PARRA","Z313757110",1,2722.03]
[null,null,null,{"$f":"COUNTIF($E$1:E20636,consulta!$D$1)","v":0},"GRUPO NECESITO SA DE CV","Z313757810",1,800.15]
[null,null,null,{"$f":"COUNTIF($E$1:E20648,consulta!$D$1)","v":0},"IMPRESIONES ROYASA Y COMERCIALIZADORA SA DE CV","Z313758110",1,11771.23]
[null,null,null,{"$f":"COUNTIF($E$1:E20665,consulta!$D$1)","v":0},"ADRIANA MARIA MENDIVIL BOJORQUEZ","Z313759610",1,2034.88]
[null,null,null,{"$f":"COUNTIF($E$1:E20681,consulta!$D$1)","v":0},"LORENZA ALVAREZ MARTINEZ","Z313760310",1,2093.16]
[null,null,null,{"$f":"COUNTIF($E$1:E20699,consulta!$D$1)","v":0},"RICARDO URIEL RODRIGUEZ MARTINEZ","Z313761010",1,284.10000000000002]
[null,null,null,{"$f":"COUNTIF($E$1:E20710,consulta!$D$1)","v":0},"PHL CONSTRUCCION Y CONSULTORIA S DE RL","Z313761410",1,9730.77]
[null,null,null,{"$f":"COUNTIF($E$1:E20726,consulta!$D$1)","v":0},"OPERADORA DE PROYECTOS ALHUERT SC","Z313762710",1,2739.52]
[null,null,null,{"$f":"COUNTIF($E$1:E20736,consulta!$D$1)","v":0},"LM SEGURIDAD PRIVADA INTEGRAL SA DE CV","Z313763310",1,62526.7]
[null,null,null,{"$f":"COUNTIF($E$1:E20756,consulta!$D$1)","v":0},"CONSTRUCTORA E INMOBILIARIA MAXALA SA DE CV","Z313766810",1,12700.31]
[null,null,null,{"$f":"COUNTIF($E$1:E20771,consulta!$D$1)","v":0},"ANGEL JESUS CANO GONZALEZ","Z313767210",1,1194.43]
[null,null,null,{"$f":"COUNTIF($E$1:E20785,consulta!$D$1)","v":0},"ZACE GLOBAL SOLUCIONES","Z313769210",1,1515.48]
[null,null,null,{"$f":"COUNTIF($E$1:E20801,consulta!$D$1)","v":0},"MARCILIA PRODUCE S DE RL DE CV","Z313770910",1,9219.66]
[null,null,null,{"$f":"COUNTIF($E$1:E20808,consulta!$D$1)","v":0},"JOSE DE JESUS ESPINOZA","Z313773210",1,414.5]
[null,null,null,{"$f":"COUNTIF($E$1:E20830,consulta!$D$1)","v":0},"ILLIA GABRIELA SILVA GUTIERREZ","Z313776810",1,602.12]
[null,null,null,{"$f":"COUNTIF($E$1:E20843,consulta!$D$1)","v":0},"JUAN CARLOS OLVERA GONZALEZ","Z313780010",1,4454.34]
[null,null,null,{"$f":"COUNTIF($E$1:E20860,consulta!$D$1)","v":0},"RAMIRO LOPEZ CA#EDO","Z313780410",1,1850.42]
[null,null,null,{"$f":"COUNTIF($E$1:E20876,consulta!$D$1)","v":0},"JAMES DICKISON CRAYNE","Z313781410",1,1850.42]
[null,null,null,{"$f":"COUNTIF($E$1:E20880,consulta!$D$1)","v":0},"MAQNATRAC DESARROLLOS SA DE CV","Z313782810",1,9599.5]
[null,null,null,{"$f":"COUNTIF($E$1:E20905,consulta!$D$1)","v":0},"MAQNATRAC DESARROLLOS SA DE CV","Z313782810",1,1029]
[null,null,null,{"$f":"COUNTIF($E$1:E20915,consulta!$D$1)","v":0},"PONTE EN MARCHA SC","Z313783710",1,7152.38]
[null,null,null,{"$f":"COUNTIF($E$1:E20920,consulta!$D$1)","v":0},"PONTE EN MARCHA SC","Z313783710",1,6448.47]
[null,null,null,{"$f":"COUNTIF($E$1:E20936,consulta!$D$1)","v":0},"SERGIO ARTURO JAUREGUI PALACIOS","Z313787210",1,742.39]
[null,null,null,{"$f":"COUNTIF($E$1:E20952,consulta!$D$1)","v":0},"JOSE DANIEL FRANCO JUAREZ","Z313788410",1,959.28]
[null,null,null,{"$f":"COUNTIF($E$1:E20965,consulta!$D$1)","v":0},"INNOVECTOR BCO SA DE CV","Z313789110",2,1448.13]
[null,null,null,{"$f":"COUNTIF($E$1:E20981,consulta!$D$1)","v":0},"INNOVECTOR BCO SA DE CV","Z313789110",2,1409.9]
[null,null,null,{"$f":"COUNTIF($E$1:E21003,consulta!$D$1)","v":0},"NOEL ELISEO PE#UELAS ABOYTES","Z313794310",1,712.22]
[null,null,null,{"$f":"COUNTIF($E$1:E21010,consulta!$D$1)","v":0},"IP REUTILIZADOS S DE RL DE CV","Z313794510",1,1370.89]
[null,null,null,{"$f":"COUNTIF($E$1:E21024,consulta!$D$1)","v":0},"DANIELLA ISEL GARAY AVILA","Z313794610",1,1477.18]
[null,null,null,{"$f":"COUNTIF($E$1:E21040,consulta!$D$1)","v":0},"JOSE RAMON AVALOS SANTOYO","Z313795510",1,2609.3200000000002]
[null,null,null,{"$f":"COUNTIF($E$1:E21056,consulta!$D$1)","v":0},"GRUPO CORPORATIVO FLAYERS ZONE S DE RL DE CV","Z313796410",1,296.95]
[null,null,null,{"$f":"COUNTIF($E$1:E21075,consulta!$D$1)","v":0},"HORACIO JIMENEZ BERUMEN","Z313797410",1,382.29]
[null,null,null,{"$f":"COUNTIF($E$1:E21085,consulta!$D$1)","v":0},"HORACIO JIMENEZ BERUMEN","Z313797410",1,413.18]
[null,null,null,{"$f":"COUNTIF($E$1:E21096,consulta!$D$1)","v":0},"CONSTRUCTORES INTERNACIONALES SA DE CV","Z313799110",1,3790.38]
[null,null,null,{"$f":"COUNTIF($E$1:E21115,consulta!$D$1)","v":0},"HUBUNUSA S DE RL DE CV","Z313801010",1,2560.44]
[null,null,null,{"$f":"COUNTIF($E$1:E21130,consulta!$D$1)","v":0},"ABRAHAM OCEGUERA HERRERA","Z313804110",1,874.9]
[null,null,null,{"$f":"COUNTIF($E$1:E21147,consulta!$D$1)","v":0},"NVV CONSULTING GROUP SA DE CV","Z313808110",1,1275.92]
[null,null,null,{"$f":"COUNTIF($E$1:E21160,consulta!$D$1)","v":0},"AVANZA RECONVERSION SC","Z313809410",1,191.55]
[null,null,null,{"$f":"COUNTIF($E$1:E21182,consulta!$D$1)","v":0},"CULTI FRUT S DE RL DE CV","Z313810410",1,603.55999999999995]
[null,null,null,{"$f":"COUNTIF($E$1:E21190,consulta!$D$1)","v":0},"V2 FINE INTERIORS DE MEXICO S DE RL DE CV","Z313812710",1,13315.16]
[null,null,null,{"$f":"COUNTIF($E$1:E21205,consulta!$D$1)","v":0},"JOSE MARIANO TRILLO ALONSO","Z313815110",1,7507.72]
[null,null,null,{"$f":"COUNTIF($E$1:E21219,consulta!$D$1)","v":0},"JOSE MARIANO TRILLO ALONSO","Z313815110",1,1326.37]
[null,null,null,{"$f":"COUNTIF($E$1:E21235,consulta!$D$1)","v":0},"CONSTRUCCIONES OMNIUM SA DE CV","Z313817310",1,577.6]
[null,null,null,{"$f":"COUNTIF($E$1:E21254,consulta!$D$1)","v":0},"CONSTRUCCIONES OMNIUM SA DE CV","Z313817310",1,1346.07]
[null,null,null,{"$f":"COUNTIF($E$1:E21265,consulta!$D$1)","v":0},"INTEGRATED CLIENT SOLUTIONS S DE RL DE CV","Z313818710",1,1484.78]
[null,null,null,{"$f":"COUNTIF($E$1:E21280,consulta!$D$1)","v":0},"INTEGRATED CLIENT SOLUTIONS S DE RL DE CV","Z313818710",1,1864.14]
[null,null,null,{"$f":"COUNTIF($E$1:E21291,consulta!$D$1)","v":0},"INTEGRATED CLIENT SOLUTIONS S DE RL DE CV","Z313818710",1,770.5]
[null,null,null,{"$f":"COUNTIF($E$1:E21310,consulta!$D$1)","v":0},"BASTEN NUEVA SINERGIA SA DE CV","Z313824010",2,173943.59]
[null,null,null,{"$f":"COUNTIF($E$1:E21325,consulta!$D$1)","v":0},"GROWING MINDS SCHOOL GARDEN AC","Z313825810",1,371.13]
[null,null,null,{"$f":"COUNTIF($E$1:E21342,consulta!$D$1)","v":0},"TJKJ DE MEXICO S DE RL DE CV","Z313826910",1,21923.8]
[null,null,null,{"$f":"COUNTIF($E$1:E21355,consulta!$D$1)","v":0},"JUAN JESUS VEGA OLAIZ","Z313828610",1,2190.69]
[null,null,null,{"$f":"COUNTIF($E$1:E21363,consulta!$D$1)","v":0},"JUAN JESUS VEGA OLAIZ","Z313828610",1,939.55]
[null,null,null,{"$f":"COUNTIF($E$1:E21385,consulta!$D$1)","v":0},"JUAN JESUS VEGA OLAIZ","Z313828610",1,2098.4]
[null,null,null,{"$f":"COUNTIF($E$1:E21400,consulta!$D$1)","v":0},"MEXAR INGENIEROS SAS DE CV","Z313830310",1,2795.29]
[null,null,null,{"$f":"COUNTIF($E$1:E21414,consulta!$D$1)","v":0},"ARTICO DESARROLLO DE PROYECTOS S DE RL DE CV","Z313832810",1,53233.88]
[null,null,null,{"$f":"COUNTIF($E$1:E21430,consulta!$D$1)","v":0},"ARTICO DESARROLLO DE PROYECTOS S DE RL DE CV","Z313832810",1,75273.98]
[null,null,null,{"$f":"COUNTIF($E$1:E21435,consulta!$D$1)","v":0},"ARTICO DESARROLLO DE PROYECTOS S DE RL DE CV","Z313832810",1,38084.050000000003]
[null,null,null,{"$f":"COUNTIF($E$1:E21460,consulta!$D$1)","v":0},"IMPULSORA DEL BARRA S DE RL DE CV","Z313835610",1,59270.63]
[null,null,null,{"$f":"COUNTIF($E$1:E21475,consulta!$D$1)","v":0},"MARTHA BEATRIZ SOLTERO ANDRADE","Z313835810",1,1484.78]
[null,null,null,{"$f":"COUNTIF($E$1:E21486,consulta!$D$1)","v":0},"MARTHA BEATRIZ SOLTERO ANDRADE","Z313835810",1,770.5]
[null,null,null,{"$f":"COUNTIF($E$1:E21490,consulta!$D$1)","v":0},"MARTHA BEATRIZ SOLTERO ANDRADE","Z313835810",1,593.91]
[null,null,null,{"$f":"COUNTIF($E$1:E21517,consulta!$D$1)","v":0},"JOSE LUIS FAVELA MARTINEZ","Z313836110",1,1867.46]
[null,null,null,{"$f":"COUNTIF($E$1:E21520,consulta!$D$1)","v":0},"JOSE LUIS FAVELA MARTINEZ","Z313836110",1,722.89]
[null,null,null,{"$f":"COUNTIF($E$1:E21535,consulta!$D$1)","v":0},"ESHU OSHUN LADE SA DE CV","Z313837810",1,5977.21]
[null,null,null,{"$f":"COUNTIF($E$1:E21558,consulta!$D$1)","v":0},"POKROV SA DE CV","Z313840510",1,2577.9]
[null,null,null,{"$f":"COUNTIF($E$1:E21565,consulta!$D$1)","v":0},"POKROV SA DE CV","Z313840510",1,3650.92]
[null,null,null,{"$f":"COUNTIF($E$1:E21580,consulta!$D$1)","v":0},"MAC INDUSTRIAL CONSTRUCCION SUPPLY S DE RL DE CV","Z313842510",1,2251.9]
[null,null,null,{"$f":"COUNTIF($E$1:E21595,consulta!$D$1)","v":0},"FERNANDO REYES ORTEGA","Z313843310",1,3716.71]
[null,null,null,{"$f":"COUNTIF($E$1:E21610,consulta!$D$1)","v":0},"ANTONIO MORALES CARRERA","Z313845310",1,1850.42]
[null,null,null,{"$f":"COUNTIF($E$1:E21626,consulta!$D$1)","v":0},"VIVIANA GONZALEZ LEDESMA","Z313846810",1,3700.84]
[null,null,null,{"$f":"COUNTIF($E$1:E21640,consulta!$D$1)","v":0},"ERBAUUNG-CONSTRUCTORA SA DE CV","Z313847710",1,2081.7399999999998]
[null,null,null,{"$f":"COUNTIF($E$1:E21655,consulta!$D$1)","v":0},"RHM-CONSULTING SA DE CV","Z313848110",2,124473.9]
[null,null,null,{"$f":"COUNTIF($E$1:E21667,consulta!$D$1)","v":0},"BIOECOSISTEMA S DE RL DE CV","Z313848910",1,1830.28]
[null,null,null,{"$f":"COUNTIF($E$1:E21685,consulta!$D$1)","v":0},"CHRISTA STEPHANIA RAMIREZ CALDERA","Z313853510",1,296.95]
[null,null,null,{"$f":"COUNTIF($E$1:E21698,consulta!$D$1)","v":0},"VE SHIRA SAPI DE CV","Z313856810",1,2030.45]
[null,null,null,{"$f":"COUNTIF($E$1:E21715,consulta!$D$1)","v":0},"ADMINISTRACION INTEGRAL EN RELACIONES LABORALES LANDEROS Y RAMIREZ SA DE CV","Z313857610",1,159729.1]
[null,null,null,{"$f":"COUNTIF($E$1:E21730,consulta!$D$1)","v":0},"YERMIT PRODUCCIONES SC","Z313857910",1,805.78]
[null,null,null,{"$f":"COUNTIF($E$1:E21739,consulta!$D$1)","v":0},"MONICA JAEL GARCIA RANGEL","Z313858010",1,1187.82]
[null,null,null,{"$f":"COUNTIF($E$1:E21760,consulta!$D$1)","v":0},"TOUTE ADVERTISMENT SA DE CV","Z313860310",2,909.32]
[null,null,null,{"$f":"COUNTIF($E$1:E21770,consulta!$D$1)","v":0},"LEONARDO ALBERTO MIRAMONTES GAMEZ","Z313865310",1,956.94]
[null,null,null,{"$f":"COUNTIF($E$1:E21790,consulta!$D$1)","v":0},"LEONARDO ALBERTO MIRAMONTES GAMEZ","Z313865310",1,1033.82]
[null,null,null,{"$f":"COUNTIF($E$1:E21805,consulta!$D$1)","v":0},"DIANA KARINA LARIOS VAZQUEZ","Z313868910",1,2975.09]
[null,null,null,{"$f":"COUNTIF($E$1:E21821,consulta!$D$1)","v":0},"TARIMAS RESA S DE RL DE CV","Z313869410",1,1509.12]
[null,null,null,{"$f":"COUNTIF($E$1:E21835,consulta!$D$1)","v":0},"TARIMAS RESA S DE RL DE CV","Z313869410",1,2099.4]
[null,null,null,{"$f":"COUNTIF($E$1:E21842,consulta!$D$1)","v":0},"VERONICA TOLUCA JUAREZ MIRANDA","Z313869610",1,1801.96]
[null,null,null,{"$f":"COUNTIF($E$1:E21865,consulta!$D$1)","v":0},"MARIA REYNA REYES NAVARRO","Z313871010",1,385.25]
[null,null,null,{"$f":"COUNTIF($E$1:E21880,consulta!$D$1)","v":0},"MARIA VALENTINA CORRAL LOPEZ","Z313873510",1,226.82]
[null,null,null,{"$f":"COUNTIF($E$1:E21893,consulta!$D$1)","v":0},"ALPHAID & AUTOMATION DE MEXICO S DE RL DE CV","Z313877710",1,5726.94]
[null,null,null,{"$f":"COUNTIF($E$1:E21910,consulta!$D$1)","v":0},"ADA VASQUEZ COURTNEY","Z313881910",1,593.29]
[null,null,null,{"$f":"COUNTIF($E$1:E21925,consulta!$D$1)","v":0},"RAMON DELGADO CABRERA","Z313886110",2,742.39]
[null,null,null,{"$f":"COUNTIF($E$1:E21934,consulta!$D$1)","v":0},"RAMON DELGADO CABRERA","Z313886110",2,505.68]
[null,null,null,{"$f":"COUNTIF($E$1:E21955,consulta!$D$1)","v":0},"LOGISTICA CEMCO SA DE CV","Z313889410",1,1168.3599999999999]
[null,null,null,{"$f":"COUNTIF($E$1:E21965,consulta!$D$1)","v":0},"LOGISTICA CEMCO SA DE CV","Z313889410",1,6514.2]
[null,null,null,{"$f":"COUNTIF($E$1:E21985,consulta!$D$1)","v":0},"MEGA-REGION.INFO SAS DE CV","Z313890510",1,4257.92]
[null,null,null,{"$f":"COUNTIF($E$1:E22000,consulta!$D$1)","v":0},"MEGA-REGION.INFO SAS DE CV","Z313890510",1,1703.16]
[null,null,null,{"$f":"COUNTIF($E$1:E22002,consulta!$D$1)","v":0},"MEGA-REGION.INFO SAS DE CV","Z313890510",1,4744.32]
[null,null,null,{"$f":"COUNTIF($E$1:E22030,consulta!$D$1)","v":0},"FREDTUCCI SA DE CV","Z313894410",1,25217.17]
[null,null,null,{"$f":"COUNTIF($E$1:E22037,consulta!$D$1)","v":0},"FREDTUCCI SA DE CV","Z313894410",1,32324.77]
[null,null,null,{"$f":"COUNTIF($E$1:E22045,consulta!$D$1)","v":0},"HER TAVERI SA DE CV","Z313894510",2,128497.91]
[null,null,null,{"$f":"COUNTIF($E$1:E22060,consulta!$D$1)","v":0},"IMG ACTIVA SA DE CV","Z313894810",1,3845.11]
[null,null,null,{"$f":"COUNTIF($E$1:E22088,consulta!$D$1)","v":0},"HT CENTRO CAMBIARIO SA DE CV","Z313897410",1,169583.01]
[null,null,null,{"$f":"COUNTIF($E$1:E22090,consulta!$D$1)","v":0},"HT CENTRO CAMBIARIO SA DE CV","Z313897410",1,67833.2]
[null,null,null,{"$f":"COUNTIF($E$1:E22109,consulta!$D$1)","v":0},"AIDEE ESPINOZA PEREZ","Z313898210",1,150.91]
[null,null,null,{"$f":"COUNTIF($E$1:E22119,consulta!$D$1)","v":0},"HELADOS ESTRELLA SA DE CV","Z313901710",1,13949.46]
[null,null,null,{"$f":"COUNTIF($E$1:E22135,consulta!$D$1)","v":0},"GILBERTO ROBLES LLITERAS","Z313901910",2,1449.14]
[null,null,null,{"$f":"COUNTIF($E$1:E22160,consulta!$D$1)","v":0},"REAL DEL NI#O SC","Z313903810",1,474.31]
[null,null,null,{"$f":"COUNTIF($E$1:E22165,consulta!$D$1)","v":0},"PIZZA OLIV DE BAJA CALIFORNIA SA DE CV","Z313905810",1,48263.62]
[null,null,null,{"$f":"COUNTIF($E$1:E22180,consulta!$D$1)","v":0},"PIZZA OLIV DE BAJA CALIFORNIA SA DE CV","Z313905810",1,19235.66]
[null,null,null,{"$f":"COUNTIF($E$1:E22197,consulta!$D$1)","v":0},"ARTURO VARGAS ALVIZAR","Z313906310",1,1727.72]
[null,null,null,{"$f":"COUNTIF($E$1:E22210,consulta!$D$1)","v":0},"KARLA GABRIELA LOPEZ ZAZUETA","Z313912110",1,744.11]
[null,null,null,{"$f":"COUNTIF($E$1:E22232,consulta!$D$1)","v":0},"AUDITORIA MASTER S DE RL DE CV","Z313913110",1,22492.59]
[null,null,null,{"$f":"COUNTIF($E$1:E22240,consulta!$D$1)","v":0},"EMMA SOLIS OCHOA","Z313916410",1,467.34]
[null,null,null,{"$f":"COUNTIF($E$1:E22255,consulta!$D$1)","v":0},"GARDA EMPRESA DE SEGURIDAD PRIVADA SA DE CV","Z313917710",1,5705.74]
[null,null,null,{"$f":"COUNTIF($E$1:E22269,consulta!$D$1)","v":0},"ROGELIO VEGA RAMIREZ","Z313919510",1,1137.03]
[null,null,null,{"$f":"COUNTIF($E$1:E22285,consulta!$D$1)","v":0},"PRESTADORA INDEPENDIENTE SERVICIOS ADMINISTRACION EMPRESAS BC SA CV","Z313919610",1,10951.45]
[null,null,null,{"$f":"COUNTIF($E$1:E22304,consulta!$D$1)","v":0},"FIESTA PEQUE#A S DE RL","Z313920810",1,1606.42]
[null,null,null,{"$f":"COUNTIF($E$1:E22314,consulta!$D$1)","v":0},"SIPRAK S DE RL DE CV","Z313922510",2,282495.69]
[null,null,null,{"$f":"COUNTIF($E$1:E22330,consulta!$D$1)","v":0},"LUIS ALONSO GARCIA ZU#IGA","Z313926110",1,98.4]
[null,null,null,{"$f":"COUNTIF($E$1:E22341,consulta!$D$1)","v":0},"FORTALECE 360 SA DE CV","Z313932010",1,1999.66]
[null,null,null,{"$f":"COUNTIF($E$1:E22360,consulta!$D$1)","v":0},"RICARDO FLORES CAMARENA","Z313934210",1,2602.2399999999998]
[null,null,null,{"$f":"COUNTIF($E$1:E22376,consulta!$D$1)","v":0},"HERIBERTO SOLIS RODRIGUEZ","Z313938810",1,890.86]
[null,null,null,{"$f":"COUNTIF($E$1:E22389,consulta!$D$1)","v":0},"JUAN CARLOS PEREZ MAULEON","Z313941110",1,1136.99]
[null,null,null,{"$f":"COUNTIF($E$1:E22405,consulta!$D$1)","v":0},"LEONEL VALENCIA CASTILLO","Z313943210",1,360.39]
[null,null,null,{"$f":"COUNTIF($E$1:E22413,consulta!$D$1)","v":0},"PHYCARE ASSOCIATION S DE RL DE CV","Z313944710",1,3715.97]
[null,null,null,{"$f":"COUNTIF($E$1:E22434,consulta!$D$1)","v":0},"PHYCARE ASSOCIATION S DE RL DE CV","Z313944710",2,1796.61]
[null,null,null,{"$f":"COUNTIF($E$1:E22450,consulta!$D$1)","v":0},"NPUVAL S DE RL DE CV","Z313947310",1,5360.3]
[null,null,null,{"$f":"COUNTIF($E$1:E22464,consulta!$D$1)","v":0},"DIANA VERONICA BLANCHET PEREZ","Z313948010",1,603.16999999999996]
[null,null,null,{"$f":"COUNTIF($E$1:E22480,consulta!$D$1)","v":0},"ICON COMPOSITE STRUCTURES SA DE CV","Z313948910",1,11608.8]
[null,null,null,{"$f":"COUNTIF($E$1:E22485,consulta!$D$1)","v":0},"DENOGAL SA DE CV","Z313949510",1,964.42]
[null,null,null,{"$f":"COUNTIF($E$1:E22509,consulta!$D$1)","v":0},"SONATA GOU MX SA DE CV","Z313950910",1,55120.39]
[null,null,null,{"$f":"COUNTIF($E$1:E22525,consulta!$D$1)","v":0},"RAUL ENRIQUE CASTRO RODRIGUEZ","Z313951510",1,2969.56]
[null,null,null,{"$f":"COUNTIF($E$1:E22536,consulta!$D$1)","v":0},"ARMANDO MARTINEZ JARA","Z313952510",1,1110.25]
[null,null,null,{"$f":"COUNTIF($E$1:E22555,consulta!$D$1)","v":0},"DIANA TAMAYO HERNANDEZ","Z313956710",2,900.98]
[null,null,null,{"$f":"COUNTIF($E$1:E22557,consulta!$D$1)","v":0},"DIANA TAMAYO HERNANDEZ","Z313956710",2,360.39]
[null,null,null,{"$f":"COUNTIF($E$1:E22584,consulta!$D$1)","v":0},"MIREYA GUADALUPE ALVAREZ PAYAN","Z313957810",1,853.62]
[null,null,null,{"$f":"COUNTIF($E$1:E22600,consulta!$D$1)","v":0},"5MINDS SOLUTIONS S DE RL DE CV","Z313960610",1,3729.05]
[null,null,null,{"$f":"COUNTIF($E$1:E22608,consulta!$D$1)","v":0},"MARINA GRISELDA PONCE LEDEZMA","Z313964510",1,501.4]
[null,null,null,{"$f":"COUNTIF($E$1:E22629,consulta!$D$1)","v":0},"INSTALACION, REPARACION Y MANTENIMIENTO DE BAJA CALIFORNIA SC","Z313973810",1,742.39]
[null,null,null,{"$f":"COUNTIF($E$1:E22643,consulta!$D$1)","v":0},"GASTRO ALIMENTOS SA DE CV","Z313977110",1,4053.66]
[null,null,null,{"$f":"COUNTIF($E$1:E22644,consulta!$D$1)","v":0},"GASTRO ALIMENTOS SA DE CV","Z313977110",1,3741.11]
[null,null,null,{"$f":"COUNTIF($E$1:E22660,consulta!$D$1)","v":0},"VINTAGE TRANSPORT LOGISTICS S DE RL DE CV","Z313977310",1,153.83000000000001]
[null,null,null,{"$f":"COUNTIF($E$1:E22680,consulta!$D$1)","v":0},"MARIO CA#EDO CERVANTES","Z313981910",2,2642.27]
[null,null,null,{"$f":"COUNTIF($E$1:E22689,consulta!$D$1)","v":0},"GAPESG SA DE CV","Z313982010",1,433.26]
[null,null,null,{"$f":"COUNTIF($E$1:E22715,consulta!$D$1)","v":0},"JUAN GERARDO GUTIERREZ PEREZ","Z313982710",1,2997.59]
[null,null,null,{"$f":"COUNTIF($E$1:E22719,consulta!$D$1)","v":0},"JUAN GERARDO GUTIERREZ PEREZ","Z313982710",1,3868.12]
[null,null,null,{"$f":"COUNTIF($E$1:E22735,consulta!$D$1)","v":0},"JORGE ALBERTO TRAHIN CORONA","Z313983310",1,1571.57]
[null,null,null,{"$f":"COUNTIF($E$1:E22752,consulta!$D$1)","v":0},"ROBERTO AGUIRRE ARRONA","Z313985910",1,3711.32]
[null,null,null,{"$f":"COUNTIF($E$1:E22764,consulta!$D$1)","v":0},"NUTRICION EXCLUSIVA DE CALIDAD S DE RL DE CV","Z313986510",1,2729.06]
[null,null,null,{"$f":"COUNTIF($E$1:E22780,consulta!$D$1)","v":0},"ALFREDO LEDEZMA SANCHEZ","Z313986610",1,153.01]
[null,null,null,{"$f":"COUNTIF($E$1:E22803,consulta!$D$1)","v":0},"KARLA CELIS SANCHEZ","Z313988610",1,1549.22]
[null,null,null,{"$f":"COUNTIF($E$1:E22809,consulta!$D$1)","v":0},"KARLA CELIS SANCHEZ","Z313988610",1,1549.22]
[null,null,null,{"$f":"COUNTIF($E$1:E22824,consulta!$D$1)","v":0},"KARLA CELIS SANCHEZ","Z313988610",1,400.08]
[null,null,null,{"$f":"COUNTIF($E$1:E22839,consulta!$D$1)","v":0},"PROMO CALIDAD SA DE CV","Z313989610",1,2984.03]
[null,null,null,{"$f":"COUNTIF($E$1:E22855,consulta!$D$1)","v":0},"LUIS SANTIAGO REYES","Z313990010",1,7352.71]
[null,null,null,{"$f":"COUNTIF($E$1:E22875,consulta!$D$1)","v":0},"MADEROCHA SA DE CV","Z313992710",1,1219.71]
[null,null,null,{"$f":"COUNTIF($E$1:E22884,consulta!$D$1)","v":0},"SOBREDIMENSIONADOS S DE RL DE CV","Z313994510",1,5972.81]
[null,null,null,{"$f":"COUNTIF($E$1:E22896,consulta!$D$1)","v":0},"GRACIELA ISABEL PINEDA ARIAS","Z313996610",2,752.15]
[null,null,null,{"$f":"COUNTIF($E$1:E22914,consulta!$D$1)","v":0},"CHRISTIAN ESTANISLAO SANDOVAL MARTINEZ","Z313998610",1,1174.92]
[null,null,null,{"$f":"COUNTIF($E$1:E22929,consulta!$D$1)","v":0},"STEPHANIA MARLENNE SANCHEZ SANTOS","Z314001210",1,1096.48]
[null,null,null,{"$f":"COUNTIF($E$1:E22947,consulta!$D$1)","v":0},"RECURSOS INTEGRALES EFICIENTES SA DE CV","Z314004110",2,742.39]
[null,null,null,{"$f":"COUNTIF($E$1:E22959,consulta!$D$1)","v":0},"RECURSOS INTEGRALES EFICIENTES SA DE CV","Z314004110",2,301.82]
[null,null,null,{"$f":"COUNTIF($E$1:E22968,consulta!$D$1)","v":0},"RECURSOS INTEGRALES EFICIENTES SA DE CV","Z314004110",2,1174.92]
[null,null,null,{"$f":"COUNTIF($E$1:E22989,consulta!$D$1)","v":0},"CODESUAM S DE RL DE CV","Z314004210",1,3335.24]
[null,null,null,{"$f":"COUNTIF($E$1:E23004,consulta!$D$1)","v":0},"JOSE ALBERTO AGUILAR VILLANUEVA","Z314004510",1,3965]
[null,null,null,{"$f":"COUNTIF($E$1:E23019,consulta!$D$1)","v":0},"JUAN ANTONIO MALDONADO JIMENEZ","Z314007710",1,1531.1]
[null,null,null,{"$f":"COUNTIF($E$1:E23034,consulta!$D$1)","v":0},"INMOBILIARIA GRUPO ZAMIN S DE RL DE CV","Z314009210",2,60207.15]
[null,null,null,{"$f":"COUNTIF($E$1:E23050,consulta!$D$1)","v":0},"INMOBILIARIA GRUPO ZAMIN S DE RL DE CV","Z314009210",2,60207.15]
[null,null,null,{"$f":"COUNTIF($E$1:E23056,consulta!$D$1)","v":0},"INMOBILIARIA GRUPO ZAMIN S DE RL DE CV","Z314009210",2,12387.76]
[null,null,null,{"$f":"COUNTIF($E$1:E23079,consulta!$D$1)","v":0},"INMOBILIARIA GRUPO ZAMIN S DE RL DE CV","Z314009210",2,24082.86]
[null,null,null,{"$f":"COUNTIF($E$1:E23091,consulta!$D$1)","v":0},"INMOBILIARIA GRUPO ZAMIN S DE RL DE CV","Z314009210",2,12590.84]
[null,null,null,{"$f":"COUNTIF($E$1:E23109,consulta!$D$1)","v":0},"GUILLERMO RAMON SOLIS ESPONDA","Z314013310",1,928.46]
[null,null,null,{"$f":"COUNTIF($E$1:E23124,consulta!$D$1)","v":0},"TOMAS GARCIA LOPEZ","Z314018710",1,1480.33]
[null,null,null,{"$f":"COUNTIF($E$1:E23128,consulta!$D$1)","v":0},"BIANCA MELISSA ARCE PADILLA","Z314019110",1,1484.78]
[null,null,null,{"$f":"COUNTIF($E$1:E23154,consulta!$D$1)","v":0},"DC SOLUCIONES CORPORATIVAS Y SELECCION DE PERSONAL S DE RL DE CV","Z314024310",1,41367.5]
[null,null,null,{"$f":"COUNTIF($E$1:E23163,consulta!$D$1)","v":0},"DC SOLUCIONES CORPORATIVAS Y SELECCION DE PERSONAL S DE RL DE CV","Z314024310",1,458380.33]
[null,null,null,{"$f":"COUNTIF($E$1:E23184,consulta!$D$1)","v":0},"ANDREA RODRIGUEZ OSUNA","Z314028410",1,2773.43]
[null,null,null,{"$f":"COUNTIF($E$1:E23199,consulta!$D$1)","v":0},"JOSE GUADALUPE LUGO PUENTE","Z314029910",1,1261.6500000000001]
[null,null,null,{"$f":"COUNTIF($E$1:E23200,consulta!$D$1)","v":0},"JOSE GUADALUPE LUGO PUENTE","Z314029910",1,3052.41]
[null,null,null,{"$f":"COUNTIF($E$1:E23214,consulta!$D$1)","v":0},"JOSE GUADALUPE LUGO PUENTE","Z314029910",1,3154.14]
[null,null,null,{"$f":"COUNTIF($E$1:E23231,consulta!$D$1)","v":0},"OSCAR ALONSO GONZALEZ SANCHEZ","Z314030310",1,754.56]
[null,null,null,{"$f":"COUNTIF($E$1:E23244,consulta!$D$1)","v":0},"OSCAR ALONSO GONZALEZ SANCHEZ","Z314030310",1,897.91]
[null,null,null,{"$f":"COUNTIF($E$1:E23259,consulta!$D$1)","v":0},"DANIEL OSVALDO SOTELO CRUZ","Z314031210",1,1997.96]
[null,null,null,{"$f":"COUNTIF($E$1:E23286,consulta!$D$1)","v":0},"CALU RECUBRIMIENTOS INDUSTRIALES S DE RL DE CV","Z314032410",1,43.59]
[null,null,null,{"$f":"COUNTIF($E$1:E23289,consulta!$D$1)","v":0},"MARCO ANTONIO MORALES MORALES","Z314032510",1,5542.05]
[null,null,null,{"$f":"COUNTIF($E$1:E23303,consulta!$D$1)","v":0},"CONDOMINIO A TIJUANA AC","Z314034910",1,7028.71]
[null,null,null,{"$f":"COUNTIF($E$1:E23319,consulta!$D$1)","v":0},"ARTURO DE ALBA GONZALEZ","Z314035810",1,1081.1300000000001]
[null,null,null,{"$f":"COUNTIF($E$1:E23334,consulta!$D$1)","v":0},"MIGUEL JOAQUIN DURAN ALVARADO","Z314038910",1,735.08]
[null,null,null,{"$f":"COUNTIF($E$1:E23358,consulta!$D$1)","v":0},"KENIA GUADALUPE GURROLA ORDU#O","Z314044610",1,1484.78]
[null,null,null,{"$f":"COUNTIF($E$1:E23364,consulta!$D$1)","v":0},"KENIA GUADALUPE GURROLA ORDU#O","Z314044610",1,770.5]
[null,null,null,{"$f":"COUNTIF($E$1:E23379,consulta!$D$1)","v":0},"AUTOSERWIS SA DE CV","Z314045110",1,3343.36]
[null,null,null,{"$f":"COUNTIF($E$1:E23395,consulta!$D$1)","v":0},"GRUPO IC PHARMA S DE RL DE CV","Z314045210",1,371.13]
[null,null,null,{"$f":"COUNTIF($E$1:E23409,consulta!$D$1)","v":0},"MARIANA RIVERA ANGULO","Z314046910",1,901.77]
[null,null,null,{"$f":"COUNTIF($E$1:E23426,consulta!$D$1)","v":0},"MARIANA RIVERA ANGULO","Z314046910",1,372.73]
[null,null,null,{"$f":"COUNTIF($E$1:E23439,consulta!$D$1)","v":0},"FEMINA CLINICA COSMEATRICA S DE RL DE CV","Z314047010",2,593.91]
[null,null,null,{"$f":"COUNTIF($E$1:E23454,consulta!$D$1)","v":0},"FEMINA CLINICA COSMEATRICA S DE RL DE CV","Z314047010",2,770.5]
[null,null,null,{"$f":"COUNTIF($E$1:E23467,consulta!$D$1)","v":0},"ISAAC RENE VILLEGAS ORDU#O","Z314047210",1,1351.42]
[null,null,null,{"$f":"COUNTIF($E$1:E23484,consulta!$D$1)","v":0},"EDGAR VEGA TORRES","Z314047910",1,3826.86]
[null,null,null,{"$f":"COUNTIF($E$1:E23498,consulta!$D$1)","v":0},"MICHELLE CALDERA SANCHEZ","Z314049710",1,7904.62]
[null,null,null,{"$f":"COUNTIF($E$1:E23514,consulta!$D$1)","v":0},"WOOF ENTRETENIMIENTO Y DIVERSIONES SA DE CV","Z314049910",1,1618.85]
[null,null,null,{"$f":"COUNTIF($E$1:E23529,consulta!$D$1)","v":0},"ROSA MICAELA ALVIZO DE ANDA","Z314052810",1,10841.56]
[null,null,null,{"$f":"COUNTIF($E$1:E23539,consulta!$D$1)","v":0},"LUIS ALBANI CASTRO LOPEZ","Z314055110",1,3626.74]
[null,null,null,{"$f":"COUNTIF($E$1:E23559,consulta!$D$1)","v":0},"JUAN CARLOS MORA DELGADO","Z314056610",1,6456.5]
[null,null,null,{"$f":"COUNTIF($E$1:E23570,consulta!$D$1)","v":0},"COMERCIALIZADORA DE LIMONES JAIDEN S DE RL DE CV","Z314057510",1,7479.98]
[null,null,null,{"$f":"COUNTIF($E$1:E23589,consulta!$D$1)","v":0},"MOLDING SUPPLIES AND SERVICES SA DE CV","Z314063310",1,3221.93]
[null,null,null,{"$f":"COUNTIF($E$1:E23604,consulta!$D$1)","v":0},"CONSTRUCCIONES LIGERAS LOMELU S DE RL DE CV","Z314063610",1,13413.45]
[null,null,null,{"$f":"COUNTIF($E$1:E23621,consulta!$D$1)","v":0},"RADDNA SA DE CV","Z314065710",1,809.8]
[null,null,null,{"$f":"COUNTIF($E$1:E23634,consulta!$D$1)","v":0},"SAHRAM ALEJANDRA MARTINEZ TORRERO","Z314066510",1,2185.27]
[null,null,null,{"$f":"COUNTIF($E$1:E23649,consulta!$D$1)","v":0},"ACEROS CENTRO DE SERVICIOS RJ SA DE CV","Z314069410",1,11415.94]
[null,null,null,{"$f":"COUNTIF($E$1:E23662,consulta!$D$1)","v":0},"CONSULTORIA E INSUMOS DEL NORTE SAS","Z314069710",1,34749.11]
[null,null,null,{"$f":"COUNTIF($E$1:E23679,consulta!$D$1)","v":0},"CONSULTORIA E INSUMOS DEL NORTE SAS","Z314069710",1,33010.199999999997]
[null,null,null,{"$f":"COUNTIF($E$1:E23693,consulta!$D$1)","v":0},"CESAR CORDERO GERARDO","Z314069910",1,564.82000000000005]
[null,null,null,{"$f":"COUNTIF($E$1:E23709,consulta!$D$1)","v":0},"FRANCISCO CANUTO RODRIGUEZ","Z314072110",1,765.55]
[null,null,null,{"$f":"COUNTIF($E$1:E23724,consulta!$D$1)","v":0},"FRANCISCO CANUTO RODRIGUEZ","Z314072110",1,462.36]
[null,null,null,{"$f":"COUNTIF($E$1:E23730,consulta!$D$1)","v":0},"FRANCISCO CANUTO RODRIGUEZ","Z314072110",1,462.36]
[null,null,null,{"$f":"COUNTIF($E$1:E23754,consulta!$D$1)","v":0},"SB DESARROLLOS CONSTRUCTIVOS S DE RL DE CV","Z314074510",1,542.29999999999995]
[null,null,null,{"$f":"COUNTIF($E$1:E23765,consulta!$D$1)","v":0},"RIGOBERTO ALVAREZ VALENZUELA","Z314074710",1,362.94]
[null,null,null,{"$f":"COUNTIF($E$1:E23769,consulta!$D$1)","v":0},"ERUBIEL GARCIA AYALA","Z314076010",1,742.39]
[null,null,null,{"$f":"COUNTIF($E$1:E23784,consulta!$D$1)","v":0},"CONSER INAR SA DE CV","Z314077710",1,19983.2]
[null,null,null,{"$f":"COUNTIF($E$1:E23802,consulta!$D$1)","v":0},"PULIDOS TREJO S DE RL DE CV","Z314079010",1,9625.4699999999993]
[null,null,null,{"$f":"COUNTIF($E$1:E23814,consulta!$D$1)","v":0},"JOSUE MARIN MOLINA","Z314079810",2,7754.31]
[null,null,null,{"$f":"COUNTIF($E$1:E23837,consulta!$D$1)","v":0},"JOSUE MARIN MOLINA","Z314079810",2,1617.28]
[null,null,null,{"$f":"COUNTIF($E$1:E23844,consulta!$D$1)","v":0},"TANYA LIZZETE GODINEZ BAHENA","Z314081710",1,593.91]
[null,null,null,{"$f":"COUNTIF($E$1:E23859,consulta!$D$1)","v":0},"NESTOR ALBERTO JUARES GARCIA","Z314082410",1,3711.32]
[null,null,null,{"$f":"COUNTIF($E$1:E23874,consulta!$D$1)","v":0},"CRISTOBAL ZAVALA TAPIA","Z314082710",1,11814.97]
[null,null,null,{"$f":"COUNTIF($E$1:E23889,consulta!$D$1)","v":0},"INGENIERIA DE PROYECTOS SICKO S DE RL DE CV","Z314084010",1,1081.1300000000001]
[null,null,null,{"$f":"COUNTIF($E$1:E23904,consulta!$D$1)","v":0},"JOSE GUADALUPE TORRES BAEZA","Z314085610",1,481.94]
[null,null,null,{"$f":"COUNTIF($E$1:E23925,consulta!$D$1)","v":0},"NARCISO BANUELOS ZAMORA","Z314089210",1,7139.34]
[null,null,null,{"$f":"COUNTIF($E$1:E23934,consulta!$D$1)","v":0},"WORKING BOSS S DE RL DE CV","Z314090110",1,53098.67]
[null,null,null,{"$f":"COUNTIF($E$1:E23946,consulta!$D$1)","v":0},"MCT PRECISION SA DE CV","Z314092910",1,1454.54]
[null,null,null,{"$f":"COUNTIF($E$1:E23964,consulta!$D$1)","v":0},"GUADALUPE GLORIA BARRUTIA CALDERON","Z314095710",1,1119.6199999999999]
[null,null,null,{"$f":"COUNTIF($E$1:E23979,consulta!$D$1)","v":0},"FAMEP SA DE CV","Z314097310",1,14.08]
[null,null,null,{"$f":"COUNTIF($E$1:E23997,consulta!$D$1)","v":0},"CLUB MADERERO SA DE CV","Z314100310",1,5760.18]
[null,null,null,{"$f":"COUNTIF($E$1:E24009,consulta!$D$1)","v":0},"ROSARIO PRADO HERNANDEZ","Z314101110",1,7429.59]
[null,null,null,{"$f":"COUNTIF($E$1:E24018,consulta!$D$1)","v":0},"NOOZKO DE MEXICO S DE RL DE CV","Z314101310",2,2920.92]
[null,null,null,{"$f":"COUNTIF($E$1:E24039,consulta!$D$1)","v":0},"NOOZKO DE MEXICO S DE RL DE CV","Z314101310",2,5405.68]
[null,null,null,{"$f":"COUNTIF($E$1:E24054,consulta!$D$1)","v":0},"JUAN ESCAMILLA VILLEGAS","Z314102010",1,14827.37]
[null,null,null,{"$f":"COUNTIF($E$1:E24069,consulta!$D$1)","v":0},"HILARIO VARGAS HERNANDEZ","Z314105110",1,7019.83]
[null,null,null,{"$f":"COUNTIF($E$1:E24084,consulta!$D$1)","v":0},"HILARIO VARGAS HERNANDEZ","Z314105110",1,6308.28]
[null,null,null,{"$f":"COUNTIF($E$1:E24104,consulta!$D$1)","v":0},"EDITH MARLENE LEPE TIRADO","Z314106410",1,4440.8999999999996]
[null,null,null,{"$f":"COUNTIF($E$1:E24113,consulta!$D$1)","v":0},"APLICACIONES ADMINISTRATIVAS Y JURIDICAS SA DE CV","Z314107710",1,27245.77]
[null,null,null,{"$f":"COUNTIF($E$1:E24129,consulta!$D$1)","v":0},"RAFAEL BARRETO PEREZ","Z314109310",1,2528.44]
[null,null,null,{"$f":"COUNTIF($E$1:E24141,consulta!$D$1)","v":0},"RAFAEL BARRETO PEREZ","Z314109310",1,2615.66]
[null,null,null,{"$f":"COUNTIF($E$1:E24159,consulta!$D$1)","v":0},"FRANCISCO JAVIER PEREZ DIMAS","Z314109410",1,6124.4]
[null,null,null,{"$f":"COUNTIF($E$1:E24176,consulta!$D$1)","v":0},"FRANCISCO JAVIER PEREZ DIMAS","Z314109410",1,4262.5200000000004]
[null,null,null,{"$f":"COUNTIF($E$1:E24188,consulta!$D$1)","v":0},"FABRICACIONES E INNOVACIONES DE TIJUANA S DE RL DE CV","Z314110410",1,46732.37]
[null,null,null,{"$f":"COUNTIF($E$1:E24204,consulta!$D$1)","v":0},"CARLOS FRANCISCO ANGUIANO GARCIA","Z314112310",1,284.10000000000002]
[null,null,null,{"$f":"COUNTIF($E$1:E24213,consulta!$D$1)","v":0},"MA DE LOURDES OROZ BARVA","Z314112810",1,292.08999999999997]
[null,null,null,{"$f":"COUNTIF($E$1:E24233,consulta!$D$1)","v":0},"MA DE LOURDES OROZ BARVA","Z314112810",1,420.55]
[null,null,null,{"$f":"COUNTIF($E$1:E24249,consulta!$D$1)","v":0},"UNO PORCIENTO DE NOVENTA Y NUEVE POR CIENTO SA DE CV","Z314113710",1,15631.68]
[null,null,null,{"$f":"COUNTIF($E$1:E24264,consulta!$D$1)","v":0},"GEOVANNY PEREYRA ESPINOZA","Z314114310",1,5906.78]
[null,null,null,{"$f":"COUNTIF($E$1:E24279,consulta!$D$1)","v":0},"ZAVA FINANCIAL SA DE CV","Z314114710",1,833.7]
[null,null,null,{"$f":"COUNTIF($E$1:E24285,consulta!$D$1)","v":0},"CONSTRUCTORA HIDROBAH S DE RL DE CV","Z314116410",1,2484.98]
[null,null,null,{"$f":"COUNTIF($E$1:E24308,consulta!$D$1)","v":0},"IVAN PEINADO","Z314117310",1,1115.8499999999999]
[null,null,null,{"$f":"COUNTIF($E$1:E24324,consulta!$D$1)","v":0},"MERCLIM SA DE CV","Z314118010",1,17408.439999999999]
[null,null,null,{"$f":"COUNTIF($E$1:E24336,consulta!$D$1)","v":0},"SERVICIOS ALOC ACOC, SA DE CV","Z314118110",1,161918.21]
[null,null,null,{"$f":"COUNTIF($E$1:E24339,consulta!$D$1)","v":0},"SERVICIOS ALOC ACOC, SA DE CV","Z314118110",1,61099.53]
[null,null,null,{"$f":"COUNTIF($E$1:E24357,consulta!$D$1)","v":0},"CARLOS EUGENIO LOPEZ PEREZ","Z314118410",1,372.82]
[null,null,null,{"$f":"COUNTIF($E$1:E24368,consulta!$D$1)","v":0},"SILVIA BEATRIZ BECERRA GALLEGOS","Z314118510",1,963.13]
[null,null,null,{"$f":"COUNTIF($E$1:E24384,consulta!$D$1)","v":0},"INSTITUTO SANTA GEMA GALGANI SC","Z314119410",1,10553.42]
[null,null,null,{"$f":"COUNTIF($E$1:E24408,consulta!$D$1)","v":0},"BSE INT S DE RL DE CV","Z314120810",1,6529.53]
[null,null,null,{"$f":"COUNTIF($E$1:E24413,consulta!$D$1)","v":0},"SALOMON LEDESMA RAIGOSA","Z314121110",2,4839.8100000000004]
[null,null,null,{"$f":"COUNTIF($E$1:E24429,consulta!$D$1)","v":0},"DANIEL DELGADO RODRIGUEZ","Z314121710",1,24.34]
[null,null,null,{"$f":"COUNTIF($E$1:E24443,consulta!$D$1)","v":0},"ARROYO DISPLAYS S DE RL DE CV","Z314123110",1,1065.6300000000001]
[null,null,null,{"$f":"COUNTIF($E$1:E24459,consulta!$D$1)","v":0},"INSTALACIONES HIDROSANITARIAS Y MANTENIMIENTO GAME SA DE CV","Z314125510",1,1427.16]
[null,null,null,{"$f":"COUNTIF($E$1:E24480,consulta!$D$1)","v":0},"CONSTRUCTORA E INMOBILIARIA IRBA SA DE CV","Z314127110",1,6028.96]
[null,null,null,{"$f":"COUNTIF($E$1:E24488,consulta!$D$1)","v":0},"SERVICIOS EDUCATIVOS HPA SC","Z314127710",1,13709.82]
[null,null,null,{"$f":"COUNTIF($E$1:E24504,consulta!$D$1)","v":0},"FONDA ARGENTINA TIJUANA SA DE CV","Z314128510",1,3756.91]
[null,null,null,{"$f":"COUNTIF($E$1:E24517,consulta!$D$1)","v":0},"JUAN FRANCISCO BALDERRAMA GARCIA","Z314129210",1,1600.5]
[null,null,null,{"$f":"COUNTIF($E$1:E24533,consulta!$D$1)","v":0},"ALIANZA DEL NOROESTE SA DE CV","Z314130410",1,8885.9699999999993]
[null,null,null,{"$f":"COUNTIF($E$1:E24552,consulta!$D$1)","v":0},"MARISOL SANCHEZ MU#IZ","Z314131210",1,282.81]
[null,null,null,{"$f":"COUNTIF($E$1:E24563,consulta!$D$1)","v":0},"MARISOL SANCHEZ MU#IZ","Z314131210",1,385.25]
[null,null,null,{"$f":"COUNTIF($E$1:E24579,consulta!$D$1)","v":0},"MARISOL SANCHEZ MU#IZ","Z314131210",1,385.25]
[null,null,null,{"$f":"COUNTIF($E$1:E24589,consulta!$D$1)","v":0},"OSCAR JAVIER TERRAZAS ROMERO","Z314131810",1,1382.44]
[null,null,null,{"$f":"COUNTIF($E$1:E24608,consulta!$D$1)","v":0},"EDWIN ALEXIS CIPRIAN CARLOS","Z314133910",1,2787.06]
[null,null,null,{"$f":"COUNTIF($E$1:E24624,consulta!$D$1)","v":0},"EDWIN ALEXIS CIPRIAN CARLOS","Z314133910",1,2531.77]
[null,null,null,{"$f":"COUNTIF($E$1:E24638,consulta!$D$1)","v":0},"E&N APPAREL S DE RL DE CV","Z314134910",1,12520.69]
[null,null,null,{"$f":"COUNTIF($E$1:E24654,consulta!$D$1)","v":0},"EDUARDO LUNA TORRES","Z314136110",1,583.91999999999996]
[null,null,null,{"$f":"COUNTIF($E$1:E24661,consulta!$D$1)","v":0},"ABRAHAM LEVI HERNANDEZ OJEDA","Z314136710",1,1682.93]
[null,null,null,{"$f":"COUNTIF($E$1:E24683,consulta!$D$1)","v":0},"EPIFANIA ALBARRAN SANCHEZ","Z314136910",1,1155.75]
[null,null,null,{"$f":"COUNTIF($E$1:E24696,consulta!$D$1)","v":0},"HANS TRADING S DE RL DE CV","Z314138110",1,14813.75]
[null,null,null,{"$f":"COUNTIF($E$1:E24713,consulta!$D$1)","v":0},"GSE INDIRECT EMPLOYMENT S DE RL DE CV","Z314139710",2,12626.81]
[null,null,null,{"$f":"COUNTIF($E$1:E24728,consulta!$D$1)","v":0},"GSE INDIRECT EMPLOYMENT S DE RL DE CV","Z314139810",1,104221.2]
[null,null,null,{"$f":"COUNTIF($E$1:E24747,consulta!$D$1)","v":0},"GSE INDIRECT EMPLOYMENT S DE RL DE CV","Z314140010",2,174899]
[null,null,null,{"$f":"COUNTIF($E$1:E24758,consulta!$D$1)","v":0},"GSE INDIRECT EMPLOYMENT S DE RL DE CV","Z314140110",2,218314.12]
[null,null,null,{"$f":"COUNTIF($E$1:E24768,consulta!$D$1)","v":0},"MARIA DOMENIC SALINAS SEGUNDO","Z314140610",1,5033.25]
[null,null,null,{"$f":"COUNTIF($E$1:E24788,consulta!$D$1)","v":0},"VICTOR HUGO LOZANO MACIEL","Z314143210",1,1173.71]
[null,null,null,{"$f":"COUNTIF($E$1:E24803,consulta!$D$1)","v":0},"ELIZABETH MEZA GONZALEZ","Z314144010",1,395.02]
[null,null,null,{"$f":"COUNTIF($E$1:E24819,consulta!$D$1)","v":0},"LETICIA MARIN IBAL","Z314145410",1,730.23]
[null,null,null,{"$f":"COUNTIF($E$1:E24833,consulta!$D$1)","v":0},"KEVLAR FORCE SA DE CV","Z314146010",1,103296.46]
[null,null,null,{"$f":"COUNTIF($E$1:E24849,consulta!$D$1)","v":0},"MARIA ANGELICA MORENO ARAUJO","Z314146110",1,475.36]
[null,null,null,{"$f":"COUNTIF($E$1:E24856,consulta!$D$1)","v":0},"MARIA ANGELICA MORENO ARAUJO","Z314146110",1,483.28]
[null,null,null,{"$f":"COUNTIF($E$1:E24878,consulta!$D$1)","v":0},"SEGURIDAD PRIVADA ALCONE DE ACERO S DE RL DE CV","Z314147410",1,1281.6600000000001]
[null,null,null,{"$f":"COUNTIF($E$1:E24891,consulta!$D$1)","v":0},"GERMAN LOPEZ GUTIERREZ","Z314148910",1,49.7]
[null,null,null,{"$f":"COUNTIF($E$1:E24908,consulta!$D$1)","v":0},"MARGIE CONTRERAS GOMEZ","Z314149710",1,1470.99]
[null,null,null,{"$f":"COUNTIF($E$1:E24923,consulta!$D$1)","v":0},"ANGEL ANTONIO CHIQUETE FLORES","Z314150210",1,766.73]
[null,null,null,{"$f":"COUNTIF($E$1:E24928,consulta!$D$1)","v":0},"ANGEL ANTONIO CHIQUETE FLORES","Z314150210",1,3479.4]
[null,null,null,{"$f":"COUNTIF($E$1:E24938,consulta!$D$1)","v":0},"CENTRO BARIATRICO DE LA FRONTERA NORTE SA DE CV","Z314150310",1,56577.08]
[null,null,null,{"$f":"COUNTIF($E$1:E24963,consulta!$D$1)","v":0},"RESPUESTA INTEGRAL ADUANERA SC","Z314154210",1,678.65]
[null,null,null,{"$f":"COUNTIF($E$1:E24968,consulta!$D$1)","v":0},"TONALA TIJUANA SA DE CV","Z314154410",1,2102.7600000000002]
[null,null,null,{"$f":"COUNTIF($E$1:E24983,consulta!$D$1)","v":0},"ALEJANDRA MU#OZ RODRIGUEZ","Z314155810",1,865.85]
[null,null,null,{"$f":"COUNTIF($E$1:E25000,consulta!$D$1)","v":0},"TRANSPORTES DE CARGA AP S DE RL DE CV","Z314158410",1,2798.14]
[null,null,null,{"$f":"COUNTIF($E$1:E25013,consulta!$D$1)","v":0},"TRANSPORTES DE CARGA AP S DE RL DE CV","Z314158410",1,39361.279999999999]
[null,null,null,{"$f":"COUNTIF($E$1:E25031,consulta!$D$1)","v":0},"PATRICIA FARIAS PACHECO","Z314159010",1,1484.78]
[null,null,null,{"$f":"COUNTIF($E$1:E25043,consulta!$D$1)","v":0},"JOSE OCHOA OCHOA","Z314159110",1,742.39]
[null,null,null,{"$f":"COUNTIF($E$1:E25058,consulta!$D$1)","v":0},"JOSE OCHOA OCHOA","Z314159110",1,296.95]
[null,null,null,{"$f":"COUNTIF($E$1:E25072,consulta!$D$1)","v":0},"AIKO SEWING FACTORY SAS DE CV","Z314159810",1,548.65]
[null,null,null,{"$f":"COUNTIF($E$1:E25088,consulta!$D$1)","v":0},"IVAN EMILIANO MADERA JIMENEZ","Z314160110",1,939.93]
[null,null,null,{"$f":"COUNTIF($E$1:E25103,consulta!$D$1)","v":0},"RAYMUNDO CORRALES","Z314161110",1,593.91]
[null,null,null,{"$f":"COUNTIF($E$1:E25123,consulta!$D$1)","v":0},"JORGE DANIEL ESTRELLA LEIJA","Z314164410",1,362.03]
[null,null,null,{"$f":"COUNTIF($E$1:E25133,consulta!$D$1)","v":0},"DIANA ANAHI SALAZAR YA#EZ","Z314164910",2,301.82]
[null,null,null,{"$f":"COUNTIF($E$1:E25144,consulta!$D$1)","v":0},"DACA CONSULTORES S DE RL DE CV","Z314166310",1,296.95]
[null,null,null,{"$f":"COUNTIF($E$1:E25163,consulta!$D$1)","v":0},"MARIA SUSANA MARQUEZ CASTRO","Z314168010",1,927.83]
[null,null,null,{"$f":"COUNTIF($E$1:E25178,consulta!$D$1)","v":0},"OMAR LOPEZ MORENO","Z314168310",1,592.24]
[null,null,null,{"$f":"COUNTIF($E$1:E25195,consulta!$D$1)","v":0},"COMERCIALIZADORA NORMA VARGAS S DE RL DE CV","Z314170210",1,765.8]
[null,null,null,{"$f":"COUNTIF($E$1:E25208,consulta!$D$1)","v":0},"COMIDA RAPIDA Y SALUDABLE S DE RL DE CV","Z314172510",1,10281.58]
[null,null,null,{"$f":"COUNTIF($E$1:E25226,consulta!$D$1)","v":0},"KARLA JUDITH ALCARAZ MACIAS","Z314172710",1,3341.48]
[null,null,null,{"$f":"COUNTIF($E$1:E25238,consulta!$D$1)","v":0},"IVAN RAFAEL HERNANDEZ IBARRA","Z314173310",1,1638.85]
[null,null,null,{"$f":"COUNTIF($E$1:E25253,consulta!$D$1)","v":0},"FEDERICO GUILLERMO LAVIE CRUZ","Z314173710",1,328.59]
[null,null,null,{"$f":"COUNTIF($E$1:E25267,consulta!$D$1)","v":0},"HD DESIGN & SUMINISTROS S DE RL DE CV","Z314174710",1,436.16]
[null,null,null,{"$f":"COUNTIF($E$1:E25283,consulta!$D$1)","v":0},"ARMANDO URUETA CRUZ","Z314175310",1,7784.26]
[null,null,null,{"$f":"COUNTIF($E$1:E25298,consulta!$D$1)","v":0},"LAURA GUADALUPE ESCALANTE MONDRAGON","Z314179110",1,469.96]
[null,null,null,{"$f":"COUNTIF($E$1:E25313,consulta!$D$1)","v":0},"CARLOS EFRAIN GARCIA MORA","Z314181810",1,841.1]
[null,null,null,{"$f":"COUNTIF($E$1:E25328,consulta!$D$1)","v":0},"JESSICA VIVIANA COLORADO MUNDO","Z314185310",1,2547.96]
[null,null,null,{"$f":"COUNTIF($E$1:E25335,consulta!$D$1)","v":0},"SISTEMA DE FRANQUICIAS SHARKYS CARWASH SA DE CV","Z314186410",1,3402.79]
[null,null,null,{"$f":"COUNTIF($E$1:E25358,consulta!$D$1)","v":0},"DIEGO BRICIO ESPINOZA VELASCO","Z314187910",1,3630.2]
[null,null,null,{"$f":"COUNTIF($E$1:E25373,consulta!$D$1)","v":0},"DIEGO BRICIO ESPINOZA VELASCO","Z314187910",1,1017.47]
[null,null,null,{"$f":"COUNTIF($E$1:E25390,consulta!$D$1)","v":0},"BENITO DANIEL CASTRO MURILLO","Z314189810",1,1460.46]
[null,null,null,{"$f":"COUNTIF($E$1:E25403,consulta!$D$1)","v":0},"BENITO DANIEL CASTRO MURILLO","Z314189810",1,593.91]
[null,null,null,{"$f":"COUNTIF($E$1:E25407,consulta!$D$1)","v":0},"BENITO DANIEL CASTRO MURILLO","Z314189810",1,813.97]
[null,null,null,{"$f":"COUNTIF($E$1:E25433,consulta!$D$1)","v":0},"CREANDO EMPLEOS GM S DE RL DE CV","Z314191310",1,603.64]
[null,null,null,{"$f":"COUNTIF($E$1:E25448,consulta!$D$1)","v":0},"CONSTANTINO GALVAN VAZQUEZ","Z314191710",1,3154.28]
[null,null,null,{"$f":"COUNTIF($E$1:E25462,consulta!$D$1)","v":0},"ALEJANDRO LLANOS ALBA","Z314193310",1,2274.06]
[null,null,null,{"$f":"COUNTIF($E$1:E25478,consulta!$D$1)","v":0},"MARIA FERNANDA BRAVO LOPEZ","Z314195210",1,2325.3200000000002]
[null,null,null,{"$f":"COUNTIF($E$1:E25479,consulta!$D$1)","v":0},"MARIA FERNANDA BRAVO LOPEZ","Z314195210",1,930.12]
[null,null,null,{"$f":"COUNTIF($E$1:E25493,consulta!$D$1)","v":0},"VICTOR ALVINO NUNEZ","Z314197810",2,1909.65]
[null,null,null,{"$f":"COUNTIF($E$1:E25508,consulta!$D$1)","v":0},"ISAAC RAMIREZ ROBLES","Z314199410",1,1237.3800000000001]
[null,null,null,{"$f":"COUNTIF($E$1:E25530,consulta!$D$1)","v":0},"EDGAR GONZALEZ MENDOZA","Z314200010",1,2702.84]
[null,null,null,{"$f":"COUNTIF($E$1:E25538,consulta!$D$1)","v":0},"UNISOURCE GLOBAL S DE RL DE CV","Z314202010",1,742.39]
[null,null,null,{"$f":"COUNTIF($E$1:E25565,consulta!$D$1)","v":0},"UNISOURCE GLOBAL S DE RL DE CV","Z314202010",1,371.13]
[null,null,null,{"$f":"COUNTIF($E$1:E25568,consulta!$D$1)","v":0},"UNISOURCE GLOBAL S DE RL DE CV","Z314202010",1,296.95]
[null,null,null,{"$f":"COUNTIF($E$1:E25583,consulta!$D$1)","v":0},"ROAD TWO TRUCKING S DE RL DE CV","Z314202510",1,565.52]
[null,null,null,{"$f":"COUNTIF($E$1:E25602,consulta!$D$1)","v":0},"MIGUEL ANGEL TORRES SOTELO","Z314203510",1,1499.22]
[null,null,null,{"$f":"COUNTIF($E$1:E25613,consulta!$D$1)","v":0},"MIGUEL ANGEL TORRES SOTELO","Z314203510",1,968.9]
[null,null,null,{"$f":"COUNTIF($E$1:E25637,consulta!$D$1)","v":0},"IRVING DANIEL ESPINOSA CHICO","Z314204210",1,1542.54]
[null,null,null,{"$f":"COUNTIF($E$1:E25643,consulta!$D$1)","v":0},"IRVING DANIEL ESPINOSA CHICO","Z314204210",1,617.01]
[null,null,null,{"$f":"COUNTIF($E$1:E25658,consulta!$D$1)","v":0},"IRVING DANIEL ESPINOSA CHICO","Z314204210",1,758.12]
[null,null,null,{"$f":"COUNTIF($E$1:E25674,consulta!$D$1)","v":0},"CLAUDIO ANTONIO GUTIERREZ BARRERA","Z314205010",1,5480.71]
[null,null,null,{"$f":"COUNTIF($E$1:E25688,consulta!$D$1)","v":0},"ANGEL COTA DIAZ","Z314205810",1,373.69]
[null,null,null,{"$f":"COUNTIF($E$1:E25703,consulta!$D$1)","v":0},"MANUEL GUTIERREZ MARTINEZ","Z314206210",1,2092.48]
[null,null,null,{"$f":"COUNTIF($E$1:E25725,consulta!$D$1)","v":0},"EDGAR MARTIN MEDINA ZAMORANO","Z314207010",2,20502.490000000002]
[null,null,null,{"$f":"COUNTIF($E$1:E25733,consulta!$D$1)","v":0},"MIR CONSULTORES SC","Z314207910",1,349.96]
[null,null,null,{"$f":"COUNTIF($E$1:E25746,consulta!$D$1)","v":0},"HRA PUBLICIDAD EXTERIOR SA DE CV","Z314209310",1,2650.48]
[null,null,null,{"$f":"COUNTIF($E$1:E25763,consulta!$D$1)","v":0},"EDUARDO RAMIREZ PANIAGUA","Z314210110",1,1224.8800000000001]
[null,null,null,{"$f":"COUNTIF($E$1:E25778,consulta!$D$1)","v":0},"ANAKAREN GUADALUPE OSORIO CHAVEZ","Z314210410",1,770.5]
[null,null,null,{"$f":"COUNTIF($E$1:E25797,consulta!$D$1)","v":0},"FARMACOS Y PRODUCTOS DEL RI#ON S DE RL DE CV","Z314211810",1,1178.99]
[null,null,null,{"$f":"COUNTIF($E$1:E25808,consulta!$D$1)","v":0},"CONSULTORIA OIMAR SC","Z314211910",1,4295.76]
[null,null,null,{"$f":"COUNTIF($E$1:E25818,consulta!$D$1)","v":0},"QUICKSHINE TIJUANA SA DE CV","Z314212610",1,8251.7800000000007]
[null,null,null,{"$f":"COUNTIF($E$1:E25837,consulta!$D$1)","v":0},"SERVICIOS LOGISTICOS EN RIESGO S DE RL DE CV","Z314214010",1,8008.94]
[null,null,null,{"$f":"COUNTIF($E$1:E25853,consulta!$D$1)","v":0},"ABIGAIL LOPEZ LERMA","Z314214710",1,765.55]
[null,null,null,{"$f":"COUNTIF($E$1:E25869,consulta!$D$1)","v":0},"ABIGAIL LOPEZ LERMA","Z314214710",1,550.57000000000005]
[null,null,null,{"$f":"COUNTIF($E$1:E25883,consulta!$D$1)","v":0},"BERNARDO GARCIA LUCERO","Z314215110",1,5638.33]
[null,null,null,{"$f":"COUNTIF($E$1:E25890,consulta!$D$1)","v":0},"BERNARDO GARCIA LUCERO","Z314215110",1,15694]
[null,null,null,{"$f":"COUNTIF($E$1:E25912,consulta!$D$1)","v":0},"ENTERACLOUD MX S DE RL DE CV","Z314215310",1,3329.8]
[null,null,null,{"$f":"COUNTIF($E$1:E25928,consulta!$D$1)","v":0},"LUMAR COMUNICACION EN REDES SA DE CV","Z314216110",1,636.79999999999995]
[null,null,null,{"$f":"COUNTIF($E$1:E25941,consulta!$D$1)","v":0},"SELECCION Y ASESORIAS ADMINISTRATIVAS S DE RL DE CV","Z314217510",1,40578.11]
[null,null,null,{"$f":"COUNTIF($E$1:E25958,consulta!$D$1)","v":0},"EFREN AURELIO DELGADO MONTOYA","Z314218010",1,1582.15]
[null,null,null,{"$f":"COUNTIF($E$1:E25973,consulta!$D$1)","v":0},"ISIS WENDOLINE ROMERO AGUILERA","Z314218810",1,730.23]
[null,null,null,{"$f":"COUNTIF($E$1:E25978,consulta!$D$1)","v":0},"ISIS WENDOLINE ROMERO AGUILERA","Z314218810",1,742.39]
[null,null,null,{"$f":"COUNTIF($E$1:E26003,consulta!$D$1)","v":0},"ISIS WENDOLINE ROMERO AGUILERA","Z314218810",1,385.25]
[null,null,null,{"$f":"COUNTIF($E$1:E26013,consulta!$D$1)","v":0},"OMAR CARRANZA GARCIA","Z314220410",1,1484.78]
[null,null,null,{"$f":"COUNTIF($E$1:E26032,consulta!$D$1)","v":0},"ROBERTO HERNAN ROBLES ZEPEDA","Z314221810",1,237.41]
[null,null,null,{"$f":"COUNTIF($E$1:E26048,consulta!$D$1)","v":0},"BAJA AMBIENTAL CONSULTORES SC","Z314222410",1,7495.58]
[null,null,null,{"$f":"COUNTIF($E$1:E26050,consulta!$D$1)","v":0},"BAJA AMBIENTAL CONSULTORES SC","Z314222410",1,6447.32]
[null,null,null,{"$f":"COUNTIF($E$1:E26063,consulta!$D$1)","v":0},"DISTRIBUIDORA RESTAURANTERA DEL NOROESTE SAS DE CV","Z314224710",1,2578.06]
[null,null,null,{"$f":"COUNTIF($E$1:E26085,consulta!$D$1)","v":0},"MARIO ALBERTO MIRANDA ROSALES","Z314226910",1,742.39]
[null,null,null,{"$f":"COUNTIF($E$1:E26092,consulta!$D$1)","v":0},"MARIO ALBERTO MIRANDA ROSALES","Z314226910",1,1307.83]
[null,null,null,{"$f":"COUNTIF($E$1:E26108,consulta!$D$1)","v":0},"JESUS OCTAVIO SANCHEZ VALENZUELA","Z314228010",1,2033.72]
[null,null,null,{"$f":"COUNTIF($E$1:E26122,consulta!$D$1)","v":0},"JESUS OCTAVIO SANCHEZ VALENZUELA","Z314228010",1,1984.19]
[null,null,null,{"$f":"COUNTIF($E$1:E26138,consulta!$D$1)","v":0},"MENUDERIA EL TAPATIO S DE RL DE CV","Z314228210",1,2143.7399999999998]
[null,null,null,{"$f":"COUNTIF($E$1:E26157,consulta!$D$1)","v":0},"JACKELINNE MARROQUIN LOPEZ","Z314230310",1,385.25]
[null,null,null,{"$f":"COUNTIF($E$1:E26167,consulta!$D$1)","v":0},"CLAUDIA JANETH RUIZ MALDONADO","Z314232210",1,1387.95]
[null,null,null,{"$f":"COUNTIF($E$1:E26183,consulta!$D$1)","v":0},"IVAN DE JESUS GONZALEZ CESE#A","Z314235810",1,4133.96]
[null,null,null,{"$f":"COUNTIF($E$1:E26208,consulta!$D$1)","v":0},"GABRIEL MARTIN CUEVAS","Z314236010",2,2130.81]
[null,null,null,{"$f":"COUNTIF($E$1:E26212,consulta!$D$1)","v":0},"GABRIEL MARTIN CUEVAS","Z314236010",2,866.3]
[null,null,null,{"$f":"COUNTIF($E$1:E26229,consulta!$D$1)","v":0},"DENISSE ALOR BRAVO","Z314237310",1,339.15]
[null,null,null,{"$f":"COUNTIF($E$1:E26242,consulta!$D$1)","v":0},"BUSTILLOS DISE#O Y CONSTRUCCION S DE RL DE CV","Z314237410",1,443]
[null,null,null,{"$f":"COUNTIF($E$1:E26258,consulta!$D$1)","v":0},"EISTEC SA DE CV","Z314237810",1,6804.01]
[null,null,null,{"$f":"COUNTIF($E$1:E26280,consulta!$D$1)","v":0},"ENVETIQ SA DE CV","Z314239110",1,1102.07]
[null,null,null,{"$f":"COUNTIF($E$1:E26287,consulta!$D$1)","v":0},"ENOC EBENEZER MORENO SALAZAR","Z314239310",1,1009.11]
[null,null,null,{"$f":"COUNTIF($E$1:E26303,consulta!$D$1)","v":0},"ENOC EBENEZER MORENO SALAZAR","Z314239310",1,270.49]
[null,null,null,{"$f":"COUNTIF($E$1:E26317,consulta!$D$1)","v":0},"JESUS LUNA LOPEZ","Z314240210",1,2934.62]
[null,null,null,{"$f":"COUNTIF($E$1:E26332,consulta!$D$1)","v":0},"GENLEADS SA DE CV","Z314240310",1,971.07]
[null,null,null,{"$f":"COUNTIF($E$1:E26352,consulta!$D$1)","v":0},"JOSE DE LA CRUZ SANCHEZ","Z314240910",1,1046.26]
[null,null,null,{"$f":"COUNTIF($E$1:E26362,consulta!$D$1)","v":0},"RR CARRIERS GROUP DE MEXICO S DE RL DE CV","Z314242410",1,1049.8]
[null,null,null,{"$f":"COUNTIF($E$1:E26378,consulta!$D$1)","v":0},"JSM ENGINEERING GROUP. SA DE CV","Z314244310",1,8630.76]
[null,null,null,{"$f":"COUNTIF($E$1:E26389,consulta!$D$1)","v":0},"EFECTIVE SECURITY MANAGAMENT SEGURIDAD PRIVADA SA DE CV","Z314247310",1,17259.990000000002]
[null,null,null,{"$f":"COUNTIF($E$1:E26407,consulta!$D$1)","v":0},"JE MANUFACTURING S DE RL DE CV","Z314248310",1,1307.83]
[null,null,null,{"$f":"COUNTIF($E$1:E26424,consulta!$D$1)","v":0},"JE MANUFACTURING S DE RL DE CV","Z314248310",1,540.55999999999995]
[null,null,null,{"$f":"COUNTIF($E$1:E26437,consulta!$D$1)","v":0},"MIGUEL ANGEL GONZALEZ RODRIGUEZ","Z314249310",1,3677.05]
[null,null,null,{"$f":"COUNTIF($E$1:E26453,consulta!$D$1)","v":0},"TRAINING FACILITY S DE RL DE CV","Z314251810",1,742.39]
[null,null,null,{"$f":"COUNTIF($E$1:E26461,consulta!$D$1)","v":0},"TRAINING FACILITY S DE RL DE CV","Z314251810",1,420.55]
[null,null,null,{"$f":"COUNTIF($E$1:E26482,consulta!$D$1)","v":0},"SKY CALL AGENCY SAS","Z314253010",1,299.64999999999998]
[null,null,null,{"$f":"COUNTIF($E$1:E26496,consulta!$D$1)","v":0},"BRENDA ROCIO GOMEZ JAUREGUI","Z314254710",1,593.91]
[null,null,null,{"$f":"COUNTIF($E$1:E26512,consulta!$D$1)","v":0},"CENTRO DE TRATAMIENTO EN ADICCIONES BAJAMAR AC","Z314254910",2,1484.52]
[null,null,null,{"$f":"COUNTIF($E$1:E26527,consulta!$D$1)","v":0},"FRANCISCO JAVIER CHAVEZ CASTILLO","Z314255510",1,1257.78]
[null,null,null,{"$f":"COUNTIF($E$1:E26533,consulta!$D$1)","v":0},"FRANCISCO JAVIER CHAVEZ CASTILLO","Z314255510",1,534.52]
[null,null,null,{"$f":"COUNTIF($E$1:E26557,consulta!$D$1)","v":0},"FRANCISCO JAVIER CHAVEZ CASTILLO","Z314255510",1,540.55999999999995]
[null,null,null,{"$f":"COUNTIF($E$1:E26573,consulta!$D$1)","v":0},"PYA ESTRUCTURAS S DE RL DE CV","Z314257010",1,6124.4]
[null,null,null,{"$f":"COUNTIF($E$1:E26584,consulta!$D$1)","v":0},"PYA ESTRUCTURAS S DE RL DE CV","Z314257010",1,11721.86]
[null,null,null,{"$f":"COUNTIF($E$1:E26602,consulta!$D$1)","v":0},"MARENA DE LA PARRA LANDA","Z314258410",1,107.12]
[null,null,null,{"$f":"COUNTIF($E$1:E26605,consulta!$D$1)","v":0},"MARIELOS VERDUGO MAGA#A","Z314259210",1,742.58]
[null,null,null,{"$f":"COUNTIF($E$1:E26632,consulta!$D$1)","v":0},"CLAUDIA IVETTE LOPEZ LOPEZ","Z314260110",1,2102.7600000000002]
[null,null,null,{"$f":"COUNTIF($E$1:E26647,consulta!$D$1)","v":0},"JUAN FRANCISCO AVILA AGUIRRE","Z314261010",1,4612.76]
[null,null,null,{"$f":"COUNTIF($E$1:E26656,consulta!$D$1)","v":0},"JUAN FRANCISCO AVILA AGUIRRE","Z314261010",1,1405.12]
[null,null,null,{"$f":"COUNTIF($E$1:E26662,consulta!$D$1)","v":0},"PREMIER STUDIO AUTODETAIL S DE RL DE CV","Z314261110",1,1501.36]
[null,null,null,{"$f":"COUNTIF($E$1:E26677,consulta!$D$1)","v":0},"LUIS GERARDO HERRERA GOMEZ","Z314261210",2,1509.12]
[null,null,null,{"$f":"COUNTIF($E$1:E26692,consulta!$D$1)","v":0},"LUIS GERARDO HERRERA GOMEZ","Z314261210",2,742.26]
[null,null,null,{"$f":"COUNTIF($E$1:E26707,consulta!$D$1)","v":0},"GRUPO4 RECLUTAMIENTO S DE RL DE CV","Z314261310",2,1208.95]
[null,null,null,{"$f":"COUNTIF($E$1:E26728,consulta!$D$1)","v":0},"KAREN PATRICIA GALLARDO DIAZ DE LEON","Z314261610",1,742.39]
[null,null,null,{"$f":"COUNTIF($E$1:E26737,consulta!$D$1)","v":0},"JOSE NARANJO LOPEZ","Z314262710",1,1813.75]
[null,null,null,{"$f":"COUNTIF($E$1:E26763,consulta!$D$1)","v":0},"M-SERVICES S DE RL DE CV","Z314263010",1,3859.38]
[null,null,null,{"$f":"COUNTIF($E$1:E26767,consulta!$D$1)","v":0},"M-SERVICES S DE RL DE CV","Z314263010",1,1518.86]
[null,null,null,{"$f":"COUNTIF($E$1:E26782,consulta!$D$1)","v":0},"DCT DIESEL TOTAL & SUMINISTROS SA DE CV","Z314264510",1,1497.42]
[null,null,null,{"$f":"COUNTIF($E$1:E26800,consulta!$D$1)","v":0},"MARIA LUISA ESTHER FLORES SOLIS","Z314265510",1,540.55999999999995]
[null,null,null,{"$f":"COUNTIF($E$1:E26812,consulta!$D$1)","v":0},"IMPERMEABILIZANTES Y ADITIVOS DG S DE RL DE CV","Z314266910",1,1966.88]
[null,null,null,{"$f":"COUNTIF($E$1:E26827,consulta!$D$1)","v":0},"LUIS ALVERTO RODRIGUEZ RODRIGUEZ","Z314267510",1,18191.689999999999]
[null,null,null,{"$f":"COUNTIF($E$1:E26851,consulta!$D$1)","v":0},"SANIDAD DEL SUR S DE RL DE CV","Z314268710",2,3586.5]
[null,null,null,{"$f":"COUNTIF($E$1:E26857,consulta!$D$1)","v":0},"SANIDAD DEL SUR S DE RL DE CV","Z314268710",1,3859.47]
[null,null,null,{"$f":"COUNTIF($E$1:E26872,consulta!$D$1)","v":0},"INMOBILIARIA Y SERVICIOS COMERCIALES CH SA DE CV","Z314270710",1,4619.51]
[null,null,null,{"$f":"COUNTIF($E$1:E26887,consulta!$D$1)","v":0},"UTILITY PRODUCTS SA DE CV","Z314271510",1,5182.37]
[null,null,null,{"$f":"COUNTIF($E$1:E26902,consulta!$D$1)","v":0},"UTILITY PRODUCTS SA DE CV","Z314271510",1,10801.68]
[null,null,null,{"$f":"COUNTIF($E$1:E26923,consulta!$D$1)","v":0},"JORGE UBILLO PONCE","Z314272510",1,3040.33]
[null,null,null,{"$f":"COUNTIF($E$1:E26932,consulta!$D$1)","v":0},"CRISTHIAN FERNANDO MERCADO CANIZALES","Z314273710",1,2263.6799999999998]
[null,null,null,{"$f":"COUNTIF($E$1:E26944,consulta!$D$1)","v":0},"CRISTHIAN FERNANDO MERCADO CANIZALES","Z314273710",1,1155.75]
[null,null,null,{"$f":"COUNTIF($E$1:E26962,consulta!$D$1)","v":0},"ROSALINO PALMEROS VELA","Z314275710",1,2072.52]
[null,null,null,{"$f":"COUNTIF($E$1:E26977,consulta!$D$1)","v":0},"ROSALINO PALMEROS VELA","Z314275710",1,2102.7600000000002]
[null,null,null,{"$f":"COUNTIF($E$1:E26995,consulta!$D$1)","v":0},"EDUARDO DOMINGUEZ BARRETT","Z314277610",1,1452.66]
[null,null,null,{"$f":"COUNTIF($E$1:E27007,consulta!$D$1)","v":0},"EDUARDO DOMINGUEZ BARRETT","Z314277610",1,581.05999999999995]
[null,null,null,{"$f":"COUNTIF($E$1:E27026,consulta!$D$1)","v":0},"JESUS ARMANDO FAVELA OTA#EZ","Z314278010",1,418.54]
[null,null,null,{"$f":"COUNTIF($E$1:E27037,consulta!$D$1)","v":0},"GRUPO GASTRONOMICO JHR SA DE CV","Z314282310",1,18105.62]
[null,null,null,{"$f":"COUNTIF($E$1:E27052,consulta!$D$1)","v":0},"PACIFIC CREATIVE S DE RL DE CV","Z314283610",1,11045.11]
[null,null,null,{"$f":"COUNTIF($E$1:E27067,consulta!$D$1)","v":0},"B2B MARCAS Y FRANQUICIAS SA DE CV","Z314285310",1,4574]
[null,null,null,{"$f":"COUNTIF($E$1:E27082,consulta!$D$1)","v":0},"SELECTORA DE CAPITAL HUMANO S DE RL DE CV","Z314287310",1,874.31]
[null,null,null,{"$f":"COUNTIF($E$1:E27098,consulta!$D$1)","v":0},"NBI INVESTMENT GROUP S DE RL DE CV","Z314287410",1,23477.08]
[null,null,null,{"$f":"COUNTIF($E$1:E27112,consulta!$D$1)","v":0},"NBI INVESTMENT GROUP S DE RL DE CV","Z314287410",1,39178.67]
[null,null,null,{"$f":"COUNTIF($E$1:E27127,consulta!$D$1)","v":0},"MARIA DEL SOCORRO CARVAJAL VAZQUEZ","Z314287610",1,296.95]
[null,null,null,{"$f":"COUNTIF($E$1:E27135,consulta!$D$1)","v":0},"IVAN EDUARDO RODRIGUEZ RODRIGUEZ","Z314288410",1,895.25]
[null,null,null,{"$f":"COUNTIF($E$1:E27157,consulta!$D$1)","v":0},"IVAN EDUARDO RODRIGUEZ RODRIGUEZ","Z314288410",1,371.13]
[null,null,null,{"$f":"COUNTIF($E$1:E27172,consulta!$D$1)","v":0},"SILVIA FERNANDA MARTIN ORTEGA","Z314288610",1,14436.12]
[null,null,null,{"$f":"COUNTIF($E$1:E27176,consulta!$D$1)","v":0},"AYS FUMIGACION S DE RL DE CV","Z314288810",1,10551.68]
[null,null,null,{"$f":"COUNTIF($E$1:E27202,consulta!$D$1)","v":0},"AYS FUMIGACION S DE RL DE CV","Z314288810",1,8207.6]
[null,null,null,{"$f":"COUNTIF($E$1:E27207,consulta!$D$1)","v":0},"AYS FUMIGACION S DE RL DE CV","Z314288810",1,4232.6499999999996]
[null,null,null,{"$f":"COUNTIF($E$1:E27217,consulta!$D$1)","v":0},"FELIPE ARTURO HERNANDEZ VALDEZ","Z314288910",1,2702.84]
[null,null,null,{"$f":"COUNTIF($E$1:E27232,consulta!$D$1)","v":0},"JESUS OMAR LOPEZ SANCHEZ","Z314289510",1,1521.94]
[null,null,null,{"$f":"COUNTIF($E$1:E27248,consulta!$D$1)","v":0},"JESUS OMAR LOPEZ SANCHEZ","Z314289510",1,3936.12]
[null,null,null,{"$f":"COUNTIF($E$1:E27262,consulta!$D$1)","v":0},"OSVALDO CASTRO CARRILLO","Z314290210",1,5494.73]
[null,null,null,{"$f":"COUNTIF($E$1:E27279,consulta!$D$1)","v":0},"JOSE OCTAVIO BONILLA VILLEGAS","Z314290910",1,1289.3699999999999]
[null,null,null,{"$f":"COUNTIF($E$1:E27292,consulta!$D$1)","v":0},"JOSE OCTAVIO BONILLA VILLEGAS","Z314290910",1,260.14999999999998]
[null,null,null,{"$f":"COUNTIF($E$1:E27307,consulta!$D$1)","v":0},"POLIMNEA URANIA MOLINA VALDEZ","Z314293810",1,956.94]
[null,null,null,{"$f":"COUNTIF($E$1:E27330,consulta!$D$1)","v":0},"COORDINADORES JRT SA DE CV","Z314295210",1,4708.58]
[null,null,null,{"$f":"COUNTIF($E$1:E27337,consulta!$D$1)","v":0},"TRANSPORTES MILENA S DE RL DE CV","Z314296110",1,120483.62]
[null,null,null,{"$f":"COUNTIF($E$1:E27351,consulta!$D$1)","v":0},"MIRIAM MARIA CASTRO SOTO","Z314296610",1,865.22]
[null,null,null,{"$f":"COUNTIF($E$1:E27367,consulta!$D$1)","v":0},"WTECH S DE RL DE CV","Z314298510",1,12713.07]
[null,null,null,{"$f":"COUNTIF($E$1:E27382,consulta!$D$1)","v":0},"WTECH S DE RL DE CV","Z314298510",1,9937.41]
[null,null,null,{"$f":"COUNTIF($E$1:E27402,consulta!$D$1)","v":0},"PROMOCALL SA DE CV","Z314298810",1,10976.92]
[null,null,null,{"$f":"COUNTIF($E$1:E27412,consulta!$D$1)","v":0},"YOON S FASHION S DE RL DE CV","Z314299810",1,4582.8599999999997]
[null,null,null,{"$f":"COUNTIF($E$1:E27427,consulta!$D$1)","v":0},"SERVICIOS CONSULTORES Q Y U S DE RL DE CV","Z314300810",1,3565.33]
[null,null,null,{"$f":"COUNTIF($E$1:E27443,consulta!$D$1)","v":0},"SERVICIOS CONSULTORES Q Y U S DE RL DE CV","Z314300810",1,1460.46]
[null,null,null,{"$f":"COUNTIF($E$1:E27457,consulta!$D$1)","v":0},"SERVICIOS CONSULTORES Q Y U S DE RL DE CV","Z314300810",1,2796.21]
[null,null,null,{"$f":"COUNTIF($E$1:E27474,consulta!$D$1)","v":0},"YUECHAO CEN","Z314300910",1,385.25]
[null,null,null,{"$f":"COUNTIF($E$1:E27487,consulta!$D$1)","v":0},"CONSTRUCTORA VIVJMART S DE RL DE CV","Z314302110",1,97005.4]
[null,null,null,{"$f":"COUNTIF($E$1:E27502,consulta!$D$1)","v":0},"RESIDENCIA RUTA TERRESTRE S DE P DE RL","Z314302210",1,420.55]
[null,null,null,{"$f":"COUNTIF($E$1:E27511,consulta!$D$1)","v":0},"RESIDENCIA RUTA TERRESTRE S DE P DE RL","Z314302210",1,1051.3800000000001]
[null,null,null,{"$f":"COUNTIF($E$1:E27532,consulta!$D$1)","v":0},"DORA LUZ CASTRO RIVERA","Z314303710",1,754.56]
[null,null,null,{"$f":"COUNTIF($E$1:E27546,consulta!$D$1)","v":0},"ALEJANDRO HERNANDEZ BARRIOS","Z314304910",1,1439]
[null,null,null,{"$f":"COUNTIF($E$1:E27562,consulta!$D$1)","v":0},"FUNDACION POR EL ALZHEIMER CASA BELEN DE BC AC","Z314306510",1,1567.84]
[null,null,null,{"$f":"COUNTIF($E$1:E27577,consulta!$D$1)","v":0},"ETM TRUCKING SA DE CV","Z314306710",1,2230.81]
[null,null,null,{"$f":"COUNTIF($E$1:E27583,consulta!$D$1)","v":0},"ETM TRUCKING SA DE CV","Z314306710",1,4620.3999999999996]
[null,null,null,{"$f":"COUNTIF($E$1:E27607,consulta!$D$1)","v":0},"RECICLADORA AMBIENTAL HEROA S DE RL DE CV","Z314307010",1,6495.35]
[null,null,null,{"$f":"COUNTIF($E$1:E27618,consulta!$D$1)","v":0},"IFMANIFJ PATRIMONIO FAMILIAR S DE RL DE CV","Z314307610",1,709.09]
[null,null,null,{"$f":"COUNTIF($E$1:E27636,consulta!$D$1)","v":0},"M@NAGER GROUP XLM SA DE CV","Z314308010",2,89.78]
[null,null,null,{"$f":"COUNTIF($E$1:E27652,consulta!$D$1)","v":0},"ENDOMICK S DE RL DE CV","Z314312410",1,368244.3]
[null,null,null,{"$f":"COUNTIF($E$1:E27669,consulta!$D$1)","v":0},"GUADALUPE DIAZ CHAVERRIA","Z314313410",1,1488.3]
[null,null,null,{"$f":"COUNTIF($E$1:E27682,consulta!$D$1)","v":0},"GUADALUPE DIAZ CHAVERRIA","Z314313410",1,595.32000000000005]
[null,null,null,{"$f":"COUNTIF($E$1:E27690,consulta!$D$1)","v":0},"CARMEN YUDITH ORTEGA GARCIA","Z314313810",1,17383.38]
[null,null,null,{"$f":"COUNTIF($E$1:E27711,consulta!$D$1)","v":0},"GUSTAVO JAVIER CHAVEZ","Z314313910",1,261.04000000000002]
[null,null,null,{"$f":"COUNTIF($E$1:E27727,consulta!$D$1)","v":0},"MARIA DE LOS ANGELES PE#A JARA","Z314314210",1,890.86]
[null,null,null,{"$f":"COUNTIF($E$1:E27741,consulta!$D$1)","v":0},"GRUPO IMVABEX S DE RL DE CV","Z314316410",2,5411.62]
[null,null,null,{"$f":"COUNTIF($E$1:E27757,consulta!$D$1)","v":0},"GRUPO IMVABEX S DE RL DE CV","Z314316410",2,13995.91]
[null,null,null,{"$f":"COUNTIF($E$1:E27772,consulta!$D$1)","v":0},"ARTYSE. SA DE CV","Z314317010",2,368.07]
[null,null,null,{"$f":"COUNTIF($E$1:E27778,consulta!$D$1)","v":0},"ARTYSE. SA DE CV","Z314317010",2,1512.69]
[null,null,null,{"$f":"COUNTIF($E$1:E27787,consulta!$D$1)","v":0},"ARTYSE. SA DE CV","Z314317010",2,6217.73]
[null,null,null,{"$f":"COUNTIF($E$1:E27813,consulta!$D$1)","v":0},"JORGE SANCHEZ STAMATIS","Z314319310",1,1779.34]
[null,null,null,{"$f":"COUNTIF($E$1:E27816,consulta!$D$1)","v":0},"JORGE SANCHEZ STAMATIS","Z314319310",1,1749.69]
[null,null,null,{"$f":"COUNTIF($E$1:E27832,consulta!$D$1)","v":0},"JORGE SANCHEZ STAMATIS","Z314319310",1,1040.8800000000001]
[null,null,null,{"$f":"COUNTIF($E$1:E27850,consulta!$D$1)","v":0},"MARIO ALFREDO HUERTA DIAZ","Z314320110",1,727.9]
[null,null,null,{"$f":"COUNTIF($E$1:E27862,consulta!$D$1)","v":0},"CLUSTER AEROESPACIAL DE BAJA CALIFORNIA AC","Z314321110",1,898.98]
[null,null,null,{"$f":"COUNTIF($E$1:E27885,consulta!$D$1)","v":0},"VALERIA PONCE GUZMAN","Z314323110",1,165.51]
[null,null,null,{"$f":"COUNTIF($E$1:E27891,consulta!$D$1)","v":0},"OULET BY XO Y KUMIAI SA DE CV","Z314323510",2,4360.47]
[null,null,null,{"$f":"COUNTIF($E$1:E27907,consulta!$D$1)","v":0},"OULET BY XO Y KUMIAI SA DE CV","Z314323510",2,1676.9]
[null,null,null,{"$f":"COUNTIF($E$1:E27922,consulta!$D$1)","v":0},"BARELY SOLUCIONES COMERCIALES SA DE CV","Z314323610",1,17695.8]
[null,null,null,{"$f":"COUNTIF($E$1:E27936,consulta!$D$1)","v":0},"TESTA MARKETING SA DE CV","Z314324210",1,296.95]
[null,null,null,{"$f":"COUNTIF($E$1:E27957,consulta!$D$1)","v":0},"RAFAEL SERRATOS MEDINA","Z314325310",1,1876.62]
[null,null,null,{"$f":"COUNTIF($E$1:E27966,consulta!$D$1)","v":0},"RAGEBRA S DE RL DE CV","Z314327110",1,5946.24]
[null,null,null,{"$f":"COUNTIF($E$1:E27982,consulta!$D$1)","v":0},"CONSEJO BILING?E DE TIJUANA S DE RL DE CV","Z314327810",1,11581.28]
[null,null,null,{"$f":"COUNTIF($E$1:E27994,consulta!$D$1)","v":0},"VICENTE VEGA NU#EZ","Z314329310",1,1182.3699999999999]
[null,null,null,{"$f":"COUNTIF($E$1:E28011,consulta!$D$1)","v":0},"DALIA GUADALUPE RENDON VILLAZANA","Z314330810",1,4089.24]
[null,null,null,{"$f":"COUNTIF($E$1:E28027,consulta!$D$1)","v":0},"CENTRO DE INVESTIGACION Y ESTUDIOS SUPERIORES FLORENCE NIGHTINGAL SC","Z314332410",1,1280.9100000000001]
[null,null,null,{"$f":"COUNTIF($E$1:E28045,consulta!$D$1)","v":0},"CARLOS DIAZ MOZQUEDA","Z314334710",1,146.08000000000001]
[null,null,null,{"$f":"COUNTIF($E$1:E28057,consulta!$D$1)","v":0},"CARLOS DIAZ MOZQUEDA","Z314334710",1,1850.64]
[null,null,null,{"$f":"COUNTIF($E$1:E28066,consulta!$D$1)","v":0},"CARLOS DIAZ MOZQUEDA","Z314334710",1,40197.269999999997]
[null,null,null,{"$f":"COUNTIF($E$1:E28086,consulta!$D$1)","v":0},"FERNANDO MALDONADO PALAFOX","Z314335910",1,527.72]
[null,null,null,{"$f":"COUNTIF($E$1:E28102,consulta!$D$1)","v":0},"JESUS GONZALO GARCIA VALENTIN","Z314336510",1,777.18]
[null,null,null,{"$f":"COUNTIF($E$1:E28117,consulta!$D$1)","v":0},"JESUS GONZALO GARCIA VALENTIN","Z314336510",1,781.89]
[null,null,null,{"$f":"COUNTIF($E$1:E28131,consulta!$D$1)","v":0},"JOSE HUMBERTO AGUIRRE AGUILAR","Z314336910",1,1484.78]
[null,null,null,{"$f":"COUNTIF($E$1:E28138,consulta!$D$1)","v":0},"JOSE HUMBERTO AGUIRRE AGUILAR","Z314336910",1,593.91]
[null,null,null,{"$f":"COUNTIF($E$1:E28161,consulta!$D$1)","v":0},"ITZEL JASARETH ALVARADO CORNEJO","Z314339510",1,180.12]
[null,null,null,{"$f":"COUNTIF($E$1:E28177,consulta!$D$1)","v":0},"ITZEL JASARETH ALVARADO CORNEJO","Z314339510",1,742.26]
[null,null,null,{"$f":"COUNTIF($E$1:E28189,consulta!$D$1)","v":0},null,"Z314340010",1,258.01]
[null,null,null,{"$f":"COUNTIF($E$1:E28206,consulta!$D$1)","v":0},"BERNARDO SANCHEZ RIOS","Z314342010",1,365.22]
[null,null,null,{"$f":"COUNTIF($E$1:E28224,consulta!$D$1)","v":0},"SOLUCIONES INTEGRALES ISK SA DE CV","Z314344210",1,99330.25]
[null,null,null,{"$f":"COUNTIF($E$1:E28236,consulta!$D$1)","v":0},"MASONITE MEXICO SA DE CV","Z314344810",1,1390.16]
[null,null,null,{"$f":"COUNTIF($E$1:E28252,consulta!$D$1)","v":0},"DENISSE ALEJANDRINA CRUZ RAMIREZ","Z314346310",1,2412.6999999999998]
[null,null,null,{"$f":"COUNTIF($E$1:E28261,consulta!$D$1)","v":0},"LC IMPRESIONES SA DE CV","Z314348710",1,1498.32]
[null,null,null,{"$f":"COUNTIF($E$1:E28281,consulta!$D$1)","v":0},"EMMA LOZA SOTO","Z314349410",1,371.13]
[null,null,null,{"$f":"COUNTIF($E$1:E28297,consulta!$D$1)","v":0},"JOSUE ERNESTO MEJIA COVARRUBIAS","Z314349510",1,1128.32]
[null,null,null,{"$f":"COUNTIF($E$1:E28312,consulta!$D$1)","v":0},"DAVID ORLANDO NAVARRO SANTIESTEBAN","Z314349910",1,1300.51]
[null,null,null,{"$f":"COUNTIF($E$1:E28326,consulta!$D$1)","v":0},"JX3 PREFABRICATED BUILDINGS S DE RL DE CV","Z314350110",1,1090.1400000000001]
[null,null,null,{"$f":"COUNTIF($E$1:E28333,consulta!$D$1)","v":0},"CARDOSO FOOD MEXICANA S DE RL DE CV","Z314351910",1,28414.080000000002]
[null,null,null,{"$f":"COUNTIF($E$1:E28356,consulta!$D$1)","v":0},"JESUS ALBERTO CLEMENTE DE LA CRUZ","Z314353110",1,187.22]
[null,null,null,{"$f":"COUNTIF($E$1:E28357,consulta!$D$1)","v":0},"JESUS ALBERTO CLEMENTE DE LA CRUZ","Z314353110",1,1437.04]
[null,null,null,{"$f":"COUNTIF($E$1:E28384,consulta!$D$1)","v":0},"JUVEMCOOP SC DE RL DE CV","Z314355010",1,929452.7]
[null,null,null,{"$f":"COUNTIF($E$1:E28386,consulta!$D$1)","v":0},"JUVEMCOOP SC DE RL DE CV","Z314355010",1,476898.07]
[null,null,null,{"$f":"COUNTIF($E$1:E28405,consulta!$D$1)","v":0},"RICARDO BRAVO SANCHEZ","Z314355910",1,1870.34]
[null,null,null,{"$f":"COUNTIF($E$1:E28416,consulta!$D$1)","v":0},"JORGE BERRY MARTINEZ","Z314356010",1,772.25]
[null,null,null,{"$f":"COUNTIF($E$1:E28431,consulta!$D$1)","v":0},"AIDE VANESSA SEGURA DIAZ","Z314356410",1,1256.22]
[null,null,null,{"$f":"COUNTIF($E$1:E28456,consulta!$D$1)","v":0},"ESTEBAN DE JESUS MEZA SA#UDO","Z314357510",1,466.23]
[null,null,null,{"$f":"COUNTIF($E$1:E28461,consulta!$D$1)","v":0},"LETICIA HEREDIA ARCINIEGA","Z314357910",1,765.55]
[null,null,null,{"$f":"COUNTIF($E$1:E28477,consulta!$D$1)","v":0},"ATELIER 2020 S DE RL DE CV","Z314359210",1,10295.91]
[null,null,null,{"$f":"COUNTIF($E$1:E28491,consulta!$D$1)","v":0},"NOEL MISAEL SIERRA CRUZ","Z314359610",1,756.35]
[null,null,null,{"$f":"COUNTIF($E$1:E28506,consulta!$D$1)","v":0},"ANGEL JAVIER PEDRO MARTINEZ","Z314360410",1,359.16]
[null,null,null,{"$f":"COUNTIF($E$1:E28528,consulta!$D$1)","v":0},"PROYECTOS Y MANTENIMIENTO SALDIVA S DE RL DE CV","Z314361210",1,1623.99]
[null,null,null,{"$f":"COUNTIF($E$1:E28536,consulta!$D$1)","v":0},"CERVANDO GONZALEZ GUILLEN","Z314361410",1,540.55999999999995]
[null,null,null,{"$f":"COUNTIF($E$1:E28549,consulta!$D$1)","v":0},"VIVACEL DE MEXICO S DE RL DE CV","Z314362110",1,22129.49]
[null,null,null,{"$f":"COUNTIF($E$1:E28566,consulta!$D$1)","v":0},"JOB ALEJANDRO JUAREZ AGUILAR","Z314362510",1,68.150000000000006]
[null,null,null,{"$f":"COUNTIF($E$1:E28581,consulta!$D$1)","v":0},"GLORIA ELIZETH TACUBA TLAMANALCO","Z314363810",1,10783.75]
[null,null,null,{"$f":"COUNTIF($E$1:E28600,consulta!$D$1)","v":0},"GLORIA ELIZETH TACUBA TLAMANALCO","Z314363810",1,4313.5]
[null,null,null,{"$f":"COUNTIF($E$1:E28611,consulta!$D$1)","v":0},"DANIEL ARMANDO LOPEZ MARQUEZ","Z314365810",1,385.25]
[null,null,null,{"$f":"COUNTIF($E$1:E28626,consulta!$D$1)","v":0},"ACE AERO GROUP","Z314366110",1,1943.03]
[null,null,null,{"$f":"COUNTIF($E$1:E28637,consulta!$D$1)","v":0},"ACE AERO GROUP","Z314366110",1,803.1]
[null,null,null,{"$f":"COUNTIF($E$1:E28656,consulta!$D$1)","v":0},"ANDRES ARAMBURO ALEMAN","Z314367610",1,1363.51]
[null,null,null,{"$f":"COUNTIF($E$1:E28672,consulta!$D$1)","v":0},"PINK AGAVE S DE RL DE CV","Z314368810",1,773.48]
[null,null,null,{"$f":"COUNTIF($E$1:E28686,consulta!$D$1)","v":0},"NOBLEZA OBLIGA S DE RL","Z314369410",1,1354.19]
[null,null,null,{"$f":"COUNTIF($E$1:E28701,consulta!$D$1)","v":0},"ALTEC EXPERIENCIAS DEPORTIVAS S DE RL DE CV","Z314369610",1,1574.52]
[null,null,null,{"$f":"COUNTIF($E$1:E28709,consulta!$D$1)","v":0},"CINTHIA LUCILA GONZALEZ LEA","Z314369810",1,3644.63]
[null,null,null,{"$f":"COUNTIF($E$1:E28731,consulta!$D$1)","v":0},"ZFT S DE RL DE CV","Z314374210",1,1806.77]
[null,null,null,{"$f":"COUNTIF($E$1:E28740,consulta!$D$1)","v":0},"ZFT S DE RL DE CV","Z314374210",1,420.55]
[null,null,null,{"$f":"COUNTIF($E$1:E28761,consulta!$D$1)","v":0},"SERGIO MANUEL MARTIN SANCHEZ CASTILLO","Z314375410",1,2852.12]
[null,null,null,{"$f":"COUNTIF($E$1:E28776,consulta!$D$1)","v":0},"PEDRO VALENZUELA COTA","Z314376610",1,179.57]
[null,null,null,{"$f":"COUNTIF($E$1:E28781,consulta!$D$1)","v":0},"FATIMA DAYAN GONZALEZ CRUZ","Z314376910",1,385.25]
[null,null,null,{"$f":"COUNTIF($E$1:E28806,consulta!$D$1)","v":0},"ARROYOS CRISTAL SA DE CV","Z314378710",1,5633.55]
[null,null,null,{"$f":"COUNTIF($E$1:E28812,consulta!$D$1)","v":0},"JORGE REYES MENDIOLA","Z314379510",2,375.85]
[null,null,null,{"$f":"COUNTIF($E$1:E28836,consulta!$D$1)","v":0},"BERTHA ALICIA ZU#IGA HERNANDEZ","Z314382210",1,742.55]
[null,null,null,{"$f":"COUNTIF($E$1:E28851,consulta!$D$1)","v":0},"FRANCISCA GUADALUPE REAL CESE#A","Z314383210",1,429.33]
[null,null,null,{"$f":"COUNTIF($E$1:E28867,consulta!$D$1)","v":0},"JESSICA APOLONIO MEDINA","Z314384910",1,1852.9]
[null,null,null,{"$f":"COUNTIF($E$1:E28881,consulta!$D$1)","v":0},"CONSULTORIA INTELIGENTE Y PROCESOS ADMINISTRATIVOS ECPACSA S DE RL DE CV","Z314387110",1,904.17]
[null,null,null,{"$f":"COUNTIF($E$1:E28896,consulta!$D$1)","v":0},"ELISEO MARTINEZ COLMENERO","Z314389510",1,269.42]
[null,null,null,{"$f":"COUNTIF($E$1:E28904,consulta!$D$1)","v":0},"ELISEO MARTINEZ COLMENERO","Z314389510",1,298.81]
[null,null,null,{"$f":"COUNTIF($E$1:E28926,consulta!$D$1)","v":0},"DAVID MIGUEL LOPEZ","Z314390010",1,742.39]
[null,null,null,{"$f":"COUNTIF($E$1:E28935,consulta!$D$1)","v":0},"DAVID MIGUEL LOPEZ","Z314390010",1,371.13]
[null,null,null,{"$f":"COUNTIF($E$1:E28941,consulta!$D$1)","v":0},"LUIS ALBERTO CRISANTOS CORONA","Z314391410",1,800.15]
[null,null,null,{"$f":"COUNTIF($E$1:E28956,consulta!$D$1)","v":0},"NORPROJECT CONSTRUCTORA SA DE CV","Z314393710",1,40534.78]
[null,null,null,{"$f":"COUNTIF($E$1:E28976,consulta!$D$1)","v":0},"NORPROJECT CONSTRUCTORA SA DE CV","Z314393710",1,25628.04]
[null,null,null,{"$f":"COUNTIF($E$1:E28986,consulta!$D$1)","v":0},"OSCAR MARIO GONZALEZ ROMO","Z314393910",1,4478.46]
[null,null,null,{"$f":"COUNTIF($E$1:E29007,consulta!$D$1)","v":0},"OSCAR MARIO GONZALEZ ROMO","Z314393910",1,5792.22]
[null,null,null,{"$f":"COUNTIF($E$1:E29016,consulta!$D$1)","v":0},"OSCAR MARIO GONZALEZ ROMO","Z314393910",1,2316.88]
[null,null,null,{"$f":"COUNTIF($E$1:E29031,consulta!$D$1)","v":0},"VERONICA ORTIZ ZAMUDIO","Z314394710",1,1208.24]
[null,null,null,{"$f":"COUNTIF($E$1:E29048,consulta!$D$1)","v":0},"HUGO ABRAHAM NIEBLAS LOPEZ","Z314396910",1,438.94]
[null,null,null,{"$f":"COUNTIF($E$1:E29061,consulta!$D$1)","v":0},"CONSTRUCCION Y URBANIZACION NL SA DE CV","Z314400010",1,2969.58]
[null,null,null,{"$f":"COUNTIF($E$1:E29079,consulta!$D$1)","v":0},"MISSION MARKETING GROUP SAS DE CV","Z314402710",1,10782.56]
[null,null,null,{"$f":"COUNTIF($E$1:E29091,consulta!$D$1)","v":0},"MISSION MARKETING GROUP SAS DE CV","Z314402710",1,29756.16]
[null,null,null,{"$f":"COUNTIF($E$1:E29106,consulta!$D$1)","v":0},"RODOLFO LONA FONSECA","Z314404710",1,964.12]
[null,null,null,{"$f":"COUNTIF($E$1:E29130,consulta!$D$1)","v":0},"SUEY BERENICE PEREZ GONZALEZ","Z314406310",1,2824.14]
[null,null,null,{"$f":"COUNTIF($E$1:E29136,consulta!$D$1)","v":0},"VICTOR HUGO OROPEZA GALVEZ","Z314406910",1,5549.72]
[null,null,null,{"$f":"COUNTIF($E$1:E29151,consulta!$D$1)","v":0},"CONSTRUCCIONES DE LA BAJA RDJ S DE RL DE CV","Z314408110",1,374.84]
[null,null,null,{"$f":"COUNTIF($E$1:E29166,consulta!$D$1)","v":0},"TURBO PERSONAL SOLUTIONS S DE RL DE CV","Z314410710",1,4304.8100000000004]
[null,null,null,{"$f":"COUNTIF($E$1:E29181,consulta!$D$1)","v":0},"BELIZARIO CEBREROS ARECHIGA","Z314413410",1,765.55]
[null,null,null,{"$f":"COUNTIF($E$1:E29202,consulta!$D$1)","v":0},"CARLOS SUAREZ DE LA CRUZ","Z314413510",1,9417.7800000000007]
[null,null,null,{"$f":"COUNTIF($E$1:E29211,consulta!$D$1)","v":0},"DC INGENIERIA Y CONSTRUCCIONES S DE RL DE CV","Z314415210",1,1530.88]
[null,null,null,{"$f":"COUNTIF($E$1:E29226,consulta!$D$1)","v":0},"MAURICIO ESTRADA OLIVA","Z314416810",1,12966.31]
[null,null,null,{"$f":"COUNTIF($E$1:E29239,consulta!$D$1)","v":0},"MAURICIO ESTRADA OLIVA","Z314416810",1,2168.69]
[null,null,null,{"$f":"COUNTIF($E$1:E29256,consulta!$D$1)","v":0},"EDGAR IGNACIO BUENDIA LOPEZ","Z314417410",1,36.520000000000003]
[null,null,null,{"$f":"COUNTIF($E$1:E29274,consulta!$D$1)","v":0},"ABRAHAM SIGALA MARTINEZ","Z314417910",1,1382.42]
[null,null,null,{"$f":"COUNTIF($E$1:E29286,consulta!$D$1)","v":0},"ADRIANA LIZETH MOLINA ENRIQUEZ ROSALES","Z314418910",1,58.56]
[null,null,null,{"$f":"COUNTIF($E$1:E29301,consulta!$D$1)","v":0},"BIONOSTICA SA DE CV","Z314420110",1,3594.26]
[null,null,null,{"$f":"COUNTIF($E$1:E29311,consulta!$D$1)","v":0},"ROMAN LOPEZ JAIME","Z314420410",1,1185.6400000000001]
[null,null,null,{"$f":"COUNTIF($E$1:E29331,consulta!$D$1)","v":0},"SOLEDAD MOLINA PEREZ","Z314420810",1,929.32]
[null,null,null,{"$f":"COUNTIF($E$1:E29346,consulta!$D$1)","v":0},"SOLEDAD MOLINA PEREZ","Z314420810",1,899.32]
[null,null,null,{"$f":"COUNTIF($E$1:E29361,consulta!$D$1)","v":0},"MARCOS FERNANDO MURO AMADOR","Z314421810",1,4157.38]
[null,null,null,{"$f":"COUNTIF($E$1:E29376,consulta!$D$1)","v":0},"MARCOS FERNANDO MURO AMADOR","Z314421810",1,7350]
[null,null,null,{"$f":"COUNTIF($E$1:E29383,consulta!$D$1)","v":0},"ICABC SC","Z314422310",1,1467.56]
[null,null,null,{"$f":"COUNTIF($E$1:E29406,consulta!$D$1)","v":0},"ERICK IVAN HERNANDEZ ALCAIDE","Z314425010",1,450.58]
[null,null,null,{"$f":"COUNTIF($E$1:E29418,consulta!$D$1)","v":0},"CORTINAS EXPRES SA DE CV","Z314425710",1,2078.63]
[null,null,null,{"$f":"COUNTIF($E$1:E29435,consulta!$D$1)","v":0},"IMOX MARKETING CONSULTANCY SAS DE CV","Z314426210",1,4152.78]
[null,null,null,{"$f":"COUNTIF($E$1:E29451,consulta!$D$1)","v":0},"GRUPO CG TRACTOCENTER S DE RL DE CV","Z314427010",1,476.06]
[null,null,null,{"$f":"COUNTIF($E$1:E29455,consulta!$D$1)","v":0},"GRUPO CG TRACTOCENTER S DE RL DE CV","Z314427010",1,408.04]
[null,null,null,{"$f":"COUNTIF($E$1:E29481,consulta!$D$1)","v":0},"OPTIMUM CLEAN INDUSTRIAL SYSTEM SAS DE CV","Z314427310",1,469.21]
[null,null,null,{"$f":"COUNTIF($E$1:E29496,consulta!$D$1)","v":0},"CUAUHTEMOC ZAMUDIO GONZALEZ","Z314427610",1,352.06]
[null,null,null,{"$f":"COUNTIF($E$1:E29506,consulta!$D$1)","v":0},"BLANCA ISELA RODRIGUEZ CONTRERAS","Z314433610",2,432.88]
[null,null,null,{"$f":"COUNTIF($E$1:E29511,consulta!$D$1)","v":0},"BLANCA ISELA RODRIGUEZ CONTRERAS","Z314433610",1,39.35]
[null,null,null,{"$f":"COUNTIF($E$1:E29527,consulta!$D$1)","v":0},"BLANCA ISELA RODRIGUEZ CONTRERAS","Z314433610",2,1090.4100000000001]
[null,null,null,{"$f":"COUNTIF($E$1:E29541,consulta!$D$1)","v":0},"DULCE LUCERO VALADEZ GONZALEZ","Z314434010",1,890.86]
[null,null,null,{"$f":"COUNTIF($E$1:E29556,consulta!$D$1)","v":0},"CAVAL CONSULTORES SC","Z314439110",1,11796.05]
[null,null,null,{"$f":"COUNTIF($E$1:E29578,consulta!$D$1)","v":0},"M J M SERVICIOS Y REPARACION DE MONTACARGAS S DE RL DE CV","Z314441510",1,470.56]
[null,null,null,{"$f":"COUNTIF($E$1:E29586,consulta!$D$1)","v":0},"CONSULTORES SUAR S DE RL DE CV","Z314443610",1,839.77]
[null,null,null,{"$f":"COUNTIF($E$1:E29599,consulta!$D$1)","v":0},"CONSULTORES SUAR S DE RL DE CV","Z314443610",1,174.38]
[null,null,null,{"$f":"COUNTIF($E$1:E29615,consulta!$D$1)","v":0},"DIANA PERALTA DE LA CUESTA","Z314443710",1,1424.56]
[null,null,null,{"$f":"COUNTIF($E$1:E29631,consulta!$D$1)","v":0},"POWER ELECTRIC DE TIJUANA S DE RL DE CV","Z314443810",1,8395.57]
[null,null,null,{"$f":"COUNTIF($E$1:E29650,consulta!$D$1)","v":0},"REPAC MANTENIMIENTO INDUSTRIAL S DE RL DE CV","Z314446110",1,705.87]
[null,null,null,{"$f":"COUNTIF($E$1:E29661,consulta!$D$1)","v":0},"MARTHA SONIA DE LA TORRE HERNANDEZ","Z314447210",1,261.54000000000002]
[null,null,null,{"$f":"COUNTIF($E$1:E29685,consulta!$D$1)","v":0},"ANTONIO ALEJANDRO PEREZ GUTIERREZ","Z314448610",1,6126.88]
[null,null,null,{"$f":"COUNTIF($E$1:E29690,consulta!$D$1)","v":0},"NOEMA MARGARITA ORTIZ PONCE","Z314449810",1,243.4]
[null,null,null,{"$f":"COUNTIF($E$1:E29706,consulta!$D$1)","v":0},"BAJA BRIDGE WATER SA DE CV","Z314451610",1,1364.43]
[null,null,null,{"$f":"COUNTIF($E$1:E29722,consulta!$D$1)","v":0},"SOLUCION INMEDIATA LA BAJA S DE RL DE CV","Z314453210",1,222.99]
[null,null,null,{"$f":"COUNTIF($E$1:E29735,consulta!$D$1)","v":0},"PROGENIUM ASESORES DE BIENESTAR SC","Z314455210",1,1456.7]
[null,null,null,{"$f":"COUNTIF($E$1:E29751,consulta!$D$1)","v":0},"DANIELA RODRIGUEZ GAMBOA","Z314456110",1,1097.1400000000001]
[null,null,null,{"$f":"COUNTIF($E$1:E29773,consulta!$D$1)","v":0},"BAJASUR LIMPIEZA Y FUMIGACION SA DE CV","Z314456710",1,52.47]
[null,null,null,{"$f":"COUNTIF($E$1:E29781,consulta!$D$1)","v":0},"BAJASUR LIMPIEZA Y FUMIGACION SA DE CV","Z314456710",1,2246.7600000000002]
[null,null,null,{"$f":"COUNTIF($E$1:E29794,consulta!$D$1)","v":0},"GABINO BARRERAS ZAVALA","Z314457810",1,1257.06]
[null,null,null,{"$f":"COUNTIF($E$1:E29810,consulta!$D$1)","v":0},"JESUS EDUARDO RODRIGUEZ RODRIGUEZ","Z314458210",2,1583.2]
[null,null,null,{"$f":"COUNTIF($E$1:E29826,consulta!$D$1)","v":0},"SOLUCIONES ASFALTICAS SA DE CV","Z314460210",1,1392.29]
[null,null,null,{"$f":"COUNTIF($E$1:E29845,consulta!$D$1)","v":0},"RUBEN DIAZ LOZANO","Z314463610",1,540.55999999999995]
[null,null,null,{"$f":"COUNTIF($E$1:E29856,consulta!$D$1)","v":0},"CORPORATIVO MERUGO S DE RL DE CV","Z314465410",1,7613.39]
[null,null,null,{"$f":"COUNTIF($E$1:E29866,consulta!$D$1)","v":0},"CORPRO SISTEMAS S DE RL DE CV","Z314466010",1,431745.08]
[null,null,null,{"$f":"COUNTIF($E$1:E29885,consulta!$D$1)","v":0},"MARGARITA MEZA HERNANDEZ","Z314467310",1,28.14]
[null,null,null,{"$f":"COUNTIF($E$1:E29901,consulta!$D$1)","v":0},"PUBLICIDAD Y CONSULTORIA ZOE SA DE CV","Z314468110",1,4122.38]
[null,null,null,{"$f":"COUNTIF($E$1:E29917,consulta!$D$1)","v":0},"JONATHAN RODRIGUEZ SANTIAGO","Z314468710",1,548.24]
[null,null,null,{"$f":"COUNTIF($E$1:E29930,consulta!$D$1)","v":0},"JONATHAN RODRIGUEZ SANTIAGO","Z314468710",1,304.06]
[null,null,null,{"$f":"COUNTIF($E$1:E29938,consulta!$D$1)","v":0},"NORMA ANGELICA CUATE ROSAS","Z314469010",1,371.13]
[null,null,null,{"$f":"COUNTIF($E$1:E29960,consulta!$D$1)","v":0},"BRENDA MEZA PEREZ","Z314473010",1,765.55]
[null,null,null,{"$f":"COUNTIF($E$1:E29976,consulta!$D$1)","v":0},"BRENDA MEZA PEREZ","Z314473010",1,390.41]
[null,null,null,{"$f":"COUNTIF($E$1:E29989,consulta!$D$1)","v":0},"EDEL CARLOS AMADOR MEDINA","Z314473210",1,296.95]
[null,null,null,{"$f":"COUNTIF($E$1:E30005,consulta!$D$1)","v":0},"VICTOR MANUEL PADILLA IBARRA","Z314473610",1,8566.69]
[null,null,null,{"$f":"COUNTIF($E$1:E30010,consulta!$D$1)","v":0},"VICTOR MANUEL PADILLA IBARRA","Z314473610",1,3169.72]
[null,null,null,{"$f":"COUNTIF($E$1:E30035,consulta!$D$1)","v":0},"MARCO ANTONIO BECERRA MORENO","Z314480010",1,995.3]
[null,null,null,{"$f":"COUNTIF($E$1:E30050,consulta!$D$1)","v":0},"VICTOR ENRIQUE LOPEZ SEGURA","Z314482510",1,390.41]
[null,null,null,{"$f":"COUNTIF($E$1:E30061,consulta!$D$1)","v":0},"ANA LETICIA TAMAYO FLORES","Z314483610",1,1808.24]
[null,null,null,{"$f":"COUNTIF($E$1:E30080,consulta!$D$1)","v":0},"PIP BAJA S DE RL","Z314483810",1,377.82]
[null,null,null,{"$f":"COUNTIF($E$1:E30081,consulta!$D$1)","v":0},"PIP BAJA S DE RL","Z314483810",1,2185.9]
[null,null,null,{"$f":"COUNTIF($E$1:E30098,consulta!$D$1)","v":0},"KAYRO D&C S DE RL DE CV","Z314483910",1,2099.2600000000002]
[null,null,null,{"$f":"COUNTIF($E$1:E30110,consulta!$D$1)","v":0},"SERVICIO DE RECLUTAMIENTO Y SELECCION DE PERSONAL BC SC","Z314486010",1,745.51]
[null,null,null,{"$f":"COUNTIF($E$1:E30133,consulta!$D$1)","v":0},"LEONARDO EMMANUEL PEREZ CALLEJA","Z314488510",1,486.02]
[null,null,null,{"$f":"COUNTIF($E$1:E30140,consulta!$D$1)","v":0},"BLANCA YAZMIN WUITRON CAMACHO","Z314489310",1,1046.6600000000001]
[null,null,null,{"$f":"COUNTIF($E$1:E30156,consulta!$D$1)","v":0},"SERVICIOS GASTRONOMICOS MARENCA S DE RL DE CV","Z314489810",1,1076.68]
[null,null,null,{"$f":"COUNTIF($E$1:E30170,consulta!$D$1)","v":0},"DAVID ARELLANO SEDANO","Z314491710",1,5168.2700000000004]
[null,null,null,{"$f":"COUNTIF($E$1:E30185,consulta!$D$1)","v":0},"LUIS ARMANDO RODRIGUEZ VELASCO","Z314492210",1,2749.33]
[null,null,null,{"$f":"COUNTIF($E$1:E30205,consulta!$D$1)","v":0},"GUADALUPE OSUNA MILLAN","Z314493710",1,2918.28]
[null,null,null,{"$f":"COUNTIF($E$1:E30215,consulta!$D$1)","v":0},"LUIS FERNANDO CERDA MARTINEZ","Z314495310",1,388.71]
[null,null,null,{"$f":"COUNTIF($E$1:E30230,consulta!$D$1)","v":0},"SALVADOR BARAQUIEL MARQUEZ MONDRAGON","Z314496510",1,1701.42]
[null,null,null,{"$f":"COUNTIF($E$1:E30242,consulta!$D$1)","v":0},"LIMNOR S DE RL DE CV","Z314498710",1,26945.11]
[null,null,null,{"$f":"COUNTIF($E$1:E30260,consulta!$D$1)","v":0},"ALPHATAV DEVELOPERS S DE RL DE CV","Z314500410",1,7157.29]
[null,null,null,{"$f":"COUNTIF($E$1:E30277,consulta!$D$1)","v":0},"SERVICIOS CONCENTRADOS BTS SA DE CV","Z314502510",1,167707.53]
[null,null,null,{"$f":"COUNTIF($E$1:E30290,consulta!$D$1)","v":0},"VIRGINIA GONZALEZ ANDRADE","Z314504110",1,2594.71]
[null,null,null,{"$f":"COUNTIF($E$1:E30305,consulta!$D$1)","v":0},"VIRGINIA GONZALEZ ANDRADE","Z314504110",1,85033.98]
[null,null,null,{"$f":"COUNTIF($E$1:E30328,consulta!$D$1)","v":0},"MARIA DE LOS ANGELES FIGUEROA DE LA LUZ","Z314505310",1,71533.649999999994]
[null,null,null,{"$f":"COUNTIF($E$1:E30335,consulta!$D$1)","v":0},"MARIA DE LOS ANGELES FIGUEROA DE LA LUZ","Z314505310",1,287048.86]
[null,null,null,{"$f":"COUNTIF($E$1:E30351,consulta!$D$1)","v":0},"FERNANDO HERNANDEZ ZETINA","Z314506110",1,1718.46]
[null,null,null,{"$f":"COUNTIF($E$1:E30365,consulta!$D$1)","v":0},"FERNANDO HERNANDEZ ZETINA","Z314506110",1,754.56]
[null,null,null,{"$f":"COUNTIF($E$1:E30380,consulta!$D$1)","v":0},"ELVIRA PANIAGUA GONZALEZ","Z314508510",1,2273.4899999999998]
[null,null,null,{"$f":"COUNTIF($E$1:E30400,consulta!$D$1)","v":0},"JONATHAN PANDURO MACIAS","Z314510110",1,593.91]
[null,null,null,{"$f":"COUNTIF($E$1:E30410,consulta!$D$1)","v":0},"ABRAHAM GUZMAN CALLEROS","Z314510510",1,956.93]
[null,null,null,{"$f":"COUNTIF($E$1:E30425,consulta!$D$1)","v":0},"DISENO ESTRUCTURAL MODULAR SAS DE CV","Z314510810",1,2205.0100000000002]
[null,null,null,{"$f":"COUNTIF($E$1:E30437,consulta!$D$1)","v":0},"WELLPOINT MEXICO S DE RL DE CV","Z314514110",1,5691.68]
[null,null,null,{"$f":"COUNTIF($E$1:E30455,consulta!$D$1)","v":0},"MICHEL NOEMI REYES PANTOJA","Z314516110",1,1484.78]
[null,null,null,{"$f":"COUNTIF($E$1:E30472,consulta!$D$1)","v":0},"CENTRO DE INTEGRACION Y RECUPERACION JARDIN DE LAS MARIPOSAS AC","Z314516310",1,365.5]
[null,null,null,{"$f":"COUNTIF($E$1:E30485,consulta!$D$1)","v":0},"CARMEN ALICIA GORTAREZ GARDNER","Z314517810",1,927.84]
[null,null,null,{"$f":"COUNTIF($E$1:E30500,consulta!$D$1)","v":0},"MANUFACTURA DE PRODUCTOS T S DE RL DE CV","Z314520410",1,8567.5300000000007]
[null,null,null,{"$f":"COUNTIF($E$1:E30509,consulta!$D$1)","v":0},"MARIA FERNANDA RUIZ GUERRERO","Z314522910",1,2069.52]
[null,null,null,{"$f":"COUNTIF($E$1:E30530,consulta!$D$1)","v":0},"HIGHLAND LA CACHO AC","Z314526010",1,1580.69]
[null,null,null,{"$f":"COUNTIF($E$1:E30540,consulta!$D$1)","v":0},"MA VALDINA SANDOVAL ROBLES","Z314526110",1,265.18]
[null,null,null,{"$f":"COUNTIF($E$1:E30560,consulta!$D$1)","v":0},"IGNACIO RUIZ CARRILLO","Z314527410",1,311.24]
[null,null,null,{"$f":"COUNTIF($E$1:E30575,consulta!$D$1)","v":0},"IGNACIO RUIZ CARRILLO","Z314527410",1,477.77]
[null,null,null,{"$f":"COUNTIF($E$1:E30581,consulta!$D$1)","v":0},"GABEFAM S DE RL DE CV","Z314527710",1,3552.08]
[null,null,null,{"$f":"COUNTIF($E$1:E30605,consulta!$D$1)","v":0},"EXPANDIENDO IDEAS MARKETING SA DE CV","Z314530810",1,17737.830000000002]
[null,null,null,{"$f":"COUNTIF($E$1:E30612,consulta!$D$1)","v":0},"EXPANDIENDO IDEAS MARKETING SA DE CV","Z314530810",1,7026.97]
[null,null,null,{"$f":"COUNTIF($E$1:E30635,consulta!$D$1)","v":0},"CLAUDIO GONZALEZ AMBROCIO","Z314532910",1,1022.31]
[null,null,null,{"$f":"COUNTIF($E$1:E30650,consulta!$D$1)","v":0},"GRUPO CIESAI Y ASOCIADOS S DE RL DE CV","Z314534310",1,79046.53]
[null,null,null,{"$f":"COUNTIF($E$1:E30653,consulta!$D$1)","v":0},"GRUPO CIESAI Y ASOCIADOS S DE RL DE CV","Z314534310",1,48562.26]
[null,null,null,{"$f":"COUNTIF($E$1:E30665,consulta!$D$1)","v":0},"OPERADORA DE PRODUCTOS DEL VALLE SA DE CV","Z314534510",1,1362.17]
[null,null,null,{"$f":"COUNTIF($E$1:E30680,consulta!$D$1)","v":0},"SOLUCIONES INMOBILIARIAS INTEGRALES DE MEXICO SC","Z314536110",1,1331.35]
[null,null,null,{"$f":"COUNTIF($E$1:E30704,consulta!$D$1)","v":0},"ANA GABRIELA DE LUNA RODRIGUEZ","Z314536710",1,600.25]
[null,null,null,{"$f":"COUNTIF($E$1:E30710,consulta!$D$1)","v":0},"JOSE CARLOS MORENO AVILA","Z314536810",1,371.95]
[null,null,null,{"$f":"COUNTIF($E$1:E30735,consulta!$D$1)","v":0},"SUPERMERCADO INTELIGENTE DE TIJUANA SA DE CV","Z314539310",1,8283.51]
[null,null,null,{"$f":"COUNTIF($E$1:E30740,consulta!$D$1)","v":0},"CORPORATIVO RENACEM SAS DE CV","Z314539510",1,2771.48]
[null,null,null,{"$f":"COUNTIF($E$1:E30755,consulta!$D$1)","v":0},"ISRAEL MONTANE GALLEGOS","Z314544410",1,1081.1300000000001]
[null,null,null,{"$f":"COUNTIF($E$1:E30776,consulta!$D$1)","v":0},"AMADO ARMANDO MAZON LOPEZ","Z314546110",1,410.97]
[null,null,null,{"$f":"COUNTIF($E$1:E30785,consulta!$D$1)","v":0},"MARIA DE LA LUZ PEREZ ROCHA","Z314546610",1,963.13]
[null,null,null,{"$f":"COUNTIF($E$1:E30807,consulta!$D$1)","v":0},"ERICK EDWIN REYES GARCIA","Z314547710",1,890.86]
[null,null,null,{"$f":"COUNTIF($E$1:E30815,consulta!$D$1)","v":0},"CONCIENCIA ECOLOGICA EN GESTION DE RESIDUOS INDUSTRIALES S DE RL DE CV","Z314548510",1,3038.36]
[null,null,null,{"$f":"COUNTIF($E$1:E30830,consulta!$D$1)","v":0},"GENERADORES DE ENERGIA DEL NOROESTE SA DE CV","Z314549410",1,598.78]
[null,null,null,{"$f":"COUNTIF($E$1:E30848,consulta!$D$1)","v":0},"GABRIEL SABINO SANDOVAL DE LA TORRE","Z314556810",1,3062.2]
[null,null,null,{"$f":"COUNTIF($E$1:E30860,consulta!$D$1)","v":0},"GD TRANSPORT S DE RL DE CV","Z314559810",1,3273.83]
[null,null,null,{"$f":"COUNTIF($E$1:E30879,consulta!$D$1)","v":0},"AVALON INFRAESTRUCTURA Y CONSTRUCCION S DE RL DE CV","Z314559910",1,2375.64]
[null,null,null,{"$f":"COUNTIF($E$1:E30890,consulta!$D$1)","v":0},"ERNESTO SALDIVAR ROMERO","Z314561210",1,1368.18]
[null,null,null,{"$f":"COUNTIF($E$1:E30905,consulta!$D$1)","v":0},"ROSARIO FUENTES MORENO","Z314563310",1,932.07]
[null,null,null,{"$f":"COUNTIF($E$1:E30916,consulta!$D$1)","v":0},"ANA JANETH RIVERA LUNA","Z314563910",1,1120.55]
[null,null,null,{"$f":"COUNTIF($E$1:E30935,consulta!$D$1)","v":0},"JOSE OMAR SANCHEZ FLORES","Z314568910",1,10310.18]
[null,null,null,{"$f":"COUNTIF($E$1:E30950,consulta!$D$1)","v":0},"GLORIA SCARLETT MONZON IBARRA","Z314569610",1,2074.4]
[null,null,null,{"$f":"COUNTIF($E$1:E30971,consulta!$D$1)","v":0},"STEBENSON RICHEMOND","Z314573510",1,306.22000000000003]
[null,null,null,{"$f":"COUNTIF($E$1:E30980,consulta!$D$1)","v":0},"STEBENSON RICHEMOND","Z314573510",1,125.5]
[null,null,null,{"$f":"COUNTIF($E$1:E30988,consulta!$D$1)","v":0},"OFFICE SAINZ SAS DE CV","Z314575210",1,298.56]
[null,null,null,{"$f":"COUNTIF($E$1:E31010,consulta!$D$1)","v":0},"JESUS OMAR VALDEZ RODRIGUEZ","Z314579510",1,306.22000000000003]
[null,null,null,{"$f":"COUNTIF($E$1:E31025,consulta!$D$1)","v":0},"VIVIANA EMILIA ALVAREZ FLORES","Z314580110",1,1052.5899999999999]
[null,null,null,{"$f":"COUNTIF($E$1:E31039,consulta!$D$1)","v":0},"CLINICA CONDUCTUAL Y PSICOLOGIA COMUNITARIA SAS DE CV","Z314582110",1,206.63]
[null,null,null,{"$f":"COUNTIF($E$1:E31055,consulta!$D$1)","v":0},"ALEJANDRA VILLENA COLIN","Z314583310",1,160.63999999999999]
[null,null,null,{"$f":"COUNTIF($E$1:E31060,consulta!$D$1)","v":0},"GLORIA ADRIANA SALAS QUI#ONES","Z314584810",1,1028.78]
[null,null,null,{"$f":"COUNTIF($E$1:E31085,consulta!$D$1)","v":0},"TABACI, TABACOS Y CIGARROS MEXICANOS SA DE CV","Z314587910",1,74.56]
[null,null,null,{"$f":"COUNTIF($E$1:E31100,consulta!$D$1)","v":0},"MARIA EVELINA VELEZ HERNANDEZ","Z314594210",1,359.16]
[null,null,null,{"$f":"COUNTIF($E$1:E31111,consulta!$D$1)","v":0},"INSTITUTO CONTRA LAS ADICCIONES DEL ESTADO DE BAJA CALIFORNIA SIN TIPO DE SOCIED","Z314595210",1,6226.71]
[null,null,null,{"$f":"COUNTIF($E$1:E31130,consulta!$D$1)","v":0},"ARTESANO ARQUITECTURA S DE RL DE CV","Z314596610",1,1096.4100000000001]
[null,null,null,{"$f":"COUNTIF($E$1:E31146,consulta!$D$1)","v":0},"ASOCIACION DE CONDOMINOS MADRID I AC","Z314600810",1,41.71]
[null,null,null,{"$f":"COUNTIF($E$1:E31160,consulta!$D$1)","v":0},"ALAN RAYGOZA HATCHETT","Z314602610",1,523.13]
[null,null,null,{"$f":"COUNTIF($E$1:E31175,consulta!$D$1)","v":0},"KIKA OUTSOURCING S DE RL DE CV","Z314604110",1,27694.54]
[null,null,null,{"$f":"COUNTIF($E$1:E31183,consulta!$D$1)","v":0},"PROMOTORA MUSICAL SA DE CV","Z314605910",1,4474.1899999999996]
[null,null,null,{"$f":"COUNTIF($E$1:E31205,consulta!$D$1)","v":0},"FELIPE DE JESUS ALVAREZ SANCHEZ","Z314607910",1,245.94]
[null,null,null,{"$f":"COUNTIF($E$1:E31220,consulta!$D$1)","v":0},"GASPAR DIAZ DOMINGUEZ","Z314613910",1,38.94]
[null,null,null,{"$f":"COUNTIF($E$1:E31221,consulta!$D$1)","v":0},"FELIPE ACEVEDO ACEVEDO","Z314614610",1,1959.99]
[null,null,null,{"$f":"COUNTIF($E$1:E31222,consulta!$D$1)","v":0},"FELIPE ACEVEDO ACEVEDO","Z314614610",1,1697.26]
[null,null,null,{"$f":"COUNTIF($E$1:E31223,consulta!$D$1)","v":0},"JOSE ALBERTO GODINEZ PEREZ","Z314614710",1,90.52]
[null,null,null,{"$f":"COUNTIF($E$1:E31224,consulta!$D$1)","v":0},"JOSE ALBERTO GODINEZ PEREZ","Z314614710",1,36.200000000000003]
[null,null,null,{"$f":"COUNTIF($E$1:E31225,consulta!$D$1)","v":0},"JOSE ALBERTO GODINEZ PEREZ","Z314614710",1,205.6]
[null,null,null,{"$f":"COUNTIF($E$1:E31226,consulta!$D$1)","v":0},"JOSE ALBERTO GODINEZ PEREZ","Z314614710",1,82.24]
[null,null,null,{"$f":"COUNTIF($E$1:E31227,consulta!$D$1)","v":0},"PEDRO AARON CARDENAS MARTINEZ","Z314615210",1,296.95]
[null,null,null,{"$f":"COUNTIF($E$1:E31228,consulta!$D$1)","v":0},"PEDRO AARON CARDENAS MARTINEZ","Z314615210",1,469.96]
[null,null,null,{"$f":"COUNTIF($E$1:E31229,consulta!$D$1)","v":0},"PEDRO AARON CARDENAS MARTINEZ","Z314615210",1,1137.03]
[null,null,null,{"$f":"COUNTIF($E$1:E31230,consulta!$D$1)","v":0},"PEDRO AARON CARDENAS MARTINEZ","Z314615210",1,454.81]
[null,null,null,{"$f":"COUNTIF($E$1:E31231,consulta!$D$1)","v":0},"PEDRO AARON CARDENAS MARTINEZ","Z314615210",1,296.95]
[null,null,null,{"$f":"COUNTIF($E$1:E31232,consulta!$D$1)","v":0},"MUHONG LIANG","Z314615310",1,1485.16]
[null,null,null,{"$f":"COUNTIF($E$1:E31233,consulta!$D$1)","v":0},"MUHONG LIANG","Z314615310",1,1485.16]
[null,null,null,{"$f":"COUNTIF($E$1:E31234,consulta!$D$1)","v":0},"MUHONG LIANG","Z314615310",1,594.05999999999995]
[null,null,null,{"$f":"COUNTIF($E$1:E31235,consulta!$D$1)","v":0},"MUHONG LIANG","Z314615310",1,1926.5]
[null,null,null,{"$f":"COUNTIF($E$1:E31236,consulta!$D$1)","v":0},"MUHONG LIANG","Z314615310",1,770.6]
[null,null,null,{"$f":"COUNTIF($E$1:E31237,consulta!$D$1)","v":0},"MUHONG LIANG","Z314615310",1,1926.5]
[null,null,null,{"$f":"COUNTIF($E$1:E31238,consulta!$D$1)","v":0},"MUHONG LIANG","Z314615310",1,770.6]
[null,null,null,{"$f":"COUNTIF($E$1:E31239,consulta!$D$1)","v":0},"MUHONG LIANG","Z314615310",1,594.05999999999995]
[null,null,null,{"$f":"COUNTIF($E$1:E31240,consulta!$D$1)","v":0},"DOS MAS UNO AGENCIA DE MERCADOTECNIA Y PUBLICIDAD S DE RL","Z314615710",1,3452.78]
[null,null,null,{"$f":"COUNTIF($E$1:E31241,consulta!$D$1)","v":0},"DOS MAS UNO AGENCIA DE MERCADOTECNIA Y PUBLICIDAD S DE RL","Z314615710",1,3495.05]
[null,null,null,{"$f":"COUNTIF($E$1:E31242,consulta!$D$1)","v":0},"DOS MAS UNO AGENCIA DE MERCADOTECNIA Y PUBLICIDAD S DE RL","Z314615710",1,1398.02]
[null,null,null,{"$f":"COUNTIF($E$1:E31243,consulta!$D$1)","v":0},"DOS MAS UNO AGENCIA DE MERCADOTECNIA Y PUBLICIDAD S DE RL","Z314615710",1,1381.11]
[null,null,null,{"$f":"COUNTIF($E$1:E31244,consulta!$D$1)","v":0},"J&D HONEYS BISTRO CAFE RESTAURANTE S DE RL DE CV","Z314615810",1,1983.78]
[null,null,null,{"$f":"COUNTIF($E$1:E31245,consulta!$D$1)","v":0},"J&D HONEYS BISTRO CAFE RESTAURANTE S DE RL DE CV","Z314615810",1,888.43]
[null,null,null,{"$f":"COUNTIF($E$1:E31246,consulta!$D$1)","v":0},"J&D HONEYS BISTRO CAFE RESTAURANTE S DE RL DE CV","Z314615810",1,793.51]
[null,null,null,{"$f":"COUNTIF($E$1:E31247,consulta!$D$1)","v":0},"J&D HONEYS BISTRO CAFE RESTAURANTE S DE RL DE CV","Z314615810",1,2236.9499999999998]
[null,null,null,{"$f":"COUNTIF($E$1:E31248,consulta!$D$1)","v":0},"J&D HONEYS BISTRO CAFE RESTAURANTE S DE RL DE CV","Z314615810",1,894.78]
[null,null,null,{"$f":"COUNTIF($E$1:E31249,consulta!$D$1)","v":0},"J&D HONEYS BISTRO CAFE RESTAURANTE S DE RL DE CV","Z314615810",1,2827.27]
[null,null,null,{"$f":"COUNTIF($E$1:E31250,consulta!$D$1)","v":0},"J&D HONEYS BISTRO CAFE RESTAURANTE S DE RL DE CV","Z314615810",1,1130.9000000000001]
[null,null,null,{"$f":"COUNTIF($E$1:E31251,consulta!$D$1)","v":0},"J&D HONEYS BISTRO CAFE RESTAURANTE S DE RL DE CV","Z314615810",1,1180.6199999999999]
[null,null,null,{"$f":"COUNTIF($E$1:E31252,consulta!$D$1)","v":0},"J&D HONEYS BISTRO CAFE RESTAURANTE S DE RL DE CV","Z314615810",1,472.24]
[null,null,null,{"$f":"COUNTIF($E$1:E31253,consulta!$D$1)","v":0},"J&D HONEYS BISTRO CAFE RESTAURANTE S DE RL DE CV","Z314615810",1,1087.4100000000001]
[null,null,null,{"$f":"COUNTIF($E$1:E31254,consulta!$D$1)","v":0},"J&D HONEYS BISTRO CAFE RESTAURANTE S DE RL DE CV","Z314615810",1,434.96]
[null,null,null,{"$f":"COUNTIF($E$1:E31255,consulta!$D$1)","v":0},"J&D HONEYS BISTRO CAFE RESTAURANTE S DE RL DE CV","Z314615810",1,355.37]
[null,null,null,{"$f":"COUNTIF($E$1:E31256,consulta!$D$1)","v":0},"GRUPO CEFERI TIJUANA SA DE CV","Z314616110",1,422.67]
[null,null,null,{"$f":"COUNTIF($E$1:E31257,consulta!$D$1)","v":0},"GRUPO CEFERI TIJUANA SA DE CV","Z314616110",1,191.86]
[null,null,null,{"$f":"COUNTIF($E$1:E31258,consulta!$D$1)","v":0},"GLOBAL TRADE LOGISTICS NORTHWEST S DE RL DE CV","Z314622510",1,909.62]
[null,null,null,{"$f":"COUNTIF($E$1:E31259,consulta!$D$1)","v":0},"GLOBAL TRADE LOGISTICS NORTHWEST S DE RL DE CV","Z314622510",1,939.93]
[null,null,null,{"$f":"COUNTIF($E$1:E31260,consulta!$D$1)","v":0},"GLOBAL TRADE LOGISTICS NORTHWEST S DE RL DE CV","Z314622510",1,593.91]
[null,null,null,{"$f":"COUNTIF($E$1:E31261,consulta!$D$1)","v":0},"DIGITAL ISO MX S DE RL DE CV","Z314622710",1,1517.23]
[null,null,null,{"$f":"COUNTIF($E$1:E31262,consulta!$D$1)","v":0},"DIGITAL ISO MX S DE RL DE CV","Z314622710",1,1904.95]
[null,null,null,{"$f":"COUNTIF($E$1:E31263,consulta!$D$1)","v":0},"CONTROL TEC. Y REPRESENTACIONES S DE RL","Z314625210",1,64909.17]
[null,null,null,{"$f":"COUNTIF($E$1:E31264,consulta!$D$1)","v":0},"CONTROL TEC. Y REPRESENTACIONES S DE RL","Z314625210",1,282687.99]
[null,null,null,{"$f":"COUNTIF($E$1:E31265,consulta!$D$1)","v":0},"CONTROL TEC. Y REPRESENTACIONES S DE RL","Z314625210",1,300707.25]
[null,null,null,{"$f":"COUNTIF($E$1:E31266,consulta!$D$1)","v":0},"CONTROL TEC. Y REPRESENTACIONES S DE RL","Z314625210",1,25963.66]
[null,null,null,{"$f":"COUNTIF($E$1:E31267,consulta!$D$1)","v":0},"CONTROL TEC. Y REPRESENTACIONES S DE RL","Z314625210",1,113075.19]
[null,null,null,{"$f":"COUNTIF($E$1:E31268,consulta!$D$1)","v":0},"CONTROL TEC. Y REPRESENTACIONES S DE RL","Z314625210",1,44595.85]
[null,null,null,{"$f":"COUNTIF($E$1:E31269,consulta!$D$1)","v":0},"CONTROL TEC. Y REPRESENTACIONES S DE RL","Z314625210",1,17838.34]
[null,null,null,{"$f":"COUNTIF($E$1:E31270,consulta!$D$1)","v":0},"CONTROL TEC. Y REPRESENTACIONES S DE RL","Z314625210",1,71259.839999999997]
[null,null,null,{"$f":"COUNTIF($E$1:E31271,consulta!$D$1)","v":0},"CONTROL TEC. Y REPRESENTACIONES S DE RL","Z314625210",1,28503.93]
[null,null,null,{"$f":"COUNTIF($E$1:E31272,consulta!$D$1)","v":0},"CONTROL TEC. Y REPRESENTACIONES S DE RL","Z314625210",1,196169.15]
[null,null,null,{"$f":"COUNTIF($E$1:E31273,consulta!$D$1)","v":0},"CONTROL TEC. Y REPRESENTACIONES S DE RL","Z314625210",1,78467.66]
[null,null,null,{"$f":"COUNTIF($E$1:E31274,consulta!$D$1)","v":0},"CONTROL TEC. Y REPRESENTACIONES S DE RL","Z314625210",1,247906.1]
[null,null,null,{"$f":"COUNTIF($E$1:E31275,consulta!$D$1)","v":0},"CONTROL TEC. Y REPRESENTACIONES S DE RL","Z314625210",1,99162.44]
[null,null,null,{"$f":"COUNTIF($E$1:E31276,consulta!$D$1)","v":0},"CONTROL TEC. Y REPRESENTACIONES S DE RL","Z314625210",1,150300.14000000001]
[null,null,null,{"$f":"COUNTIF($E$1:E31277,consulta!$D$1)","v":0},"CONTROL TEC. Y REPRESENTACIONES S DE RL","Z314625210",1,60120.05]
[null,null,null,{"$f":"COUNTIF($E$1:E31278,consulta!$D$1)","v":0},"CONTROL TEC. Y REPRESENTACIONES S DE RL","Z314625210",1,120282.9]
[null,null,null,{"$f":"COUNTIF($E$1:E31279,consulta!$D$1)","v":0},"ANDRES JIMENEZ ROS","Z314625610",1,60.85]
[null,null,null,{"$f":"COUNTIF($E$1:E31280,consulta!$D$1)","v":0},"ANDRES JIMENEZ ROS","Z314625610",1,3711.95]
[null,null,null,{"$f":"COUNTIF($E$1:E31281,consulta!$D$1)","v":0},"ANDRES JIMENEZ ROS","Z314625610",1,24.34]
[null,null,null,{"$f":"COUNTIF($E$1:E31282,consulta!$D$1)","v":0},"ANDRES JIMENEZ ROS","Z314625610",1,155.30000000000001]
[null,null,null,{"$f":"COUNTIF($E$1:E31283,consulta!$D$1)","v":0},"ANDRES JIMENEZ ROS","Z314625610",1,62.12]
[null,null,null,{"$f":"COUNTIF($E$1:E31284,consulta!$D$1)","v":0},"ANDRES JIMENEZ ROS","Z314625610",1,4815.6499999999996]
[null,null,null,{"$f":"COUNTIF($E$1:E31285,consulta!$D$1)","v":0},"ANDRES JIMENEZ ROS","Z314625610",1,1926.26]
[null,null,null,{"$f":"COUNTIF($E$1:E31286,consulta!$D$1)","v":0},"ANDRES JIMENEZ ROS","Z314625610",1,1484.78]
[null,null,null,{"$f":"COUNTIF($E$1:E31287,consulta!$D$1)","v":0},"ACE MOLEN MANAGEMENT SAS","Z314626610",1,4770.7700000000004]
[null,null,null,{"$f":"COUNTIF($E$1:E31288,consulta!$D$1)","v":0},"ACE MOLEN MANAGEMENT SAS","Z314626610",1,2896.54]
[null,null,null,{"$f":"COUNTIF($E$1:E31289,consulta!$D$1)","v":0},"ACE MOLEN MANAGEMENT SAS","Z314626610",1,1908.3]
[null,null,null,{"$f":"COUNTIF($E$1:E31290,consulta!$D$1)","v":0},"ACE MOLEN MANAGEMENT SAS","Z314626610",1,5746.59]
[null,null,null,{"$f":"COUNTIF($E$1:E31291,consulta!$D$1)","v":0},"ACE MOLEN MANAGEMENT SAS","Z314626610",1,2298.63]
[null,null,null,{"$f":"COUNTIF($E$1:E31292,consulta!$D$1)","v":0},"ACE MOLEN MANAGEMENT SAS","Z314626610",1,5986]
[null,null,null,{"$f":"COUNTIF($E$1:E31293,consulta!$D$1)","v":0},"ACE MOLEN MANAGEMENT SAS","Z314626610",1,2394.4]
[null,null,null,{"$f":"COUNTIF($E$1:E31294,consulta!$D$1)","v":0},"ACE MOLEN MANAGEMENT SAS","Z314626610",1,5177.9399999999996]
[null,null,null,{"$f":"COUNTIF($E$1:E31295,consulta!$D$1)","v":0},"ACE MOLEN MANAGEMENT SAS","Z314626610",1,2071.17]
[null,null,null,{"$f":"COUNTIF($E$1:E31296,consulta!$D$1)","v":0},"ACE MOLEN MANAGEMENT SAS","Z314626610",1,1945.42]
[null,null,null,{"$f":"COUNTIF($E$1:E31297,consulta!$D$1)","v":0},"ACE MOLEN MANAGEMENT SAS","Z314626610",1,778.16]
[null,null,null,{"$f":"COUNTIF($E$1:E31298,consulta!$D$1)","v":0},"ACE MOLEN MANAGEMENT SAS","Z314626610",1,1158.6099999999999]
[null,null,null,{"$f":"COUNTIF($E$1:E31299,consulta!$D$1)","v":0},"ERNESTO AGUILAR RIVERA","Z314628810",1,5196.7299999999996]
[null,null,null,{"$f":"COUNTIF($E$1:E31300,consulta!$D$1)","v":0},"ERNESTO AGUILAR RIVERA","Z314628810",1,2903.2]
[null,null,null,{"$f":"COUNTIF($E$1:E31301,consulta!$D$1)","v":0},"ERNESTO AGUILAR RIVERA","Z314628810",1,6494.81]
[null,null,null,{"$f":"COUNTIF($E$1:E31302,consulta!$D$1)","v":0},"ERNESTO AGUILAR RIVERA","Z314628810",1,2597.92]
[null,null,null,{"$f":"COUNTIF($E$1:E31303,consulta!$D$1)","v":0},"ERNESTO AGUILAR RIVERA","Z314628810",1,2078.69]
[null,null,null,{"$f":"COUNTIF($E$1:E31304,consulta!$D$1)","v":0},"FRANCISCO ENRIQUE TRUJILLO CARDENAS","Z314629910",1,112.51]
[null,null,null,{"$f":"COUNTIF($E$1:E31305,consulta!$D$1)","v":0},"FRANCISCO ENRIQUE TRUJILLO CARDENAS","Z314629910",1,45]
[null,null,null,{"$f":"COUNTIF($E$1:E31306,consulta!$D$1)","v":0},"FRANCISCO ENRIQUE TRUJILLO CARDENAS","Z314629910",1,245.66]
[null,null,null,{"$f":"COUNTIF($E$1:E31307,consulta!$D$1)","v":0},"FRANCISCO ENRIQUE TRUJILLO CARDENAS","Z314629910",1,98.26]
[null,null,null,{"$f":"COUNTIF($E$1:E31308,consulta!$D$1)","v":0},"FRANCISCO ENRIQUE TRUJILLO CARDENAS","Z314629910",1,609.21]
[null,null,null,{"$f":"COUNTIF($E$1:E31309,consulta!$D$1)","v":0},"FRANCISCO ENRIQUE TRUJILLO CARDENAS","Z314629910",1,549.04999999999995]
[null,null,null,{"$f":"COUNTIF($E$1:E31310,consulta!$D$1)","v":0},"YURIDIA MAGALI FRANCO MARTINEZ","Z314631010",1,800.15]
[null,null,null,{"$f":"COUNTIF($E$1:E31311,consulta!$D$1)","v":0},"YURIDIA MAGALI FRANCO MARTINEZ","Z314631010",1,1223.57]
[null,null,null,{"$f":"COUNTIF($E$1:E31312,consulta!$D$1)","v":0},"YURIDIA MAGALI FRANCO MARTINEZ","Z314631010",1,489.42]
[null,null,null,{"$f":"COUNTIF($E$1:E31313,consulta!$D$1)","v":0},"YURIDIA MAGALI FRANCO MARTINEZ","Z314631010",1,320.06]
[null,null,null,{"$f":"COUNTIF($E$1:E31314,consulta!$D$1)","v":0},"FER CONSULTING S DE RL DE CV","Z314631810",1,765.55]
[null,null,null,{"$f":"COUNTIF($E$1:E31315,consulta!$D$1)","v":0},"FER CONSULTING S DE RL DE CV","Z314631810",1,276.10000000000002]
[null,null,null,{"$f":"COUNTIF($E$1:E31316,consulta!$D$1)","v":0},"FER CONSULTING S DE RL DE CV","Z314631810",1,426.24]
[null,null,null,{"$f":"COUNTIF($E$1:E31317,consulta!$D$1)","v":0},"FER CONSULTING S DE RL DE CV","Z314631810",1,550.57000000000005]
[null,null,null,{"$f":"COUNTIF($E$1:E31318,consulta!$D$1)","v":0},"FER CONSULTING S DE RL DE CV","Z314631810",1,1376.43]
[null,null,null,{"$f":"COUNTIF($E$1:E31319,consulta!$D$1)","v":0},"FER CONSULTING S DE RL DE CV","Z314631810",1,550.57000000000005]
[null,null,null,{"$f":"COUNTIF($E$1:E31320,consulta!$D$1)","v":0},"FER CONSULTING S DE RL DE CV","Z314631810",1,306.22000000000003]
[null,null,null,{"$f":"COUNTIF($E$1:E31321,consulta!$D$1)","v":0},"GRUPO CASPE Y ASOCIADOS EN SEGURIDAD PRIVADA S DE RL DE CV","Z314635610",1,11133.88]
[null,null,null,{"$f":"COUNTIF($E$1:E31322,consulta!$D$1)","v":0},"GRUPO CASPE Y ASOCIADOS EN SEGURIDAD PRIVADA S DE RL DE CV","Z314635610",1,15550.76]
[null,null,null,{"$f":"COUNTIF($E$1:E31323,consulta!$D$1)","v":0},"GRUPO CASPE Y ASOCIADOS EN SEGURIDAD PRIVADA S DE RL DE CV","Z314635610",1,6220.3]
[null,null,null,{"$f":"COUNTIF($E$1:E31324,consulta!$D$1)","v":0},"GRUPO CASPE Y ASOCIADOS EN SEGURIDAD PRIVADA S DE RL DE CV","Z314635610",1,4453.55]
[null,null,null,{"$f":"COUNTIF($E$1:E31325,consulta!$D$1)","v":0},"FLOR DE MARIEL COLLAZO MATA","Z314635810",1,742.39]
[null,null,null,{"$f":"COUNTIF($E$1:E31326,consulta!$D$1)","v":0},"FLOR DE MARIEL COLLAZO MATA","Z314635810",1,296.95]
[null,null,null,{"$f":"COUNTIF($E$1:E31327,consulta!$D$1)","v":0},"FLOR DE MARIEL COLLAZO MATA","Z314635810",1,927.83]
[null,null,null,{"$f":"COUNTIF($E$1:E31328,consulta!$D$1)","v":0},"FLOR DE MARIEL COLLAZO MATA","Z314635810",1,371.13]
[null,null,null,{"$f":"COUNTIF($E$1:E31329,consulta!$D$1)","v":0},"CLAUDIA ADRIANA MORALES GARCIA","Z314636210",1,9140.5499999999993]
[null,null,null,{"$f":"COUNTIF($E$1:E31330,consulta!$D$1)","v":0},"CLAUDIA ADRIANA MORALES GARCIA","Z314636210",1,17640.77]
[null,null,null,{"$f":"COUNTIF($E$1:E31331,consulta!$D$1)","v":0},"CLAUDIA ADRIANA MORALES GARCIA","Z314636210",1,7056.3]
[null,null,null,{"$f":"COUNTIF($E$1:E31332,consulta!$D$1)","v":0},"CLAUDIA ADRIANA MORALES GARCIA","Z314636210",1,3656.22]
[null,null,null,{"$f":"COUNTIF($E$1:E31333,consulta!$D$1)","v":0},"ROCIO JAZMIN RAMOS CAMARENA","Z314637110",1,1979.29]
[null,null,null,{"$f":"COUNTIF($E$1:E31334,consulta!$D$1)","v":0},"ROCIO JAZMIN RAMOS CAMARENA","Z314637110",1,427.68]
[null,null,null,{"$f":"COUNTIF($E$1:E31335,consulta!$D$1)","v":0},"ROCIO JAZMIN RAMOS CAMARENA","Z314637110",1,2209.71]
[null,null,null,{"$f":"COUNTIF($E$1:E31336,consulta!$D$1)","v":0},"ROCIO JAZMIN RAMOS CAMARENA","Z314637110",1,883.88]
[null,null,null,{"$f":"COUNTIF($E$1:E31337,consulta!$D$1)","v":0},"ROCIO JAZMIN RAMOS CAMARENA","Z314637110",1,791.71]
[null,null,null,{"$f":"COUNTIF($E$1:E31338,consulta!$D$1)","v":0},"CESAR LUCANO GARCIA FELIX","Z314637510",1,1536.53]
[null,null,null,{"$f":"COUNTIF($E$1:E31339,consulta!$D$1)","v":0},"CESAR LUCANO GARCIA FELIX","Z314637510",1,614.61]
[null,null,null,{"$f":"COUNTIF($E$1:E31340,consulta!$D$1)","v":0},"CESAR LUCANO GARCIA FELIX","Z314637510",1,4766.28]
[null,null,null,{"$f":"COUNTIF($E$1:E31341,consulta!$D$1)","v":0},"CESAR LUCANO GARCIA FELIX","Z314637510",1,1906.51]
[null,null,null,{"$f":"COUNTIF($E$1:E31342,consulta!$D$1)","v":0},"CINDY JIMENEZ TOSCANO","Z314639110",1,568.66999999999996]
[null,null,null,{"$f":"COUNTIF($E$1:E31343,consulta!$D$1)","v":0},"CINDY JIMENEZ TOSCANO","Z314639110",1,227.46]
[null,null,null,{"$f":"COUNTIF($E$1:E31344,consulta!$D$1)","v":0},"CINDY JIMENEZ TOSCANO","Z314639110",1,718.32]
[null,null,null,{"$f":"COUNTIF($E$1:E31345,consulta!$D$1)","v":0},"CINDY JIMENEZ TOSCANO","Z314639110",1,742.26]
[null,null,null,{"$f":"COUNTIF($E$1:E31346,consulta!$D$1)","v":0},"CINDY JIMENEZ TOSCANO","Z314639110",1,593.91]
[null,null,null,{"$f":"COUNTIF($E$1:E31347,consulta!$D$1)","v":0},"DOMINGO EDGARDO CASTILLO VARELA","Z314639210",1,7628.82]
[null,null,null,{"$f":"COUNTIF($E$1:E31348,consulta!$D$1)","v":0},"DOMINGO EDGARDO CASTILLO VARELA","Z314639210",1,8094.61]
[null,null,null,{"$f":"COUNTIF($E$1:E31349,consulta!$D$1)","v":0},"DOMINGO EDGARDO CASTILLO VARELA","Z314639210",1,3051.52]
[null,null,null,{"$f":"COUNTIF($E$1:E31350,consulta!$D$1)","v":0},"DOMINGO EDGARDO CASTILLO VARELA","Z314639210",1,10328.74]
[null,null,null,{"$f":"COUNTIF($E$1:E31351,consulta!$D$1)","v":0},"DOMINGO EDGARDO CASTILLO VARELA","Z314639210",1,4131.49]
[null,null,null,{"$f":"COUNTIF($E$1:E31352,consulta!$D$1)","v":0},"DOMINGO EDGARDO CASTILLO VARELA","Z314639210",1,15113.78]
[null,null,null,{"$f":"COUNTIF($E$1:E31353,consulta!$D$1)","v":0},"DOMINGO EDGARDO CASTILLO VARELA","Z314639210",1,6045.51]
[null,null,null,{"$f":"COUNTIF($E$1:E31354,consulta!$D$1)","v":0},"DOMINGO EDGARDO CASTILLO VARELA","Z314639210",1,13489.44]
[null,null,null,{"$f":"COUNTIF($E$1:E31355,consulta!$D$1)","v":0},"DOMINGO EDGARDO CASTILLO VARELA","Z314639210",1,5395.77]
[null,null,null,{"$f":"COUNTIF($E$1:E31356,consulta!$D$1)","v":0},"DOMINGO EDGARDO CASTILLO VARELA","Z314639210",1,13350.51]
[null,null,null,{"$f":"COUNTIF($E$1:E31357,consulta!$D$1)","v":0},"DOMINGO EDGARDO CASTILLO VARELA","Z314639210",1,5340.2]
[null,null,null,{"$f":"COUNTIF($E$1:E31358,consulta!$D$1)","v":0},"DOMINGO EDGARDO CASTILLO VARELA","Z314639210",1,3237.84]
[null,null,null,{"$f":"COUNTIF($E$1:E31359,consulta!$D$1)","v":0},"MAURICIO QUIROZ FLORES","Z314641910",1,2282.29]
[null,null,null,{"$f":"COUNTIF($E$1:E31360,consulta!$D$1)","v":0},"MAURICIO QUIROZ FLORES","Z314641910",1,2645.03]
[null,null,null,{"$f":"COUNTIF($E$1:E31361,consulta!$D$1)","v":0},"LUIS EDUARDO AGUNDEZ CHAHIN","Z314647910",1,3329.74]
[null,null,null,{"$f":"COUNTIF($E$1:E31362,consulta!$D$1)","v":0},"LUIS EDUARDO AGUNDEZ CHAHIN","Z314647910",1,1381.58]
[null,null,null,{"$f":"COUNTIF($E$1:E31363,consulta!$D$1)","v":0},"LUIS EDUARDO AGUNDEZ CHAHIN","Z314647910",1,2801.7]
[null,null,null,{"$f":"COUNTIF($E$1:E31364,consulta!$D$1)","v":0},"LUIS EDUARDO AGUNDEZ CHAHIN","Z314647910",1,5405.68]
[null,null,null,{"$f":"COUNTIF($E$1:E31365,consulta!$D$1)","v":0},"LUIS EDUARDO AGUNDEZ CHAHIN","Z314647910",1,2162.27]
[null,null,null,{"$f":"COUNTIF($E$1:E31366,consulta!$D$1)","v":0},"LUIS EDUARDO AGUNDEZ CHAHIN","Z314647910",1,1331.89]
[null,null,null,{"$f":"COUNTIF($E$1:E31367,consulta!$D$1)","v":0},"ENIUS SA DE CV","Z314648310",1,32833.65]
[null,null,null,{"$f":"COUNTIF($E$1:E31368,consulta!$D$1)","v":0},"ENIUS SA DE CV","Z314648310",1,11163.44]
[null,null,null,{"$f":"COUNTIF($E$1:E31369,consulta!$D$1)","v":0},"ENIUS SA DE CV","Z314648310",1,4465.37]
[null,null,null,{"$f":"COUNTIF($E$1:E31370,consulta!$D$1)","v":0},"ENIUS SA DE CV","Z314648310",1,185738.95]
[null,null,null,{"$f":"COUNTIF($E$1:E31371,consulta!$D$1)","v":0},"ENIUS SA DE CV","Z314648310",1,74295.58]
[null,null,null,{"$f":"COUNTIF($E$1:E31372,consulta!$D$1)","v":0},"ENIUS SA DE CV","Z314648310",1,13133.46]
[null,null,null,{"$f":"COUNTIF($E$1:E31373,consulta!$D$1)","v":0},"ANTONIO MIJARES GOMEZ","Z314648710",1,742.39]
[null,null,null,{"$f":"COUNTIF($E$1:E31374,consulta!$D$1)","v":0},"ANTONIO MIJARES GOMEZ","Z314648710",1,742.39]
[null,null,null,{"$f":"COUNTIF($E$1:E31375,consulta!$D$1)","v":0},"ANTONIO MIJARES GOMEZ","Z314648710",1,296.95]
[null,null,null,{"$f":"COUNTIF($E$1:E31376,consulta!$D$1)","v":0},"ANTONIO MIJARES GOMEZ","Z314648710",1,1307.83]
[null,null,null,{"$f":"COUNTIF($E$1:E31377,consulta!$D$1)","v":0},"ANTONIO MIJARES GOMEZ","Z314648710",1,523.13]
[null,null,null,{"$f":"COUNTIF($E$1:E31378,consulta!$D$1)","v":0},"ANTONIO MIJARES GOMEZ","Z314648710",1,1351.42]
[null,null,null,{"$f":"COUNTIF($E$1:E31379,consulta!$D$1)","v":0},"ANTONIO MIJARES GOMEZ","Z314648710",1,540.55999999999995]
[null,null,null,{"$f":"COUNTIF($E$1:E31380,consulta!$D$1)","v":0},"ANTONIO MIJARES GOMEZ","Z314648710",1,1307.83]
[null,null,null,{"$f":"COUNTIF($E$1:E31381,consulta!$D$1)","v":0},"ANTONIO MIJARES GOMEZ","Z314648710",1,523.13]
[null,null,null,{"$f":"COUNTIF($E$1:E31382,consulta!$D$1)","v":0},"ANTONIO MIJARES GOMEZ","Z314648710",1,1351.42]
[null,null,null,{"$f":"COUNTIF($E$1:E31383,consulta!$D$1)","v":0},"ANTONIO MIJARES GOMEZ","Z314648710",1,540.55999999999995]
[null,null,null,{"$f":"COUNTIF($E$1:E31384,consulta!$D$1)","v":0},"ANTONIO MIJARES GOMEZ","Z314648710",1,296.95]
[null,null,null,{"$f":"COUNTIF($E$1:E31385,consulta!$D$1)","v":0},"JESUS I#IGUEZ MARMOLEJO","Z314652510",1,1556.3]
[null,null,null,{"$f":"COUNTIF($E$1:E31386,consulta!$D$1)","v":0},"JESUS I#IGUEZ MARMOLEJO","Z314652510",1,887.25]
[null,null,null,{"$f":"COUNTIF($E$1:E31387,consulta!$D$1)","v":0},"JAVIER MONTEJANO CALDERON","Z314654210",1,430.72]
[null,null,null,{"$f":"COUNTIF($E$1:E31388,consulta!$D$1)","v":0},"JAVIER MONTEJANO CALDERON","Z314654210",1,843.27]
[null,null,null,{"$f":"COUNTIF($E$1:E31389,consulta!$D$1)","v":0},"JAVIER MONTEJANO CALDERON","Z314654210",1,843.27]
[null,null,null,{"$f":"COUNTIF($E$1:E31390,consulta!$D$1)","v":0},"JAVIER MONTEJANO CALDERON","Z314654210",1,597.12]
[null,null,null,{"$f":"COUNTIF($E$1:E31391,consulta!$D$1)","v":0},"JUANA MU#OZ GONZALEZ","Z314654610",1,1955.04]
[null,null,null,{"$f":"COUNTIF($E$1:E31392,consulta!$D$1)","v":0},"JUANA MU#OZ GONZALEZ","Z314654610",1,802.71]
[null,null,null,{"$f":"COUNTIF($E$1:E31393,consulta!$D$1)","v":0},"JUANA MU#OZ GONZALEZ","Z314654610",1,2919.57]
[null,null,null,{"$f":"COUNTIF($E$1:E31394,consulta!$D$1)","v":0},"JUANA MU#OZ GONZALEZ","Z314654610",1,1167.82]
[null,null,null,{"$f":"COUNTIF($E$1:E31395,consulta!$D$1)","v":0},"JUANA MU#OZ GONZALEZ","Z314654610",1,782.01]
[null,null,null,{"$f":"COUNTIF($E$1:E31396,consulta!$D$1)","v":0},"URBC INFRAESTRUCTURA URBANA S DE RL DE CV","Z314654710",1,2912.09]
[null,null,null,{"$f":"COUNTIF($E$1:E31397,consulta!$D$1)","v":0},"URBC INFRAESTRUCTURA URBANA S DE RL DE CV","Z314654710",1,1635.27]
[null,null,null,{"$f":"COUNTIF($E$1:E31398,consulta!$D$1)","v":0},"ERIKA PACHECO BELTRAN","Z314655010",1,414.15]
[null,null,null,{"$f":"COUNTIF($E$1:E31399,consulta!$D$1)","v":0},"ERIKA PACHECO BELTRAN","Z314655010",1,765.55]
[null,null,null,{"$f":"COUNTIF($E$1:E31400,consulta!$D$1)","v":0},"ERIKA PACHECO BELTRAN","Z314655010",1,165.66]
[null,null,null,{"$f":"COUNTIF($E$1:E31401,consulta!$D$1)","v":0},"ERIKA PACHECO BELTRAN","Z314655010",1,976.03]
[null,null,null,{"$f":"COUNTIF($E$1:E31402,consulta!$D$1)","v":0},"ERIKA PACHECO BELTRAN","Z314655010",1,390.41]
[null,null,null,{"$f":"COUNTIF($E$1:E31403,consulta!$D$1)","v":0},"ERIKA PACHECO BELTRAN","Z314655010",1,976.03]
[null,null,null,{"$f":"COUNTIF($E$1:E31404,consulta!$D$1)","v":0},"ERIKA PACHECO BELTRAN","Z314655010",1,390.41]
[null,null,null,{"$f":"COUNTIF($E$1:E31405,consulta!$D$1)","v":0},"ERIKA PACHECO BELTRAN","Z314655010",1,306.22000000000003]
[null,null,null,{"$f":"COUNTIF($E$1:E31406,consulta!$D$1)","v":0},"SYL SUMINISTROS INDUSTRIALES SA DE CV","Z314657910",1,45885.42]
[null,null,null,{"$f":"COUNTIF($E$1:E31407,consulta!$D$1)","v":0},"JOAQUIN RODOLFO SOTO GUAJARDO","Z314658810",1,1585.98]
[null,null,null,{"$f":"COUNTIF($E$1:E31408,consulta!$D$1)","v":0},"JOAQUIN RODOLFO SOTO GUAJARDO","Z314658810",1,634.39]
[null,null,null,{"$f":"COUNTIF($E$1:E31409,consulta!$D$1)","v":0},"MARIA DEL SOCORRO RAYGOZA NU#EZ","Z314660110",1,3785.64]
[null,null,null,{"$f":"COUNTIF($E$1:E31410,consulta!$D$1)","v":0},"MARIA DEL SOCORRO RAYGOZA NU#EZ","Z314660110",1,2817.66]
[null,null,null,{"$f":"COUNTIF($E$1:E31411,consulta!$D$1)","v":0},"MARIA DEL SOCORRO RAYGOZA NU#EZ","Z314660110",1,1127.06]
[null,null,null,{"$f":"COUNTIF($E$1:E31412,consulta!$D$1)","v":0},"MARIA DEL SOCORRO RAYGOZA NU#EZ","Z314660110",1,1514.25]
[null,null,null,{"$f":"COUNTIF($E$1:E31413,consulta!$D$1)","v":0},"MIGUEL ANGEL ROSAS ZAMORA","Z314660610",1,100262.48]
[null,null,null,{"$f":"COUNTIF($E$1:E31414,consulta!$D$1)","v":0},"MIGUEL ANGEL ROSAS ZAMORA","Z314660610",1,168544.27]
[null,null,null,{"$f":"COUNTIF($E$1:E31415,consulta!$D$1)","v":0},"MIGUEL ANGEL ROSAS ZAMORA","Z314660610",1,40104.99]
[null,null,null,{"$f":"COUNTIF($E$1:E31416,consulta!$D$1)","v":0},"MIGUEL ANGEL ROSAS ZAMORA","Z314660610",1,47002.239999999998]
[null,null,null,{"$f":"COUNTIF($E$1:E31417,consulta!$D$1)","v":0},"MIGUEL ANGEL ROSAS ZAMORA","Z314660610",1,18800.89]
[null,null,null,{"$f":"COUNTIF($E$1:E31418,consulta!$D$1)","v":0},"MIGUEL ANGEL ROSAS ZAMORA","Z314660610",1,258145.49]
[null,null,null,{"$f":"COUNTIF($E$1:E31419,consulta!$D$1)","v":0},"MIGUEL ANGEL ROSAS ZAMORA","Z314660610",1,103258.19]
[null,null,null,{"$f":"COUNTIF($E$1:E31420,consulta!$D$1)","v":0},"MIGUEL ANGEL ROSAS ZAMORA","Z314660610",1,259841.9]
[null,null,null,{"$f":"COUNTIF($E$1:E31421,consulta!$D$1)","v":0},"MIGUEL ANGEL ROSAS ZAMORA","Z314660610",1,103936.76]
[null,null,null,{"$f":"COUNTIF($E$1:E31422,consulta!$D$1)","v":0},"MIGUEL ANGEL ROSAS ZAMORA","Z314660610",1,260877.49]
[null,null,null,{"$f":"COUNTIF($E$1:E31423,consulta!$D$1)","v":0},"MIGUEL ANGEL ROSAS ZAMORA","Z314660610",1,104350.99]
[null,null,null,{"$f":"COUNTIF($E$1:E31424,consulta!$D$1)","v":0},"MIGUEL ANGEL ROSAS ZAMORA","Z314660610",1,67417.7]
[null,null,null,{"$f":"COUNTIF($E$1:E31425,consulta!$D$1)","v":0},"AGUSTINA CABRERA ESTEVEZ","Z314662410",1,559.98]
[null,null,null,{"$f":"COUNTIF($E$1:E31426,consulta!$D$1)","v":0},"AGUSTINA CABRERA ESTEVEZ","Z314662410",1,223.99]
[null,null,null,{"$f":"COUNTIF($E$1:E31427,consulta!$D$1)","v":0},"AGUSTINA CABRERA ESTEVEZ","Z314662410",1,1429.32]
[null,null,null,{"$f":"COUNTIF($E$1:E31428,consulta!$D$1)","v":0},"AGUSTINA CABRERA ESTEVEZ","Z314662410",1,571.72]
[null,null,null,{"$f":"COUNTIF($E$1:E31429,consulta!$D$1)","v":0},"LAURA EDITH GONZALEZ ZAVALA","Z314662810",1,532.80999999999995]
[null,null,null,{"$f":"COUNTIF($E$1:E31430,consulta!$D$1)","v":0},"LAURA EDITH GONZALEZ ZAVALA","Z314662810",1,550.57000000000005]
[null,null,null,{"$f":"COUNTIF($E$1:E31431,consulta!$D$1)","v":0},"LAURA EDITH GONZALEZ ZAVALA","Z314662810",1,306.22000000000003]
[null,null,null,{"$f":"COUNTIF($E$1:E31432,consulta!$D$1)","v":0},"SININFEX S DE RL DE CV","Z314665410",1,401.72]
[null,null,null,{"$f":"COUNTIF($E$1:E31433,consulta!$D$1)","v":0},"SININFEX S DE RL DE CV","Z314665410",1,742.58]
[null,null,null,{"$f":"COUNTIF($E$1:E31434,consulta!$D$1)","v":0},"SININFEX S DE RL DE CV","Z314665410",1,160.68]
[null,null,null,{"$f":"COUNTIF($E$1:E31435,consulta!$D$1)","v":0},"SININFEX S DE RL DE CV","Z314665410",1,67.849999999999994]
[null,null,null,{"$f":"COUNTIF($E$1:E31436,consulta!$D$1)","v":0},"SININFEX S DE RL DE CV","Z314665410",1,27.14]
[null,null,null,{"$f":"COUNTIF($E$1:E31437,consulta!$D$1)","v":0},"SININFEX S DE RL DE CV","Z314665410",1,1051.52]
[null,null,null,{"$f":"COUNTIF($E$1:E31438,consulta!$D$1)","v":0},"SININFEX S DE RL DE CV","Z314665410",1,420.6]
[null,null,null,{"$f":"COUNTIF($E$1:E31439,consulta!$D$1)","v":0},"SININFEX S DE RL DE CV","Z314665410",1,1017.6]
[null,null,null,{"$f":"COUNTIF($E$1:E31440,consulta!$D$1)","v":0},"SININFEX S DE RL DE CV","Z314665410",1,407.04]
[null,null,null,{"$f":"COUNTIF($E$1:E31441,consulta!$D$1)","v":0},"SININFEX S DE RL DE CV","Z314665410",1,1051.52]
[null,null,null,{"$f":"COUNTIF($E$1:E31442,consulta!$D$1)","v":0},"SININFEX S DE RL DE CV","Z314665410",1,420.6]
[null,null,null,{"$f":"COUNTIF($E$1:E31443,consulta!$D$1)","v":0},"SININFEX S DE RL DE CV","Z314665410",1,297.02999999999997]
[null,null,null,{"$f":"COUNTIF($E$1:E31444,consulta!$D$1)","v":0},"HECTOR MADERA SANCHEZ","Z314665710",1,371.13]
[null,null,null,{"$f":"COUNTIF($E$1:E31445,consulta!$D$1)","v":0},"HECTOR MADERA SANCHEZ","Z314665710",1,296.95]
[null,null,null,{"$f":"COUNTIF($E$1:E31446,consulta!$D$1)","v":0},"SANIDAD OPTIMA SAS DE CV","Z314665810",1,13521.33]
[null,null,null,{"$f":"COUNTIF($E$1:E31447,consulta!$D$1)","v":0},"SANIDAD OPTIMA SAS DE CV","Z314665810",1,25165.02]
[null,null,null,{"$f":"COUNTIF($E$1:E31448,consulta!$D$1)","v":0},"SANIDAD OPTIMA SAS DE CV","Z314665810",1,10066]
[null,null,null,{"$f":"COUNTIF($E$1:E31449,consulta!$D$1)","v":0},"SANIDAD OPTIMA SAS DE CV","Z314665810",1,5408.53]
[null,null,null,{"$f":"COUNTIF($E$1:E31450,consulta!$D$1)","v":0},"JUANA LEDESMA TOSTADO","Z314668810",1,4650.63]
[null,null,null,{"$f":"COUNTIF($E$1:E31451,consulta!$D$1)","v":0},"JUANA LEDESMA TOSTADO","Z314668810",1,1860.25]
[null,null,null,{"$f":"COUNTIF($E$1:E31452,consulta!$D$1)","v":0},"JUANA LEDESMA TOSTADO","Z314668810",1,14552.4]
[null,null,null,{"$f":"COUNTIF($E$1:E31453,consulta!$D$1)","v":0},"JUANA LEDESMA TOSTADO","Z314668810",1,5820.96]
[null,null,null,{"$f":"COUNTIF($E$1:E31454,consulta!$D$1)","v":0},"GILBERTO RAMIREZ PACHECO","Z314670210",1,301.2]
[null,null,null,{"$f":"COUNTIF($E$1:E31455,consulta!$D$1)","v":0},"GILBERTO RAMIREZ PACHECO","Z314670210",1,120.48]
[null,null,null,{"$f":"COUNTIF($E$1:E31456,consulta!$D$1)","v":0},"GILBERTO RAMIREZ PACHECO","Z314670210",1,727.46]
[null,null,null,{"$f":"COUNTIF($E$1:E31457,consulta!$D$1)","v":0},"GILBERTO RAMIREZ PACHECO","Z314670210",1,290.98]
[null,null,null,{"$f":"COUNTIF($E$1:E31458,consulta!$D$1)","v":0},"BINARY FRONTIER S DE RL DE CV","Z314670710",1,4225.09]
[null,null,null,{"$f":"COUNTIF($E$1:E31459,consulta!$D$1)","v":0},"BINARY FRONTIER S DE RL DE CV","Z314670710",1,8313.8799999999992]
[null,null,null,{"$f":"COUNTIF($E$1:E31460,consulta!$D$1)","v":0},"BINARY FRONTIER S DE RL DE CV","Z314670710",1,1690.03]
[null,null,null,{"$f":"COUNTIF($E$1:E31461,consulta!$D$1)","v":0},"BINARY FRONTIER S DE RL DE CV","Z314670710",1,5675.79]
[null,null,null,{"$f":"COUNTIF($E$1:E31462,consulta!$D$1)","v":0},"BINARY FRONTIER S DE RL DE CV","Z314670710",1,2270.31]
[null,null,null,{"$f":"COUNTIF($E$1:E31463,consulta!$D$1)","v":0},"BINARY FRONTIER S DE RL DE CV","Z314670710",1,5492.7]
[null,null,null,{"$f":"COUNTIF($E$1:E31464,consulta!$D$1)","v":0},"BINARY FRONTIER S DE RL DE CV","Z314670710",1,2197.08]
[null,null,null,{"$f":"COUNTIF($E$1:E31465,consulta!$D$1)","v":0},"BINARY FRONTIER S DE RL DE CV","Z314670710",1,5675.79]
[null,null,null,{"$f":"COUNTIF($E$1:E31466,consulta!$D$1)","v":0},"BINARY FRONTIER S DE RL DE CV","Z314670710",1,2270.31]
[null,null,null,{"$f":"COUNTIF($E$1:E31467,consulta!$D$1)","v":0},"BINARY FRONTIER S DE RL DE CV","Z314670710",1,3325.55]
[null,null,null,{"$f":"COUNTIF($E$1:E31468,consulta!$D$1)","v":0},"RICARDO FEDERICO TELLEZ CALCANEO","Z314672210",1,3732.14]
[null,null,null,{"$f":"COUNTIF($E$1:E31469,consulta!$D$1)","v":0},"RICARDO FEDERICO TELLEZ CALCANEO","Z314672210",1,8756.15]
[null,null,null,{"$f":"COUNTIF($E$1:E31470,consulta!$D$1)","v":0},"RICARDO FEDERICO TELLEZ CALCANEO","Z314672210",1,1492.85]
[null,null,null,{"$f":"COUNTIF($E$1:E31471,consulta!$D$1)","v":0},"RICARDO FEDERICO TELLEZ CALCANEO","Z314672210",1,13036.56]
[null,null,null,{"$f":"COUNTIF($E$1:E31472,consulta!$D$1)","v":0},"RICARDO FEDERICO TELLEZ CALCANEO","Z314672210",1,5214.62]
[null,null,null,{"$f":"COUNTIF($E$1:E31473,consulta!$D$1)","v":0},"RICARDO FEDERICO TELLEZ CALCANEO","Z314672210",1,15543.47]
[null,null,null,{"$f":"COUNTIF($E$1:E31474,consulta!$D$1)","v":0},"RICARDO FEDERICO TELLEZ CALCANEO","Z314672210",1,6217.38]
[null,null,null,{"$f":"COUNTIF($E$1:E31475,consulta!$D$1)","v":0},"RICARDO FEDERICO TELLEZ CALCANEO","Z314672210",1,3502.46]
[null,null,null,{"$f":"COUNTIF($E$1:E31476,consulta!$D$1)","v":0},"ALEJANDRO RIQUE GAMBOA","Z314672710",1,1531.1]
[null,null,null,{"$f":"COUNTIF($E$1:E31477,consulta!$D$1)","v":0},"ALEJANDRO RIQUE GAMBOA","Z314672710",1,1879.26]
[null,null,null,{"$f":"COUNTIF($E$1:E31478,consulta!$D$1)","v":0},"ALEJANDRO RIQUE GAMBOA","Z314672710",1,751.7]
[null,null,null,{"$f":"COUNTIF($E$1:E31479,consulta!$D$1)","v":0},"ALEJANDRO RIQUE GAMBOA","Z314672710",1,612.44000000000005]
[null,null,null,{"$f":"COUNTIF($E$1:E31480,consulta!$D$1)","v":0},"ALEXANDRA WYMAN I#IGO","Z314672910",1,1010.38]
[null,null,null,{"$f":"COUNTIF($E$1:E31481,consulta!$D$1)","v":0},"ALEXANDRA WYMAN I#IGO","Z314672910",1,404.15]
[null,null,null,{"$f":"COUNTIF($E$1:E31482,consulta!$D$1)","v":0},"MAQUINADO COMPUTARIZADO DE TIJUANA SA DE CV","Z314673010",1,6473.08]
[null,null,null,{"$f":"COUNTIF($E$1:E31483,consulta!$D$1)","v":0},"MAQUINADO COMPUTARIZADO DE TIJUANA SA DE CV","Z314673010",1,11916.23]
[null,null,null,{"$f":"COUNTIF($E$1:E31484,consulta!$D$1)","v":0},"MAQUINADO COMPUTARIZADO DE TIJUANA SA DE CV","Z314673010",1,7425.96]
[null,null,null,{"$f":"COUNTIF($E$1:E31485,consulta!$D$1)","v":0},null,"Z314674210",2,5991.53]
[null,null,null,{"$f":"COUNTIF($E$1:E31486,consulta!$D$1)","v":0},null,"Z314674210",2,11272.31]
[null,null,null,{"$f":"COUNTIF($E$1:E31487,consulta!$D$1)","v":0},null,"Z314674210",2,26302.06]
[null,null,null,{"$f":"COUNTIF($E$1:E31488,consulta!$D$1)","v":0},null,"Z314674210",2,28180.78]
[null,null,null,{"$f":"COUNTIF($E$1:E31489,consulta!$D$1)","v":0},null,"Z314674210",2,28180.78]
[null,null,null,{"$f":"COUNTIF($E$1:E31490,consulta!$D$1)","v":0},null,"Z314674210",2,11648.05]
[null,null,null,{"$f":"COUNTIF($E$1:E31491,consulta!$D$1)","v":0},null,"Z314674210",2,29120.14]
[null,null,null,{"$f":"COUNTIF($E$1:E31492,consulta!$D$1)","v":0},null,"Z314674210",2,29120.14]
[null,null,null,{"$f":"COUNTIF($E$1:E31493,consulta!$D$1)","v":0},null,"Z314674210",2,28180.78]
[null,null,null,{"$f":"COUNTIF($E$1:E31494,consulta!$D$1)","v":0},null,"Z314674210",2,9017.85]
[null,null,null,{"$f":"COUNTIF($E$1:E31495,consulta!$D$1)","v":0},null,"Z314674210",2,5107.54]
[null,null,null,{"$f":"COUNTIF($E$1:E31496,consulta!$D$1)","v":0},null,"Z314674210",2,22544.62]
[null,null,null,{"$f":"COUNTIF($E$1:E31497,consulta!$D$1)","v":0},null,"Z314674210",2,10520.82]
[null,null,null,{"$f":"COUNTIF($E$1:E31498,consulta!$D$1)","v":0},null,"Z314674210",2,11648.05]
[null,null,null,{"$f":"COUNTIF($E$1:E31499,consulta!$D$1)","v":0},null,"Z314674210",2,5991.53]
[null,null,null,{"$f":"COUNTIF($E$1:E31500,consulta!$D$1)","v":0},null,"Z314674210",2,29120.14]
[null,null,null,{"$f":"COUNTIF($E$1:E31501,consulta!$D$1)","v":0},null,"Z314674210",2,11272.31]
[null,null,null,{"$f":"COUNTIF($E$1:E31502,consulta!$D$1)","v":0},null,"Z314674210",2,5991.53]
[null,null,null,{"$f":"COUNTIF($E$1:E31503,consulta!$D$1)","v":0},null,"Z314674210",2,11648.05]
[null,null,null,{"$f":"COUNTIF($E$1:E31504,consulta!$D$1)","v":0},null,"Z314674210",2,5991.53]
[null,null,null,{"$f":"COUNTIF($E$1:E31505,consulta!$D$1)","v":0},null,"Z314674210",2,29120.14]
[null,null,null,{"$f":"COUNTIF($E$1:E31506,consulta!$D$1)","v":0},null,"Z314674210",2,6089.76]
[null,null,null,{"$f":"COUNTIF($E$1:E31507,consulta!$D$1)","v":0},null,"Z314674210",2,11648.05]
[null,null,null,{"$f":"COUNTIF($E$1:E31508,consulta!$D$1)","v":0},null,"Z314674210",2,29120.14]
[null,null,null,{"$f":"COUNTIF($E$1:E31509,consulta!$D$1)","v":0},null,"Z314674210",2,11272.31]
[null,null,null,{"$f":"COUNTIF($E$1:E31510,consulta!$D$1)","v":0},null,"Z314674210",2,28180.78]
[null,null,null,{"$f":"COUNTIF($E$1:E31511,consulta!$D$1)","v":0},null,"Z314674210",2,11648.05]
[null,null,null,{"$f":"COUNTIF($E$1:E31512,consulta!$D$1)","v":0},null,"Z314674210",2,11272.31]
[null,null,null,{"$f":"COUNTIF($E$1:E31513,consulta!$D$1)","v":0},null,"Z314674210",2,11648.05]
[null,null,null,{"$f":"COUNTIF($E$1:E31514,consulta!$D$1)","v":0},null,"Z314674210",2,29120.14]
[null,null,null,{"$f":"COUNTIF($E$1:E31515,consulta!$D$1)","v":0},"SILVIA MARINA PATRON VALDIVIA","Z314675510",1,742.39]
[null,null,null,{"$f":"COUNTIF($E$1:E31516,consulta!$D$1)","v":0},"SILVIA MARINA PATRON VALDIVIA","Z314675510",1,927.83]
[null,null,null,{"$f":"COUNTIF($E$1:E31517,consulta!$D$1)","v":0},"SILVIA MARINA PATRON VALDIVIA","Z314675510",1,371.13]
[null,null,null,{"$f":"COUNTIF($E$1:E31518,consulta!$D$1)","v":0},"SILVIA MARINA PATRON VALDIVIA","Z314675510",1,296.95]
[null,null,null,{"$f":"COUNTIF($E$1:E31519,consulta!$D$1)","v":0},"JOSE LUIS PE#UELAS ROMAN","Z314678110",1,302.38]
[null,null,null,{"$f":"COUNTIF($E$1:E31520,consulta!$D$1)","v":0},"JOSE LUIS PE#UELAS ROMAN","Z314678110",1,120.95]
[null,null,null,{"$f":"COUNTIF($E$1:E31521,consulta!$D$1)","v":0},"PROLOGISTICS MEXICO FAH S DE RL DE CV","Z314680110",1,3456.41]
[null,null,null,{"$f":"COUNTIF($E$1:E31522,consulta!$D$1)","v":0},"PROLOGISTICS MEXICO FAH S DE RL DE CV","Z314680110",1,3661.92]
[null,null,null,{"$f":"COUNTIF($E$1:E31523,consulta!$D$1)","v":0},"PROLOGISTICS MEXICO FAH S DE RL DE CV","Z314680110",1,1464.76]
[null,null,null,{"$f":"COUNTIF($E$1:E31524,consulta!$D$1)","v":0},"PROLOGISTICS MEXICO FAH S DE RL DE CV","Z314680110",1,1382.56]
[null,null,null,{"$f":"COUNTIF($E$1:E31525,consulta!$D$1)","v":0},"JORGE ZARATE DE LA FUENTE","Z314680810",1,3249.67]
[null,null,null,{"$f":"COUNTIF($E$1:E31526,consulta!$D$1)","v":0},"JORGE ZARATE DE LA FUENTE","Z314680810",1,2295.89]
[null,null,null,{"$f":"COUNTIF($E$1:E31527,consulta!$D$1)","v":0},"EDUARDO RODRIGUEZ PLASCENCIA","Z314687010",1,1144]
[null,null,null,{"$f":"COUNTIF($E$1:E31528,consulta!$D$1)","v":0},"EDUARDO RODRIGUEZ PLASCENCIA","Z314687010",1,1411.76]
[null,null,null,{"$f":"COUNTIF($E$1:E31529,consulta!$D$1)","v":0},"EDUARDO RODRIGUEZ PLASCENCIA","Z314687010",1,457.6]
[null,null,null,{"$f":"COUNTIF($E$1:E31530,consulta!$D$1)","v":0},"EDUARDO RODRIGUEZ PLASCENCIA","Z314687010",2,1085.3]
[null,null,null,{"$f":"COUNTIF($E$1:E31531,consulta!$D$1)","v":0},"EDUARDO RODRIGUEZ PLASCENCIA","Z314687010",2,434.12]
[null,null,null,{"$f":"COUNTIF($E$1:E31532,consulta!$D$1)","v":0},"EDUARDO RODRIGUEZ PLASCENCIA","Z314687010",1,2102.7600000000002]
[null,null,null,{"$f":"COUNTIF($E$1:E31533,consulta!$D$1)","v":0},"EDUARDO RODRIGUEZ PLASCENCIA","Z314687010",1,841.1]
[null,null,null,{"$f":"COUNTIF($E$1:E31534,consulta!$D$1)","v":0},"EDUARDO RODRIGUEZ PLASCENCIA","Z314687010",1,1899.26]
[null,null,null,{"$f":"COUNTIF($E$1:E31535,consulta!$D$1)","v":0},"EDUARDO RODRIGUEZ PLASCENCIA","Z314687010",1,759.7]
[null,null,null,{"$f":"COUNTIF($E$1:E31536,consulta!$D$1)","v":0},"EDUARDO RODRIGUEZ PLASCENCIA","Z314687010",1,564.70000000000005]
[null,null,null,{"$f":"COUNTIF($E$1:E31537,consulta!$D$1)","v":0},"JESUS VELAZQUEZ MADRID","Z314691810",1,3827.75]
[null,null,null,{"$f":"COUNTIF($E$1:E31538,consulta!$D$1)","v":0},"JESUS VELAZQUEZ MADRID","Z314691810",1,4698.1499999999996]
[null,null,null,{"$f":"COUNTIF($E$1:E31539,consulta!$D$1)","v":0},"JESUS VELAZQUEZ MADRID","Z314691810",1,1879.26]
[null,null,null,{"$f":"COUNTIF($E$1:E31540,consulta!$D$1)","v":0},"JESUS VELAZQUEZ MADRID","Z314691810",1,1531.1]
[null,null,null,{"$f":"COUNTIF($E$1:E31541,consulta!$D$1)","v":0},"VIVIANA LAFON GENEL","Z314696610",1,389.44]
[null,null,null,{"$f":"COUNTIF($E$1:E31542,consulta!$D$1)","v":0},"VIVIANA LAFON GENEL","Z314696610",1,1071]
[null,null,null,{"$f":"COUNTIF($E$1:E31543,consulta!$D$1)","v":0},"VIVIANA LAFON GENEL","Z314696610",1,155.77000000000001]
[null,null,null,{"$f":"COUNTIF($E$1:E31544,consulta!$D$1)","v":0},"VIVIANA LAFON GENEL","Z314696610",1,994.22]
[null,null,null,{"$f":"COUNTIF($E$1:E31545,consulta!$D$1)","v":0},"VIVIANA LAFON GENEL","Z314696610",1,397.68]
[null,null,null,{"$f":"COUNTIF($E$1:E31546,consulta!$D$1)","v":0},"VIVIANA LAFON GENEL","Z314696610",1,869.92]
[null,null,null,{"$f":"COUNTIF($E$1:E31547,consulta!$D$1)","v":0},"VIVIANA LAFON GENEL","Z314696610",1,347.96]
[null,null,null,{"$f":"COUNTIF($E$1:E31548,consulta!$D$1)","v":0},"VIVIANA LAFON GENEL","Z314696610",1,428.4]
[null,null,null,{"$f":"COUNTIF($E$1:E31549,consulta!$D$1)","v":0},"PABLO ROBLES JIMENEZ","Z314701910",1,371.13]
[null,null,null,{"$f":"COUNTIF($E$1:E31550,consulta!$D$1)","v":0},"PABLO ROBLES JIMENEZ","Z314701910",1,296.95]
[null,null,null,{"$f":"COUNTIF($E$1:E31551,consulta!$D$1)","v":0},"ROSEMBERG ISAIAS PEREZ VELAZQUEZ","Z314702010",1,595.27]
[null,null,null,{"$f":"COUNTIF($E$1:E31552,consulta!$D$1)","v":0},"ROSEMBERG ISAIAS PEREZ VELAZQUEZ","Z314702010",1,238.1]
[null,null,null,{"$f":"COUNTIF($E$1:E31553,consulta!$D$1)","v":0},"FRUTAS Y VERDURAS DON PANCHO S DE RL DE CV","Z314702310",1,745.73]
[null,null,null,{"$f":"COUNTIF($E$1:E31554,consulta!$D$1)","v":0},"FRUTAS Y VERDURAS DON PANCHO S DE RL DE CV","Z314702310",1,770.6]
[null,null,null,{"$f":"COUNTIF($E$1:E31555,consulta!$D$1)","v":0},"FRUTAS Y VERDURAS DON PANCHO S DE RL DE CV","Z314702310",1,594.05999999999995]
[null,null,null,{"$f":"COUNTIF($E$1:E31556,consulta!$D$1)","v":0},"LUIS ALBERTO RAMIREZ BETANCOURT","Z314705010",1,21.19]
[null,null,null,{"$f":"COUNTIF($E$1:E31557,consulta!$D$1)","v":0},"LUIS ALBERTO RAMIREZ BETANCOURT","Z314705010",1,63.93]
[null,null,null,{"$f":"COUNTIF($E$1:E31558,consulta!$D$1)","v":0},"LUIS ALBERTO RAMIREZ BETANCOURT","Z314705010",1,25.57]
[null,null,null,{"$f":"COUNTIF($E$1:E31559,consulta!$D$1)","v":0},"MIGUEL ARMANDO ALCANTAR VALENZUELA","Z314709010",1,158.22]
[null,null,null,{"$f":"COUNTIF($E$1:E31560,consulta!$D$1)","v":0},"MIGUEL ARMANDO ALCANTAR VALENZUELA","Z314709010",1,742.39]
[null,null,null,{"$f":"COUNTIF($E$1:E31561,consulta!$D$1)","v":0},"MIGUEL ARMANDO ALCANTAR VALENZUELA","Z314709010",1,63.28]
[null,null,null,{"$f":"COUNTIF($E$1:E31562,consulta!$D$1)","v":0},"MIGUEL ARMANDO ALCANTAR VALENZUELA","Z314709010",1,403.89]
[null,null,null,{"$f":"COUNTIF($E$1:E31563,consulta!$D$1)","v":0},"MIGUEL ARMANDO ALCANTAR VALENZUELA","Z314709010",1,161.55000000000001]
[null,null,null,{"$f":"COUNTIF($E$1:E31564,consulta!$D$1)","v":0},"MIGUEL ARMANDO ALCANTAR VALENZUELA","Z314709010",1,963.13]
[null,null,null,{"$f":"COUNTIF($E$1:E31565,consulta!$D$1)","v":0},"MIGUEL ARMANDO ALCANTAR VALENZUELA","Z314709010",1,385.25]
[null,null,null,{"$f":"COUNTIF($E$1:E31566,consulta!$D$1)","v":0},"MIGUEL ARMANDO ALCANTAR VALENZUELA","Z314709010",1,296.95]
[null,null,null,{"$f":"COUNTIF($E$1:E31567,consulta!$D$1)","v":0},"JORGE ALBERTO GONZALEZ VILLARREAL","Z314714610",1,4454.34]
[null,null,null,{"$f":"COUNTIF($E$1:E31568,consulta!$D$1)","v":0},"JORGE ALBERTO GONZALEZ VILLARREAL","Z314714610",1,8108.52]
[null,null,null,{"$f":"COUNTIF($E$1:E31569,consulta!$D$1)","v":0},"JORGE ALBERTO GONZALEZ VILLARREAL","Z314714610",1,3243.4]
[null,null,null,{"$f":"COUNTIF($E$1:E31570,consulta!$D$1)","v":0},"JORGE ALBERTO GONZALEZ VILLARREAL","Z314714610",1,1781.73]
[null,null,null,{"$f":"COUNTIF($E$1:E31571,consulta!$D$1)","v":0},"JORGE IVAN GARCIA MORALES","Z314717010",1,4330.6499999999996]
[null,null,null,{"$f":"COUNTIF($E$1:E31572,consulta!$D$1)","v":0},"JORGE IVAN GARCIA MORALES","Z314717010",1,2337.36]
[null,null,null,{"$f":"COUNTIF($E$1:E31573,consulta!$D$1)","v":0},"GUSTAVO ADOLFO SANCHEZ VIDRIO","Z314732110",1,1148.33]
[null,null,null,{"$f":"COUNTIF($E$1:E31574,consulta!$D$1)","v":0},"GUSTAVO ADOLFO SANCHEZ VIDRIO","Z314732110",1,1153.04]
[null,null,null,{"$f":"COUNTIF($E$1:E31575,consulta!$D$1)","v":0},"GUSTAVO ADOLFO SANCHEZ VIDRIO","Z314732110",1,461.21]
[null,null,null,{"$f":"COUNTIF($E$1:E31576,consulta!$D$1)","v":0},"GUSTAVO ADOLFO SANCHEZ VIDRIO","Z314732110",1,459.33]
[null,null,null,{"$f":"COUNTIF($E$1:E31577,consulta!$D$1)","v":0},"YAA BLD GROUP SA DE CV","Z314733710",1,209.88]
[null,null,null,{"$f":"COUNTIF($E$1:E31578,consulta!$D$1)","v":0},"YAA BLD GROUP SA DE CV","Z314733710",1,800.15]
[null,null,null,{"$f":"COUNTIF($E$1:E31579,consulta!$D$1)","v":0},"YAA BLD GROUP SA DE CV","Z314733710",1,83.95]
[null,null,null,{"$f":"COUNTIF($E$1:E31580,consulta!$D$1)","v":0},"YAA BLD GROUP SA DE CV","Z314733710",1,729.71]
[null,null,null,{"$f":"COUNTIF($E$1:E31581,consulta!$D$1)","v":0},"YAA BLD GROUP SA DE CV","Z314733710",1,291.88]
[null,null,null,{"$f":"COUNTIF($E$1:E31582,consulta!$D$1)","v":0},"YAA BLD GROUP SA DE CV","Z314733710",1,1413.8]
[null,null,null,{"$f":"COUNTIF($E$1:E31583,consulta!$D$1)","v":0},"YAA BLD GROUP SA DE CV","Z314733710",1,565.52]
[null,null,null,{"$f":"COUNTIF($E$1:E31584,consulta!$D$1)","v":0},"YAA BLD GROUP SA DE CV","Z314733710",1,320.06]
[null,null,null,{"$f":"COUNTIF($E$1:E31585,consulta!$D$1)","v":0},"G.A. INGENIERIA ESTRUCTURAL Y SISMICA SC","Z314736710",1,4296.13]
[null,null,null,{"$f":"COUNTIF($E$1:E31586,consulta!$D$1)","v":0},"G.A. INGENIERIA ESTRUCTURAL Y SISMICA SC","Z314736710",1,6757.1]
[null,null,null,{"$f":"COUNTIF($E$1:E31587,consulta!$D$1)","v":0},"G.A. INGENIERIA ESTRUCTURAL Y SISMICA SC","Z314736710",1,2702.84]
[null,null,null,{"$f":"COUNTIF($E$1:E31588,consulta!$D$1)","v":0},"G.A. INGENIERIA ESTRUCTURAL Y SISMICA SC","Z314736710",1,1718.45]
[null,null,null,{"$f":"COUNTIF($E$1:E31589,consulta!$D$1)","v":0},"IRVIN ANTONIO HERRERA","Z314743410",1,783.12]
[null,null,null,{"$f":"COUNTIF($E$1:E31590,consulta!$D$1)","v":0},"IRVIN ANTONIO HERRERA","Z314743410",1,2798.96]
[null,null,null,{"$f":"COUNTIF($E$1:E31591,consulta!$D$1)","v":0},"IRVIN ANTONIO HERRERA","Z314743410",1,1119.58]
[null,null,null,{"$f":"COUNTIF($E$1:E31592,consulta!$D$1)","v":0},"IRVIN ANTONIO HERRERA","Z314743410",1,313.24]
[null,null,null,{"$f":"COUNTIF($E$1:E31593,consulta!$D$1)","v":0},"MIGUEL CASTRUITA GARCIA","Z314746210",1,35.840000000000003]
[null,null,null,{"$f":"COUNTIF($E$1:E31594,consulta!$D$1)","v":0},"MIGUEL CASTRUITA GARCIA","Z314746210",1,66.62]
[null,null,null,{"$f":"COUNTIF($E$1:E31595,consulta!$D$1)","v":0},"MIGUEL CASTRUITA GARCIA","Z314746210",1,516.29]
[null,null,null,{"$f":"COUNTIF($E$1:E31596,consulta!$D$1)","v":0},"MIGUEL CASTRUITA GARCIA","Z314746210",1,546.6]
[null,null,null,{"$f":"COUNTIF($E$1:E31597,consulta!$D$1)","v":0},"JESUS MANUEL AGUIRRE TIRADO","Z314746610",1,146.04]
[null,null,null,{"$f":"COUNTIF($E$1:E31598,consulta!$D$1)","v":0},"JESUS MANUEL AGUIRRE TIRADO","Z314746610",1,742.39]
[null,null,null,{"$f":"COUNTIF($E$1:E31599,consulta!$D$1)","v":0},"JESUS MANUEL AGUIRRE TIRADO","Z314746610",1,58.41]
[null,null,null,{"$f":"COUNTIF($E$1:E31600,consulta!$D$1)","v":0},"JESUS MANUEL AGUIRRE TIRADO","Z314746610",1,454.81]
[null,null,null,{"$f":"COUNTIF($E$1:E31601,consulta!$D$1)","v":0},"JESUS MANUEL AGUIRRE TIRADO","Z314746610",1,181.92]
[null,null,null,{"$f":"COUNTIF($E$1:E31602,consulta!$D$1)","v":0},"JESUS MANUEL AGUIRRE TIRADO","Z314746610",1,1174.92]
[null,null,null,{"$f":"COUNTIF($E$1:E31603,consulta!$D$1)","v":0},"JESUS MANUEL AGUIRRE TIRADO","Z314746610",1,469.96]
[null,null,null,{"$f":"COUNTIF($E$1:E31604,consulta!$D$1)","v":0},"JESUS MANUEL AGUIRRE TIRADO","Z314746610",1,296.95]
[null,null,null,{"$f":"COUNTIF($E$1:E31605,consulta!$D$1)","v":0},"BAJA SEG 24 S DE RL DE CV","Z314748310",1,2659.27]
[null,null,null,{"$f":"COUNTIF($E$1:E31606,consulta!$D$1)","v":0},"BAJA SEG 24 S DE RL DE CV","Z314748310",1,2622.67]
[null,null,null,{"$f":"COUNTIF($E$1:E31607,consulta!$D$1)","v":0},"BAJA SEG 24 S DE RL DE CV","Z314748310",1,1049.06]
[null,null,null,{"$f":"COUNTIF($E$1:E31608,consulta!$D$1)","v":0},"BAJA SEG 24 S DE RL DE CV","Z314748310",1,1063.7]
[null,null,null,{"$f":"COUNTIF($E$1:E31609,consulta!$D$1)","v":0},"MARCO ANTONIO MARIN CASILLAS","Z314750610",1,386.14]
[null,null,null,{"$f":"COUNTIF($E$1:E31610,consulta!$D$1)","v":0},"MARCO ANTONIO MARIN CASILLAS","Z314750610",1,264.3]
[null,null,null,{"$f":"COUNTIF($E$1:E31611,consulta!$D$1)","v":0},"ALEJANDRO CARDENAS MORAN","Z314754010",1,7183.36]
[null,null,null,{"$f":"COUNTIF($E$1:E31612,consulta!$D$1)","v":0},"ALEJANDRO CARDENAS MORAN","Z314754010",1,2873.34]
[null,null,null,{"$f":"COUNTIF($E$1:E31613,consulta!$D$1)","v":0},"CENTRO CAMBIARIO ABBA SA DE CV","Z314754110",1,9508.5400000000009]
[null,null,null,{"$f":"COUNTIF($E$1:E31614,consulta!$D$1)","v":0},"CENTRO CAMBIARIO ABBA SA DE CV","Z314754110",1,7500.62]
[null,null,null,{"$f":"COUNTIF($E$1:E31615,consulta!$D$1)","v":0},"CASAS Y ADJUDICACIONES SAS","Z314754210",1,1257.3800000000001]
[null,null,null,{"$f":"COUNTIF($E$1:E31616,consulta!$D$1)","v":0},"CASAS Y ADJUDICACIONES SAS","Z314754210",1,1221.8599999999999]
[null,null,null,{"$f":"COUNTIF($E$1:E31617,consulta!$D$1)","v":0},"CASAS Y ADJUDICACIONES SAS","Z314754210",1,488.74]
[null,null,null,{"$f":"COUNTIF($E$1:E31618,consulta!$D$1)","v":0},"CASAS Y ADJUDICACIONES SAS","Z314754210",1,502.95]
[null,null,null,{"$f":"COUNTIF($E$1:E31619,consulta!$D$1)","v":0},"ALEJANDRO IVAN JARAMILLO BUENROSTRO","Z314756210",1,705.88]
[null,null,null,{"$f":"COUNTIF($E$1:E31620,consulta!$D$1)","v":0},"ALEJANDRO IVAN JARAMILLO BUENROSTRO","Z314756210",1,808.11]
[null,null,null,{"$f":"COUNTIF($E$1:E31621,consulta!$D$1)","v":0},"ALEJANDRO IVAN JARAMILLO BUENROSTRO","Z314756210",1,323.24]
[null,null,null,{"$f":"COUNTIF($E$1:E31622,consulta!$D$1)","v":0},"ALEJANDRO IVAN JARAMILLO BUENROSTRO","Z314756210",1,927.83]
[null,null,null,{"$f":"COUNTIF($E$1:E31623,consulta!$D$1)","v":0},"ALEJANDRO IVAN JARAMILLO BUENROSTRO","Z314756210",1,371.13]
[null,null,null,{"$f":"COUNTIF($E$1:E31624,consulta!$D$1)","v":0},"ALEJANDRO IVAN JARAMILLO BUENROSTRO","Z314756210",1,282.35000000000002]
[null,null,null,{"$f":"COUNTIF($E$1:E31625,consulta!$D$1)","v":0},"LUIS MANUEL OJEDA CHAVEZ","Z314759210",1,843.92]
[null,null,null,{"$f":"COUNTIF($E$1:E31626,consulta!$D$1)","v":0},"LUIS MANUEL OJEDA CHAVEZ","Z314759210",1,1081.3]
[null,null,null,{"$f":"COUNTIF($E$1:E31627,consulta!$D$1)","v":0},"LUIS MANUEL OJEDA CHAVEZ","Z314759210",1,976.39]
[null,null,null,{"$f":"COUNTIF($E$1:E31628,consulta!$D$1)","v":0},"ETEACH CAPITAL SOCIEDAD COOPERATIVA DE RESPONSABILIDAD LIMITADA","Z314759310",1,1726.17]
[null,null,null,{"$f":"COUNTIF($E$1:E31629,consulta!$D$1)","v":0},"ETEACH CAPITAL SOCIEDAD COOPERATIVA DE RESPONSABILIDAD LIMITADA","Z314759310",1,239.96]
[null,null,null,{"$f":"COUNTIF($E$1:E31630,consulta!$D$1)","v":0},"ETEACH CAPITAL SOCIEDAD COOPERATIVA DE RESPONSABILIDAD LIMITADA","Z314759310",1,95.98]
[null,null,null,{"$f":"COUNTIF($E$1:E31631,consulta!$D$1)","v":0},"ETEACH CAPITAL SOCIEDAD COOPERATIVA DE RESPONSABILIDAD LIMITADA","Z314759310",1,3972.63]
[null,null,null,{"$f":"COUNTIF($E$1:E31632,consulta!$D$1)","v":0},"ETEACH CAPITAL SOCIEDAD COOPERATIVA DE RESPONSABILIDAD LIMITADA","Z314759310",1,1589.05]
[null,null,null,{"$f":"COUNTIF($E$1:E31633,consulta!$D$1)","v":0},"ETEACH CAPITAL SOCIEDAD COOPERATIVA DE RESPONSABILIDAD LIMITADA","Z314759310",1,690.46]
[null,null,null,{"$f":"COUNTIF($E$1:E31634,consulta!$D$1)","v":0},"ISRAEL ALEJANDRO RAMIREZ FIGUEROA","Z314760210",1,1079.18]
[null,null,null,{"$f":"COUNTIF($E$1:E31635,consulta!$D$1)","v":0},"ISRAEL ALEJANDRO RAMIREZ FIGUEROA","Z314760210",1,656.39]
[null,null,null,{"$f":"COUNTIF($E$1:E31636,consulta!$D$1)","v":0},"SERGIO IVAN RAMIREZ FIGUEROA","Z314760410",1,1079.18]
[null,null,null,{"$f":"COUNTIF($E$1:E31637,consulta!$D$1)","v":0},"SERGIO IVAN RAMIREZ FIGUEROA","Z314760410",1,656.39]
[null,null,null,{"$f":"COUNTIF($E$1:E31638,consulta!$D$1)","v":0},"J. ACENCION HERNANDEZ SANCHEZ","Z314761310",1,937.12]
[null,null,null,{"$f":"COUNTIF($E$1:E31639,consulta!$D$1)","v":0},"J. ACENCION HERNANDEZ SANCHEZ","Z314761310",1,1763.6]
[null,null,null,{"$f":"COUNTIF($E$1:E31640,consulta!$D$1)","v":0},"J. ACENCION HERNANDEZ SANCHEZ","Z314761310",1,705.44]
[null,null,null,{"$f":"COUNTIF($E$1:E31641,consulta!$D$1)","v":0},"J. ACENCION HERNANDEZ SANCHEZ","Z314761310",1,374.84]
[null,null,null,{"$f":"COUNTIF($E$1:E31642,consulta!$D$1)","v":0},"MARCO ANTONIO SALAZAR LIZARRAGA","Z314761610",1,1363.22]
[null,null,null,{"$f":"COUNTIF($E$1:E31643,consulta!$D$1)","v":0},"MARCO ANTONIO SALAZAR LIZARRAGA","Z314761610",1,1855.72]
[null,null,null,{"$f":"COUNTIF($E$1:E31644,consulta!$D$1)","v":0},"MARCO ANTONIO SALAZAR LIZARRAGA","Z314761610",1,742.28]
[null,null,null,{"$f":"COUNTIF($E$1:E31645,consulta!$D$1)","v":0},"MARCO ANTONIO SALAZAR LIZARRAGA","Z314761610",1,545.28]
[null,null,null,{"$f":"COUNTIF($E$1:E31646,consulta!$D$1)","v":0},"OMAR NEFTALI ESCOBAR ESCOBAR","Z314762910",1,645.03]
[null,null,null,{"$f":"COUNTIF($E$1:E31647,consulta!$D$1)","v":0},"OMAR NEFTALI ESCOBAR ESCOBAR","Z314762910",1,963.13]
[null,null,null,{"$f":"COUNTIF($E$1:E31648,consulta!$D$1)","v":0},"OMAR NEFTALI ESCOBAR ESCOBAR","Z314762910",1,385.25]
[null,null,null,{"$f":"COUNTIF($E$1:E31649,consulta!$D$1)","v":0},"OMAR NEFTALI ESCOBAR ESCOBAR","Z314762910",1,258.01]
[null,null,null,{"$f":"COUNTIF($E$1:E31650,consulta!$D$1)","v":0},"SOLUCIONES PRENDARIAS REFORMA SA DE CV","Z314763610",1,3006.5]
[null,null,null,{"$f":"COUNTIF($E$1:E31651,consulta!$D$1)","v":0},"SOLUCIONES PRENDARIAS REFORMA SA DE CV","Z314763610",1,2702.75]
[null,null,null,{"$f":"COUNTIF($E$1:E31652,consulta!$D$1)","v":0},"SOLUCIONES PRENDARIAS REFORMA SA DE CV","Z314763610",1,1081.0999999999999]
[null,null,null,{"$f":"COUNTIF($E$1:E31653,consulta!$D$1)","v":0},"SOLUCIONES PRENDARIAS REFORMA SA DE CV","Z314763610",1,4654.8]
[null,null,null,{"$f":"COUNTIF($E$1:E31654,consulta!$D$1)","v":0},"SOLUCIONES PRENDARIAS REFORMA SA DE CV","Z314763610",1,1861.92]
[null,null,null,{"$f":"COUNTIF($E$1:E31655,consulta!$D$1)","v":0},"SOLUCIONES PRENDARIAS REFORMA SA DE CV","Z314763610",1,1202.5999999999999]
[null,null,null,{"$f":"COUNTIF($E$1:E31656,consulta!$D$1)","v":0},"LAURA SERRALDE ORTEGA","Z314766310",1,1469.69]
[null,null,null,{"$f":"COUNTIF($E$1:E31657,consulta!$D$1)","v":0},"LAURA SERRALDE ORTEGA","Z314766310",1,2447.7199999999998]
[null,null,null,{"$f":"COUNTIF($E$1:E31658,consulta!$D$1)","v":0},"LAURA SERRALDE ORTEGA","Z314766310",1,979.08]
[null,null,null,{"$f":"COUNTIF($E$1:E31659,consulta!$D$1)","v":0},"LAURA SERRALDE ORTEGA","Z314766310",1,587.87]
[null,null,null,{"$f":"COUNTIF($E$1:E31660,consulta!$D$1)","v":0},"CONCRETOS Y SERVICIOS DE CALIDAD PENINSULAR SA DE CV","Z314766410",1,6541.82]
[null,null,null,{"$f":"COUNTIF($E$1:E31661,consulta!$D$1)","v":0},"CONCRETOS Y SERVICIOS DE CALIDAD PENINSULAR SA DE CV","Z314766410",1,22008.49]
[null,null,null,{"$f":"COUNTIF($E$1:E31662,consulta!$D$1)","v":0},"CONCRETOS Y SERVICIOS DE CALIDAD PENINSULAR SA DE CV","Z314766410",1,8803.39]
[null,null,null,{"$f":"COUNTIF($E$1:E31663,consulta!$D$1)","v":0},"CONCRETOS Y SERVICIOS DE CALIDAD PENINSULAR SA DE CV","Z314766410",1,2616.7199999999998]
[null,null,null,{"$f":"COUNTIF($E$1:E31664,consulta!$D$1)","v":0},"PEREIDA ALVAREZ ASOCIADOS SA DE CV","Z314767110",1,2727.96]
[null,null,null,{"$f":"COUNTIF($E$1:E31665,consulta!$D$1)","v":0},"PEREIDA ALVAREZ ASOCIADOS SA DE CV","Z314767110",1,1091.18]
[null,null,null,{"$f":"COUNTIF($E$1:E31666,consulta!$D$1)","v":0},"PEREIDA ALVAREZ ASOCIADOS SA DE CV","Z314767110",1,2255.11]
[null,null,null,{"$f":"COUNTIF($E$1:E31667,consulta!$D$1)","v":0},"PEREIDA ALVAREZ ASOCIADOS SA DE CV","Z314767110",1,1385.52]
[null,null,null,{"$f":"COUNTIF($E$1:E31668,consulta!$D$1)","v":0},"MARIBEL AVILA VARGAS","Z314767910",1,713.35]
[null,null,null,{"$f":"COUNTIF($E$1:E31669,consulta!$D$1)","v":0},"MARIBEL AVILA VARGAS","Z314767910",1,1567.99]
[null,null,null,{"$f":"COUNTIF($E$1:E31670,consulta!$D$1)","v":0},"MARIBEL AVILA VARGAS","Z314767910",1,627.19000000000005]
[null,null,null,{"$f":"COUNTIF($E$1:E31671,consulta!$D$1)","v":0},"MARIBEL AVILA VARGAS","Z314767910",1,285.33999999999997]
[null,null,null,{"$f":"COUNTIF($E$1:E31672,consulta!$D$1)","v":0},"CABO MOTORS SA DE CV","Z314768210",1,1418.15]
[null,null,null,{"$f":"COUNTIF($E$1:E31673,consulta!$D$1)","v":0},"CABO MOTORS SA DE CV","Z314768210",1,3889.51]
[null,null,null,{"$f":"COUNTIF($E$1:E31674,consulta!$D$1)","v":0},"CABO MOTORS SA DE CV","Z314768210",1,1555.8]
[null,null,null,{"$f":"COUNTIF($E$1:E31675,consulta!$D$1)","v":0},"CABO MOTORS SA DE CV","Z314768210",1,567.26]
[null,null,null,{"$f":"COUNTIF($E$1:E31676,consulta!$D$1)","v":0},"OPERADORA BY SAYAN AC","Z314770310",1,18464.34]
[null,null,null,{"$f":"COUNTIF($E$1:E31677,consulta!$D$1)","v":0},"OPERADORA BY SAYAN AC","Z314770310",1,6834.08]
[null,null,null,{"$f":"COUNTIF($E$1:E31678,consulta!$D$1)","v":0},"AGDA GESTION DE PERSONAL SA DE CV","Z314771610",1,17072.73]
[null,null,null,{"$f":"COUNTIF($E$1:E31679,consulta!$D$1)","v":0},"AGDA GESTION DE PERSONAL SA DE CV","Z314771610",1,42399.68]
[null,null,null,{"$f":"COUNTIF($E$1:E31680,consulta!$D$1)","v":0},"AGDA GESTION DE PERSONAL SA DE CV","Z314771610",1,16959.87]
[null,null,null,{"$f":"COUNTIF($E$1:E31681,consulta!$D$1)","v":0},"AGDA GESTION DE PERSONAL SA DE CV","Z314771610",1,6829.09]
[null,null,null,{"$f":"COUNTIF($E$1:E31682,consulta!$D$1)","v":0},"JESUS RICARDO NARANJO CENICEROS","Z314772710",1,540.55999999999995]
[null,null,null,{"$f":"COUNTIF($E$1:E31683,consulta!$D$1)","v":0},"JESUS RICARDO NARANJO CENICEROS","Z314772710",1,258.01]
[null,null,null,{"$f":"COUNTIF($E$1:E31684,consulta!$D$1)","v":0},"SEGURIDAD PRIVADA TJC SA DE CV","Z314777010",1,440.52]
[null,null,null,{"$f":"COUNTIF($E$1:E31685,consulta!$D$1)","v":0},"SEGURIDAD PRIVADA TJC SA DE CV","Z314777010",1,181.91]
[null,null,null,{"$f":"COUNTIF($E$1:E31686,consulta!$D$1)","v":0},"DENICE ROSAS DELFIN","Z314777410",1,199.04]
[null,null,null,{"$f":"COUNTIF($E$1:E31687,consulta!$D$1)","v":0},"DENICE ROSAS DELFIN","Z314777410",1,78.069999999999993]
[null,null,null,{"$f":"COUNTIF($E$1:E31688,consulta!$D$1)","v":0},"MARIA ELENA SANDOVAL BARAJAS","Z314777910",1,420.55]
[null,null,null,{"$f":"COUNTIF($E$1:E31689,consulta!$D$1)","v":0},"MARIA ELENA SANDOVAL BARAJAS","Z314777910",1,199.59]
[null,null,null,{"$f":"COUNTIF($E$1:E31690,consulta!$D$1)","v":0},"MYRNA ZULEMA PARRA","Z314779710",1,424.5]
[null,null,null,{"$f":"COUNTIF($E$1:E31691,consulta!$D$1)","v":0},"MYRNA ZULEMA PARRA","Z314779710",1,136.31]
[null,null,null,{"$f":"COUNTIF($E$1:E31692,consulta!$D$1)","v":0},"ESTUDIOS SUPERIORES COSMELOGICA Y LASER SC","Z314780810",1,606.21]
[null,null,null,{"$f":"COUNTIF($E$1:E31693,consulta!$D$1)","v":0},"ESTUDIOS SUPERIORES COSMELOGICA Y LASER SC","Z314780810",1,251]
[null,null,null,{"$f":"COUNTIF($E$1:E31694,consulta!$D$1)","v":0},"ORNEX GROUP S DE RL DE CV","Z314781410",1,365.11]
[null,null,null,{"$f":"COUNTIF($E$1:E31695,consulta!$D$1)","v":0},"ORNEX GROUP S DE RL DE CV","Z314781410",1,1137.03]
[null,null,null,{"$f":"COUNTIF($E$1:E31696,consulta!$D$1)","v":0},"ORNEX GROUP S DE RL DE CV","Z314781410",1,454.81]
[null,null,null,{"$f":"COUNTIF($E$1:E31697,consulta!$D$1)","v":0},"ORNEX GROUP S DE RL DE CV","Z314781410",1,146.04]
[null,null,null,{"$f":"COUNTIF($E$1:E31698,consulta!$D$1)","v":0},"RG CATERING SERVICIO DE COMIDA Y BANQUETES S DE RL DE CV","Z314781910",1,363.95]
[null,null,null,{"$f":"COUNTIF($E$1:E31699,consulta!$D$1)","v":0},"RG CATERING SERVICIO DE COMIDA Y BANQUETES S DE RL DE CV","Z314781910",1,913.06]
[null,null,null,{"$f":"COUNTIF($E$1:E31700,consulta!$D$1)","v":0},"RG CATERING SERVICIO DE COMIDA Y BANQUETES S DE RL DE CV","Z314781910",1,365.22]
[null,null,null,{"$f":"COUNTIF($E$1:E31701,consulta!$D$1)","v":0},"RG CATERING SERVICIO DE COMIDA Y BANQUETES S DE RL DE CV","Z314781910",1,145.58000000000001]
[null,null,null,{"$f":"COUNTIF($E$1:E31702,consulta!$D$1)","v":0},"ANGEL CASTRUITA MARIN","Z314782510",1,351.4]
[null,null,null,{"$f":"COUNTIF($E$1:E31703,consulta!$D$1)","v":0},"ANGEL CASTRUITA MARIN","Z314782510",1,881.58]
[null,null,null,{"$f":"COUNTIF($E$1:E31704,consulta!$D$1)","v":0},"ANGEL CASTRUITA MARIN","Z314782510",1,352.63]
[null,null,null,{"$f":"COUNTIF($E$1:E31705,consulta!$D$1)","v":0},"ANGEL CASTRUITA MARIN","Z314782510",1,140.56]
[null,null,null,{"$f":"COUNTIF($E$1:E31706,consulta!$D$1)","v":0},"ROBENLI SA DE CV","Z314784610",1,769.84]
[null,null,null,{"$f":"COUNTIF($E$1:E31707,consulta!$D$1)","v":0},"ROBENLI SA DE CV","Z314784610",1,1373.51]
[null,null,null,{"$f":"COUNTIF($E$1:E31708,consulta!$D$1)","v":0},"ROBENLI SA DE CV","Z314784610",1,549.4]
[null,null,null,{"$f":"COUNTIF($E$1:E31709,consulta!$D$1)","v":0},"ROBENLI SA DE CV","Z314784610",1,307.93]
[null,null,null,{"$f":"COUNTIF($E$1:E31710,consulta!$D$1)","v":0},"ANA VERONICA LUNA VEGA","Z314787010",1,244.02]
[null,null,null,{"$f":"COUNTIF($E$1:E31711,consulta!$D$1)","v":0},"ANA VERONICA LUNA VEGA","Z314787010",1,97.6]
[null,null,null,{"$f":"COUNTIF($E$1:E31712,consulta!$D$1)","v":0},"JESUS ARMANDO RODRIGUEZ LIZARRAGA","Z314788410",1,355.07]
[null,null,null,{"$f":"COUNTIF($E$1:E31713,consulta!$D$1)","v":0},"JESUS ARMANDO RODRIGUEZ LIZARRAGA","Z314788410",1,144.32]
[null,null,null,{"$f":"COUNTIF($E$1:E31714,consulta!$D$1)","v":0},"WILBERT ROLANDO GONZALEZ GARCIA","Z314791610",1,4282.92]
[null,null,null,{"$f":"COUNTIF($E$1:E31715,consulta!$D$1)","v":0},"WILBERT ROLANDO GONZALEZ GARCIA","Z314791610",1,15307.51]
[null,null,null,{"$f":"COUNTIF($E$1:E31716,consulta!$D$1)","v":0},"WILBERT ROLANDO GONZALEZ GARCIA","Z314791610",1,6123]
[null,null,null,{"$f":"COUNTIF($E$1:E31717,consulta!$D$1)","v":0},"WILBERT ROLANDO GONZALEZ GARCIA","Z314791610",1,1713.16]
[null,null,null,{"$f":"COUNTIF($E$1:E31718,consulta!$D$1)","v":0},null,"Z314797010",1,20.98]
[]
[null,null,null,null,"final ","final ","final ","final "]

{"sheet":"Hoja2","index":4,"n_rows":16,"n_cols":6,"rows_kept":16,"cut":false,"hidden":false,"merged":[[4,0,5,0],[4,3,5,3],[2,0,3,0],[2,3,3,3],[6,0,7,0],[6,3,7,3],[14,0,15,0],[12,0,13,0],[10,0,11,0],[10,3,11,3],[8,0,9,0],[8,3,9,3]]}
[]
["NOMBRE DEL PATRON ",null,null,"NOMBRE DEL PATRON "]
[{"$f":"consulta!$D$1","v":"SEMLAB SA DE CV"},"POR NOTIFICAR",{"$f":"SUMIF(Tabla2[INCI],\"=1\",Tabla2[IMPORTE])","v":0},"SEMLAB SA DE CV","POR NOTIFICAR",0]
[null,"NOTIFICADO",{"$f":"SUMIF(Tabla2[INCI],\"=2\",Tabla2[IMPORTE])","v":0},null,"NOTIFICADO",0]
[{"$f":"consulta!$D$1","v":"SEMLAB SA DE CV"},"POR NOTIFICAR",{"$f":"SUMIF(Tabla2[INCI],\"=1\",Tabla2[IMPORTE])","v":0},"SERVICIOS ADMINISTRATIVOS R.P.I. S DE RL DE CV","POR NOTIFICAR",1689.8]
[null,"NOTIFICADO",{"$f":"SUMIF(Tabla2[INCI],\"=2\",Tabla2[IMPORTE])","v":0},null,"NOTIFICADO",0]
[{"$f":"consulta!$D$1","v":"SEMLAB SA DE CV"},"POR NOTIFICAR",{"$f":"SUMIF(Tabla2[INCI],\"=1\",Tabla2[IMPORTE])","v":0},"ALEJANDRA MU#OZ RODRIGUEZ","POR NOTIFICAR",1212.19]
[null,"NOTIFICADO",{"$f":"SUMIF(Tabla2[INCI],\"=2\",Tabla2[IMPORTE])","v":0},null,"NOTIFICADO",0]
[{"$f":"consulta!$D$1","v":"SEMLAB SA DE CV"},"POR NOTIFICAR",{"$f":"SUMIF(Tabla2[INCI],\"=1\",Tabla2[IMPORTE])","v":0},"ADRIANA RAMIREZ OROPEZA","POR NOTIFICAR",2387.7199999999998]
[null,"NOTIFICADO",{"$f":"SUMIF(Tabla2[INCI],\"=2\",Tabla2[IMPORTE])","v":0},null,"NOTIFICADO",0]
[{"$f":"consulta!$D$1","v":"SEMLAB SA DE CV"},"POR NOTIFICAR",{"$f":"SUMIF(Tabla2[INCI],\"=1\",Tabla2[IMPORTE])","v":0},null,"POR NOTIFICAR"]
[null,"NOTIFICADO",{"$f":"SUMIF(Tabla2[INCI],\"=2\",Tabla2[IMPORTE])","v":0},null,"NOTIFICADO"]
[{"$f":"consulta!$D$1","v":"SEMLAB SA DE CV"},"POR NOTIFICAR",{"$f":"SUMIF(Tabla2[INCI],\"=1\",Tabla2[IMPORTE])","v":0}]
[null,"NOTIFICADO",{"$f":"SUMIF(Tabla2[INCI],\"=2\",Tabla2[IMPORTE])","v":0}]
[null,"POR NOTIFICAR"]
[null,"NOTIFICADO"]