{"text_format":"1","workbook":"xlsx","n_sheets":2,"sheets":["Registro","Datos"],"not_rendered":{"charts":3,"images":4,"macros":1,"external_links":0,"defined_names":12,"comments":0,"pivot_tables":0},"unopened":[],"bounds":{"document_bytes":16777216,"sheet_cells":100000,"rows_first":2000,"rows_last":500,"rows_between":2000,"halvings":0,"cell_chars":16384,"cell_head_chars":4096},"cells_cut":0,"cells_raw":0,"read":"whole","date_system":"1900"}

{"sheet":"Registro","index":0,"n_rows":47,"n_cols":31,"rows_kept":47,"cut":false,"hidden":false,"merged":[[8,23,8,24],[15,23,15,24],[20,23,20,24],[10,23,10,24],[27,45,27,46],[13,5,13,6],[24,0,24,1],[25,0,25,1],[26,0,26,1],[21,11,22,11],[23,11,24,11],[25,11,26,11],[17,11,18,11],[17,0,17,1],[13,11,14,11],[15,11,16,11],[18,0,18,1],[13,0,13,2],[21,5,21,6],[20,5,20,6],[27,11,28,11],[28,0,28,1],[22,0,22,1],[19,11,20,11],[26,23,26,25],[23,0,23,1],[27,0,27,1],[19,0,19,1],[20,0,20,1],[21,0,21,1],[11,0,11,1],[12,0,12,1],[11,11,12,11],[6,0,6,1],[7,0,7,1],[8,0,8,1],[46,31,46,36],[29,11,30,11],[31,10,31,11],[29,0,29,1],[29,14,29,15],[31,12,31,13],[30,0,30,1],[33,13,36,13],[34,4,34,5],[3,11,4,11],[5,11,6,11],[7,11,8,11],[9,11,10,11],[5,0,5,1],[9,0,9,1],[10,0,10,1],[0,14,0,22],[1,24,2,24],[1,30,2,30],[0,23,0,30],[1,11,2,11],[0,0,1,0],[0,1,0,2],[1,1,1,2],[3,0,3,1],[4,0,4,1],[2,0,2,1]]}
["PC10.02","Validación: 16/10/19",null,null,null,null,null,"Lectura","Patrón","Incognita","ABA","ABBA","Eliminar","Criterio","Sumatoria de Pesas",null,null,null,null,null,null,null,null,"Sobrecarga / Incógnita"]
[null,"Vigencia: Noviembre 2019",null,null,null,null,null,{"$f":"IF($C$22=\"ABA\",IF(J3=\"\",\"\",1),IF(J3=\"\",\"\",1))","v":1},0,40,{"$f":"IF($M$2=0,\"\",IF($I$3=\"\",\"\",IF($C$22=\"ABA\",($J$2-(AVERAGE($I$2:$I$3))),\"\")))","v":40},{"$f":"IF($M$2=0,\"\",IF($J$3=\"\",\"\",IF($C$22=\"ABBA\",(AVERAGE($J$2:$J$3)-AVERAGE($I$2:$I$3)),\"\")))","v":""},1,{"$f":"IF($C$22=\"ABA\",IFERROR(((K2-$D$18)/$D$19),\"\"),IF($C$22=\"ABBA\",IFERROR(((L2-$D$18)/$D$19),\"\")))","v":""},"mp / g","Id.","Ep / mg","Up / mg","V / cm3","rp [g / cm3]","Uρ [kg / cm3]","Código","Certificado","msi","Id.","esi","Usi","Vsi","rsi","Usi","Certificado"]
["Código:",null,3,null,null,null,null,{"$f":"IF($C$22=\"ABA\",IF(J3=\"\",\"\",H2+1),\"\")","v":2},0,41,{"$f":"IF($M$3=0,\"\",IF($I$4=\"\",\"\",IF($C$22=\"ABA\",($J$3-(AVERAGE($I$3:$I$4))),\"\")))","v":40},null,1,"",500,"-",{"$f":"IF(OR(O3=\"\",P3=\"\",W3=\"\"),\"\",INDEX(#REF!,MATCH(W3&O3&P3,#REF!&#REF!&#REF!,0),4))","v":{"$error":"#REF!"}},{"$f":"IF(OR(O3=\"\",P3=\"\",W3=\"\"),\"\",INDEX(#REF!,MATCH(W3&O3&P3,#REF!&#REF!&#REF!,0),5))","v":{"$error":"#REF!"}},{"$f":"IFERROR(IF(O3=\"\",\"\",O3/T3),\"\")","v":""},{"$f":"IF(OR(O3=\"\",P3=\"\",W3=\"\"),\"\",INDEX(#REF!,MATCH(W3&O3&P3,#REF!&#REF!&#REF!,0),6))","v":{"$error":"#REF!"}},{"$f":"IF(OR(O3=\"\",P3=\"\",W3=\"\"),\"\",INDEX(#REF!,MATCH(W3&O3&P3,#REF!&#REF!&#REF!,0),7))","v":{"$error":"#REF!"}},{"$f":"IF(OR(O3=\"\",P3=\"\",W3=\"\"),\"\",INDEX(#REF!,MATCH(W3&O3&P3,#REF!&#REF!&#REF!,0),8))","v":{"$error":"#REF!"}},"27208-F-0619","g",null,"mg","mg","cm3","g / cm3","g / cm3"]
["Fecha:",null,"2020-01-23",null,null,null,null,{"$f":"IF($C$22=\"ABA\",IF(J4=\"\",\"\",H3+1),IF(J5=\"\",\"\",H2+1))","v":3},2,42,{"$f":"IF($M$4=0,\"\",IF($I$5=\"\",\"\",IF($C$22=\"ABA\",($J$4-(AVERAGE($I$4:$I$5))),\"\")))","v":40.5},{"$f":"IF($M$4=0,\"\",IF($J$5=\"\",\"\",IF($C$22=\"ABBA\",(AVERAGE($J$4:$J$5)-AVERAGE($I$4:$I$5)),\"\")))","v":""},1,"","","",{"$f":"IF(OR(O4=\"\",P4=\"\",W4=\"\"),\"\",INDEX(#REF!,MATCH(W4&O4&P4,#REF!&#REF!&#REF!,0),4))","v":""},{"$f":"IF(OR(O4=\"\",P4=\"\",W4=\"\"),\"\",INDEX(#REF!,MATCH(W4&O4&P4,#REF!&#REF!&#REF!,0),5))","v":""},"",{"$f":"IF(OR(O4=\"\",P4=\"\",W4=\"\"),\"\",INDEX(#REF!,MATCH(W4&O4&P4,#REF!&#REF!&#REF!,0),6))","v":""},{"$f":"IF(OR(O4=\"\",P4=\"\",W4=\"\"),\"\",INDEX(#REF!,MATCH(W4&O4&P4,#REF!&#REF!&#REF!,0),7))","v":""},{"$f":"IF(OR(O4=\"\",P4=\"\",W4=\"\"),\"\",INDEX(#REF!,MATCH(W4&O4&P4,#REF!&#REF!&#REF!,0),8))","v":""},"","","",{"$f":"IF(OR(X4=\"\",Y4=\"\",AE4=\"\"),\"\",INDEX(#REF!,MATCH(AE4&X4&Y4,#REF!&#REF!&#REF!,0),4))","v":""},{"$f":"IF(OR(X4=\"\",Y4=\"\",AE4=\"\"),\"\",INDEX(#REF!,MATCH(AE4&X4&Y4,#REF!&#REF!&#REF!,0),5))","v":""},{"$f":"IFERROR(IF(X4=\"\",\"\",X4/AC4),\"\")","v":""},{"$f":"IF(OR(X4=\"\",Y4=\"\",AE4=\"\"),\"\",INDEX(#REF!,MATCH(AE4&X4&Y4,#REF!&#REF!&#REF!,0),6))","v":""},{"$f":"IF(OR(X4=\"\",Y4=\"\",AE4=\"\"),\"\",INDEX(#REF!,MATCH(AE4&X4&Y4,#REF!&#REF!&#REF!,0),7))","v":""},""]
["Cliente:",null,"Ortelli & Cia",null,null,null,null,{"$f":"IF($C$22=\"ABA\",IF(J5=\"\",\"\",H4+1),\"\")","v":4},1,41,{"$f":"IF($M$5=0,\"\",IF($I$6=\"\",\"\",IF($C$22=\"ABA\",($J$5-(AVERAGE($I$5:$I$6))),\"\")))","v":40},null,1,"","","",{"$f":"IF(OR(O5=\"\",P5=\"\",W5=\"\"),\"\",INDEX(#REF!,MATCH(W5&O5&P5,#REF!&#REF!&#REF!,0),4))","v":""},{"$f":"IF(OR(O5=\"\",P5=\"\",W5=\"\"),\"\",INDEX(#REF!,MATCH(W5&O5&P5,#REF!&#REF!&#REF!,0),5))","v":""},"",{"$f":"IF(OR(O5=\"\",P5=\"\",W5=\"\"),\"\",INDEX(#REF!,MATCH(W5&O5&P5,#REF!&#REF!&#REF!,0),6))","v":""},{"$f":"IF(OR(O5=\"\",P5=\"\",W5=\"\"),\"\",INDEX(#REF!,MATCH(W5&O5&P5,#REF!&#REF!&#REF!,0),7))","v":""},{"$f":"IF(OR(O5=\"\",P5=\"\",W5=\"\"),\"\",INDEX(#REF!,MATCH(W5&O5&P5,#REF!&#REF!&#REF!,0),8))","v":""},"","","",{"$f":"IF(OR(X5=\"\",Y5=\"\",AE5=\"\"),\"\",INDEX(#REF!,MATCH(AE5&X5&Y5,#REF!&#REF!&#REF!,0),4))","v":""},{"$f":"IF(OR(X5=\"\",Y5=\"\",AE5=\"\"),\"\",INDEX(#REF!,MATCH(AE5&X5&Y5,#REF!&#REF!&#REF!,0),5))","v":""},{"$f":"IFERROR(IF(X5=\"\",\"\",X5/AC5),\"\")","v":""},{"$f":"IF(OR(X5=\"\",Y5=\"\",AE5=\"\"),\"\",INDEX(#REF!,MATCH(AE5&X5&Y5,#REF!&#REF!&#REF!,0),6))","v":""},{"$f":"IF(OR(X5=\"\",Y5=\"\",AE5=\"\"),\"\",INDEX(#REF!,MATCH(AE5&X5&Y5,#REF!&#REF!&#REF!,0),7))","v":""},""]
["O.T.",null,28470,null,null,null,null,{"$f":"IF($C$22=\"ABA\",IF(J6=\"\",\"\",H5+1),IF(J7=\"\",\"\",H4+1))","v":5},1,42,{"$f":"IF($M$6=0,\"\",IF($I$7=\"\",\"\",IF($C$22=\"ABA\",($J$6-(AVERAGE($I$6:$I$7))),\"\")))","v":40.5},{"$f":"IF($M$6=0,\"\",IF($J$7=\"\",\"\",IF($C$22=\"ABBA\",(AVERAGE($J$6:$J$7)-AVERAGE($I$6:$I$7)),\"\")))","v":""},1,"","","",{"$f":"IF(OR(O6=\"\",P6=\"\",W6=\"\"),\"\",INDEX(#REF!,MATCH(W6&O6&P6,#REF!&#REF!&#REF!,0),4))","v":""},{"$f":"IF(OR(O6=\"\",P6=\"\",W6=\"\"),\"\",INDEX(#REF!,MATCH(W6&O6&P6,#REF!&#REF!&#REF!,0),5))","v":""},"",{"$f":"IF(OR(O6=\"\",P6=\"\",W6=\"\"),\"\",INDEX(#REF!,MATCH(W6&O6&P6,#REF!&#REF!&#REF!,0),6))","v":""},{"$f":"IF(OR(O6=\"\",P6=\"\",W6=\"\"),\"\",INDEX(#REF!,MATCH(W6&O6&P6,#REF!&#REF!&#REF!,0),7))","v":""},{"$f":"IF(OR(O6=\"\",P6=\"\",W6=\"\"),\"\",INDEX(#REF!,MATCH(W6&O6&P6,#REF!&#REF!&#REF!,0),8))","v":""},"","","",{"$f":"IF(OR(X6=\"\",Y6=\"\",AE6=\"\"),\"\",INDEX(#REF!,MATCH(AE6&X6&Y6,#REF!&#REF!&#REF!,0),4))","v":""},{"$f":"IF(OR(X6=\"\",Y6=\"\",AE6=\"\"),\"\",INDEX(#REF!,MATCH(AE6&X6&Y6,#REF!&#REF!&#REF!,0),5))","v":""},{"$f":"IFERROR(IF(X6=\"\",\"\",X6/AC6),\"\")","v":""},{"$f":"IF(OR(X6=\"\",Y6=\"\",AE6=\"\"),\"\",INDEX(#REF!,MATCH(AE6&X6&Y6,#REF!&#REF!&#REF!,0),6))","v":""},{"$f":"IF(OR(X6=\"\",Y6=\"\",AE6=\"\"),\"\",INDEX(#REF!,MATCH(AE6&X6&Y6,#REF!&#REF!&#REF!,0),7))","v":""},""]
["Clase:",null,"M2",null,null,null,null,{"$f":"IF($C$22=\"ABA\",IF(J7=\"\",\"\",H6+1),\"\")","v":""},2,"",{"$f":"IF($M$7=0,\"\",IF($I$8=\"\",\"\",IF($C$22=\"ABA\",($J$7-(AVERAGE($I$7:$I$8))),\"\")))","v":""},null,1,"","","",{"$f":"IF(OR(O7=\"\",P7=\"\",W7=\"\"),\"\",INDEX(#REF!,MATCH(W7&O7&P7,#REF!&#REF!&#REF!,0),4))","v":""},{"$f":"IF(OR(O7=\"\",P7=\"\",W7=\"\"),\"\",INDEX(#REF!,MATCH(W7&O7&P7,#REF!&#REF!&#REF!,0),5))","v":""},"",{"$f":"IF(OR(O7=\"\",P7=\"\",W7=\"\"),\"\",INDEX(#REF!,MATCH(W7&O7&P7,#REF!&#REF!&#REF!,0),6))","v":""},{"$f":"IF(OR(O7=\"\",P7=\"\",W7=\"\"),\"\",INDEX(#REF!,MATCH(W7&O7&P7,#REF!&#REF!&#REF!,0),7))","v":""},{"$f":"IF(OR(O7=\"\",P7=\"\",W7=\"\"),\"\",INDEX(#REF!,MATCH(W7&O7&P7,#REF!&#REF!&#REF!,0),8))","v":""},"","","",{"$f":"IF(OR(X7=\"\",Y7=\"\",AE7=\"\"),\"\",INDEX(#REF!,MATCH(AE7&X7&Y7,#REF!&#REF!&#REF!,0),4))","v":""},{"$f":"IF(OR(X7=\"\",Y7=\"\",AE7=\"\"),\"\",INDEX(#REF!,MATCH(AE7&X7&Y7,#REF!&#REF!&#REF!,0),5))","v":""},{"$f":"IFERROR(IF(X7=\"\",\"\",X7/AC7),\"\")","v":""},{"$f":"IF(OR(X7=\"\",Y7=\"\",AE7=\"\"),\"\",INDEX(#REF!,MATCH(AE7&X7&Y7,#REF!&#REF!&#REF!,0),6))","v":""},{"$f":"IF(OR(X7=\"\",Y7=\"\",AE7=\"\"),\"\",INDEX(#REF!,MATCH(AE7&X7&Y7,#REF!&#REF!&#REF!,0),7))","v":""},""]
["Valor nominal / g",null,500,null,null,null,null,{"$f":"IF($C$22=\"ABA\",IF(J8=\"\",\"\",H7+1),IF(J9=\"\",\"\",H6+1))","v":""},"","",{"$f":"IF($M$8=0,\"\",IF($I$9=\"\",\"\",IF($C$22=\"ABA\",($J$8-(AVERAGE($I$8:$I$9))),\"\")))","v":""},{"$f":"IF($M$8=0,\"\",IF($J$9=\"\",\"\",IF($C$22=\"ABBA\",(AVERAGE($J$8:$J$9)-AVERAGE($I$8:$I$9)),\"\")))","v":""},1,"","","",{"$f":"IF(OR(O8=\"\",P8=\"\",W8=\"\"),\"\",INDEX(#REF!,MATCH(W8&O8&P8,#REF!&#REF!&#REF!,0),4))","v":""},{"$f":"IF(OR(O8=\"\",P8=\"\",W8=\"\"),\"\",INDEX(#REF!,MATCH(W8&O8&P8,#REF!&#REF!&#REF!,0),5))","v":""},"",{"$f":"IF(OR(O8=\"\",P8=\"\",W8=\"\"),\"\",INDEX(#REF!,MATCH(W8&O8&P8,#REF!&#REF!&#REF!,0),6))","v":""},{"$f":"IF(OR(O8=\"\",P8=\"\",W8=\"\"),\"\",INDEX(#REF!,MATCH(W8&O8&P8,#REF!&#REF!&#REF!,0),7))","v":""},{"$f":"IF(OR(O8=\"\",P8=\"\",W8=\"\"),\"\",INDEX(#REF!,MATCH(W8&O8&P8,#REF!&#REF!&#REF!,0),8))","v":""},"","","",{"$f":"IF(OR(X8=\"\",Y8=\"\",AE8=\"\"),\"\",INDEX(#REF!,MATCH(AE8&X8&Y8,#REF!&#REF!&#REF!,0),4))","v":""},{"$f":"IF(OR(X8=\"\",Y8=\"\",AE8=\"\"),\"\",INDEX(#REF!,MATCH(AE8&X8&Y8,#REF!&#REF!&#REF!,0),5))","v":""},{"$f":"IFERROR(IF(X8=\"\",\"\",X8/AC8),\"\")","v":""},{"$f":"IF(OR(X8=\"\",Y8=\"\",AE8=\"\"),\"\",INDEX(#REF!,MATCH(AE8&X8&Y8,#REF!&#REF!&#REF!,0),6))","v":""},{"$f":"IF(OR(X8=\"\",Y8=\"\",AE8=\"\"),\"\",INDEX(#REF!,MATCH(AE8&X8&Y8,#REF!&#REF!&#REF!,0),7))","v":""},""]
["Patrón:",null,{"$f":"IF(COUNTA(O3:O29)>1,O1,V3)","v":"Sumatoria de Pesas"},null,null,null,null,{"$f":"IF($C$22=\"ABA\",IF(J9=\"\",\"\",H8+1),\"\")","v":""},"","",{"$f":"IF($M$9=0,\"\",IF($I$10=\"\",\"\",IF($C$22=\"ABA\",($J$9-(AVERAGE($I$9:$I$10))),\"\")))","v":""},null,1,"","","",{"$f":"IF(OR(O9=\"\",P9=\"\",W9=\"\"),\"\",INDEX(#REF!,MATCH(W9&O9&P9,#REF!&#REF!&#REF!,0),4))","v":""},{"$f":"IF(OR(O9=\"\",P9=\"\",W9=\"\"),\"\",INDEX(#REF!,MATCH(W9&O9&P9,#REF!&#REF!&#REF!,0),5))","v":""},"",{"$f":"IF(OR(O9=\"\",P9=\"\",W9=\"\"),\"\",INDEX(#REF!,MATCH(W9&O9&P9,#REF!&#REF!&#REF!,0),6))","v":""},{"$f":"IF(OR(O9=\"\",P9=\"\",W9=\"\"),\"\",INDEX(#REF!,MATCH(W9&O9&P9,#REF!&#REF!&#REF!,0),7))","v":""},{"$f":"IF(OR(O9=\"\",P9=\"\",W9=\"\"),\"\",INDEX(#REF!,MATCH(W9&O9&P9,#REF!&#REF!&#REF!,0),8))","v":""},"",{"$f":"SUM($X$4:$X$8)","v":0},null,{"$f":"SUM($Z$4:$Z$8)","v":0},{"$f":"SUM($AA$4:$AA$8)","v":0},{"$f":"SUM($AB$4:$AB$8)","v":0},{"$f":"IFERROR(IF(X9=\"0\",\"\",X9/AB9),\"\")","v":""}]
["Certificado:",null,{"$f":"IF(W3<>\"\",IF(COUNTA(W3:W29,AE4:AE8)>1,\"Ver Detalle\",W3),\"\")","v":"Ver Detalle"},null,null,null,null,{"$f":"IF($C$22=\"ABA\",IF(J10=\"\",\"\",H9+1),IF(J11=\"\",\"\",H8+1))","v":""},"","",{"$f":"IF($M$10=0,\"\",IF($I$11=\"\",\"\",IF($C$22=\"ABA\",($J$10-(AVERAGE($I$10:$I$11))),\"\")))","v":""},{"$f":"IF($M$10=0,\"\",IF($J$11=\"\",\"\",IF($C$22=\"ABBA\",(AVERAGE($J$10:$J$11)-AVERAGE($I$10:$I$11)),\"\")))","v":""},1,"","","",{"$f":"IF(OR(O10=\"\",P10=\"\",W10=\"\"),\"\",INDEX(#REF!,MATCH(W10&O10&P10,#REF!&#REF!&#REF!,0),4))","v":""},{"$f":"IF(OR(O10=\"\",P10=\"\",W10=\"\"),\"\",INDEX(#REF!,MATCH(W10&O10&P10,#REF!&#REF!&#REF!,0),5))","v":""},"",{"$f":"IF(OR(O10=\"\",P10=\"\",W10=\"\"),\"\",INDEX(#REF!,MATCH(W10&O10&P10,#REF!&#REF!&#REF!,0),6))","v":""},{"$f":"IF(OR(O10=\"\",P10=\"\",W10=\"\"),\"\",INDEX(#REF!,MATCH(W10&O10&P10,#REF!&#REF!&#REF!,0),7))","v":""},{"$f":"IF(OR(O10=\"\",P10=\"\",W10=\"\"),\"\",INDEX(#REF!,MATCH(W10&O10&P10,#REF!&#REF!&#REF!,0),8))","v":""},"","Volumen de Forma",""]
["Comparador/Intercambiador:",null,"C500K-B-01",null,null,null,null,{"$f":"IF($C$22=\"ABA\",IF(J11=\"\",\"\",H10+1),\"\")","v":""},"","",{"$f":"IF($M$11=0,\"\",IF($I$12=\"\",\"\",IF($C$22=\"ABA\",($J$11-(AVERAGE($I$11:$I$12))),\"\")))","v":""},null,1,"","","",{"$f":"IF(OR(O11=\"\",P11=\"\",W11=\"\"),\"\",INDEX(#REF!,MATCH(W11&O11&P11,#REF!&#REF!&#REF!,0),4))","v":""},{"$f":"IF(OR(O11=\"\",P11=\"\",W11=\"\"),\"\",INDEX(#REF!,MATCH(W11&O11&P11,#REF!&#REF!&#REF!,0),5))","v":""},"",{"$f":"IF(OR(O11=\"\",P11=\"\",W11=\"\"),\"\",INDEX(#REF!,MATCH(W11&O11&P11,#REF!&#REF!&#REF!,0),6))","v":""},{"$f":"IF(OR(O11=\"\",P11=\"\",W11=\"\"),\"\",INDEX(#REF!,MATCH(W11&O11&P11,#REF!&#REF!&#REF!,0),7))","v":""},{"$f":"IF(OR(O11=\"\",P11=\"\",W11=\"\"),\"\",INDEX(#REF!,MATCH(W11&O11&P11,#REF!&#REF!&#REF!,0),8))","v":""},"","Paralelepípedo"]
["Operador/es:",null,"A. Darío Tejada",null,null,null,null,{"$f":"IF($C$22=\"ABA\",IF(J12=\"\",\"\",H11+1),IF(J13=\"\",\"\",H10+1))","v":""},"","",{"$f":"IF($M$12=0,\"\",IF($I$13=\"\",\"\",IF($C$22=\"ABA\",($J$12-(AVERAGE($I$12:$I$13))),\"\")))","v":""},{"$f":"IF($M$12=0,\"\",IF($J$13=\"\",\"\",IF($C$22=\"ABBA\",(AVERAGE($J$12:$J$13)-AVERAGE($I$12:$I$13)),\"\")))","v":""},1,"","","",{"$f":"IF(OR(O12=\"\",P12=\"\",W12=\"\"),\"\",INDEX(#REF!,MATCH(W12&O12&P12,#REF!&#REF!&#REF!,0),4))","v":""},{"$f":"IF(OR(O12=\"\",P12=\"\",W12=\"\"),\"\",INDEX(#REF!,MATCH(W12&O12&P12,#REF!&#REF!&#REF!,0),5))","v":""},"",{"$f":"IF(OR(O12=\"\",P12=\"\",W12=\"\"),\"\",INDEX(#REF!,MATCH(W12&O12&P12,#REF!&#REF!&#REF!,0),6))","v":""},{"$f":"IF(OR(O12=\"\",P12=\"\",W12=\"\"),\"\",INDEX(#REF!,MATCH(W12&O12&P12,#REF!&#REF!&#REF!,0),7))","v":""},{"$f":"IF(OR(O12=\"\",P12=\"\",W12=\"\"),\"\",INDEX(#REF!,MATCH(W12&O12&P12,#REF!&#REF!&#REF!,0),8))","v":""},"","Largo / cm",""]
["Responsable:",null,"Francisco Dolz",null,null,null,null,{"$f":"IF($C$22=\"ABA\",IF(J13=\"\",\"\",H12+1),\"\")","v":""},"","",{"$f":"IF($M$13=0,\"\",IF($I$14=\"\",\"\",IF($C$22=\"ABA\",($J$13-(AVERAGE($I$13:$I$14))),\"\")))","v":""},null,1,"","","",{"$f":"IF(OR(O13=\"\",P13=\"\",W13=\"\"),\"\",INDEX(#REF!,MATCH(W13&O13&P13,#REF!&#REF!&#REF!,0),4))","v":""},{"$f":"IF(OR(O13=\"\",P13=\"\",W13=\"\"),\"\",INDEX(#REF!,MATCH(W13&O13&P13,#REF!&#REF!&#REF!,0),5))","v":""},"",{"$f":"IF(OR(O13=\"\",P13=\"\",W13=\"\"),\"\",INDEX(#REF!,MATCH(W13&O13&P13,#REF!&#REF!&#REF!,0),6))","v":""},{"$f":"IF(OR(O13=\"\",P13=\"\",W13=\"\"),\"\",INDEX(#REF!,MATCH(W13&O13&P13,#REF!&#REF!&#REF!,0),7))","v":""},{"$f":"IF(OR(O13=\"\",P13=\"\",W13=\"\"),\"\",INDEX(#REF!,MATCH(W13&O13&P13,#REF!&#REF!&#REF!,0),8))","v":""},"","Ancho / cm",""]
["Componentes",null,null,"Valor","Unidad","Contribución (%)",null,{"$f":"IF($C$22=\"ABA\",IF(J14=\"\",\"\",H13+1),IF(J15=\"\",\"\",H12+1))","v":""},"","",{"$f":"IF($M$14=0,\"\",IF($I$15=\"\",\"\",IF($C$22=\"ABA\",($J$14-(AVERAGE($I$14:$I$15))),\"\")))","v":""},{"$f":"IF($M$14=0,\"\",IF($J$15=\"\",\"\",IF($C$22=\"ABBA\",(AVERAGE($J$14:$J$15)-AVERAGE($I$14:$I$15)),\"\")))","v":""},1,"","","",{"$f":"IF(OR(O14=\"\",P14=\"\",W14=\"\"),\"\",INDEX(#REF!,MATCH(W14&O14&P14,#REF!&#REF!&#REF!,0),4))","v":""},{"$f":"IF(OR(O14=\"\",P14=\"\",W14=\"\"),\"\",INDEX(#REF!,MATCH(W14&O14&P14,#REF!&#REF!&#REF!,0),5))","v":""},"",{"$f":"IF(OR(O14=\"\",P14=\"\",W14=\"\"),\"\",INDEX(#REF!,MATCH(W14&O14&P14,#REF!&#REF!&#REF!,0),6))","v":""},{"$f":"IF(OR(O14=\"\",P14=\"\",W14=\"\"),\"\",INDEX(#REF!,MATCH(W14&O14&P14,#REF!&#REF!&#REF!,0),7))","v":""},{"$f":"IF(OR(O14=\"\",P14=\"\",W14=\"\"),\"\",INDEX(#REF!,MATCH(W14&O14&P14,#REF!&#REF!&#REF!,0),8))","v":""},"","Altura / cm",""]
["t(i-f)",22.6,22.7,2,"°C","Patrón",{"$f":"IFERROR((((R30+VALUE(AA9))/2)^2/B32^2)*100,\"\")","v":""},{"$f":"IF($C$22=\"ABA\",IF(J15=\"\",\"\",H14+1),\"\")","v":""},"","",{"$f":"IF($M$15=0,\"\",IF($I$16=\"\",\"\",IF($C$22=\"ABA\",($J$15-(AVERAGE($I$15:$I$16))),\"\")))","v":""},null,1,"","","",{"$f":"IF(OR(O15=\"\",P15=\"\",W15=\"\"),\"\",INDEX(#REF!,MATCH(W15&O15&P15,#REF!&#REF!&#REF!,0),4))","v":""},{"$f":"IF(OR(O15=\"\",P15=\"\",W15=\"\"),\"\",INDEX(#REF!,MATCH(W15&O15&P15,#REF!&#REF!&#REF!,0),5))","v":""},"",{"$f":"IF(OR(O15=\"\",P15=\"\",W15=\"\"),\"\",INDEX(#REF!,MATCH(W15&O15&P15,#REF!&#REF!&#REF!,0),6))","v":""},{"$f":"IF(OR(O15=\"\",P15=\"\",W15=\"\"),\"\",INDEX(#REF!,MATCH(W15&O15&P15,#REF!&#REF!&#REF!,0),7))","v":""},{"$f":"IF(OR(O15=\"\",P15=\"\",W15=\"\"),\"\",INDEX(#REF!,MATCH(W15&O15&P15,#REF!&#REF!&#REF!,0),8))","v":""},"","Volumen / cm3",{"$f":"IF($Y$14=\"\",\"\",$Y$12*$Y$13*$Y$14)","v":""}]
["Hr(i-f)",64.2,61.4,10,"%","Estab. del patrón",{"$f":"IFERROR((((R30+VALUE(AA9))/SQRT(3))^2/B32^2)*100,\"\")","v":""},{"$f":"IF($C$22=\"ABA\",IF(J16=\"\",\"\",H15+1),IF(J17=\"\",\"\",H14+1))","v":""},"","",{"$f":"IF($M$16=0,\"\",IF($I$17=\"\",\"\",IF($C$22=\"ABA\",($J$16-(AVERAGE($I$16:$I$17))),\"\")))","v":""},{"$f":"IF($M$16=0,\"\",IF($J$17=\"\",\"\",IF($C$22=\"ABBA\",(AVERAGE($J$16:$J$17)-AVERAGE($I$16:$I$17)),\"\")))","v":""},1,"","","",{"$f":"IF(OR(O16=\"\",P16=\"\",W16=\"\"),\"\",INDEX(#REF!,MATCH(W16&O16&P16,#REF!&#REF!&#REF!,0),4))","v":""},{"$f":"IF(OR(O16=\"\",P16=\"\",W16=\"\"),\"\",INDEX(#REF!,MATCH(W16&O16&P16,#REF!&#REF!&#REF!,0),5))","v":""},"",{"$f":"IF(OR(O16=\"\",P16=\"\",W16=\"\"),\"\",INDEX(#REF!,MATCH(W16&O16&P16,#REF!&#REF!&#REF!,0),6))","v":""},{"$f":"IF(OR(O16=\"\",P16=\"\",W16=\"\"),\"\",INDEX(#REF!,MATCH(W16&O16&P16,#REF!&#REF!&#REF!,0),7))","v":""},{"$f":"IF(OR(O16=\"\",P16=\"\",W16=\"\"),\"\",INDEX(#REF!,MATCH(W16&O16&P16,#REF!&#REF!&#REF!,0),8))","v":""},"","Pirámide Truncada"]
["p(i-f)",1019,1019,10,"hPa","Resolución",{"$f":"IFERROR((((D26/2/SQRT(3))*SQRT(2))^2/B32^2)*100,\"\")","v":""},{"$f":"IF($C$22=\"ABA\",IF(J17=\"\",\"\",H16+1),\"\")","v":""},"","",{"$f":"IF($M$17=0,\"\",IF($I$18=\"\",\"\",IF($C$22=\"ABA\",($J$17-(AVERAGE($I$17:$I$18))),\"\")))","v":""},null,1,"","","",{"$f":"IF(OR(O17=\"\",P17=\"\",W17=\"\"),\"\",INDEX(#REF!,MATCH(W17&O17&P17,#REF!&#REF!&#REF!,0),4))","v":""},{"$f":"IF(OR(O17=\"\",P17=\"\",W17=\"\"),\"\",INDEX(#REF!,MATCH(W17&O17&P17,#REF!&#REF!&#REF!,0),5))","v":""},"",{"$f":"IF(OR(O17=\"\",P17=\"\",W17=\"\"),\"\",INDEX(#REF!,MATCH(W17&O17&P17,#REF!&#REF!&#REF!,0),6))","v":""},{"$f":"IF(OR(O17=\"\",P17=\"\",W17=\"\"),\"\",INDEX(#REF!,MATCH(W17&O17&P17,#REF!&#REF!&#REF!,0),7))","v":""},{"$f":"IF(OR(O17=\"\",P17=\"\",W17=\"\"),\"\",INDEX(#REF!,MATCH(W17&O17&P17,#REF!&#REF!&#REF!,0),8))","v":""},"","Area / base menor / cm2",""]
["Promedio corregido ",null,"",{"$f":"IFERROR(IF($C$22=\"ABA\",(AVERAGE(K2:K31)*D20),AVERAGE(L2:L31)*D20),\"\")","v":""},"mg","Excentricidad",{"$f":"IFERROR(((0.04/6)^2/B32^2)*100,\"\")","v":""},{"$f":"IF($C$22=\"ABA\",IF(J18=\"\",\"\",H17+1),IF(J19=\"\",\"\",H16+1))","v":""},"","",{"$f":"IF($M$18=0,\"\",IF($I$19=\"\",\"\",IF($C$22=\"ABA\",($J$18-(AVERAGE($I$18:$I$19))),\"\")))","v":""},{"$f":"IF($M$18=0,\"\",IF($J$19=\"\",\"\",IF($C$22=\"ABBA\",(AVERAGE($J$18:$J$19)-AVERAGE($I$18:$I$19)),\"\")))","v":""},1,"","","",{"$f":"IF(OR(O18=\"\",P18=\"\",W18=\"\"),\"\",INDEX(#REF!,MATCH(W18&O18&P18,#REF!&#REF!&#REF!,0),4))","v":""},{"$f":"IF(OR(O18=\"\",P18=\"\",W18=\"\"),\"\",INDEX(#REF!,MATCH(W18&O18&P18,#REF!&#REF!&#REF!,0),5))","v":""},"",{"$f":"IF(OR(O18=\"\",P18=\"\",W18=\"\"),\"\",INDEX(#REF!,MATCH(W18&O18&P18,#REF!&#REF!&#REF!,0),6))","v":""},{"$f":"IF(OR(O18=\"\",P18=\"\",W18=\"\"),\"\",INDEX(#REF!,MATCH(W18&O18&P18,#REF!&#REF!&#REF!,0),7))","v":""},{"$f":"IF(OR(O18=\"\",P18=\"\",W18=\"\"),\"\",INDEX(#REF!,MATCH(W18&O18&P18,#REF!&#REF!&#REF!,0),8))","v":""},"","Area / base mayor / cm2",""]
["Desvio estandar corregido ",null,"s (std)",{"$f":"IFERROR(IF($C$22=\"ABA\",STDEV(K2:K31)*D20,STDEV(L2:L31)*D20),\"\")","v":""},"mg","Proceso",{"$f":"IFERROR((((SQRT(((D19/SQRT(IF($C$22=\"ABA\",(COUNT(K2:K31)),COUNT(L2:L31))))^2)+((((IF(OR(F22=\"\",F24=\"\",G24=\"\"),\"\",INDEX(#REF!,MATCH(F22&F24&G24,#REF!&#REF!&#REF!,0),5)))/2)*((AVERAGE(IF($C$22=\"ABA\",AVERAGE(K2:K31),AVERAGE(L2:L31))))/(IF($C$21=\"P\",(D22-(LOOKUP(2,1/(I2:I32<>\"\"),I2:I32))),(D22-(LOOKUP(2,1/(J2:J31<>\"\"),J2:J31)))))))^2)+((((D26/2)/SQRT(3))*SQRT(2))*(AVERAGE(IF($C$22=\"ABA\",AVERAGE(K2:K31),AVERAGE(L2:L31)))*D20/(IF($C$21=\"P\",(D22-(LOOKUP(2,1/(I2:I32<>\"\"),I2:I32))),(D22-(LOOKUP(2,1/(J2:J31<>\"\"),J2:J31)))))))^2))^2)/(B32^2))*100,\"\")","v":""},{"$f":"IF($C$22=\"ABA\",IF(J19=\"\",\"\",H18+1),\"\")","v":""},"","",{"$f":"IF($M$19=0,\"\",IF($I$20=\"\",\"\",IF($C$22=\"ABA\",($J$19-(AVERAGE($I$19:$I$20))),\"\")))","v":""},null,1,"","","",{"$f":"IF(OR(O19=\"\",P19=\"\",W19=\"\"),\"\",INDEX(#REF!,MATCH(W19&O19&P19,#REF!&#REF!&#REF!,0),4))","v":""},{"$f":"IF(OR(O19=\"\",P19=\"\",W19=\"\"),\"\",INDEX(#REF!,MATCH(W19&O19&P19,#REF!&#REF!&#REF!,0),5))","v":""},"",{"$f":"IF(OR(O19=\"\",P19=\"\",W19=\"\"),\"\",INDEX(#REF!,MATCH(W19&O19&P19,#REF!&#REF!&#REF!,0),6))","v":""},{"$f":"IF(OR(O19=\"\",P19=\"\",W19=\"\"),\"\",INDEX(#REF!,MATCH(W19&O19&P19,#REF!&#REF!&#REF!,0),7))","v":""},{"$f":"IF(OR(O19=\"\",P19=\"\",W19=\"\"),\"\",INDEX(#REF!,MATCH(W19&O19&P19,#REF!&#REF!&#REF!,0),8))","v":""},"","Altura / cm",""]
["Sensibilidad",null,"sensib.",{"$f":"IFERROR(IF($C$21=\"P\",(D21/(D22-(LOOKUP(2,1/(I2:I32<>\"\"),I2:I32)))),(D21/(D22-(LOOKUP(2,1/(J2:J31<>\"\"),J2:J31))))),\"\")","v":""},"g","mC",{"$f":"IFERROR(((F31/2)^2/B32^2)*100,\"\")","v":""},{"$f":"IF($C$22=\"ABA\",IF(J20=\"\",\"\",H19+1),IF(J21=\"\",\"\",H18+1))","v":""},"","",{"$f":"IF($M$20=0,\"\",IF($I$21=\"\",\"\",IF($C$22=\"ABA\",($J$20-(AVERAGE($I$20:$I$21))),\"\")))","v":""},{"$f":"IF($M$20=0,\"\",IF($J$21=\"\",\"\",IF($C$22=\"ABBA\",(AVERAGE($J$20:$J$21)-AVERAGE($I$20:$I$21)),\"\")))","v":""},1,"","","",{"$f":"IF(OR(O20=\"\",P20=\"\",W20=\"\"),\"\",INDEX(#REF!,MATCH(W20&O20&P20,#REF!&#REF!&#REF!,0),4))","v":""},{"$f":"IF(OR(O20=\"\",P20=\"\",W20=\"\"),\"\",INDEX(#REF!,MATCH(W20&O20&P20,#REF!&#REF!&#REF!,0),5))","v":""},"",{"$f":"IF(OR(O20=\"\",P20=\"\",W20=\"\"),\"\",INDEX(#REF!,MATCH(W20&O20&P20,#REF!&#REF!&#REF!,0),6))","v":""},{"$f":"IF(OR(O20=\"\",P20=\"\",W20=\"\"),\"\",INDEX(#REF!,MATCH(W20&O20&P20,#REF!&#REF!&#REF!,0),7))","v":""},{"$f":"IF(OR(O20=\"\",P20=\"\",W20=\"\"),\"\",INDEX(#REF!,MATCH(W20&O20&P20,#REF!&#REF!&#REF!,0),8))","v":""},"","Volumen / cm3",{"$f":"IF($Y$19=\"\",\"\",$Y$19/3*($Y$17+$Y$18+SQRT($Y$17*$Y$18)))","v":""}]
["Sobrecarga",null,"P",{"$f":"IFERROR(F24*1000+IF(OR(F22=\"\",F24=\"\",G24=\"\"),\"\",INDEX(#REF!,MATCH(F22&F24&G24,#REF!&#REF!&#REF!,0),4)),\"\")","v":""},"mg","Pesa de Sensibilidad",null,{"$f":"IF($C$22=\"ABA\",IF(J21=\"\",\"\",H20+1),\"\")","v":""},"","",{"$f":"IF($M$21=0,\"\",IF($I$22=\"\",\"\",IF($C$22=\"ABA\",($J$21-(AVERAGE($I$21:$I$22))),\"\")))","v":""},null,1,"","","",{"$f":"IF(OR(O21=\"\",P21=\"\",W21=\"\"),\"\",INDEX(#REF!,MATCH(W21&O21&P21,#REF!&#REF!&#REF!,0),4))","v":""},{"$f":"IF(OR(O21=\"\",P21=\"\",W21=\"\"),\"\",INDEX(#REF!,MATCH(W21&O21&P21,#REF!&#REF!&#REF!,0),5))","v":""},"",{"$f":"IF(OR(O21=\"\",P21=\"\",W21=\"\"),\"\",INDEX(#REF!,MATCH(W21&O21&P21,#REF!&#REF!&#REF!,0),6))","v":""},{"$f":"IF(OR(O21=\"\",P21=\"\",W21=\"\"),\"\",INDEX(#REF!,MATCH(W21&O21&P21,#REF!&#REF!&#REF!,0),7))","v":""},{"$f":"IF(OR(O21=\"\",P21=\"\",W21=\"\"),\"\",INDEX(#REF!,MATCH(W21&O21&P21,#REF!&#REF!&#REF!,0),8))","v":""},"","Cilindro"]
["Lectura con ms sobre el patrón",null,"ABA",52,"mg","27734-T-0819",null,{"$f":"IF($C$22=\"ABA\",IF(J22=\"\",\"\",H21+1),IF(J23=\"\",\"\",H20+1))","v":""},"","",{"$f":"IF($M$22=0,\"\",IF($I$23=\"\",\"\",IF($C$22=\"ABA\",($J$22-(AVERAGE($I$22:$I$23))),\"\")))","v":""},{"$f":"IF($M$22=0,\"\",IF($J$23=\"\",\"\",IF($C$22=\"ABBA\",(AVERAGE($J$22:$J$23)-AVERAGE($I$22:$I$23)),\"\")))","v":""},1,"","","",{"$f":"IF(OR(O22=\"\",P22=\"\",W22=\"\"),\"\",INDEX(#REF!,MATCH(W22&O22&P22,#REF!&#REF!&#REF!,0),4))","v":""},{"$f":"IF(OR(O22=\"\",P22=\"\",W22=\"\"),\"\",INDEX(#REF!,MATCH(W22&O22&P22,#REF!&#REF!&#REF!,0),5))","v":""},"",{"$f":"IF(OR(O22=\"\",P22=\"\",W22=\"\"),\"\",INDEX(#REF!,MATCH(W22&O22&P22,#REF!&#REF!&#REF!,0),6))","v":""},{"$f":"IF(OR(O22=\"\",P22=\"\",W22=\"\"),\"\",INDEX(#REF!,MATCH(W22&O22&P22,#REF!&#REF!&#REF!,0),7))","v":""},{"$f":"IF(OR(O22=\"\",P22=\"\",W22=\"\"),\"\",INDEX(#REF!,MATCH(W22&O22&P22,#REF!&#REF!&#REF!,0),8))","v":""},"","Diámetro / cm2",""]
["Valor convencional de masa",null,"mp",{"$f":"IFERROR(O30-X9,\"\")","v":500},"g","VN / g","ID",{"$f":"IF($C$22=\"ABA\",IF(J23=\"\",\"\",H22+1),\"\")","v":""},"","",{"$f":"IF($M$23=0,\"\",IF($I$24=\"\",\"\",IF($C$22=\"ABA\",($J$23-(AVERAGE($I$23:$I$24))),\"\")))","v":""},null,1,"","","",{"$f":"IF(OR(O23=\"\",P23=\"\",W23=\"\"),\"\",INDEX(#REF!,MATCH(W23&O23&P23,#REF!&#REF!&#REF!,0),4))","v":""},{"$f":"IF(OR(O23=\"\",P23=\"\",W23=\"\"),\"\",INDEX(#REF!,MATCH(W23&O23&P23,#REF!&#REF!&#REF!,0),5))","v":""},"",{"$f":"IF(OR(O23=\"\",P23=\"\",W23=\"\"),\"\",INDEX(#REF!,MATCH(W23&O23&P23,#REF!&#REF!&#REF!,0),6))","v":""},{"$f":"IF(OR(O23=\"\",P23=\"\",W23=\"\"),\"\",INDEX(#REF!,MATCH(W23&O23&P23,#REF!&#REF!&#REF!,0),7))","v":""},{"$f":"IF(OR(O23=\"\",P23=\"\",W23=\"\"),\"\",INDEX(#REF!,MATCH(W23&O23&P23,#REF!&#REF!&#REF!,0),8))","v":""},"","Altura / cm",""]
["Error del patrón",null,"ep",{"$f":"IFERROR(Q30-Z9,\"\")","v":""},"mg",0.05,"-",{"$f":"IF($C$22=\"ABA\",IF(J24=\"\",\"\",H23+1),IF(J25=\"\",\"\",H22+1))","v":""},"","",{"$f":"IF($M$24=0,\"\",IF($I$25=\"\",\"\",IF($C$22=\"ABA\",($J$24-(AVERAGE($I$24:$I$25))),\"\")))","v":""},{"$f":"IF($M$24=0,\"\",IF($J$25=\"\",\"\",IF($C$22=\"ABBA\",(AVERAGE($J$24:$J$25)-AVERAGE($I$24:$I$25)),\"\")))","v":""},1,"","","",{"$f":"IF(OR(O24=\"\",P24=\"\",W24=\"\"),\"\",INDEX(#REF!,MATCH(W24&O24&P24,#REF!&#REF!&#REF!,0),4))","v":""},{"$f":"IF(OR(O24=\"\",P24=\"\",W24=\"\"),\"\",INDEX(#REF!,MATCH(W24&O24&P24,#REF!&#REF!&#REF!,0),5))","v":""},"",{"$f":"IF(OR(O24=\"\",P24=\"\",W24=\"\"),\"\",INDEX(#REF!,MATCH(W24&O24&P24,#REF!&#REF!&#REF!,0),6))","v":""},{"$f":"IF(OR(O24=\"\",P24=\"\",W24=\"\"),\"\",INDEX(#REF!,MATCH(W24&O24&P24,#REF!&#REF!&#REF!,0),7))","v":""},{"$f":"IF(OR(O24=\"\",P24=\"\",W24=\"\"),\"\",INDEX(#REF!,MATCH(W24&O24&P24,#REF!&#REF!&#REF!,0),8))","v":""},"","Volumen / cm3",{"$f":"IF($Y$23=\"\",\"\",(PI()*(POWER($Y$22,2)/4))*$Y$23)","v":""}]
["Incertidumbre Expandida",null,"Up",{"$f":"IFERROR(R30+AA9,\"\")","v":""},"mg",null,null,{"$f":"IF($C$22=\"ABA\",IF(J25=\"\",\"\",H24+1),\"\")","v":""},"","",{"$f":"IF($M$25=0,\"\",IF($I$26=\"\",\"\",IF($C$22=\"ABA\",($J$25-(AVERAGE($I$25:$I$26))),\"\")))","v":""},null,1,"","","",{"$f":"IF(OR(O25=\"\",P25=\"\",W25=\"\"),\"\",INDEX(#REF!,MATCH(W25&O25&P25,#REF!&#REF!&#REF!,0),4))","v":""},{"$f":"IF(OR(O25=\"\",P25=\"\",W25=\"\"),\"\",INDEX(#REF!,MATCH(W25&O25&P25,#REF!&#REF!&#REF!,0),5))","v":""},"",{"$f":"IF(OR(O25=\"\",P25=\"\",W25=\"\"),\"\",INDEX(#REF!,MATCH(W25&O25&P25,#REF!&#REF!&#REF!,0),6))","v":""},{"$f":"IF(OR(O25=\"\",P25=\"\",W25=\"\"),\"\",INDEX(#REF!,MATCH(W25&O25&P25,#REF!&#REF!&#REF!,0),7))","v":""},{"$f":"IF(OR(O25=\"\",P25=\"\",W25=\"\"),\"\",INDEX(#REF!,MATCH(W25&O25&P25,#REF!&#REF!&#REF!,0),8))","v":""},"","Forma","Masa / g","δ g/cm3"]
["Resolución del comparador",null,"d",{"$f":"IFERROR(VLOOKUP($C$11,#REF!,3,FALSE),\"\")","v":""},"mg",null,null,{"$f":"IF($C$22=\"ABA\",IF(J26=\"\",\"\",H25+1),IF(J27=\"\",\"\",H24+1))","v":""},"","",{"$f":"IF($M$26=0,\"\",IF($I$27=\"\",\"\",IF($C$22=\"ABA\",($J$26-(AVERAGE($I$26:$I$27))),\"\")))","v":""},{"$f":"IF($M$26=0,\"\",IF($J$27=\"\",\"\",IF($C$22=\"ABBA\",(AVERAGE($J$26:$J$27)-AVERAGE($I$26:$I$27)),\"\")))","v":""},1,"","","",{"$f":"IF(OR(O26=\"\",P26=\"\",W26=\"\"),\"\",INDEX(#REF!,MATCH(W26&O26&P26,#REF!&#REF!&#REF!,0),4))","v":""},{"$f":"IF(OR(O26=\"\",P26=\"\",W26=\"\"),\"\",INDEX(#REF!,MATCH(W26&O26&P26,#REF!&#REF!&#REF!,0),5))","v":""},"",{"$f":"IF(OR(O26=\"\",P26=\"\",W26=\"\"),\"\",INDEX(#REF!,MATCH(W26&O26&P26,#REF!&#REF!&#REF!,0),6))","v":""},{"$f":"IF(OR(O26=\"\",P26=\"\",W26=\"\"),\"\",INDEX(#REF!,MATCH(W26&O26&P26,#REF!&#REF!&#REF!,0),7))","v":""},{"$f":"IF(OR(O26=\"\",P26=\"\",W26=\"\"),\"\",INDEX(#REF!,MATCH(W26&O26&P26,#REF!&#REF!&#REF!,0),8))","v":""},"","",{"$f":"IFERROR(IF(X26=\"0\",\"\",(O30-X9+((Q30+D18-Z9)/1000))),\"\")","v":""},{"$f":"IFERROR(IF($X$26=$X$11,$Y$26/$Y$15,IF($X$26=$X$16,$Y$26/$Y$20,IF($X$26=$X$21,$Y$26/$Y$24,IF($X$26=\"---\",\"\",\"\")))),\"\")","v":""}]
["Densidad / Lote",null,"r",""," kg/m3",null,null,{"$f":"IF($C$22=\"ABA\",IF(J27=\"\",\"\",H26+1),\"\")","v":""},"","",{"$f":"IF($M$27=0,\"\",IF($I$28=\"\",\"\",IF($C$22=\"ABA\",($J$27-(AVERAGE($I$27:$I$28))),\"\")))","v":""},null,1,"","","",{"$f":"IF(OR(O27=\"\",P27=\"\",W27=\"\"),\"\",INDEX(#REF!,MATCH(W27&O27&P27,#REF!&#REF!&#REF!,0),4))","v":""},{"$f":"IF(OR(O27=\"\",P27=\"\",W27=\"\"),\"\",INDEX(#REF!,MATCH(W27&O27&P27,#REF!&#REF!&#REF!,0),5))","v":""},"",{"$f":"IF(OR(O27=\"\",P27=\"\",W27=\"\"),\"\",INDEX(#REF!,MATCH(W27&O27&P27,#REF!&#REF!&#REF!,0),6))","v":""},{"$f":"IF(OR(O27=\"\",P27=\"\",W27=\"\"),\"\",INDEX(#REF!,MATCH(W27&O27&P27,#REF!&#REF!&#REF!,0),7))","v":""},{"$f":"IF(OR(O27=\"\",P27=\"\",W27=\"\"),\"\",INDEX(#REF!,MATCH(W27&O27&P27,#REF!&#REF!&#REF!,0),8))","v":""},"","Latitud"]
["Patrón/es",null,"rp",{"$f":"IFERROR(VLOOKUP(A28,#REF!,2,FALSE),\"\")","v":""}," kg/m3    ±",{"$f":"IFERROR(VLOOKUP(A28,#REF!,6,FALSE),\"\")","v":""},"                 kg/m3",{"$f":"IF($C$22=\"ABA\",IF(J28=\"\",\"\",H27+1),IF(J29=\"\",\"\",H26+1))","v":""},"","",{"$f":"IF($M$28=0,\"\",IF($I$29=\"\",\"\",IF($C$22=\"ABA\",($J$28-(AVERAGE($I$28:$I$29))),\"\")))","v":""},{"$f":"IF($M$28=0,\"\",IF($J$29=\"\",\"\",IF($C$22=\"ABBA\",(AVERAGE($J$28:$J$29)-AVERAGE($I$28:$I$29)),\"\")))","v":""},1,"","","",{"$f":"IF(OR(O28=\"\",P28=\"\",W28=\"\"),\"\",INDEX(#REF!,MATCH(W28&O28&P28,#REF!&#REF!&#REF!,0),4))","v":""},{"$f":"IF(OR(O28=\"\",P28=\"\",W28=\"\"),\"\",INDEX(#REF!,MATCH(W28&O28&P28,#REF!&#REF!&#REF!,0),5))","v":""},"",{"$f":"IF(OR(O28=\"\",P28=\"\",W28=\"\"),\"\",INDEX(#REF!,MATCH(W28&O28&P28,#REF!&#REF!&#REF!,0),6))","v":""},{"$f":"IF(OR(O28=\"\",P28=\"\",W28=\"\"),\"\",INDEX(#REF!,MATCH(W28&O28&P28,#REF!&#REF!&#REF!,0),7))","v":""},{"$f":"IF(OR(O28=\"\",P28=\"\",W28=\"\"),\"\",INDEX(#REF!,MATCH(W28&O28&P28,#REF!&#REF!&#REF!,0),8))","v":""},"","Grados","Minutos","Segundos"]
["Latón",null,"ri",{"$f":"IFERROR(IF(AB9=0,VLOOKUP(A29,#REF!,2,FALSE),1000*(Y26+X9)/(Y26/VLOOKUP(A29,#REF!,2,FALSE)+X9/(X9/AB9))),\"\")","v":""}," kg/m3    ±",{"$f":"IFERROR(VLOOKUP(A29,#REF!,6,FALSE),\"\")","v":""},"                 kg/m3",{"$f":"IF($C$22=\"ABA\",IF(J29=\"\",\"\",H28+1),\"\")","v":""},"","",{"$f":"IF($M$29=0,\"\",IF($I$30=\"\",\"\",IF($C$22=\"ABA\",($J$29-(AVERAGE($I$29:$I$30))),\"\")))","v":""},null,1,"","","",{"$f":"IF(OR(O29=\"\",P29=\"\",W29=\"\"),\"\",INDEX(#REF!,MATCH(W29&O29&P29,#REF!&#REF!&#REF!,0),4))","v":""},{"$f":"IF(OR(O29=\"\",P29=\"\",W29=\"\"),\"\",INDEX(#REF!,MATCH(W29&O29&P29,#REF!&#REF!&#REF!,0),5))","v":""},"",{"$f":"IF(OR(O29=\"\",P29=\"\",W29=\"\"),\"\",INDEX(#REF!,MATCH(W29&O29&P29,#REF!&#REF!&#REF!,0),6))","v":""},{"$f":"IF(OR(O29=\"\",P29=\"\",W29=\"\"),\"\",INDEX(#REF!,MATCH(W29&O29&P29,#REF!&#REF!&#REF!,0),7))","v":""},{"$f":"IF(OR(O29=\"\",P29=\"\",W29=\"\"),\"\",INDEX(#REF!,MATCH(W29&O29&P29,#REF!&#REF!&#REF!,0),8))","v":""},"","","",""]
["Densidad del aire ",null,"ra",{"$f":"IFERROR(((AVERAGE(B17:C17))*100)*0.02896546/((AVERAGE(B15:C15))+273.15)/8.314472/(1-(((AVERAGE(B17:C17))*100)/((AVERAGE(B15:C15))+273.15))*(0.00000158123+(-0.000000029331)*(AVERAGE(B15:C15))+0.00000000011043*(AVERAGE(B15:C15))^2+(0.000005707+(-0.00000002051)*(AVERAGE(B15:C15)))*(((AVERAGE(B16:C16))/100)*(1.00062+0.0000000314*((AVERAGE(B17:C17))*100)+0.00000056*(AVERAGE(B15:C15))^2)*(EXP(0.000012378847*((AVERAGE(B15:C15))+273.15)^2+(-0.019121316)*((AVERAGE(B15:C15))+273.15)+33.93711047+(-6343.1645)/((AVERAGE(B15:C15))+273.15))/((AVERAGE(B17:C17))*100)))+(0.00019898+(-0.000002376)*(AVERAGE(B15:C15)))*(((AVERAGE(B16:C16))/100)*(1.00062+0.0000000314*((AVERAGE(B17:C17))*100)+0.00000056*(AVERAGE(B15:C15))^2)*(EXP(0.000012378847*((AVERAGE(B15:C15))+273.15)^2+(-0.019121316)*((AVERAGE(B15:C15))+273.15)+33.93711047+(-6343.1645)/((AVERAGE(B15:C15))+273.15))/((AVERAGE(B17:C17))*100)))^2)+((AVERAGE(B17:C17))*100)^2/((AVERAGE(B15:C15))+273.15)^2*(0.0000000000183+(-0.00000000765)*(((AVERAGE(B16:C16))/100)*(1.00062+0.0000000314*((AVERAGE(B17:C17))*100)+0.00000056*(AVERAGE(B15:C15))^2)*(EXP(0.000012378847*((AVERAGE(B15:C15))+273.15)^2+(-0.019121316)*((AVERAGE(B15:C15))+273.15)+33.93711047+(-6343.1645)/((AVERAGE(B15:C15))+273.15))/((AVERAGE(B17:C17))*100)))^2))*(1-(((AVERAGE(B16:C16))/100)*(1.00062+0.0000000314*((AVERAGE(B17:C17))*100)+0.00000056*(AVERAGE(B15:C15))^2)*(EXP(0.000012378847*((AVERAGE(B15:C15))+273.15)^2+(-0.019121316)*((AVERAGE(B15:C15))+273.15)+33.93711047+(-6343.1645)/((AVERAGE(B15:C15))+273.15))/((AVERAGE(B17:C17))*100)))*(1-0.01801528/0.02896546)),\"\")","v":1.1928376273317869}," kg/m3    ±",{"$f":"IFERROR(2*SQRT(((D15/SQRT(3))*(-0.0037*D30))^2+((D16/SQRT(3))*(-0.01*D30/100))^2+((D17/SQRT(3))*(0.001*D30))^2+(0.0001*D30)^2),\"\")","v":1.7191765837972658E-2},"                 kg/m3",{"$f":"IF($C$22=\"ABA\",IF(J30=\"\",\"\",H29+1),IF(J31=\"\",\"\",H28+1))","v":""},"","",{"$f":"IF($M$30=0,\"\",IF($I$31=\"\",\"\",IF($C$22=\"ABA\",($J$30-(AVERAGE($I$30:$I$31))),\"\")))","v":""},{"$f":"IF($M$30=0,\"\",IF($J$31=\"\",\"\",IF($C$22=\"ABBA\",(AVERAGE($J$30:$J$31)-AVERAGE($I$30:$I$31)),\"\")))","v":""},1,"",{"$f":"IF(O3<>\"\",SUM(O3:O29),\"\")","v":500},null,{"$f":"IF(Q3<>\"\",SUM(Q3:Q29),\"\")","v":{"$error":"#REF!"}},{"$f":"IF(R3<>\"\",SUM(R3:R29),\"\")","v":{"$error":"#REF!"}},{"$f":"IF(S3<>\"\",SUM(S3:S29),\"\")","v":""},null,null,null,null,{"$f":"IF($Z$30=\"\",\"\",9.7803184*(1+0.0053024*(SIN(((X29+Y29/60+Z29/60/60)*PI()/180)))^2-0.0000059*(SIN(2*((X29+Y29/60+Z29/60/60)*PI()/180)))^2)-0.000003086*Z30)","v":""},"Altura / m",""]
["Corrección por empuje del aire",null,"mC",{"$f":"IFERROR(O30*(1/D29-1/D28)*(D30-1.2)*1000,\"\")","v":""},"   mg      ±",{"$f":"IFERROR(2*SQRT(((F30/2)*(O30*(1/D29-1/D28)*1000))^2+((F28/SQRT(3))*(-O30/1000*(D30-1.2)*((D30-1.2)-2*(1.2-1.2))/D28^2*1000))^2+((F29/SQRT(3))*(-O30*(D30-1.2)/D29^2*1000))^2),\"\")","v":""},"                   mg",{"$f":"IF($C$22=\"ABA\",IF(J31=\"\",\"\",H30+1),\"\")","v":""},"","",{"$f":"IF($M$31=0,\"\",IF($I$32=\"\",\"\",IF($C$22=\"ABA\",($J$31-(AVERAGE($I$31:$I$32))),\"\")))","v":""},null,1,"",null,"Vn / kg","Identificación","Eci / g","U Res. 456/83 [g]","U cálculo / g","Vc / g",null,"Fuerza / N","U / N"]
["µc",{"$f":"IFERROR(SQRT(((R30+VALUE(AA9))/2)^2+((R30+VALUE(AA9))/SQRT(3))^2+((D26/2/SQRT(3))*SQRT(2))^2+(0.04/6)^2+(SQRT(((D19/SQRT(IF($C$22=\"ABA\",(COUNT(K2:K31)),COUNT(L2:L31))))^2)+((((IF(OR(F22=\"\",F24=\"\",G24=\"\"),\"\",INDEX(#REF!,MATCH(F22&F24&G24,#REF!&#REF!&#REF!,0),5)))/2)*((AVERAGE(IF($C$22=\"ABA\",AVERAGE(K2:K31),AVERAGE(L2:L31))))/(IF($C$21=\"P\",(D22-(LOOKUP(2,1/(I2:I32<>\"\"),I2:I32))),(D22-(LOOKUP(2,1/(J2:J31<>\"\"),J2:J31)))))))^2)+((((D26/2)/SQRT(3))*SQRT(2))*(AVERAGE(IF($C$22=\"ABA\",AVERAGE(K2:K31),AVERAGE(L2:L31)))*D20/(IF($C$21=\"P\",(D22-(LOOKUP(2,1/(I2:I32<>\"\"),I2:I32))),(D22-(LOOKUP(2,1/(J2:J31<>\"\"),J2:J31)))))))^2)^2)+(F31/2)^2),\"\")","v":""},"t (k=2)",{"$f":"IFERROR(TINV(4.55%,F32),\"\")","v":""},"        ձ eff",{"$f":"IFERROR(B32^4/((((R30+VALUE(AA9))/2)^4/50)+(((R30+VALUE(AA9))/SQRT(3))^4/50)+(((D26/2/SQRT(3))*SQRT(2))^4/50)+((0.04/6)^4/50)+((SQRT(((D19/SQRT(IF($C$22=\"ABA\",(COUNT(K2:K31)),COUNT(L2:L31))))^2)+((((IF(OR(F22=\"\",F24=\"\",G24=\"\"),\"\",INDEX(#REF!,MATCH(F22&F24&G24,#REF!&#REF!&#REF!,0),5)))/2)*((AVERAGE(IF($C$22=\"ABA\",AVERAGE(K2:K31),AVERAGE(L2:L31))))/(IF($C$21=\"P\",(D22-(LOOKUP(2,1/(I2:I32<>\"\"),I2:I32))),(D22-(LOOKUP(2,1/(J2:J31<>\"\"),J2:J31)))))))^2)+((((D26/2)/SQRT(3))*SQRT(2))*(AVERAGE(IF($C$22=\"ABA\",AVERAGE(K2:K31),AVERAGE(L2:L31)))*D20/(IF($C$21=\"P\",(D22-(LOOKUP(2,1/(I2:I32<>\"\"),I2:I32))),(D22-(LOOKUP(2,1/(J2:J31<>\"\"),J2:J31)))))))^2))^4/(IF($C$22=\"ABA\",(COUNT(K2:K31)),COUNT(L2:L31))-1))+((F31/2)^4/50)),\"\")","v":""},"U Res. 456/83 [mg]","Tol. / mg","","Desvio Límite","Densidades Límites kg/m3",null,"Calidad de la Medición",null,"",{"$f":"IFERROR(IF($D$23=\"\",\"\",$D$23/1000),\"\")","v":0.5},"",{"$f":"IFERROR(IF($P$32=\"\",\"\",$C$33/1000),\"\")","v":""},{"$f":"IFERROR(IF($P$32=\"\",\"\",$G$33/1000),\"\")","v":""},{"$f":"IFERROR(IF($P$32=\"\",\"\",$E$33/1000),\"\")","v":""},{"$f":"IFERROR(IF($P$32=\"\",\"\",(1000*$P$32)+$R$32),\"\")","v":""},{"$f":"IFERROR(VLOOKUP($V$31,#REF!,2,FALSE),\"\")","v":""},{"$f":"IFERROR(IF($P$32=\"\",\"\",(($U$32/1000)*$V$32*(1-1.2/8000))),\"\")","v":""},{"$f":"IFERROR(IF($P$32=\"\",\"\",SQRT(($V$32*$T$32)^2+($U$32*0.0001)^2)),\"\")","v":""}]
["Error de la incognita","eci",{"$f":"IFERROR(D18+D31+Q30-VALUE(Z9),\"\")","v":""},"  mg      ±",{"$f":"IFERROR(B32*D32,\"\")","v":""},"mg",{"$f":"IFERROR(IF($C$7=\"E2\",LOOKUP(C8,#REF!,#REF!),IF($C$7=\"F1\",LOOKUP(C8,#REF!,#REF!),IF($C$7=\"F2\",LOOKUP(C8,#REF!,#REF!),IF($C$7=\"M1\",LOOKUP(C8,#REF!,#REF!),IF($C$7=\"M2\",LOOKUP(C8,#REF!,#REF!),IF($C$7=\"n=10000\",LOOKUP(C8,#REF!,#REF!),\"\")))))),\"\")","v":""},{"$f":"IFERROR(IF($C$7=\"E2\",LOOKUP(C8,#REF!,#REF!),IF($C$7=\"F1\",LOOKUP(C8,#REF!,#REF!),IF($C$7=\"F2\",LOOKUP(C8,#REF!,#REF!),IF($C$7=\"M1\",LOOKUP(C8,#REF!,#REF!),IF($C$7=\"M2\",LOOKUP(C8,#REF!,#REF!),IF($C$7=\"n=10000\",LOOKUP(C8,#REF!,#REF!),\"\")))))),\"\")","v":""},{"$f":"IFERROR(IF($D$23>0,(IF(ABS($C$33)<=($H$33-$G$33),\"En Clase\",\"Fuera de Clase\")),\"\"),\"\")","v":""},{"$f":"IF(D23=\"---\",\"---\",IF(C11=\"C50-A-01\",LOOKUP(D23,#REF!,#REF!),IF(C11=\"C500-A-01\",LOOKUP(D23,#REF!,#REF!),IF(C11=\"C2000-A-01\",LOOKUP(D23,#REF!,#REF!),IF(C11=\"B4-A-01\",LOOKUP(D23,#REF!,#REF!),IF(C11=\"B5-A-01\",LOOKUP(D23,#REF!,#REF!),IF(C11=\"C1000-A-01\",LOOKUP(D23,#REF!,#REF!),IF(C11=\"C100-A-01\",LOOKUP(D23,#REF!,#REF!),IF(C11=\"C10K-A-01\",LOOKUP(D23,#REF!,#REF!),IF(C11=\"B5000-C-01\",LOOKUP(D23,#REF!,#REF!),IF(C11=\"B1000-B-01\",LOOKUP(D23,#REF!,#REF!),IF(C11=\"B200-B-02\",LOOKUP(D23,#REF!,#REF!),IF(C11=\"C20K-C-02\",LOOKUP(D23,#REF!,#REF!),IF(C11=\"C10000-A-01\",LOOKUP(D23,#REF!,#REF!),IF(C11=\"C500/1000K-B-02\",LOOKUP(D23,#REF!,#REF!),IF(C11=\"B150K-C-01\",LOOKUP(D23,#REF!,#REF!),IF(C11=\"B30K-C-01\",LOOKUP(D23,#REF!,#REF!),IF(C11=\"B60K-B-01\",LOOKUP(D23,#REF!,#REF!),IF(C11=\"B200-B-01\",LOOKUP(D23,#REF!,#REF!),IF(C11=\"B5000-A-01\",LOOKUP(D23,#REF!,#REF!),IF(C11=\"B.../50-B-01\",LOOKUP(D23,#REF!,#REF!),IF(C11=\"B200/..-B-01\",LOOKUP(D23,#REF!,#REF!),IF(C11=\"C500K-B-01\",LOOKUP(D23,#REF!,#REF!),IF(C11=\"C25K-B-01\",LOOKUP(D23,#REF!,#REF!),IF(C11=\"B500-B-01\",LOOKUP(D23,#REF!,#REF!),IF(C11=\"C15K-B-01\",LOOKUP(D23,#REF!,#REF!),IF(C11=\"C500/1000K-B-04\",LOOKUP(D23,#REF!,#REF!),\"\")))))))))))))))))))))))))))","v":{"$error":"#REF!"}},{"$f":"IFERROR((1/((($H$33/1000)/4/0.00012/$D$23)+1/8))*1000,\"\")","v":""},{"$f":"IFERROR((1/((($H$33/1000)/4/-0.00012/$D$23)+1/8))*1000,\"\")","v":""},"",{"$f":"IF($M$33=\"\",\"\",ABS((M33-C33)/SQRT(SUMSQ(G33,G33))))","v":""},null,"Vn / g","Identificación","Eci / mg","U Res. 456/83 [mg]","Vc / g (Cálculo)","Vn / lb","Vc / g (Teórico)","U / lb","Dif. / g"]
[null,null,null,null,null,null,null,null,null,null,null,null,null,null,"",{"$f":"IFERROR(IF($D$23=\"\",\"\",$D$23),\"\")","v":500},"",{"$f":"IFERROR(IF($P$34=\"\",\"\",$C$33),\"\")","v":""},{"$f":"IFERROR(IF($P$34=\"\",\"\",$G$33),\"\")","v":""},{"$f":"IFERROR(IF($P$34=\"\",\"\",$P$34+($R$34/1000)),\"\")","v":""},"",{"$f":"IFERROR(IF($P$34=\"\",\"\",$U$34*453.59237),\"\")","v":""},{"$f":"IFERROR(IF($P$34=\"\",\"\",(U34*((S34/1000)/P34))),\"\")","v":""},{"$f":"IFERROR(IF($P$34=\"\",\"\",$T$34-$V$34),\"\")","v":""}]
["formula mal desarrollada ver OIML con el ingeniero",null,null,null,null,null,null,null,null,null,null,null,null,null,null,{"$f":"Unidad.1","v":"Vn / g"},"Identificación",{"$f":"Unidad.2","v":"Eci / g"},{"$f":"R37","v":"U Res. 456/83 [g]"},{"$f":"S37","v":"U cálculo / g"},"Marca",{"$f":"Z37","v":"Vc / g"},{"$f":"T37","v":"Tolerancia / g"},{"$f":"AE37","v":"Tol. Histórica / g"}]
[null,null,"EXCENTRICIDAD: GRAFICO, INCERTIDUMBRE COMBINADA Y GRADOS EFECTIVOS DE LIBERTAD",null,null,null,null,null,null,null,null,null,null,null,"Inicial",{"$f":"O38","v":500},"V.718",{"$f":"Q38","v":{"$error":"#VALUE!"}},{"$f":"R38","v":{"$error":"#VALUE!"}},{"$f":"S38","v":""},"Dolz",{"$f":"Z38","v":""},{"$f":"T38","v":{"$error":"#VALUE!"}},""]
[null,null,null,null,null,null,null,null,null,null,null,null,null,null,"Vn / g","Identificación","Eci / g",{"$f":"IF(Unidad.2<>\"\",IF(Q37=\"Eci / mg\",\"U Res. 456/83 [mg]\",IF(Q37=\"Eci / g\",\"U Res. 456/83 [g]\",IF(Q37=\"Eci / kg\",\"U Res. 456/83 [kg]\"))),\"\")","v":"U Res. 456/83 [g]"},{"$f":"IF(Unidad.2<>\"\",IF(Q37=\"Eci / mg\",\"U cálculo / mg\",IF(Q37=\"Eci / g\",\"U cálculo / g\",IF(Q37=\"Eci / kg\",\"U cálculo / kg\"))),\"\")","v":"U cálculo / g"},{"$f":"IF(Unidad.2<>\"\",IF(Q37=\"Eci / mg\",\"Tolerancia / mg\",IF(Q37=\"Eci / g\",\"Tolerancia / g\",IF(Q37=\"Eci / kg\",\"Tolerancia / kg\"))),\"\")","v":"Tolerancia / g"},"Estado","N° de Serie","Observaciones","Código","Marca",{"$f":"IF(Unidad.2<>\"\",IF(Q37=\"Eci / mg\",\"Vc / mg\",IF(Q37=\"Eci / g\",\"Vc / g\",IF(Q37=\"Eci / kg\",\"Vc / kg\"))),\"\")","v":"Vc / g"},"V / cm³ @ 20°C","Uv / cm³","V cálculo / cm³","Uv cálculo / cm³",{"$f":"IF(Unidad.2<>\"\",IF(Q37=\"Eci / mg\",\"Tol. Histórica / mg\",IF(Q37=\"Eci / g\",\"Tol. Histórica / g\",IF(Q37=\"Eci / kg\",\"Tol. Histórica / kg\"))),\"\")","v":"Tol. Histórica / g"}]
[null,null,null,null,null,null,null,null,null,null,null,null,null,"---",{"$f":"IF(Unidad.1<>\"\",IF(O37=\"Vn / mg\",IF($D$23=\"\",\"\",$D$23*1000),IF(O37=\"Vn / g\",IF($D$23=\"\",\"\",$D$23),IF(O37=\"Vn / kg\",IF($D$23=\"\",\"\",$D$23/1000)))),\"\")","v":500},"",{"$f":"IF(Unidad.2<>\"\",IF(Q37=\"Eci / mg\",IF($O$38=\"\",\"\",$C$33),IF(Q37=\"Eci / g\",IF($O$38=\"\",\"\",$C$33/1000),IF(Q37=\"Eci / kg\",IF($O$38=\"\",\"\",$C$33/1000000)))),\"\")","v":{"$error":"#VALUE!"}},{"$f":"IF(Unidad.2<>\"\",IF(Q37=\"Eci / mg\",IF($O$38=\"\",\"\",$G$33),IF(Q37=\"Eci / g\",IF($O$38=\"\",\"\",$G$33/1000),IF(Q37=\"Eci / kg\",IF($O$38=\"\",\"\",$G$33/1000000)))),\"\")","v":{"$error":"#VALUE!"}},{"$f":"IF(Unidad.2<>\"\",IF(Q37=\"Eci / mg\",IFERROR(IF($O$38=\"\",\"\",$E$33),\"\"),IF(Q37=\"Eci / g\",IFERROR(IF($O$38=\"\",\"\",$E$33/1000),\"\"),IF(Q37=\"Eci / kg\",IFERROR(IF($O$38=\"\",\"\",$E$33/1000000),\"\")))),\"\")","v":""},{"$f":"IF(Unidad.2<>\"\",IF(Q37=\"Eci / mg\",IF($O$38=\"\",\"\",$H$33),IF(Q37=\"Eci / g\",IF($O$38=\"\",\"\",$H$33/1000),IF(Q37=\"Eci / kg\",IF($O$38=\"\",\"\",$H$33/1000000)))),\"\")","v":{"$error":"#VALUE!"}},{"$f":"IFERROR(IF($O$38=\"\",\"\",$I$33),\"\")","v":""},"","","","",{"$f":"IFERROR(IF($O$38=\"\",\"\",$O$38+$Q$38),\"\")","v":""},"","",{"$f":"IF(Unidad.1<>\"\",IF(O37=\"Vn / mg\",IF(O38=\"\",\"\",O38/1000/#REF!),IF(O37=\"Vn / g\",IF(O38=\"\",\"\",O38/#REF!),IF(O37=\"Vn / kg\",IF(O38=\"\",\"\",O38*1000/#REF!)))),\"\")","v":{"$error":"#REF!"}},{"$f":"IFERROR(TEXT(IF(O37=\"Vn / mg\",SQRT(((1/#REF!/1000)*R38/1000^2)+((O38/1000/#REF!^2)*VLOOKUP(O38/1000,#REF!,9,FALSE))^2),IF(O37=\"Vn / g\",SQRT(((1/#REF!)*R38/1000^2)+((O38/#REF!^2)*VLOOKUP(O38,#REF!,9,FALSE))^2),IF(O37=\"Vn / kg\",SQRT(((1/#REF!)*R38/1000^2)+((O38*1000/#REF!^2)*VLOOKUP(O38*1000,#REF!,9,FALSE))^2)))),\"0,0E+0\")*1,\"\")","v":""},""]
[]
[null,null,null,null,null,null,null,null,null,null,null,null,null,null,null,null,null,null,null,null,null,null,null,null,null,null,null,"no",{"$f":"AC38*0.12","v":{"$error":"#REF!"}},"mg"]
[null,null,null,null,null,null,null,null,null,null,null,null,null,null,null,null,null,null,null,null,null,null,null,null,null,null,null,"100gacero",{"$f":"AC40*1000","v":{"$error":"#REF!"}},"micrg"]
[null,null,null,null,null,null,null,null,null,null,null,null,null,null,null,null,null,null,null,null,null,null,null,null,null,null,null,"5mgaluminio",10]
[null,null,null,null,null,null,null,null,null,null,null,null,null,null,null,null,null,null,null,null,null,"",null,null,null,null,null,"0,01mg"]
[]
[]
[null,null,null,null,null,null,null,null,null,null,null,null,null,null,null,null,null,null,null,null,null,null,null,null,null,null,{"$f":"AC38/8.4","v":{"$error":"#REF!"}}]
[null,null,null,null,null,null,null,null,null,null,null,null,null,null,null,null,null,null,null,null,null,null,null,null,null,null,{"$f":"AA46*0.12","v":{"$error":"#REF!"}}]

{"sheet":"Datos","index":1,"n_rows":9,"n_cols":232,"rows_kept":9,"cut":false,"hidden":false,"merged":[[3,9,3,14],[3,21,3,23],[3,24,3,27],[3,29,3,30],[3,31,3,61],[3,93,3,119],[3,120,3,146],[3,147,3,173],[2,93,2,173],[2,31,2,91],[3,62,3,91],[3,199,3,207],[3,208,3,212],[3,213,3,216],[3,217,3,231],[2,174,2,188],[3,190,3,192],[3,193,3,195],[3,196,3,197],[2,190,2,197],[3,179,3,183],[3,184,3,188],[3,174,3,178]]}
[]
[]
[null,null,null,null,null,null,null,null,null,null,null,null,null,null,null,null,null,null,null,null,null,null,null,null,null,null,null,null,null,null,null,"Calibración",null,null,null,null,null,null,null,null,null,null,null,null,null,null,null,null,null,null,null,null,null,null,null,null,null,null,null,null,null,null,null,null,null,null,null,null,null,null,null,null,null,null,null,null,null,null,null,null,null,null,null,null,null,null,null,null,null,null,null,null,null,"Sumatoria de Pesas Patrones",null,null,null,null,null,null,null,null,null,null,null,null,null,null,null,null,null,null,null,null,null,null,null,null,null,null,null,null,null,null,null,null,null,null,null,null,null,null,null,null,null,null,null,null,null,null,null,null,null,null,null,null,null,null,null,null,null,null,null,null,null,null,null,null,null,null,null,null,null,null,null,null,null,null,null,null,null,null,null,null,"Sobrecarga / Incógnita",null,null,null,null,null,null,null,null,null,null,null,null,null,null,null,"Volumen de Forma"]
[null,null,null,null,null,null,null,null,null,"Datos ambientales",null,null,null,null,null,null,null,null,null,null,null,"Pesa de Sensibilidad",null,null,"Densidad",null,null,null,null,"Resultado Final",null,"Patrones",null,null,null,null,null,null,null,null,null,null,null,null,null,null,null,null,null,null,null,null,null,null,null,null,null,null,null,null,null,null,"Incógnitas",null,null,null,null,null,null,null,null,null,null,null,null,null,null,null,null,null,null,null,null,null,null,null,null,null,null,null,null,null,"Calidad","Masa / g",null,null,null,null,null,null,null,null,null,null,null,null,null,null,null,null,null,null,null,null,null,null,null,null,null,null,"Identificación/es",null,null,null,null,null,null,null,null,null,null,null,null,null,null,null,null,null,null,null,null,null,null,null,null,null,null,"Certificado/s",null,null,null,null,null,null,null,null,null,null,null,null,null,null,null,null,null,null,null,null,null,null,null,null,null,null,"Masa / g",null,null,null,null,"Identificación/es",null,null,null,null,"Certificado/s",null,null,null,null,null,"Paralelepípedo",null,null,"Pirámide Truncada",null,null,"Cilindro",null,null,"Newton",null,null,null,null,null,null,null,null,"Libra",null,null,null,null,"Sobrecarga",null,null,null,"Pesas"]
["Código","Fecha","Cliente",{"$f":"Registro!A6","v":"O.T."},"Clase","VN / g","Comparador/Intercambiador","Operador/es","Responsable","t(i)","Hr(i)","p(i)","t(f)","Hr(f)","p(f)","Sobrecarga","Método","Promedio","Desvio","Lectura + masa de sobrecarga","Error del patrón","Certificado","VN / g","ID","Lote","Patrón","Incógnita","Aire ","U combinada","Error de la Incógnita","U exp.",1,2,3,4,5,6,7,8,9,10,11,12,13,14,15,16,17,18,19,20,21,22,23,24,25,26,27,28,29,30,31,1,2,3,4,5,6,7,8,9,10,11,12,13,14,15,16,17,18,19,20,21,22,23,24,25,26,27,28,29,30,"Medición",1,2,3,4,5,6,7,8,9,10,11,12,13,14,15,16,17,18,19,20,21,22,23,24,25,26,27,1,2,3,4,5,6,7,8,9,10,11,12,13,14,15,16,17,18,19,20,21,22,23,24,25,26,27,1,2,3,4,5,6,7,8,9,10,11,12,13,14,15,16,17,18,19,20,21,22,23,24,25,26,27,1,2,3,4,5,1,2,3,4,5,1,2,3,4,5,"Material de la Sobrecarga","Largo","Ancho","Altura","Area / base menor","Area / base mayor","Altura","Diámetro","Altura","Forma","Proceso","Identificación","Grados","Minutos","Segundos","Altura","Gravedad","Fuerza","Incertidumbre","Proceso","Identificación","Valor Nominal","Incertidumbre","Diferencia / g","Proceso","Identificación","Marca","Tol. Histórica / g","Proceso","Unidad.1","Identificación","Unidad.2","Estado","N° de Serie","Observaciones","Código","Marca","Valor convencional","V / cm³ @ 20°C","Uv / cm³","V cálculo / cm³","Uv cálculo / cm³","Tol. Histórica"]
[]
[3,"2020-01-23","Ortelli & Cia",28470,"M2",500,"C500K-B-01","A. Darío Tejada","Francisco Dolz",22.6,64.2,1019,22.7,61.4,1019,"P","ABA","","",52,"","27734-T-0819",0.05,"-","","Patrón/es","Latón",1.1928376273317869,"","","",0,0,2,1,1,2,"","","","","","","","","","","","","","","","","","","","","","","","","",40,41,42,41,42,"","","","","","","","","","","","","","","","","","","","","","","","","","",500,"","","","","","","","","","","","","","","","","","","","","","","","","","","-","","","","","","","","","","","","","","","","","","","","","","","","","","","27208-F-0619","","","","","","","","","","","","","","","","","","","","","","","","","","","","","","","","","","","","","","","","","","","","","","","","","","","","","","","","","",null,"","","","","","","","Inicial","V.718","Dolz","","---","Vn / g","","Eci / g","Estado","","","","","","","",{"$error":"#REF!"},"",""]
[3,"2020-01-23","Ortelli & Cia",28470,"M2",500,"C500K-B-01","A. Darío Tejada","Francisco Dolz",22.6,64.2,1019,22.7,61.4,1019,"P","ABA",40.189548000000009,0.27379007482010737,52,1.04,"27734-T-0819",0.05,"-","","Patrón/es","Latón",1.1928376273317869,261.89121187227033,41.253679983383478,556.86278791774089,0,0,2,1,1,2,"","","","","","","","","","","","","","","","","","","","","","","","","",40,41,42,41,42,"","","","","","","","","","","","","","","","","","","","","","","","","","",500,"","","","","","","","","","","","","","","","","","","","","","","","","","","-","","","","","","","","","","","","","","","","","","","","","","","","","","","27208-F-0619","","","","","","","","","","","","","","","","","","","","","","","","","","","","","","","","","","","","","","","","","","","","","","","","","","","","","","","","","",null,"","","","","","","","Inicial","V.718","Dolz","","---","Vn / g","","Eci / g","Estado","","","","",500.04125367998336,"","",62.893081761006286,0.04,""]
[2,"2020-01-23","Ortelli & Cia",28470,"M2",500,"C500K-B-01","A. Darío Tejada","Francisco Dolz",22.6,64.2,1019,22.7,61.4,1019,"P","ABA",40.189548000000009,0.27379007482010737,52,1.04,"27734-T-0819",0.05,"-","","Patrón/es","Latón",1.1928376273317869,261.89121187227033,41.253679983383478,556.86278791774089,0,0,2,1,1,2,"","","","","","","","","","","","","","","","","","","","","","","","","",40,41,42,41,42,"","","","","","","","","","","","","","","","","","","","","","","","","","",500,"","","","","","","","","","","","","","","","","","","","","","","","","","","-","","","","","","","","","","","","","","","","","","","","","","","","","","","27208-F-0619","","","","","","","","","","","","","","","","","","","","","","","","","","","","","","","","","","","","","","","","","","","","","","","","","","","","","","","","","",null,"","","","","","","","Inicial","V.718","Dolz","","---","Vn / g","","Eci / g","Estado","","","","",500.04125367998336,"","",62.893081761006286,0.04,""]