{"text_format":"1","workbook":"xlsx","n_sheets":10,"sheets":["BASES","DINAMICA","INDEX","CLIENT","GLOBALES","PROD X FOTOGRAFOS","PRODUCCION EDITORES","PRODUCCION CTRL","BASE COMERCIAL","LIST"],"not_rendered":{"charts":0,"images":0,"macros":1,"external_links":1,"defined_names":3,"comments":1,"pivot_tables":0},"unopened":[],"bounds":{"document_bytes":16777216,"sheet_cells":100000,"rows_first":2000,"rows_last":500,"rows_between":2000,"halvings":0,"cell_chars":16384,"cell_head_chars":4096},"cells_cut":0,"cells_raw":0,"read":"whole","date_system":"1900"}

{"sheet":"BASES","index":0,"n_rows":67,"n_cols":6,"rows_kept":67,"cut":false,"hidden":false,"merged":[]}
["CODIGO","PRODUCTOS","PF","PE","PC","%"]
["A001","A VOLUNTAD FAMILIAR 0,40",null,null,null,0.4]
["A002","A VOLUNTAD INFANTIL 0,40",null,null,null,0.4]
["C001","impresion COMBO ABC"]
["C002","Carnet 8 de Tiempo",1,1]
["C008","Visa (6)",1,1]
["CD01","Servicio de Grabado de CD"]
["CD03","Servicio de Envio de Correo o Watsapp"]
["D001","DISEÑO ESPECIAL",1,1,"0,5"]
["D002","DIAGRAMACION",1,2]
["E001","Servicio Express",1,1,0]
["E002","fotografia adicional promo / SESION / OTRAS",1,1,0]
["E003","Sesion Express Embarazo",1.5,1.5,0]
["E004","Promo  del mes AGENDA MAÑANA",1,0]
["E005","Promo  del mes AGENDA TARDE",1,0]
["F001","Sesion Express",1.5,1.5,1]
["F002","Adicional Sesion Express",1.5,1.5]
["F003","fotografía familiar MAX 3 MODELOS",1.5,1.5,0]
["F006","fotografía fashion ",1.5,1.5,0]
["F007","fotografía fashion ESPECIAL",0,2,0]
["F008","fotografia artista",2,2,0]
["F011","Sesion Express NT","1,5","1,5"]
["F020","FOTOGRAFIA FAMILIAR",2,2,2]
["F022","Adicional Sesion Express NT",1.5,1.5]
["F033","fotografía familiar NT",1.5,1.5]
["G001","FOTOGRAFIA GRUPAL HASTA 5 PERSONAS",1.5,1.5,1]
["G002","FOTOGRAFIA GRUPAL 6 PERSONAS O MAS",3,3,2]
["I001","Fotografia Infatil Especial",1,1,0]
["I002","COMBO 10 DIGITAL INFANTIL ",15,5,0]
["I003","COMBO 10 DIGITAL INFANTIL ESPECIAL",15,2,0]
["I004","FOTO ESPECIAL infantil adicional",1,1,0]
["I005","Foto Infantil Express",1,1,0]
["I006","Fotografia Infantil",1,1,2]
["I007","foto digital infantin adicional",1,1,0]
["I008","Fotografia Infantil DOMINGOS",1,1,0]
["I011","Fotografia Infatil Especial NT",1,1]
["I012","Modelo Adicional",1,1]
["I044","FOTO ESPECIAL infantil adicional",1,1]
["I066","Fotografia Infantil NT",1,1]
["I077","Fotografia Infantil adicional NT",1,1]
["I1015","impresion 10x15"]
["I68","Impresion 6x8"]
["I810","Impresion 8x10"]
["P001","Pendon en Bastidor 1,20 X 0.80",1,1]
["P003","Promo Para Papa"]
["P004","Adicional Promo Papa"]
["P005","PROMO DEL MES",2,2,2]
["P006","PROMO CUMPLEAÑOS",1.5,1.5,1]
["P007","Mi primera Foto",1,1]
["P008","Foto Mathias",1,1]
["P009","FOTO MATHIAS FAMILIAR",1,1]
["P013","PROMO DEL NIÑO",3,3,3]
["P015","Madre Promo",3,3,3]
["P055","PROMO NAVIDAD",3,3,3]
["PE04","PROMO EMBARAZO BAJO LINEA"]
["PE05","FOTO CUPON EMBARAZO",3,3,2]
["PE06","ADICIONAL EMBARAZO",3,3,3]
["S001","S. Embarazo + Fotoregalo de los 15 d",15,15]
["S002","S. Especial 10 solo digitales",15,15]
["S003","Digital Adicional Sesiones",1.5,1.5,0]
["S004","Combo Digital Adic.Inf. (10)",15,15,0]
["S005","SOCIAL  HASTA 30 FOTOS",null,2]
["S011","S. Embarazo + Fotoregalo de los 15d",15,15]
["S022","S. Especial 10 solo digitales ",15,15]
["S033","Digital Adicional Sesiones",1.5,1.5]
["S044","Combo Digital Adic.Inf. (10)",15,15]
["SE01","Fotografia sin Edicion",1,0,0]

{"sheet":"DINAMICA","index":1,"n_rows":152,"n_cols":18,"rows_kept":152,"cut":false,"hidden":false,"merged":[]}
[]
[]
[]
[]
[]
["Registro OT, Puntos de Comercializacion, Fotografias, Edicion, Ventas y Vacaciones"]
[]
["OT","FECHAING","TLF","CLIENTE","FOTOGRAFO","EDITORES","COMERCIALIZA","CTRL","COMENT","COD PROD","PRODUCTO","VALOR_VLTD","CANT","PF","PE","PC","A_VOLT","CTD_CLIENTES"]
[325255,"14-01-2019",584125162298,"ANA SANDOVAL","ROGER TORRES","JONATHAN VIVAS","NAHOMI VIVAS","LM","SOLO FOTOS PARA FIESTA","I006","Fotografia Infantil",null,2,2,2,2,null,{"$f":"IF(SUMPRODUCT((C$9:C9=C9)*1)>1,0,1)","v":1}]
[325255,"14-01-2019",584125162298,"ANA SANDOVAL","ROGER TORRES","JONATHAN VIVAS","NAHOMI VIVAS","LM","SOLO FOTOS PARA FIESTA","E001","Servicio Express",null,1,1,1,0,null,{"$f":"IF(SUMPRODUCT((C$9:C10=C10)*1)>1,0,1)","v":0}]
[325255,"14-01-2019",584125162298,"ANA SANDOVAL","ROGER TORRES","JONATHAN VIVAS","NAHOMI VIVAS","LM","SOLO FOTOS PARA FIESTA","F006","fotografía fashion ",null,1,"1,5","1,5",0,null,{"$f":"IF(SUMPRODUCT((C$9:C11=C11)*1)>1,0,1)","v":0}]
[325255,"14-01-2019",584125162298,"ANA SANDOVAL","ROGER TORRES","JONATHAN VIVAS","NAHOMI VIVAS","LM","SOLO FOTOS PARA FIESTA","A002","A VOLUNTAD INFANTIL 0,40",25000,null,null,null,null,10000,{"$f":"IF(SUMPRODUCT((C$9:C12=C12)*1)>1,0,1)","v":0}]
[432537,"17-01-2019",584142186474,"HECTOR VILORIA","DANNIELIZ LOZADA","LUIS MONTIEL","YENNYS CASTILLO","LM","pruebas de mnodelos","I006","Fotografia Infantil",null,2,2,2,2,null,{"$f":"IF(SUMPRODUCT((C$9:C13=C13)*1)>1,0,1)","v":1}]
[432537,"17-01-2019",584142186474,"HECTOR VILORIA","DANNIELIZ LOZADA","LUIS MONTIEL","YENNYS CASTILLO","LM","pruebas de mnodelos","F002","Adicional Sesion Express",null,1,1.5,1.5,0,null,{"$f":"IF(SUMPRODUCT((C$9:C14=C14)*1)>1,0,1)","v":0}]
[432537,"17-01-2019",584142186474,"HECTOR VILORIA","DANNIELIZ LOZADA","LUIS MONTIEL","YENNYS CASTILLO","LM","pruebas de mnodelos","P005","PROMO DEL MES",null,1,2,2,2,null,{"$f":"IF(SUMPRODUCT((C$9:C15=C15)*1)>1,0,1)","v":0}]
[534258,"19-01-2019",584122543625,"MARIA VERGARA","YAGER PARRA","LUIS MONTIEL","YENNYS CASTILLO","LM","MAS PRUEBAS","C002","Carnet 8 de Tiempo",null,1,1,1,0,null,{"$f":"IF(SUMPRODUCT((C$9:C16=C16)*1)>1,0,1)","v":1}]
[534258,"19-01-2019",584122543625,"MARIA VERGARA","YAGER PARRA","LUIS MONTIEL","YENNYS CASTILLO","LM","MAS PRUEBAS","P005","PROMO DEL MES",null,1,2,2,2,null,{"$f":"IF(SUMPRODUCT((C$9:C17=C17)*1)>1,0,1)","v":0}]
[354526,"22-01-2019",576535636475,"JOSE FERGUSON","JOHAN RANGEL","JEAN PIERRE BAUTISTA","LUIS MONTIEL",null,"MAS PRUEBAS","C002","Carnet 8 de Tiempo",null,1,1,1,0,null,{"$f":"IF(SUMPRODUCT((C$9:C18=C18)*1)>1,0,1)","v":1}]
[354526,"22-01-2019",576535636475,"JOSE FERGUSON","JOHAN RANGEL","JEAN PIERRE BAUTISTA","LUIS MONTIEL",null,"MAS PRUEBAS","I006","Fotografia Infantil",null,1,1,1,1,null,{"$f":"IF(SUMPRODUCT((C$9:C19=C19)*1)>1,0,1)","v":0}]
[147857,"25-01-2019",573014274582,"MARIA CASTILLO","ROGER TORRES","LUIS MONTIEL","JEAN PIERRE BAUTISTA","RV","MAS PRUEBAS","I006","Fotografia Infantil",null,1,1,1,1,null,{"$f":"IF(SUMPRODUCT((C$9:C20=C20)*1)>1,0,1)","v":1}]
[147857,"25-01-2019",573014274582,"MARIA CASTILLO","ROGER TORRES","LUIS MONTIEL","JEAN PIERRE BAUTISTA","RV","MAS PRUEBAS","C002","Carnet 8 de Tiempo",null,1,1,1,0,null,{"$f":"IF(SUMPRODUCT((C$9:C21=C21)*1)>1,0,1)","v":0}]
[147857,"25-01-2019",573014274582,"MARIA CASTILLO","ROGER TORRES","LUIS MONTIEL","JEAN PIERRE BAUTISTA","RV","MAS PRUEBAS","E001","Servicio Express",null,1,1,1,0,null,{"$f":"IF(SUMPRODUCT((C$9:C22=C22)*1)>1,0,1)","v":0}]
[452354,"26-01-2019",584124523365,"JESUS FONTALVO","ROGER TORRES","LUIS MONTIEL","YENNYS CASTILLO",null,"ANTES DEL 30-01-2019","I006","Fotografia Infantil",null,2,2,2,4,null,{"$f":"IF(SUMPRODUCT((C$9:C23=C23)*1)>1,0,1)","v":1}]
[452354,"26-01-2019",584124523365,"JESUS FONTALVO","ROGER TORRES","LUIS MONTIEL","YENNYS CASTILLO",null,"ANTES DEL 30-01-2019","A002","A VOLUNTAD INFANTIL 0,40",23500,null,null,null,null,9400,{"$f":"IF(SUMPRODUCT((C$9:C24=C24)*1)>1,0,1)","v":0}]
[853658,"27-01-2019",584162186474,"JOSE ACOSTA","ROGER TORRES","LUIS MONTIEL","JEAN PIERRE BAUTISTA","LM","POR FAVOR ANTES DEL ULTIMO","I006","Fotografia Infantil",null,2,2,2,4,null,{"$f":"IF(SUMPRODUCT((C$9:C25=C25)*1)>1,0,1)","v":1}]
[853658,"27-01-2019",584162186474,"JOSE ACOSTA","ROGER TORRES","LUIS MONTIEL","JEAN PIERRE BAUTISTA","LM","POR FAVOR ANTES DEL ULTIMO","E001","Servicio Express",null,1,1,1,0,null,{"$f":"IF(SUMPRODUCT((C$9:C26=C26)*1)>1,0,1)","v":0}]
[853658,"27-01-2019",584162186474,"JOSE ACOSTA","ROGER TORRES","LUIS MONTIEL","JEAN PIERRE BAUTISTA","LM","POR FAVOR ANTES DEL ULTIMO","I005","Foto Infantil Express",null,1,1,1,0,null,{"$f":"IF(SUMPRODUCT((C$9:C27=C27)*1)>1,0,1)","v":0}]
[853658,"27-01-2019",584162186474,"JOSE ACOSTA","ROGER TORRES","LUIS MONTIEL","JEAN PIERRE BAUTISTA","LM","POR FAVOR ANTES DEL ULTIMO","A002","A VOLUNTAD INFANTIL 0,40",16500,null,null,null,null,6600,{"$f":"IF(SUMPRODUCT((C$9:C28=C28)*1)>1,0,1)","v":0}]
[null,null,null,null,null,null,null,null,null,null,null,null,null,null,null,null,null,{"$f":"IF(SUMPRODUCT((C$9:C29=C29)*1)>1,0,1)","v":1}]
[null,null,null,null,null,null,null,null,null,null,null,null,null,null,null,null,null,{"$f":"IF(SUMPRODUCT((C$9:C30=C30)*1)>1,0,1)","v":0}]
[null,null,null,null,null,null,null,null,null,null,null,null,null,null,null,null,null,{"$f":"IF(SUMPRODUCT((C$9:C31=C31)*1)>1,0,1)","v":0}]
[null,null,null,null,null,null,null,null,null,null,null,null,null,null,null,null,null,{"$f":"IF(SUMPRODUCT((C$9:C32=C32)*1)>1,0,1)","v":0}]
[null,null,null,null,null,null,null,null,null,null,null,null,null,null,null,null,null,{"$f":"IF(SUMPRODUCT((C$9:C33=C33)*1)>1,0,1)","v":0}]
[null,null,null,null,null,null,null,null,null,null,null,null,null,null,null,null,null,{"$f":"IF(SUMPRODUCT((C$9:C34=C34)*1)>1,0,1)","v":0}]
[null,null,null,null,null,null,null,null,null,null,null,null,null,null,null,null,null,{"$f":"IF(SUMPRODUCT((C$9:C35=C35)*1)>1,0,1)","v":0}]
[null,null,null,null,null,null,null,null,null,null,null,null,null,null,null,null,null,{"$f":"IF(SUMPRODUCT((C$9:C36=C36)*1)>1,0,1)","v":0}]
[null,null,null,null,null,null,null,null,null,null,null,null,null,null,null,null,null,{"$f":"IF(SUMPRODUCT((C$9:C37=C37)*1)>1,0,1)","v":0}]
[null,null,null,null,null,null,null,null,null,null,null,null,null,null,null,null,null,{"$f":"IF(SUMPRODUCT((C$9:C38=C38)*1)>1,0,1)","v":0}]
[null,null,null,null,null,null,null,null,null,null,null,null,null,null,null,null,null,{"$f":"IF(SUMPRODUCT((C$9:C39=C39)*1)>1,0,1)","v":0}]
[null,null,null,null,null,null,null,null,null,null,null,null,null,null,null,null,null,{"$f":"IF(SUMPRODUCT((C$9:C40=C40)*1)>1,0,1)","v":0}]
[null,null,null,null,null,null,null,null,null,null,null,null,null,null,null,null,null,{"$f":"IF(SUMPRODUCT((C$9:C41=C41)*1)>1,0,1)","v":0}]
[null,null,null,null,null,null,null,null,null,null,null,null,null,null,null,null,null,{"$f":"IF(SUMPRODUCT((C$9:C42=C42)*1)>1,0,1)","v":0}]
[null,null,null,null,null,null,null,null,null,null,null,null,null,null,null,null,null,{"$f":"IF(SUMPRODUCT((C$9:C43=C43)*1)>1,0,1)","v":0}]
[null,null,null,null,null,null,null,null,null,null,null,null,null,null,null,null,null,{"$f":"IF(SUMPRODUCT((C$9:C44=C44)*1)>1,0,1)","v":0}]
[null,null,null,null,null,null,null,null,null,null,null,null,null,null,null,null,null,{"$f":"IF(SUMPRODUCT((C$9:C45=C45)*1)>1,0,1)","v":0}]
[null,null,null,null,null,null,null,null,null,null,null,null,null,null,null,null,null,{"$f":"IF(SUMPRODUCT((C$9:C46=C46)*1)>1,0,1)","v":0}]
[null,null,null,null,null,null,null,null,null,null,null,null,null,null,null,null,null,{"$f":"IF(SUMPRODUCT((C$9:C47=C47)*1)>1,0,1)","v":0}]
[null,null,null,null,null,null,null,null,null,null,null,null,null,null,null,null,null,{"$f":"IF(SUMPRODUCT((C$9:C48=C48)*1)>1,0,1)","v":0}]
[null,null,null,null,null,null,null,null,null,null,null,null,null,null,null,null,null,{"$f":"IF(SUMPRODUCT((C$9:C49=C49)*1)>1,0,1)","v":0}]
[null,null,null,null,null,null,null,null,null,null,null,null,null,null,null,null,null,{"$f":"IF(SUMPRODUCT((C$9:C50=C50)*1)>1,0,1)","v":0}]
[null,null,null,null,null,null,null,null,null,null,null,null,null,null,null,null,null,{"$f":"IF(SUMPRODUCT((C$9:C51=C51)*1)>1,0,1)","v":0}]
[null,null,null,null,null,null,null,null,null,null,null,null,null,null,null,null,null,{"$f":"IF(SUMPRODUCT((C$9:C52=C52)*1)>1,0,1)","v":0}]
[null,null,null,null,null,null,null,null,null,null,null,null,null,null,null,null,null,{"$f":"IF(SUMPRODUCT((C$9:C53=C53)*1)>1,0,1)","v":0}]
[null,null,null,null,null,null,null,null,null,null,null,null,null,null,null,null,null,{"$f":"IF(SUMPRODUCT((C$9:C54=C54)*1)>1,0,1)","v":0}]
[null,null,null,null,null,null,null,null,null,null,null,null,null,null,null,null,null,{"$f":"IF(SUMPRODUCT((C$9:C55=C55)*1)>1,0,1)","v":0}]
[null,null,null,null,null,null,null,null,null,null,null,null,null,null,null,null,null,{"$f":"IF(SUMPRODUCT((C$9:C56=C56)*1)>1,0,1)","v":0}]
[null,null,null,null,null,null,null,null,null,null,null,null,null,null,null,null,null,{"$f":"IF(SUMPRODUCT((C$9:C57=C57)*1)>1,0,1)","v":0}]
[null,null,null,null,null,null,null,null,null,null,null,null,null,null,null,null,null,{"$f":"IF(SUMPRODUCT((C$9:C58=C58)*1)>1,0,1)","v":0}]
[null,null,null,null,null,null,null,null,null,null,null,null,null,null,null,null,null,{"$f":"IF(SUMPRODUCT((C$9:C59=C59)*1)>1,0,1)","v":0}]
[null,null,null,null,null,null,null,null,null,null,null,null,null,null,null,null,null,{"$f":"IF(SUMPRODUCT((C$9:C60=C60)*1)>1,0,1)","v":0}]
[null,null,null,null,null,null,null,null,null,null,null,null,null,null,null,null,null,{"$f":"IF(SUMPRODUCT((C$9:C61=C61)*1)>1,0,1)","v":0}]
[null,null,null,null,null,null,null,null,null,null,null,null,null,null,null,null,null,{"$f":"IF(SUMPRODUCT((C$9:C62=C62)*1)>1,0,1)","v":0}]
[null,null,null,null,null,null,null,null,null,null,null,null,null,null,null,null,null,{"$f":"IF(SUMPRODUCT((C$9:C63=C63)*1)>1,0,1)","v":0}]
[null,null,null,null,null,null,null,null,null,null,null,null,null,null,null,null,null,{"$f":"IF(SUMPRODUCT((C$9:C64=C64)*1)>1,0,1)","v":0}]
[null,null,null,null,null,null,null,null,null,null,null,null,null,null,null,null,null,{"$f":"IF(SUMPRODUCT((C$9:C65=C65)*1)>1,0,1)","v":0}]
[null,null,null,null,null,null,null,null,null,null,null,null,null,null,null,null,null,{"$f":"IF(SUMPRODUCT((C$9:C66=C66)*1)>1,0,1)","v":0}]
[null,null,null,null,null,null,null,null,null,null,null,null,null,null,null,null,null,{"$f":"IF(SUMPRODUCT((C$9:C67=C67)*1)>1,0,1)","v":0}]
[null,null,null,null,null,null,null,null,null,null,null,null,null,null,null,null,null,{"$f":"IF(SUMPRODUCT((C$9:C68=C68)*1)>1,0,1)","v":0}]
[null,null,null,null,null,null,null,null,null,null,null,null,null,null,null,null,null,{"$f":"IF(SUMPRODUCT((C$9:C69=C69)*1)>1,0,1)","v":0}]
[null,null,null,null,null,null,null,null,null,null,null,null,null,null,null,null,null,{"$f":"IF(SUMPRODUCT((C$9:C70=C70)*1)>1,0,1)","v":0}]
[null,null,null,null,null,null,null,null,null,null,null,null,null,null,null,null,null,{"$f":"IF(SUMPRODUCT((C$9:C71=C71)*1)>1,0,1)","v":0}]
[null,null,null,null,null,null,null,null,null,null,null,null,null,null,null,null,null,{"$f":"IF(SUMPRODUCT((C$9:C72=C72)*1)>1,0,1)","v":0}]
[null,null,null,null,null,null,null,null,null,null,null,null,null,null,null,null,null,{"$f":"IF(SUMPRODUCT((C$9:C73=C73)*1)>1,0,1)","v":0}]
[null,null,null,null,null,null,null,null,null,null,null,null,null,null,null,null,null,{"$f":"IF(SUMPRODUCT((C$9:C74=C74)*1)>1,0,1)","v":0}]
[null,null,null,null,null,null,null,null,null,null,null,null,null,null,null,null,null,{"$f":"IF(SUMPRODUCT((C$9:C75=C75)*1)>1,0,1)","v":0}]
[null,null,null,null,null,null,null,null,null,null,null,null,null,null,null,null,null,{"$f":"IF(SUMPRODUCT((C$9:C76=C76)*1)>1,0,1)","v":0}]
[null,null,null,null,null,null,null,null,null,null,null,null,null,null,null,null,null,{"$f":"IF(SUMPRODUCT((C$9:C77=C77)*1)>1,0,1)","v":0}]
[null,null,null,null,null,null,null,null,null,null,null,null,null,null,null,null,null,{"$f":"IF(SUMPRODUCT((C$9:C78=C78)*1)>1,0,1)","v":0}]
[null,null,null,null,null,null,null,null,null,null,null,null,null,null,null,null,null,{"$f":"IF(SUMPRODUCT((C$9:C79=C79)*1)>1,0,1)","v":0}]
[null,null,null,null,null,null,null,null,null,null,null,null,null,null,null,null,null,{"$f":"IF(SUMPRODUCT((C$9:C80=C80)*1)>1,0,1)","v":0}]
[null,null,null,null,null,null,null,null,null,null,null,null,null,null,null,null,null,{"$f":"IF(SUMPRODUCT((C$9:C81=C81)*1)>1,0,1)","v":0}]
[null,null,null,null,null,null,null,null,null,null,null,null,null,null,null,null,null,{"$f":"IF(SUMPRODUCT((C$9:C82=C82)*1)>1,0,1)","v":0}]
[null,null,null,null,null,null,null,null,null,null,null,null,null,null,null,null,null,{"$f":"IF(SUMPRODUCT((C$9:C83=C83)*1)>1,0,1)","v":0}]
[null,null,null,null,null,null,null,null,null,null,null,null,null,null,null,null,null,{"$f":"IF(SUMPRODUCT((C$9:C84=C84)*1)>1,0,1)","v":0}]
[null,null,null,null,null,null,null,null,null,null,null,null,null,null,null,null,null,{"$f":"IF(SUMPRODUCT((C$9:C85=C85)*1)>1,0,1)","v":0}]
[null,null,null,null,null,null,null,null,null,null,null,null,null,null,null,null,null,{"$f":"IF(SUMPRODUCT((C$9:C86=C86)*1)>1,0,1)","v":0}]
[null,null,null,null,null,null,null,null,null,null,null,null,null,null,null,null,null,{"$f":"IF(SUMPRODUCT((C$9:C87=C87)*1)>1,0,1)","v":0}]
[null,null,null,null,null,null,null,null,null,null,null,null,null,null,null,null,null,{"$f":"IF(SUMPRODUCT((C$9:C88=C88)*1)>1,0,1)","v":0}]
[null,null,null,null,null,null,null,null,null,null,null,null,null,null,null,null,null,{"$f":"IF(SUMPRODUCT((C$9:C89=C89)*1)>1,0,1)","v":0}]
[null,null,null,null,null,null,null,null,null,null,null,null,null,null,null,null,null,{"$f":"IF(SUMPRODUCT((C$9:C90=C90)*1)>1,0,1)","v":0}]
[null,null,null,null,null,null,null,null,null,null,null,null,null,null,null,null,null,{"$f":"IF(SUMPRODUCT((C$9:C91=C91)*1)>1,0,1)","v":0}]
[null,null,null,null,null,null,null,null,null,null,null,null,null,null,null,null,null,{"$f":"IF(SUMPRODUCT((C$9:C92=C92)*1)>1,0,1)","v":0}]
[null,null,null,null,null,null,null,null,null,null,null,null,null,null,null,null,null,{"$f":"IF(SUMPRODUCT((C$9:C93=C93)*1)>1,0,1)","v":0}]
[null,null,null,null,null,null,null,null,null,null,null,null,null,null,null,null,null,{"$f":"IF(SUMPRODUCT((C$9:C94=C94)*1)>1,0,1)","v":0}]
[null,null,null,null,null,null,null,null,null,null,null,null,null,null,null,null,null,{"$f":"IF(SUMPRODUCT((C$9:C95=C95)*1)>1,0,1)","v":0}]
[null,null,null,null,null,null,null,null,null,null,null,null,null,null,null,null,null,{"$f":"IF(SUMPRODUCT((C$9:C96=C96)*1)>1,0,1)","v":0}]
[null,null,null,null,null,null,null,null,null,null,null,null,null,null,null,null,null,{"$f":"IF(SUMPRODUCT((C$9:C97=C97)*1)>1,0,1)","v":0}]
[null,null,null,null,null,null,null,null,null,null,null,null,null,null,null,null,null,{"$f":"IF(SUMPRODUCT((C$9:C98=C98)*1)>1,0,1)","v":0}]
[null,null,null,null,null,null,null,null,null,null,null,null,null,null,null,null,null,{"$f":"IF(SUMPRODUCT((C$9:C99=C99)*1)>1,0,1)","v":0}]
[null,null,null,null,null,null,null,null,null,null,null,null,null,null,null,null,null,{"$f":"IF(SUMPRODUCT((C$9:C100=C100)*1)>1,0,1)","v":0}]
[null,null,null,null,null,null,null,null,null,null,null,null,null,null,null,null,null,{"$f":"IF(SUMPRODUCT((C$9:C101=C101)*1)>1,0,1)","v":0}]
[null,null,null,null,null,null,null,null,null,null,null,null,null,null,null,null,null,{"$f":"IF(SUMPRODUCT((C$9:C102=C102)*1)>1,0,1)","v":0}]
[null,null,null,null,null,null,null,null,null,null,null,null,null,null,null,null,null,{"$f":"IF(SUMPRODUCT((C$9:C103=C103)*1)>1,0,1)","v":0}]
[null,null,null,null,null,null,null,null,null,null,null,null,null,null,null,null,null,{"$f":"IF(SUMPRODUCT((C$9:C104=C104)*1)>1,0,1)","v":0}]
[null,null,null,null,null,null,null,null,null,null,null,null,null,null,null,null,null,{"$f":"IF(SUMPRODUCT((C$9:C105=C105)*1)>1,0,1)","v":0}]
[null,null,null,null,null,null,null,null,null,null,null,null,null,null,null,null,null,{"$f":"IF(SUMPRODUCT((C$9:C106=C106)*1)>1,0,1)","v":0}]
[null,null,null,null,null,null,null,null,null,null,null,null,null,null,null,null,null,{"$f":"IF(SUMPRODUCT((C$9:C107=C107)*1)>1,0,1)","v":0}]
[null,null,null,null,null,null,null,null,null,null,null,null,null,null,null,null,null,{"$f":"IF(SUMPRODUCT((C$9:C108=C108)*1)>1,0,1)","v":0}]
[null,null,null,null,null,null,null,null,null,null,null,null,null,null,null,null,null,{"$f":"IF(SUMPRODUCT((C$9:C109=C109)*1)>1,0,1)","v":0}]
[null,null,null,null,null,null,null,null,null,null,null,null,null,null,null,null,null,{"$f":"IF(SUMPRODUCT((C$9:C110=C110)*1)>1,0,1)","v":0}]
[null,null,null,null,null,null,null,null,null,null,null,null,null,null,null,null,null,{"$f":"IF(SUMPRODUCT((C$9:C111=C111)*1)>1,0,1)","v":0}]
[null,null,null,null,null,null,null,null,null,null,null,null,null,null,null,null,null,{"$f":"IF(SUMPRODUCT((C$9:C112=C112)*1)>1,0,1)","v":0}]
[null,null,null,null,null,null,null,null,null,null,null,null,null,null,null,null,null,{"$f":"IF(SUMPRODUCT((C$9:C113=C113)*1)>1,0,1)","v":0}]
[null,null,null,null,null,null,null,null,null,null,null,null,null,null,null,null,null,{"$f":"IF(SUMPRODUCT((C$9:C114=C114)*1)>1,0,1)","v":0}]
[null,null,null,null,null,null,null,null,null,null,null,null,null,null,null,null,null,{"$f":"IF(SUMPRODUCT((C$9:C115=C115)*1)>1,0,1)","v":0}]
[null,null,null,null,null,null,null,null,null,null,null,null,null,null,null,null,null,{"$f":"IF(SUMPRODUCT((C$9:C116=C116)*1)>1,0,1)","v":0}]
[null,null,null,null,null,null,null,null,null,null,null,null,null,null,null,null,null,{"$f":"IF(SUMPRODUCT((C$9:C117=C117)*1)>1,0,1)","v":0}]
[null,null,null,null,null,null,null,null,null,null,null,null,null,null,null,null,null,{"$f":"IF(SUMPRODUCT((C$9:C118=C118)*1)>1,0,1)","v":0}]
[null,null,null,null,null,null,null,null,null,null,null,null,null,null,null,null,null,{"$f":"IF(SUMPRODUCT((C$9:C119=C119)*1)>1,0,1)","v":0}]
[null,null,null,null,null,null,null,null,null,null,null,null,null,null,null,null,null,{"$f":"IF(SUMPRODUCT((C$9:C120=C120)*1)>1,0,1)","v":0}]
[null,null,null,null,null,null,null,null,null,null,null,null,null,null,null,null,null,{"$f":"IF(SUMPRODUCT((C$9:C121=C121)*1)>1,0,1)","v":0}]
[null,null,null,null,null,null,null,null,null,null,null,null,null,null,null,null,null,{"$f":"IF(SUMPRODUCT((C$9:C122=C122)*1)>1,0,1)","v":0}]
[null,null,null,null,null,null,null,null,null,null,null,null,null,null,null,null,null,{"$f":"IF(SUMPRODUCT((C$9:C123=C123)*1)>1,0,1)","v":0}]
[null,null,null,null,null,null,null,null,null,null,null,null,null,null,null,null,null,{"$f":"IF(SUMPRODUCT((C$9:C124=C124)*1)>1,0,1)","v":0}]
[null,null,null,null,null,null,null,null,null,null,null,null,null,null,null,null,null,{"$f":"IF(SUMPRODUCT((C$9:C125=C125)*1)>1,0,1)","v":0}]
[null,null,null,null,null,null,null,null,null,null,null,null,null,null,null,null,null,{"$f":"IF(SUMPRODUCT((C$9:C126=C126)*1)>1,0,1)","v":0}]
[null,null,null,null,null,null,null,null,null,null,null,null,null,null,null,null,null,{"$f":"IF(SUMPRODUCT((C$9:C127=C127)*1)>1,0,1)","v":0}]
[null,null,null,null,null,null,null,null,null,null,null,null,null,null,null,null,null,{"$f":"IF(SUMPRODUCT((C$9:C128=C128)*1)>1,0,1)","v":0}]
[null,null,null,null,null,null,null,null,null,null,null,null,null,null,null,null,null,{"$f":"IF(SUMPRODUCT((C$9:C129=C129)*1)>1,0,1)","v":0}]
[null,null,null,null,null,null,null,null,null,null,null,null,null,null,null,null,null,{"$f":"IF(SUMPRODUCT((C$9:C130=C130)*1)>1,0,1)","v":0}]
[null,null,null,null,null,null,null,null,null,null,null,null,null,null,null,null,null,{"$f":"IF(SUMPRODUCT((C$9:C131=C131)*1)>1,0,1)","v":0}]
[null,null,null,null,null,null,null,null,null,null,null,null,null,null,null,null,null,{"$f":"IF(SUMPRODUCT((C$9:C132=C132)*1)>1,0,1)","v":0}]
[null,null,null,null,null,null,null,null,null,null,null,null,null,null,null,null,null,{"$f":"IF(SUMPRODUCT((C$9:C133=C133)*1)>1,0,1)","v":0}]
[null,null,null,null,null,null,null,null,null,null,null,null,null,null,null,null,null,{"$f":"IF(SUMPRODUCT((C$9:C134=C134)*1)>1,0,1)","v":0}]
[null,null,null,null,null,null,null,null,null,null,null,null,null,null,null,null,null,{"$f":"IF(SUMPRODUCT((C$9:C135=C135)*1)>1,0,1)","v":0}]
[null,null,null,null,null,null,null,null,null,null,null,null,null,null,null,null,null,{"$f":"IF(SUMPRODUCT((C$9:C136=C136)*1)>1,0,1)","v":0}]
[null,null,null,null,null,null,null,null,null,null,null,null,null,null,null,null,null,{"$f":"IF(SUMPRODUCT((C$9:C137=C137)*1)>1,0,1)","v":0}]
[null,null,null,null,null,null,null,null,null,null,null,null,null,null,null,null,null,{"$f":"IF(SUMPRODUCT((C$9:C138=C138)*1)>1,0,1)","v":0}]
[null,null,null,null,null,null,null,null,null,null,null,null,null,null,null,null,null,{"$f":"IF(SUMPRODUCT((C$9:C139=C139)*1)>1,0,1)","v":0}]
[null,null,null,null,null,null,null,null,null,null,null,null,null,null,null,null,null,{"$f":"IF(SUMPRODUCT((C$9:C140=C140)*1)>1,0,1)","v":0}]
[null,null,null,null,null,null,null,null,null,null,null,null,null,null,null,null,null,{"$f":"IF(SUMPRODUCT((C$9:C141=C141)*1)>1,0,1)","v":0}]
[null,null,null,null,null,null,null,null,null,null,null,null,null,null,null,null,null,{"$f":"IF(SUMPRODUCT((C$9:C142=C142)*1)>1,0,1)","v":0}]
[null,null,null,null,null,null,null,null,null,null,null,null,null,null,null,null,null,{"$f":"IF(SUMPRODUCT((C$9:C143=C143)*1)>1,0,1)","v":0}]
[null,null,null,null,null,null,null,null,null,null,null,null,null,null,null,null,null,{"$f":"IF(SUMPRODUCT((C$9:C144=C144)*1)>1,0,1)","v":0}]
[null,null,null,null,null,null,null,null,null,null,null,null,null,null,null,null,null,{"$f":"IF(SUMPRODUCT((C$9:C145=C145)*1)>1,0,1)","v":0}]
[null,null,null,null,null,null,null,null,null,null,null,null,null,null,null,null,null,{"$f":"IF(SUMPRODUCT((C$9:C146=C146)*1)>1,0,1)","v":0}]
[null,null,null,null,null,null,null,null,null,null,null,null,null,null,null,null,null,{"$f":"IF(SUMPRODUCT((C$9:C147=C147)*1)>1,0,1)","v":0}]
[null,null,null,null,null,null,null,null,null,null,null,null,null,null,null,null,null,{"$f":"IF(SUMPRODUCT((C$9:C148=C148)*1)>1,0,1)","v":0}]
[null,null,null,null,null,null,null,null,null,null,null,null,null,null,null,null,null,{"$f":"IF(SUMPRODUCT((C$9:C149=C149)*1)>1,0,1)","v":0}]
[null,null,null,null,null,null,null,null,null,null,null,null,null,null,null,null,null,{"$f":"IF(SUMPRODUCT((C$9:C150=C150)*1)>1,0,1)","v":0}]
[null,null,null,null,null,null,null,null,null,null,null,null,null,null,null,null,null,{"$f":"IF(SUMPRODUCT((C$9:C151=C151)*1)>1,0,1)","v":0}]
[null,null,null,null,null,null,null,null,null,null,null,null,null,null,null,null,null,{"$f":"IF(SUMPRODUCT((C$9:C152=C152)*1)>1,0,1)","v":0}]

{"sheet":"INDEX","index":2,"n_rows":2000,"n_cols":18,"rows_kept":2000,"cut":false,"hidden":false,"merged":[]}
[]
[]
[]
[]
[]
["Registro OT, Puntos de Comercializacion, Fotografias, Edicion, Ventas y Vacaciones"]
[]
["OT","FECHAING","TLF","CLIENTE","FOTOGRAFO","EDITORES","COMERCIALIZA","CTRL","COMENT","COD PROD","PRODUCTO","VALOR_VLTD","CANT","PF","PE","PC","A_VOLT","CTD_CLIENTES"]
[{"$f":"VALUE(DINAMICA!$A9)","v":325255},{"$f":"VALUE(DINAMICA!$B9)","v":"2019-01-14"},{"$f":"VALUE(DINAMICA!$C9)","v":584125162298},{"$f":"DINAMICA!D9","v":"ANA SANDOVAL"},{"$f":"DINAMICA!E9","v":"ROGER TORRES"},{"$f":"DINAMICA!F9","v":"JONATHAN VIVAS"},{"$f":"DINAMICA!G9","v":"NAHOMI VIVAS"},{"$f":"DINAMICA!H9","v":"LM"},{"$f":"DINAMICA!I9","v":"SOLO FOTOS PARA FIESTA"},{"$f":"DINAMICA!J9","v":"I006"},{"$f":"DINAMICA!K9","v":"Fotografia Infantil"},{"$f":"VALUE(DINAMICA!$L9)","v":0},{"$f":"VALUE(DINAMICA!$M9)","v":2},{"$f":"VALUE(DINAMICA!$N9)","v":2},{"$f":"VALUE(DINAMICA!$O9)","v":2},{"$f":"VALUE(DINAMICA!$P9)","v":2},{"$f":"VALUE(DINAMICA!$Q9)","v":0},{"$f":"VALUE(DINAMICA!$R9)","v":1}]
[{"$f":"VALUE(DINAMICA!$A10)","v":325255},{"$f":"VALUE(DINAMICA!$B10)","v":"2019-01-14"},{"$f":"VALUE(DINAMICA!$C10)","v":584125162298},{"$f":"DINAMICA!D10","v":"ANA SANDOVAL"},{"$f":"DINAMICA!E10","v":"ROGER TORRES"},{"$f":"DINAMICA!F10","v":"JONATHAN VIVAS"},{"$f":"DINAMICA!G10","v":"NAHOMI VIVAS"},{"$f":"DINAMICA!H10","v":"LM"},{"$f":"DINAMICA!I10","v":"SOLO FOTOS PARA FIESTA"},{"$f":"DINAMICA!J10","v":"E001"},{"$f":"DINAMICA!K10","v":"Servicio Express"},{"$f":"VALUE(DINAMICA!$L10)","v":0},{"$f":"VALUE(DINAMICA!$M10)","v":1},{"$f":"VALUE(DINAMICA!$N10)","v":1},{"$f":"VALUE(DINAMICA!$O10)","v":1},{"$f":"VALUE(DINAMICA!$P10)","v":0},{"$f":"VALUE(DINAMICA!$Q10)","v":0},{"$f":"VALUE(DINAMICA!$R10)","v":0}]
[{"$f":"VALUE(DINAMICA!$A11)","v":325255},{"$f":"VALUE(DINAMICA!$B11)","v":"2019-01-14"},{"$f":"VALUE(DINAMICA!$C11)","v":584125162298},{"$f":"DINAMICA!D11","v":"ANA SANDOVAL"},{"$f":"DINAMICA!E11","v":"ROGER TORRES"},{"$f":"DINAMICA!F11","v":"JONATHAN VIVAS"},{"$f":"DINAMICA!G11","v":"NAHOMI VIVAS"},{"$f":"DINAMICA!H11","v":"LM"},{"$f":"DINAMICA!I11","v":"SOLO FOTOS PARA FIESTA"},{"$f":"DINAMICA!J11","v":"F006"},{"$f":"DINAMICA!K11","v":"fotografía fashion "},{"$f":"VALUE(DINAMICA!$L11)","v":0},{"$f":"VALUE(DINAMICA!$M11)","v":1},{"$f":"VALUE(DINAMICA!$N11)","v":1.5},{"$f":"VALUE(DINAMICA!$O11)","v":1.5},{"$f":"VALUE(DINAMICA!$P11)","v":0},{"$f":"VALUE(DINAMICA!$Q11)","v":0},{"$f":"VALUE(DINAMICA!$R11)","v":0}]
[{"$f":"VALUE(DINAMICA!$A12)","v":325255},{"$f":"VALUE(DINAMICA!$B12)","v":"2019-01-14"},{"$f":"VALUE(DINAMICA!$C12)","v":584125162298},{"$f":"DINAMICA!D12","v":"ANA SANDOVAL"},{"$f":"DINAMICA!E12","v":"ROGER TORRES"},{"$f":"DINAMICA!F12","v":"JONATHAN VIVAS"},{"$f":"DINAMICA!G12","v":"NAHOMI VIVAS"},{"$f":"DINAMICA!H12","v":"LM"},{"$f":"DINAMICA!I12","v":"SOLO FOTOS PARA FIESTA"},{"$f":"DINAMICA!J12","v":"A002"},{"$f":"DINAMICA!K12","v":"A VOLUNTAD INFANTIL 0,40"},{"$f":"VALUE(DINAMICA!$L12)","v":25000},{"$f":"VALUE(DINAMICA!$M12)","v":0},{"$f":"VALUE(DINAMICA!$N12)","v":0},{"$f":"VALUE(DINAMICA!$O12)","v":0},{"$f":"VALUE(DINAMICA!$P12)","v":0},{"$f":"VALUE(DINAMICA!$Q12)","v":10000},{"$f":"VALUE(DINAMICA!$R12)","v":0}]
[{"$f":"VALUE(DINAMICA!$A13)","v":432537},{"$f":"VALUE(DINAMICA!$B13)","v":"2019-01-17"},{"$f":"VALUE(DINAMICA!$C13)","v":584142186474},{"$f":"DINAMICA!D13","v":"HECTOR VILORIA"},{"$f":"DINAMICA!E13","v":"DANNIELIZ LOZADA"},{"$f":"DINAMICA!F13","v":"LUIS MONTIEL"},{"$f":"DINAMICA!G13","v":"YENNYS CASTILLO"},{"$f":"DINAMICA!H13","v":"LM"},{"$f":"DINAMICA!I13","v":"pruebas de mnodelos"},{"$f":"DINAMICA!J13","v":"I006"},{"$f":"DINAMICA!K13","v":"Fotografia Infantil"},{"$f":"VALUE(DINAMICA!$L13)","v":0},{"$f":"VALUE(DINAMICA!$M13)","v":2},{"$f":"VALUE(DINAMICA!$N13)","v":2},{"$f":"VALUE(DINAMICA!$O13)","v":2},{"$f":"VALUE(DINAMICA!$P13)","v":2},{"$f":"VALUE(DINAMICA!$Q13)","v":0},{"$f":"VALUE(DINAMICA!$R13)","v":1}]
[{"$f":"VALUE(DINAMICA!$A14)","v":432537},{"$f":"VALUE(DINAMICA!$B14)","v":"2019-01-17"},{"$f":"VALUE(DINAMICA!$C14)","v":584142186474},{"$f":"DINAMICA!D14","v":"HECTOR VILORIA"},{"$f":"DINAMICA!E14","v":"DANNIELIZ LOZADA"},{"$f":"DINAMICA!F14","v":"LUIS MONTIEL"},{"$f":"DINAMICA!G14","v":"YENNYS CASTILLO"},{"$f":"DINAMICA!H14","v":"LM"},{"$f":"DINAMICA!I14","v":"pruebas de mnodelos"},{"$f":"DINAMICA!J14","v":"F002"},{"$f":"DINAMICA!K14","v":"Adicional Sesion Express"},{"$f":"VALUE(DINAMICA!$L14)","v":0},{"$f":"VALUE(DINAMICA!$M14)","v":1},{"$f":"VALUE(DINAMICA!$N14)","v":1.5},{"$f":"VALUE(DINAMICA!$O14)","v":1.5},{"$f":"VALUE(DINAMICA!$P14)","v":0},{"$f":"VALUE(DINAMICA!$Q14)","v":0},{"$f":"VALUE(DINAMICA!$R14)","v":0}]
[{"$f":"VALUE(DINAMICA!$A15)","v":432537},{"$f":"VALUE(DINAMICA!$B15)","v":"2019-01-17"},{"$f":"VALUE(DINAMICA!$C15)","v":584142186474},{"$f":"DINAMICA!D15","v":"HECTOR VILORIA"},{"$f":"DINAMICA!E15","v":"DANNIELIZ LOZADA"},{"$f":"DINAMICA!F15","v":"LUIS MONTIEL"},{"$f":"DINAMICA!G15","v":"YENNYS CASTILLO"},{"$f":"DINAMICA!H15","v":"LM"},{"$f":"DINAMICA!I15","v":"pruebas de mnodelos"},{"$f":"DINAMICA!J15","v":"P005"},{"$f":"DINAMICA!K15","v":"PROMO DEL MES"},{"$f":"VALUE(DINAMICA!$L15)","v":0},{"$f":"VALUE(DINAMICA!$M15)","v":1},{"$f":"VALUE(DINAMICA!$N15)","v":2},{"$f":"VALUE(DINAMICA!$O15)","v":2},{"$f":"VALUE(DINAMICA!$P15)","v":2},{"$f":"VALUE(DINAMICA!$Q15)","v":0},{"$f":"VALUE(DINAMICA!$R15)","v":0}]
[{"$f":"VALUE(DINAMICA!$A16)","v":534258},{"$f":"VALUE(DINAMICA!$B16)","v":"2019-01-19"},{"$f":"VALUE(DINAMICA!$C16)","v":584122543625},{"$f":"DINAMICA!D16","v":"MARIA VERGARA"},{"$f":"DINAMICA!E16","v":"YAGER PARRA"},{"$f":"DINAMICA!F16","v":"LUIS MONTIEL"},{"$f":"DINAMICA!G16","v":"YENNYS CASTILLO"},{"$f":"DINAMICA!H16","v":"LM"},{"$f":"DINAMICA!I16","v":"MAS PRUEBAS"},{"$f":"DINAMICA!J16","v":"C002"},{"$f":"DINAMICA!K16","v":"Carnet 8 de Tiempo"},{"$f":"VALUE(DINAMICA!$L16)","v":0},{"$f":"VALUE(DINAMICA!$M16)","v":1},{"$f":"VALUE(DINAMICA!$N16)","v":1},{"$f":"VALUE(DINAMICA!$O16)","v":1},{"$f":"VALUE(DINAMICA!$P16)","v":0},{"$f":"VALUE(DINAMICA!$Q16)","v":0},{"$f":"VALUE(DINAMICA!$R16)","v":1}]
[{"$f":"VALUE(DINAMICA!$A17)","v":534258},{"$f":"VALUE(DINAMICA!$B17)","v":"2019-01-19"},{"$f":"VALUE(DINAMICA!$C17)","v":584122543625},{"$f":"DINAMICA!D17","v":"MARIA VERGARA"},{"$f":"DINAMICA!E17","v":"YAGER PARRA"},{"$f":"DINAMICA!F17","v":"LUIS MONTIEL"},{"$f":"DINAMICA!G17","v":"YENNYS CASTILLO"},{"$f":"DINAMICA!H17","v":"LM"},{"$f":"DINAMICA!I17","v":"MAS PRUEBAS"},{"$f":"DINAMICA!J17","v":"P005"},{"$f":"DINAMICA!K17","v":"PROMO DEL MES"},{"$f":"VALUE(DINAMICA!$L17)","v":0},{"$f":"VALUE(DINAMICA!$M17)","v":1},{"$f":"VALUE(DINAMICA!$N17)","v":2},{"$f":"VALUE(DINAMICA!$O17)","v":2},{"$f":"VALUE(DINAMICA!$P17)","v":2},{"$f":"VALUE(DINAMICA!$Q17)","v":0},{"$f":"VALUE(DINAMICA!$R17)","v":0}]
[{"$f":"VALUE(DINAMICA!$A18)","v":354526},{"$f":"VALUE(DINAMICA!$B18)","v":"2019-01-22"},{"$f":"VALUE(DINAMICA!$C18)","v":576535636475},{"$f":"DINAMICA!D18","v":"JOSE FERGUSON"},{"$f":"DINAMICA!E18","v":"JOHAN RANGEL"},{"$f":"DINAMICA!F18","v":"JEAN PIERRE BAUTISTA"},{"$f":"DINAMICA!G18","v":"LUIS MONTIEL"},"RV",{"$f":"DINAMICA!I18","v":"MAS PRUEBAS"},{"$f":"DINAMICA!J18","v":"C002"},{"$f":"DINAMICA!K18","v":"Carnet 8 de Tiempo"},{"$f":"VALUE(DINAMICA!$L18)","v":0},{"$f":"VALUE(DINAMICA!$M18)","v":1},{"$f":"VALUE(DINAMICA!$N18)","v":1},{"$f":"VALUE(DINAMICA!$O18)","v":1},{"$f":"VALUE(DINAMICA!$P18)","v":0},{"$f":"VALUE(DINAMICA!$Q18)","v":0},{"$f":"VALUE(DINAMICA!$R18)","v":1}]
[{"$f":"VALUE(DINAMICA!$A19)","v":354526},{"$f":"VALUE(DINAMICA!$B19)","v":"2019-01-22"},{"$f":"VALUE(DINAMICA!$C19)","v":576535636475},{"$f":"DINAMICA!D19","v":"JOSE FERGUSON"},{"$f":"DINAMICA!E19","v":"JOHAN RANGEL"},{"$f":"DINAMICA!F19","v":"JEAN PIERRE BAUTISTA"},{"$f":"DINAMICA!G19","v":"LUIS MONTIEL"},"LM",{"$f":"DINAMICA!I19","v":"MAS PRUEBAS"},{"$f":"DINAMICA!J19","v":"I006"},{"$f":"DINAMICA!K19","v":"Fotografia Infantil"},{"$f":"VALUE(DINAMICA!$L19)","v":0},{"$f":"VALUE(DINAMICA!$M19)","v":1},{"$f":"VALUE(DINAMICA!$N19)","v":1},{"$f":"VALUE(DINAMICA!$O19)","v":1},{"$f":"VALUE(DINAMICA!$P19)","v":1},{"$f":"VALUE(DINAMICA!$Q19)","v":0},{"$f":"VALUE(DINAMICA!$R19)","v":0}]
[{"$f":"VALUE(DINAMICA!$A20)","v":147857},{"$f":"VALUE(DINAMICA!$B20)","v":"2019-01-25"},{"$f":"VALUE(DINAMICA!$C20)","v":573014274582},{"$f":"DINAMICA!D20","v":"MARIA CASTILLO"},{"$f":"DINAMICA!E20","v":"ROGER TORRES"},{"$f":"DINAMICA!F20","v":"LUIS MONTIEL"},{"$f":"DINAMICA!G20","v":"JEAN PIERRE BAUTISTA"},{"$f":"DINAMICA!H20","v":"RV"},{"$f":"DINAMICA!I20","v":"MAS PRUEBAS"},{"$f":"DINAMICA!J20","v":"I006"},{"$f":"DINAMICA!K20","v":"Fotografia Infantil"},{"$f":"VALUE(DINAMICA!$L20)","v":0},{"$f":"VALUE(DINAMICA!$M20)","v":1},{"$f":"VALUE(DINAMICA!$N20)","v":1},{"$f":"VALUE(DINAMICA!$O20)","v":1},{"$f":"VALUE(DINAMICA!$P20)","v":1},{"$f":"VALUE(DINAMICA!$Q20)","v":0},{"$f":"VALUE(DINAMICA!$R20)","v":1}]
[{"$f":"VALUE(DINAMICA!$A21)","v":147857},{"$f":"VALUE(DINAMICA!$B21)","v":"2019-01-25"},{"$f":"VALUE(DINAMICA!$C21)","v":573014274582},{"$f":"DINAMICA!D21","v":"MARIA CASTILLO"},{"$f":"DINAMICA!E21","v":"ROGER TORRES"},{"$f":"DINAMICA!F21","v":"LUIS MONTIEL"},{"$f":"DINAMICA!G21","v":"JEAN PIERRE BAUTISTA"},{"$f":"DINAMICA!H21","v":"RV"},{"$f":"DINAMICA!I21","v":"MAS PRUEBAS"},{"$f":"DINAMICA!J21","v":"C002"},{"$f":"DINAMICA!K21","v":"Carnet 8 de Tiempo"},{"$f":"VALUE(DINAMICA!$L21)","v":0},{"$f":"VALUE(DINAMICA!$M21)","v":1},{"$f":"VALUE(DINAMICA!$N21)","v":1},{"$f":"VALUE(DINAMICA!$O21)","v":1},{"$f":"VALUE(DINAMICA!$P21)","v":0},{"$f":"VALUE(DINAMICA!$Q21)","v":0},{"$f":"VALUE(DINAMICA!$R21)","v":0}]
[{"$f":"VALUE(DINAMICA!$A22)","v":147857},{"$f":"VALUE(DINAMICA!$B22)","v":"2019-01-25"},{"$f":"VALUE(DINAMICA!$C22)","v":573014274582},{"$f":"DINAMICA!D22","v":"MARIA CASTILLO"},{"$f":"DINAMICA!E22","v":"ROGER TORRES"},{"$f":"DINAMICA!F22","v":"LUIS MONTIEL"},{"$f":"DINAMICA!G22","v":"JEAN PIERRE BAUTISTA"},{"$f":"DINAMICA!H22","v":"RV"},{"$f":"DINAMICA!I22","v":"MAS PRUEBAS"},{"$f":"DINAMICA!J22","v":"E001"},{"$f":"DINAMICA!K22","v":"Servicio Express"},{"$f":"VALUE(DINAMICA!$L22)","v":0},{"$f":"VALUE(DINAMICA!$M22)","v":1},{"$f":"VALUE(DINAMICA!$N22)","v":1},{"$f":"VALUE(DINAMICA!$O22)","v":1},{"$f":"VALUE(DINAMICA!$P22)","v":0},{"$f":"VALUE(DINAMICA!$Q22)","v":0},{"$f":"VALUE(DINAMICA!$R22)","v":0}]
[{"$f":"VALUE(DINAMICA!$A23)","v":452354},{"$f":"VALUE(DINAMICA!$B23)","v":"2019-01-26"},{"$f":"VALUE(DINAMICA!$C23)","v":584124523365},{"$f":"DINAMICA!D23","v":"JESUS FONTALVO"},{"$f":"DINAMICA!E23","v":"ROGER TORRES"},{"$f":"DINAMICA!F23","v":"LUIS MONTIEL"},{"$f":"DINAMICA!G23","v":"YENNYS CASTILLO"},"LM",{"$f":"DINAMICA!I23","v":"ANTES DEL 30-01-2019"},{"$f":"DINAMICA!J23","v":"I006"},{"$f":"DINAMICA!K23","v":"Fotografia Infantil"},{"$f":"VALUE(DINAMICA!$L23)","v":0},{"$f":"VALUE(DINAMICA!$M23)","v":2},{"$f":"VALUE(DINAMICA!$N23)","v":2},{"$f":"VALUE(DINAMICA!$O23)","v":2},{"$f":"VALUE(DINAMICA!$P23)","v":4},{"$f":"VALUE(DINAMICA!$Q23)","v":0},{"$f":"VALUE(DINAMICA!$R23)","v":1}]
[{"$f":"VALUE(DINAMICA!$A24)","v":452354},{"$f":"VALUE(DINAMICA!$B24)","v":"2019-01-26"},{"$f":"VALUE(DINAMICA!$C24)","v":584124523365},{"$f":"DINAMICA!D24","v":"JESUS FONTALVO"},{"$f":"DINAMICA!E24","v":"ROGER TORRES"},{"$f":"DINAMICA!F24","v":"LUIS MONTIEL"},{"$f":"DINAMICA!G24","v":"YENNYS CASTILLO"},"RV",{"$f":"DINAMICA!I24","v":"ANTES DEL 30-01-2019"},{"$f":"DINAMICA!J24","v":"A002"},{"$f":"DINAMICA!K24","v":"A VOLUNTAD INFANTIL 0,40"},{"$f":"VALUE(DINAMICA!$L24)","v":23500},{"$f":"VALUE(DINAMICA!$M24)","v":0},{"$f":"VALUE(DINAMICA!$N24)","v":0},{"$f":"VALUE(DINAMICA!$O24)","v":0},{"$f":"VALUE(DINAMICA!$P24)","v":0},{"$f":"VALUE(DINAMICA!$Q24)","v":9400},{"$f":"VALUE(DINAMICA!$R24)","v":0}]
[{"$f":"VALUE(DINAMICA!$A25)","v":853658},{"$f":"VALUE(DINAMICA!$B25)","v":"2019-01-27"},{"$f":"VALUE(DINAMICA!$C25)","v":584162186474},{"$f":"DINAMICA!D25","v":"JOSE ACOSTA"},{"$f":"DINAMICA!E25","v":"ROGER TORRES"},{"$f":"DINAMICA!F25","v":"LUIS MONTIEL"},{"$f":"DINAMICA!G25","v":"JEAN PIERRE BAUTISTA"},{"$f":"DINAMICA!H25","v":"LM"},{"$f":"DINAMICA!I25","v":"POR FAVOR ANTES DEL ULTIMO"},{"$f":"DINAMICA!J25","v":"I006"},{"$f":"DINAMICA!K25","v":"Fotografia Infantil"},{"$f":"VALUE(DINAMICA!$L25)","v":0},{"$f":"VALUE(DINAMICA!$M25)","v":2},{"$f":"VALUE(DINAMICA!$N25)","v":2},{"$f":"VALUE(DINAMICA!$O25)","v":2},{"$f":"VALUE(DINAMICA!$P25)","v":4},{"$f":"VALUE(DINAMICA!$Q25)","v":0},{"$f":"VALUE(DINAMICA!$R25)","v":1}]
[{"$f":"VALUE(DINAMICA!$A26)","v":853658},{"$f":"VALUE(DINAMICA!$B26)","v":"2019-01-27"},{"$f":"VALUE(DINAMICA!$C26)","v":584162186474},{"$f":"DINAMICA!D26","v":"JOSE ACOSTA"},{"$f":"DINAMICA!E26","v":"ROGER TORRES"},{"$f":"DINAMICA!F26","v":"LUIS MONTIEL"},{"$f":"DINAMICA!G26","v":"JEAN PIERRE BAUTISTA"},{"$f":"DINAMICA!H26","v":"LM"},{"$f":"DINAMICA!I26","v":"POR FAVOR ANTES DEL ULTIMO"},{"$f":"DINAMICA!J26","v":"E001"},{"$f":"DINAMICA!K26","v":"Servicio Express"},{"$f":"VALUE(DINAMICA!$L26)","v":0},{"$f":"VALUE(DINAMICA!$M26)","v":1},{"$f":"VALUE(DINAMICA!$N26)","v":1},{"$f":"VALUE(DINAMICA!$O26)","v":1},{"$f":"VALUE(DINAMICA!$P26)","v":0},{"$f":"VALUE(DINAMICA!$Q26)","v":0},{"$f":"VALUE(DINAMICA!$R26)","v":0}]
[{"$f":"VALUE(DINAMICA!$A27)","v":853658},{"$f":"VALUE(DINAMICA!$B27)","v":"2019-01-27"},{"$f":"VALUE(DINAMICA!$C27)","v":584162186474},{"$f":"DINAMICA!D27","v":"JOSE ACOSTA"},{"$f":"DINAMICA!E27","v":"ROGER TORRES"},{"$f":"DINAMICA!F27","v":"LUIS MONTIEL"},{"$f":"DINAMICA!G27","v":"JEAN PIERRE BAUTISTA"},{"$f":"DINAMICA!H27","v":"LM"},{"$f":"DINAMICA!I27","v":"POR FAVOR ANTES DEL ULTIMO"},{"$f":"DINAMICA!J27","v":"I005"},{"$f":"DINAMICA!K27","v":"Foto Infantil Express"},{"$f":"VALUE(DINAMICA!$L27)","v":0},{"$f":"VALUE(DINAMICA!$M27)","v":1},{"$f":"VALUE(DINAMICA!$N27)","v":1},{"$f":"VALUE(DINAMICA!$O27)","v":1},{"$f":"VALUE(DINAMICA!$P27)","v":0},{"$f":"VALUE(DINAMICA!$Q27)","v":0},{"$f":"VALUE(DINAMICA!$R27)","v":0}]
[{"$f":"VALUE(DINAMICA!$A28)","v":853658},{"$f":"VALUE(DINAMICA!$B28)","v":"2019-01-27"},{"$f":"VALUE(DINAMICA!$C28)","v":584162186474},{"$f":"DINAMICA!D28","v":"JOSE ACOSTA"},{"$f":"DINAMICA!E28","v":"ROGER TORRES"},{"$f":"DINAMICA!F28","v":"LUIS MONTIEL"},{"$f":"DINAMICA!G28","v":"JEAN PIERRE BAUTISTA"},{"$f":"DINAMICA!H28","v":"LM"},{"$f":"DINAMICA!I28","v":"POR FAVOR ANTES DEL ULTIMO"},{"$f":"DINAMICA!J28","v":"A002"},{"$f":"DINAMICA!K28","v":"A VOLUNTAD INFANTIL 0,40"},{"$f":"VALUE(DINAMICA!$L28)","v":16500},{"$f":"VALUE(DINAMICA!$M28)","v":0},{"$f":"VALUE(DINAMICA!$N28)","v":0},{"$f":"VALUE(DINAMICA!$O28)","v":0},{"$f":"VALUE(DINAMICA!$P28)","v":0},{"$f":"VALUE(DINAMICA!$Q28)","v":6600},{"$f":"VALUE(DINAMICA!$R28)","v":0}]
[{"$f":"VALUE(DINAMICA!$A29)","v":0},{"$f":"VALUE(DINAMICA!$B29)","v":"00:00:00"},{"$f":"VALUE(DINAMICA!$C29)","v":0},{"$f":"DINAMICA!D29","v":0},{"$f":"DINAMICA!E29","v":0},{"$f":"DINAMICA!F29","v":0},{"$f":"DINAMICA!G29","v":0},{"$f":"DINAMICA!H29","v":0},{"$f":"DINAMICA!I29","v":0},{"$f":"DINAMICA!J29","v":0},{"$f":"DINAMICA!K29","v":0},{"$f":"VALUE(DINAMICA!$L29)","v":0},{"$f":"VALUE(DINAMICA!$M29)","v":0},{"$f":"VALUE(DINAMICA!$N29)","v":0},{"$f":"VALUE(DINAMICA!$O29)","v":0},{"$f":"VALUE(DINAMICA!$P29)","v":0},{"$f":"VALUE(DINAMICA!$Q29)","v":0},{"$f":"VALUE(DINAMICA!$R29)","v":1}]
[{"$f":"VALUE(DINAMICA!$A30)","v":0},{"$f":"VALUE(DINAMICA!$B30)","v":"00:00:00"},{"$f":"VALUE(DINAMICA!$C30)","v":0},{"$f":"DINAMICA!D30","v":0},{"$f":"DINAMICA!E30","v":0},{"$f":"DINAMICA!F30","v":0},{"$f":"DINAMICA!G30","v":0},{"$f":"DINAMICA!H30","v":0},{"$f":"DINAMICA!I30","v":0},{"$f":"DINAMICA!J30","v":0},{"$f":"DINAMICA!K30","v":0},{"$f":"VALUE(DINAMICA!$L30)","v":0},{"$f":"VALUE(DINAMICA!$M30)","v":0},{"$f":"VALUE(DINAMICA!$N30)","v":0},{"$f":"VALUE(DINAMICA!$O30)","v":0},{"$f":"VALUE(DINAMICA!$P30)","v":0},{"$f":"VALUE(DINAMICA!$Q30)","v":0},{"$f":"VALUE(DINAMICA!$R30)","v":0}]
[{"$f":"VALUE(DINAMICA!$A31)","v":0},{"$f":"VALUE(DINAMICA!$B31)","v":"00:00:00"},{"$f":"VALUE(DINAMICA!$C31)","v":0},{"$f":"DINAMICA!D31","v":0},{"$f":"DINAMICA!E31","v":0},{"$f":"DINAMICA!F31","v":0},{"$f":"DINAMICA!G31","v":0},{"$f":"DINAMICA!H31","v":0},{"$f":"DINAMICA!I31","v":0},{"$f":"DINAMICA!J31","v":0},{"$f":"DINAMICA!K31","v":0},{"$f":"VALUE(DINAMICA!$L31)","v":0},{"$f":"VALUE(DINAMICA!$M31)","v":0},{"$f":"VALUE(DINAMICA!$N31)","v":0},{"$f":"VALUE(DINAMICA!$O31)","v":0},{"$f":"VALUE(DINAMICA!$P31)","v":0},{"$f":"VALUE(DINAMICA!$Q31)","v":0},{"$f":"VALUE(DINAMICA!$R31)","v":0}]
[{"$f":"VALUE(DINAMICA!$A32)","v":0},{"$f":"VALUE(DINAMICA!$B32)","v":"00:00:00"},{"$f":"VALUE(DINAMICA!$C32)","v":0},{"$f":"DINAMICA!D32","v":0},{"$f":"DINAMICA!E32","v":0},{"$f":"DINAMICA!F32","v":0},{"$f":"DINAMICA!G32","v":0},{"$f":"DINAMICA!H32","v":0},{"$f":"DINAMICA!I32","v":0},{"$f":"DINAMICA!J32","v":0},{"$f":"DINAMICA!K32","v":0},{"$f":"VALUE(DINAMICA!$L32)","v":0},{"$f":"VALUE(DINAMICA!$M32)","v":0},{"$f":"VALUE(DINAMICA!$N32)","v":0},{"$f":"VALUE(DINAMICA!$O32)","v":0},{"$f":"VALUE(DINAMICA!$P32)","v":0},{"$f":"VALUE(DINAMICA!$Q32)","v":0},{"$f":"VALUE(DINAMICA!$R32)","v":0}]
[{"$f":"VALUE(DINAMICA!$A33)","v":0},{"$f":"VALUE(DINAMICA!$B33)","v":"00:00:00"},{"$f":"VALUE(DINAMICA!$C33)","v":0},{"$f":"DINAMICA!D33","v":0},{"$f":"DINAMICA!E33","v":0},{"$f":"DINAMICA!F33","v":0},{"$f":"DINAMICA!G33","v":0},{"$f":"DINAMICA!H33","v":0},{"$f":"DINAMICA!I33","v":0},{"$f":"DINAMICA!J33","v":0},{"$f":"DINAMICA!K33","v":0},{"$f":"VALUE(DINAMICA!$L33)","v":0},{"$f":"VALUE(DINAMICA!$M33)","v":0},{"$f":"VALUE(DINAMICA!$N33)","v":0},{"$f":"VALUE(DINAMICA!$O33)","v":0},{"$f":"VALUE(DINAMICA!$P33)","v":0},{"$f":"VALUE(DINAMICA!$Q33)","v":0},{"$f":"VALUE(DINAMICA!$R33)","v":0}]
[{"$f":"VALUE(DINAMICA!$A34)","v":0},{"$f":"VALUE(DINAMICA!$B34)","v":"00:00:00"},{"$f":"VALUE(DINAMICA!$C34)","v":0},{"$f":"DINAMICA!D34","v":0},{"$f":"DINAMICA!E34","v":0},{"$f":"DINAMICA!F34","v":0},{"$f":"DINAMICA!G34","v":0},{"$f":"DINAMICA!H34","v":0},{"$f":"DINAMICA!I34","v":0},{"$f":"DINAMICA!J34","v":0},{"$f":"DINAMICA!K34","v":0},{"$f":"VALUE(DINAMICA!$L34)","v":0},{"$f":"VALUE(DINAMICA!$M34)","v":0},{"$f":"VALUE(DINAMICA!$N34)","v":0},{"$f":"VALUE(DINAMICA!$O34)","v":0},{"$f":"VALUE(DINAMICA!$P34)","v":0},{"$f":"VALUE(DINAMICA!$Q34)","v":0},{"$f":"VALUE(DINAMICA!$R34)","v":0}]
[{"$f":"VALUE(DINAMICA!$A35)","v":0},{"$f":"VALUE(DINAMICA!$B35)","v":"00:00:00"},{"$f":"VALUE(DINAMICA!$C35)","v":0},{"$f":"DINAMICA!D35","v":0},{"$f":"DINAMICA!E35","v":0},{"$f":"DINAMICA!F35","v":0},{"$f":"DINAMICA!G35","v":0},{"$f":"DINAMICA!H35","v":0},{"$f":"DINAMICA!I35","v":0},{"$f":"DINAMICA!J35","v":0},{"$f":"DINAMICA!K35","v":0},{"$f":"VALUE(DINAMICA!$L35)","v":0},{"$f":"VALUE(DINAMICA!$M35)","v":0},{"$f":"VALUE(DINAMICA!$N35)","v":0},{"$f":"VALUE(DINAMICA!$O35)","v":0},{"$f":"VALUE(DINAMICA!$P35)","v":0},{"$f":"VALUE(DINAMICA!$Q35)","v":0},{"$f":"VALUE(DINAMICA!$R35)","v":0}]
[{"$f":"VALUE(DINAMICA!$A36)","v":0},{"$f":"VALUE(DINAMICA!$B36)","v":"00:00:00"},{"$f":"VALUE(DINAMICA!$C36)","v":0},{"$f":"DINAMICA!D36","v":0},{"$f":"DINAMICA!E36","v":0},{"$f":"DINAMICA!F36","v":0},{"$f":"DINAMICA!G36","v":0},{"$f":"DINAMICA!H36","v":0},{"$f":"DINAMICA!I36","v":0},{"$f":"DINAMICA!J36","v":0},{"$f":"DINAMICA!K36","v":0},{"$f":"VALUE(DINAMICA!$L36)","v":0},{"$f":"VALUE(DINAMICA!$M36)","v":0},{"$f":"VALUE(DINAMICA!$N36)","v":0},{"$f":"VALUE(DINAMICA!$O36)","v":0},{"$f":"VALUE(DINAMICA!$P36)","v":0},{"$f":"VALUE(DINAMICA!$Q36)","v":0},{"$f":"VALUE(DINAMICA!$R36)","v":0}]
[{"$f":"VALUE(DINAMICA!$A37)","v":0},{"$f":"VALUE(DINAMICA!$B37)","v":"00:00:00"},{"$f":"VALUE(DINAMICA!$C37)","v":0},{"$f":"DINAMICA!D37","v":0},{"$f":"DINAMICA!E37","v":0},{"$f":"DINAMICA!F37","v":0},{"$f":"DINAMICA!G37","v":0},{"$f":"DINAMICA!H37","v":0},{"$f":"DINAMICA!I37","v":0},{"$f":"DINAMICA!J37","v":0},{"$f":"DINAMICA!K37","v":0},{"$f":"VALUE(DINAMICA!$L37)","v":0},{"$f":"VALUE(DINAMICA!$M37)","v":0},{"$f":"VALUE(DINAMICA!$N37)","v":0},{"$f":"VALUE(DINAMICA!$O37)","v":0},{"$f":"VALUE(DINAMICA!$P37)","v":0},{"$f":"VALUE(DINAMICA!$Q37)","v":0},{"$f":"VALUE(DINAMICA!$R37)","v":0}]
[{"$f":"VALUE(DINAMICA!$A38)","v":0},{"$f":"VALUE(DINAMICA!$B38)","v":"00:00:00"},{"$f":"VALUE(DINAMICA!$C38)","v":0},{"$f":"DINAMICA!D38","v":0},{"$f":"DINAMICA!E38","v":0},{"$f":"DINAMICA!F38","v":0},{"$f":"DINAMICA!G38","v":0},{"$f":"DINAMICA!H38","v":0},{"$f":"DINAMICA!I38","v":0},{"$f":"DINAMICA!J38","v":0},{"$f":"DINAMICA!K38","v":0},{"$f":"VALUE(DINAMICA!$L38)","v":0},{"$f":"VALUE(DINAMICA!$M38)","v":0},{"$f":"VALUE(DINAMICA!$N38)","v":0},{"$f":"VALUE(DINAMICA!$O38)","v":0},{"$f":"VALUE(DINAMICA!$P38)","v":0},{"$f":"VALUE(DINAMICA!$Q38)","v":0},{"$f":"VALUE(DINAMICA!$R38)","v":0}]
[{"$f":"VALUE(DINAMICA!$A39)","v":0},{"$f":"VALUE(DINAMICA!$B39)","v":"00:00:00"},{"$f":"VALUE(DINAMICA!$C39)","v":0},{"$f":"DINAMICA!D39","v":0},{"$f":"DINAMICA!E39","v":0},{"$f":"DINAMICA!F39","v":0},{"$f":"DINAMICA!G39","v":0},{"$f":"DINAMICA!H39","v":0},{"$f":"DINAMICA!I39","v":0},{"$f":"DINAMICA!J39","v":0},{"$f":"DINAMICA!K39","v":0},{"$f":"VALUE(DINAMICA!$L39)","v":0},{"$f":"VALUE(DINAMICA!$M39)","v":0},{"$f":"VALUE(DINAMICA!$N39)","v":0},{"$f":"VALUE(DINAMICA!$O39)","v":0},{"$f":"VALUE(DINAMICA!$P39)","v":0},{"$f":"VALUE(DINAMICA!$Q39)","v":0},{"$f":"VALUE(DINAMICA!$R39)","v":0}]
[{"$f":"VALUE(DINAMICA!$A40)","v":0},{"$f":"VALUE(DINAMICA!$B40)","v":"00:00:00"},{"$f":"VALUE(DINAMICA!$C40)","v":0},{"$f":"DINAMICA!D40","v":0},{"$f":"DINAMICA!E40","v":0},{"$f":"DINAMICA!F40","v":0},{"$f":"DINAMICA!G40","v":0},{"$f":"DINAMICA!H40","v":0},{"$f":"DINAMICA!I40","v":0},{"$f":"DINAMICA!J40","v":0},{"$f":"DINAMICA!K40","v":0},{"$f":"VALUE(DINAMICA!$L40)","v":0},{"$f":"VALUE(DINAMICA!$M40)","v":0},{"$f":"VALUE(DINAMICA!$N40)","v":0},{"$f":"VALUE(DINAMICA!$O40)","v":0},{"$f":"VALUE(DINAMICA!$P40)","v":0},{"$f":"VALUE(DINAMICA!$Q40)","v":0},{"$f":"VALUE(DINAMICA!$R40)","v":0}]
[{"$f":"VALUE(DINAMICA!$A41)","v":0},{"$f":"VALUE(DINAMICA!$B41)","v":"00:00:00"},{"$f":"VALUE(DINAMICA!$C41)","v":0},{"$f":"DINAMICA!D41","v":0},{"$f":"DINAMICA!E41","v":0},{"$f":"DINAMICA!F41","v":0},{"$f":"DINAMICA!G41","v":0},{"$f":"DINAMICA!H41","v":0},{"$f":"DINAMICA!I41","v":0},{"$f":"DINAMICA!J41","v":0},{"$f":"DINAMICA!K41","v":0},{"$f":"VALUE(DINAMICA!$L41)","v":0},{"$f":"VALUE(DINAMICA!$M41)","v":0},{"$f":"VALUE(DINAMICA!$N41)","v":0},{"$f":"VALUE(DINAMICA!$O41)","v":0},{"$f":"VALUE(DINAMICA!$P41)","v":0},{"$f":"VALUE(DINAMICA!$Q41)","v":0},{"$f":"VALUE(DINAMICA!$R41)","v":0}]
[{"$f":"VALUE(DINAMICA!$A42)","v":0},{"$f":"VALUE(DINAMICA!$B42)","v":"00:00:00"},{"$f":"VALUE(DINAMICA!$C42)","v":0},{"$f":"DINAMICA!D42","v":0},{"$f":"DINAMICA!E42","v":0},{"$f":"DINAMICA!F42","v":0},{"$f":"DINAMICA!G42","v":0},{"$f":"DINAMICA!H42","v":0},{"$f":"DINAMICA!I42","v":0},{"$f":"DINAMICA!J42","v":0},{"$f":"DINAMICA!K42","v":0},{"$f":"VALUE(DINAMICA!$L42)","v":0},{"$f":"VALUE(DINAMICA!$M42)","v":0},{"$f":"VALUE(DINAMICA!$N42)","v":0},{"$f":"VALUE(DINAMICA!$O42)","v":0},{"$f":"VALUE(DINAMICA!$P42)","v":0},{"$f":"VALUE(DINAMICA!$Q42)","v":0},{"$f":"VALUE(DINAMICA!$R42)","v":0}]
[{"$f":"VALUE(DINAMICA!$A43)","v":0},{"$f":"VALUE(DINAMICA!$B43)","v":"00:00:00"},{"$f":"VALUE(DINAMICA!$C43)","v":0},{"$f":"DINAMICA!D43","v":0},{"$f":"DINAMICA!E43","v":0},{"$f":"DINAMICA!F43","v":0},{"$f":"DINAMICA!G43","v":0},{"$f":"DINAMICA!H43","v":0},{"$f":"DINAMICA!I43","v":0},{"$f":"DINAMICA!J43","v":0},{"$f":"DINAMICA!K43","v":0},{"$f":"VALUE(DINAMICA!$L43)","v":0},{"$f":"VALUE(DINAMICA!$M43)","v":0},{"$f":"VALUE(DINAMICA!$N43)","v":0},{"$f":"VALUE(DINAMICA!$O43)","v":0},{"$f":"VALUE(DINAMICA!$P43)","v":0},{"$f":"VALUE(DINAMICA!$Q43)","v":0},{"$f":"VALUE(DINAMICA!$R43)","v":0}]
[{"$f":"VALUE(DINAMICA!$A44)","v":0},{"$f":"VALUE(DINAMICA!$B44)","v":"00:00:00"},{"$f":"VALUE(DINAMICA!$C44)","v":0},{"$f":"DINAMICA!D44","v":0},{"$f":"DINAMICA!E44","v":0},{"$f":"DINAMICA!F44","v":0},{"$f":"DINAMICA!G44","v":0},{"$f":"DINAMICA!H44","v":0},{"$f":"DINAMICA!I44","v":0},{"$f":"DINAMICA!J44","v":0},{"$f":"DINAMICA!K44","v":0},{"$f":"VALUE(DINAMICA!$L44)","v":0},{"$f":"VALUE(DINAMICA!$M44)","v":0},{"$f":"VALUE(DINAMICA!$N44)","v":0},{"$f":"VALUE(DINAMICA!$O44)","v":0},{"$f":"VALUE(DINAMICA!$P44)","v":0},{"$f":"VALUE(DINAMICA!$Q44)","v":0},{"$f":"VALUE(DINAMICA!$R44)","v":0}]
[{"$f":"VALUE(DINAMICA!$A45)","v":0},{"$f":"VALUE(DINAMICA!$B45)","v":"00:00:00"},{"$f":"VALUE(DINAMICA!$C45)","v":0},{"$f":"DINAMICA!D45","v":0},{"$f":"DINAMICA!E45","v":0},{"$f":"DINAMICA!F45","v":0},{"$f":"DINAMICA!G45","v":0},{"$f":"DINAMICA!H45","v":0},{"$f":"DINAMICA!I45","v":0},{"$f":"DINAMICA!J45","v":0},{"$f":"DINAMICA!K45","v":0},{"$f":"VALUE(DINAMICA!$L45)","v":0},{"$f":"VALUE(DINAMICA!$M45)","v":0},{"$f":"VALUE(DINAMICA!$N45)","v":0},{"$f":"VALUE(DINAMICA!$O45)","v":0},{"$f":"VALUE(DINAMICA!$P45)","v":0},{"$f":"VALUE(DINAMICA!$Q45)","v":0},{"$f":"VALUE(DINAMICA!$R45)","v":0}]
[{"$f":"VALUE(DINAMICA!$A46)","v":0},{"$f":"VALUE(DINAMICA!$B46)","v":"00:00:00"},{"$f":"VALUE(DINAMICA!$C46)","v":0},{"$f":"DINAMICA!D46","v":0},{"$f":"DINAMICA!E46","v":0},{"$f":"DINAMICA!F46","v":0},{"$f":"DINAMICA!G46","v":0},{"$f":"DINAMICA!H46","v":0},{"$f":"DINAMICA!I46","v":0},{"$f":"DINAMICA!J46","v":0},{"$f":"DINAMICA!K46","v":0},{"$f":"VALUE(DINAMICA!$L46)","v":0},{"$f":"VALUE(DINAMICA!$M46)","v":0},{"$f":"VALUE(DINAMICA!$N46)","v":0},{"$f":"VALUE(DINAMICA!$O46)","v":0},{"$f":"VALUE(DINAMICA!$P46)","v":0},{"$f":"VALUE(DINAMICA!$Q46)","v":0},{"$f":"VALUE(DINAMICA!$R46)","v":0}]
[{"$f":"VALUE(DINAMICA!$A47)","v":0},{"$f":"VALUE(DINAMICA!$B47)","v":"00:00:00"},{"$f":"VALUE(DINAMICA!$C47)","v":0},{"$f":"DINAMICA!D47","v":0},{"$f":"DINAMICA!E47","v":0},{"$f":"DINAMICA!F47","v":0},{"$f":"DINAMICA!G47","v":0},{"$f":"DINAMICA!H47","v":0},{"$f":"DINAMICA!I47","v":0},{"$f":"DINAMICA!J47","v":0},{"$f":"DINAMICA!K47","v":0},{"$f":"VALUE(DINAMICA!$L47)","v":0},{"$f":"VALUE(DINAMICA!$M47)","v":0},{"$f":"VALUE(DINAMICA!$N47)","v":0},{"$f":"VALUE(DINAMICA!$O47)","v":0},{"$f":"VALUE(DINAMICA!$P47)","v":0},{"$f":"VALUE(DINAMICA!$Q47)","v":0},{"$f":"VALUE(DINAMICA!$R47)","v":0}]
[{"$f":"VALUE(DINAMICA!$A48)","v":0},{"$f":"VALUE(DINAMICA!$B48)","v":"00:00:00"},{"$f":"VALUE(DINAMICA!$C48)","v":0},{"$f":"DINAMICA!D48","v":0},{"$f":"DINAMICA!E48","v":0},{"$f":"DINAMICA!F48","v":0},{"$f":"DINAMICA!G48","v":0},{"$f":"DINAMICA!H48","v":0},{"$f":"DINAMICA!I48","v":0},{"$f":"DINAMICA!J48","v":0},{"$f":"DINAMICA!K48","v":0},{"$f":"VALUE(DINAMICA!$L48)","v":0},{"$f":"VALUE(DINAMICA!$M48)","v":0},{"$f":"VALUE(DINAMICA!$N48)","v":0},{"$f":"VALUE(DINAMICA!$O48)","v":0},{"$f":"VALUE(DINAMICA!$P48)","v":0},{"$f":"VALUE(DINAMICA!$Q48)","v":0},{"$f":"VALUE(DINAMICA!$R48)","v":0}]
[{"$f":"VALUE(DINAMICA!$A49)","v":0},{"$f":"VALUE(DINAMICA!$B49)","v":"00:00:00"},{"$f":"VALUE(DINAMICA!$C49)","v":0},{"$f":"DINAMICA!D49","v":0},{"$f":"DINAMICA!E49","v":0},{"$f":"DINAMICA!F49","v":0},{"$f":"DINAMICA!G49","v":0},{"$f":"DINAMICA!H49","v":0},{"$f":"DINAMICA!I49","v":0},{"$f":"DINAMICA!J49","v":0},{"$f":"DINAMICA!K49","v":0},{"$f":"VALUE(DINAMICA!$L49)","v":0},{"$f":"VALUE(DINAMICA!$M49)","v":0},{"$f":"VALUE(DINAMICA!$N49)","v":0},{"$f":"VALUE(DINAMICA!$O49)","v":0},{"$f":"VALUE(DINAMICA!$P49)","v":0},{"$f":"VALUE(DINAMICA!$Q49)","v":0},{"$f":"VALUE(DINAMICA!$R49)","v":0}]
[{"$f":"VALUE(DINAMICA!$A50)","v":0},{"$f":"VALUE(DINAMICA!$B50)","v":"00:00:00"},{"$f":"VALUE(DINAMICA!$C50)","v":0},{"$f":"DINAMICA!D50","v":0},{"$f":"DINAMICA!E50","v":0},{"$f":"DINAMICA!F50","v":0},{"$f":"DINAMICA!G50","v":0},{"$f":"DINAMICA!H50","v":0},{"$f":"DINAMICA!I50","v":0},{"$f":"DINAMICA!J50","v":0},{"$f":"DINAMICA!K50","v":0},{"$f":"VALUE(DINAMICA!$L50)","v":0},{"$f":"VALUE(DINAMICA!$M50)","v":0},{"$f":"VALUE(DINAMICA!$N50)","v":0},{"$f":"VALUE(DINAMICA!$O50)","v":0},{"$f":"VALUE(DINAMICA!$P50)","v":0},{"$f":"VALUE(DINAMICA!$Q50)","v":0},{"$f":"VALUE(DINAMICA!$R50)","v":0}]
[{"$f":"VALUE(DINAMICA!$A51)","v":0},{"$f":"VALUE(DINAMICA!$B51)","v":"00:00:00"},{"$f":"VALUE(DINAMICA!$C51)","v":0},{"$f":"DINAMICA!D51","v":0},{"$f":"DINAMICA!E51","v":0},{"$f":"DINAMICA!F51","v":0},{"$f":"DINAMICA!G51","v":0},{"$f":"DINAMICA!H51","v":0},{"$f":"DINAMICA!I51","v":0},{"$f":"DINAMICA!J51","v":0},{"$f":"DINAMICA!K51","v":0},{"$f":"VALUE(DINAMICA!$L51)","v":0},{"$f":"VALUE(DINAMICA!$M51)","v":0},{"$f":"VALUE(DINAMICA!$N51)","v":0},{"$f":"VALUE(DINAMICA!$O51)","v":0},{"$f":"VALUE(DINAMICA!$P51)","v":0},{"$f":"VALUE(DINAMICA!$Q51)","v":0},{"$f":"VALUE(DINAMICA!$R51)","v":0}]
[{"$f":"VALUE(DINAMICA!$A52)","v":0},{"$f":"VALUE(DINAMICA!$B52)","v":"00:00:00"},{"$f":"VALUE(DINAMICA!$C52)","v":0},{"$f":"DINAMICA!D52","v":0},{"$f":"DINAMICA!E52","v":0},{"$f":"DINAMICA!F52","v":0},{"$f":"DINAMICA!G52","v":0},{"$f":"DINAMICA!H52","v":0},{"$f":"DINAMICA!I52","v":0},{"$f":"DINAMICA!J52","v":0},{"$f":"DINAMICA!K52","v":0},{"$f":"VALUE(DINAMICA!$L52)","v":0},{"$f":"VALUE(DINAMICA!$M52)","v":0},{"$f":"VALUE(DINAMICA!$N52)","v":0},{"$f":"VALUE(DINAMICA!$O52)","v":0},{"$f":"VALUE(DINAMICA!$P52)","v":0},{"$f":"VALUE(DINAMICA!$Q52)","v":0},{"$f":"VALUE(DINAMICA!$R52)","v":0}]
[{"$f":"VALUE(DINAMICA!$A53)","v":0},{"$f":"VALUE(DINAMICA!$B53)","v":"00:00:00"},{"$f":"VALUE(DINAMICA!$C53)","v":0},{"$f":"DINAMICA!D53","v":0},{"$f":"DINAMICA!E53","v":0},{"$f":"DINAMICA!F53","v":0},{"$f":"DINAMICA!G53","v":0},{"$f":"DINAMICA!H53","v":0},{"$f":"DINAMICA!I53","v":0},{"$f":"DINAMICA!J53","v":0},{"$f":"DINAMICA!K53","v":0},{"$f":"VALUE(DINAMICA!$L53)","v":0},{"$f":"VALUE(DINAMICA!$M53)","v":0},{"$f":"VALUE(DINAMICA!$N53)","v":0},{"$f":"VALUE(DINAMICA!$O53)","v":0},{"$f":"VALUE(DINAMICA!$P53)","v":0},{"$f":"VALUE(DINAMICA!$Q53)","v":0},{"$f":"VALUE(DINAMICA!$R53)","v":0}]
[{"$f":"VALUE(DINAMICA!$A54)","v":0},{"$f":"VALUE(DINAMICA!$B54)","v":"00:00:00"},{"$f":"VALUE(DINAMICA!$C54)","v":0},{"$f":"DINAMICA!D54","v":0},{"$f":"DINAMICA!E54","v":0},{"$f":"DINAMICA!F54","v":0},{"$f":"DINAMICA!G54","v":0},{"$f":"DINAMICA!H54","v":0},{"$f":"DINAMICA!I54","v":0},{"$f":"DINAMICA!J54","v":0},{"$f":"DINAMICA!K54","v":0},{"$f":"VALUE(DINAMICA!$L54)","v":0},{"$f":"VALUE(DINAMICA!$M54)","v":0},{"$f":"VALUE(DINAMICA!$N54)","v":0},{"$f":"VALUE(DINAMICA!$O54)","v":0},{"$f":"VALUE(DINAMICA!$P54)","v":0},{"$f":"VALUE(DINAMICA!$Q54)","v":0},{"$f":"VALUE(DINAMICA!$R54)","v":0}]
[{"$f":"VALUE(DINAMICA!$A55)","v":0},{"$f":"VALUE(DINAMICA!$B55)","v":"00:00:00"},{"$f":"VALUE(DINAMICA!$C55)","v":0},{"$f":"DINAMICA!D55","v":0},{"$f":"DINAMICA!E55","v":0},{"$f":"DINAMICA!F55","v":0},{"$f":"DINAMICA!G55","v":0},{"$f":"DINAMICA!H55","v":0},{"$f":"DINAMICA!I55","v":0},{"$f":"DINAMICA!J55","v":0},{"$f":"DINAMICA!K55","v":0},{"$f":"VALUE(DINAMICA!$L55)","v":0},{"$f":"VALUE(DINAMICA!$M55)","v":0},{"$f":"VALUE(DINAMICA!$N55)","v":0},{"$f":"VALUE(DINAMICA!$O55)","v":0},{"$f":"VALUE(DINAMICA!$P55)","v":0},{"$f":"VALUE(DINAMICA!$Q55)","v":0},{"$f":"VALUE(DINAMICA!$R55)","v":0}]
[{"$f":"VALUE(DINAMICA!$A56)","v":0},{"$f":"VALUE(DINAMICA!$B56)","v":"00:00:00"},{"$f":"VALUE(DINAMICA!$C56)","v":0},{"$f":"DINAMICA!D56","v":0},{"$f":"DINAMICA!E56","v":0},{"$f":"DINAMICA!F56","v":0},{"$f":"DINAMICA!G56","v":0},{"$f":"DINAMICA!H56","v":0},{"$f":"DINAMICA!I56","v":0},{"$f":"DINAMICA!J56","v":0},{"$f":"DINAMICA!K56","v":0},{"$f":"VALUE(DINAMICA!$L56)","v":0},{"$f":"VALUE(DINAMICA!$M56)","v":0},{"$f":"VALUE(DINAMICA!$N56)","v":0},{"$f":"VALUE(DINAMICA!$O56)","v":0},{"$f":"VALUE(DINAMICA!$P56)","v":0},{"$f":"VALUE(DINAMICA!$Q56)","v":0},{"$f":"VALUE(DINAMICA!$R56)","v":0}]
[{"$f":"VALUE(DINAMICA!$A57)","v":0},{"$f":"VALUE(DINAMICA!$B57)","v":"00:00:00"},{"$f":"VALUE(DINAMICA!$C57)","v":0},{"$f":"DINAMICA!D57","v":0},{"$f":"DINAMICA!E57","v":0},{"$f":"DINAMICA!F57","v":0},{"$f":"DINAMICA!G57","v":0},{"$f":"DINAMICA!H57","v":0},{"$f":"DINAMICA!I57","v":0},{"$f":"DINAMICA!J57","v":0},{"$f":"DINAMICA!K57","v":0},{"$f":"VALUE(DINAMICA!$L57)","v":0},{"$f":"VALUE(DINAMICA!$M57)","v":0},{"$f":"VALUE(DINAMICA!$N57)","v":0},{"$f":"VALUE(DINAMICA!$O57)","v":0},{"$f":"VALUE(DINAMICA!$P57)","v":0},{"$f":"VALUE(DINAMICA!$Q57)","v":0},{"$f":"VALUE(DINAMICA!$R57)","v":0}]
[{"$f":"VALUE(DINAMICA!$A58)","v":0},{"$f":"VALUE(DINAMICA!$B58)","v":"00:00:00"},{"$f":"VALUE(DINAMICA!$C58)","v":0},{"$f":"DINAMICA!D58","v":0},{"$f":"DINAMICA!E58","v":0},{"$f":"DINAMICA!F58","v":0},{"$f":"DINAMICA!G58","v":0},{"$f":"DINAMICA!H58","v":0},{"$f":"DINAMICA!I58","v":0},{"$f":"DINAMICA!J58","v":0},{"$f":"DINAMICA!K58","v":0},{"$f":"VALUE(DINAMICA!$L58)","v":0},{"$f":"VALUE(DINAMICA!$M58)","v":0},{"$f":"VALUE(DINAMICA!$N58)","v":0},{"$f":"VALUE(DINAMICA!$O58)","v":0},{"$f":"VALUE(DINAMICA!$P58)","v":0},{"$f":"VALUE(DINAMICA!$Q58)","v":0},{"$f":"VALUE(DINAMICA!$R58)","v":0}]
[{"$f":"VALUE(DINAMICA!$A59)","v":0},{"$f":"VALUE(DINAMICA!$B59)","v":"00:00:00"},{"$f":"VALUE(DINAMICA!$C59)","v":0},{"$f":"DINAMICA!D59","v":0},{"$f":"DINAMICA!E59","v":0},{"$f":"DINAMICA!F59","v":0},{"$f":"DINAMICA!G59","v":0},{"$f":"DINAMICA!H59","v":0},{"$f":"DINAMICA!I59","v":0},{"$f":"DINAMICA!J59","v":0},{"$f":"DINAMICA!K59","v":0},{"$f":"VALUE(DINAMICA!$L59)","v":0},{"$f":"VALUE(DINAMICA!$M59)","v":0},{"$f":"VALUE(DINAMICA!$N59)","v":0},{"$f":"VALUE(DINAMICA!$O59)","v":0},{"$f":"VALUE(DINAMICA!$P59)","v":0},{"$f":"VALUE(DINAMICA!$Q59)","v":0},{"$f":"VALUE(DINAMICA!$R59)","v":0}]
[{"$f":"VALUE(DINAMICA!$A60)","v":0},{"$f":"VALUE(DINAMICA!$B60)","v":"00:00:00"},{"$f":"VALUE(DINAMICA!$C60)","v":0},{"$f":"DINAMICA!D60","v":0},{"$f":"DINAMICA!E60","v":0},{"$f":"DINAMICA!F60","v":0},{"$f":"DINAMICA!G60","v":0},{"$f":"DINAMICA!H60","v":0},{"$f":"DINAMICA!I60","v":0},{"$f":"DINAMICA!J60","v":0},{"$f":"DINAMICA!K60","v":0},{"$f":"VALUE(DINAMICA!$L60)","v":0},{"$f":"VALUE(DINAMICA!$M60)","v":0},{"$f":"VALUE(DINAMICA!$N60)","v":0},{"$f":"VALUE(DINAMICA!$O60)","v":0},{"$f":"VALUE(DINAMICA!$P60)","v":0},{"$f":"VALUE(DINAMICA!$Q60)","v":0},{"$f":"VALUE(DINAMICA!$R60)","v":0}]
[{"$f":"VALUE(DINAMICA!$A61)","v":0},{"$f":"VALUE(DINAMICA!$B61)","v":"00:00:00"},{"$f":"VALUE(DINAMICA!$C61)","v":0},{"$f":"DINAMICA!D61","v":0},{"$f":"DINAMICA!E61","v":0},{"$f":"DINAMICA!F61","v":0},{"$f":"DINAMICA!G61","v":0},{"$f":"DINAMICA!H61","v":0},{"$f":"DINAMICA!I61","v":0},{"$f":"DINAMICA!J61","v":0},{"$f":"DINAMICA!K61","v":0},{"$f":"VALUE(DINAMICA!$L61)","v":0},{"$f":"VALUE(DINAMICA!$M61)","v":0},{"$f":"VALUE(DINAMICA!$N61)","v":0},{"$f":"VALUE(DINAMICA!$O61)","v":0},{"$f":"VALUE(DINAMICA!$P61)","v":0},{"$f":"VALUE(DINAMICA!$Q61)","v":0},{"$f":"VALUE(DINAMICA!$R61)","v":0}]
[{"$f":"VALUE(DINAMICA!$A62)","v":0},{"$f":"VALUE(DINAMICA!$B62)","v":"00:00:00"},{"$f":"VALUE(DINAMICA!$C62)","v":0},{"$f":"DINAMICA!D62","v":0},{"$f":"DINAMICA!E62","v":0},{"$f":"DINAMICA!F62","v":0},{"$f":"DINAMICA!G62","v":0},{"$f":"DINAMICA!H62","v":0},{"$f":"DINAMICA!I62","v":0},{"$f":"DINAMICA!J62","v":0},{"$f":"DINAMICA!K62","v":0},{"$f":"VALUE(DINAMICA!$L62)","v":0},{"$f":"VALUE(DINAMICA!$M62)","v":0},{"$f":"VALUE(DINAMICA!$N62)","v":0},{"$f":"VALUE(DINAMICA!$O62)","v":0},{"$f":"VALUE(DINAMICA!$P62)","v":0},{"$f":"VALUE(DINAMICA!$Q62)","v":0},{"$f":"VALUE(DINAMICA!$R62)","v":0}]
[{"$f":"VALUE(DINAMICA!$A63)","v":0},{"$f":"VALUE(DINAMICA!$B63)","v":"00:00:00"},{"$f":"VALUE(DINAMICA!$C63)","v":0},{"$f":"DINAMICA!D63","v":0},{"$f":"DINAMICA!E63","v":0},{"$f":"DINAMICA!F63","v":0},{"$f":"DINAMICA!G63","v":0},{"$f":"DINAMICA!H63","v":0},{"$f":"DINAMICA!I63","v":0},{"$f":"DINAMICA!J63","v":0},{"$f":"DINAMICA!K63","v":0},{"$f":"VALUE(DINAMICA!$L63)","v":0},{"$f":"VALUE(DINAMICA!$M63)","v":0},{"$f":"VALUE(DINAMICA!$N63)","v":0},{"$f":"VALUE(DINAMICA!$O63)","v":0},{"$f":"VALUE(DINAMICA!$P63)","v":0},{"$f":"VALUE(DINAMICA!$Q63)","v":0},{"$f":"VALUE(DINAMICA!$R63)","v":0}]
[{"$f":"VALUE(DINAMICA!$A64)","v":0},{"$f":"VALUE(DINAMICA!$B64)","v":"00:00:00"},{"$f":"VALUE(DINAMICA!$C64)","v":0},{"$f":"DINAMICA!D64","v":0},{"$f":"DINAMICA!E64","v":0},{"$f":"DINAMICA!F64","v":0},{"$f":"DINAMICA!G64","v":0},{"$f":"DINAMICA!H64","v":0},{"$f":"DINAMICA!I64","v":0},{"$f":"DINAMICA!J64","v":0},{"$f":"DINAMICA!K64","v":0},{"$f":"VALUE(DINAMICA!$L64)","v":0},{"$f":"VALUE(DINAMICA!$M64)","v":0},{"$f":"VALUE(DINAMICA!$N64)","v":0},{"$f":"VALUE(DINAMICA!$O64)","v":0},{"$f":"VALUE(DINAMICA!$P64)","v":0},{"$f":"VALUE(DINAMICA!$Q64)","v":0},{"$f":"VALUE(DINAMICA!$R64)","v":0}]
[{"$f":"VALUE(DINAMICA!$A65)","v":0},{"$f":"VALUE(DINAMICA!$B65)","v":"00:00:00"},{"$f":"VALUE(DINAMICA!$C65)","v":0},{"$f":"DINAMICA!D65","v":0},{"$f":"DINAMICA!E65","v":0},{"$f":"DINAMICA!F65","v":0},{"$f":"DINAMICA!G65","v":0},{"$f":"DINAMICA!H65","v":0},{"$f":"DINAMICA!I65","v":0},{"$f":"DINAMICA!J65","v":0},{"$f":"DINAMICA!K65","v":0},{"$f":"VALUE(DINAMICA!$L65)","v":0},{"$f":"VALUE(DINAMICA!$M65)","v":0},{"$f":"VALUE(DINAMICA!$N65)","v":0},{"$f":"VALUE(DINAMICA!$O65)","v":0},{"$f":"VALUE(DINAMICA!$P65)","v":0},{"$f":"VALUE(DINAMICA!$Q65)","v":0},{"$f":"VALUE(DINAMICA!$R65)","v":0}]
[{"$f":"VALUE(DINAMICA!$A66)","v":0},{"$f":"VALUE(DINAMICA!$B66)","v":"00:00:00"},{"$f":"VALUE(DINAMICA!$C66)","v":0},{"$f":"DINAMICA!D66","v":0},{"$f":"DINAMICA!E66","v":0},{"$f":"DINAMICA!F66","v":0},{"$f":"DINAMICA!G66","v":0},{"$f":"DINAMICA!H66","v":0},{"$f":"DINAMICA!I66","v":0},{"$f":"DINAMICA!J66","v":0},{"$f":"DINAMICA!K66","v":0},{"$f":"VALUE(DINAMICA!$L66)","v":0},{"$f":"VALUE(DINAMICA!$M66)","v":0},{"$f":"VALUE(DINAMICA!$N66)","v":0},{"$f":"VALUE(DINAMICA!$O66)","v":0},{"$f":"VALUE(DINAMICA!$P66)","v":0},{"$f":"VALUE(DINAMICA!$Q66)","v":0},{"$f":"VALUE(DINAMICA!$R66)","v":0}]
[{"$f":"VALUE(DINAMICA!$A67)","v":0},{"$f":"VALUE(DINAMICA!$B67)","v":"00:00:00"},{"$f":"VALUE(DINAMICA!$C67)","v":0},{"$f":"DINAMICA!D67","v":0},{"$f":"DINAMICA!E67","v":0},{"$f":"DINAMICA!F67","v":0},{"$f":"DINAMICA!G67","v":0},{"$f":"DINAMICA!H67","v":0},{"$f":"DINAMICA!I67","v":0},{"$f":"DINAMICA!J67","v":0},{"$f":"DINAMICA!K67","v":0},{"$f":"VALUE(DINAMICA!$L67)","v":0},{"$f":"VALUE(DINAMICA!$M67)","v":0},{"$f":"VALUE(DINAMICA!$N67)","v":0},{"$f":"VALUE(DINAMICA!$O67)","v":0},{"$f":"VALUE(DINAMICA!$P67)","v":0},{"$f":"VALUE(DINAMICA!$Q67)","v":0},{"$f":"VALUE(DINAMICA!$R67)","v":0}]
[{"$f":"VALUE(DINAMICA!$A68)","v":0},{"$f":"VALUE(DINAMICA!$B68)","v":"00:00:00"},{"$f":"VALUE(DINAMICA!$C68)","v":0},{"$f":"DINAMICA!D68","v":0},{"$f":"DINAMICA!E68","v":0},{"$f":"DINAMICA!F68","v":0},{"$f":"DINAMICA!G68","v":0},{"$f":"DINAMICA!H68","v":0},{"$f":"DINAMICA!I68","v":0},{"$f":"DINAMICA!J68","v":0},{"$f":"DINAMICA!K68","v":0},{"$f":"VALUE(DINAMICA!$L68)","v":0},{"$f":"VALUE(DINAMICA!$M68)","v":0},{"$f":"VALUE(DINAMICA!$N68)","v":0},{"$f":"VALUE(DINAMICA!$O68)","v":0},{"$f":"VALUE(DINAMICA!$P68)","v":0},{"$f":"VALUE(DINAMICA!$Q68)","v":0},{"$f":"VALUE(DINAMICA!$R68)","v":0}]
[{"$f":"VALUE(DINAMICA!$A69)","v":0},{"$f":"VALUE(DINAMICA!$B69)","v":"00:00:00"},{"$f":"VALUE(DINAMICA!$C69)","v":0},{"$f":"DINAMICA!D69","v":0},{"$f":"DINAMICA!E69","v":0},{"$f":"DINAMICA!F69","v":0},{"$f":"DINAMICA!G69","v":0},{"$f":"DINAMICA!H69","v":0},{"$f":"DINAMICA!I69","v":0},{"$f":"DINAMICA!J69","v":0},{"$f":"DINAMICA!K69","v":0},{"$f":"VALUE(DINAMICA!$L69)","v":0},{"$f":"VALUE(DINAMICA!$M69)","v":0},{"$f":"VALUE(DINAMICA!$N69)","v":0},{"$f":"VALUE(DINAMICA!$O69)","v":0},{"$f":"VALUE(DINAMICA!$P69)","v":0},{"$f":"VALUE(DINAMICA!$Q69)","v":0},{"$f":"VALUE(DINAMICA!$R69)","v":0}]
[{"$f":"VALUE(DINAMICA!$A70)","v":0},{"$f":"VALUE(DINAMICA!$B70)","v":"00:00:00"},{"$f":"VALUE(DINAMICA!$C70)","v":0},{"$f":"DINAMICA!D70","v":0},{"$f":"DINAMICA!E70","v":0},{"$f":"DINAMICA!F70","v":0},{"$f":"DINAMICA!G70","v":0},{"$f":"DINAMICA!H70","v":0},{"$f":"DINAMICA!I70","v":0},{"$f":"DINAMICA!J70","v":0},{"$f":"DINAMICA!K70","v":0},{"$f":"VALUE(DINAMICA!$L70)","v":0},{"$f":"VALUE(DINAMICA!$M70)","v":0},{"$f":"VALUE(DINAMICA!$N70)","v":0},{"$f":"VALUE(DINAMICA!$O70)","v":0},{"$f":"VALUE(DINAMICA!$P70)","v":0},{"$f":"VALUE(DINAMICA!$Q70)","v":0},{"$f":"VALUE(DINAMICA!$R70)","v":0}]
[{"$f":"VALUE(DINAMICA!$A71)","v":0},{"$f":"VALUE(DINAMICA!$B71)","v":"00:00:00"},{"$f":"VALUE(DINAMICA!$C71)","v":0},{"$f":"DINAMICA!D71","v":0},{"$f":"DINAMICA!E71","v":0},{"$f":"DINAMICA!F71","v":0},{"$f":"DINAMICA!G71","v":0},{"$f":"DINAMICA!H71","v":0},{"$f":"DINAMICA!I71","v":0},{"$f":"DINAMICA!J71","v":0},{"$f":"DINAMICA!K71","v":0},{"$f":"VALUE(DINAMICA!$L71)","v":0},{"$f":"VALUE(DINAMICA!$M71)","v":0},{"$f":"VALUE(DINAMICA!$N71)","v":0},{"$f":"VALUE(DINAMICA!$O71)","v":0},{"$f":"VALUE(DINAMICA!$P71)","v":0},{"$f":"VALUE(DINAMICA!$Q71)","v":0},{"$f":"VALUE(DINAMICA!$R71)","v":0}]
[{"$f":"VALUE(DINAMICA!$A72)","v":0},{"$f":"VALUE(DINAMICA!$B72)","v":"00:00:00"},{"$f":"VALUE(DINAMICA!$C72)","v":0},{"$f":"DINAMICA!D72","v":0},{"$f":"DINAMICA!E72","v":0},{"$f":"DINAMICA!F72","v":0},{"$f":"DINAMICA!G72","v":0},{"$f":"DINAMICA!H72","v":0},{"$f":"DINAMICA!I72","v":0},{"$f":"DINAMICA!J72","v":0},{"$f":"DINAMICA!K72","v":0},{"$f":"VALUE(DINAMICA!$L72)","v":0},{"$f":"VALUE(DINAMICA!$M72)","v":0},{"$f":"VALUE(DINAMICA!$N72)","v":0},{"$f":"VALUE(DINAMICA!$O72)","v":0},{"$f":"VALUE(DINAMICA!$P72)","v":0},{"$f":"VALUE(DINAMICA!$Q72)","v":0},{"$f":"VALUE(DINAMICA!$R72)","v":0}]
[{"$f":"VALUE(DINAMICA!$A73)","v":0},{"$f":"VALUE(DINAMICA!$B73)","v":"00:00:00"},{"$f":"VALUE(DINAMICA!$C73)","v":0},{"$f":"DINAMICA!D73","v":0},{"$f":"DINAMICA!E73","v":0},{"$f":"DINAMICA!F73","v":0},{"$f":"DINAMICA!G73","v":0},{"$f":"DINAMICA!H73","v":0},{"$f":"DINAMICA!I73","v":0},{"$f":"DINAMICA!J73","v":0},{"$f":"DINAMICA!K73","v":0},{"$f":"VALUE(DINAMICA!$L73)","v":0},{"$f":"VALUE(DINAMICA!$M73)","v":0},{"$f":"VALUE(DINAMICA!$N73)","v":0},{"$f":"VALUE(DINAMICA!$O73)","v":0},{"$f":"VALUE(DINAMICA!$P73)","v":0},{"$f":"VALUE(DINAMICA!$Q73)","v":0},{"$f":"VALUE(DINAMICA!$R73)","v":0}]
[{"$f":"VALUE(DINAMICA!$A74)","v":0},{"$f":"VALUE(DINAMICA!$B74)","v":"00:00:00"},{"$f":"VALUE(DINAMICA!$C74)","v":0},{"$f":"DINAMICA!D74","v":0},{"$f":"DINAMICA!E74","v":0},{"$f":"DINAMICA!F74","v":0},{"$f":"DINAMICA!G74","v":0},{"$f":"DINAMICA!H74","v":0},{"$f":"DINAMICA!I74","v":0},{"$f":"DINAMICA!J74","v":0},{"$f":"DINAMICA!K74","v":0},{"$f":"VALUE(DINAMICA!$L74)","v":0},{"$f":"VALUE(DINAMICA!$M74)","v":0},{"$f":"VALUE(DINAMICA!$N74)","v":0},{"$f":"VALUE(DINAMICA!$O74)","v":0},{"$f":"VALUE(DINAMICA!$P74)","v":0},{"$f":"VALUE(DINAMICA!$Q74)","v":0},{"$f":"VALUE(DINAMICA!$R74)","v":0}]
[{"$f":"VALUE(DINAMICA!$A75)","v":0},{"$f":"VALUE(DINAMICA!$B75)","v":"00:00:00"},{"$f":"VALUE(DINAMICA!$C75)","v":0},{"$f":"DINAMICA!D75","v":0},{"$f":"DINAMICA!E75","v":0},{"$f":"DINAMICA!F75","v":0},{"$f":"DINAMICA!G75","v":0},{"$f":"DINAMICA!H75","v":0},{"$f":"DINAMICA!I75","v":0},{"$f":"DINAMICA!J75","v":0},{"$f":"DINAMICA!K75","v":0},{"$f":"VALUE(DINAMICA!$L75)","v":0},{"$f":"VALUE(DINAMICA!$M75)","v":0},{"$f":"VALUE(DINAMICA!$N75)","v":0},{"$f":"VALUE(DINAMICA!$O75)","v":0},{"$f":"VALUE(DINAMICA!$P75)","v":0},{"$f":"VALUE(DINAMICA!$Q75)","v":0},{"$f":"VALUE(DINAMICA!$R75)","v":0}]
[{"$f":"VALUE(DINAMICA!$A76)","v":0},{"$f":"VALUE(DINAMICA!$B76)","v":"00:00:00"},{"$f":"VALUE(DINAMICA!$C76)","v":0},{"$f":"DINAMICA!D76","v":0},{"$f":"DINAMICA!E76","v":0},{"$f":"DINAMICA!F76","v":0},{"$f":"DINAMICA!G76","v":0},{"$f":"DINAMICA!H76","v":0},{"$f":"DINAMICA!I76","v":0},{"$f":"DINAMICA!J76","v":0},{"$f":"DINAMICA!K76","v":0},{"$f":"VALUE(DINAMICA!$L76)","v":0},{"$f":"VALUE(DINAMICA!$M76)","v":0},{"$f":"VALUE(DINAMICA!$N76)","v":0},{"$f":"VALUE(DINAMICA!$O76)","v":0},{"$f":"VALUE(DINAMICA!$P76)","v":0},{"$f":"VALUE(DINAMICA!$Q76)","v":0},{"$f":"VALUE(DINAMICA!$R76)","v":0}]
[{"$f":"VALUE(DINAMICA!$A77)","v":0},{"$f":"VALUE(DINAMICA!$B77)","v":"00:00:00"},{"$f":"VALUE(DINAMICA!$C77)","v":0},{"$f":"DINAMICA!D77","v":0},{"$f":"DINAMICA!E77","v":0},{"$f":"DINAMICA!F77","v":0},{"$f":"DINAMICA!G77","v":0},{"$f":"DINAMICA!H77","v":0},{"$f":"DINAMICA!I77","v":0},{"$f":"DINAMICA!J77","v":0},{"$f":"DINAMICA!K77","v":0},{"$f":"VALUE(DINAMICA!$L77)","v":0},{"$f":"VALUE(DINAMICA!$M77)","v":0},{"$f":"VALUE(DINAMICA!$N77)","v":0},{"$f":"VALUE(DINAMICA!$O77)","v":0},{"$f":"VALUE(DINAMICA!$P77)","v":0},{"$f":"VALUE(DINAMICA!$Q77)","v":0},{"$f":"VALUE(DINAMICA!$R77)","v":0}]
[{"$f":"VALUE(DINAMICA!$A78)","v":0},{"$f":"VALUE(DINAMICA!$B78)","v":"00:00:00"},{"$f":"VALUE(DINAMICA!$C78)","v":0},{"$f":"DINAMICA!D78","v":0},{"$f":"DINAMICA!E78","v":0},{"$f":"DINAMICA!F78","v":0},{"$f":"DINAMICA!G78","v":0},{"$f":"DINAMICA!H78","v":0},{"$f":"DINAMICA!I78","v":0},{"$f":"DINAMICA!J78","v":0},{"$f":"DINAMICA!K78","v":0},{"$f":"VALUE(DINAMICA!$L78)","v":0},{"$f":"VALUE(DINAMICA!$M78)","v":0},{"$f":"VALUE(DINAMICA!$N78)","v":0},{"$f":"VALUE(DINAMICA!$O78)","v":0},{"$f":"VALUE(DINAMICA!$P78)","v":0},{"$f":"VALUE(DINAMICA!$Q78)","v":0},{"$f":"VALUE(DINAMICA!$R78)","v":0}]
[{"$f":"VALUE(DINAMICA!$A79)","v":0},{"$f":"VALUE(DINAMICA!$B79)","v":"00:00:00"},{"$f":"VALUE(DINAMICA!$C79)","v":0},{"$f":"DINAMICA!D79","v":0},{"$f":"DINAMICA!E79","v":0},{"$f":"DINAMICA!F79","v":0},{"$f":"DINAMICA!G79","v":0},{"$f":"DINAMICA!H79","v":0},{"$f":"DINAMICA!I79","v":0},{"$f":"DINAMICA!J79","v":0},{"$f":"DINAMICA!K79","v":0},{"$f":"VALUE(DINAMICA!$L79)","v":0},{"$f":"VALUE(DINAMICA!$M79)","v":0},{"$f":"VALUE(DINAMICA!$N79)","v":0},{"$f":"VALUE(DINAMICA!$O79)","v":0},{"$f":"VALUE(DINAMICA!$P79)","v":0},{"$f":"VALUE(DINAMICA!$Q79)","v":0},{"$f":"VALUE(DINAMICA!$R79)","v":0}]
[{"$f":"VALUE(DINAMICA!$A80)","v":0},{"$f":"VALUE(DINAMICA!$B80)","v":"00:00:00"},{"$f":"VALUE(DINAMICA!$C80)","v":0},{"$f":"DINAMICA!D80","v":0},{"$f":"DINAMICA!E80","v":0},{"$f":"DINAMICA!F80","v":0},{"$f":"DINAMICA!G80","v":0},{"$f":"DINAMICA!H80","v":0},{"$f":"DINAMICA!I80","v":0},{"$f":"DINAMICA!J80","v":0},{"$f":"DINAMICA!K80","v":0},{"$f":"VALUE(DINAMICA!$L80)","v":0},{"$f":"VALUE(DINAMICA!$M80)","v":0},{"$f":"VALUE(DINAMICA!$N80)","v":0},{"$f":"VALUE(DINAMICA!$O80)","v":0},{"$f":"VALUE(DINAMICA!$P80)","v":0},{"$f":"VALUE(DINAMICA!$Q80)","v":0},{"$f":"VALUE(DINAMICA!$R80)","v":0}]
[{"$f":"VALUE(DINAMICA!$A81)","v":0},{"$f":"VALUE(DINAMICA!$B81)","v":"00:00:00"},{"$f":"VALUE(DINAMICA!$C81)","v":0},{"$f":"DINAMICA!D81","v":0},{"$f":"DINAMICA!E81","v":0},{"$f":"DINAMICA!F81","v":0},{"$f":"DINAMICA!G81","v":0},{"$f":"DINAMICA!H81","v":0},{"$f":"DINAMICA!I81","v":0},{"$f":"DINAMICA!J81","v":0},{"$f":"DINAMICA!K81","v":0},{"$f":"VALUE(DINAMICA!$L81)","v":0},{"$f":"VALUE(DINAMICA!$M81)","v":0},{"$f":"VALUE(DINAMICA!$N81)","v":0},{"$f":"VALUE(DINAMICA!$O81)","v":0},{"$f":"VALUE(DINAMICA!$P81)","v":0},{"$f":"VALUE(DINAMICA!$Q81)","v":0},{"$f":"VALUE(DINAMICA!$R81)","v":0}]
[{"$f":"VALUE(DINAMICA!$A82)","v":0},{"$f":"VALUE(DINAMICA!$B82)","v":"00:00:00"},{"$f":"VALUE(DINAMICA!$C82)","v":0},{"$f":"DINAMICA!D82","v":0},{"$f":"DINAMICA!E82","v":0},{"$f":"DINAMICA!F82","v":0},{"$f":"DINAMICA!G82","v":0},{"$f":"DINAMICA!H82","v":0},{"$f":"DINAMICA!I82","v":0},{"$f":"DINAMICA!J82","v":0},{"$f":"DINAMICA!K82","v":0},{"$f":"VALUE(DINAMICA!$L82)","v":0},{"$f":"VALUE(DINAMICA!$M82)","v":0},{"$f":"VALUE(DINAMICA!$N82)","v":0},{"$f":"VALUE(DINAMICA!$O82)","v":0},{"$f":"VALUE(DINAMICA!$P82)","v":0},{"$f":"VALUE(DINAMICA!$Q82)","v":0},{"$f":"VALUE(DINAMICA!$R82)","v":0}]
[{"$f":"VALUE(DINAMICA!$A83)","v":0},{"$f":"VALUE(DINAMICA!$B83)","v":"00:00:00"},{"$f":"VALUE(DINAMICA!$C83)","v":0},{"$f":"DINAMICA!D83","v":0},{"$f":"DINAMICA!E83","v":0},{"$f":"DINAMICA!F83","v":0},{"$f":"DINAMICA!G83","v":0},{"$f":"DINAMICA!H83","v":0},{"$f":"DINAMICA!I83","v":0},{"$f":"DINAMICA!J83","v":0},{"$f":"DINAMICA!K83","v":0},{"$f":"VALUE(DINAMICA!$L83)","v":0},{"$f":"VALUE(DINAMICA!$M83)","v":0},{"$f":"VALUE(DINAMICA!$N83)","v":0},{"$f":"VALUE(DINAMICA!$O83)","v":0},{"$f":"VALUE(DINAMICA!$P83)","v":0},{"$f":"VALUE(DINAMICA!$Q83)","v":0},{"$f":"VALUE(DINAMICA!$R83)","v":0}]
[{"$f":"VALUE(DINAMICA!$A84)","v":0},{"$f":"VALUE(DINAMICA!$B84)","v":"00:00:00"},{"$f":"VALUE(DINAMICA!$C84)","v":0},{"$f":"DINAMICA!D84","v":0},{"$f":"DINAMICA!E84","v":0},{"$f":"DINAMICA!F84","v":0},{"$f":"DINAMICA!G84","v":0},{"$f":"DINAMICA!H84","v":0},{"$f":"DINAMICA!I84","v":0},{"$f":"DINAMICA!J84","v":0},{"$f":"DINAMICA!K84","v":0},{"$f":"VALUE(DINAMICA!$L84)","v":0},{"$f":"VALUE(DINAMICA!$M84)","v":0},{"$f":"VALUE(DINAMICA!$N84)","v":0},{"$f":"VALUE(DINAMICA!$O84)","v":0},{"$f":"VALUE(DINAMICA!$P84)","v":0},{"$f":"VALUE(DINAMICA!$Q84)","v":0},{"$f":"VALUE(DINAMICA!$R84)","v":0}]
[{"$f":"VALUE(DINAMICA!$A85)","v":0},{"$f":"VALUE(DINAMICA!$B85)","v":"00:00:00"},{"$f":"VALUE(DINAMICA!$C85)","v":0},{"$f":"DINAMICA!D85","v":0},{"$f":"DINAMICA!E85","v":0},{"$f":"DINAMICA!F85","v":0},{"$f":"DINAMICA!G85","v":0},{"$f":"DINAMICA!H85","v":0},{"$f":"DINAMICA!I85","v":0},{"$f":"DINAMICA!J85","v":0},{"$f":"DINAMICA!K85","v":0},{"$f":"VALUE(DINAMICA!$L85)","v":0},{"$f":"VALUE(DINAMICA!$M85)","v":0},{"$f":"VALUE(DINAMICA!$N85)","v":0},{"$f":"VALUE(DINAMICA!$O85)","v":0},{"$f":"VALUE(DINAMICA!$P85)","v":0},{"$f":"VALUE(DINAMICA!$Q85)","v":0},{"$f":"VALUE(DINAMICA!$R85)","v":0}]
[{"$f":"VALUE(DINAMICA!$A86)","v":0},{"$f":"VALUE(DINAMICA!$B86)","v":"00:00:00"},{"$f":"VALUE(DINAMICA!$C86)","v":0},{"$f":"DINAMICA!D86","v":0},{"$f":"DINAMICA!E86","v":0},{"$f":"DINAMICA!F86","v":0},{"$f":"DINAMICA!G86","v":0},{"$f":"DINAMICA!H86","v":0},{"$f":"DINAMICA!I86","v":0},{"$f":"DINAMICA!J86","v":0},{"$f":"DINAMICA!K86","v":0},{"$f":"VALUE(DINAMICA!$L86)","v":0},{"$f":"VALUE(DINAMICA!$M86)","v":0},{"$f":"VALUE(DINAMICA!$N86)","v":0},{"$f":"VALUE(DINAMICA!$O86)","v":0},{"$f":"VALUE(DINAMICA!$P86)","v":0},{"$f":"VALUE(DINAMICA!$Q86)","v":0},{"$f":"VALUE(DINAMICA!$R86)","v":0}]
[{"$f":"VALUE(DINAMICA!$A87)","v":0},{"$f":"VALUE(DINAMICA!$B87)","v":"00:00:00"},{"$f":"VALUE(DINAMICA!$C87)","v":0},{"$f":"DINAMICA!D87","v":0},{"$f":"DINAMICA!E87","v":0},{"$f":"DINAMICA!F87","v":0},{"$f":"DINAMICA!G87","v":0},{"$f":"DINAMICA!H87","v":0},{"$f":"DINAMICA!I87","v":0},{"$f":"DINAMICA!J87","v":0},{"$f":"DINAMICA!K87","v":0},{"$f":"VALUE(DINAMICA!$L87)","v":0},{"$f":"VALUE(DINAMICA!$M87)","v":0},{"$f":"VALUE(DINAMICA!$N87)","v":0},{"$f":"VALUE(DINAMICA!$O87)","v":0},{"$f":"VALUE(DINAMICA!$P87)","v":0},{"$f":"VALUE(DINAMICA!$Q87)","v":0},{"$f":"VALUE(DINAMICA!$R87)","v":0}]
[{"$f":"VALUE(DINAMICA!$A88)","v":0},{"$f":"VALUE(DINAMICA!$B88)","v":"00:00:00"},{"$f":"VALUE(DINAMICA!$C88)","v":0},{"$f":"DINAMICA!D88","v":0},{"$f":"DINAMICA!E88","v":0},{"$f":"DINAMICA!F88","v":0},{"$f":"DINAMICA!G88","v":0},{"$f":"DINAMICA!H88","v":0},{"$f":"DINAMICA!I88","v":0},{"$f":"DINAMICA!J88","v":0},{"$f":"DINAMICA!K88","v":0},{"$f":"VALUE(DINAMICA!$L88)","v":0},{"$f":"VALUE(DINAMICA!$M88)","v":0},{"$f":"VALUE(DINAMICA!$N88)","v":0},{"$f":"VALUE(DINAMICA!$O88)","v":0},{"$f":"VALUE(DINAMICA!$P88)","v":0},{"$f":"VALUE(DINAMICA!$Q88)","v":0},{"$f":"VALUE(DINAMICA!$R88)","v":0}]
[{"$f":"VALUE(DINAMICA!$A89)","v":0},{"$f":"VALUE(DINAMICA!$B89)","v":"00:00:00"},{"$f":"VALUE(DINAMICA!$C89)","v":0},{"$f":"DINAMICA!D89","v":0},{"$f":"DINAMICA!E89","v":0},{"$f":"DINAMICA!F89","v":0},{"$f":"DINAMICA!G89","v":0},{"$f":"DINAMICA!H89","v":0},{"$f":"DINAMICA!I89","v":0},{"$f":"DINAMICA!J89","v":0},{"$f":"DINAMICA!K89","v":0},{"$f":"VALUE(DINAMICA!$L89)","v":0},{"$f":"VALUE(DINAMICA!$M89)","v":0},{"$f":"VALUE(DINAMICA!$N89)","v":0},{"$f":"VALUE(DINAMICA!$O89)","v":0},{"$f":"VALUE(DINAMICA!$P89)","v":0},{"$f":"VALUE(DINAMICA!$Q89)","v":0},{"$f":"VALUE(DINAMICA!$R89)","v":0}]
[{"$f":"VALUE(DINAMICA!$A90)","v":0},{"$f":"VALUE(DINAMICA!$B90)","v":"00:00:00"},{"$f":"VALUE(DINAMICA!$C90)","v":0},{"$f":"DINAMICA!D90","v":0},{"$f":"DINAMICA!E90","v":0},{"$f":"DINAMICA!F90","v":0},{"$f":"DINAMICA!G90","v":0},{"$f":"DINAMICA!H90","v":0},{"$f":"DINAMICA!I90","v":0},{"$f":"DINAMICA!J90","v":0},{"$f":"DINAMICA!K90","v":0},{"$f":"VALUE(DINAMICA!$L90)","v":0},{"$f":"VALUE(DINAMICA!$M90)","v":0},{"$f":"VALUE(DINAMICA!$N90)","v":0},{"$f":"VALUE(DINAMICA!$O90)","v":0},{"$f":"VALUE(DINAMICA!$P90)","v":0},{"$f":"VALUE(DINAMICA!$Q90)","v":0},{"$f":"VALUE(DINAMICA!$R90)","v":0}]
[{"$f":"VALUE(DINAMICA!$A91)","v":0},{"$f":"VALUE(DINAMICA!$B91)","v":"00:00:00"},{"$f":"VALUE(DINAMICA!$C91)","v":0},{"$f":"DINAMICA!D91","v":0},{"$f":"DINAMICA!E91","v":0},{"$f":"DINAMICA!F91","v":0},{"$f":"DINAMICA!G91","v":0},{"$f":"DINAMICA!H91","v":0},{"$f":"DINAMICA!I91","v":0},{"$f":"DINAMICA!J91","v":0},{"$f":"DINAMICA!K91","v":0},{"$f":"VALUE(DINAMICA!$L91)","v":0},{"$f":"VALUE(DINAMICA!$M91)","v":0},{"$f":"VALUE(DINAMICA!$N91)","v":0},{"$f":"VALUE(DINAMICA!$O91)","v":0},{"$f":"VALUE(DINAMICA!$P91)","v":0},{"$f":"VALUE(DINAMICA!$Q91)","v":0},{"$f":"VALUE(DINAMICA!$R91)","v":0}]
[{"$f":"VALUE(DINAMICA!$A92)","v":0},{"$f":"VALUE(DINAMICA!$B92)","v":"00:00:00"},{"$f":"VALUE(DINAMICA!$C92)","v":0},{"$f":"DINAMICA!D92","v":0},{"$f":"DINAMICA!E92","v":0},{"$f":"DINAMICA!F92","v":0},{"$f":"DINAMICA!G92","v":0},{"$f":"DINAMICA!H92","v":0},{"$f":"DINAMICA!I92","v":0},{"$f":"DINAMICA!J92","v":0},{"$f":"DINAMICA!K92","v":0},{"$f":"VALUE(DINAMICA!$L92)","v":0},{"$f":"VALUE(DINAMICA!$M92)","v":0},{"$f":"VALUE(DINAMICA!$N92)","v":0},{"$f":"VALUE(DINAMICA!$O92)","v":0},{"$f":"VALUE(DINAMICA!$P92)","v":0},{"$f":"VALUE(DINAMICA!$Q92)","v":0},{"$f":"VALUE(DINAMICA!$R92)","v":0}]
[{"$f":"VALUE(DINAMICA!$A93)","v":0},{"$f":"VALUE(DINAMICA!$B93)","v":"00:00:00"},{"$f":"VALUE(DINAMICA!$C93)","v":0},{"$f":"DINAMICA!D93","v":0},{"$f":"DINAMICA!E93","v":0},{"$f":"DINAMICA!F93","v":0},{"$f":"DINAMICA!G93","v":0},{"$f":"DINAMICA!H93","v":0},{"$f":"DINAMICA!I93","v":0},{"$f":"DINAMICA!J93","v":0},{"$f":"DINAMICA!K93","v":0},{"$f":"VALUE(DINAMICA!$L93)","v":0},{"$f":"VALUE(DINAMICA!$M93)","v":0},{"$f":"VALUE(DINAMICA!$N93)","v":0},{"$f":"VALUE(DINAMICA!$O93)","v":0},{"$f":"VALUE(DINAMICA!$P93)","v":0},{"$f":"VALUE(DINAMICA!$Q93)","v":0},{"$f":"VALUE(DINAMICA!$R93)","v":0}]
[{"$f":"VALUE(DINAMICA!$A94)","v":0},{"$f":"VALUE(DINAMICA!$B94)","v":"00:00:00"},{"$f":"VALUE(DINAMICA!$C94)","v":0},{"$f":"DINAMICA!D94","v":0},{"$f":"DINAMICA!E94","v":0},{"$f":"DINAMICA!F94","v":0},{"$f":"DINAMICA!G94","v":0},{"$f":"DINAMICA!H94","v":0},{"$f":"DINAMICA!I94","v":0},{"$f":"DINAMICA!J94","v":0},{"$f":"DINAMICA!K94","v":0},{"$f":"VALUE(DINAMICA!$L94)","v":0},{"$f":"VALUE(DINAMICA!$M94)","v":0},{"$f":"VALUE(DINAMICA!$N94)","v":0},{"$f":"VALUE(DINAMICA!$O94)","v":0},{"$f":"VALUE(DINAMICA!$P94)","v":0},{"$f":"VALUE(DINAMICA!$Q94)","v":0},{"$f":"VALUE(DINAMICA!$R94)","v":0}]
[{"$f":"VALUE(DINAMICA!$A95)","v":0},{"$f":"VALUE(DINAMICA!$B95)","v":"00:00:00"},{"$f":"VALUE(DINAMICA!$C95)","v":0},{"$f":"DINAMICA!D95","v":0},{"$f":"DINAMICA!E95","v":0},{"$f":"DINAMICA!F95","v":0},{"$f":"DINAMICA!G95","v":0},{"$f":"DINAMICA!H95","v":0},{"$f":"DINAMICA!I95","v":0},{"$f":"DINAMICA!J95","v":0},{"$f":"DINAMICA!K95","v":0},{"$f":"VALUE(DINAMICA!$L95)","v":0},{"$f":"VALUE(DINAMICA!$M95)","v":0},{"$f":"VALUE(DINAMICA!$N95)","v":0},{"$f":"VALUE(DINAMICA!$O95)","v":0},{"$f":"VALUE(DINAMICA!$P95)","v":0},{"$f":"VALUE(DINAMICA!$Q95)","v":0},{"$f":"VALUE(DINAMICA!$R95)","v":0}]
[{"$f":"VALUE(DINAMICA!$A96)","v":0},{"$f":"VALUE(DINAMICA!$B96)","v":"00:00:00"},{"$f":"VALUE(DINAMICA!$C96)","v":0},{"$f":"DINAMICA!D96","v":0},{"$f":"DINAMICA!E96","v":0},{"$f":"DINAMICA!F96","v":0},{"$f":"DINAMICA!G96","v":0},{"$f":"DINAMICA!H96","v":0},{"$f":"DINAMICA!I96","v":0},{"$f":"DINAMICA!J96","v":0},{"$f":"DINAMICA!K96","v":0},{"$f":"VALUE(DINAMICA!$L96)","v":0},{"$f":"VALUE(DINAMICA!$M96)","v":0},{"$f":"VALUE(DINAMICA!$N96)","v":0},{"$f":"VALUE(DINAMICA!$O96)","v":0},{"$f":"VALUE(DINAMICA!$P96)","v":0},{"$f":"VALUE(DINAMICA!$Q96)","v":0},{"$f":"VALUE(DINAMICA!$R96)","v":0}]
[{"$f":"VALUE(DINAMICA!$A97)","v":0},{"$f":"VALUE(DINAMICA!$B97)","v":"00:00:00"},{"$f":"VALUE(DINAMICA!$C97)","v":0},{"$f":"DINAMICA!D97","v":0},{"$f":"DINAMICA!E97","v":0},{"$f":"DINAMICA!F97","v":0},{"$f":"DINAMICA!G97","v":0},{"$f":"DINAMICA!H97","v":0},{"$f":"DINAMICA!I97","v":0},{"$f":"DINAMICA!J97","v":0},{"$f":"DINAMICA!K97","v":0},{"$f":"VALUE(DINAMICA!$L97)","v":0},{"$f":"VALUE(DINAMICA!$M97)","v":0},{"$f":"VALUE(DINAMICA!$N97)","v":0},{"$f":"VALUE(DINAMICA!$O97)","v":0},{"$f":"VALUE(DINAMICA!$P97)","v":0},{"$f":"VALUE(DINAMICA!$Q97)","v":0},{"$f":"VALUE(DINAMICA!$R97)","v":0}]
[{"$f":"VALUE(DINAMICA!$A98)","v":0},{"$f":"VALUE(DINAMICA!$B98)","v":"00:00:00"},{"$f":"VALUE(DINAMICA!$C98)","v":0},{"$f":"DINAMICA!D98","v":0},{"$f":"DINAMICA!E98","v":0},{"$f":"DINAMICA!F98","v":0},{"$f":"DINAMICA!G98","v":0},{"$f":"DINAMICA!H98","v":0},{"$f":"DINAMICA!I98","v":0},{"$f":"DINAMICA!J98","v":0},{"$f":"DINAMICA!K98","v":0},{"$f":"VALUE(DINAMICA!$L98)","v":0},{"$f":"VALUE(DINAMICA!$M98)","v":0},{"$f":"VALUE(DINAMICA!$N98)","v":0},{"$f":"VALUE(DINAMICA!$O98)","v":0},{"$f":"VALUE(DINAMICA!$P98)","v":0},{"$f":"VALUE(DINAMICA!$Q98)","v":0},{"$f":"VALUE(DINAMICA!$R98)","v":0}]
[{"$f":"VALUE(DINAMICA!$A99)","v":0},{"$f":"VALUE(DINAMICA!$B99)","v":"00:00:00"},{"$f":"VALUE(DINAMICA!$C99)","v":0},{"$f":"DINAMICA!D99","v":0},{"$f":"DINAMICA!E99","v":0},{"$f":"DINAMICA!F99","v":0},{"$f":"DINAMICA!G99","v":0},{"$f":"DINAMICA!H99","v":0},{"$f":"DINAMICA!I99","v":0},{"$f":"DINAMICA!J99","v":0},{"$f":"DINAMICA!K99","v":0},{"$f":"VALUE(DINAMICA!$L99)","v":0},{"$f":"VALUE(DINAMICA!$M99)","v":0},{"$f":"VALUE(DINAMICA!$N99)","v":0},{"$f":"VALUE(DINAMICA!$O99)","v":0},{"$f":"VALUE(DINAMICA!$P99)","v":0},{"$f":"VALUE(DINAMICA!$Q99)","v":0},{"$f":"VALUE(DINAMICA!$R99)","v":0}]
[{"$f":"VALUE(DINAMICA!$A100)","v":0},{"$f":"VALUE(DINAMICA!$B100)","v":"00:00:00"},{"$f":"VALUE(DINAMICA!$C100)","v":0},{"$f":"DINAMICA!D100","v":0},{"$f":"DINAMICA!E100","v":0},{"$f":"DINAMICA!F100","v":0},{"$f":"DINAMICA!G100","v":0},{"$f":"DINAMICA!H100","v":0},{"$f":"DINAMICA!I100","v":0},{"$f":"DINAMICA!J100","v":0},{"$f":"DINAMICA!K100","v":0},{"$f":"VALUE(DINAMICA!$L100)","v":0},{"$f":"VALUE(DINAMICA!$M100)","v":0},{"$f":"VALUE(DINAMICA!$N100)","v":0},{"$f":"VALUE(DINAMICA!$O100)","v":0},{"$f":"VALUE(DINAMICA!$P100)","v":0},{"$f":"VALUE(DINAMICA!$Q100)","v":0},{"$f":"VALUE(DINAMICA!$R100)","v":0}]
[{"$f":"VALUE(DINAMICA!$A101)","v":0},{"$f":"VALUE(DINAMICA!$B101)","v":"00:00:00"},{"$f":"VALUE(DINAMICA!$C101)","v":0},{"$f":"DINAMICA!D101","v":0},{"$f":"DINAMICA!E101","v":0},{"$f":"DINAMICA!F101","v":0},{"$f":"DINAMICA!G101","v":0},{"$f":"DINAMICA!H101","v":0},{"$f":"DINAMICA!I101","v":0},{"$f":"DINAMICA!J101","v":0},{"$f":"DINAMICA!K101","v":0},{"$f":"VALUE(DINAMICA!$L101)","v":0},{"$f":"VALUE(DINAMICA!$M101)","v":0},{"$f":"VALUE(DINAMICA!$N101)","v":0},{"$f":"VALUE(DINAMICA!$O101)","v":0},{"$f":"VALUE(DINAMICA!$P101)","v":0},{"$f":"VALUE(DINAMICA!$Q101)","v":0},{"$f":"VALUE(DINAMICA!$R101)","v":0}]
[{"$f":"VALUE(DINAMICA!$A102)","v":0},{"$f":"VALUE(DINAMICA!$B102)","v":"00:00:00"},{"$f":"VALUE(DINAMICA!$C102)","v":0},{"$f":"DINAMICA!D102","v":0},{"$f":"DINAMICA!E102","v":0},{"$f":"DINAMICA!F102","v":0},{"$f":"DINAMICA!G102","v":0},{"$f":"DINAMICA!H102","v":0},{"$f":"DINAMICA!I102","v":0},{"$f":"DINAMICA!J102","v":0},{"$f":"DINAMICA!K102","v":0},{"$f":"VALUE(DINAMICA!$L102)","v":0},{"$f":"VALUE(DINAMICA!$M102)","v":0},{"$f":"VALUE(DINAMICA!$N102)","v":0},{"$f":"VALUE(DINAMICA!$O102)","v":0},{"$f":"VALUE(DINAMICA!$P102)","v":0},{"$f":"VALUE(DINAMICA!$Q102)","v":0},{"$f":"VALUE(DINAMICA!$R102)","v":0}]
[{"$f":"VALUE(DINAMICA!$A103)","v":0},{"$f":"VALUE(DINAMICA!$B103)","v":"00:00:00"},{"$f":"VALUE(DINAMICA!$C103)","v":0},{"$f":"DINAMICA!D103","v":0},{"$f":"DINAMICA!E103","v":0},{"$f":"DINAMICA!F103","v":0},{"$f":"DINAMICA!G103","v":0},{"$f":"DINAMICA!H103","v":0},{"$f":"DINAMICA!I103","v":0},{"$f":"DINAMICA!J103","v":0},{"$f":"DINAMICA!K103","v":0},{"$f":"VALUE(DINAMICA!$L103)","v":0},{"$f":"VALUE(DINAMICA!$M103)","v":0},{"$f":"VALUE(DINAMICA!$N103)","v":0},{"$f":"VALUE(DINAMICA!$O103)","v":0},{"$f":"VALUE(DINAMICA!$P103)","v":0},{"$f":"VALUE(DINAMICA!$Q103)","v":0},{"$f":"VALUE(DINAMICA!$R103)","v":0}]
[{"$f":"VALUE(DINAMICA!$A104)","v":0},{"$f":"VALUE(DINAMICA!$B104)","v":"00:00:00"},{"$f":"VALUE(DINAMICA!$C104)","v":0},{"$f":"DINAMICA!D104","v":0},{"$f":"DINAMICA!E104","v":0},{"$f":"DINAMICA!F104","v":0},{"$f":"DINAMICA!G104","v":0},{"$f":"DINAMICA!H104","v":0},{"$f":"DINAMICA!I104","v":0},{"$f":"DINAMICA!J104","v":0},{"$f":"DINAMICA!K104","v":0},{"$f":"VALUE(DINAMICA!$L104)","v":0},{"$f":"VALUE(DINAMICA!$M104)","v":0},{"$f":"VALUE(DINAMICA!$N104)","v":0},{"$f":"VALUE(DINAMICA!$O104)","v":0},{"$f":"VALUE(DINAMICA!$P104)","v":0},{"$f":"VALUE(DINAMICA!$Q104)","v":0},{"$f":"VALUE(DINAMICA!$R104)","v":0}]
[{"$f":"VALUE(DINAMICA!$A105)","v":0},{"$f":"VALUE(DINAMICA!$B105)","v":"00:00:00"},{"$f":"VALUE(DINAMICA!$C105)","v":0},{"$f":"DINAMICA!D105","v":0},{"$f":"DINAMICA!E105","v":0},{"$f":"DINAMICA!F105","v":0},{"$f":"DINAMICA!G105","v":0},{"$f":"DINAMICA!H105","v":0},{"$f":"DINAMICA!I105","v":0},{"$f":"DINAMICA!J105","v":0},{"$f":"DINAMICA!K105","v":0},{"$f":"VALUE(DINAMICA!$L105)","v":0},{"$f":"VALUE(DINAMICA!$M105)","v":0},{"$f":"VALUE(DINAMICA!$N105)","v":0},{"$f":"VALUE(DINAMICA!$O105)","v":0},{"$f":"VALUE(DINAMICA!$P105)","v":0},{"$f":"VALUE(DINAMICA!$Q105)","v":0},{"$f":"VALUE(DINAMICA!$R105)","v":0}]
[{"$f":"VALUE(DINAMICA!$A106)","v":0},{"$f":"VALUE(DINAMICA!$B106)","v":"00:00:00"},{"$f":"VALUE(DINAMICA!$C106)","v":0},{"$f":"DINAMICA!D106","v":0},{"$f":"DINAMICA!E106","v":0},{"$f":"DINAMICA!F106","v":0},{"$f":"DINAMICA!G106","v":0},{"$f":"DINAMICA!H106","v":0},{"$f":"DINAMICA!I106","v":0},{"$f":"DINAMICA!J106","v":0},{"$f":"DINAMICA!K106","v":0},{"$f":"VALUE(DINAMICA!$L106)","v":0},{"$f":"VALUE(DINAMICA!$M106)","v":0},{"$f":"VALUE(DINAMICA!$N106)","v":0},{"$f":"VALUE(DINAMICA!$O106)","v":0},{"$f":"VALUE(DINAMICA!$P106)","v":0},{"$f":"VALUE(DINAMICA!$Q106)","v":0},{"$f":"VALUE(DINAMICA!$R106)","v":0}]
[{"$f":"VALUE(DINAMICA!$A107)","v":0},{"$f":"VALUE(DINAMICA!$B107)","v":"00:00:00"},{"$f":"VALUE(DINAMICA!$C107)","v":0},{"$f":"DINAMICA!D107","v":0},{"$f":"DINAMICA!E107","v":0},{"$f":"DINAMICA!F107","v":0},{"$f":"DINAMICA!G107","v":0},{"$f":"DINAMICA!H107","v":0},{"$f":"DINAMICA!I107","v":0},{"$f":"DINAMICA!J107","v":0},{"$f":"DINAMICA!K107","v":0},{"$f":"VALUE(DINAMICA!$L107)","v":0},{"$f":"VALUE(DINAMICA!$M107)","v":0},{"$f":"VALUE(DINAMICA!$N107)","v":0},{"$f":"VALUE(DINAMICA!$O107)","v":0},{"$f":"VALUE(DINAMICA!$P107)","v":0},{"$f":"VALUE(DINAMICA!$Q107)","v":0},{"$f":"VALUE(DINAMICA!$R107)","v":0}]
[{"$f":"VALUE(DINAMICA!$A108)","v":0},{"$f":"VALUE(DINAMICA!$B108)","v":"00:00:00"},{"$f":"VALUE(DINAMICA!$C108)","v":0},{"$f":"DINAMICA!D108","v":0},{"$f":"DINAMICA!E108","v":0},{"$f":"DINAMICA!F108","v":0},{"$f":"DINAMICA!G108","v":0},{"$f":"DINAMICA!H108","v":0},{"$f":"DINAMICA!I108","v":0},{"$f":"DINAMICA!J108","v":0},{"$f":"DINAMICA!K108","v":0},{"$f":"VALUE(DINAMICA!$L108)","v":0},{"$f":"VALUE(DINAMICA!$M108)","v":0},{"$f":"VALUE(DINAMICA!$N108)","v":0},{"$f":"VALUE(DINAMICA!$O108)","v":0},{"$f":"VALUE(DINAMICA!$P108)","v":0},{"$f":"VALUE(DINAMICA!$Q108)","v":0},{"$f":"VALUE(DINAMICA!$R108)","v":0}]
[{"$f":"VALUE(DINAMICA!$A109)","v":0},{"$f":"VALUE(DINAMICA!$B109)","v":"00:00:00"},{"$f":"VALUE(DINAMICA!$C109)","v":0},{"$f":"DINAMICA!D109","v":0},{"$f":"DINAMICA!E109","v":0},{"$f":"DINAMICA!F109","v":0},{"$f":"DINAMICA!G109","v":0},{"$f":"DINAMICA!H109","v":0},{"$f":"DINAMICA!I109","v":0},{"$f":"DINAMICA!J109","v":0},{"$f":"DINAMICA!K109","v":0},{"$f":"VALUE(DINAMICA!$L109)","v":0},{"$f":"VALUE(DINAMICA!$M109)","v":0},{"$f":"VALUE(DINAMICA!$N109)","v":0},{"$f":"VALUE(DINAMICA!$O109)","v":0},{"$f":"VALUE(DINAMICA!$P109)","v":0},{"$f":"VALUE(DINAMICA!$Q109)","v":0},{"$f":"VALUE(DINAMICA!$R109)","v":0}]
[{"$f":"VALUE(DINAMICA!$A110)","v":0},{"$f":"VALUE(DINAMICA!$B110)","v":"00:00:00"},{"$f":"VALUE(DINAMICA!$C110)","v":0},{"$f":"DINAMICA!D110","v":0},{"$f":"DINAMICA!E110","v":0},{"$f":"DINAMICA!F110","v":0},{"$f":"DINAMICA!G110","v":0},{"$f":"DINAMICA!H110","v":0},{"$f":"DINAMICA!I110","v":0},{"$f":"DINAMICA!J110","v":0},{"$f":"DINAMICA!K110","v":0},{"$f":"VALUE(DINAMICA!$L110)","v":0},{"$f":"VALUE(DINAMICA!$M110)","v":0},{"$f":"VALUE(DINAMICA!$N110)","v":0},{"$f":"VALUE(DINAMICA!$O110)","v":0},{"$f":"VALUE(DINAMICA!$P110)","v":0},{"$f":"VALUE(DINAMICA!$Q110)","v":0},{"$f":"VALUE(DINAMICA!$R110)","v":0}]
[{"$f":"VALUE(DINAMICA!$A111)","v":0},{"$f":"VALUE(DINAMICA!$B111)","v":"00:00:00"},{"$f":"VALUE(DINAMICA!$C111)","v":0},{"$f":"DINAMICA!D111","v":0},{"$f":"DINAMICA!E111","v":0},{"$f":"DINAMICA!F111","v":0},{"$f":"DINAMICA!G111","v":0},{"$f":"DINAMICA!H111","v":0},{"$f":"DINAMICA!I111","v":0},{"$f":"DINAMICA!J111","v":0},{"$f":"DINAMICA!K111","v":0},{"$f":"VALUE(DINAMICA!$L111)","v":0},{"$f":"VALUE(DINAMICA!$M111)","v":0},{"$f":"VALUE(DINAMICA!$N111)","v":0},{"$f":"VALUE(DINAMICA!$O111)","v":0},{"$f":"VALUE(DINAMICA!$P111)","v":0},{"$f":"VALUE(DINAMICA!$Q111)","v":0},{"$f":"VALUE(DINAMICA!$R111)","v":0}]
[{"$f":"VALUE(DINAMICA!$A112)","v":0},{"$f":"VALUE(DINAMICA!$B112)","v":"00:00:00"},{"$f":"VALUE(DINAMICA!$C112)","v":0},{"$f":"DINAMICA!D112","v":0},{"$f":"DINAMICA!E112","v":0},{"$f":"DINAMICA!F112","v":0},{"$f":"DINAMICA!G112","v":0},{"$f":"DINAMICA!H112","v":0},{"$f":"DINAMICA!I112","v":0},{"$f":"DINAMICA!J112","v":0},{"$f":"DINAMICA!K112","v":0},{"$f":"VALUE(DINAMICA!$L112)","v":0},{"$f":"VALUE(DINAMICA!$M112)","v":0},{"$f":"VALUE(DINAMICA!$N112)","v":0},{"$f":"VALUE(DINAMICA!$O112)","v":0},{"$f":"VALUE(DINAMICA!$P112)","v":0},{"$f":"VALUE(DINAMICA!$Q112)","v":0},{"$f":"VALUE(DINAMICA!$R112)","v":0}]
[{"$f":"VALUE(DINAMICA!$A113)","v":0},{"$f":"VALUE(DINAMICA!$B113)","v":"00:00:00"},{"$f":"VALUE(DINAMICA!$C113)","v":0},{"$f":"DINAMICA!D113","v":0},{"$f":"DINAMICA!E113","v":0},{"$f":"DINAMICA!F113","v":0},{"$f":"DINAMICA!G113","v":0},{"$f":"DINAMICA!H113","v":0},{"$f":"DINAMICA!I113","v":0},{"$f":"DINAMICA!J113","v":0},{"$f":"DINAMICA!K113","v":0},{"$f":"VALUE(DINAMICA!$L113)","v":0},{"$f":"VALUE(DINAMICA!$M113)","v":0},{"$f":"VALUE(DINAMICA!$N113)","v":0},{"$f":"VALUE(DINAMICA!$O113)","v":0},{"$f":"VALUE(DINAMICA!$P113)","v":0},{"$f":"VALUE(DINAMICA!$Q113)","v":0},{"$f":"VALUE(DINAMICA!$R113)","v":0}]
[{"$f":"VALUE(DINAMICA!$A114)","v":0},{"$f":"VALUE(DINAMICA!$B114)","v":"00:00:00"},{"$f":"VALUE(DINAMICA!$C114)","v":0},{"$f":"DINAMICA!D114","v":0},{"$f":"DINAMICA!E114","v":0},{"$f":"DINAMICA!F114","v":0},{"$f":"DINAMICA!G114","v":0},{"$f":"DINAMICA!H114","v":0},{"$f":"DINAMICA!I114","v":0},{"$f":"DINAMICA!J114","v":0},{"$f":"DINAMICA!K114","v":0},{"$f":"VALUE(DINAMICA!$L114)","v":0},{"$f":"VALUE(DINAMICA!$M114)","v":0},{"$f":"VALUE(DINAMICA!$N114)","v":0},{"$f":"VALUE(DINAMICA!$O114)","v":0},{"$f":"VALUE(DINAMICA!$P114)","v":0},{"$f":"VALUE(DINAMICA!$Q114)","v":0},{"$f":"VALUE(DINAMICA!$R114)","v":0}]
[{"$f":"VALUE(DINAMICA!$A115)","v":0},{"$f":"VALUE(DINAMICA!$B115)","v":"00:00:00"},{"$f":"VALUE(DINAMICA!$C115)","v":0},{"$f":"DINAMICA!D115","v":0},{"$f":"DINAMICA!E115","v":0},{"$f":"DINAMICA!F115","v":0},{"$f":"DINAMICA!G115","v":0},{"$f":"DINAMICA!H115","v":0},{"$f":"DINAMICA!I115","v":0},{"$f":"DINAMICA!J115","v":0},{"$f":"DINAMICA!K115","v":0},{"$f":"VALUE(DINAMICA!$L115)","v":0},{"$f":"VALUE(DINAMICA!$M115)","v":0},{"$f":"VALUE(DINAMICA!$N115)","v":0},{"$f":"VALUE(DINAMICA!$O115)","v":0},{"$f":"VALUE(DINAMICA!$P115)","v":0},{"$f":"VALUE(DINAMICA!$Q115)","v":0},{"$f":"VALUE(DINAMICA!$R115)","v":0}]
[{"$f":"VALUE(DINAMICA!$A116)","v":0},{"$f":"VALUE(DINAMICA!$B116)","v":"00:00:00"},{"$f":"VALUE(DINAMICA!$C116)","v":0},{"$f":"DINAMICA!D116","v":0},{"$f":"DINAMICA!E116","v":0},{"$f":"DINAMICA!F116","v":0},{"$f":"DINAMICA!G116","v":0},{"$f":"DINAMICA!H116","v":0},{"$f":"DINAMICA!I116","v":0},{"$f":"DINAMICA!J116","v":0},{"$f":"DINAMICA!K116","v":0},{"$f":"VALUE(DINAMICA!$L116)","v":0},{"$f":"VALUE(DINAMICA!$M116)","v":0},{"$f":"VALUE(DINAMICA!$N116)","v":0},{"$f":"VALUE(DINAMICA!$O116)","v":0},{"$f":"VALUE(DINAMICA!$P116)","v":0},{"$f":"VALUE(DINAMICA!$Q116)","v":0},{"$f":"VALUE(DINAMICA!$R116)","v":0}]
[{"$f":"VALUE(DINAMICA!$A117)","v":0},{"$f":"VALUE(DINAMICA!$B117)","v":"00:00:00"},{"$f":"VALUE(DINAMICA!$C117)","v":0},{"$f":"DINAMICA!D117","v":0},{"$f":"DINAMICA!E117","v":0},{"$f":"DINAMICA!F117","v":0},{"$f":"DINAMICA!G117","v":0},{"$f":"DINAMICA!H117","v":0},{"$f":"DINAMICA!I117","v":0},{"$f":"DINAMICA!J117","v":0},{"$f":"DINAMICA!K117","v":0},{"$f":"VALUE(DINAMICA!$L117)","v":0},{"$f":"VALUE(DINAMICA!$M117)","v":0},{"$f":"VALUE(DINAMICA!$N117)","v":0},{"$f":"VALUE(DINAMICA!$O117)","v":0},{"$f":"VALUE(DINAMICA!$P117)","v":0},{"$f":"VALUE(DINAMICA!$Q117)","v":0},{"$f":"VALUE(DINAMICA!$R117)","v":0}]
[{"$f":"VALUE(DINAMICA!$A118)","v":0},{"$f":"VALUE(DINAMICA!$B118)","v":"00:00:00"},{"$f":"VALUE(DINAMICA!$C118)","v":0},{"$f":"DINAMICA!D118","v":0},{"$f":"DINAMICA!E118","v":0},{"$f":"DINAMICA!F118","v":0},{"$f":"DINAMICA!G118","v":0},{"$f":"DINAMICA!H118","v":0},{"$f":"DINAMICA!I118","v":0},{"$f":"DINAMICA!J118","v":0},{"$f":"DINAMICA!K118","v":0},{"$f":"VALUE(DINAMICA!$L118)","v":0},{"$f":"VALUE(DINAMICA!$M118)","v":0},{"$f":"VALUE(DINAMICA!$N118)","v":0},{"$f":"VALUE(DINAMICA!$O118)","v":0},{"$f":"VALUE(DINAMICA!$P118)","v":0},{"$f":"VALUE(DINAMICA!$Q118)","v":0},{"$f":"VALUE(DINAMICA!$R118)","v":0}]
[{"$f":"VALUE(DINAMICA!$A119)","v":0},{"$f":"VALUE(DINAMICA!$B119)","v":"00:00:00"},{"$f":"VALUE(DINAMICA!$C119)","v":0},{"$f":"DINAMICA!D119","v":0},{"$f":"DINAMICA!E119","v":0},{"$f":"DINAMICA!F119","v":0},{"$f":"DINAMICA!G119","v":0},{"$f":"DINAMICA!H119","v":0},{"$f":"DINAMICA!I119","v":0},{"$f":"DINAMICA!J119","v":0},{"$f":"DINAMICA!K119","v":0},{"$f":"VALUE(DINAMICA!$L119)","v":0},{"$f":"VALUE(DINAMICA!$M119)","v":0},{"$f":"VALUE(DINAMICA!$N119)","v":0},{"$f":"VALUE(DINAMICA!$O119)","v":0},{"$f":"VALUE(DINAMICA!$P119)","v":0},{"$f":"VALUE(DINAMICA!$Q119)","v":0},{"$f":"VALUE(DINAMICA!$R119)","v":0}]
[{"$f":"VALUE(DINAMICA!$A120)","v":0},{"$f":"VALUE(DINAMICA!$B120)","v":"00:00:00"},{"$f":"VALUE(DINAMICA!$C120)","v":0},{"$f":"DINAMICA!D120","v":0},{"$f":"DINAMICA!E120","v":0},{"$f":"DINAMICA!F120","v":0},{"$f":"DINAMICA!G120","v":0},{"$f":"DINAMICA!H120","v":0},{"$f":"DINAMICA!I120","v":0},{"$f":"DINAMICA!J120","v":0},{"$f":"DINAMICA!K120","v":0},{"$f":"VALUE(DINAMICA!$L120)","v":0},{"$f":"VALUE(DINAMICA!$M120)","v":0},{"$f":"VALUE(DINAMICA!$N120)","v":0},{"$f":"VALUE(DINAMICA!$O120)","v":0},{"$f":"VALUE(DINAMICA!$P120)","v":0},{"$f":"VALUE(DINAMICA!$Q120)","v":0},{"$f":"VALUE(DINAMICA!$R120)","v":0}]
[{"$f":"VALUE(DINAMICA!$A121)","v":0},{"$f":"VALUE(DINAMICA!$B121)","v":"00:00:00"},{"$f":"VALUE(DINAMICA!$C121)","v":0},{"$f":"DINAMICA!D121","v":0},{"$f":"DINAMICA!E121","v":0},{"$f":"DINAMICA!F121","v":0},{"$f":"DINAMICA!G121","v":0},{"$f":"DINAMICA!H121","v":0},{"$f":"DINAMICA!I121","v":0},{"$f":"DINAMICA!J121","v":0},{"$f":"DINAMICA!K121","v":0},{"$f":"VALUE(DINAMICA!$L121)","v":0},{"$f":"VALUE(DINAMICA!$M121)","v":0},{"$f":"VALUE(DINAMICA!$N121)","v":0},{"$f":"VALUE(DINAMICA!$O121)","v":0},{"$f":"VALUE(DINAMICA!$P121)","v":0},{"$f":"VALUE(DINAMICA!$Q121)","v":0},{"$f":"VALUE(DINAMICA!$R121)","v":0}]
[{"$f":"VALUE(DINAMICA!$A122)","v":0},{"$f":"VALUE(DINAMICA!$B122)","v":"00:00:00"},{"$f":"VALUE(DINAMICA!$C122)","v":0},{"$f":"DINAMICA!D122","v":0},{"$f":"DINAMICA!E122","v":0},{"$f":"DINAMICA!F122","v":0},{"$f":"DINAMICA!G122","v":0},{"$f":"DINAMICA!H122","v":0},{"$f":"DINAMICA!I122","v":0},{"$f":"DINAMICA!J122","v":0},{"$f":"DINAMICA!K122","v":0},{"$f":"VALUE(DINAMICA!$L122)","v":0},{"$f":"VALUE(DINAMICA!$M122)","v":0},{"$f":"VALUE(DINAMICA!$N122)","v":0},{"$f":"VALUE(DINAMICA!$O122)","v":0},{"$f":"VALUE(DINAMICA!$P122)","v":0},{"$f":"VALUE(DINAMICA!$Q122)","v":0},{"$f":"VALUE(DINAMICA!$R122)","v":0}]
[{"$f":"VALUE(DINAMICA!$A123)","v":0},{"$f":"VALUE(DINAMICA!$B123)","v":"00:00:00"},{"$f":"VALUE(DINAMICA!$C123)","v":0},{"$f":"DINAMICA!D123","v":0},{"$f":"DINAMICA!E123","v":0},{"$f":"DINAMICA!F123","v":0},{"$f":"DINAMICA!G123","v":0},{"$f":"DINAMICA!H123","v":0},{"$f":"DINAMICA!I123","v":0},{"$f":"DINAMICA!J123","v":0},{"$f":"DINAMICA!K123","v":0},{"$f":"VALUE(DINAMICA!$L123)","v":0},{"$f":"VALUE(DINAMICA!$M123)","v":0},{"$f":"VALUE(DINAMICA!$N123)","v":0},{"$f":"VALUE(DINAMICA!$O123)","v":0},{"$f":"VALUE(DINAMICA!$P123)","v":0},{"$f":"VALUE(DINAMICA!$Q123)","v":0},{"$f":"VALUE(DINAMICA!$R123)","v":0}]
[{"$f":"VALUE(DINAMICA!$A124)","v":0},{"$f":"VALUE(DINAMICA!$B124)","v":"00:00:00"},{"$f":"VALUE(DINAMICA!$C124)","v":0},{"$f":"DINAMICA!D124","v":0},{"$f":"DINAMICA!E124","v":0},{"$f":"DINAMICA!F124","v":0},{"$f":"DINAMICA!G124","v":0},{"$f":"DINAMICA!H124","v":0},{"$f":"DINAMICA!I124","v":0},{"$f":"DINAMICA!J124","v":0},{"$f":"DINAMICA!K124","v":0},{"$f":"VALUE(DINAMICA!$L124)","v":0},{"$f":"VALUE(DINAMICA!$M124)","v":0},{"$f":"VALUE(DINAMICA!$N124)","v":0},{"$f":"VALUE(DINAMICA!$O124)","v":0},{"$f":"VALUE(DINAMICA!$P124)","v":0},{"$f":"VALUE(DINAMICA!$Q124)","v":0},{"$f":"VALUE(DINAMICA!$R124)","v":0}]
[{"$f":"VALUE(DINAMICA!$A125)","v":0},{"$f":"VALUE(DINAMICA!$B125)","v":"00:00:00"},{"$f":"VALUE(DINAMICA!$C125)","v":0},{"$f":"DINAMICA!D125","v":0},{"$f":"DINAMICA!E125","v":0},{"$f":"DINAMICA!F125","v":0},{"$f":"DINAMICA!G125","v":0},{"$f":"DINAMICA!H125","v":0},{"$f":"DINAMICA!I125","v":0},{"$f":"DINAMICA!J125","v":0},{"$f":"DINAMICA!K125","v":0},{"$f":"VALUE(DINAMICA!$L125)","v":0},{"$f":"VALUE(DINAMICA!$M125)","v":0},{"$f":"VALUE(DINAMICA!$N125)","v":0},{"$f":"VALUE(DINAMICA!$O125)","v":0},{"$f":"VALUE(DINAMICA!$P125)","v":0},{"$f":"VALUE(DINAMICA!$Q125)","v":0},{"$f":"VALUE(DINAMICA!$R125)","v":0}]
[{"$f":"VALUE(DINAMICA!$A126)","v":0},{"$f":"VALUE(DINAMICA!$B126)","v":"00:00:00"},{"$f":"VALUE(DINAMICA!$C126)","v":0},{"$f":"DINAMICA!D126","v":0},{"$f":"DINAMICA!E126","v":0},{"$f":"DINAMICA!F126","v":0},{"$f":"DINAMICA!G126","v":0},{"$f":"DINAMICA!H126","v":0},{"$f":"DINAMICA!I126","v":0},{"$f":"DINAMICA!J126","v":0},{"$f":"DINAMICA!K126","v":0},{"$f":"VALUE(DINAMICA!$L126)","v":0},{"$f":"VALUE(DINAMICA!$M126)","v":0},{"$f":"VALUE(DINAMICA!$N126)","v":0},{"$f":"VALUE(DINAMICA!$O126)","v":0},{"$f":"VALUE(DINAMICA!$P126)","v":0},{"$f":"VALUE(DINAMICA!$Q126)","v":0},{"$f":"VALUE(DINAMICA!$R126)","v":0}]
[{"$f":"VALUE(DINAMICA!$A127)","v":0},{"$f":"VALUE(DINAMICA!$B127)","v":"00:00:00"},{"$f":"VALUE(DINAMICA!$C127)","v":0},{"$f":"DINAMICA!D127","v":0},{"$f":"DINAMICA!E127","v":0},{"$f":"DINAMICA!F127","v":0},{"$f":"DINAMICA!G127","v":0},{"$f":"DINAMICA!H127","v":0},{"$f":"DINAMICA!I127","v":0},{"$f":"DINAMICA!J127","v":0},{"$f":"DINAMICA!K127","v":0},{"$f":"VALUE(DINAMICA!$L127)","v":0},{"$f":"VALUE(DINAMICA!$M127)","v":0},{"$f":"VALUE(DINAMICA!$N127)","v":0},{"$f":"VALUE(DINAMICA!$O127)","v":0},{"$f":"VALUE(DINAMICA!$P127)","v":0},{"$f":"VALUE(DINAMICA!$Q127)","v":0},{"$f":"VALUE(DINAMICA!$R127)","v":0}]
[{"$f":"VALUE(DINAMICA!$A128)","v":0},{"$f":"VALUE(DINAMICA!$B128)","v":"00:00:00"},{"$f":"VALUE(DINAMICA!$C128)","v":0},{"$f":"DINAMICA!D128","v":0},{"$f":"DINAMICA!E128","v":0},{"$f":"DINAMICA!F128","v":0},{"$f":"DINAMICA!G128","v":0},{"$f":"DINAMICA!H128","v":0},{"$f":"DINAMICA!I128","v":0},{"$f":"DINAMICA!J128","v":0},{"$f":"DINAMICA!K128","v":0},{"$f":"VALUE(DINAMICA!$L128)","v":0},{"$f":"VALUE(DINAMICA!$M128)","v":0},{"$f":"VALUE(DINAMICA!$N128)","v":0},{"$f":"VALUE(DINAMICA!$O128)","v":0},{"$f":"VALUE(DINAMICA!$P128)","v":0},{"$f":"VALUE(DINAMICA!$Q128)","v":0},{"$f":"VALUE(DINAMICA!$R128)","v":0}]
[{"$f":"VALUE(DINAMICA!$A129)","v":0},{"$f":"VALUE(DINAMICA!$B129)","v":"00:00:00"},{"$f":"VALUE(DINAMICA!$C129)","v":0},{"$f":"DINAMICA!D129","v":0},{"$f":"DINAMICA!E129","v":0},{"$f":"DINAMICA!F129","v":0},{"$f":"DINAMICA!G129","v":0},{"$f":"DINAMICA!H129","v":0},{"$f":"DINAMICA!I129","v":0},{"$f":"DINAMICA!J129","v":0},{"$f":"DINAMICA!K129","v":0},{"$f":"VALUE(DINAMICA!$L129)","v":0},{"$f":"VALUE(DINAMICA!$M129)","v":0},{"$f":"VALUE(DINAMICA!$N129)","v":0},{"$f":"VALUE(DINAMICA!$O129)","v":0},{"$f":"VALUE(DINAMICA!$P129)","v":0},{"$f":"VALUE(DINAMICA!$Q129)","v":0},{"$f":"VALUE(DINAMICA!$R129)","v":0}]
[{"$f":"VALUE(DINAMICA!$A130)","v":0},{"$f":"VALUE(DINAMICA!$B130)","v":"00:00:00"},{"$f":"VALUE(DINAMICA!$C130)","v":0},{"$f":"DINAMICA!D130","v":0},{"$f":"DINAMICA!E130","v":0},{"$f":"DINAMICA!F130","v":0},{"$f":"DINAMICA!G130","v":0},{"$f":"DINAMICA!H130","v":0},{"$f":"DINAMICA!I130","v":0},{"$f":"DINAMICA!J130","v":0},{"$f":"DINAMICA!K130","v":0},{"$f":"VALUE(DINAMICA!$L130)","v":0},{"$f":"VALUE(DINAMICA!$M130)","v":0},{"$f":"VALUE(DINAMICA!$N130)","v":0},{"$f":"VALUE(DINAMICA!$O130)","v":0},{"$f":"VALUE(DINAMICA!$P130)","v":0},{"$f":"VALUE(DINAMICA!$Q130)","v":0},{"$f":"VALUE(DINAMICA!$R130)","v":0}]
[{"$f":"VALUE(DINAMICA!$A131)","v":0},{"$f":"VALUE(DINAMICA!$B131)","v":"00:00:00"},{"$f":"VALUE(DINAMICA!$C131)","v":0},{"$f":"DINAMICA!D131","v":0},{"$f":"DINAMICA!E131","v":0},{"$f":"DINAMICA!F131","v":0},{"$f":"DINAMICA!G131","v":0},{"$f":"DINAMICA!H131","v":0},{"$f":"DINAMICA!I131","v":0},{"$f":"DINAMICA!J131","v":0},{"$f":"DINAMICA!K131","v":0},{"$f":"VALUE(DINAMICA!$L131)","v":0},{"$f":"VALUE(DINAMICA!$M131)","v":0},{"$f":"VALUE(DINAMICA!$N131)","v":0},{"$f":"VALUE(DINAMICA!$O131)","v":0},{"$f":"VALUE(DINAMICA!$P131)","v":0},{"$f":"VALUE(DINAMICA!$Q131)","v":0},{"$f":"VALUE(DINAMICA!$R131)","v":0}]
[{"$f":"VALUE(DINAMICA!$A132)","v":0},{"$f":"VALUE(DINAMICA!$B132)","v":"00:00:00"},{"$f":"VALUE(DINAMICA!$C132)","v":0},{"$f":"DINAMICA!D132","v":0},{"$f":"DINAMICA!E132","v":0},{"$f":"DINAMICA!F132","v":0},{"$f":"DINAMICA!G132","v":0},{"$f":"DINAMICA!H132","v":0},{"$f":"DINAMICA!I132","v":0},{"$f":"DINAMICA!J132","v":0},{"$f":"DINAMICA!K132","v":0},{"$f":"VALUE(DINAMICA!$L132)","v":0},{"$f":"VALUE(DINAMICA!$M132)","v":0},{"$f":"VALUE(DINAMICA!$N132)","v":0},{"$f":"VALUE(DINAMICA!$O132)","v":0},{"$f":"VALUE(DINAMICA!$P132)","v":0},{"$f":"VALUE(DINAMICA!$Q132)","v":0},{"$f":"VALUE(DINAMICA!$R132)","v":0}]
[{"$f":"VALUE(DINAMICA!$A133)","v":0},{"$f":"VALUE(DINAMICA!$B133)","v":"00:00:00"},{"$f":"VALUE(DINAMICA!$C133)","v":0},{"$f":"DINAMICA!D133","v":0},{"$f":"DINAMICA!E133","v":0},{"$f":"DINAMICA!F133","v":0},{"$f":"DINAMICA!G133","v":0},{"$f":"DINAMICA!H133","v":0},{"$f":"DINAMICA!I133","v":0},{"$f":"DINAMICA!J133","v":0},{"$f":"DINAMICA!K133","v":0},{"$f":"VALUE(DINAMICA!$L133)","v":0},{"$f":"VALUE(DINAMICA!$M133)","v":0},{"$f":"VALUE(DINAMICA!$N133)","v":0},{"$f":"VALUE(DINAMICA!$O133)","v":0},{"$f":"VALUE(DINAMICA!$P133)","v":0},{"$f":"VALUE(DINAMICA!$Q133)","v":0},{"$f":"VALUE(DINAMICA!$R133)","v":0}]
[{"$f":"VALUE(DINAMICA!$A134)","v":0},{"$f":"VALUE(DINAMICA!$B134)","v":"00:00:00"},{"$f":"VALUE(DINAMICA!$C134)","v":0},{"$f":"DINAMICA!D134","v":0},{"$f":"DINAMICA!E134","v":0},{"$f":"DINAMICA!F134","v":0},{"$f":"DINAMICA!G134","v":0},{"$f":"DINAMICA!H134","v":0},{"$f":"DINAMICA!I134","v":0},{"$f":"DINAMICA!J134","v":0},{"$f":"DINAMICA!K134","v":0},{"$f":"VALUE(DINAMICA!$L134)","v":0},{"$f":"VALUE(DINAMICA!$M134)","v":0},{"$f":"VALUE(DINAMICA!$N134)","v":0},{"$f":"VALUE(DINAMICA!$O134)","v":0},{"$f":"VALUE(DINAMICA!$P134)","v":0},{"$f":"VALUE(DINAMICA!$Q134)","v":0},{"$f":"VALUE(DINAMICA!$R134)","v":0}]
[{"$f":"VALUE(DINAMICA!$A135)","v":0},{"$f":"VALUE(DINAMICA!$B135)","v":"00:00:00"},{"$f":"VALUE(DINAMICA!$C135)","v":0},{"$f":"DINAMICA!D135","v":0},{"$f":"DINAMICA!E135","v":0},{"$f":"DINAMICA!F135","v":0},{"$f":"DINAMICA!G135","v":0},{"$f":"DINAMICA!H135","v":0},{"$f":"DINAMICA!I135","v":0},{"$f":"DINAMICA!J135","v":0},{"$f":"DINAMICA!K135","v":0},{"$f":"VALUE(DINAMICA!$L135)","v":0},{"$f":"VALUE(DINAMICA!$M135)","v":0},{"$f":"VALUE(DINAMICA!$N135)","v":0},{"$f":"VALUE(DINAMICA!$O135)","v":0},{"$f":"VALUE(DINAMICA!$P135)","v":0},{"$f":"VALUE(DINAMICA!$Q135)","v":0},{"$f":"VALUE(DINAMICA!$R135)","v":0}]
[{"$f":"VALUE(DINAMICA!$A136)","v":0},{"$f":"VALUE(DINAMICA!$B136)","v":"00:00:00"},{"$f":"VALUE(DINAMICA!$C136)","v":0},{"$f":"DINAMICA!D136","v":0},{"$f":"DINAMICA!E136","v":0},{"$f":"DINAMICA!F136","v":0},{"$f":"DINAMICA!G136","v":0},{"$f":"DINAMICA!H136","v":0},{"$f":"DINAMICA!I136","v":0},{"$f":"DINAMICA!J136","v":0},{"$f":"DINAMICA!K136","v":0},{"$f":"VALUE(DINAMICA!$L136)","v":0},{"$f":"VALUE(DINAMICA!$M136)","v":0},{"$f":"VALUE(DINAMICA!$N136)","v":0},{"$f":"VALUE(DINAMICA!$O136)","v":0},{"$f":"VALUE(DINAMICA!$P136)","v":0},{"$f":"VALUE(DINAMICA!$Q136)","v":0},{"$f":"VALUE(DINAMICA!$R136)","v":0}]
[{"$f":"VALUE(DINAMICA!$A137)","v":0},{"$f":"VALUE(DINAMICA!$B137)","v":"00:00:00"},{"$f":"VALUE(DINAMICA!$C137)","v":0},{"$f":"DINAMICA!D137","v":0},{"$f":"DINAMICA!E137","v":0},{"$f":"DINAMICA!F137","v":0},{"$f":"DINAMICA!G137","v":0},{"$f":"DINAMICA!H137","v":0},{"$f":"DINAMICA!I137","v":0},{"$f":"DINAMICA!J137","v":0},{"$f":"DINAMICA!K137","v":0},{"$f":"VALUE(DINAMICA!$L137)","v":0},{"$f":"VALUE(DINAMICA!$M137)","v":0},{"$f":"VALUE(DINAMICA!$N137)","v":0},{"$f":"VALUE(DINAMICA!$O137)","v":0},{"$f":"VALUE(DINAMICA!$P137)","v":0},{"$f":"VALUE(DINAMICA!$Q137)","v":0},{"$f":"VALUE(DINAMICA!$R137)","v":0}]
[{"$f":"VALUE(DINAMICA!$A138)","v":0},{"$f":"VALUE(DINAMICA!$B138)","v":"00:00:00"},{"$f":"VALUE(DINAMICA!$C138)","v":0},{"$f":"DINAMICA!D138","v":0},{"$f":"DINAMICA!E138","v":0},{"$f":"DINAMICA!F138","v":0},{"$f":"DINAMICA!G138","v":0},{"$f":"DINAMICA!H138","v":0},{"$f":"DINAMICA!I138","v":0},{"$f":"DINAMICA!J138","v":0},{"$f":"DINAMICA!K138","v":0},{"$f":"VALUE(DINAMICA!$L138)","v":0},{"$f":"VALUE(DINAMICA!$M138)","v":0},{"$f":"VALUE(DINAMICA!$N138)","v":0},{"$f":"VALUE(DINAMICA!$O138)","v":0},{"$f":"VALUE(DINAMICA!$P138)","v":0},{"$f":"VALUE(DINAMICA!$Q138)","v":0},{"$f":"VALUE(DINAMICA!$R138)","v":0}]
[{"$f":"VALUE(DINAMICA!$A139)","v":0},{"$f":"VALUE(DINAMICA!$B139)","v":"00:00:00"},{"$f":"VALUE(DINAMICA!$C139)","v":0},{"$f":"DINAMICA!D139","v":0},{"$f":"DINAMICA!E139","v":0},{"$f":"DINAMICA!F139","v":0},{"$f":"DINAMICA!G139","v":0},{"$f":"DINAMICA!H139","v":0},{"$f":"DINAMICA!I139","v":0},{"$f":"DINAMICA!J139","v":0},{"$f":"DINAMICA!K139","v":0},{"$f":"VALUE(DINAMICA!$L139)","v":0},{"$f":"VALUE(DINAMICA!$M139)","v":0},{"$f":"VALUE(DINAMICA!$N139)","v":0},{"$f":"VALUE(DINAMICA!$O139)","v":0},{"$f":"VALUE(DINAMICA!$P139)","v":0},{"$f":"VALUE(DINAMICA!$Q139)","v":0},{"$f":"VALUE(DINAMICA!$R139)","v":0}]
[{"$f":"VALUE(DINAMICA!$A140)","v":0},{"$f":"VALUE(DINAMICA!$B140)","v":"00:00:00"},{"$f":"VALUE(DINAMICA!$C140)","v":0},{"$f":"DINAMICA!D140","v":0},{"$f":"DINAMICA!E140","v":0},{"$f":"DINAMICA!F140","v":0},{"$f":"DINAMICA!G140","v":0},{"$f":"DINAMICA!H140","v":0},{"$f":"DINAMICA!I140","v":0},{"$f":"DINAMICA!J140","v":0},{"$f":"DINAMICA!K140","v":0},{"$f":"VALUE(DINAMICA!$L140)","v":0},{"$f":"VALUE(DINAMICA!$M140)","v":0},{"$f":"VALUE(DINAMICA!$N140)","v":0},{"$f":"VALUE(DINAMICA!$O140)","v":0},{"$f":"VALUE(DINAMICA!$P140)","v":0},{"$f":"VALUE(DINAMICA!$Q140)","v":0},{"$f":"VALUE(DINAMICA!$R140)","v":0}]
[{"$f":"VALUE(DINAMICA!$A141)","v":0},{"$f":"VALUE(DINAMICA!$B141)","v":"00:00:00"},{"$f":"VALUE(DINAMICA!$C141)","v":0},{"$f":"DINAMICA!D141","v":0},{"$f":"DINAMICA!E141","v":0},{"$f":"DINAMICA!F141","v":0},{"$f":"DINAMICA!G141","v":0},{"$f":"DINAMICA!H141","v":0},{"$f":"DINAMICA!I141","v":0},{"$f":"DINAMICA!J141","v":0},{"$f":"DINAMICA!K141","v":0},{"$f":"VALUE(DINAMICA!$L141)","v":0},{"$f":"VALUE(DINAMICA!$M141)","v":0},{"$f":"VALUE(DINAMICA!$N141)","v":0},{"$f":"VALUE(DINAMICA!$O141)","v":0},{"$f":"VALUE(DINAMICA!$P141)","v":0},{"$f":"VALUE(DINAMICA!$Q141)","v":0},{"$f":"VALUE(DINAMICA!$R141)","v":0}]
[{"$f":"VALUE(DINAMICA!$A142)","v":0},{"$f":"VALUE(DINAMICA!$B142)","v":"00:00:00"},{"$f":"VALUE(DINAMICA!$C142)","v":0},{"$f":"DINAMICA!D142","v":0},{"$f":"DINAMICA!E142","v":0},{"$f":"DINAMICA!F142","v":0},{"$f":"DINAMICA!G142","v":0},{"$f":"DINAMICA!H142","v":0},{"$f":"DINAMICA!I142","v":0},{"$f":"DINAMICA!J142","v":0},{"$f":"DINAMICA!K142","v":0},{"$f":"VALUE(DINAMICA!$L142)","v":0},{"$f":"VALUE(DINAMICA!$M142)","v":0},{"$f":"VALUE(DINAMICA!$N142)","v":0},{"$f":"VALUE(DINAMICA!$O142)","v":0},{"$f":"VALUE(DINAMICA!$P142)","v":0},{"$f":"VALUE(DINAMICA!$Q142)","v":0},{"$f":"VALUE(DINAMICA!$R142)","v":0}]
[{"$f":"VALUE(DINAMICA!$A143)","v":0},{"$f":"VALUE(DINAMICA!$B143)","v":"00:00:00"},{"$f":"VALUE(DINAMICA!$C143)","v":0},{"$f":"DINAMICA!D143","v":0},{"$f":"DINAMICA!E143","v":0},{"$f":"DINAMICA!F143","v":0},{"$f":"DINAMICA!G143","v":0},{"$f":"DINAMICA!H143","v":0},{"$f":"DINAMICA!I143","v":0},{"$f":"DINAMICA!J143","v":0},{"$f":"DINAMICA!K143","v":0},{"$f":"VALUE(DINAMICA!$L143)","v":0},{"$f":"VALUE(DINAMICA!$M143)","v":0},{"$f":"VALUE(DINAMICA!$N143)","v":0},{"$f":"VALUE(DINAMICA!$O143)","v":0},{"$f":"VALUE(DINAMICA!$P143)","v":0},{"$f":"VALUE(DINAMICA!$Q143)","v":0},{"$f":"VALUE(DINAMICA!$R143)","v":0}]
[{"$f":"VALUE(DINAMICA!$A144)","v":0},{"$f":"VALUE(DINAMICA!$B144)","v":"00:00:00"},{"$f":"VALUE(DINAMICA!$C144)","v":0},{"$f":"DINAMICA!D144","v":0},{"$f":"DINAMICA!E144","v":0},{"$f":"DINAMICA!F144","v":0},{"$f":"DINAMICA!G144","v":0},{"$f":"DINAMICA!H144","v":0},{"$f":"DINAMICA!I144","v":0},{"$f":"DINAMICA!J144","v":0},{"$f":"DINAMICA!K144","v":0},{"$f":"VALUE(DINAMICA!$L144)","v":0},{"$f":"VALUE(DINAMICA!$M144)","v":0},{"$f":"VALUE(DINAMICA!$N144)","v":0},{"$f":"VALUE(DINAMICA!$O144)","v":0},{"$f":"VALUE(DINAMICA!$P144)","v":0},{"$f":"VALUE(DINAMICA!$Q144)","v":0},{"$f":"VALUE(DINAMICA!$R144)","v":0}]
[{"$f":"VALUE(DINAMICA!$A145)","v":0},{"$f":"VALUE(DINAMICA!$B145)","v":"00:00:00"},{"$f":"VALUE(DINAMICA!$C145)","v":0},{"$f":"DINAMICA!D145","v":0},{"$f":"DINAMICA!E145","v":0},{"$f":"DINAMICA!F145","v":0},{"$f":"DINAMICA!G145","v":0},{"$f":"DINAMICA!H145","v":0},{"$f":"DINAMICA!I145","v":0},{"$f":"DINAMICA!J145","v":0},{"$f":"DINAMICA!K145","v":0},{"$f":"VALUE(DINAMICA!$L145)","v":0},{"$f":"VALUE(DINAMICA!$M145)","v":0},{"$f":"VALUE(DINAMICA!$N145)","v":0},{"$f":"VALUE(DINAMICA!$O145)","v":0},{"$f":"VALUE(DINAMICA!$P145)","v":0},{"$f":"VALUE(DINAMICA!$Q145)","v":0},{"$f":"VALUE(DINAMICA!$R145)","v":0}]
[{"$f":"VALUE(DINAMICA!$A146)","v":0},{"$f":"VALUE(DINAMICA!$B146)","v":"00:00:00"},{"$f":"VALUE(DINAMICA!$C146)","v":0},{"$f":"DINAMICA!D146","v":0},{"$f":"DINAMICA!E146","v":0},{"$f":"DINAMICA!F146","v":0},{"$f":"DINAMICA!G146","v":0},{"$f":"DINAMICA!H146","v":0},{"$f":"DINAMICA!I146","v":0},{"$f":"DINAMICA!J146","v":0},{"$f":"DINAMICA!K146","v":0},{"$f":"VALUE(DINAMICA!$L146)","v":0},{"$f":"VALUE(DINAMICA!$M146)","v":0},{"$f":"VALUE(DINAMICA!$N146)","v":0},{"$f":"VALUE(DINAMICA!$O146)","v":0},{"$f":"VALUE(DINAMICA!$P146)","v":0},{"$f":"VALUE(DINAMICA!$Q146)","v":0},{"$f":"VALUE(DINAMICA!$R146)","v":0}]
[{"$f":"VALUE(DINAMICA!$A147)","v":0},{"$f":"VALUE(DINAMICA!$B147)","v":"00:00:00"},{"$f":"VALUE(DINAMICA!$C147)","v":0},{"$f":"DINAMICA!D147","v":0},{"$f":"DINAMICA!E147","v":0},{"$f":"DINAMICA!F147","v":0},{"$f":"DINAMICA!G147","v":0},{"$f":"DINAMICA!H147","v":0},{"$f":"DINAMICA!I147","v":0},{"$f":"DINAMICA!J147","v":0},{"$f":"DINAMICA!K147","v":0},{"$f":"VALUE(DINAMICA!$L147)","v":0},{"$f":"VALUE(DINAMICA!$M147)","v":0},{"$f":"VALUE(DINAMICA!$N147)","v":0},{"$f":"VALUE(DINAMICA!$O147)","v":0},{"$f":"VALUE(DINAMICA!$P147)","v":0},{"$f":"VALUE(DINAMICA!$Q147)","v":0},{"$f":"VALUE(DINAMICA!$R147)","v":0}]
[{"$f":"VALUE(DINAMICA!$A148)","v":0},{"$f":"VALUE(DINAMICA!$B148)","v":"00:00:00"},{"$f":"VALUE(DINAMICA!$C148)","v":0},{"$f":"DINAMICA!D148","v":0},{"$f":"DINAMICA!E148","v":0},{"$f":"DINAMICA!F148","v":0},{"$f":"DINAMICA!G148","v":0},{"$f":"DINAMICA!H148","v":0},{"$f":"DINAMICA!I148","v":0},{"$f":"DINAMICA!J148","v":0},{"$f":"DINAMICA!K148","v":0},{"$f":"VALUE(DINAMICA!$L148)","v":0},{"$f":"VALUE(DINAMICA!$M148)","v":0},{"$f":"VALUE(DINAMICA!$N148)","v":0},{"$f":"VALUE(DINAMICA!$O148)","v":0},{"$f":"VALUE(DINAMICA!$P148)","v":0},{"$f":"VALUE(DINAMICA!$Q148)","v":0},{"$f":"VALUE(DINAMICA!$R148)","v":0}]
[{"$f":"VALUE(DINAMICA!$A149)","v":0},{"$f":"VALUE(DINAMICA!$B149)","v":"00:00:00"},{"$f":"VALUE(DINAMICA!$C149)","v":0},{"$f":"DINAMICA!D149","v":0},{"$f":"DINAMICA!E149","v":0},{"$f":"DINAMICA!F149","v":0},{"$f":"DINAMICA!G149","v":0},{"$f":"DINAMICA!H149","v":0},{"$f":"DINAMICA!I149","v":0},{"$f":"DINAMICA!J149","v":0},{"$f":"DINAMICA!K149","v":0},{"$f":"VALUE(DINAMICA!$L149)","v":0},{"$f":"VALUE(DINAMICA!$M149)","v":0},{"$f":"VALUE(DINAMICA!$N149)","v":0},{"$f":"VALUE(DINAMICA!$O149)","v":0},{"$f":"VALUE(DINAMICA!$P149)","v":0},{"$f":"VALUE(DINAMICA!$Q149)","v":0},{"$f":"VALUE(DINAMICA!$R149)","v":0}]
[{"$f":"VALUE(DINAMICA!$A150)","v":0},{"$f":"VALUE(DINAMICA!$B150)","v":"00:00:00"},{"$f":"VALUE(DINAMICA!$C150)","v":0},{"$f":"DINAMICA!D150","v":0},{"$f":"DINAMICA!E150","v":0},{"$f":"DINAMICA!F150","v":0},{"$f":"DINAMICA!G150","v":0},{"$f":"DINAMICA!H150","v":0},{"$f":"DINAMICA!I150","v":0},{"$f":"DINAMICA!J150","v":0},{"$f":"DINAMICA!K150","v":0},{"$f":"VALUE(DINAMICA!$L150)","v":0},{"$f":"VALUE(DINAMICA!$M150)","v":0},{"$f":"VALUE(DINAMICA!$N150)","v":0},{"$f":"VALUE(DINAMICA!$O150)","v":0},{"$f":"VALUE(DINAMICA!$P150)","v":0},{"$f":"VALUE(DINAMICA!$Q150)","v":0},{"$f":"VALUE(DINAMICA!$R150)","v":0}]
[{"$f":"VALUE(DINAMICA!$A151)","v":0},{"$f":"VALUE(DINAMICA!$B151)","v":"00:00:00"},{"$f":"VALUE(DINAMICA!$C151)","v":0},{"$f":"DINAMICA!D151","v":0},{"$f":"DINAMICA!E151","v":0},{"$f":"DINAMICA!F151","v":0},{"$f":"DINAMICA!G151","v":0},{"$f":"DINAMICA!H151","v":0},{"$f":"DINAMICA!I151","v":0},{"$f":"DINAMICA!J151","v":0},{"$f":"DINAMICA!K151","v":0},{"$f":"VALUE(DINAMICA!$L151)","v":0},{"$f":"VALUE(DINAMICA!$M151)","v":0},{"$f":"VALUE(DINAMICA!$N151)","v":0},{"$f":"VALUE(DINAMICA!$O151)","v":0},{"$f":"VALUE(DINAMICA!$P151)","v":0},{"$f":"VALUE(DINAMICA!$Q151)","v":0},{"$f":"VALUE(DINAMICA!$R151)","v":0}]
[{"$f":"VALUE(DINAMICA!$A152)","v":0},{"$f":"VALUE(DINAMICA!$B152)","v":"00:00:00"},{"$f":"VALUE(DINAMICA!$C152)","v":0},{"$f":"DINAMICA!D152","v":0},{"$f":"DINAMICA!E152","v":0},{"$f":"DINAMICA!F152","v":0},{"$f":"DINAMICA!G152","v":0},{"$f":"DINAMICA!H152","v":0},{"$f":"DINAMICA!I152","v":0},{"$f":"DINAMICA!J152","v":0},{"$f":"DINAMICA!K152","v":0},{"$f":"VALUE(DINAMICA!$L152)","v":0},{"$f":"VALUE(DINAMICA!$M152)","v":0},{"$f":"VALUE(DINAMICA!$N152)","v":0},{"$f":"VALUE(DINAMICA!$O152)","v":0},{"$f":"VALUE(DINAMICA!$P152)","v":0},{"$f":"VALUE(DINAMICA!$Q152)","v":0},{"$f":"VALUE(DINAMICA!$R152)","v":0}]
[{"$f":"VALUE(DINAMICA!$A153)","v":0},{"$f":"VALUE(DINAMICA!$B153)","v":"00:00:00"},{"$f":"VALUE(DINAMICA!$C153)","v":0},{"$f":"DINAMICA!D153","v":0},{"$f":"DINAMICA!E153","v":0},{"$f":"DINAMICA!F153","v":0},{"$f":"DINAMICA!G153","v":0},{"$f":"DINAMICA!H153","v":0},{"$f":"DINAMICA!I153","v":0},{"$f":"DINAMICA!J153","v":0},{"$f":"DINAMICA!K153","v":0},{"$f":"VALUE(DINAMICA!$L153)","v":0},{"$f":"VALUE(DINAMICA!$M153)","v":0},{"$f":"VALUE(DINAMICA!$N153)","v":0},{"$f":"VALUE(DINAMICA!$O153)","v":0},{"$f":"VALUE(DINAMICA!$P153)","v":0},{"$f":"VALUE(DINAMICA!$Q153)","v":0},{"$f":"VALUE(DINAMICA!$R153)","v":0}]
[{"$f":"VALUE(DINAMICA!$A154)","v":0},{"$f":"VALUE(DINAMICA!$B154)","v":"00:00:00"},{"$f":"VALUE(DINAMICA!$C154)","v":0},{"$f":"DINAMICA!D154","v":0},{"$f":"DINAMICA!E154","v":0},{"$f":"DINAMICA!F154","v":0},{"$f":"DINAMICA!G154","v":0},{"$f":"DINAMICA!H154","v":0},{"$f":"DINAMICA!I154","v":0},{"$f":"DINAMICA!J154","v":0},{"$f":"DINAMICA!K154","v":0},{"$f":"VALUE(DINAMICA!$L154)","v":0},{"$f":"VALUE(DINAMICA!$M154)","v":0},{"$f":"VALUE(DINAMICA!$N154)","v":0},{"$f":"VALUE(DINAMICA!$O154)","v":0},{"$f":"VALUE(DINAMICA!$P154)","v":0},{"$f":"VALUE(DINAMICA!$Q154)","v":0},{"$f":"VALUE(DINAMICA!$R154)","v":0}]
[{"$f":"VALUE(DINAMICA!$A155)","v":0},{"$f":"VALUE(DINAMICA!$B155)","v":"00:00:00"},{"$f":"VALUE(DINAMICA!$C155)","v":0},{"$f":"DINAMICA!D155","v":0},{"$f":"DINAMICA!E155","v":0},{"$f":"DINAMICA!F155","v":0},{"$f":"DINAMICA!G155","v":0},{"$f":"DINAMICA!H155","v":0},{"$f":"DINAMICA!I155","v":0},{"$f":"DINAMICA!J155","v":0},{"$f":"DINAMICA!K155","v":0},{"$f":"VALUE(DINAMICA!$L155)","v":0},{"$f":"VALUE(DINAMICA!$M155)","v":0},{"$f":"VALUE(DINAMICA!$N155)","v":0},{"$f":"VALUE(DINAMICA!$O155)","v":0},{"$f":"VALUE(DINAMICA!$P155)","v":0},{"$f":"VALUE(DINAMICA!$Q155)","v":0},{"$f":"VALUE(DINAMICA!$R155)","v":0}]
[{"$f":"VALUE(DINAMICA!$A156)","v":0},{"$f":"VALUE(DINAMICA!$B156)","v":"00:00:00"},{"$f":"VALUE(DINAMICA!$C156)","v":0},{"$f":"DINAMICA!D156","v":0},{"$f":"DINAMICA!E156","v":0},{"$f":"DINAMICA!F156","v":0},{"$f":"DINAMICA!G156","v":0},{"$f":"DINAMICA!H156","v":0},{"$f":"DINAMICA!I156","v":0},{"$f":"DINAMICA!J156","v":0},{"$f":"DINAMICA!K156","v":0},{"$f":"VALUE(DINAMICA!$L156)","v":0},{"$f":"VALUE(DINAMICA!$M156)","v":0},{"$f":"VALUE(DINAMICA!$N156)","v":0},{"$f":"VALUE(DINAMICA!$O156)","v":0},{"$f":"VALUE(DINAMICA!$P156)","v":0},{"$f":"VALUE(DINAMICA!$Q156)","v":0},{"$f":"VALUE(DINAMICA!$R156)","v":0}]
[{"$f":"VALUE(DINAMICA!$A157)","v":0},{"$f":"VALUE(DINAMICA!$B157)","v":"00:00:00"},{"$f":"VALUE(DINAMICA!$C157)","v":0},{"$f":"DINAMICA!D157","v":0},{"$f":"DINAMICA!E157","v":0},{"$f":"DINAMICA!F157","v":0},{"$f":"DINAMICA!G157","v":0},{"$f":"DINAMICA!H157","v":0},{"$f":"DINAMICA!I157","v":0},{"$f":"DINAMICA!J157","v":0},{"$f":"DINAMICA!K157","v":0},{"$f":"VALUE(DINAMICA!$L157)","v":0},{"$f":"VALUE(DINAMICA!$M157)","v":0},{"$f":"VALUE(DINAMICA!$N157)","v":0},{"$f":"VALUE(DINAMICA!$O157)","v":0},{"$f":"VALUE(DINAMICA!$P157)","v":0},{"$f":"VALUE(DINAMICA!$Q157)","v":0},{"$f":"VALUE(DINAMICA!$R157)","v":0}]
[{"$f":"VALUE(DINAMICA!$A158)","v":0},{"$f":"VALUE(DINAMICA!$B158)","v":"00:00:00"},{"$f":"VALUE(DINAMICA!$C158)","v":0},{"$f":"DINAMICA!D158","v":0},{"$f":"DINAMICA!E158","v":0},{"$f":"DINAMICA!F158","v":0},{"$f":"DINAMICA!G158","v":0},{"$f":"DINAMICA!H158","v":0},{"$f":"DINAMICA!I158","v":0},{"$f":"DINAMICA!J158","v":0},{"$f":"DINAMICA!K158","v":0},{"$f":"VALUE(DINAMICA!$L158)","v":0},{"$f":"VALUE(DINAMICA!$M158)","v":0},{"$f":"VALUE(DINAMICA!$N158)","v":0},{"$f":"VALUE(DINAMICA!$O158)","v":0},{"$f":"VALUE(DINAMICA!$P158)","v":0},{"$f":"VALUE(DINAMICA!$Q158)","v":0},{"$f":"VALUE(DINAMICA!$R158)","v":0}]
[{"$f":"VALUE(DINAMICA!$A159)","v":0},{"$f":"VALUE(DINAMICA!$B159)","v":"00:00:00"},{"$f":"VALUE(DINAMICA!$C159)","v":0},{"$f":"DINAMICA!D159","v":0},{"$f":"DINAMICA!E159","v":0},{"$f":"DINAMICA!F159","v":0},{"$f":"DINAMICA!G159","v":0},{"$f":"DINAMICA!H159","v":0},{"$f":"DINAMICA!I159","v":0},{"$f":"DINAMICA!J159","v":0},{"$f":"DINAMICA!K159","v":0},{"$f":"VALUE(DINAMICA!$L159)","v":0},{"$f":"VALUE(DINAMICA!$M159)","v":0},{"$f":"VALUE(DINAMICA!$N159)","v":0},{"$f":"VALUE(DINAMICA!$O159)","v":0},{"$f":"VALUE(DINAMICA!$P159)","v":0},{"$f":"VALUE(DINAMICA!$Q159)","v":0},{"$f":"VALUE(DINAMICA!$R159)","v":0}]
[{"$f":"VALUE(DINAMICA!$A160)","v":0},{"$f":"VALUE(DINAMICA!$B160)","v":"00:00:00"},{"$f":"VALUE(DINAMICA!$C160)","v":0},{"$f":"DINAMICA!D160","v":0},{"$f":"DINAMICA!E160","v":0},{"$f":"DINAMICA!F160","v":0},{"$f":"DINAMICA!G160","v":0},{"$f":"DINAMICA!H160","v":0},{"$f":"DINAMICA!I160","v":0},{"$f":"DINAMICA!J160","v":0},{"$f":"DINAMICA!K160","v":0},{"$f":"VALUE(DINAMICA!$L160)","v":0},{"$f":"VALUE(DINAMICA!$M160)","v":0},{"$f":"VALUE(DINAMICA!$N160)","v":0},{"$f":"VALUE(DINAMICA!$O160)","v":0},{"$f":"VALUE(DINAMICA!$P160)","v":0},{"$f":"VALUE(DINAMICA!$Q160)","v":0},{"$f":"VALUE(DINAMICA!$R160)","v":0}]
[{"$f":"VALUE(DINAMICA!$A161)","v":0},{"$f":"VALUE(DINAMICA!$B161)","v":"00:00:00"},{"$f":"VALUE(DINAMICA!$C161)","v":0},{"$f":"DINAMICA!D161","v":0},{"$f":"DINAMICA!E161","v":0},{"$f":"DINAMICA!F161","v":0},{"$f":"DINAMICA!G161","v":0},{"$f":"DINAMICA!H161","v":0},{"$f":"DINAMICA!I161","v":0},{"$f":"DINAMICA!J161","v":0},{"$f":"DINAMICA!K161","v":0},{"$f":"VALUE(DINAMICA!$L161)","v":0},{"$f":"VALUE(DINAMICA!$M161)","v":0},{"$f":"VALUE(DINAMICA!$N161)","v":0},{"$f":"VALUE(DINAMICA!$O161)","v":0},{"$f":"VALUE(DINAMICA!$P161)","v":0},{"$f":"VALUE(DINAMICA!$Q161)","v":0},{"$f":"VALUE(DINAMICA!$R161)","v":0}]
[{"$f":"VALUE(DINAMICA!$A162)","v":0},{"$f":"VALUE(DINAMICA!$B162)","v":"00:00:00"},{"$f":"VALUE(DINAMICA!$C162)","v":0},{"$f":"DINAMICA!D162","v":0},{"$f":"DINAMICA!E162","v":0},{"$f":"DINAMICA!F162","v":0},{"$f":"DINAMICA!G162","v":0},{"$f":"DINAMICA!H162","v":0},{"$f":"DINAMICA!I162","v":0},{"$f":"DINAMICA!J162","v":0},{"$f":"DINAMICA!K162","v":0},{"$f":"VALUE(DINAMICA!$L162)","v":0},{"$f":"VALUE(DINAMICA!$M162)","v":0},{"$f":"VALUE(DINAMICA!$N162)","v":0},{"$f":"VALUE(DINAMICA!$O162)","v":0},{"$f":"VALUE(DINAMICA!$P162)","v":0},{"$f":"VALUE(DINAMICA!$Q162)","v":0},{"$f":"VALUE(DINAMICA!$R162)","v":0}]
[{"$f":"VALUE(DINAMICA!$A163)","v":0},{"$f":"VALUE(DINAMICA!$B163)","v":"00:00:00"},{"$f":"VALUE(DINAMICA!$C163)","v":0},{"$f":"DINAMICA!D163","v":0},{"$f":"DINAMICA!E163","v":0},{"$f":"DINAMICA!F163","v":0},{"$f":"DINAMICA!G163","v":0},{"$f":"DINAMICA!H163","v":0},{"$f":"DINAMICA!I163","v":0},{"$f":"DINAMICA!J163","v":0},{"$f":"DINAMICA!K163","v":0},{"$f":"VALUE(DINAMICA!$L163)","v":0},{"$f":"VALUE(DINAMICA!$M163)","v":0},{"$f":"VALUE(DINAMICA!$N163)","v":0},{"$f":"VALUE(DINAMICA!$O163)","v":0},{"$f":"VALUE(DINAMICA!$P163)","v":0},{"$f":"VALUE(DINAMICA!$Q163)","v":0},{"$f":"VALUE(DINAMICA!$R163)","v":0}]
[{"$f":"VALUE(DINAMICA!$A164)","v":0},{"$f":"VALUE(DINAMICA!$B164)","v":"00:00:00"},{"$f":"VALUE(DINAMICA!$C164)","v":0},{"$f":"DINAMICA!D164","v":0},{"$f":"DINAMICA!E164","v":0},{"$f":"DINAMICA!F164","v":0},{"$f":"DINAMICA!G164","v":0},{"$f":"DINAMICA!H164","v":0},{"$f":"DINAMICA!I164","v":0},{"$f":"DINAMICA!J164","v":0},{"$f":"DINAMICA!K164","v":0},{"$f":"VALUE(DINAMICA!$L164)","v":0},{"$f":"VALUE(DINAMICA!$M164)","v":0},{"$f":"VALUE(DINAMICA!$N164)","v":0},{"$f":"VALUE(DINAMICA!$O164)","v":0},{"$f":"VALUE(DINAMICA!$P164)","v":0},{"$f":"VALUE(DINAMICA!$Q164)","v":0},{"$f":"VALUE(DINAMICA!$R164)","v":0}]
[{"$f":"VALUE(DINAMICA!$A165)","v":0},{"$f":"VALUE(DINAMICA!$B165)","v":"00:00:00"},{"$f":"VALUE(DINAMICA!$C165)","v":0},{"$f":"DINAMICA!D165","v":0},{"$f":"DINAMICA!E165","v":0},{"$f":"DINAMICA!F165","v":0},{"$f":"DINAMICA!G165","v":0},{"$f":"DINAMICA!H165","v":0},{"$f":"DINAMICA!I165","v":0},{"$f":"DINAMICA!J165","v":0},{"$f":"DINAMICA!K165","v":0},{"$f":"VALUE(DINAMICA!$L165)","v":0},{"$f":"VALUE(DINAMICA!$M165)","v":0},{"$f":"VALUE(DINAMICA!$N165)","v":0},{"$f":"VALUE(DINAMICA!$O165)","v":0},{"$f":"VALUE(DINAMICA!$P165)","v":0},{"$f":"VALUE(DINAMICA!$Q165)","v":0},{"$f":"VALUE(DINAMICA!$R165)","v":0}]
[{"$f":"VALUE(DINAMICA!$A166)","v":0},{"$f":"VALUE(DINAMICA!$B166)","v":"00:00:00"},{"$f":"VALUE(DINAMICA!$C166)","v":0},{"$f":"DINAMICA!D166","v":0},{"$f":"DINAMICA!E166","v":0},{"$f":"DINAMICA!F166","v":0},{"$f":"DINAMICA!G166","v":0},{"$f":"DINAMICA!H166","v":0},{"$f":"DINAMICA!I166","v":0},{"$f":"DINAMICA!J166","v":0},{"$f":"DINAMICA!K166","v":0},{"$f":"VALUE(DINAMICA!$L166)","v":0},{"$f":"VALUE(DINAMICA!$M166)","v":0},{"$f":"VALUE(DINAMICA!$N166)","v":0},{"$f":"VALUE(DINAMICA!$O166)","v":0},{"$f":"VALUE(DINAMICA!$P166)","v":0},{"$f":"VALUE(DINAMICA!$Q166)","v":0},{"$f":"VALUE(DINAMICA!$R166)","v":0}]
[{"$f":"VALUE(DINAMICA!$A167)","v":0},{"$f":"VALUE(DINAMICA!$B167)","v":"00:00:00"},{"$f":"VALUE(DINAMICA!$C167)","v":0},{"$f":"DINAMICA!D167","v":0},{"$f":"DINAMICA!E167","v":0},{"$f":"DINAMICA!F167","v":0},{"$f":"DINAMICA!G167","v":0},{"$f":"DINAMICA!H167","v":0},{"$f":"DINAMICA!I167","v":0},{"$f":"DINAMICA!J167","v":0},{"$f":"DINAMICA!K167","v":0},{"$f":"VALUE(DINAMICA!$L167)","v":0},{"$f":"VALUE(DINAMICA!$M167)","v":0},{"$f":"VALUE(DINAMICA!$N167)","v":0},{"$f":"VALUE(DINAMICA!$O167)","v":0},{"$f":"VALUE(DINAMICA!$P167)","v":0},{"$f":"VALUE(DINAMICA!$Q167)","v":0},{"$f":"VALUE(DINAMICA!$R167)","v":0}]
[{"$f":"VALUE(DINAMICA!$A168)","v":0},{"$f":"VALUE(DINAMICA!$B168)","v":"00:00:00"},{"$f":"VALUE(DINAMICA!$C168)","v":0},{"$f":"DINAMICA!D168","v":0},{"$f":"DINAMICA!E168","v":0},{"$f":"DINAMICA!F168","v":0},{"$f":"DINAMICA!G168","v":0},{"$f":"DINAMICA!H168","v":0},{"$f":"DINAMICA!I168","v":0},{"$f":"DINAMICA!J168","v":0},{"$f":"DINAMICA!K168","v":0},{"$f":"VALUE(DINAMICA!$L168)","v":0},{"$f":"VALUE(DINAMICA!$M168)","v":0},{"$f":"VALUE(DINAMICA!$N168)","v":0},{"$f":"VALUE(DINAMICA!$O168)","v":0},{"$f":"VALUE(DINAMICA!$P168)","v":0},{"$f":"VALUE(DINAMICA!$Q168)","v":0},{"$f":"VALUE(DINAMICA!$R168)","v":0}]
[{"$f":"VALUE(DINAMICA!$A169)","v":0},{"$f":"VALUE(DINAMICA!$B169)","v":"00:00:00"},{"$f":"VALUE(DINAMICA!$C169)","v":0},{"$f":"DINAMICA!D169","v":0},{"$f":"DINAMICA!E169","v":0},{"$f":"DINAMICA!F169","v":0},{"$f":"DINAMICA!G169","v":0},{"$f":"DINAMICA!H169","v":0},{"$f":"DINAMICA!I169","v":0},{"$f":"DINAMICA!J169","v":0},{"$f":"DINAMICA!K169","v":0},{"$f":"VALUE(DINAMICA!$L169)","v":0},{"$f":"VALUE(DINAMICA!$M169)","v":0},{"$f":"VALUE(DINAMICA!$N169)","v":0},{"$f":"VALUE(DINAMICA!$O169)","v":0},{"$f":"VALUE(DINAMICA!$P169)","v":0},{"$f":"VALUE(DINAMICA!$Q169)","v":0},{"$f":"VALUE(DINAMICA!$R169)","v":0}]
[{"$f":"VALUE(DINAMICA!$A170)","v":0},{"$f":"VALUE(DINAMICA!$B170)","v":"00:00:00"},{"$f":"VALUE(DINAMICA!$C170)","v":0},{"$f":"DINAMICA!D170","v":0},{"$f":"DINAMICA!E170","v":0},{"$f":"DINAMICA!F170","v":0},{"$f":"DINAMICA!G170","v":0},{"$f":"DINAMICA!H170","v":0},{"$f":"DINAMICA!I170","v":0},{"$f":"DINAMICA!J170","v":0},{"$f":"DINAMICA!K170","v":0},{"$f":"VALUE(DINAMICA!$L170)","v":0},{"$f":"VALUE(DINAMICA!$M170)","v":0},{"$f":"VALUE(DINAMICA!$N170)","v":0},{"$f":"VALUE(DINAMICA!$O170)","v":0},{"$f":"VALUE(DINAMICA!$P170)","v":0},{"$f":"VALUE(DINAMICA!$Q170)","v":0},{"$f":"VALUE(DINAMICA!$R170)","v":0}]
[{"$f":"VALUE(DINAMICA!$A171)","v":0},{"$f":"VALUE(DINAMICA!$B171)","v":"00:00:00"},{"$f":"VALUE(DINAMICA!$C171)","v":0},{"$f":"DINAMICA!D171","v":0},{"$f":"DINAMICA!E171","v":0},{"$f":"DINAMICA!F171","v":0},{"$f":"DINAMICA!G171","v":0},{"$f":"DINAMICA!H171","v":0},{"$f":"DINAMICA!I171","v":0},{"$f":"DINAMICA!J171","v":0},{"$f":"DINAMICA!K171","v":0},{"$f":"VALUE(DINAMICA!$L171)","v":0},{"$f":"VALUE(DINAMICA!$M171)","v":0},{"$f":"VALUE(DINAMICA!$N171)","v":0},{"$f":"VALUE(DINAMICA!$O171)","v":0},{"$f":"VALUE(DINAMICA!$P171)","v":0},{"$f":"VALUE(DINAMICA!$Q171)","v":0},{"$f":"VALUE(DINAMICA!$R171)","v":0}]
[{"$f":"VALUE(DINAMICA!$A172)","v":0},{"$f":"VALUE(DINAMICA!$B172)","v":"00:00:00"},{"$f":"VALUE(DINAMICA!$C172)","v":0},{"$f":"DINAMICA!D172","v":0},{"$f":"DINAMICA!E172","v":0},{"$f":"DINAMICA!F172","v":0},{"$f":"DINAMICA!G172","v":0},{"$f":"DINAMICA!H172","v":0},{"$f":"DINAMICA!I172","v":0},{"$f":"DINAMICA!J172","v":0},{"$f":"DINAMICA!K172","v":0},{"$f":"VALUE(DINAMICA!$L172)","v":0},{"$f":"VALUE(DINAMICA!$M172)","v":0},{"$f":"VALUE(DINAMICA!$N172)","v":0},{"$f":"VALUE(DINAMICA!$O172)","v":0},{"$f":"VALUE(DINAMICA!$P172)","v":0},{"$f":"VALUE(DINAMICA!$Q172)","v":0},{"$f":"VALUE(DINAMICA!$R172)","v":0}]
[{"$f":"VALUE(DINAMICA!$A173)","v":0},{"$f":"VALUE(DINAMICA!$B173)","v":"00:00:00"},{"$f":"VALUE(DINAMICA!$C173)","v":0},{"$f":"DINAMICA!D173","v":0},{"$f":"DINAMICA!E173","v":0},{"$f":"DINAMICA!F173","v":0},{"$f":"DINAMICA!G173","v":0},{"$f":"DINAMICA!H173","v":0},{"$f":"DINAMICA!I173","v":0},{"$f":"DINAMICA!J173","v":0},{"$f":"DINAMICA!K173","v":0},{"$f":"VALUE(DINAMICA!$L173)","v":0},{"$f":"VALUE(DINAMICA!$M173)","v":0},{"$f":"VALUE(DINAMICA!$N173)","v":0},{"$f":"VALUE(DINAMICA!$O173)","v":0},{"$f":"VALUE(DINAMICA!$P173)","v":0},{"$f":"VALUE(DINAMICA!$Q173)","v":0},{"$f":"VALUE(DINAMICA!$R173)","v":0}]
[{"$f":"VALUE(DINAMICA!$A174)","v":0},{"$f":"VALUE(DINAMICA!$B174)","v":"00:00:00"},{"$f":"VALUE(DINAMICA!$C174)","v":0},{"$f":"DINAMICA!D174","v":0},{"$f":"DINAMICA!E174","v":0},{"$f":"DINAMICA!F174","v":0},{"$f":"DINAMICA!G174","v":0},{"$f":"DINAMICA!H174","v":0},{"$f":"DINAMICA!I174","v":0},{"$f":"DINAMICA!J174","v":0},{"$f":"DINAMICA!K174","v":0},{"$f":"VALUE(DINAMICA!$L174)","v":0},{"$f":"VALUE(DINAMICA!$M174)","v":0},{"$f":"VALUE(DINAMICA!$N174)","v":0},{"$f":"VALUE(DINAMICA!$O174)","v":0},{"$f":"VALUE(DINAMICA!$P174)","v":0},{"$f":"VALUE(DINAMICA!$Q174)","v":0},{"$f":"VALUE(DINAMICA!$R174)","v":0}]
[{"$f":"VALUE(DINAMICA!$A175)","v":0},{"$f":"VALUE(DINAMICA!$B175)","v":"00:00:00"},{"$f":"VALUE(DINAMICA!$C175)","v":0},{"$f":"DINAMICA!D175","v":0},{"$f":"DINAMICA!E175","v":0},{"$f":"DINAMICA!F175","v":0},{"$f":"DINAMICA!G175","v":0},{"$f":"DINAMICA!H175","v":0},{"$f":"DINAMICA!I175","v":0},{"$f":"DINAMICA!J175","v":0},{"$f":"DINAMICA!K175","v":0},{"$f":"VALUE(DINAMICA!$L175)","v":0},{"$f":"VALUE(DINAMICA!$M175)","v":0},{"$f":"VALUE(DINAMICA!$N175)","v":0},{"$f":"VALUE(DINAMICA!$O175)","v":0},{"$f":"VALUE(DINAMICA!$P175)","v":0},{"$f":"VALUE(DINAMICA!$Q175)","v":0},{"$f":"VALUE(DINAMICA!$R175)","v":0}]
[{"$f":"VALUE(DINAMICA!$A176)","v":0},{"$f":"VALUE(DINAMICA!$B176)","v":"00:00:00"},{"$f":"VALUE(DINAMICA!$C176)","v":0},{"$f":"DINAMICA!D176","v":0},{"$f":"DINAMICA!E176","v":0},{"$f":"DINAMICA!F176","v":0},{"$f":"DINAMICA!G176","v":0},{"$f":"DINAMICA!H176","v":0},{"$f":"DINAMICA!I176","v":0},{"$f":"DINAMICA!J176","v":0},{"$f":"DINAMICA!K176","v":0},{"$f":"VALUE(DINAMICA!$L176)","v":0},{"$f":"VALUE(DINAMICA!$M176)","v":0},{"$f":"VALUE(DINAMICA!$N176)","v":0},{"$f":"VALUE(DINAMICA!$O176)","v":0},{"$f":"VALUE(DINAMICA!$P176)","v":0},{"$f":"VALUE(DINAMICA!$Q176)","v":0},{"$f":"VALUE(DINAMICA!$R176)","v":0}]
[{"$f":"VALUE(DINAMICA!$A177)","v":0},{"$f":"VALUE(DINAMICA!$B177)","v":"00:00:00"},{"$f":"VALUE(DINAMICA!$C177)","v":0},{"$f":"DINAMICA!D177","v":0},{"$f":"DINAMICA!E177","v":0},{"$f":"DINAMICA!F177","v":0},{"$f":"DINAMICA!G177","v":0},{"$f":"DINAMICA!H177","v":0},{"$f":"DINAMICA!I177","v":0},{"$f":"DINAMICA!J177","v":0},{"$f":"DINAMICA!K177","v":0},{"$f":"VALUE(DINAMICA!$L177)","v":0},{"$f":"VALUE(DINAMICA!$M177)","v":0},{"$f":"VALUE(DINAMICA!$N177)","v":0},{"$f":"VALUE(DINAMICA!$O177)","v":0},{"$f":"VALUE(DINAMICA!$P177)","v":0},{"$f":"VALUE(DINAMICA!$Q177)","v":0},{"$f":"VALUE(DINAMICA!$R177)","v":0}]
[{"$f":"VALUE(DINAMICA!$A178)","v":0},{"$f":"VALUE(DINAMICA!$B178)","v":"00:00:00"},{"$f":"VALUE(DINAMICA!$C178)","v":0},{"$f":"DINAMICA!D178","v":0},{"$f":"DINAMICA!E178","v":0},{"$f":"DINAMICA!F178","v":0},{"$f":"DINAMICA!G178","v":0},{"$f":"DINAMICA!H178","v":0},{"$f":"DINAMICA!I178","v":0},{"$f":"DINAMICA!J178","v":0},{"$f":"DINAMICA!K178","v":0},{"$f":"VALUE(DINAMICA!$L178)","v":0},{"$f":"VALUE(DINAMICA!$M178)","v":0},{"$f":"VALUE(DINAMICA!$N178)","v":0},{"$f":"VALUE(DINAMICA!$O178)","v":0},{"$f":"VALUE(DINAMICA!$P178)","v":0},{"$f":"VALUE(DINAMICA!$Q178)","v":0},{"$f":"VALUE(DINAMICA!$R178)","v":0}]
[{"$f":"VALUE(DINAMICA!$A179)","v":0},{"$f":"VALUE(DINAMICA!$B179)","v":"00:00:00"},{"$f":"VALUE(DINAMICA!$C179)","v":0},{"$f":"DINAMICA!D179","v":0},{"$f":"DINAMICA!E179","v":0},{"$f":"DINAMICA!F179","v":0},{"$f":"DINAMICA!G179","v":0},{"$f":"DINAMICA!H179","v":0},{"$f":"DINAMICA!I179","v":0},{"$f":"DINAMICA!J179","v":0},{"$f":"DINAMICA!K179","v":0},{"$f":"VALUE(DINAMICA!$L179)","v":0},{"$f":"VALUE(DINAMICA!$M179)","v":0},{"$f":"VALUE(DINAMICA!$N179)","v":0},{"$f":"VALUE(DINAMICA!$O179)","v":0},{"$f":"VALUE(DINAMICA!$P179)","v":0},{"$f":"VALUE(DINAMICA!$Q179)","v":0},{"$f":"VALUE(DINAMICA!$R179)","v":0}]
[{"$f":"VALUE(DINAMICA!$A180)","v":0},{"$f":"VALUE(DINAMICA!$B180)","v":"00:00:00"},{"$f":"VALUE(DINAMICA!$C180)","v":0},{"$f":"DINAMICA!D180","v":0},{"$f":"DINAMICA!E180","v":0},{"$f":"DINAMICA!F180","v":0},{"$f":"DINAMICA!G180","v":0},{"$f":"DINAMICA!H180","v":0},{"$f":"DINAMICA!I180","v":0},{"$f":"DINAMICA!J180","v":0},{"$f":"DINAMICA!K180","v":0},{"$f":"VALUE(DINAMICA!$L180)","v":0},{"$f":"VALUE(DINAMICA!$M180)","v":0},{"$f":"VALUE(DINAMICA!$N180)","v":0},{"$f":"VALUE(DINAMICA!$O180)","v":0},{"$f":"VALUE(DINAMICA!$P180)","v":0},{"$f":"VALUE(DINAMICA!$Q180)","v":0},{"$f":"VALUE(DINAMICA!$R180)","v":0}]
[{"$f":"VALUE(DINAMICA!$A181)","v":0},{"$f":"VALUE(DINAMICA!$B181)","v":"00:00:00"},{"$f":"VALUE(DINAMICA!$C181)","v":0},{"$f":"DINAMICA!D181","v":0},{"$f":"DINAMICA!E181","v":0},{"$f":"DINAMICA!F181","v":0},{"$f":"DINAMICA!G181","v":0},{"$f":"DINAMICA!H181","v":0},{"$f":"DINAMICA!I181","v":0},{"$f":"DINAMICA!J181","v":0},{"$f":"DINAMICA!K181","v":0},{"$f":"VALUE(DINAMICA!$L181)","v":0},{"$f":"VALUE(DINAMICA!$M181)","v":0},{"$f":"VALUE(DINAMICA!$N181)","v":0},{"$f":"VALUE(DINAMICA!$O181)","v":0},{"$f":"VALUE(DINAMICA!$P181)","v":0},{"$f":"VALUE(DINAMICA!$Q181)","v":0},{"$f":"VALUE(DINAMICA!$R181)","v":0}]
[{"$f":"VALUE(DINAMICA!$A182)","v":0},{"$f":"VALUE(DINAMICA!$B182)","v":"00:00:00"},{"$f":"VALUE(DINAMICA!$C182)","v":0},{"$f":"DINAMICA!D182","v":0},{"$f":"DINAMICA!E182","v":0},{"$f":"DINAMICA!F182","v":0},{"$f":"DINAMICA!G182","v":0},{"$f":"DINAMICA!H182","v":0},{"$f":"DINAMICA!I182","v":0},{"$f":"DINAMICA!J182","v":0},{"$f":"DINAMICA!K182","v":0},{"$f":"VALUE(DINAMICA!$L182)","v":0},{"$f":"VALUE(DINAMICA!$M182)","v":0},{"$f":"VALUE(DINAMICA!$N182)","v":0},{"$f":"VALUE(DINAMICA!$O182)","v":0},{"$f":"VALUE(DINAMICA!$P182)","v":0},{"$f":"VALUE(DINAMICA!$Q182)","v":0},{"$f":"VALUE(DINAMICA!$R182)","v":0}]
[{"$f":"VALUE(DINAMICA!$A183)","v":0},{"$f":"VALUE(DINAMICA!$B183)","v":"00:00:00"},{"$f":"VALUE(DINAMICA!$C183)","v":0},{"$f":"DINAMICA!D183","v":0},{"$f":"DINAMICA!E183","v":0},{"$f":"DINAMICA!F183","v":0},{"$f":"DINAMICA!G183","v":0},{"$f":"DINAMICA!H183","v":0},{"$f":"DINAMICA!I183","v":0},{"$f":"DINAMICA!J183","v":0},{"$f":"DINAMICA!K183","v":0},{"$f":"VALUE(DINAMICA!$L183)","v":0},{"$f":"VALUE(DINAMICA!$M183)","v":0},{"$f":"VALUE(DINAMICA!$N183)","v":0},{"$f":"VALUE(DINAMICA!$O183)","v":0},{"$f":"VALUE(DINAMICA!$P183)","v":0},{"$f":"VALUE(DINAMICA!$Q183)","v":0},{"$f":"VALUE(DINAMICA!$R183)","v":0}]
[{"$f":"VALUE(DINAMICA!$A184)","v":0},{"$f":"VALUE(DINAMICA!$B184)","v":"00:00:00"},{"$f":"VALUE(DINAMICA!$C184)","v":0},{"$f":"DINAMICA!D184","v":0},{"$f":"DINAMICA!E184","v":0},{"$f":"DINAMICA!F184","v":0},{"$f":"DINAMICA!G184","v":0},{"$f":"DINAMICA!H184","v":0},{"$f":"DINAMICA!I184","v":0},{"$f":"DINAMICA!J184","v":0},{"$f":"DINAMICA!K184","v":0},{"$f":"VALUE(DINAMICA!$L184)","v":0},{"$f":"VALUE(DINAMICA!$M184)","v":0},{"$f":"VALUE(DINAMICA!$N184)","v":0},{"$f":"VALUE(DINAMICA!$O184)","v":0},{"$f":"VALUE(DINAMICA!$P184)","v":0},{"$f":"VALUE(DINAMICA!$Q184)","v":0},{"$f":"VALUE(DINAMICA!$R184)","v":0}]
[{"$f":"VALUE(DINAMICA!$A185)","v":0},{"$f":"VALUE(DINAMICA!$B185)","v":"00:00:00"},{"$f":"VALUE(DINAMICA!$C185)","v":0},{"$f":"DINAMICA!D185","v":0},{"$f":"DINAMICA!E185","v":0},{"$f":"DINAMICA!F185","v":0},{"$f":"DINAMICA!G185","v":0},{"$f":"DINAMICA!H185","v":0},{"$f":"DINAMICA!I185","v":0},{"$f":"DINAMICA!J185","v":0},{"$f":"DINAMICA!K185","v":0},{"$f":"VALUE(DINAMICA!$L185)","v":0},{"$f":"VALUE(DINAMICA!$M185)","v":0},{"$f":"VALUE(DINAMICA!$N185)","v":0},{"$f":"VALUE(DINAMICA!$O185)","v":0},{"$f":"VALUE(DINAMICA!$P185)","v":0},{"$f":"VALUE(DINAMICA!$Q185)","v":0},{"$f":"VALUE(DINAMICA!$R185)","v":0}]
[{"$f":"VALUE(DINAMICA!$A186)","v":0},{"$f":"VALUE(DINAMICA!$B186)","v":"00:00:00"},{"$f":"VALUE(DINAMICA!$C186)","v":0},{"$f":"DINAMICA!D186","v":0},{"$f":"DINAMICA!E186","v":0},{"$f":"DINAMICA!F186","v":0},{"$f":"DINAMICA!G186","v":0},{"$f":"DINAMICA!H186","v":0},{"$f":"DINAMICA!I186","v":0},{"$f":"DINAMICA!J186","v":0},{"$f":"DINAMICA!K186","v":0},{"$f":"VALUE(DINAMICA!$L186)","v":0},{"$f":"VALUE(DINAMICA!$M186)","v":0},{"$f":"VALUE(DINAMICA!$N186)","v":0},{"$f":"VALUE(DINAMICA!$O186)","v":0},{"$f":"VALUE(DINAMICA!$P186)","v":0},{"$f":"VALUE(DINAMICA!$Q186)","v":0},{"$f":"VALUE(DINAMICA!$R186)","v":0}]
[{"$f":"VALUE(DINAMICA!$A187)","v":0},{"$f":"VALUE(DINAMICA!$B187)","v":"00:00:00"},{"$f":"VALUE(DINAMICA!$C187)","v":0},{"$f":"DINAMICA!D187","v":0},{"$f":"DINAMICA!E187","v":0},{"$f":"DINAMICA!F187","v":0},{"$f":"DINAMICA!G187","v":0},{"$f":"DINAMICA!H187","v":0},{"$f":"DINAMICA!I187","v":0},{"$f":"DINAMICA!J187","v":0},{"$f":"DINAMICA!K187","v":0},{"$f":"VALUE(DINAMICA!$L187)","v":0},{"$f":"VALUE(DINAMICA!$M187)","v":0},{"$f":"VALUE(DINAMICA!$N187)","v":0},{"$f":"VALUE(DINAMICA!$O187)","v":0},{"$f":"VALUE(DINAMICA!$P187)","v":0},{"$f":"VALUE(DINAMICA!$Q187)","v":0},{"$f":"VALUE(DINAMICA!$R187)","v":0}]
[{"$f":"VALUE(DINAMICA!$A188)","v":0},{"$f":"VALUE(DINAMICA!$B188)","v":"00:00:00"},{"$f":"VALUE(DINAMICA!$C188)","v":0},{"$f":"DINAMICA!D188","v":0},{"$f":"DINAMICA!E188","v":0},{"$f":"DINAMICA!F188","v":0},{"$f":"DINAMICA!G188","v":0},{"$f":"DINAMICA!H188","v":0},{"$f":"DINAMICA!I188","v":0},{"$f":"DINAMICA!J188","v":0},{"$f":"DINAMICA!K188","v":0},{"$f":"VALUE(DINAMICA!$L188)","v":0},{"$f":"VALUE(DINAMICA!$M188)","v":0},{"$f":"VALUE(DINAMICA!$N188)","v":0},{"$f":"VALUE(DINAMICA!$O188)","v":0},{"$f":"VALUE(DINAMICA!$P188)","v":0},{"$f":"VALUE(DINAMICA!$Q188)","v":0},{"$f":"VALUE(DINAMICA!$R188)","v":0}]
[{"$f":"VALUE(DINAMICA!$A189)","v":0},{"$f":"VALUE(DINAMICA!$B189)","v":"00:00:00"},{"$f":"VALUE(DINAMICA!$C189)","v":0},{"$f":"DINAMICA!D189","v":0},{"$f":"DINAMICA!E189","v":0},{"$f":"DINAMICA!F189","v":0},{"$f":"DINAMICA!G189","v":0},{"$f":"DINAMICA!H189","v":0},{"$f":"DINAMICA!I189","v":0},{"$f":"DINAMICA!J189","v":0},{"$f":"DINAMICA!K189","v":0},{"$f":"VALUE(DINAMICA!$L189)","v":0},{"$f":"VALUE(DINAMICA!$M189)","v":0},{"$f":"VALUE(DINAMICA!$N189)","v":0},{"$f":"VALUE(DINAMICA!$O189)","v":0},{"$f":"VALUE(DINAMICA!$P189)","v":0},{"$f":"VALUE(DINAMICA!$Q189)","v":0},{"$f":"VALUE(DINAMICA!$R189)","v":0}]
[{"$f":"VALUE(DINAMICA!$A190)","v":0},{"$f":"VALUE(DINAMICA!$B190)","v":"00:00:00"},{"$f":"VALUE(DINAMICA!$C190)","v":0},{"$f":"DINAMICA!D190","v":0},{"$f":"DINAMICA!E190","v":0},{"$f":"DINAMICA!F190","v":0},{"$f":"DINAMICA!G190","v":0},{"$f":"DINAMICA!H190","v":0},{"$f":"DINAMICA!I190","v":0},{"$f":"DINAMICA!J190","v":0},{"$f":"DINAMICA!K190","v":0},{"$f":"VALUE(DINAMICA!$L190)","v":0},{"$f":"VALUE(DINAMICA!$M190)","v":0},{"$f":"VALUE(DINAMICA!$N190)","v":0},{"$f":"VALUE(DINAMICA!$O190)","v":0},{"$f":"VALUE(DINAMICA!$P190)","v":0},{"$f":"VALUE(DINAMICA!$Q190)","v":0},{"$f":"VALUE(DINAMICA!$R190)","v":0}]
[{"$f":"VALUE(DINAMICA!$A191)","v":0},{"$f":"VALUE(DINAMICA!$B191)","v":"00:00:00"},{"$f":"VALUE(DINAMICA!$C191)","v":0},{"$f":"DINAMICA!D191","v":0},{"$f":"DINAMICA!E191","v":0},{"$f":"DINAMICA!F191","v":0},{"$f":"DINAMICA!G191","v":0},{"$f":"DINAMICA!H191","v":0},{"$f":"DINAMICA!I191","v":0},{"$f":"DINAMICA!J191","v":0},{"$f":"DINAMICA!K191","v":0},{"$f":"VALUE(DINAMICA!$L191)","v":0},{"$f":"VALUE(DINAMICA!$M191)","v":0},{"$f":"VALUE(DINAMICA!$N191)","v":0},{"$f":"VALUE(DINAMICA!$O191)","v":0},{"$f":"VALUE(DINAMICA!$P191)","v":0},{"$f":"VALUE(DINAMICA!$Q191)","v":0},{"$f":"VALUE(DINAMICA!$R191)","v":0}]
[{"$f":"VALUE(DINAMICA!$A192)","v":0},{"$f":"VALUE(DINAMICA!$B192)","v":"00:00:00"},{"$f":"VALUE(DINAMICA!$C192)","v":0},{"$f":"DINAMICA!D192","v":0},{"$f":"DINAMICA!E192","v":0},{"$f":"DINAMICA!F192","v":0},{"$f":"DINAMICA!G192","v":0},{"$f":"DINAMICA!H192","v":0},{"$f":"DINAMICA!I192","v":0},{"$f":"DINAMICA!J192","v":0},{"$f":"DINAMICA!K192","v":0},{"$f":"VALUE(DINAMICA!$L192)","v":0},{"$f":"VALUE(DINAMICA!$M192)","v":0},{"$f":"VALUE(DINAMICA!$N192)","v":0},{"$f":"VALUE(DINAMICA!$O192)","v":0},{"$f":"VALUE(DINAMICA!$P192)","v":0},{"$f":"VALUE(DINAMICA!$Q192)","v":0},{"$f":"VALUE(DINAMICA!$R192)","v":0}]
[{"$f":"VALUE(DINAMICA!$A193)","v":0},{"$f":"VALUE(DINAMICA!$B193)","v":"00:00:00"},{"$f":"VALUE(DINAMICA!$C193)","v":0},{"$f":"DINAMICA!D193","v":0},{"$f":"DINAMICA!E193","v":0},{"$f":"DINAMICA!F193","v":0},{"$f":"DINAMICA!G193","v":0},{"$f":"DINAMICA!H193","v":0},{"$f":"DINAMICA!I193","v":0},{"$f":"DINAMICA!J193","v":0},{"$f":"DINAMICA!K193","v":0},{"$f":"VALUE(DINAMICA!$L193)","v":0},{"$f":"VALUE(DINAMICA!$M193)","v":0},{"$f":"VALUE(DINAMICA!$N193)","v":0},{"$f":"VALUE(DINAMICA!$O193)","v":0},{"$f":"VALUE(DINAMICA!$P193)","v":0},{"$f":"VALUE(DINAMICA!$Q193)","v":0},{"$f":"VALUE(DINAMICA!$R193)","v":0}]
[{"$f":"VALUE(DINAMICA!$A194)","v":0},{"$f":"VALUE(DINAMICA!$B194)","v":"00:00:00"},{"$f":"VALUE(DINAMICA!$C194)","v":0},{"$f":"DINAMICA!D194","v":0},{"$f":"DINAMICA!E194","v":0},{"$f":"DINAMICA!F194","v":0},{"$f":"DINAMICA!G194","v":0},{"$f":"DINAMICA!H194","v":0},{"$f":"DINAMICA!I194","v":0},{"$f":"DINAMICA!J194","v":0},{"$f":"DINAMICA!K194","v":0},{"$f":"VALUE(DINAMICA!$L194)","v":0},{"$f":"VALUE(DINAMICA!$M194)","v":0},{"$f":"VALUE(DINAMICA!$N194)","v":0},{"$f":"VALUE(DINAMICA!$O194)","v":0},{"$f":"VALUE(DINAMICA!$P194)","v":0},{"$f":"VALUE(DINAMICA!$Q194)","v":0},{"$f":"VALUE(DINAMICA!$R194)","v":0}]
[{"$f":"VALUE(DINAMICA!$A195)","v":0},{"$f":"VALUE(DINAMICA!$B195)","v":"00:00:00"},{"$f":"VALUE(DINAMICA!$C195)","v":0},{"$f":"DINAMICA!D195","v":0},{"$f":"DINAMICA!E195","v":0},{"$f":"DINAMICA!F195","v":0},{"$f":"DINAMICA!G195","v":0},{"$f":"DINAMICA!H195","v":0},{"$f":"DINAMICA!I195","v":0},{"$f":"DINAMICA!J195","v":0},{"$f":"DINAMICA!K195","v":0},{"$f":"VALUE(DINAMICA!$L195)","v":0},{"$f":"VALUE(DINAMICA!$M195)","v":0},{"$f":"VALUE(DINAMICA!$N195)","v":0},{"$f":"VALUE(DINAMICA!$O195)","v":0},{"$f":"VALUE(DINAMICA!$P195)","v":0},{"$f":"VALUE(DINAMICA!$Q195)","v":0},{"$f":"VALUE(DINAMICA!$R195)","v":0}]
[{"$f":"VALUE(DINAMICA!$A196)","v":0},{"$f":"VALUE(DINAMICA!$B196)","v":"00:00:00"},{"$f":"VALUE(DINAMICA!$C196)","v":0},{"$f":"DINAMICA!D196","v":0},{"$f":"DINAMICA!E196","v":0},{"$f":"DINAMICA!F196","v":0},{"$f":"DINAMICA!G196","v":0},{"$f":"DINAMICA!H196","v":0},{"$f":"DINAMICA!I196","v":0},{"$f":"DINAMICA!J196","v":0},{"$f":"DINAMICA!K196","v":0},{"$f":"VALUE(DINAMICA!$L196)","v":0},{"$f":"VALUE(DINAMICA!$M196)","v":0},{"$f":"VALUE(DINAMICA!$N196)","v":0},{"$f":"VALUE(DINAMICA!$O196)","v":0},{"$f":"VALUE(DINAMICA!$P196)","v":0},{"$f":"VALUE(DINAMICA!$Q196)","v":0},{"$f":"VALUE(DINAMICA!$R196)","v":0}]
[{"$f":"VALUE(DINAMICA!$A197)","v":0},{"$f":"VALUE(DINAMICA!$B197)","v":"00:00:00"},{"$f":"VALUE(DINAMICA!$C197)","v":0},{"$f":"DINAMICA!D197","v":0},{"$f":"DINAMICA!E197","v":0},{"$f":"DINAMICA!F197","v":0},{"$f":"DINAMICA!G197","v":0},{"$f":"DINAMICA!H197","v":0},{"$f":"DINAMICA!I197","v":0},{"$f":"DINAMICA!J197","v":0},{"$f":"DINAMICA!K197","v":0},{"$f":"VALUE(DINAMICA!$L197)","v":0},{"$f":"VALUE(DINAMICA!$M197)","v":0},{"$f":"VALUE(DINAMICA!$N197)","v":0},{"$f":"VALUE(DINAMICA!$O197)","v":0},{"$f":"VALUE(DINAMICA!$P197)","v":0},{"$f":"VALUE(DINAMICA!$Q197)","v":0},{"$f":"VALUE(DINAMICA!$R197)","v":0}]
[{"$f":"VALUE(DINAMICA!$A198)","v":0},{"$f":"VALUE(DINAMICA!$B198)","v":"00:00:00"},{"$f":"VALUE(DINAMICA!$C198)","v":0},{"$f":"DINAMICA!D198","v":0},{"$f":"DINAMICA!E198","v":0},{"$f":"DINAMICA!F198","v":0},{"$f":"DINAMICA!G198","v":0},{"$f":"DINAMICA!H198","v":0},{"$f":"DINAMICA!I198","v":0},{"$f":"DINAMICA!J198","v":0},{"$f":"DINAMICA!K198","v":0},{"$f":"VALUE(DINAMICA!$L198)","v":0},{"$f":"VALUE(DINAMICA!$M198)","v":0},{"$f":"VALUE(DINAMICA!$N198)","v":0},{"$f":"VALUE(DINAMICA!$O198)","v":0},{"$f":"VALUE(DINAMICA!$P198)","v":0},{"$f":"VALUE(DINAMICA!$Q198)","v":0},{"$f":"VALUE(DINAMICA!$R198)","v":0}]
[{"$f":"VALUE(DINAMICA!$A199)","v":0},{"$f":"VALUE(DINAMICA!$B199)","v":"00:00:00"},{"$f":"VALUE(DINAMICA!$C199)","v":0},{"$f":"DINAMICA!D199","v":0},{"$f":"DINAMICA!E199","v":0},{"$f":"DINAMICA!F199","v":0},{"$f":"DINAMICA!G199","v":0},{"$f":"DINAMICA!H199","v":0},{"$f":"DINAMICA!I199","v":0},{"$f":"DINAMICA!J199","v":0},{"$f":"DINAMICA!K199","v":0},{"$f":"VALUE(DINAMICA!$L199)","v":0},{"$f":"VALUE(DINAMICA!$M199)","v":0},{"$f":"VALUE(DINAMICA!$N199)","v":0},{"$f":"VALUE(DINAMICA!$O199)","v":0},{"$f":"VALUE(DINAMICA!$P199)","v":0},{"$f":"VALUE(DINAMICA!$Q199)","v":0},{"$f":"VALUE(DINAMICA!$R199)","v":0}]
[{"$f":"VALUE(DINAMICA!$A200)","v":0},{"$f":"VALUE(DINAMICA!$B200)","v":"00:00:00"},{"$f":"VALUE(DINAMICA!$C200)","v":0},{"$f":"DINAMICA!D200","v":0},{"$f":"DINAMICA!E200","v":0},{"$f":"DINAMICA!F200","v":0},{"$f":"DINAMICA!G200","v":0},{"$f":"DINAMICA!H200","v":0},{"$f":"DINAMICA!I200","v":0},{"$f":"DINAMICA!J200","v":0},{"$f":"DINAMICA!K200","v":0},{"$f":"VALUE(DINAMICA!$L200)","v":0},{"$f":"VALUE(DINAMICA!$M200)","v":0},{"$f":"VALUE(DINAMICA!$N200)","v":0},{"$f":"VALUE(DINAMICA!$O200)","v":0},{"$f":"VALUE(DINAMICA!$P200)","v":0},{"$f":"VALUE(DINAMICA!$Q200)","v":0},{"$f":"VALUE(DINAMICA!$R200)","v":0}]
[{"$f":"VALUE(DINAMICA!$A201)","v":0},{"$f":"VALUE(DINAMICA!$B201)","v":"00:00:00"},{"$f":"VALUE(DINAMICA!$C201)","v":0},{"$f":"DINAMICA!D201","v":0},{"$f":"DINAMICA!E201","v":0},{"$f":"DINAMICA!F201","v":0},{"$f":"DINAMICA!G201","v":0},{"$f":"DINAMICA!H201","v":0},{"$f":"DINAMICA!I201","v":0},{"$f":"DINAMICA!J201","v":0},{"$f":"DINAMICA!K201","v":0},{"$f":"VALUE(DINAMICA!$L201)","v":0},{"$f":"VALUE(DINAMICA!$M201)","v":0},{"$f":"VALUE(DINAMICA!$N201)","v":0},{"$f":"VALUE(DINAMICA!$O201)","v":0},{"$f":"VALUE(DINAMICA!$P201)","v":0},{"$f":"VALUE(DINAMICA!$Q201)","v":0},{"$f":"VALUE(DINAMICA!$R201)","v":0}]
[{"$f":"VALUE(DINAMICA!$A202)","v":0},{"$f":"VALUE(DINAMICA!$B202)","v":"00:00:00"},{"$f":"VALUE(DINAMICA!$C202)","v":0},{"$f":"DINAMICA!D202","v":0},{"$f":"DINAMICA!E202","v":0},{"$f":"DINAMICA!F202","v":0},{"$f":"DINAMICA!G202","v":0},{"$f":"DINAMICA!H202","v":0},{"$f":"DINAMICA!I202","v":0},{"$f":"DINAMICA!J202","v":0},{"$f":"DINAMICA!K202","v":0},{"$f":"VALUE(DINAMICA!$L202)","v":0},{"$f":"VALUE(DINAMICA!$M202)","v":0},{"$f":"VALUE(DINAMICA!$N202)","v":0},{"$f":"VALUE(DINAMICA!$O202)","v":0},{"$f":"VALUE(DINAMICA!$P202)","v":0},{"$f":"VALUE(DINAMICA!$Q202)","v":0},{"$f":"VALUE(DINAMICA!$R202)","v":0}]
[{"$f":"VALUE(DINAMICA!$A203)","v":0},{"$f":"VALUE(DINAMICA!$B203)","v":"00:00:00"},{"$f":"VALUE(DINAMICA!$C203)","v":0},{"$f":"DINAMICA!D203","v":0},{"$f":"DINAMICA!E203","v":0},{"$f":"DINAMICA!F203","v":0},{"$f":"DINAMICA!G203","v":0},{"$f":"DINAMICA!H203","v":0},{"$f":"DINAMICA!I203","v":0},{"$f":"DINAMICA!J203","v":0},{"$f":"DINAMICA!K203","v":0},{"$f":"VALUE(DINAMICA!$L203)","v":0},{"$f":"VALUE(DINAMICA!$M203)","v":0},{"$f":"VALUE(DINAMICA!$N203)","v":0},{"$f":"VALUE(DINAMICA!$O203)","v":0},{"$f":"VALUE(DINAMICA!$P203)","v":0},{"$f":"VALUE(DINAMICA!$Q203)","v":0},{"$f":"VALUE(DINAMICA!$R203)","v":0}]
[{"$f":"VALUE(DINAMICA!$A204)","v":0},{"$f":"VALUE(DINAMICA!$B204)","v":"00:00:00"},{"$f":"VALUE(DINAMICA!$C204)","v":0},{"$f":"DINAMICA!D204","v":0},{"$f":"DINAMICA!E204","v":0},{"$f":"DINAMICA!F204","v":0},{"$f":"DINAMICA!G204","v":0},{"$f":"DINAMICA!H204","v":0},{"$f":"DINAMICA!I204","v":0},{"$f":"DINAMICA!J204","v":0},{"$f":"DINAMICA!K204","v":0},{"$f":"VALUE(DINAMICA!$L204)","v":0},{"$f":"VALUE(DINAMICA!$M204)","v":0},{"$f":"VALUE(DINAMICA!$N204)","v":0},{"$f":"VALUE(DINAMICA!$O204)","v":0},{"$f":"VALUE(DINAMICA!$P204)","v":0},{"$f":"VALUE(DINAMICA!$Q204)","v":0},{"$f":"VALUE(DINAMICA!$R204)","v":0}]
[{"$f":"VALUE(DINAMICA!$A205)","v":0},{"$f":"VALUE(DINAMICA!$B205)","v":"00:00:00"},{"$f":"VALUE(DINAMICA!$C205)","v":0},{"$f":"DINAMICA!D205","v":0},{"$f":"DINAMICA!E205","v":0},{"$f":"DINAMICA!F205","v":0},{"$f":"DINAMICA!G205","v":0},{"$f":"DINAMICA!H205","v":0},{"$f":"DINAMICA!I205","v":0},{"$f":"DINAMICA!J205","v":0},{"$f":"DINAMICA!K205","v":0},{"$f":"VALUE(DINAMICA!$L205)","v":0},{"$f":"VALUE(DINAMICA!$M205)","v":0},{"$f":"VALUE(DINAMICA!$N205)","v":0},{"$f":"VALUE(DINAMICA!$O205)","v":0},{"$f":"VALUE(DINAMICA!$P205)","v":0},{"$f":"VALUE(DINAMICA!$Q205)","v":0},{"$f":"VALUE(DINAMICA!$R205)","v":0}]
[{"$f":"VALUE(DINAMICA!$A206)","v":0},{"$f":"VALUE(DINAMICA!$B206)","v":"00:00:00"},{"$f":"VALUE(DINAMICA!$C206)","v":0},{"$f":"DINAMICA!D206","v":0},{"$f":"DINAMICA!E206","v":0},{"$f":"DINAMICA!F206","v":0},{"$f":"DINAMICA!G206","v":0},{"$f":"DINAMICA!H206","v":0},{"$f":"DINAMICA!I206","v":0},{"$f":"DINAMICA!J206","v":0},{"$f":"DINAMICA!K206","v":0},{"$f":"VALUE(DINAMICA!$L206)","v":0},{"$f":"VALUE(DINAMICA!$M206)","v":0},{"$f":"VALUE(DINAMICA!$N206)","v":0},{"$f":"VALUE(DINAMICA!$O206)","v":0},{"$f":"VALUE(DINAMICA!$P206)","v":0},{"$f":"VALUE(DINAMICA!$Q206)","v":0},{"$f":"VALUE(DINAMICA!$R206)","v":0}]
[{"$f":"VALUE(DINAMICA!$A207)","v":0},{"$f":"VALUE(DINAMICA!$B207)","v":"00:00:00"},{"$f":"VALUE(DINAMICA!$C207)","v":0},{"$f":"DINAMICA!D207","v":0},{"$f":"DINAMICA!E207","v":0},{"$f":"DINAMICA!F207","v":0},{"$f":"DINAMICA!G207","v":0},{"$f":"DINAMICA!H207","v":0},{"$f":"DINAMICA!I207","v":0},{"$f":"DINAMICA!J207","v":0},{"$f":"DINAMICA!K207","v":0},{"$f":"VALUE(DINAMICA!$L207)","v":0},{"$f":"VALUE(DINAMICA!$M207)","v":0},{"$f":"VALUE(DINAMICA!$N207)","v":0},{"$f":"VALUE(DINAMICA!$O207)","v":0},{"$f":"VALUE(DINAMICA!$P207)","v":0},{"$f":"VALUE(DINAMICA!$Q207)","v":0},{"$f":"VALUE(DINAMICA!$R207)","v":0}]
[{"$f":"VALUE(DINAMICA!$A208)","v":0},{"$f":"VALUE(DINAMICA!$B208)","v":"00:00:00"},{"$f":"VALUE(DINAMICA!$C208)","v":0},{"$f":"DINAMICA!D208","v":0},{"$f":"DINAMICA!E208","v":0},{"$f":"DINAMICA!F208","v":0},{"$f":"DINAMICA!G208","v":0},{"$f":"DINAMICA!H208","v":0},{"$f":"DINAMICA!I208","v":0},{"$f":"DINAMICA!J208","v":0},{"$f":"DINAMICA!K208","v":0},{"$f":"VALUE(DINAMICA!$L208)","v":0},{"$f":"VALUE(DINAMICA!$M208)","v":0},{"$f":"VALUE(DINAMICA!$N208)","v":0},{"$f":"VALUE(DINAMICA!$O208)","v":0},{"$f":"VALUE(DINAMICA!$P208)","v":0},{"$f":"VALUE(DINAMICA!$Q208)","v":0},{"$f":"VALUE(DINAMICA!$R208)","v":0}]
[{"$f":"VALUE(DINAMICA!$A209)","v":0},{"$f":"VALUE(DINAMICA!$B209)","v":"00:00:00"},{"$f":"VALUE(DINAMICA!$C209)","v":0},{"$f":"DINAMICA!D209","v":0},{"$f":"DINAMICA!E209","v":0},{"$f":"DINAMICA!F209","v":0},{"$f":"DINAMICA!G209","v":0},{"$f":"DINAMICA!H209","v":0},{"$f":"DINAMICA!I209","v":0},{"$f":"DINAMICA!J209","v":0},{"$f":"DINAMICA!K209","v":0},{"$f":"VALUE(DINAMICA!$L209)","v":0},{"$f":"VALUE(DINAMICA!$M209)","v":0},{"$f":"VALUE(DINAMICA!$N209)","v":0},{"$f":"VALUE(DINAMICA!$O209)","v":0},{"$f":"VALUE(DINAMICA!$P209)","v":0},{"$f":"VALUE(DINAMICA!$Q209)","v":0},{"$f":"VALUE(DINAMICA!$R209)","v":0}]
[{"$f":"VALUE(DINAMICA!$A210)","v":0},{"$f":"VALUE(DINAMICA!$B210)","v":"00:00:00"},{"$f":"VALUE(DINAMICA!$C210)","v":0},{"$f":"DINAMICA!D210","v":0},{"$f":"DINAMICA!E210","v":0},{"$f":"DINAMICA!F210","v":0},{"$f":"DINAMICA!G210","v":0},{"$f":"DINAMICA!H210","v":0},{"$f":"DINAMICA!I210","v":0},{"$f":"DINAMICA!J210","v":0},{"$f":"DINAMICA!K210","v":0},{"$f":"VALUE(DINAMICA!$L210)","v":0},{"$f":"VALUE(DINAMICA!$M210)","v":0},{"$f":"VALUE(DINAMICA!$N210)","v":0},{"$f":"VALUE(DINAMICA!$O210)","v":0},{"$f":"VALUE(DINAMICA!$P210)","v":0},{"$f":"VALUE(DINAMICA!$Q210)","v":0},{"$f":"VALUE(DINAMICA!$R210)","v":0}]
[{"$f":"VALUE(DINAMICA!$A211)","v":0},{"$f":"VALUE(DINAMICA!$B211)","v":"00:00:00"},{"$f":"VALUE(DINAMICA!$C211)","v":0},{"$f":"DINAMICA!D211","v":0},{"$f":"DINAMICA!E211","v":0},{"$f":"DINAMICA!F211","v":0},{"$f":"DINAMICA!G211","v":0},{"$f":"DINAMICA!H211","v":0},{"$f":"DINAMICA!I211","v":0},{"$f":"DINAMICA!J211","v":0},{"$f":"DINAMICA!K211","v":0},{"$f":"VALUE(DINAMICA!$L211)","v":0},{"$f":"VALUE(DINAMICA!$M211)","v":0},{"$f":"VALUE(DINAMICA!$N211)","v":0},{"$f":"VALUE(DINAMICA!$O211)","v":0},{"$f":"VALUE(DINAMICA!$P211)","v":0},{"$f":"VALUE(DINAMICA!$Q211)","v":0},{"$f":"VALUE(DINAMICA!$R211)","v":0}]
[{"$f":"VALUE(DINAMICA!$A212)","v":0},{"$f":"VALUE(DINAMICA!$B212)","v":"00:00:00"},{"$f":"VALUE(DINAMICA!$C212)","v":0},{"$f":"DINAMICA!D212","v":0},{"$f":"DINAMICA!E212","v":0},{"$f":"DINAMICA!F212","v":0},{"$f":"DINAMICA!G212","v":0},{"$f":"DINAMICA!H212","v":0},{"$f":"DINAMICA!I212","v":0},{"$f":"DINAMICA!J212","v":0},{"$f":"DINAMICA!K212","v":0},{"$f":"VALUE(DINAMICA!$L212)","v":0},{"$f":"VALUE(DINAMICA!$M212)","v":0},{"$f":"VALUE(DINAMICA!$N212)","v":0},{"$f":"VALUE(DINAMICA!$O212)","v":0},{"$f":"VALUE(DINAMICA!$P212)","v":0},{"$f":"VALUE(DINAMICA!$Q212)","v":0},{"$f":"VALUE(DINAMICA!$R212)","v":0}]
[{"$f":"VALUE(DINAMICA!$A213)","v":0},{"$f":"VALUE(DINAMICA!$B213)","v":"00:00:00"},{"$f":"VALUE(DINAMICA!$C213)","v":0},{"$f":"DINAMICA!D213","v":0},{"$f":"DINAMICA!E213","v":0},{"$f":"DINAMICA!F213","v":0},{"$f":"DINAMICA!G213","v":0},{"$f":"DINAMICA!H213","v":0},{"$f":"DINAMICA!I213","v":0},{"$f":"DINAMICA!J213","v":0},{"$f":"DINAMICA!K213","v":0},{"$f":"VALUE(DINAMICA!$L213)","v":0},{"$f":"VALUE(DINAMICA!$M213)","v":0},{"$f":"VALUE(DINAMICA!$N213)","v":0},{"$f":"VALUE(DINAMICA!$O213)","v":0},{"$f":"VALUE(DINAMICA!$P213)","v":0},{"$f":"VALUE(DINAMICA!$Q213)","v":0},{"$f":"VALUE(DINAMICA!$R213)","v":0}]
[{"$f":"VALUE(DINAMICA!$A214)","v":0},{"$f":"VALUE(DINAMICA!$B214)","v":"00:00:00"},{"$f":"VALUE(DINAMICA!$C214)","v":0},{"$f":"DINAMICA!D214","v":0},{"$f":"DINAMICA!E214","v":0},{"$f":"DINAMICA!F214","v":0},{"$f":"DINAMICA!G214","v":0},{"$f":"DINAMICA!H214","v":0},{"$f":"DINAMICA!I214","v":0},{"$f":"DINAMICA!J214","v":0},{"$f":"DINAMICA!K214","v":0},{"$f":"VALUE(DINAMICA!$L214)","v":0},{"$f":"VALUE(DINAMICA!$M214)","v":0},{"$f":"VALUE(DINAMICA!$N214)","v":0},{"$f":"VALUE(DINAMICA!$O214)","v":0},{"$f":"VALUE(DINAMICA!$P214)","v":0},{"$f":"VALUE(DINAMICA!$Q214)","v":0},{"$f":"VALUE(DINAMICA!$R214)","v":0}]
[{"$f":"VALUE(DINAMICA!$A215)","v":0},{"$f":"VALUE(DINAMICA!$B215)","v":"00:00:00"},{"$f":"VALUE(DINAMICA!$C215)","v":0},{"$f":"DINAMICA!D215","v":0},{"$f":"DINAMICA!E215","v":0},{"$f":"DINAMICA!F215","v":0},{"$f":"DINAMICA!G215","v":0},{"$f":"DINAMICA!H215","v":0},{"$f":"DINAMICA!I215","v":0},{"$f":"DINAMICA!J215","v":0},{"$f":"DINAMICA!K215","v":0},{"$f":"VALUE(DINAMICA!$L215)","v":0},{"$f":"VALUE(DINAMICA!$M215)","v":0},{"$f":"VALUE(DINAMICA!$N215)","v":0},{"$f":"VALUE(DINAMICA!$O215)","v":0},{"$f":"VALUE(DINAMICA!$P215)","v":0},{"$f":"VALUE(DINAMICA!$Q215)","v":0},{"$f":"VALUE(DINAMICA!$R215)","v":0}]
[{"$f":"VALUE(DINAMICA!$A216)","v":0},{"$f":"VALUE(DINAMICA!$B216)","v":"00:00:00"},{"$f":"VALUE(DINAMICA!$C216)","v":0},{"$f":"DINAMICA!D216","v":0},{"$f":"DINAMICA!E216","v":0},{"$f":"DINAMICA!F216","v":0},{"$f":"DINAMICA!G216","v":0},{"$f":"DINAMICA!H216","v":0},{"$f":"DINAMICA!I216","v":0},{"$f":"DINAMICA!J216","v":0},{"$f":"DINAMICA!K216","v":0},{"$f":"VALUE(DINAMICA!$L216)","v":0},{"$f":"VALUE(DINAMICA!$M216)","v":0},{"$f":"VALUE(DINAMICA!$N216)","v":0},{"$f":"VALUE(DINAMICA!$O216)","v":0},{"$f":"VALUE(DINAMICA!$P216)","v":0},{"$f":"VALUE(DINAMICA!$Q216)","v":0},{"$f":"VALUE(DINAMICA!$R216)","v":0}]
[{"$f":"VALUE(DINAMICA!$A217)","v":0},{"$f":"VALUE(DINAMICA!$B217)","v":"00:00:00"},{"$f":"VALUE(DINAMICA!$C217)","v":0},{"$f":"DINAMICA!D217","v":0},{"$f":"DINAMICA!E217","v":0},{"$f":"DINAMICA!F217","v":0},{"$f":"DINAMICA!G217","v":0},{"$f":"DINAMICA!H217","v":0},{"$f":"DINAMICA!I217","v":0},{"$f":"DINAMICA!J217","v":0},{"$f":"DINAMICA!K217","v":0},{"$f":"VALUE(DINAMICA!$L217)","v":0},{"$f":"VALUE(DINAMICA!$M217)","v":0},{"$f":"VALUE(DINAMICA!$N217)","v":0},{"$f":"VALUE(DINAMICA!$O217)","v":0},{"$f":"VALUE(DINAMICA!$P217)","v":0},{"$f":"VALUE(DINAMICA!$Q217)","v":0},{"$f":"VALUE(DINAMICA!$R217)","v":0}]
[{"$f":"VALUE(DINAMICA!$A218)","v":0},{"$f":"VALUE(DINAMICA!$B218)","v":"00:00:00"},{"$f":"VALUE(DINAMICA!$C218)","v":0},{"$f":"DINAMICA!D218","v":0},{"$f":"DINAMICA!E218","v":0},{"$f":"DINAMICA!F218","v":0},{"$f":"DINAMICA!G218","v":0},{"$f":"DINAMICA!H218","v":0},{"$f":"DINAMICA!I218","v":0},{"$f":"DINAMICA!J218","v":0},{"$f":"DINAMICA!K218","v":0},{"$f":"VALUE(DINAMICA!$L218)","v":0},{"$f":"VALUE(DINAMICA!$M218)","v":0},{"$f":"VALUE(DINAMICA!$N218)","v":0},{"$f":"VALUE(DINAMICA!$O218)","v":0},{"$f":"VALUE(DINAMICA!$P218)","v":0},{"$f":"VALUE(DINAMICA!$Q218)","v":0},{"$f":"VALUE(DINAMICA!$R218)","v":0}]
[{"$f":"VALUE(DINAMICA!$A219)","v":0},{"$f":"VALUE(DINAMICA!$B219)","v":"00:00:00"},{"$f":"VALUE(DINAMICA!$C219)","v":0},{"$f":"DINAMICA!D219","v":0},{"$f":"DINAMICA!E219","v":0},{"$f":"DINAMICA!F219","v":0},{"$f":"DINAMICA!G219","v":0},{"$f":"DINAMICA!H219","v":0},{"$f":"DINAMICA!I219","v":0},{"$f":"DINAMICA!J219","v":0},{"$f":"DINAMICA!K219","v":0},{"$f":"VALUE(DINAMICA!$L219)","v":0},{"$f":"VALUE(DINAMICA!$M219)","v":0},{"$f":"VALUE(DINAMICA!$N219)","v":0},{"$f":"VALUE(DINAMICA!$O219)","v":0},{"$f":"VALUE(DINAMICA!$P219)","v":0},{"$f":"VALUE(DINAMICA!$Q219)","v":0},{"$f":"VALUE(DINAMICA!$R219)","v":0}]
[{"$f":"VALUE(DINAMICA!$A220)","v":0},{"$f":"VALUE(DINAMICA!$B220)","v":"00:00:00"},{"$f":"VALUE(DINAMICA!$C220)","v":0},{"$f":"DINAMICA!D220","v":0},{"$f":"DINAMICA!E220","v":0},{"$f":"DINAMICA!F220","v":0},{"$f":"DINAMICA!G220","v":0},{"$f":"DINAMICA!H220","v":0},{"$f":"DINAMICA!I220","v":0},{"$f":"DINAMICA!J220","v":0},{"$f":"DINAMICA!K220","v":0},{"$f":"VALUE(DINAMICA!$L220)","v":0},{"$f":"VALUE(DINAMICA!$M220)","v":0},{"$f":"VALUE(DINAMICA!$N220)","v":0},{"$f":"VALUE(DINAMICA!$O220)","v":0},{"$f":"VALUE(DINAMICA!$P220)","v":0},{"$f":"VALUE(DINAMICA!$Q220)","v":0},{"$f":"VALUE(DINAMICA!$R220)","v":0}]
[{"$f":"VALUE(DINAMICA!$A221)","v":0},{"$f":"VALUE(DINAMICA!$B221)","v":"00:00:00"},{"$f":"VALUE(DINAMICA!$C221)","v":0},{"$f":"DINAMICA!D221","v":0},{"$f":"DINAMICA!E221","v":0},{"$f":"DINAMICA!F221","v":0},{"$f":"DINAMICA!G221","v":0},{"$f":"DINAMICA!H221","v":0},{"$f":"DINAMICA!I221","v":0},{"$f":"DINAMICA!J221","v":0},{"$f":"DINAMICA!K221","v":0},{"$f":"VALUE(DINAMICA!$L221)","v":0},{"$f":"VALUE(DINAMICA!$M221)","v":0},{"$f":"VALUE(DINAMICA!$N221)","v":0},{"$f":"VALUE(DINAMICA!$O221)","v":0},{"$f":"VALUE(DINAMICA!$P221)","v":0},{"$f":"VALUE(DINAMICA!$Q221)","v":0},{"$f":"VALUE(DINAMICA!$R221)","v":0}]
[{"$f":"VALUE(DINAMICA!$A222)","v":0},{"$f":"VALUE(DINAMICA!$B222)","v":"00:00:00"},{"$f":"VALUE(DINAMICA!$C222)","v":0},{"$f":"DINAMICA!D222","v":0},{"$f":"DINAMICA!E222","v":0},{"$f":"DINAMICA!F222","v":0},{"$f":"DINAMICA!G222","v":0},{"$f":"DINAMICA!H222","v":0},{"$f":"DINAMICA!I222","v":0},{"$f":"DINAMICA!J222","v":0},{"$f":"DINAMICA!K222","v":0},{"$f":"VALUE(DINAMICA!$L222)","v":0},{"$f":"VALUE(DINAMICA!$M222)","v":0},{"$f":"VALUE(DINAMICA!$N222)","v":0},{"$f":"VALUE(DINAMICA!$O222)","v":0},{"$f":"VALUE(DINAMICA!$P222)","v":0},{"$f":"VALUE(DINAMICA!$Q222)","v":0},{"$f":"VALUE(DINAMICA!$R222)","v":0}]
[{"$f":"VALUE(DINAMICA!$A223)","v":0},{"$f":"VALUE(DINAMICA!$B223)","v":"00:00:00"},{"$f":"VALUE(DINAMICA!$C223)","v":0},{"$f":"DINAMICA!D223","v":0},{"$f":"DINAMICA!E223","v":0},{"$f":"DINAMICA!F223","v":0},{"$f":"DINAMICA!G223","v":0},{"$f":"DINAMICA!H223","v":0},{"$f":"DINAMICA!I223","v":0},{"$f":"DINAMICA!J223","v":0},{"$f":"DINAMICA!K223","v":0},{"$f":"VALUE(DINAMICA!$L223)","v":0},{"$f":"VALUE(DINAMICA!$M223)","v":0},{"$f":"VALUE(DINAMICA!$N223)","v":0},{"$f":"VALUE(DINAMICA!$O223)","v":0},{"$f":"VALUE(DINAMICA!$P223)","v":0},{"$f":"VALUE(DINAMICA!$Q223)","v":0},{"$f":"VALUE(DINAMICA!$R223)","v":0}]
[{"$f":"VALUE(DINAMICA!$A224)","v":0},{"$f":"VALUE(DINAMICA!$B224)","v":"00:00:00"},{"$f":"VALUE(DINAMICA!$C224)","v":0},{"$f":"DINAMICA!D224","v":0},{"$f":"DINAMICA!E224","v":0},{"$f":"DINAMICA!F224","v":0},{"$f":"DINAMICA!G224","v":0},{"$f":"DINAMICA!H224","v":0},{"$f":"DINAMICA!I224","v":0},{"$f":"DINAMICA!J224","v":0},{"$f":"DINAMICA!K224","v":0},{"$f":"VALUE(DINAMICA!$L224)","v":0},{"$f":"VALUE(DINAMICA!$M224)","v":0},{"$f":"VALUE(DINAMICA!$N224)","v":0},{"$f":"VALUE(DINAMICA!$O224)","v":0},{"$f":"VALUE(DINAMICA!$P224)","v":0},{"$f":"VALUE(DINAMICA!$Q224)","v":0},{"$f":"VALUE(DINAMICA!$R224)","v":0}]
[{"$f":"VALUE(DINAMICA!$A225)","v":0},{"$f":"VALUE(DINAMICA!$B225)","v":"00:00:00"},{"$f":"VALUE(DINAMICA!$C225)","v":0},{"$f":"DINAMICA!D225","v":0},{"$f":"DINAMICA!E225","v":0},{"$f":"DINAMICA!F225","v":0},{"$f":"DINAMICA!G225","v":0},{"$f":"DINAMICA!H225","v":0},{"$f":"DINAMICA!I225","v":0},{"$f":"DINAMICA!J225","v":0},{"$f":"DINAMICA!K225","v":0},{"$f":"VALUE(DINAMICA!$L225)","v":0},{"$f":"VALUE(DINAMICA!$M225)","v":0},{"$f":"VALUE(DINAMICA!$N225)","v":0},{"$f":"VALUE(DINAMICA!$O225)","v":0},{"$f":"VALUE(DINAMICA!$P225)","v":0},{"$f":"VALUE(DINAMICA!$Q225)","v":0},{"$f":"VALUE(DINAMICA!$R225)","v":0}]
[{"$f":"VALUE(DINAMICA!$A226)","v":0},{"$f":"VALUE(DINAMICA!$B226)","v":"00:00:00"},{"$f":"VALUE(DINAMICA!$C226)","v":0},{"$f":"DINAMICA!D226","v":0},{"$f":"DINAMICA!E226","v":0},{"$f":"DINAMICA!F226","v":0},{"$f":"DINAMICA!G226","v":0},{"$f":"DINAMICA!H226","v":0},{"$f":"DINAMICA!I226","v":0},{"$f":"DINAMICA!J226","v":0},{"$f":"DINAMICA!K226","v":0},{"$f":"VALUE(DINAMICA!$L226)","v":0},{"$f":"VALUE(DINAMICA!$M226)","v":0},{"$f":"VALUE(DINAMICA!$N226)","v":0},{"$f":"VALUE(DINAMICA!$O226)","v":0},{"$f":"VALUE(DINAMICA!$P226)","v":0},{"$f":"VALUE(DINAMICA!$Q226)","v":0},{"$f":"VALUE(DINAMICA!$R226)","v":0}]
[{"$f":"VALUE(DINAMICA!$A227)","v":0},{"$f":"VALUE(DINAMICA!$B227)","v":"00:00:00"},{"$f":"VALUE(DINAMICA!$C227)","v":0},{"$f":"DINAMICA!D227","v":0},{"$f":"DINAMICA!E227","v":0},{"$f":"DINAMICA!F227","v":0},{"$f":"DINAMICA!G227","v":0},{"$f":"DINAMICA!H227","v":0},{"$f":"DINAMICA!I227","v":0},{"$f":"DINAMICA!J227","v":0},{"$f":"DINAMICA!K227","v":0},{"$f":"VALUE(DINAMICA!$L227)","v":0},{"$f":"VALUE(DINAMICA!$M227)","v":0},{"$f":"VALUE(DINAMICA!$N227)","v":0},{"$f":"VALUE(DINAMICA!$O227)","v":0},{"$f":"VALUE(DINAMICA!$P227)","v":0},{"$f":"VALUE(DINAMICA!$Q227)","v":0},{"$f":"VALUE(DINAMICA!$R227)","v":0}]
[{"$f":"VALUE(DINAMICA!$A228)","v":0},{"$f":"VALUE(DINAMICA!$B228)","v":"00:00:00"},{"$f":"VALUE(DINAMICA!$C228)","v":0},{"$f":"DINAMICA!D228","v":0},{"$f":"DINAMICA!E228","v":0},{"$f":"DINAMICA!F228","v":0},{"$f":"DINAMICA!G228","v":0},{"$f":"DINAMICA!H228","v":0},{"$f":"DINAMICA!I228","v":0},{"$f":"DINAMICA!J228","v":0},{"$f":"DINAMICA!K228","v":0},{"$f":"VALUE(DINAMICA!$L228)","v":0},{"$f":"VALUE(DINAMICA!$M228)","v":0},{"$f":"VALUE(DINAMICA!$N228)","v":0},{"$f":"VALUE(DINAMICA!$O228)","v":0},{"$f":"VALUE(DINAMICA!$P228)","v":0},{"$f":"VALUE(DINAMICA!$Q228)","v":0},{"$f":"VALUE(DINAMICA!$R228)","v":0}]
[{"$f":"VALUE(DINAMICA!$A229)","v":0},{"$f":"VALUE(DINAMICA!$B229)","v":"00:00:00"},{"$f":"VALUE(DINAMICA!$C229)","v":0},{"$f":"DINAMICA!D229","v":0},{"$f":"DINAMICA!E229","v":0},{"$f":"DINAMICA!F229","v":0},{"$f":"DINAMICA!G229","v":0},{"$f":"DINAMICA!H229","v":0},{"$f":"DINAMICA!I229","v":0},{"$f":"DINAMICA!J229","v":0},{"$f":"DINAMICA!K229","v":0},{"$f":"VALUE(DINAMICA!$L229)","v":0},{"$f":"VALUE(DINAMICA!$M229)","v":0},{"$f":"VALUE(DINAMICA!$N229)","v":0},{"$f":"VALUE(DINAMICA!$O229)","v":0},{"$f":"VALUE(DINAMICA!$P229)","v":0},{"$f":"VALUE(DINAMICA!$Q229)","v":0},{"$f":"VALUE(DINAMICA!$R229)","v":0}]
[{"$f":"VALUE(DINAMICA!$A230)","v":0},{"$f":"VALUE(DINAMICA!$B230)","v":"00:00:00"},{"$f":"VALUE(DINAMICA!$C230)","v":0},{"$f":"DINAMICA!D230","v":0},{"$f":"DINAMICA!E230","v":0},{"$f":"DINAMICA!F230","v":0},{"$f":"DINAMICA!G230","v":0},{"$f":"DINAMICA!H230","v":0},{"$f":"DINAMICA!I230","v":0},{"$f":"DINAMICA!J230","v":0},{"$f":"DINAMICA!K230","v":0},{"$f":"VALUE(DINAMICA!$L230)","v":0},{"$f":"VALUE(DINAMICA!$M230)","v":0},{"$f":"VALUE(DINAMICA!$N230)","v":0},{"$f":"VALUE(DINAMICA!$O230)","v":0},{"$f":"VALUE(DINAMICA!$P230)","v":0},{"$f":"VALUE(DINAMICA!$Q230)","v":0},{"$f":"VALUE(DINAMICA!$R230)","v":0}]
[{"$f":"VALUE(DINAMICA!$A231)","v":0},{"$f":"VALUE(DINAMICA!$B231)","v":"00:00:00"},{"$f":"VALUE(DINAMICA!$C231)","v":0},{"$f":"DINAMICA!D231","v":0},{"$f":"DINAMICA!E231","v":0},{"$f":"DINAMICA!F231","v":0},{"$f":"DINAMICA!G231","v":0},{"$f":"DINAMICA!H231","v":0},{"$f":"DINAMICA!I231","v":0},{"$f":"DINAMICA!J231","v":0},{"$f":"DINAMICA!K231","v":0},{"$f":"VALUE(DINAMICA!$L231)","v":0},{"$f":"VALUE(DINAMICA!$M231)","v":0},{"$f":"VALUE(DINAMICA!$N231)","v":0},{"$f":"VALUE(DINAMICA!$O231)","v":0},{"$f":"VALUE(DINAMICA!$P231)","v":0},{"$f":"VALUE(DINAMICA!$Q231)","v":0},{"$f":"VALUE(DINAMICA!$R231)","v":0}]
[{"$f":"VALUE(DINAMICA!$A232)","v":0},{"$f":"VALUE(DINAMICA!$B232)","v":"00:00:00"},{"$f":"VALUE(DINAMICA!$C232)","v":0},{"$f":"DINAMICA!D232","v":0},{"$f":"DINAMICA!E232","v":0},{"$f":"DINAMICA!F232","v":0},{"$f":"DINAMICA!G232","v":0},{"$f":"DINAMICA!H232","v":0},{"$f":"DINAMICA!I232","v":0},{"$f":"DINAMICA!J232","v":0},{"$f":"DINAMICA!K232","v":0},{"$f":"VALUE(DINAMICA!$L232)","v":0},{"$f":"VALUE(DINAMICA!$M232)","v":0},{"$f":"VALUE(DINAMICA!$N232)","v":0},{"$f":"VALUE(DINAMICA!$O232)","v":0},{"$f":"VALUE(DINAMICA!$P232)","v":0},{"$f":"VALUE(DINAMICA!$Q232)","v":0},{"$f":"VALUE(DINAMICA!$R232)","v":0}]
[{"$f":"VALUE(DINAMICA!$A233)","v":0},{"$f":"VALUE(DINAMICA!$B233)","v":"00:00:00"},{"$f":"VALUE(DINAMICA!$C233)","v":0},{"$f":"DINAMICA!D233","v":0},{"$f":"DINAMICA!E233","v":0},{"$f":"DINAMICA!F233","v":0},{"$f":"DINAMICA!G233","v":0},{"$f":"DINAMICA!H233","v":0},{"$f":"DINAMICA!I233","v":0},{"$f":"DINAMICA!J233","v":0},{"$f":"DINAMICA!K233","v":0},{"$f":"VALUE(DINAMICA!$L233)","v":0},{"$f":"VALUE(DINAMICA!$M233)","v":0},{"$f":"VALUE(DINAMICA!$N233)","v":0},{"$f":"VALUE(DINAMICA!$O233)","v":0},{"$f":"VALUE(DINAMICA!$P233)","v":0},{"$f":"VALUE(DINAMICA!$Q233)","v":0},{"$f":"VALUE(DINAMICA!$R233)","v":0}]
[{"$f":"VALUE(DINAMICA!$A234)","v":0},{"$f":"VALUE(DINAMICA!$B234)","v":"00:00:00"},{"$f":"VALUE(DINAMICA!$C234)","v":0},{"$f":"DINAMICA!D234","v":0},{"$f":"DINAMICA!E234","v":0},{"$f":"DINAMICA!F234","v":0},{"$f":"DINAMICA!G234","v":0},{"$f":"DINAMICA!H234","v":0},{"$f":"DINAMICA!I234","v":0},{"$f":"DINAMICA!J234","v":0},{"$f":"DINAMICA!K234","v":0},{"$f":"VALUE(DINAMICA!$L234)","v":0},{"$f":"VALUE(DINAMICA!$M234)","v":0},{"$f":"VALUE(DINAMICA!$N234)","v":0},{"$f":"VALUE(DINAMICA!$O234)","v":0},{"$f":"VALUE(DINAMICA!$P234)","v":0},{"$f":"VALUE(DINAMICA!$Q234)","v":0},{"$f":"VALUE(DINAMICA!$R234)","v":0}]
[{"$f":"VALUE(DINAMICA!$A235)","v":0},{"$f":"VALUE(DINAMICA!$B235)","v":"00:00:00"},{"$f":"VALUE(DINAMICA!$C235)","v":0},{"$f":"DINAMICA!D235","v":0},{"$f":"DINAMICA!E235","v":0},{"$f":"DINAMICA!F235","v":0},{"$f":"DINAMICA!G235","v":0},{"$f":"DINAMICA!H235","v":0},{"$f":"DINAMICA!I235","v":0},{"$f":"DINAMICA!J235","v":0},{"$f":"DINAMICA!K235","v":0},{"$f":"VALUE(DINAMICA!$L235)","v":0},{"$f":"VALUE(DINAMICA!$M235)","v":0},{"$f":"VALUE(DINAMICA!$N235)","v":0},{"$f":"VALUE(DINAMICA!$O235)","v":0},{"$f":"VALUE(DINAMICA!$P235)","v":0},{"$f":"VALUE(DINAMICA!$Q235)","v":0},{"$f":"VALUE(DINAMICA!$R235)","v":0}]
[{"$f":"VALUE(DINAMICA!$A236)","v":0},{"$f":"VALUE(DINAMICA!$B236)","v":"00:00:00"},{"$f":"VALUE(DINAMICA!$C236)","v":0},{"$f":"DINAMICA!D236","v":0},{"$f":"DINAMICA!E236","v":0},{"$f":"DINAMICA!F236","v":0},{"$f":"DINAMICA!G236","v":0},{"$f":"DINAMICA!H236","v":0},{"$f":"DINAMICA!I236","v":0},{"$f":"DINAMICA!J236","v":0},{"$f":"DINAMICA!K236","v":0},{"$f":"VALUE(DINAMICA!$L236)","v":0},{"$f":"VALUE(DINAMICA!$M236)","v":0},{"$f":"VALUE(DINAMICA!$N236)","v":0},{"$f":"VALUE(DINAMICA!$O236)","v":0},{"$f":"VALUE(DINAMICA!$P236)","v":0},{"$f":"VALUE(DINAMICA!$Q236)","v":0},{"$f":"VALUE(DINAMICA!$R236)","v":0}]
[{"$f":"VALUE(DINAMICA!$A237)","v":0},{"$f":"VALUE(DINAMICA!$B237)","v":"00:00:00"},{"$f":"VALUE(DINAMICA!$C237)","v":0},{"$f":"DINAMICA!D237","v":0},{"$f":"DINAMICA!E237","v":0},{"$f":"DINAMICA!F237","v":0},{"$f":"DINAMICA!G237","v":0},{"$f":"DINAMICA!H237","v":0},{"$f":"DINAMICA!I237","v":0},{"$f":"DINAMICA!J237","v":0},{"$f":"DINAMICA!K237","v":0},{"$f":"VALUE(DINAMICA!$L237)","v":0},{"$f":"VALUE(DINAMICA!$M237)","v":0},{"$f":"VALUE(DINAMICA!$N237)","v":0},{"$f":"VALUE(DINAMICA!$O237)","v":0},{"$f":"VALUE(DINAMICA!$P237)","v":0},{"$f":"VALUE(DINAMICA!$Q237)","v":0},{"$f":"VALUE(DINAMICA!$R237)","v":0}]
[{"$f":"VALUE(DINAMICA!$A238)","v":0},{"$f":"VALUE(DINAMICA!$B238)","v":"00:00:00"},{"$f":"VALUE(DINAMICA!$C238)","v":0},{"$f":"DINAMICA!D238","v":0},{"$f":"DINAMICA!E238","v":0},{"$f":"DINAMICA!F238","v":0},{"$f":"DINAMICA!G238","v":0},{"$f":"DINAMICA!H238","v":0},{"$f":"DINAMICA!I238","v":0},{"$f":"DINAMICA!J238","v":0},{"$f":"DINAMICA!K238","v":0},{"$f":"VALUE(DINAMICA!$L238)","v":0},{"$f":"VALUE(DINAMICA!$M238)","v":0},{"$f":"VALUE(DINAMICA!$N238)","v":0},{"$f":"VALUE(DINAMICA!$O238)","v":0},{"$f":"VALUE(DINAMICA!$P238)","v":0},{"$f":"VALUE(DINAMICA!$Q238)","v":0},{"$f":"VALUE(DINAMICA!$R238)","v":0}]
[{"$f":"VALUE(DINAMICA!$A239)","v":0},{"$f":"VALUE(DINAMICA!$B239)","v":"00:00:00"},{"$f":"VALUE(DINAMICA!$C239)","v":0},{"$f":"DINAMICA!D239","v":0},{"$f":"DINAMICA!E239","v":0},{"$f":"DINAMICA!F239","v":0},{"$f":"DINAMICA!G239","v":0},{"$f":"DINAMICA!H239","v":0},{"$f":"DINAMICA!I239","v":0},{"$f":"DINAMICA!J239","v":0},{"$f":"DINAMICA!K239","v":0},{"$f":"VALUE(DINAMICA!$L239)","v":0},{"$f":"VALUE(DINAMICA!$M239)","v":0},{"$f":"VALUE(DINAMICA!$N239)","v":0},{"$f":"VALUE(DINAMICA!$O239)","v":0},{"$f":"VALUE(DINAMICA!$P239)","v":0},{"$f":"VALUE(DINAMICA!$Q239)","v":0},{"$f":"VALUE(DINAMICA!$R239)","v":0}]
[{"$f":"VALUE(DINAMICA!$A240)","v":0},{"$f":"VALUE(DINAMICA!$B240)","v":"00:00:00"},{"$f":"VALUE(DINAMICA!$C240)","v":0},{"$f":"DINAMICA!D240","v":0},{"$f":"DINAMICA!E240","v":0},{"$f":"DINAMICA!F240","v":0},{"$f":"DINAMICA!G240","v":0},{"$f":"DINAMICA!H240","v":0},{"$f":"DINAMICA!I240","v":0},{"$f":"DINAMICA!J240","v":0},{"$f":"DINAMICA!K240","v":0},{"$f":"VALUE(DINAMICA!$L240)","v":0},{"$f":"VALUE(DINAMICA!$M240)","v":0},{"$f":"VALUE(DINAMICA!$N240)","v":0},{"$f":"VALUE(DINAMICA!$O240)","v":0},{"$f":"VALUE(DINAMICA!$P240)","v":0},{"$f":"VALUE(DINAMICA!$Q240)","v":0},{"$f":"VALUE(DINAMICA!$R240)","v":0}]
[{"$f":"VALUE(DINAMICA!$A241)","v":0},{"$f":"VALUE(DINAMICA!$B241)","v":"00:00:00"},{"$f":"VALUE(DINAMICA!$C241)","v":0},{"$f":"DINAMICA!D241","v":0},{"$f":"DINAMICA!E241","v":0},{"$f":"DINAMICA!F241","v":0},{"$f":"DINAMICA!G241","v":0},{"$f":"DINAMICA!H241","v":0},{"$f":"DINAMICA!I241","v":0},{"$f":"DINAMICA!J241","v":0},{"$f":"DINAMICA!K241","v":0},{"$f":"VALUE(DINAMICA!$L241)","v":0},{"$f":"VALUE(DINAMICA!$M241)","v":0},{"$f":"VALUE(DINAMICA!$N241)","v":0},{"$f":"VALUE(DINAMICA!$O241)","v":0},{"$f":"VALUE(DINAMICA!$P241)","v":0},{"$f":"VALUE(DINAMICA!$Q241)","v":0},{"$f":"VALUE(DINAMICA!$R241)","v":0}]
[{"$f":"VALUE(DINAMICA!$A242)","v":0},{"$f":"VALUE(DINAMICA!$B242)","v":"00:00:00"},{"$f":"VALUE(DINAMICA!$C242)","v":0},{"$f":"DINAMICA!D242","v":0},{"$f":"DINAMICA!E242","v":0},{"$f":"DINAMICA!F242","v":0},{"$f":"DINAMICA!G242","v":0},{"$f":"DINAMICA!H242","v":0},{"$f":"DINAMICA!I242","v":0},{"$f":"DINAMICA!J242","v":0},{"$f":"DINAMICA!K242","v":0},{"$f":"VALUE(DINAMICA!$L242)","v":0},{"$f":"VALUE(DINAMICA!$M242)","v":0},{"$f":"VALUE(DINAMICA!$N242)","v":0},{"$f":"VALUE(DINAMICA!$O242)","v":0},{"$f":"VALUE(DINAMICA!$P242)","v":0},{"$f":"VALUE(DINAMICA!$Q242)","v":0},{"$f":"VALUE(DINAMICA!$R242)","v":0}]
[{"$f":"VALUE(DINAMICA!$A243)","v":0},{"$f":"VALUE(DINAMICA!$B243)","v":"00:00:00"},{"$f":"VALUE(DINAMICA!$C243)","v":0},{"$f":"DINAMICA!D243","v":0},{"$f":"DINAMICA!E243","v":0},{"$f":"DINAMICA!F243","v":0},{"$f":"DINAMICA!G243","v":0},{"$f":"DINAMICA!H243","v":0},{"$f":"DINAMICA!I243","v":0},{"$f":"DINAMICA!J243","v":0},{"$f":"DINAMICA!K243","v":0},{"$f":"VALUE(DINAMICA!$L243)","v":0},{"$f":"VALUE(DINAMICA!$M243)","v":0},{"$f":"VALUE(DINAMICA!$N243)","v":0},{"$f":"VALUE(DINAMICA!$O243)","v":0},{"$f":"VALUE(DINAMICA!$P243)","v":0},{"$f":"VALUE(DINAMICA!$Q243)","v":0},{"$f":"VALUE(DINAMICA!$R243)","v":0}]
[{"$f":"VALUE(DINAMICA!$A244)","v":0},{"$f":"VALUE(DINAMICA!$B244)","v":"00:00:00"},{"$f":"VALUE(DINAMICA!$C244)","v":0},{"$f":"DINAMICA!D244","v":0},{"$f":"DINAMICA!E244","v":0},{"$f":"DINAMICA!F244","v":0},{"$f":"DINAMICA!G244","v":0},{"$f":"DINAMICA!H244","v":0},{"$f":"DINAMICA!I244","v":0},{"$f":"DINAMICA!J244","v":0},{"$f":"DINAMICA!K244","v":0},{"$f":"VALUE(DINAMICA!$L244)","v":0},{"$f":"VALUE(DINAMICA!$M244)","v":0},{"$f":"VALUE(DINAMICA!$N244)","v":0},{"$f":"VALUE(DINAMICA!$O244)","v":0},{"$f":"VALUE(DINAMICA!$P244)","v":0},{"$f":"VALUE(DINAMICA!$Q244)","v":0},{"$f":"VALUE(DINAMICA!$R244)","v":0}]
[{"$f":"VALUE(DINAMICA!$A245)","v":0},{"$f":"VALUE(DINAMICA!$B245)","v":"00:00:00"},{"$f":"VALUE(DINAMICA!$C245)","v":0},{"$f":"DINAMICA!D245","v":0},{"$f":"DINAMICA!E245","v":0},{"$f":"DINAMICA!F245","v":0},{"$f":"DINAMICA!G245","v":0},{"$f":"DINAMICA!H245","v":0},{"$f":"DINAMICA!I245","v":0},{"$f":"DINAMICA!J245","v":0},{"$f":"DINAMICA!K245","v":0},{"$f":"VALUE(DINAMICA!$L245)","v":0},{"$f":"VALUE(DINAMICA!$M245)","v":0},{"$f":"VALUE(DINAMICA!$N245)","v":0},{"$f":"VALUE(DINAMICA!$O245)","v":0},{"$f":"VALUE(DINAMICA!$P245)","v":0},{"$f":"VALUE(DINAMICA!$Q245)","v":0},{"$f":"VALUE(DINAMICA!$R245)","v":0}]
[{"$f":"VALUE(DINAMICA!$A246)","v":0},{"$f":"VALUE(DINAMICA!$B246)","v":"00:00:00"},{"$f":"VALUE(DINAMICA!$C246)","v":0},{"$f":"DINAMICA!D246","v":0},{"$f":"DINAMICA!E246","v":0},{"$f":"DINAMICA!F246","v":0},{"$f":"DINAMICA!G246","v":0},{"$f":"DINAMICA!H246","v":0},{"$f":"DINAMICA!I246","v":0},{"$f":"DINAMICA!J246","v":0},{"$f":"DINAMICA!K246","v":0},{"$f":"VALUE(DINAMICA!$L246)","v":0},{"$f":"VALUE(DINAMICA!$M246)","v":0},{"$f":"VALUE(DINAMICA!$N246)","v":0},{"$f":"VALUE(DINAMICA!$O246)","v":0},{"$f":"VALUE(DINAMICA!$P246)","v":0},{"$f":"VALUE(DINAMICA!$Q246)","v":0},{"$f":"VALUE(DINAMICA!$R246)","v":0}]
[{"$f":"VALUE(DINAMICA!$A247)","v":0},{"$f":"VALUE(DINAMICA!$B247)","v":"00:00:00"},{"$f":"VALUE(DINAMICA!$C247)","v":0},{"$f":"DINAMICA!D247","v":0},{"$f":"DINAMICA!E247","v":0},{"$f":"DINAMICA!F247","v":0},{"$f":"DINAMICA!G247","v":0},{"$f":"DINAMICA!H247","v":0},{"$f":"DINAMICA!I247","v":0},{"$f":"DINAMICA!J247","v":0},{"$f":"DINAMICA!K247","v":0},{"$f":"VALUE(DINAMICA!$L247)","v":0},{"$f":"VALUE(DINAMICA!$M247)","v":0},{"$f":"VALUE(DINAMICA!$N247)","v":0},{"$f":"VALUE(DINAMICA!$O247)","v":0},{"$f":"VALUE(DINAMICA!$P247)","v":0},{"$f":"VALUE(DINAMICA!$Q247)","v":0},{"$f":"VALUE(DINAMICA!$R247)","v":0}]
[{"$f":"VALUE(DINAMICA!$A248)","v":0},{"$f":"VALUE(DINAMICA!$B248)","v":"00:00:00"},{"$f":"VALUE(DINAMICA!$C248)","v":0},{"$f":"DINAMICA!D248","v":0},{"$f":"DINAMICA!E248","v":0},{"$f":"DINAMICA!F248","v":0},{"$f":"DINAMICA!G248","v":0},{"$f":"DINAMICA!H248","v":0},{"$f":"DINAMICA!I248","v":0},{"$f":"DINAMICA!J248","v":0},{"$f":"DINAMICA!K248","v":0},{"$f":"VALUE(DINAMICA!$L248)","v":0},{"$f":"VALUE(DINAMICA!$M248)","v":0},{"$f":"VALUE(DINAMICA!$N248)","v":0},{"$f":"VALUE(DINAMICA!$O248)","v":0},{"$f":"VALUE(DINAMICA!$P248)","v":0},{"$f":"VALUE(DINAMICA!$Q248)","v":0},{"$f":"VALUE(DINAMICA!$R248)","v":0}]
[{"$f":"VALUE(DINAMICA!$A249)","v":0},{"$f":"VALUE(DINAMICA!$B249)","v":"00:00:00"},{"$f":"VALUE(DINAMICA!$C249)","v":0},{"$f":"DINAMICA!D249","v":0},{"$f":"DINAMICA!E249","v":0},{"$f":"DINAMICA!F249","v":0},{"$f":"DINAMICA!G249","v":0},{"$f":"DINAMICA!H249","v":0},{"$f":"DINAMICA!I249","v":0},{"$f":"DINAMICA!J249","v":0},{"$f":"DINAMICA!K249","v":0},{"$f":"VALUE(DINAMICA!$L249)","v":0},{"$f":"VALUE(DINAMICA!$M249)","v":0},{"$f":"VALUE(DINAMICA!$N249)","v":0},{"$f":"VALUE(DINAMICA!$O249)","v":0},{"$f":"VALUE(DINAMICA!$P249)","v":0},{"$f":"VALUE(DINAMICA!$Q249)","v":0},{"$f":"VALUE(DINAMICA!$R249)","v":0}]
[{"$f":"VALUE(DINAMICA!$A250)","v":0},{"$f":"VALUE(DINAMICA!$B250)","v":"00:00:00"},{"$f":"VALUE(DINAMICA!$C250)","v":0},{"$f":"DINAMICA!D250","v":0},{"$f":"DINAMICA!E250","v":0},{"$f":"DINAMICA!F250","v":0},{"$f":"DINAMICA!G250","v":0},{"$f":"DINAMICA!H250","v":0},{"$f":"DINAMICA!I250","v":0},{"$f":"DINAMICA!J250","v":0},{"$f":"DINAMICA!K250","v":0},{"$f":"VALUE(DINAMICA!$L250)","v":0},{"$f":"VALUE(DINAMICA!$M250)","v":0},{"$f":"VALUE(DINAMICA!$N250)","v":0},{"$f":"VALUE(DINAMICA!$O250)","v":0},{"$f":"VALUE(DINAMICA!$P250)","v":0},{"$f":"VALUE(DINAMICA!$Q250)","v":0},{"$f":"VALUE(DINAMICA!$R250)","v":0}]
[{"$f":"VALUE(DINAMICA!$A251)","v":0},{"$f":"VALUE(DINAMICA!$B251)","v":"00:00:00"},{"$f":"VALUE(DINAMICA!$C251)","v":0},{"$f":"DINAMICA!D251","v":0},{"$f":"DINAMICA!E251","v":0},{"$f":"DINAMICA!F251","v":0},{"$f":"DINAMICA!G251","v":0},{"$f":"DINAMICA!H251","v":0},{"$f":"DINAMICA!I251","v":0},{"$f":"DINAMICA!J251","v":0},{"$f":"DINAMICA!K251","v":0},{"$f":"VALUE(DINAMICA!$L251)","v":0},{"$f":"VALUE(DINAMICA!$M251)","v":0},{"$f":"VALUE(DINAMICA!$N251)","v":0},{"$f":"VALUE(DINAMICA!$O251)","v":0},{"$f":"VALUE(DINAMICA!$P251)","v":0},{"$f":"VALUE(DINAMICA!$Q251)","v":0},{"$f":"VALUE(DINAMICA!$R251)","v":0}]
[{"$f":"VALUE(DINAMICA!$A252)","v":0},{"$f":"VALUE(DINAMICA!$B252)","v":"00:00:00"},{"$f":"VALUE(DINAMICA!$C252)","v":0},{"$f":"DINAMICA!D252","v":0},{"$f":"DINAMICA!E252","v":0},{"$f":"DINAMICA!F252","v":0},{"$f":"DINAMICA!G252","v":0},{"$f":"DINAMICA!H252","v":0},{"$f":"DINAMICA!I252","v":0},{"$f":"DINAMICA!J252","v":0},{"$f":"DINAMICA!K252","v":0},{"$f":"VALUE(DINAMICA!$L252)","v":0},{"$f":"VALUE(DINAMICA!$M252)","v":0},{"$f":"VALUE(DINAMICA!$N252)","v":0},{"$f":"VALUE(DINAMICA!$O252)","v":0},{"$f":"VALUE(DINAMICA!$P252)","v":0},{"$f":"VALUE(DINAMICA!$Q252)","v":0},{"$f":"VALUE(DINAMICA!$R252)","v":0}]
[{"$f":"VALUE(DINAMICA!$A253)","v":0},{"$f":"VALUE(DINAMICA!$B253)","v":"00:00:00"},{"$f":"VALUE(DINAMICA!$C253)","v":0},{"$f":"DINAMICA!D253","v":0},{"$f":"DINAMICA!E253","v":0},{"$f":"DINAMICA!F253","v":0},{"$f":"DINAMICA!G253","v":0},{"$f":"DINAMICA!H253","v":0},{"$f":"DINAMICA!I253","v":0},{"$f":"DINAMICA!J253","v":0},{"$f":"DINAMICA!K253","v":0},{"$f":"VALUE(DINAMICA!$L253)","v":0},{"$f":"VALUE(DINAMICA!$M253)","v":0},{"$f":"VALUE(DINAMICA!$N253)","v":0},{"$f":"VALUE(DINAMICA!$O253)","v":0},{"$f":"VALUE(DINAMICA!$P253)","v":0},{"$f":"VALUE(DINAMICA!$Q253)","v":0},{"$f":"VALUE(DINAMICA!$R253)","v":0}]
[{"$f":"VALUE(DINAMICA!$A254)","v":0},{"$f":"VALUE(DINAMICA!$B254)","v":"00:00:00"},{"$f":"VALUE(DINAMICA!$C254)","v":0},{"$f":"DINAMICA!D254","v":0},{"$f":"DINAMICA!E254","v":0},{"$f":"DINAMICA!F254","v":0},{"$f":"DINAMICA!G254","v":0},{"$f":"DINAMICA!H254","v":0},{"$f":"DINAMICA!I254","v":0},{"$f":"DINAMICA!J254","v":0},{"$f":"DINAMICA!K254","v":0},{"$f":"VALUE(DINAMICA!$L254)","v":0},{"$f":"VALUE(DINAMICA!$M254)","v":0},{"$f":"VALUE(DINAMICA!$N254)","v":0},{"$f":"VALUE(DINAMICA!$O254)","v":0},{"$f":"VALUE(DINAMICA!$P254)","v":0},{"$f":"VALUE(DINAMICA!$Q254)","v":0},{"$f":"VALUE(DINAMICA!$R254)","v":0}]
[{"$f":"VALUE(DINAMICA!$A255)","v":0},{"$f":"VALUE(DINAMICA!$B255)","v":"00:00:00"},{"$f":"VALUE(DINAMICA!$C255)","v":0},{"$f":"DINAMICA!D255","v":0},{"$f":"DINAMICA!E255","v":0},{"$f":"DINAMICA!F255","v":0},{"$f":"DINAMICA!G255","v":0},{"$f":"DINAMICA!H255","v":0},{"$f":"DINAMICA!I255","v":0},{"$f":"DINAMICA!J255","v":0},{"$f":"DINAMICA!K255","v":0},{"$f":"VALUE(DINAMICA!$L255)","v":0},{"$f":"VALUE(DINAMICA!$M255)","v":0},{"$f":"VALUE(DINAMICA!$N255)","v":0},{"$f":"VALUE(DINAMICA!$O255)","v":0},{"$f":"VALUE(DINAMICA!$P255)","v":0},{"$f":"VALUE(DINAMICA!$Q255)","v":0},{"$f":"VALUE(DINAMICA!$R255)","v":0}]
[{"$f":"VALUE(DINAMICA!$A256)","v":0},{"$f":"VALUE(DINAMICA!$B256)","v":"00:00:00"},{"$f":"VALUE(DINAMICA!$C256)","v":0},{"$f":"DINAMICA!D256","v":0},{"$f":"DINAMICA!E256","v":0},{"$f":"DINAMICA!F256","v":0},{"$f":"DINAMICA!G256","v":0},{"$f":"DINAMICA!H256","v":0},{"$f":"DINAMICA!I256","v":0},{"$f":"DINAMICA!J256","v":0},{"$f":"DINAMICA!K256","v":0},{"$f":"VALUE(DINAMICA!$L256)","v":0},{"$f":"VALUE(DINAMICA!$M256)","v":0},{"$f":"VALUE(DINAMICA!$N256)","v":0},{"$f":"VALUE(DINAMICA!$O256)","v":0},{"$f":"VALUE(DINAMICA!$P256)","v":0},{"$f":"VALUE(DINAMICA!$Q256)","v":0},{"$f":"VALUE(DINAMICA!$R256)","v":0}]
[{"$f":"VALUE(DINAMICA!$A257)","v":0},{"$f":"VALUE(DINAMICA!$B257)","v":"00:00:00"},{"$f":"VALUE(DINAMICA!$C257)","v":0},{"$f":"DINAMICA!D257","v":0},{"$f":"DINAMICA!E257","v":0},{"$f":"DINAMICA!F257","v":0},{"$f":"DINAMICA!G257","v":0},{"$f":"DINAMICA!H257","v":0},{"$f":"DINAMICA!I257","v":0},{"$f":"DINAMICA!J257","v":0},{"$f":"DINAMICA!K257","v":0},{"$f":"VALUE(DINAMICA!$L257)","v":0},{"$f":"VALUE(DINAMICA!$M257)","v":0},{"$f":"VALUE(DINAMICA!$N257)","v":0},{"$f":"VALUE(DINAMICA!$O257)","v":0},{"$f":"VALUE(DINAMICA!$P257)","v":0},{"$f":"VALUE(DINAMICA!$Q257)","v":0},{"$f":"VALUE(DINAMICA!$R257)","v":0}]
[{"$f":"VALUE(DINAMICA!$A258)","v":0},{"$f":"VALUE(DINAMICA!$B258)","v":"00:00:00"},{"$f":"VALUE(DINAMICA!$C258)","v":0},{"$f":"DINAMICA!D258","v":0},{"$f":"DINAMICA!E258","v":0},{"$f":"DINAMICA!F258","v":0},{"$f":"DINAMICA!G258","v":0},{"$f":"DINAMICA!H258","v":0},{"$f":"DINAMICA!I258","v":0},{"$f":"DINAMICA!J258","v":0},{"$f":"DINAMICA!K258","v":0},{"$f":"VALUE(DINAMICA!$L258)","v":0},{"$f":"VALUE(DINAMICA!$M258)","v":0},{"$f":"VALUE(DINAMICA!$N258)","v":0},{"$f":"VALUE(DINAMICA!$O258)","v":0},{"$f":"VALUE(DINAMICA!$P258)","v":0},{"$f":"VALUE(DINAMICA!$Q258)","v":0},{"$f":"VALUE(DINAMICA!$R258)","v":0}]
[{"$f":"VALUE(DINAMICA!$A259)","v":0},{"$f":"VALUE(DINAMICA!$B259)","v":"00:00:00"},{"$f":"VALUE(DINAMICA!$C259)","v":0},{"$f":"DINAMICA!D259","v":0},{"$f":"DINAMICA!E259","v":0},{"$f":"DINAMICA!F259","v":0},{"$f":"DINAMICA!G259","v":0},{"$f":"DINAMICA!H259","v":0},{"$f":"DINAMICA!I259","v":0},{"$f":"DINAMICA!J259","v":0},{"$f":"DINAMICA!K259","v":0},{"$f":"VALUE(DINAMICA!$L259)","v":0},{"$f":"VALUE(DINAMICA!$M259)","v":0},{"$f":"VALUE(DINAMICA!$N259)","v":0},{"$f":"VALUE(DINAMICA!$O259)","v":0},{"$f":"VALUE(DINAMICA!$P259)","v":0},{"$f":"VALUE(DINAMICA!$Q259)","v":0},{"$f":"VALUE(DINAMICA!$R259)","v":0}]
[{"$f":"VALUE(DINAMICA!$A260)","v":0},{"$f":"VALUE(DINAMICA!$B260)","v":"00:00:00"},{"$f":"VALUE(DINAMICA!$C260)","v":0},{"$f":"DINAMICA!D260","v":0},{"$f":"DINAMICA!E260","v":0},{"$f":"DINAMICA!F260","v":0},{"$f":"DINAMICA!G260","v":0},{"$f":"DINAMICA!H260","v":0},{"$f":"DINAMICA!I260","v":0},{"$f":"DINAMICA!J260","v":0},{"$f":"DINAMICA!K260","v":0},{"$f":"VALUE(DINAMICA!$L260)","v":0},{"$f":"VALUE(DINAMICA!$M260)","v":0},{"$f":"VALUE(DINAMICA!$N260)","v":0},{"$f":"VALUE(DINAMICA!$O260)","v":0},{"$f":"VALUE(DINAMICA!$P260)","v":0},{"$f":"VALUE(DINAMICA!$Q260)","v":0},{"$f":"VALUE(DINAMICA!$R260)","v":0}]
[{"$f":"VALUE(DINAMICA!$A261)","v":0},{"$f":"VALUE(DINAMICA!$B261)","v":"00:00:00"},{"$f":"VALUE(DINAMICA!$C261)","v":0},{"$f":"DINAMICA!D261","v":0},{"$f":"DINAMICA!E261","v":0},{"$f":"DINAMICA!F261","v":0},{"$f":"DINAMICA!G261","v":0},{"$f":"DINAMICA!H261","v":0},{"$f":"DINAMICA!I261","v":0},{"$f":"DINAMICA!J261","v":0},{"$f":"DINAMICA!K261","v":0},{"$f":"VALUE(DINAMICA!$L261)","v":0},{"$f":"VALUE(DINAMICA!$M261)","v":0},{"$f":"VALUE(DINAMICA!$N261)","v":0},{"$f":"VALUE(DINAMICA!$O261)","v":0},{"$f":"VALUE(DINAMICA!$P261)","v":0},{"$f":"VALUE(DINAMICA!$Q261)","v":0},{"$f":"VALUE(DINAMICA!$R261)","v":0}]
[{"$f":"VALUE(DINAMICA!$A262)","v":0},{"$f":"VALUE(DINAMICA!$B262)","v":"00:00:00"},{"$f":"VALUE(DINAMICA!$C262)","v":0},{"$f":"DINAMICA!D262","v":0},{"$f":"DINAMICA!E262","v":0},{"$f":"DINAMICA!F262","v":0},{"$f":"DINAMICA!G262","v":0},{"$f":"DINAMICA!H262","v":0},{"$f":"DINAMICA!I262","v":0},{"$f":"DINAMICA!J262","v":0},{"$f":"DINAMICA!K262","v":0},{"$f":"VALUE(DINAMICA!$L262)","v":0},{"$f":"VALUE(DINAMICA!$M262)","v":0},{"$f":"VALUE(DINAMICA!$N262)","v":0},{"$f":"VALUE(DINAMICA!$O262)","v":0},{"$f":"VALUE(DINAMICA!$P262)","v":0},{"$f":"VALUE(DINAMICA!$Q262)","v":0},{"$f":"VALUE(DINAMICA!$R262)","v":0}]
[{"$f":"VALUE(DINAMICA!$A263)","v":0},{"$f":"VALUE(DINAMICA!$B263)","v":"00:00:00"},{"$f":"VALUE(DINAMICA!$C263)","v":0},{"$f":"DINAMICA!D263","v":0},{"$f":"DINAMICA!E263","v":0},{"$f":"DINAMICA!F263","v":0},{"$f":"DINAMICA!G263","v":0},{"$f":"DINAMICA!H263","v":0},{"$f":"DINAMICA!I263","v":0},{"$f":"DINAMICA!J263","v":0},{"$f":"DINAMICA!K263","v":0},{"$f":"VALUE(DINAMICA!$L263)","v":0},{"$f":"VALUE(DINAMICA!$M263)","v":0},{"$f":"VALUE(DINAMICA!$N263)","v":0},{"$f":"VALUE(DINAMICA!$O263)","v":0},{"$f":"VALUE(DINAMICA!$P263)","v":0},{"$f":"VALUE(DINAMICA!$Q263)","v":0},{"$f":"VALUE(DINAMICA!$R263)","v":0}]
[{"$f":"VALUE(DINAMICA!$A264)","v":0},{"$f":"VALUE(DINAMICA!$B264)","v":"00:00:00"},{"$f":"VALUE(DINAMICA!$C264)","v":0},{"$f":"DINAMICA!D264","v":0},{"$f":"DINAMICA!E264","v":0},{"$f":"DINAMICA!F264","v":0},{"$f":"DINAMICA!G264","v":0},{"$f":"DINAMICA!H264","v":0},{"$f":"DINAMICA!I264","v":0},{"$f":"DINAMICA!J264","v":0},{"$f":"DINAMICA!K264","v":0},{"$f":"VALUE(DINAMICA!$L264)","v":0},{"$f":"VALUE(DINAMICA!$M264)","v":0},{"$f":"VALUE(DINAMICA!$N264)","v":0},{"$f":"VALUE(DINAMICA!$O264)","v":0},{"$f":"VALUE(DINAMICA!$P264)","v":0},{"$f":"VALUE(DINAMICA!$Q264)","v":0},{"$f":"VALUE(DINAMICA!$R264)","v":0}]
[{"$f":"VALUE(DINAMICA!$A265)","v":0},{"$f":"VALUE(DINAMICA!$B265)","v":"00:00:00"},{"$f":"VALUE(DINAMICA!$C265)","v":0},{"$f":"DINAMICA!D265","v":0},{"$f":"DINAMICA!E265","v":0},{"$f":"DINAMICA!F265","v":0},{"$f":"DINAMICA!G265","v":0},{"$f":"DINAMICA!H265","v":0},{"$f":"DINAMICA!I265","v":0},{"$f":"DINAMICA!J265","v":0},{"$f":"DINAMICA!K265","v":0},{"$f":"VALUE(DINAMICA!$L265)","v":0},{"$f":"VALUE(DINAMICA!$M265)","v":0},{"$f":"VALUE(DINAMICA!$N265)","v":0},{"$f":"VALUE(DINAMICA!$O265)","v":0},{"$f":"VALUE(DINAMICA!$P265)","v":0},{"$f":"VALUE(DINAMICA!$Q265)","v":0},{"$f":"VALUE(DINAMICA!$R265)","v":0}]
[{"$f":"VALUE(DINAMICA!$A266)","v":0},{"$f":"VALUE(DINAMICA!$B266)","v":"00:00:00"},{"$f":"VALUE(DINAMICA!$C266)","v":0},{"$f":"DINAMICA!D266","v":0},{"$f":"DINAMICA!E266","v":0},{"$f":"DINAMICA!F266","v":0},{"$f":"DINAMICA!G266","v":0},{"$f":"DINAMICA!H266","v":0},{"$f":"DINAMICA!I266","v":0},{"$f":"DINAMICA!J266","v":0},{"$f":"DINAMICA!K266","v":0},{"$f":"VALUE(DINAMICA!$L266)","v":0},{"$f":"VALUE(DINAMICA!$M266)","v":0},{"$f":"VALUE(DINAMICA!$N266)","v":0},{"$f":"VALUE(DINAMICA!$O266)","v":0},{"$f":"VALUE(DINAMICA!$P266)","v":0},{"$f":"VALUE(DINAMICA!$Q266)","v":0},{"$f":"VALUE(DINAMICA!$R266)","v":0}]
[{"$f":"VALUE(DINAMICA!$A267)","v":0},{"$f":"VALUE(DINAMICA!$B267)","v":"00:00:00"},{"$f":"VALUE(DINAMICA!$C267)","v":0},{"$f":"DINAMICA!D267","v":0},{"$f":"DINAMICA!E267","v":0},{"$f":"DINAMICA!F267","v":0},{"$f":"DINAMICA!G267","v":0},{"$f":"DINAMICA!H267","v":0},{"$f":"DINAMICA!I267","v":0},{"$f":"DINAMICA!J267","v":0},{"$f":"DINAMICA!K267","v":0},{"$f":"VALUE(DINAMICA!$L267)","v":0},{"$f":"VALUE(DINAMICA!$M267)","v":0},{"$f":"VALUE(DINAMICA!$N267)","v":0},{"$f":"VALUE(DINAMICA!$O267)","v":0},{"$f":"VALUE(DINAMICA!$P267)","v":0},{"$f":"VALUE(DINAMICA!$Q267)","v":0},{"$f":"VALUE(DINAMICA!$R267)","v":0}]
[{"$f":"VALUE(DINAMICA!$A268)","v":0},{"$f":"VALUE(DINAMICA!$B268)","v":"00:00:00"},{"$f":"VALUE(DINAMICA!$C268)","v":0},{"$f":"DINAMICA!D268","v":0},{"$f":"DINAMICA!E268","v":0},{"$f":"DINAMICA!F268","v":0},{"$f":"DINAMICA!G268","v":0},{"$f":"DINAMICA!H268","v":0},{"$f":"DINAMICA!I268","v":0},{"$f":"DINAMICA!J268","v":0},{"$f":"DINAMICA!K268","v":0},{"$f":"VALUE(DINAMICA!$L268)","v":0},{"$f":"VALUE(DINAMICA!$M268)","v":0},{"$f":"VALUE(DINAMICA!$N268)","v":0},{"$f":"VALUE(DINAMICA!$O268)","v":0},{"$f":"VALUE(DINAMICA!$P268)","v":0},{"$f":"VALUE(DINAMICA!$Q268)","v":0},{"$f":"VALUE(DINAMICA!$R268)","v":0}]
[{"$f":"VALUE(DINAMICA!$A269)","v":0},{"$f":"VALUE(DINAMICA!$B269)","v":"00:00:00"},{"$f":"VALUE(DINAMICA!$C269)","v":0},{"$f":"DINAMICA!D269","v":0},{"$f":"DINAMICA!E269","v":0},{"$f":"DINAMICA!F269","v":0},{"$f":"DINAMICA!G269","v":0},{"$f":"DINAMICA!H269","v":0},{"$f":"DINAMICA!I269","v":0},{"$f":"DINAMICA!J269","v":0},{"$f":"DINAMICA!K269","v":0},{"$f":"VALUE(DINAMICA!$L269)","v":0},{"$f":"VALUE(DINAMICA!$M269)","v":0},{"$f":"VALUE(DINAMICA!$N269)","v":0},{"$f":"VALUE(DINAMICA!$O269)","v":0},{"$f":"VALUE(DINAMICA!$P269)","v":0},{"$f":"VALUE(DINAMICA!$Q269)","v":0},{"$f":"VALUE(DINAMICA!$R269)","v":0}]
[{"$f":"VALUE(DINAMICA!$A270)","v":0},{"$f":"VALUE(DINAMICA!$B270)","v":"00:00:00"},{"$f":"VALUE(DINAMICA!$C270)","v":0},{"$f":"DINAMICA!D270","v":0},{"$f":"DINAMICA!E270","v":0},{"$f":"DINAMICA!F270","v":0},{"$f":"DINAMICA!G270","v":0},{"$f":"DINAMICA!H270","v":0},{"$f":"DINAMICA!I270","v":0},{"$f":"DINAMICA!J270","v":0},{"$f":"DINAMICA!K270","v":0},{"$f":"VALUE(DINAMICA!$L270)","v":0},{"$f":"VALUE(DINAMICA!$M270)","v":0},{"$f":"VALUE(DINAMICA!$N270)","v":0},{"$f":"VALUE(DINAMICA!$O270)","v":0},{"$f":"VALUE(DINAMICA!$P270)","v":0},{"$f":"VALUE(DINAMICA!$Q270)","v":0},{"$f":"VALUE(DINAMICA!$R270)","v":0}]
[{"$f":"VALUE(DINAMICA!$A271)","v":0},{"$f":"VALUE(DINAMICA!$B271)","v":"00:00:00"},{"$f":"VALUE(DINAMICA!$C271)","v":0},{"$f":"DINAMICA!D271","v":0},{"$f":"DINAMICA!E271","v":0},{"$f":"DINAMICA!F271","v":0},{"$f":"DINAMICA!G271","v":0},{"$f":"DINAMICA!H271","v":0},{"$f":"DINAMICA!I271","v":0},{"$f":"DINAMICA!J271","v":0},{"$f":"DINAMICA!K271","v":0},{"$f":"VALUE(DINAMICA!$L271)","v":0},{"$f":"VALUE(DINAMICA!$M271)","v":0},{"$f":"VALUE(DINAMICA!$N271)","v":0},{"$f":"VALUE(DINAMICA!$O271)","v":0},{"$f":"VALUE(DINAMICA!$P271)","v":0},{"$f":"VALUE(DINAMICA!$Q271)","v":0},{"$f":"VALUE(DINAMICA!$R271)","v":0}]
[{"$f":"VALUE(DINAMICA!$A272)","v":0},{"$f":"VALUE(DINAMICA!$B272)","v":"00:00:00"},{"$f":"VALUE(DINAMICA!$C272)","v":0},{"$f":"DINAMICA!D272","v":0},{"$f":"DINAMICA!E272","v":0},{"$f":"DINAMICA!F272","v":0},{"$f":"DINAMICA!G272","v":0},{"$f":"DINAMICA!H272","v":0},{"$f":"DINAMICA!I272","v":0},{"$f":"DINAMICA!J272","v":0},{"$f":"DINAMICA!K272","v":0},{"$f":"VALUE(DINAMICA!$L272)","v":0},{"$f":"VALUE(DINAMICA!$M272)","v":0},{"$f":"VALUE(DINAMICA!$N272)","v":0},{"$f":"VALUE(DINAMICA!$O272)","v":0},{"$f":"VALUE(DINAMICA!$P272)","v":0},{"$f":"VALUE(DINAMICA!$Q272)","v":0},{"$f":"VALUE(DINAMICA!$R272)","v":0}]
[{"$f":"VALUE(DINAMICA!$A273)","v":0},{"$f":"VALUE(DINAMICA!$B273)","v":"00:00:00"},{"$f":"VALUE(DINAMICA!$C273)","v":0},{"$f":"DINAMICA!D273","v":0},{"$f":"DINAMICA!E273","v":0},{"$f":"DINAMICA!F273","v":0},{"$f":"DINAMICA!G273","v":0},{"$f":"DINAMICA!H273","v":0},{"$f":"DINAMICA!I273","v":0},{"$f":"DINAMICA!J273","v":0},{"$f":"DINAMICA!K273","v":0},{"$f":"VALUE(DINAMICA!$L273)","v":0},{"$f":"VALUE(DINAMICA!$M273)","v":0},{"$f":"VALUE(DINAMICA!$N273)","v":0},{"$f":"VALUE(DINAMICA!$O273)","v":0},{"$f":"VALUE(DINAMICA!$P273)","v":0},{"$f":"VALUE(DINAMICA!$Q273)","v":0},{"$f":"VALUE(DINAMICA!$R273)","v":0}]
[{"$f":"VALUE(DINAMICA!$A274)","v":0},{"$f":"VALUE(DINAMICA!$B274)","v":"00:00:00"},{"$f":"VALUE(DINAMICA!$C274)","v":0},{"$f":"DINAMICA!D274","v":0},{"$f":"DINAMICA!E274","v":0},{"$f":"DINAMICA!F274","v":0},{"$f":"DINAMICA!G274","v":0},{"$f":"DINAMICA!H274","v":0},{"$f":"DINAMICA!I274","v":0},{"$f":"DINAMICA!J274","v":0},{"$f":"DINAMICA!K274","v":0},{"$f":"VALUE(DINAMICA!$L274)","v":0},{"$f":"VALUE(DINAMICA!$M274)","v":0},{"$f":"VALUE(DINAMICA!$N274)","v":0},{"$f":"VALUE(DINAMICA!$O274)","v":0},{"$f":"VALUE(DINAMICA!$P274)","v":0},{"$f":"VALUE(DINAMICA!$Q274)","v":0},{"$f":"VALUE(DINAMICA!$R274)","v":0}]
[{"$f":"VALUE(DINAMICA!$A275)","v":0},{"$f":"VALUE(DINAMICA!$B275)","v":"00:00:00"},{"$f":"VALUE(DINAMICA!$C275)","v":0},{"$f":"DINAMICA!D275","v":0},{"$f":"DINAMICA!E275","v":0},{"$f":"DINAMICA!F275","v":0},{"$f":"DINAMICA!G275","v":0},{"$f":"DINAMICA!H275","v":0},{"$f":"DINAMICA!I275","v":0},{"$f":"DINAMICA!J275","v":0},{"$f":"DINAMICA!K275","v":0},{"$f":"VALUE(DINAMICA!$L275)","v":0},{"$f":"VALUE(DINAMICA!$M275)","v":0},{"$f":"VALUE(DINAMICA!$N275)","v":0},{"$f":"VALUE(DINAMICA!$O275)","v":0},{"$f":"VALUE(DINAMICA!$P275)","v":0},{"$f":"VALUE(DINAMICA!$Q275)","v":0},{"$f":"VALUE(DINAMICA!$R275)","v":0}]
[{"$f":"VALUE(DINAMICA!$A276)","v":0},{"$f":"VALUE(DINAMICA!$B276)","v":"00:00:00"},{"$f":"VALUE(DINAMICA!$C276)","v":0},{"$f":"DINAMICA!D276","v":0},{"$f":"DINAMICA!E276","v":0},{"$f":"DINAMICA!F276","v":0},{"$f":"DINAMICA!G276","v":0},{"$f":"DINAMICA!H276","v":0},{"$f":"DINAMICA!I276","v":0},{"$f":"DINAMICA!J276","v":0},{"$f":"DINAMICA!K276","v":0},{"$f":"VALUE(DINAMICA!$L276)","v":0},{"$f":"VALUE(DINAMICA!$M276)","v":0},{"$f":"VALUE(DINAMICA!$N276)","v":0},{"$f":"VALUE(DINAMICA!$O276)","v":0},{"$f":"VALUE(DINAMICA!$P276)","v":0},{"$f":"VALUE(DINAMICA!$Q276)","v":0},{"$f":"VALUE(DINAMICA!$R276)","v":0}]
[{"$f":"VALUE(DINAMICA!$A277)","v":0},{"$f":"VALUE(DINAMICA!$B277)","v":"00:00:00"},{"$f":"VALUE(DINAMICA!$C277)","v":0},{"$f":"DINAMICA!D277","v":0},{"$f":"DINAMICA!E277","v":0},{"$f":"DINAMICA!F277","v":0},{"$f":"DINAMICA!G277","v":0},{"$f":"DINAMICA!H277","v":0},{"$f":"DINAMICA!I277","v":0},{"$f":"DINAMICA!J277","v":0},{"$f":"DINAMICA!K277","v":0},{"$f":"VALUE(DINAMICA!$L277)","v":0},{"$f":"VALUE(DINAMICA!$M277)","v":0},{"$f":"VALUE(DINAMICA!$N277)","v":0},{"$f":"VALUE(DINAMICA!$O277)","v":0},{"$f":"VALUE(DINAMICA!$P277)","v":0},{"$f":"VALUE(DINAMICA!$Q277)","v":0},{"$f":"VALUE(DINAMICA!$R277)","v":0}]
[{"$f":"VALUE(DINAMICA!$A278)","v":0},{"$f":"VALUE(DINAMICA!$B278)","v":"00:00:00"},{"$f":"VALUE(DINAMICA!$C278)","v":0},{"$f":"DINAMICA!D278","v":0},{"$f":"DINAMICA!E278","v":0},{"$f":"DINAMICA!F278","v":0},{"$f":"DINAMICA!G278","v":0},{"$f":"DINAMICA!H278","v":0},{"$f":"DINAMICA!I278","v":0},{"$f":"DINAMICA!J278","v":0},{"$f":"DINAMICA!K278","v":0},{"$f":"VALUE(DINAMICA!$L278)","v":0},{"$f":"VALUE(DINAMICA!$M278)","v":0},{"$f":"VALUE(DINAMICA!$N278)","v":0},{"$f":"VALUE(DINAMICA!$O278)","v":0},{"$f":"VALUE(DINAMICA!$P278)","v":0},{"$f":"VALUE(DINAMICA!$Q278)","v":0},{"$f":"VALUE(DINAMICA!$R278)","v":0}]
[{"$f":"VALUE(DINAMICA!$A279)","v":0},{"$f":"VALUE(DINAMICA!$B279)","v":"00:00:00"},{"$f":"VALUE(DINAMICA!$C279)","v":0},{"$f":"DINAMICA!D279","v":0},{"$f":"DINAMICA!E279","v":0},{"$f":"DINAMICA!F279","v":0},{"$f":"DINAMICA!G279","v":0},{"$f":"DINAMICA!H279","v":0},{"$f":"DINAMICA!I279","v":0},{"$f":"DINAMICA!J279","v":0},{"$f":"DINAMICA!K279","v":0},{"$f":"VALUE(DINAMICA!$L279)","v":0},{"$f":"VALUE(DINAMICA!$M279)","v":0},{"$f":"VALUE(DINAMICA!$N279)","v":0},{"$f":"VALUE(DINAMICA!$O279)","v":0},{"$f":"VALUE(DINAMICA!$P279)","v":0},{"$f":"VALUE(DINAMICA!$Q279)","v":0},{"$f":"VALUE(DINAMICA!$R279)","v":0}]
[{"$f":"VALUE(DINAMICA!$A280)","v":0},{"$f":"VALUE(DINAMICA!$B280)","v":"00:00:00"},{"$f":"VALUE(DINAMICA!$C280)","v":0},{"$f":"DINAMICA!D280","v":0},{"$f":"DINAMICA!E280","v":0},{"$f":"DINAMICA!F280","v":0},{"$f":"DINAMICA!G280","v":0},{"$f":"DINAMICA!H280","v":0},{"$f":"DINAMICA!I280","v":0},{"$f":"DINAMICA!J280","v":0},{"$f":"DINAMICA!K280","v":0},{"$f":"VALUE(DINAMICA!$L280)","v":0},{"$f":"VALUE(DINAMICA!$M280)","v":0},{"$f":"VALUE(DINAMICA!$N280)","v":0},{"$f":"VALUE(DINAMICA!$O280)","v":0},{"$f":"VALUE(DINAMICA!$P280)","v":0},{"$f":"VALUE(DINAMICA!$Q280)","v":0},{"$f":"VALUE(DINAMICA!$R280)","v":0}]
[{"$f":"VALUE(DINAMICA!$A281)","v":0},{"$f":"VALUE(DINAMICA!$B281)","v":"00:00:00"},{"$f":"VALUE(DINAMICA!$C281)","v":0},{"$f":"DINAMICA!D281","v":0},{"$f":"DINAMICA!E281","v":0},{"$f":"DINAMICA!F281","v":0},{"$f":"DINAMICA!G281","v":0},{"$f":"DINAMICA!H281","v":0},{"$f":"DINAMICA!I281","v":0},{"$f":"DINAMICA!J281","v":0},{"$f":"DINAMICA!K281","v":0},{"$f":"VALUE(DINAMICA!$L281)","v":0},{"$f":"VALUE(DINAMICA!$M281)","v":0},{"$f":"VALUE(DINAMICA!$N281)","v":0},{"$f":"VALUE(DINAMICA!$O281)","v":0},{"$f":"VALUE(DINAMICA!$P281)","v":0},{"$f":"VALUE(DINAMICA!$Q281)","v":0},{"$f":"VALUE(DINAMICA!$R281)","v":0}]
[{"$f":"VALUE(DINAMICA!$A282)","v":0},{"$f":"VALUE(DINAMICA!$B282)","v":"00:00:00"},{"$f":"VALUE(DINAMICA!$C282)","v":0},{"$f":"DINAMICA!D282","v":0},{"$f":"DINAMICA!E282","v":0},{"$f":"DINAMICA!F282","v":0},{"$f":"DINAMICA!G282","v":0},{"$f":"DINAMICA!H282","v":0},{"$f":"DINAMICA!I282","v":0},{"$f":"DINAMICA!J282","v":0},{"$f":"DINAMICA!K282","v":0},{"$f":"VALUE(DINAMICA!$L282)","v":0},{"$f":"VALUE(DINAMICA!$M282)","v":0},{"$f":"VALUE(DINAMICA!$N282)","v":0},{"$f":"VALUE(DINAMICA!$O282)","v":0},{"$f":"VALUE(DINAMICA!$P282)","v":0},{"$f":"VALUE(DINAMICA!$Q282)","v":0},{"$f":"VALUE(DINAMICA!$R282)","v":0}]
[{"$f":"VALUE(DINAMICA!$A283)","v":0},{"$f":"VALUE(DINAMICA!$B283)","v":"00:00:00"},{"$f":"VALUE(DINAMICA!$C283)","v":0},{"$f":"DINAMICA!D283","v":0},{"$f":"DINAMICA!E283","v":0},{"$f":"DINAMICA!F283","v":0},{"$f":"DINAMICA!G283","v":0},{"$f":"DINAMICA!H283","v":0},{"$f":"DINAMICA!I283","v":0},{"$f":"DINAMICA!J283","v":0},{"$f":"DINAMICA!K283","v":0},{"$f":"VALUE(DINAMICA!$L283)","v":0},{"$f":"VALUE(DINAMICA!$M283)","v":0},{"$f":"VALUE(DINAMICA!$N283)","v":0},{"$f":"VALUE(DINAMICA!$O283)","v":0},{"$f":"VALUE(DINAMICA!$P283)","v":0},{"$f":"VALUE(DINAMICA!$Q283)","v":0},{"$f":"VALUE(DINAMICA!$R283)","v":0}]
[{"$f":"VALUE(DINAMICA!$A284)","v":0},{"$f":"VALUE(DINAMICA!$B284)","v":"00:00:00"},{"$f":"VALUE(DINAMICA!$C284)","v":0},{"$f":"DINAMICA!D284","v":0},{"$f":"DINAMICA!E284","v":0},{"$f":"DINAMICA!F284","v":0},{"$f":"DINAMICA!G284","v":0},{"$f":"DINAMICA!H284","v":0},{"$f":"DINAMICA!I284","v":0},{"$f":"DINAMICA!J284","v":0},{"$f":"DINAMICA!K284","v":0},{"$f":"VALUE(DINAMICA!$L284)","v":0},{"$f":"VALUE(DINAMICA!$M284)","v":0},{"$f":"VALUE(DINAMICA!$N284)","v":0},{"$f":"VALUE(DINAMICA!$O284)","v":0},{"$f":"VALUE(DINAMICA!$P284)","v":0},{"$f":"VALUE(DINAMICA!$Q284)","v":0},{"$f":"VALUE(DINAMICA!$R284)","v":0}]
[{"$f":"VALUE(DINAMICA!$A285)","v":0},{"$f":"VALUE(DINAMICA!$B285)","v":"00:00:00"},{"$f":"VALUE(DINAMICA!$C285)","v":0},{"$f":"DINAMICA!D285","v":0},{"$f":"DINAMICA!E285","v":0},{"$f":"DINAMICA!F285","v":0},{"$f":"DINAMICA!G285","v":0},{"$f":"DINAMICA!H285","v":0},{"$f":"DINAMICA!I285","v":0},{"$f":"DINAMICA!J285","v":0},{"$f":"DINAMICA!K285","v":0},{"$f":"VALUE(DINAMICA!$L285)","v":0},{"$f":"VALUE(DINAMICA!$M285)","v":0},{"$f":"VALUE(DINAMICA!$N285)","v":0},{"$f":"VALUE(DINAMICA!$O285)","v":0},{"$f":"VALUE(DINAMICA!$P285)","v":0},{"$f":"VALUE(DINAMICA!$Q285)","v":0},{"$f":"VALUE(DINAMICA!$R285)","v":0}]
[{"$f":"VALUE(DINAMICA!$A286)","v":0},{"$f":"VALUE(DINAMICA!$B286)","v":"00:00:00"},{"$f":"VALUE(DINAMICA!$C286)","v":0},{"$f":"DINAMICA!D286","v":0},{"$f":"DINAMICA!E286","v":0},{"$f":"DINAMICA!F286","v":0},{"$f":"DINAMICA!G286","v":0},{"$f":"DINAMICA!H286","v":0},{"$f":"DINAMICA!I286","v":0},{"$f":"DINAMICA!J286","v":0},{"$f":"DINAMICA!K286","v":0},{"$f":"VALUE(DINAMICA!$L286)","v":0},{"$f":"VALUE(DINAMICA!$M286)","v":0},{"$f":"VALUE(DINAMICA!$N286)","v":0},{"$f":"VALUE(DINAMICA!$O286)","v":0},{"$f":"VALUE(DINAMICA!$P286)","v":0},{"$f":"VALUE(DINAMICA!$Q286)","v":0},{"$f":"VALUE(DINAMICA!$R286)","v":0}]
[{"$f":"VALUE(DINAMICA!$A287)","v":0},{"$f":"VALUE(DINAMICA!$B287)","v":"00:00:00"},{"$f":"VALUE(DINAMICA!$C287)","v":0},{"$f":"DINAMICA!D287","v":0},{"$f":"DINAMICA!E287","v":0},{"$f":"DINAMICA!F287","v":0},{"$f":"DINAMICA!G287","v":0},{"$f":"DINAMICA!H287","v":0},{"$f":"DINAMICA!I287","v":0},{"$f":"DINAMICA!J287","v":0},{"$f":"DINAMICA!K287","v":0},{"$f":"VALUE(DINAMICA!$L287)","v":0},{"$f":"VALUE(DINAMICA!$M287)","v":0},{"$f":"VALUE(DINAMICA!$N287)","v":0},{"$f":"VALUE(DINAMICA!$O287)","v":0},{"$f":"VALUE(DINAMICA!$P287)","v":0},{"$f":"VALUE(DINAMICA!$Q287)","v":0},{"$f":"VALUE(DINAMICA!$R287)","v":0}]
[{"$f":"VALUE(DINAMICA!$A288)","v":0},{"$f":"VALUE(DINAMICA!$B288)","v":"00:00:00"},{"$f":"VALUE(DINAMICA!$C288)","v":0},{"$f":"DINAMICA!D288","v":0},{"$f":"DINAMICA!E288","v":0},{"$f":"DINAMICA!F288","v":0},{"$f":"DINAMICA!G288","v":0},{"$f":"DINAMICA!H288","v":0},{"$f":"DINAMICA!I288","v":0},{"$f":"DINAMICA!J288","v":0},{"$f":"DINAMICA!K288","v":0},{"$f":"VALUE(DINAMICA!$L288)","v":0},{"$f":"VALUE(DINAMICA!$M288)","v":0},{"$f":"VALUE(DINAMICA!$N288)","v":0},{"$f":"VALUE(DINAMICA!$O288)","v":0},{"$f":"VALUE(DINAMICA!$P288)","v":0},{"$f":"VALUE(DINAMICA!$Q288)","v":0},{"$f":"VALUE(DINAMICA!$R288)","v":0}]
[{"$f":"VALUE(DINAMICA!$A289)","v":0},{"$f":"VALUE(DINAMICA!$B289)","v":"00:00:00"},{"$f":"VALUE(DINAMICA!$C289)","v":0},{"$f":"DINAMICA!D289","v":0},{"$f":"DINAMICA!E289","v":0},{"$f":"DINAMICA!F289","v":0},{"$f":"DINAMICA!G289","v":0},{"$f":"DINAMICA!H289","v":0},{"$f":"DINAMICA!I289","v":0},{"$f":"DINAMICA!J289","v":0},{"$f":"DINAMICA!K289","v":0},{"$f":"VALUE(DINAMICA!$L289)","v":0},{"$f":"VALUE(DINAMICA!$M289)","v":0},{"$f":"VALUE(DINAMICA!$N289)","v":0},{"$f":"VALUE(DINAMICA!$O289)","v":0},{"$f":"VALUE(DINAMICA!$P289)","v":0},{"$f":"VALUE(DINAMICA!$Q289)","v":0},{"$f":"VALUE(DINAMICA!$R289)","v":0}]
[{"$f":"VALUE(DINAMICA!$A290)","v":0},{"$f":"VALUE(DINAMICA!$B290)","v":"00:00:00"},{"$f":"VALUE(DINAMICA!$C290)","v":0},{"$f":"DINAMICA!D290","v":0},{"$f":"DINAMICA!E290","v":0},{"$f":"DINAMICA!F290","v":0},{"$f":"DINAMICA!G290","v":0},{"$f":"DINAMICA!H290","v":0},{"$f":"DINAMICA!I290","v":0},{"$f":"DINAMICA!J290","v":0},{"$f":"DINAMICA!K290","v":0},{"$f":"VALUE(DINAMICA!$L290)","v":0},{"$f":"VALUE(DINAMICA!$M290)","v":0},{"$f":"VALUE(DINAMICA!$N290)","v":0},{"$f":"VALUE(DINAMICA!$O290)","v":0},{"$f":"VALUE(DINAMICA!$P290)","v":0},{"$f":"VALUE(DINAMICA!$Q290)","v":0},{"$f":"VALUE(DINAMICA!$R290)","v":0}]
[{"$f":"VALUE(DINAMICA!$A291)","v":0},{"$f":"VALUE(DINAMICA!$B291)","v":"00:00:00"},{"$f":"VALUE(DINAMICA!$C291)","v":0},{"$f":"DINAMICA!D291","v":0},{"$f":"DINAMICA!E291","v":0},{"$f":"DINAMICA!F291","v":0},{"$f":"DINAMICA!G291","v":0},{"$f":"DINAMICA!H291","v":0},{"$f":"DINAMICA!I291","v":0},{"$f":"DINAMICA!J291","v":0},{"$f":"DINAMICA!K291","v":0},{"$f":"VALUE(DINAMICA!$L291)","v":0},{"$f":"VALUE(DINAMICA!$M291)","v":0},{"$f":"VALUE(DINAMICA!$N291)","v":0},{"$f":"VALUE(DINAMICA!$O291)","v":0},{"$f":"VALUE(DINAMICA!$P291)","v":0},{"$f":"VALUE(DINAMICA!$Q291)","v":0},{"$f":"VALUE(DINAMICA!$R291)","v":0}]
[{"$f":"VALUE(DINAMICA!$A292)","v":0},{"$f":"VALUE(DINAMICA!$B292)","v":"00:00:00"},{"$f":"VALUE(DINAMICA!$C292)","v":0},{"$f":"DINAMICA!D292","v":0},{"$f":"DINAMICA!E292","v":0},{"$f":"DINAMICA!F292","v":0},{"$f":"DINAMICA!G292","v":0},{"$f":"DINAMICA!H292","v":0},{"$f":"DINAMICA!I292","v":0},{"$f":"DINAMICA!J292","v":0},{"$f":"DINAMICA!K292","v":0},{"$f":"VALUE(DINAMICA!$L292)","v":0},{"$f":"VALUE(DINAMICA!$M292)","v":0},{"$f":"VALUE(DINAMICA!$N292)","v":0},{"$f":"VALUE(DINAMICA!$O292)","v":0},{"$f":"VALUE(DINAMICA!$P292)","v":0},{"$f":"VALUE(DINAMICA!$Q292)","v":0},{"$f":"VALUE(DINAMICA!$R292)","v":0}]
[{"$f":"VALUE(DINAMICA!$A293)","v":0},{"$f":"VALUE(DINAMICA!$B293)","v":"00:00:00"},{"$f":"VALUE(DINAMICA!$C293)","v":0},{"$f":"DINAMICA!D293","v":0},{"$f":"DINAMICA!E293","v":0},{"$f":"DINAMICA!F293","v":0},{"$f":"DINAMICA!G293","v":0},{"$f":"DINAMICA!H293","v":0},{"$f":"DINAMICA!I293","v":0},{"$f":"DINAMICA!J293","v":0},{"$f":"DINAMICA!K293","v":0},{"$f":"VALUE(DINAMICA!$L293)","v":0},{"$f":"VALUE(DINAMICA!$M293)","v":0},{"$f":"VALUE(DINAMICA!$N293)","v":0},{"$f":"VALUE(DINAMICA!$O293)","v":0},{"$f":"VALUE(DINAMICA!$P293)","v":0},{"$f":"VALUE(DINAMICA!$Q293)","v":0},{"$f":"VALUE(DINAMICA!$R293)","v":0}]
[{"$f":"VALUE(DINAMICA!$A294)","v":0},{"$f":"VALUE(DINAMICA!$B294)","v":"00:00:00"},{"$f":"VALUE(DINAMICA!$C294)","v":0},{"$f":"DINAMICA!D294","v":0},{"$f":"DINAMICA!E294","v":0},{"$f":"DINAMICA!F294","v":0},{"$f":"DINAMICA!G294","v":0},{"$f":"DINAMICA!H294","v":0},{"$f":"DINAMICA!I294","v":0},{"$f":"DINAMICA!J294","v":0},{"$f":"DINAMICA!K294","v":0},{"$f":"VALUE(DINAMICA!$L294)","v":0},{"$f":"VALUE(DINAMICA!$M294)","v":0},{"$f":"VALUE(DINAMICA!$N294)","v":0},{"$f":"VALUE(DINAMICA!$O294)","v":0},{"$f":"VALUE(DINAMICA!$P294)","v":0},{"$f":"VALUE(DINAMICA!$Q294)","v":0},{"$f":"VALUE(DINAMICA!$R294)","v":0}]
[{"$f":"VALUE(DINAMICA!$A295)","v":0},{"$f":"VALUE(DINAMICA!$B295)","v":"00:00:00"},{"$f":"VALUE(DINAMICA!$C295)","v":0},{"$f":"DINAMICA!D295","v":0},{"$f":"DINAMICA!E295","v":0},{"$f":"DINAMICA!F295","v":0},{"$f":"DINAMICA!G295","v":0},{"$f":"DINAMICA!H295","v":0},{"$f":"DINAMICA!I295","v":0},{"$f":"DINAMICA!J295","v":0},{"$f":"DINAMICA!K295","v":0},{"$f":"VALUE(DINAMICA!$L295)","v":0},{"$f":"VALUE(DINAMICA!$M295)","v":0},{"$f":"VALUE(DINAMICA!$N295)","v":0},{"$f":"VALUE(DINAMICA!$O295)","v":0},{"$f":"VALUE(DINAMICA!$P295)","v":0},{"$f":"VALUE(DINAMICA!$Q295)","v":0},{"$f":"VALUE(DINAMICA!$R295)","v":0}]
[{"$f":"VALUE(DINAMICA!$A296)","v":0},{"$f":"VALUE(DINAMICA!$B296)","v":"00:00:00"},{"$f":"VALUE(DINAMICA!$C296)","v":0},{"$f":"DINAMICA!D296","v":0},{"$f":"DINAMICA!E296","v":0},{"$f":"DINAMICA!F296","v":0},{"$f":"DINAMICA!G296","v":0},{"$f":"DINAMICA!H296","v":0},{"$f":"DINAMICA!I296","v":0},{"$f":"DINAMICA!J296","v":0},{"$f":"DINAMICA!K296","v":0},{"$f":"VALUE(DINAMICA!$L296)","v":0},{"$f":"VALUE(DINAMICA!$M296)","v":0},{"$f":"VALUE(DINAMICA!$N296)","v":0},{"$f":"VALUE(DINAMICA!$O296)","v":0},{"$f":"VALUE(DINAMICA!$P296)","v":0},{"$f":"VALUE(DINAMICA!$Q296)","v":0},{"$f":"VALUE(DINAMICA!$R296)","v":0}]
[{"$f":"VALUE(DINAMICA!$A297)","v":0},{"$f":"VALUE(DINAMICA!$B297)","v":"00:00:00"},{"$f":"VALUE(DINAMICA!$C297)","v":0},{"$f":"DINAMICA!D297","v":0},{"$f":"DINAMICA!E297","v":0},{"$f":"DINAMICA!F297","v":0},{"$f":"DINAMICA!G297","v":0},{"$f":"DINAMICA!H297","v":0},{"$f":"DINAMICA!I297","v":0},{"$f":"DINAMICA!J297","v":0},{"$f":"DINAMICA!K297","v":0},{"$f":"VALUE(DINAMICA!$L297)","v":0},{"$f":"VALUE(DINAMICA!$M297)","v":0},{"$f":"VALUE(DINAMICA!$N297)","v":0},{"$f":"VALUE(DINAMICA!$O297)","v":0},{"$f":"VALUE(DINAMICA!$P297)","v":0},{"$f":"VALUE(DINAMICA!$Q297)","v":0},{"$f":"VALUE(DINAMICA!$R297)","v":0}]
[{"$f":"VALUE(DINAMICA!$A298)","v":0},{"$f":"VALUE(DINAMICA!$B298)","v":"00:00:00"},{"$f":"VALUE(DINAMICA!$C298)","v":0},{"$f":"DINAMICA!D298","v":0},{"$f":"DINAMICA!E298","v":0},{"$f":"DINAMICA!F298","v":0},{"$f":"DINAMICA!G298","v":0},{"$f":"DINAMICA!H298","v":0},{"$f":"DINAMICA!I298","v":0},{"$f":"DINAMICA!J298","v":0},{"$f":"DINAMICA!K298","v":0},{"$f":"VALUE(DINAMICA!$L298)","v":0},{"$f":"VALUE(DINAMICA!$M298)","v":0},{"$f":"VALUE(DINAMICA!$N298)","v":0},{"$f":"VALUE(DINAMICA!$O298)","v":0},{"$f":"VALUE(DINAMICA!$P298)","v":0},{"$f":"VALUE(DINAMICA!$Q298)","v":0},{"$f":"VALUE(DINAMICA!$R298)","v":0}]
[{"$f":"VALUE(DINAMICA!$A299)","v":0},{"$f":"VALUE(DINAMICA!$B299)","v":"00:00:00"},{"$f":"VALUE(DINAMICA!$C299)","v":0},{"$f":"DINAMICA!D299","v":0},{"$f":"DINAMICA!E299","v":0},{"$f":"DINAMICA!F299","v":0},{"$f":"DINAMICA!G299","v":0},{"$f":"DINAMICA!H299","v":0},{"$f":"DINAMICA!I299","v":0},{"$f":"DINAMICA!J299","v":0},{"$f":"DINAMICA!K299","v":0},{"$f":"VALUE(DINAMICA!$L299)","v":0},{"$f":"VALUE(DINAMICA!$M299)","v":0},{"$f":"VALUE(DINAMICA!$N299)","v":0},{"$f":"VALUE(DINAMICA!$O299)","v":0},{"$f":"VALUE(DINAMICA!$P299)","v":0},{"$f":"VALUE(DINAMICA!$Q299)","v":0},{"$f":"VALUE(DINAMICA!$R299)","v":0}]
[{"$f":"VALUE(DINAMICA!$A300)","v":0},{"$f":"VALUE(DINAMICA!$B300)","v":"00:00:00"},{"$f":"VALUE(DINAMICA!$C300)","v":0},{"$f":"DINAMICA!D300","v":0},{"$f":"DINAMICA!E300","v":0},{"$f":"DINAMICA!F300","v":0},{"$f":"DINAMICA!G300","v":0},{"$f":"DINAMICA!H300","v":0},{"$f":"DINAMICA!I300","v":0},{"$f":"DINAMICA!J300","v":0},{"$f":"DINAMICA!K300","v":0},{"$f":"VALUE(DINAMICA!$L300)","v":0},{"$f":"VALUE(DINAMICA!$M300)","v":0},{"$f":"VALUE(DINAMICA!$N300)","v":0},{"$f":"VALUE(DINAMICA!$O300)","v":0},{"$f":"VALUE(DINAMICA!$P300)","v":0},{"$f":"VALUE(DINAMICA!$Q300)","v":0},{"$f":"VALUE(DINAMICA!$R300)","v":0}]
[{"$f":"VALUE(DINAMICA!$A301)","v":0},{"$f":"VALUE(DINAMICA!$B301)","v":"00:00:00"},{"$f":"VALUE(DINAMICA!$C301)","v":0},{"$f":"DINAMICA!D301","v":0},{"$f":"DINAMICA!E301","v":0},{"$f":"DINAMICA!F301","v":0},{"$f":"DINAMICA!G301","v":0},{"$f":"DINAMICA!H301","v":0},{"$f":"DINAMICA!I301","v":0},{"$f":"DINAMICA!J301","v":0},{"$f":"DINAMICA!K301","v":0},{"$f":"VALUE(DINAMICA!$L301)","v":0},{"$f":"VALUE(DINAMICA!$M301)","v":0},{"$f":"VALUE(DINAMICA!$N301)","v":0},{"$f":"VALUE(DINAMICA!$O301)","v":0},{"$f":"VALUE(DINAMICA!$P301)","v":0},{"$f":"VALUE(DINAMICA!$Q301)","v":0},{"$f":"VALUE(DINAMICA!$R301)","v":0}]
[{"$f":"VALUE(DINAMICA!$A302)","v":0},{"$f":"VALUE(DINAMICA!$B302)","v":"00:00:00"},{"$f":"VALUE(DINAMICA!$C302)","v":0},{"$f":"DINAMICA!D302","v":0},{"$f":"DINAMICA!E302","v":0},{"$f":"DINAMICA!F302","v":0},{"$f":"DINAMICA!G302","v":0},{"$f":"DINAMICA!H302","v":0},{"$f":"DINAMICA!I302","v":0},{"$f":"DINAMICA!J302","v":0},{"$f":"DINAMICA!K302","v":0},{"$f":"VALUE(DINAMICA!$L302)","v":0},{"$f":"VALUE(DINAMICA!$M302)","v":0},{"$f":"VALUE(DINAMICA!$N302)","v":0},{"$f":"VALUE(DINAMICA!$O302)","v":0},{"$f":"VALUE(DINAMICA!$P302)","v":0},{"$f":"VALUE(DINAMICA!$Q302)","v":0},{"$f":"VALUE(DINAMICA!$R302)","v":0}]
[{"$f":"VALUE(DINAMICA!$A303)","v":0},{"$f":"VALUE(DINAMICA!$B303)","v":"00:00:00"},{"$f":"VALUE(DINAMICA!$C303)","v":0},{"$f":"DINAMICA!D303","v":0},{"$f":"DINAMICA!E303","v":0},{"$f":"DINAMICA!F303","v":0},{"$f":"DINAMICA!G303","v":0},{"$f":"DINAMICA!H303","v":0},{"$f":"DINAMICA!I303","v":0},{"$f":"DINAMICA!J303","v":0},{"$f":"DINAMICA!K303","v":0},{"$f":"VALUE(DINAMICA!$L303)","v":0},{"$f":"VALUE(DINAMICA!$M303)","v":0},{"$f":"VALUE(DINAMICA!$N303)","v":0},{"$f":"VALUE(DINAMICA!$O303)","v":0},{"$f":"VALUE(DINAMICA!$P303)","v":0},{"$f":"VALUE(DINAMICA!$Q303)","v":0},{"$f":"VALUE(DINAMICA!$R303)","v":0}]
[{"$f":"VALUE(DINAMICA!$A304)","v":0},{"$f":"VALUE(DINAMICA!$B304)","v":"00:00:00"},{"$f":"VALUE(DINAMICA!$C304)","v":0},{"$f":"DINAMICA!D304","v":0},{"$f":"DINAMICA!E304","v":0},{"$f":"DINAMICA!F304","v":0},{"$f":"DINAMICA!G304","v":0},{"$f":"DINAMICA!H304","v":0},{"$f":"DINAMICA!I304","v":0},{"$f":"DINAMICA!J304","v":0},{"$f":"DINAMICA!K304","v":0},{"$f":"VALUE(DINAMICA!$L304)","v":0},{"$f":"VALUE(DINAMICA!$M304)","v":0},{"$f":"VALUE(DINAMICA!$N304)","v":0},{"$f":"VALUE(DINAMICA!$O304)","v":0},{"$f":"VALUE(DINAMICA!$P304)","v":0},{"$f":"VALUE(DINAMICA!$Q304)","v":0},{"$f":"VALUE(DINAMICA!$R304)","v":0}]
[{"$f":"VALUE(DINAMICA!$A305)","v":0},{"$f":"VALUE(DINAMICA!$B305)","v":"00:00:00"},{"$f":"VALUE(DINAMICA!$C305)","v":0},{"$f":"DINAMICA!D305","v":0},{"$f":"DINAMICA!E305","v":0},{"$f":"DINAMICA!F305","v":0},{"$f":"DINAMICA!G305","v":0},{"$f":"DINAMICA!H305","v":0},{"$f":"DINAMICA!I305","v":0},{"$f":"DINAMICA!J305","v":0},{"$f":"DINAMICA!K305","v":0},{"$f":"VALUE(DINAMICA!$L305)","v":0},{"$f":"VALUE(DINAMICA!$M305)","v":0},{"$f":"VALUE(DINAMICA!$N305)","v":0},{"$f":"VALUE(DINAMICA!$O305)","v":0},{"$f":"VALUE(DINAMICA!$P305)","v":0},{"$f":"VALUE(DINAMICA!$Q305)","v":0},{"$f":"VALUE(DINAMICA!$R305)","v":0}]
[{"$f":"VALUE(DINAMICA!$A306)","v":0},{"$f":"VALUE(DINAMICA!$B306)","v":"00:00:00"},{"$f":"VALUE(DINAMICA!$C306)","v":0},{"$f":"DINAMICA!D306","v":0},{"$f":"DINAMICA!E306","v":0},{"$f":"DINAMICA!F306","v":0},{"$f":"DINAMICA!G306","v":0},{"$f":"DINAMICA!H306","v":0},{"$f":"DINAMICA!I306","v":0},{"$f":"DINAMICA!J306","v":0},{"$f":"DINAMICA!K306","v":0},{"$f":"VALUE(DINAMICA!$L306)","v":0},{"$f":"VALUE(DINAMICA!$M306)","v":0},{"$f":"VALUE(DINAMICA!$N306)","v":0},{"$f":"VALUE(DINAMICA!$O306)","v":0},{"$f":"VALUE(DINAMICA!$P306)","v":0},{"$f":"VALUE(DINAMICA!$Q306)","v":0},{"$f":"VALUE(DINAMICA!$R306)","v":0}]
[{"$f":"VALUE(DINAMICA!$A307)","v":0},{"$f":"VALUE(DINAMICA!$B307)","v":"00:00:00"},{"$f":"VALUE(DINAMICA!$C307)","v":0},{"$f":"DINAMICA!D307","v":0},{"$f":"DINAMICA!E307","v":0},{"$f":"DINAMICA!F307","v":0},{"$f":"DINAMICA!G307","v":0},{"$f":"DINAMICA!H307","v":0},{"$f":"DINAMICA!I307","v":0},{"$f":"DINAMICA!J307","v":0},{"$f":"DINAMICA!K307","v":0},{"$f":"VALUE(DINAMICA!$L307)","v":0},{"$f":"VALUE(DINAMICA!$M307)","v":0},{"$f":"VALUE(DINAMICA!$N307)","v":0},{"$f":"VALUE(DINAMICA!$O307)","v":0},{"$f":"VALUE(DINAMICA!$P307)","v":0},{"$f":"VALUE(DINAMICA!$Q307)","v":0},{"$f":"VALUE(DINAMICA!$R307)","v":0}]
[{"$f":"VALUE(DINAMICA!$A308)","v":0},{"$f":"VALUE(DINAMICA!$B308)","v":"00:00:00"},{"$f":"VALUE(DINAMICA!$C308)","v":0},{"$f":"DINAMICA!D308","v":0},{"$f":"DINAMICA!E308","v":0},{"$f":"DINAMICA!F308","v":0},{"$f":"DINAMICA!G308","v":0},{"$f":"DINAMICA!H308","v":0},{"$f":"DINAMICA!I308","v":0},{"$f":"DINAMICA!J308","v":0},{"$f":"DINAMICA!K308","v":0},{"$f":"VALUE(DINAMICA!$L308)","v":0},{"$f":"VALUE(DINAMICA!$M308)","v":0},{"$f":"VALUE(DINAMICA!$N308)","v":0},{"$f":"VALUE(DINAMICA!$O308)","v":0},{"$f":"VALUE(DINAMICA!$P308)","v":0},{"$f":"VALUE(DINAMICA!$Q308)","v":0},{"$f":"VALUE(DINAMICA!$R308)","v":0}]
[{"$f":"VALUE(DINAMICA!$A309)","v":0},{"$f":"VALUE(DINAMICA!$B309)","v":"00:00:00"},{"$f":"VALUE(DINAMICA!$C309)","v":0},{"$f":"DINAMICA!D309","v":0},{"$f":"DINAMICA!E309","v":0},{"$f":"DINAMICA!F309","v":0},{"$f":"DINAMICA!G309","v":0},{"$f":"DINAMICA!H309","v":0},{"$f":"DINAMICA!I309","v":0},{"$f":"DINAMICA!J309","v":0},{"$f":"DINAMICA!K309","v":0},{"$f":"VALUE(DINAMICA!$L309)","v":0},{"$f":"VALUE(DINAMICA!$M309)","v":0},{"$f":"VALUE(DINAMICA!$N309)","v":0},{"$f":"VALUE(DINAMICA!$O309)","v":0},{"$f":"VALUE(DINAMICA!$P309)","v":0},{"$f":"VALUE(DINAMICA!$Q309)","v":0},{"$f":"VALUE(DINAMICA!$R309)","v":0}]
[{"$f":"VALUE(DINAMICA!$A310)","v":0},{"$f":"VALUE(DINAMICA!$B310)","v":"00:00:00"},{"$f":"VALUE(DINAMICA!$C310)","v":0},{"$f":"DINAMICA!D310","v":0},{"$f":"DINAMICA!E310","v":0},{"$f":"DINAMICA!F310","v":0},{"$f":"DINAMICA!G310","v":0},{"$f":"DINAMICA!H310","v":0},{"$f":"DINAMICA!I310","v":0},{"$f":"DINAMICA!J310","v":0},{"$f":"DINAMICA!K310","v":0},{"$f":"VALUE(DINAMICA!$L310)","v":0},{"$f":"VALUE(DINAMICA!$M310)","v":0},{"$f":"VALUE(DINAMICA!$N310)","v":0},{"$f":"VALUE(DINAMICA!$O310)","v":0},{"$f":"VALUE(DINAMICA!$P310)","v":0},{"$f":"VALUE(DINAMICA!$Q310)","v":0},{"$f":"VALUE(DINAMICA!$R310)","v":0}]
[{"$f":"VALUE(DINAMICA!$A311)","v":0},{"$f":"VALUE(DINAMICA!$B311)","v":"00:00:00"},{"$f":"VALUE(DINAMICA!$C311)","v":0},{"$f":"DINAMICA!D311","v":0},{"$f":"DINAMICA!E311","v":0},{"$f":"DINAMICA!F311","v":0},{"$f":"DINAMICA!G311","v":0},{"$f":"DINAMICA!H311","v":0},{"$f":"DINAMICA!I311","v":0},{"$f":"DINAMICA!J311","v":0},{"$f":"DINAMICA!K311","v":0},{"$f":"VALUE(DINAMICA!$L311)","v":0},{"$f":"VALUE(DINAMICA!$M311)","v":0},{"$f":"VALUE(DINAMICA!$N311)","v":0},{"$f":"VALUE(DINAMICA!$O311)","v":0},{"$f":"VALUE(DINAMICA!$P311)","v":0},{"$f":"VALUE(DINAMICA!$Q311)","v":0},{"$f":"VALUE(DINAMICA!$R311)","v":0}]
[{"$f":"VALUE(DINAMICA!$A312)","v":0},{"$f":"VALUE(DINAMICA!$B312)","v":"00:00:00"},{"$f":"VALUE(DINAMICA!$C312)","v":0},{"$f":"DINAMICA!D312","v":0},{"$f":"DINAMICA!E312","v":0},{"$f":"DINAMICA!F312","v":0},{"$f":"DINAMICA!G312","v":0},{"$f":"DINAMICA!H312","v":0},{"$f":"DINAMICA!I312","v":0},{"$f":"DINAMICA!J312","v":0},{"$f":"DINAMICA!K312","v":0},{"$f":"VALUE(DINAMICA!$L312)","v":0},{"$f":"VALUE(DINAMICA!$M312)","v":0},{"$f":"VALUE(DINAMICA!$N312)","v":0},{"$f":"VALUE(DINAMICA!$O312)","v":0},{"$f":"VALUE(DINAMICA!$P312)","v":0},{"$f":"VALUE(DINAMICA!$Q312)","v":0},{"$f":"VALUE(DINAMICA!$R312)","v":0}]
[{"$f":"VALUE(DINAMICA!$A313)","v":0},{"$f":"VALUE(DINAMICA!$B313)","v":"00:00:00"},{"$f":"VALUE(DINAMICA!$C313)","v":0},{"$f":"DINAMICA!D313","v":0},{"$f":"DINAMICA!E313","v":0},{"$f":"DINAMICA!F313","v":0},{"$f":"DINAMICA!G313","v":0},{"$f":"DINAMICA!H313","v":0},{"$f":"DINAMICA!I313","v":0},{"$f":"DINAMICA!J313","v":0},{"$f":"DINAMICA!K313","v":0},{"$f":"VALUE(DINAMICA!$L313)","v":0},{"$f":"VALUE(DINAMICA!$M313)","v":0},{"$f":"VALUE(DINAMICA!$N313)","v":0},{"$f":"VALUE(DINAMICA!$O313)","v":0},{"$f":"VALUE(DINAMICA!$P313)","v":0},{"$f":"VALUE(DINAMICA!$Q313)","v":0},{"$f":"VALUE(DINAMICA!$R313)","v":0}]
[{"$f":"VALUE(DINAMICA!$A314)","v":0},{"$f":"VALUE(DINAMICA!$B314)","v":"00:00:00"},{"$f":"VALUE(DINAMICA!$C314)","v":0},{"$f":"DINAMICA!D314","v":0},{"$f":"DINAMICA!E314","v":0},{"$f":"DINAMICA!F314","v":0},{"$f":"DINAMICA!G314","v":0},{"$f":"DINAMICA!H314","v":0},{"$f":"DINAMICA!I314","v":0},{"$f":"DINAMICA!J314","v":0},{"$f":"DINAMICA!K314","v":0},{"$f":"VALUE(DINAMICA!$L314)","v":0},{"$f":"VALUE(DINAMICA!$M314)","v":0},{"$f":"VALUE(DINAMICA!$N314)","v":0},{"$f":"VALUE(DINAMICA!$O314)","v":0},{"$f":"VALUE(DINAMICA!$P314)","v":0},{"$f":"VALUE(DINAMICA!$Q314)","v":0},{"$f":"VALUE(DINAMICA!$R314)","v":0}]
[{"$f":"VALUE(DINAMICA!$A315)","v":0},{"$f":"VALUE(DINAMICA!$B315)","v":"00:00:00"},{"$f":"VALUE(DINAMICA!$C315)","v":0},{"$f":"DINAMICA!D315","v":0},{"$f":"DINAMICA!E315","v":0},{"$f":"DINAMICA!F315","v":0},{"$f":"DINAMICA!G315","v":0},{"$f":"DINAMICA!H315","v":0},{"$f":"DINAMICA!I315","v":0},{"$f":"DINAMICA!J315","v":0},{"$f":"DINAMICA!K315","v":0},{"$f":"VALUE(DINAMICA!$L315)","v":0},{"$f":"VALUE(DINAMICA!$M315)","v":0},{"$f":"VALUE(DINAMICA!$N315)","v":0},{"$f":"VALUE(DINAMICA!$O315)","v":0},{"$f":"VALUE(DINAMICA!$P315)","v":0},{"$f":"VALUE(DINAMICA!$Q315)","v":0},{"$f":"VALUE(DINAMICA!$R315)","v":0}]
[{"$f":"VALUE(DINAMICA!$A316)","v":0},{"$f":"VALUE(DINAMICA!$B316)","v":"00:00:00"},{"$f":"VALUE(DINAMICA!$C316)","v":0},{"$f":"DINAMICA!D316","v":0},{"$f":"DINAMICA!E316","v":0},{"$f":"DINAMICA!F316","v":0},{"$f":"DINAMICA!G316","v":0},{"$f":"DINAMICA!H316","v":0},{"$f":"DINAMICA!I316","v":0},{"$f":"DINAMICA!J316","v":0},{"$f":"DINAMICA!K316","v":0},{"$f":"VALUE(DINAMICA!$L316)","v":0},{"$f":"VALUE(DINAMICA!$M316)","v":0},{"$f":"VALUE(DINAMICA!$N316)","v":0},{"$f":"VALUE(DINAMICA!$O316)","v":0},{"$f":"VALUE(DINAMICA!$P316)","v":0},{"$f":"VALUE(DINAMICA!$Q316)","v":0},{"$f":"VALUE(DINAMICA!$R316)","v":0}]
[{"$f":"VALUE(DINAMICA!$A317)","v":0},{"$f":"VALUE(DINAMICA!$B317)","v":"00:00:00"},{"$f":"VALUE(DINAMICA!$C317)","v":0},{"$f":"DINAMICA!D317","v":0},{"$f":"DINAMICA!E317","v":0},{"$f":"DINAMICA!F317","v":0},{"$f":"DINAMICA!G317","v":0},{"$f":"DINAMICA!H317","v":0},{"$f":"DINAMICA!I317","v":0},{"$f":"DINAMICA!J317","v":0},{"$f":"DINAMICA!K317","v":0},{"$f":"VALUE(DINAMICA!$L317)","v":0},{"$f":"VALUE(DINAMICA!$M317)","v":0},{"$f":"VALUE(DINAMICA!$N317)","v":0},{"$f":"VALUE(DINAMICA!$O317)","v":0},{"$f":"VALUE(DINAMICA!$P317)","v":0},{"$f":"VALUE(DINAMICA!$Q317)","v":0},{"$f":"VALUE(DINAMICA!$R317)","v":0}]
[{"$f":"VALUE(DINAMICA!$A318)","v":0},{"$f":"VALUE(DINAMICA!$B318)","v":"00:00:00"},{"$f":"VALUE(DINAMICA!$C318)","v":0},{"$f":"DINAMICA!D318","v":0},{"$f":"DINAMICA!E318","v":0},{"$f":"DINAMICA!F318","v":0},{"$f":"DINAMICA!G318","v":0},{"$f":"DINAMICA!H318","v":0},{"$f":"DINAMICA!I318","v":0},{"$f":"DINAMICA!J318","v":0},{"$f":"DINAMICA!K318","v":0},{"$f":"VALUE(DINAMICA!$L318)","v":0},{"$f":"VALUE(DINAMICA!$M318)","v":0},{"$f":"VALUE(DINAMICA!$N318)","v":0},{"$f":"VALUE(DINAMICA!$O318)","v":0},{"$f":"VALUE(DINAMICA!$P318)","v":0},{"$f":"VALUE(DINAMICA!$Q318)","v":0},{"$f":"VALUE(DINAMICA!$R318)","v":0}]
[{"$f":"VALUE(DINAMICA!$A319)","v":0},{"$f":"VALUE(DINAMICA!$B319)","v":"00:00:00"},{"$f":"VALUE(DINAMICA!$C319)","v":0},{"$f":"DINAMICA!D319","v":0},{"$f":"DINAMICA!E319","v":0},{"$f":"DINAMICA!F319","v":0},{"$f":"DINAMICA!G319","v":0},{"$f":"DINAMICA!H319","v":0},{"$f":"DINAMICA!I319","v":0},{"$f":"DINAMICA!J319","v":0},{"$f":"DINAMICA!K319","v":0},{"$f":"VALUE(DINAMICA!$L319)","v":0},{"$f":"VALUE(DINAMICA!$M319)","v":0},{"$f":"VALUE(DINAMICA!$N319)","v":0},{"$f":"VALUE(DINAMICA!$O319)","v":0},{"$f":"VALUE(DINAMICA!$P319)","v":0},{"$f":"VALUE(DINAMICA!$Q319)","v":0},{"$f":"VALUE(DINAMICA!$R319)","v":0}]
[{"$f":"VALUE(DINAMICA!$A320)","v":0},{"$f":"VALUE(DINAMICA!$B320)","v":"00:00:00"},{"$f":"VALUE(DINAMICA!$C320)","v":0},{"$f":"DINAMICA!D320","v":0},{"$f":"DINAMICA!E320","v":0},{"$f":"DINAMICA!F320","v":0},{"$f":"DINAMICA!G320","v":0},{"$f":"DINAMICA!H320","v":0},{"$f":"DINAMICA!I320","v":0},{"$f":"DINAMICA!J320","v":0},{"$f":"DINAMICA!K320","v":0},{"$f":"VALUE(DINAMICA!$L320)","v":0},{"$f":"VALUE(DINAMICA!$M320)","v":0},{"$f":"VALUE(DINAMICA!$N320)","v":0},{"$f":"VALUE(DINAMICA!$O320)","v":0},{"$f":"VALUE(DINAMICA!$P320)","v":0},{"$f":"VALUE(DINAMICA!$Q320)","v":0},{"$f":"VALUE(DINAMICA!$R320)","v":0}]
[{"$f":"VALUE(DINAMICA!$A321)","v":0},{"$f":"VALUE(DINAMICA!$B321)","v":"00:00:00"},{"$f":"VALUE(DINAMICA!$C321)","v":0},{"$f":"DINAMICA!D321","v":0},{"$f":"DINAMICA!E321","v":0},{"$f":"DINAMICA!F321","v":0},{"$f":"DINAMICA!G321","v":0},{"$f":"DINAMICA!H321","v":0},{"$f":"DINAMICA!I321","v":0},{"$f":"DINAMICA!J321","v":0},{"$f":"DINAMICA!K321","v":0},{"$f":"VALUE(DINAMICA!$L321)","v":0},{"$f":"VALUE(DINAMICA!$M321)","v":0},{"$f":"VALUE(DINAMICA!$N321)","v":0},{"$f":"VALUE(DINAMICA!$O321)","v":0},{"$f":"VALUE(DINAMICA!$P321)","v":0},{"$f":"VALUE(DINAMICA!$Q321)","v":0},{"$f":"VALUE(DINAMICA!$R321)","v":0}]
[{"$f":"VALUE(DINAMICA!$A322)","v":0},{"$f":"VALUE(DINAMICA!$B322)","v":"00:00:00"},{"$f":"VALUE(DINAMICA!$C322)","v":0},{"$f":"DINAMICA!D322","v":0},{"$f":"DINAMICA!E322","v":0},{"$f":"DINAMICA!F322","v":0},{"$f":"DINAMICA!G322","v":0},{"$f":"DINAMICA!H322","v":0},{"$f":"DINAMICA!I322","v":0},{"$f":"DINAMICA!J322","v":0},{"$f":"DINAMICA!K322","v":0},{"$f":"VALUE(DINAMICA!$L322)","v":0},{"$f":"VALUE(DINAMICA!$M322)","v":0},{"$f":"VALUE(DINAMICA!$N322)","v":0},{"$f":"VALUE(DINAMICA!$O322)","v":0},{"$f":"VALUE(DINAMICA!$P322)","v":0},{"$f":"VALUE(DINAMICA!$Q322)","v":0},{"$f":"VALUE(DINAMICA!$R322)","v":0}]
[{"$f":"VALUE(DINAMICA!$A323)","v":0},{"$f":"VALUE(DINAMICA!$B323)","v":"00:00:00"},{"$f":"VALUE(DINAMICA!$C323)","v":0},{"$f":"DINAMICA!D323","v":0},{"$f":"DINAMICA!E323","v":0},{"$f":"DINAMICA!F323","v":0},{"$f":"DINAMICA!G323","v":0},{"$f":"DINAMICA!H323","v":0},{"$f":"DINAMICA!I323","v":0},{"$f":"DINAMICA!J323","v":0},{"$f":"DINAMICA!K323","v":0},{"$f":"VALUE(DINAMICA!$L323)","v":0},{"$f":"VALUE(DINAMICA!$M323)","v":0},{"$f":"VALUE(DINAMICA!$N323)","v":0},{"$f":"VALUE(DINAMICA!$O323)","v":0},{"$f":"VALUE(DINAMICA!$P323)","v":0},{"$f":"VALUE(DINAMICA!$Q323)","v":0},{"$f":"VALUE(DINAMICA!$R323)","v":0}]
[{"$f":"VALUE(DINAMICA!$A324)","v":0},{"$f":"VALUE(DINAMICA!$B324)","v":"00:00:00"},{"$f":"VALUE(DINAMICA!$C324)","v":0},{"$f":"DINAMICA!D324","v":0},{"$f":"DINAMICA!E324","v":0},{"$f":"DINAMICA!F324","v":0},{"$f":"DINAMICA!G324","v":0},{"$f":"DINAMICA!H324","v":0},{"$f":"DINAMICA!I324","v":0},{"$f":"DINAMICA!J324","v":0},{"$f":"DINAMICA!K324","v":0},{"$f":"VALUE(DINAMICA!$L324)","v":0},{"$f":"VALUE(DINAMICA!$M324)","v":0},{"$f":"VALUE(DINAMICA!$N324)","v":0},{"$f":"VALUE(DINAMICA!$O324)","v":0},{"$f":"VALUE(DINAMICA!$P324)","v":0},{"$f":"VALUE(DINAMICA!$Q324)","v":0},{"$f":"VALUE(DINAMICA!$R324)","v":0}]
[{"$f":"VALUE(DINAMICA!$A325)","v":0},{"$f":"VALUE(DINAMICA!$B325)","v":"00:00:00"},{"$f":"VALUE(DINAMICA!$C325)","v":0},{"$f":"DINAMICA!D325","v":0},{"$f":"DINAMICA!E325","v":0},{"$f":"DINAMICA!F325","v":0},{"$f":"DINAMICA!G325","v":0},{"$f":"DINAMICA!H325","v":0},{"$f":"DINAMICA!I325","v":0},{"$f":"DINAMICA!J325","v":0},{"$f":"DINAMICA!K325","v":0},{"$f":"VALUE(DINAMICA!$L325)","v":0},{"$f":"VALUE(DINAMICA!$M325)","v":0},{"$f":"VALUE(DINAMICA!$N325)","v":0},{"$f":"VALUE(DINAMICA!$O325)","v":0},{"$f":"VALUE(DINAMICA!$P325)","v":0},{"$f":"VALUE(DINAMICA!$Q325)","v":0},{"$f":"VALUE(DINAMICA!$R325)","v":0}]
[{"$f":"VALUE(DINAMICA!$A326)","v":0},{"$f":"VALUE(DINAMICA!$B326)","v":"00:00:00"},{"$f":"VALUE(DINAMICA!$C326)","v":0},{"$f":"DINAMICA!D326","v":0},{"$f":"DINAMICA!E326","v":0},{"$f":"DINAMICA!F326","v":0},{"$f":"DINAMICA!G326","v":0},{"$f":"DINAMICA!H326","v":0},{"$f":"DINAMICA!I326","v":0},{"$f":"DINAMICA!J326","v":0},{"$f":"DINAMICA!K326","v":0},{"$f":"VALUE(DINAMICA!$L326)","v":0},{"$f":"VALUE(DINAMICA!$M326)","v":0},{"$f":"VALUE(DINAMICA!$N326)","v":0},{"$f":"VALUE(DINAMICA!$O326)","v":0},{"$f":"VALUE(DINAMICA!$P326)","v":0},{"$f":"VALUE(DINAMICA!$Q326)","v":0},{"$f":"VALUE(DINAMICA!$R326)","v":0}]
[{"$f":"VALUE(DINAMICA!$A327)","v":0},{"$f":"VALUE(DINAMICA!$B327)","v":"00:00:00"},{"$f":"VALUE(DINAMICA!$C327)","v":0},{"$f":"DINAMICA!D327","v":0},{"$f":"DINAMICA!E327","v":0},{"$f":"DINAMICA!F327","v":0},{"$f":"DINAMICA!G327","v":0},{"$f":"DINAMICA!H327","v":0},{"$f":"DINAMICA!I327","v":0},{"$f":"DINAMICA!J327","v":0},{"$f":"DINAMICA!K327","v":0},{"$f":"VALUE(DINAMICA!$L327)","v":0},{"$f":"VALUE(DINAMICA!$M327)","v":0},{"$f":"VALUE(DINAMICA!$N327)","v":0},{"$f":"VALUE(DINAMICA!$O327)","v":0},{"$f":"VALUE(DINAMICA!$P327)","v":0},{"$f":"VALUE(DINAMICA!$Q327)","v":0},{"$f":"VALUE(DINAMICA!$R327)","v":0}]
[{"$f":"VALUE(DINAMICA!$A328)","v":0},{"$f":"VALUE(DINAMICA!$B328)","v":"00:00:00"},{"$f":"VALUE(DINAMICA!$C328)","v":0},{"$f":"DINAMICA!D328","v":0},{"$f":"DINAMICA!E328","v":0},{"$f":"DINAMICA!F328","v":0},{"$f":"DINAMICA!G328","v":0},{"$f":"DINAMICA!H328","v":0},{"$f":"DINAMICA!I328","v":0},{"$f":"DINAMICA!J328","v":0},{"$f":"DINAMICA!K328","v":0},{"$f":"VALUE(DINAMICA!$L328)","v":0},{"$f":"VALUE(DINAMICA!$M328)","v":0},{"$f":"VALUE(DINAMICA!$N328)","v":0},{"$f":"VALUE(DINAMICA!$O328)","v":0},{"$f":"VALUE(DINAMICA!$P328)","v":0},{"$f":"VALUE(DINAMICA!$Q328)","v":0},{"$f":"VALUE(DINAMICA!$R328)","v":0}]
[{"$f":"VALUE(DINAMICA!$A329)","v":0},{"$f":"VALUE(DINAMICA!$B329)","v":"00:00:00"},{"$f":"VALUE(DINAMICA!$C329)","v":0},{"$f":"DINAMICA!D329","v":0},{"$f":"DINAMICA!E329","v":0},{"$f":"DINAMICA!F329","v":0},{"$f":"DINAMICA!G329","v":0},{"$f":"DINAMICA!H329","v":0},{"$f":"DINAMICA!I329","v":0},{"$f":"DINAMICA!J329","v":0},{"$f":"DINAMICA!K329","v":0},{"$f":"VALUE(DINAMICA!$L329)","v":0},{"$f":"VALUE(DINAMICA!$M329)","v":0},{"$f":"VALUE(DINAMICA!$N329)","v":0},{"$f":"VALUE(DINAMICA!$O329)","v":0},{"$f":"VALUE(DINAMICA!$P329)","v":0},{"$f":"VALUE(DINAMICA!$Q329)","v":0},{"$f":"VALUE(DINAMICA!$R329)","v":0}]
[{"$f":"VALUE(DINAMICA!$A330)","v":0},{"$f":"VALUE(DINAMICA!$B330)","v":"00:00:00"},{"$f":"VALUE(DINAMICA!$C330)","v":0},{"$f":"DINAMICA!D330","v":0},{"$f":"DINAMICA!E330","v":0},{"$f":"DINAMICA!F330","v":0},{"$f":"DINAMICA!G330","v":0},{"$f":"DINAMICA!H330","v":0},{"$f":"DINAMICA!I330","v":0},{"$f":"DINAMICA!J330","v":0},{"$f":"DINAMICA!K330","v":0},{"$f":"VALUE(DINAMICA!$L330)","v":0},{"$f":"VALUE(DINAMICA!$M330)","v":0},{"$f":"VALUE(DINAMICA!$N330)","v":0},{"$f":"VALUE(DINAMICA!$O330)","v":0},{"$f":"VALUE(DINAMICA!$P330)","v":0},{"$f":"VALUE(DINAMICA!$Q330)","v":0},{"$f":"VALUE(DINAMICA!$R330)","v":0}]
[{"$f":"VALUE(DINAMICA!$A331)","v":0},{"$f":"VALUE(DINAMICA!$B331)","v":"00:00:00"},{"$f":"VALUE(DINAMICA!$C331)","v":0},{"$f":"DINAMICA!D331","v":0},{"$f":"DINAMICA!E331","v":0},{"$f":"DINAMICA!F331","v":0},{"$f":"DINAMICA!G331","v":0},{"$f":"DINAMICA!H331","v":0},{"$f":"DINAMICA!I331","v":0},{"$f":"DINAMICA!J331","v":0},{"$f":"DINAMICA!K331","v":0},{"$f":"VALUE(DINAMICA!$L331)","v":0},{"$f":"VALUE(DINAMICA!$M331)","v":0},{"$f":"VALUE(DINAMICA!$N331)","v":0},{"$f":"VALUE(DINAMICA!$O331)","v":0},{"$f":"VALUE(DINAMICA!$P331)","v":0},{"$f":"VALUE(DINAMICA!$Q331)","v":0},{"$f":"VALUE(DINAMICA!$R331)","v":0}]
[{"$f":"VALUE(DINAMICA!$A332)","v":0},{"$f":"VALUE(DINAMICA!$B332)","v":"00:00:00"},{"$f":"VALUE(DINAMICA!$C332)","v":0},{"$f":"DINAMICA!D332","v":0},{"$f":"DINAMICA!E332","v":0},{"$f":"DINAMICA!F332","v":0},{"$f":"DINAMICA!G332","v":0},{"$f":"DINAMICA!H332","v":0},{"$f":"DINAMICA!I332","v":0},{"$f":"DINAMICA!J332","v":0},{"$f":"DINAMICA!K332","v":0},{"$f":"VALUE(DINAMICA!$L332)","v":0},{"$f":"VALUE(DINAMICA!$M332)","v":0},{"$f":"VALUE(DINAMICA!$N332)","v":0},{"$f":"VALUE(DINAMICA!$O332)","v":0},{"$f":"VALUE(DINAMICA!$P332)","v":0},{"$f":"VALUE(DINAMICA!$Q332)","v":0},{"$f":"VALUE(DINAMICA!$R332)","v":0}]
[{"$f":"VALUE(DINAMICA!$A333)","v":0},{"$f":"VALUE(DINAMICA!$B333)","v":"00:00:00"},{"$f":"VALUE(DINAMICA!$C333)","v":0},{"$f":"DINAMICA!D333","v":0},{"$f":"DINAMICA!E333","v":0},{"$f":"DINAMICA!F333","v":0},{"$f":"DINAMICA!G333","v":0},{"$f":"DINAMICA!H333","v":0},{"$f":"DINAMICA!I333","v":0},{"$f":"DINAMICA!J333","v":0},{"$f":"DINAMICA!K333","v":0},{"$f":"VALUE(DINAMICA!$L333)","v":0},{"$f":"VALUE(DINAMICA!$M333)","v":0},{"$f":"VALUE(DINAMICA!$N333)","v":0},{"$f":"VALUE(DINAMICA!$O333)","v":0},{"$f":"VALUE(DINAMICA!$P333)","v":0},{"$f":"VALUE(DINAMICA!$Q333)","v":0},{"$f":"VALUE(DINAMICA!$R333)","v":0}]
[{"$f":"VALUE(DINAMICA!$A334)","v":0},{"$f":"VALUE(DINAMICA!$B334)","v":"00:00:00"},{"$f":"VALUE(DINAMICA!$C334)","v":0},{"$f":"DINAMICA!D334","v":0},{"$f":"DINAMICA!E334","v":0},{"$f":"DINAMICA!F334","v":0},{"$f":"DINAMICA!G334","v":0},{"$f":"DINAMICA!H334","v":0},{"$f":"DINAMICA!I334","v":0},{"$f":"DINAMICA!J334","v":0},{"$f":"DINAMICA!K334","v":0},{"$f":"VALUE(DINAMICA!$L334)","v":0},{"$f":"VALUE(DINAMICA!$M334)","v":0},{"$f":"VALUE(DINAMICA!$N334)","v":0},{"$f":"VALUE(DINAMICA!$O334)","v":0},{"$f":"VALUE(DINAMICA!$P334)","v":0},{"$f":"VALUE(DINAMICA!$Q334)","v":0},{"$f":"VALUE(DINAMICA!$R334)","v":0}]
[{"$f":"VALUE(DINAMICA!$A335)","v":0},{"$f":"VALUE(DINAMICA!$B335)","v":"00:00:00"},{"$f":"VALUE(DINAMICA!$C335)","v":0},{"$f":"DINAMICA!D335","v":0},{"$f":"DINAMICA!E335","v":0},{"$f":"DINAMICA!F335","v":0},{"$f":"DINAMICA!G335","v":0},{"$f":"DINAMICA!H335","v":0},{"$f":"DINAMICA!I335","v":0},{"$f":"DINAMICA!J335","v":0},{"$f":"DINAMICA!K335","v":0},{"$f":"VALUE(DINAMICA!$L335)","v":0},{"$f":"VALUE(DINAMICA!$M335)","v":0},{"$f":"VALUE(DINAMICA!$N335)","v":0},{"$f":"VALUE(DINAMICA!$O335)","v":0},{"$f":"VALUE(DINAMICA!$P335)","v":0},{"$f":"VALUE(DINAMICA!$Q335)","v":0},{"$f":"VALUE(DINAMICA!$R335)","v":0}]
[{"$f":"VALUE(DINAMICA!$A336)","v":0},{"$f":"VALUE(DINAMICA!$B336)","v":"00:00:00"},{"$f":"VALUE(DINAMICA!$C336)","v":0},{"$f":"DINAMICA!D336","v":0},{"$f":"DINAMICA!E336","v":0},{"$f":"DINAMICA!F336","v":0},{"$f":"DINAMICA!G336","v":0},{"$f":"DINAMICA!H336","v":0},{"$f":"DINAMICA!I336","v":0},{"$f":"DINAMICA!J336","v":0},{"$f":"DINAMICA!K336","v":0},{"$f":"VALUE(DINAMICA!$L336)","v":0},{"$f":"VALUE(DINAMICA!$M336)","v":0},{"$f":"VALUE(DINAMICA!$N336)","v":0},{"$f":"VALUE(DINAMICA!$O336)","v":0},{"$f":"VALUE(DINAMICA!$P336)","v":0},{"$f":"VALUE(DINAMICA!$Q336)","v":0},{"$f":"VALUE(DINAMICA!$R336)","v":0}]
[{"$f":"VALUE(DINAMICA!$A337)","v":0},{"$f":"VALUE(DINAMICA!$B337)","v":"00:00:00"},{"$f":"VALUE(DINAMICA!$C337)","v":0},{"$f":"DINAMICA!D337","v":0},{"$f":"DINAMICA!E337","v":0},{"$f":"DINAMICA!F337","v":0},{"$f":"DINAMICA!G337","v":0},{"$f":"DINAMICA!H337","v":0},{"$f":"DINAMICA!I337","v":0},{"$f":"DINAMICA!J337","v":0},{"$f":"DINAMICA!K337","v":0},{"$f":"VALUE(DINAMICA!$L337)","v":0},{"$f":"VALUE(DINAMICA!$M337)","v":0},{"$f":"VALUE(DINAMICA!$N337)","v":0},{"$f":"VALUE(DINAMICA!$O337)","v":0},{"$f":"VALUE(DINAMICA!$P337)","v":0},{"$f":"VALUE(DINAMICA!$Q337)","v":0},{"$f":"VALUE(DINAMICA!$R337)","v":0}]
[{"$f":"VALUE(DINAMICA!$A338)","v":0},{"$f":"VALUE(DINAMICA!$B338)","v":"00:00:00"},{"$f":"VALUE(DINAMICA!$C338)","v":0},{"$f":"DINAMICA!D338","v":0},{"$f":"DINAMICA!E338","v":0},{"$f":"DINAMICA!F338","v":0},{"$f":"DINAMICA!G338","v":0},{"$f":"DINAMICA!H338","v":0},{"$f":"DINAMICA!I338","v":0},{"$f":"DINAMICA!J338","v":0},{"$f":"DINAMICA!K338","v":0},{"$f":"VALUE(DINAMICA!$L338)","v":0},{"$f":"VALUE(DINAMICA!$M338)","v":0},{"$f":"VALUE(DINAMICA!$N338)","v":0},{"$f":"VALUE(DINAMICA!$O338)","v":0},{"$f":"VALUE(DINAMICA!$P338)","v":0},{"$f":"VALUE(DINAMICA!$Q338)","v":0},{"$f":"VALUE(DINAMICA!$R338)","v":0}]
[{"$f":"VALUE(DINAMICA!$A339)","v":0},{"$f":"VALUE(DINAMICA!$B339)","v":"00:00:00"},{"$f":"VALUE(DINAMICA!$C339)","v":0},{"$f":"DINAMICA!D339","v":0},{"$f":"DINAMICA!E339","v":0},{"$f":"DINAMICA!F339","v":0},{"$f":"DINAMICA!G339","v":0},{"$f":"DINAMICA!H339","v":0},{"$f":"DINAMICA!I339","v":0},{"$f":"DINAMICA!J339","v":0},{"$f":"DINAMICA!K339","v":0},{"$f":"VALUE(DINAMICA!$L339)","v":0},{"$f":"VALUE(DINAMICA!$M339)","v":0},{"$f":"VALUE(DINAMICA!$N339)","v":0},{"$f":"VALUE(DINAMICA!$O339)","v":0},{"$f":"VALUE(DINAMICA!$P339)","v":0},{"$f":"VALUE(DINAMICA!$Q339)","v":0},{"$f":"VALUE(DINAMICA!$R339)","v":0}]
[{"$f":"VALUE(DINAMICA!$A340)","v":0},{"$f":"VALUE(DINAMICA!$B340)","v":"00:00:00"},{"$f":"VALUE(DINAMICA!$C340)","v":0},{"$f":"DINAMICA!D340","v":0},{"$f":"DINAMICA!E340","v":0},{"$f":"DINAMICA!F340","v":0},{"$f":"DINAMICA!G340","v":0},{"$f":"DINAMICA!H340","v":0},{"$f":"DINAMICA!I340","v":0},{"$f":"DINAMICA!J340","v":0},{"$f":"DINAMICA!K340","v":0},{"$f":"VALUE(DINAMICA!$L340)","v":0},{"$f":"VALUE(DINAMICA!$M340)","v":0},{"$f":"VALUE(DINAMICA!$N340)","v":0},{"$f":"VALUE(DINAMICA!$O340)","v":0},{"$f":"VALUE(DINAMICA!$P340)","v":0},{"$f":"VALUE(DINAMICA!$Q340)","v":0},{"$f":"VALUE(DINAMICA!$R340)","v":0}]
[{"$f":"VALUE(DINAMICA!$A341)","v":0},{"$f":"VALUE(DINAMICA!$B341)","v":"00:00:00"},{"$f":"VALUE(DINAMICA!$C341)","v":0},{"$f":"DINAMICA!D341","v":0},{"$f":"DINAMICA!E341","v":0},{"$f":"DINAMICA!F341","v":0},{"$f":"DINAMICA!G341","v":0},{"$f":"DINAMICA!H341","v":0},{"$f":"DINAMICA!I341","v":0},{"$f":"DINAMICA!J341","v":0},{"$f":"DINAMICA!K341","v":0},{"$f":"VALUE(DINAMICA!$L341)","v":0},{"$f":"VALUE(DINAMICA!$M341)","v":0},{"$f":"VALUE(DINAMICA!$N341)","v":0},{"$f":"VALUE(DINAMICA!$O341)","v":0},{"$f":"VALUE(DINAMICA!$P341)","v":0},{"$f":"VALUE(DINAMICA!$Q341)","v":0},{"$f":"VALUE(DINAMICA!$R341)","v":0}]
[{"$f":"VALUE(DINAMICA!$A342)","v":0},{"$f":"VALUE(DINAMICA!$B342)","v":"00:00:00"},{"$f":"VALUE(DINAMICA!$C342)","v":0},{"$f":"DINAMICA!D342","v":0},{"$f":"DINAMICA!E342","v":0},{"$f":"DINAMICA!F342","v":0},{"$f":"DINAMICA!G342","v":0},{"$f":"DINAMICA!H342","v":0},{"$f":"DINAMICA!I342","v":0},{"$f":"DINAMICA!J342","v":0},{"$f":"DINAMICA!K342","v":0},{"$f":"VALUE(DINAMICA!$L342)","v":0},{"$f":"VALUE(DINAMICA!$M342)","v":0},{"$f":"VALUE(DINAMICA!$N342)","v":0},{"$f":"VALUE(DINAMICA!$O342)","v":0},{"$f":"VALUE(DINAMICA!$P342)","v":0},{"$f":"VALUE(DINAMICA!$Q342)","v":0},{"$f":"VALUE(DINAMICA!$R342)","v":0}]
[{"$f":"VALUE(DINAMICA!$A343)","v":0},{"$f":"VALUE(DINAMICA!$B343)","v":"00:00:00"},{"$f":"VALUE(DINAMICA!$C343)","v":0},{"$f":"DINAMICA!D343","v":0},{"$f":"DINAMICA!E343","v":0},{"$f":"DINAMICA!F343","v":0},{"$f":"DINAMICA!G343","v":0},{"$f":"DINAMICA!H343","v":0},{"$f":"DINAMICA!I343","v":0},{"$f":"DINAMICA!J343","v":0},{"$f":"DINAMICA!K343","v":0},{"$f":"VALUE(DINAMICA!$L343)","v":0},{"$f":"VALUE(DINAMICA!$M343)","v":0},{"$f":"VALUE(DINAMICA!$N343)","v":0},{"$f":"VALUE(DINAMICA!$O343)","v":0},{"$f":"VALUE(DINAMICA!$P343)","v":0},{"$f":"VALUE(DINAMICA!$Q343)","v":0},{"$f":"VALUE(DINAMICA!$R343)","v":0}]
[{"$f":"VALUE(DINAMICA!$A344)","v":0},{"$f":"VALUE(DINAMICA!$B344)","v":"00:00:00"},{"$f":"VALUE(DINAMICA!$C344)","v":0},{"$f":"DINAMICA!D344","v":0},{"$f":"DINAMICA!E344","v":0},{"$f":"DINAMICA!F344","v":0},{"$f":"DINAMICA!G344","v":0},{"$f":"DINAMICA!H344","v":0},{"$f":"DINAMICA!I344","v":0},{"$f":"DINAMICA!J344","v":0},{"$f":"DINAMICA!K344","v":0},{"$f":"VALUE(DINAMICA!$L344)","v":0},{"$f":"VALUE(DINAMICA!$M344)","v":0},{"$f":"VALUE(DINAMICA!$N344)","v":0},{"$f":"VALUE(DINAMICA!$O344)","v":0},{"$f":"VALUE(DINAMICA!$P344)","v":0},{"$f":"VALUE(DINAMICA!$Q344)","v":0},{"$f":"VALUE(DINAMICA!$R344)","v":0}]
[{"$f":"VALUE(DINAMICA!$A345)","v":0},{"$f":"VALUE(DINAMICA!$B345)","v":"00:00:00"},{"$f":"VALUE(DINAMICA!$C345)","v":0},{"$f":"DINAMICA!D345","v":0},{"$f":"DINAMICA!E345","v":0},{"$f":"DINAMICA!F345","v":0},{"$f":"DINAMICA!G345","v":0},{"$f":"DINAMICA!H345","v":0},{"$f":"DINAMICA!I345","v":0},{"$f":"DINAMICA!J345","v":0},{"$f":"DINAMICA!K345","v":0},{"$f":"VALUE(DINAMICA!$L345)","v":0},{"$f":"VALUE(DINAMICA!$M345)","v":0},{"$f":"VALUE(DINAMICA!$N345)","v":0},{"$f":"VALUE(DINAMICA!$O345)","v":0},{"$f":"VALUE(DINAMICA!$P345)","v":0},{"$f":"VALUE(DINAMICA!$Q345)","v":0},{"$f":"VALUE(DINAMICA!$R345)","v":0}]
[{"$f":"VALUE(DINAMICA!$A346)","v":0},{"$f":"VALUE(DINAMICA!$B346)","v":"00:00:00"},{"$f":"VALUE(DINAMICA!$C346)","v":0},{"$f":"DINAMICA!D346","v":0},{"$f":"DINAMICA!E346","v":0},{"$f":"DINAMICA!F346","v":0},{"$f":"DINAMICA!G346","v":0},{"$f":"DINAMICA!H346","v":0},{"$f":"DINAMICA!I346","v":0},{"$f":"DINAMICA!J346","v":0},{"$f":"DINAMICA!K346","v":0},{"$f":"VALUE(DINAMICA!$L346)","v":0},{"$f":"VALUE(DINAMICA!$M346)","v":0},{"$f":"VALUE(DINAMICA!$N346)","v":0},{"$f":"VALUE(DINAMICA!$O346)","v":0},{"$f":"VALUE(DINAMICA!$P346)","v":0},{"$f":"VALUE(DINAMICA!$Q346)","v":0},{"$f":"VALUE(DINAMICA!$R346)","v":0}]
[{"$f":"VALUE(DINAMICA!$A347)","v":0},{"$f":"VALUE(DINAMICA!$B347)","v":"00:00:00"},{"$f":"VALUE(DINAMICA!$C347)","v":0},{"$f":"DINAMICA!D347","v":0},{"$f":"DINAMICA!E347","v":0},{"$f":"DINAMICA!F347","v":0},{"$f":"DINAMICA!G347","v":0},{"$f":"DINAMICA!H347","v":0},{"$f":"DINAMICA!I347","v":0},{"$f":"DINAMICA!J347","v":0},{"$f":"DINAMICA!K347","v":0},{"$f":"VALUE(DINAMICA!$L347)","v":0},{"$f":"VALUE(DINAMICA!$M347)","v":0},{"$f":"VALUE(DINAMICA!$N347)","v":0},{"$f":"VALUE(DINAMICA!$O347)","v":0},{"$f":"VALUE(DINAMICA!$P347)","v":0},{"$f":"VALUE(DINAMICA!$Q347)","v":0},{"$f":"VALUE(DINAMICA!$R347)","v":0}]
[{"$f":"VALUE(DINAMICA!$A348)","v":0},{"$f":"VALUE(DINAMICA!$B348)","v":"00:00:00"},{"$f":"VALUE(DINAMICA!$C348)","v":0},{"$f":"DINAMICA!D348","v":0},{"$f":"DINAMICA!E348","v":0},{"$f":"DINAMICA!F348","v":0},{"$f":"DINAMICA!G348","v":0},{"$f":"DINAMICA!H348","v":0},{"$f":"DINAMICA!I348","v":0},{"$f":"DINAMICA!J348","v":0},{"$f":"DINAMICA!K348","v":0},{"$f":"VALUE(DINAMICA!$L348)","v":0},{"$f":"VALUE(DINAMICA!$M348)","v":0},{"$f":"VALUE(DINAMICA!$N348)","v":0},{"$f":"VALUE(DINAMICA!$O348)","v":0},{"$f":"VALUE(DINAMICA!$P348)","v":0},{"$f":"VALUE(DINAMICA!$Q348)","v":0},{"$f":"VALUE(DINAMICA!$R348)","v":0}]
[{"$f":"VALUE(DINAMICA!$A349)","v":0},{"$f":"VALUE(DINAMICA!$B349)","v":"00:00:00"},{"$f":"VALUE(DINAMICA!$C349)","v":0},{"$f":"DINAMICA!D349","v":0},{"$f":"DINAMICA!E349","v":0},{"$f":"DINAMICA!F349","v":0},{"$f":"DINAMICA!G349","v":0},{"$f":"DINAMICA!H349","v":0},{"$f":"DINAMICA!I349","v":0},{"$f":"DINAMICA!J349","v":0},{"$f":"DINAMICA!K349","v":0},{"$f":"VALUE(DINAMICA!$L349)","v":0},{"$f":"VALUE(DINAMICA!$M349)","v":0},{"$f":"VALUE(DINAMICA!$N349)","v":0},{"$f":"VALUE(DINAMICA!$O349)","v":0},{"$f":"VALUE(DINAMICA!$P349)","v":0},{"$f":"VALUE(DINAMICA!$Q349)","v":0},{"$f":"VALUE(DINAMICA!$R349)","v":0}]
[{"$f":"VALUE(DINAMICA!$A350)","v":0},{"$f":"VALUE(DINAMICA!$B350)","v":"00:00:00"},{"$f":"VALUE(DINAMICA!$C350)","v":0},{"$f":"DINAMICA!D350","v":0},{"$f":"DINAMICA!E350","v":0},{"$f":"DINAMICA!F350","v":0},{"$f":"DINAMICA!G350","v":0},{"$f":"DINAMICA!H350","v":0},{"$f":"DINAMICA!I350","v":0},{"$f":"DINAMICA!J350","v":0},{"$f":"DINAMICA!K350","v":0},{"$f":"VALUE(DINAMICA!$L350)","v":0},{"$f":"VALUE(DINAMICA!$M350)","v":0},{"$f":"VALUE(DINAMICA!$N350)","v":0},{"$f":"VALUE(DINAMICA!$O350)","v":0},{"$f":"VALUE(DINAMICA!$P350)","v":0},{"$f":"VALUE(DINAMICA!$Q350)","v":0},{"$f":"VALUE(DINAMICA!$R350)","v":0}]
[{"$f":"VALUE(DINAMICA!$A351)","v":0},{"$f":"VALUE(DINAMICA!$B351)","v":"00:00:00"},{"$f":"VALUE(DINAMICA!$C351)","v":0},{"$f":"DINAMICA!D351","v":0},{"$f":"DINAMICA!E351","v":0},{"$f":"DINAMICA!F351","v":0},{"$f":"DINAMICA!G351","v":0},{"$f":"DINAMICA!H351","v":0},{"$f":"DINAMICA!I351","v":0},{"$f":"DINAMICA!J351","v":0},{"$f":"DINAMICA!K351","v":0},{"$f":"VALUE(DINAMICA!$L351)","v":0},{"$f":"VALUE(DINAMICA!$M351)","v":0},{"$f":"VALUE(DINAMICA!$N351)","v":0},{"$f":"VALUE(DINAMICA!$O351)","v":0},{"$f":"VALUE(DINAMICA!$P351)","v":0},{"$f":"VALUE(DINAMICA!$Q351)","v":0},{"$f":"VALUE(DINAMICA!$R351)","v":0}]
[{"$f":"VALUE(DINAMICA!$A352)","v":0},{"$f":"VALUE(DINAMICA!$B352)","v":"00:00:00"},{"$f":"VALUE(DINAMICA!$C352)","v":0},{"$f":"DINAMICA!D352","v":0},{"$f":"DINAMICA!E352","v":0},{"$f":"DINAMICA!F352","v":0},{"$f":"DINAMICA!G352","v":0},{"$f":"DINAMICA!H352","v":0},{"$f":"DINAMICA!I352","v":0},{"$f":"DINAMICA!J352","v":0},{"$f":"DINAMICA!K352","v":0},{"$f":"VALUE(DINAMICA!$L352)","v":0},{"$f":"VALUE(DINAMICA!$M352)","v":0},{"$f":"VALUE(DINAMICA!$N352)","v":0},{"$f":"VALUE(DINAMICA!$O352)","v":0},{"$f":"VALUE(DINAMICA!$P352)","v":0},{"$f":"VALUE(DINAMICA!$Q352)","v":0},{"$f":"VALUE(DINAMICA!$R352)","v":0}]
[{"$f":"VALUE(DINAMICA!$A353)","v":0},{"$f":"VALUE(DINAMICA!$B353)","v":"00:00:00"},{"$f":"VALUE(DINAMICA!$C353)","v":0},{"$f":"DINAMICA!D353","v":0},{"$f":"DINAMICA!E353","v":0},{"$f":"DINAMICA!F353","v":0},{"$f":"DINAMICA!G353","v":0},{"$f":"DINAMICA!H353","v":0},{"$f":"DINAMICA!I353","v":0},{"$f":"DINAMICA!J353","v":0},{"$f":"DINAMICA!K353","v":0},{"$f":"VALUE(DINAMICA!$L353)","v":0},{"$f":"VALUE(DINAMICA!$M353)","v":0},{"$f":"VALUE(DINAMICA!$N353)","v":0},{"$f":"VALUE(DINAMICA!$O353)","v":0},{"$f":"VALUE(DINAMICA!$P353)","v":0},{"$f":"VALUE(DINAMICA!$Q353)","v":0},{"$f":"VALUE(DINAMICA!$R353)","v":0}]
[{"$f":"VALUE(DINAMICA!$A354)","v":0},{"$f":"VALUE(DINAMICA!$B354)","v":"00:00:00"},{"$f":"VALUE(DINAMICA!$C354)","v":0},{"$f":"DINAMICA!D354","v":0},{"$f":"DINAMICA!E354","v":0},{"$f":"DINAMICA!F354","v":0},{"$f":"DINAMICA!G354","v":0},{"$f":"DINAMICA!H354","v":0},{"$f":"DINAMICA!I354","v":0},{"$f":"DINAMICA!J354","v":0},{"$f":"DINAMICA!K354","v":0},{"$f":"VALUE(DINAMICA!$L354)","v":0},{"$f":"VALUE(DINAMICA!$M354)","v":0},{"$f":"VALUE(DINAMICA!$N354)","v":0},{"$f":"VALUE(DINAMICA!$O354)","v":0},{"$f":"VALUE(DINAMICA!$P354)","v":0},{"$f":"VALUE(DINAMICA!$Q354)","v":0},{"$f":"VALUE(DINAMICA!$R354)","v":0}]
[{"$f":"VALUE(DINAMICA!$A355)","v":0},{"$f":"VALUE(DINAMICA!$B355)","v":"00:00:00"},{"$f":"VALUE(DINAMICA!$C355)","v":0},{"$f":"DINAMICA!D355","v":0},{"$f":"DINAMICA!E355","v":0},{"$f":"DINAMICA!F355","v":0},{"$f":"DINAMICA!G355","v":0},{"$f":"DINAMICA!H355","v":0},{"$f":"DINAMICA!I355","v":0},{"$f":"DINAMICA!J355","v":0},{"$f":"DINAMICA!K355","v":0},{"$f":"VALUE(DINAMICA!$L355)","v":0},{"$f":"VALUE(DINAMICA!$M355)","v":0},{"$f":"VALUE(DINAMICA!$N355)","v":0},{"$f":"VALUE(DINAMICA!$O355)","v":0},{"$f":"VALUE(DINAMICA!$P355)","v":0},{"$f":"VALUE(DINAMICA!$Q355)","v":0},{"$f":"VALUE(DINAMICA!$R355)","v":0}]
[{"$f":"VALUE(DINAMICA!$A356)","v":0},{"$f":"VALUE(DINAMICA!$B356)","v":"00:00:00"},{"$f":"VALUE(DINAMICA!$C356)","v":0},{"$f":"DINAMICA!D356","v":0},{"$f":"DINAMICA!E356","v":0},{"$f":"DINAMICA!F356","v":0},{"$f":"DINAMICA!G356","v":0},{"$f":"DINAMICA!H356","v":0},{"$f":"DINAMICA!I356","v":0},{"$f":"DINAMICA!J356","v":0},{"$f":"DINAMICA!K356","v":0},{"$f":"VALUE(DINAMICA!$L356)","v":0},{"$f":"VALUE(DINAMICA!$M356)","v":0},{"$f":"VALUE(DINAMICA!$N356)","v":0},{"$f":"VALUE(DINAMICA!$O356)","v":0},{"$f":"VALUE(DINAMICA!$P356)","v":0},{"$f":"VALUE(DINAMICA!$Q356)","v":0},{"$f":"VALUE(DINAMICA!$R356)","v":0}]
[{"$f":"VALUE(DINAMICA!$A357)","v":0},{"$f":"VALUE(DINAMICA!$B357)","v":"00:00:00"},{"$f":"VALUE(DINAMICA!$C357)","v":0},{"$f":"DINAMICA!D357","v":0},{"$f":"DINAMICA!E357","v":0},{"$f":"DINAMICA!F357","v":0},{"$f":"DINAMICA!G357","v":0},{"$f":"DINAMICA!H357","v":0},{"$f":"DINAMICA!I357","v":0},{"$f":"DINAMICA!J357","v":0},{"$f":"DINAMICA!K357","v":0},{"$f":"VALUE(DINAMICA!$L357)","v":0},{"$f":"VALUE(DINAMICA!$M357)","v":0},{"$f":"VALUE(DINAMICA!$N357)","v":0},{"$f":"VALUE(DINAMICA!$O357)","v":0},{"$f":"VALUE(DINAMICA!$P357)","v":0},{"$f":"VALUE(DINAMICA!$Q357)","v":0},{"$f":"VALUE(DINAMICA!$R357)","v":0}]
[{"$f":"VALUE(DINAMICA!$A358)","v":0},{"$f":"VALUE(DINAMICA!$B358)","v":"00:00:00"},{"$f":"VALUE(DINAMICA!$C358)","v":0},{"$f":"DINAMICA!D358","v":0},{"$f":"DINAMICA!E358","v":0},{"$f":"DINAMICA!F358","v":0},{"$f":"DINAMICA!G358","v":0},{"$f":"DINAMICA!H358","v":0},{"$f":"DINAMICA!I358","v":0},{"$f":"DINAMICA!J358","v":0},{"$f":"DINAMICA!K358","v":0},{"$f":"VALUE(DINAMICA!$L358)","v":0},{"$f":"VALUE(DINAMICA!$M358)","v":0},{"$f":"VALUE(DINAMICA!$N358)","v":0},{"$f":"VALUE(DINAMICA!$O358)","v":0},{"$f":"VALUE(DINAMICA!$P358)","v":0},{"$f":"VALUE(DINAMICA!$Q358)","v":0},{"$f":"VALUE(DINAMICA!$R358)","v":0}]
[{"$f":"VALUE(DINAMICA!$A359)","v":0},{"$f":"VALUE(DINAMICA!$B359)","v":"00:00:00"},{"$f":"VALUE(DINAMICA!$C359)","v":0},{"$f":"DINAMICA!D359","v":0},{"$f":"DINAMICA!E359","v":0},{"$f":"DINAMICA!F359","v":0},{"$f":"DINAMICA!G359","v":0},{"$f":"DINAMICA!H359","v":0},{"$f":"DINAMICA!I359","v":0},{"$f":"DINAMICA!J359","v":0},{"$f":"DINAMICA!K359","v":0},{"$f":"VALUE(DINAMICA!$L359)","v":0},{"$f":"VALUE(DINAMICA!$M359)","v":0},{"$f":"VALUE(DINAMICA!$N359)","v":0},{"$f":"VALUE(DINAMICA!$O359)","v":0},{"$f":"VALUE(DINAMICA!$P359)","v":0},{"$f":"VALUE(DINAMICA!$Q359)","v":0},{"$f":"VALUE(DINAMICA!$R359)","v":0}]
[{"$f":"VALUE(DINAMICA!$A360)","v":0},{"$f":"VALUE(DINAMICA!$B360)","v":"00:00:00"},{"$f":"VALUE(DINAMICA!$C360)","v":0},{"$f":"DINAMICA!D360","v":0},{"$f":"DINAMICA!E360","v":0},{"$f":"DINAMICA!F360","v":0},{"$f":"DINAMICA!G360","v":0},{"$f":"DINAMICA!H360","v":0},{"$f":"DINAMICA!I360","v":0},{"$f":"DINAMICA!J360","v":0},{"$f":"DINAMICA!K360","v":0},{"$f":"VALUE(DINAMICA!$L360)","v":0},{"$f":"VALUE(DINAMICA!$M360)","v":0},{"$f":"VALUE(DINAMICA!$N360)","v":0},{"$f":"VALUE(DINAMICA!$O360)","v":0},{"$f":"VALUE(DINAMICA!$P360)","v":0},{"$f":"VALUE(DINAMICA!$Q360)","v":0},{"$f":"VALUE(DINAMICA!$R360)","v":0}]
[{"$f":"VALUE(DINAMICA!$A361)","v":0},{"$f":"VALUE(DINAMICA!$B361)","v":"00:00:00"},{"$f":"VALUE(DINAMICA!$C361)","v":0},{"$f":"DINAMICA!D361","v":0},{"$f":"DINAMICA!E361","v":0},{"$f":"DINAMICA!F361","v":0},{"$f":"DINAMICA!G361","v":0},{"$f":"DINAMICA!H361","v":0},{"$f":"DINAMICA!I361","v":0},{"$f":"DINAMICA!J361","v":0},{"$f":"DINAMICA!K361","v":0},{"$f":"VALUE(DINAMICA!$L361)","v":0},{"$f":"VALUE(DINAMICA!$M361)","v":0},{"$f":"VALUE(DINAMICA!$N361)","v":0},{"$f":"VALUE(DINAMICA!$O361)","v":0},{"$f":"VALUE(DINAMICA!$P361)","v":0},{"$f":"VALUE(DINAMICA!$Q361)","v":0},{"$f":"VALUE(DINAMICA!$R361)","v":0}]
[{"$f":"VALUE(DINAMICA!$A362)","v":0},{"$f":"VALUE(DINAMICA!$B362)","v":"00:00:00"},{"$f":"VALUE(DINAMICA!$C362)","v":0},{"$f":"DINAMICA!D362","v":0},{"$f":"DINAMICA!E362","v":0},{"$f":"DINAMICA!F362","v":0},{"$f":"DINAMICA!G362","v":0},{"$f":"DINAMICA!H362","v":0},{"$f":"DINAMICA!I362","v":0},{"$f":"DINAMICA!J362","v":0},{"$f":"DINAMICA!K362","v":0},{"$f":"VALUE(DINAMICA!$L362)","v":0},{"$f":"VALUE(DINAMICA!$M362)","v":0},{"$f":"VALUE(DINAMICA!$N362)","v":0},{"$f":"VALUE(DINAMICA!$O362)","v":0},{"$f":"VALUE(DINAMICA!$P362)","v":0},{"$f":"VALUE(DINAMICA!$Q362)","v":0},{"$f":"VALUE(DINAMICA!$R362)","v":0}]
[{"$f":"VALUE(DINAMICA!$A363)","v":0},{"$f":"VALUE(DINAMICA!$B363)","v":"00:00:00"},{"$f":"VALUE(DINAMICA!$C363)","v":0},{"$f":"DINAMICA!D363","v":0},{"$f":"DINAMICA!E363","v":0},{"$f":"DINAMICA!F363","v":0},{"$f":"DINAMICA!G363","v":0},{"$f":"DINAMICA!H363","v":0},{"$f":"DINAMICA!I363","v":0},{"$f":"DINAMICA!J363","v":0},{"$f":"DINAMICA!K363","v":0},{"$f":"VALUE(DINAMICA!$L363)","v":0},{"$f":"VALUE(DINAMICA!$M363)","v":0},{"$f":"VALUE(DINAMICA!$N363)","v":0},{"$f":"VALUE(DINAMICA!$O363)","v":0},{"$f":"VALUE(DINAMICA!$P363)","v":0},{"$f":"VALUE(DINAMICA!$Q363)","v":0},{"$f":"VALUE(DINAMICA!$R363)","v":0}]
[{"$f":"VALUE(DINAMICA!$A364)","v":0},{"$f":"VALUE(DINAMICA!$B364)","v":"00:00:00"},{"$f":"VALUE(DINAMICA!$C364)","v":0},{"$f":"DINAMICA!D364","v":0},{"$f":"DINAMICA!E364","v":0},{"$f":"DINAMICA!F364","v":0},{"$f":"DINAMICA!G364","v":0},{"$f":"DINAMICA!H364","v":0},{"$f":"DINAMICA!I364","v":0},{"$f":"DINAMICA!J364","v":0},{"$f":"DINAMICA!K364","v":0},{"$f":"VALUE(DINAMICA!$L364)","v":0},{"$f":"VALUE(DINAMICA!$M364)","v":0},{"$f":"VALUE(DINAMICA!$N364)","v":0},{"$f":"VALUE(DINAMICA!$O364)","v":0},{"$f":"VALUE(DINAMICA!$P364)","v":0},{"$f":"VALUE(DINAMICA!$Q364)","v":0},{"$f":"VALUE(DINAMICA!$R364)","v":0}]
[{"$f":"VALUE(DINAMICA!$A365)","v":0},{"$f":"VALUE(DINAMICA!$B365)","v":"00:00:00"},{"$f":"VALUE(DINAMICA!$C365)","v":0},{"$f":"DINAMICA!D365","v":0},{"$f":"DINAMICA!E365","v":0},{"$f":"DINAMICA!F365","v":0},{"$f":"DINAMICA!G365","v":0},{"$f":"DINAMICA!H365","v":0},{"$f":"DINAMICA!I365","v":0},{"$f":"DINAMICA!J365","v":0},{"$f":"DINAMICA!K365","v":0},{"$f":"VALUE(DINAMICA!$L365)","v":0},{"$f":"VALUE(DINAMICA!$M365)","v":0},{"$f":"VALUE(DINAMICA!$N365)","v":0},{"$f":"VALUE(DINAMICA!$O365)","v":0},{"$f":"VALUE(DINAMICA!$P365)","v":0},{"$f":"VALUE(DINAMICA!$Q365)","v":0},{"$f":"VALUE(DINAMICA!$R365)","v":0}]
[{"$f":"VALUE(DINAMICA!$A366)","v":0},{"$f":"VALUE(DINAMICA!$B366)","v":"00:00:00"},{"$f":"VALUE(DINAMICA!$C366)","v":0},{"$f":"DINAMICA!D366","v":0},{"$f":"DINAMICA!E366","v":0},{"$f":"DINAMICA!F366","v":0},{"$f":"DINAMICA!G366","v":0},{"$f":"DINAMICA!H366","v":0},{"$f":"DINAMICA!I366","v":0},{"$f":"DINAMICA!J366","v":0},{"$f":"DINAMICA!K366","v":0},{"$f":"VALUE(DINAMICA!$L366)","v":0},{"$f":"VALUE(DINAMICA!$M366)","v":0},{"$f":"VALUE(DINAMICA!$N366)","v":0},{"$f":"VALUE(DINAMICA!$O366)","v":0},{"$f":"VALUE(DINAMICA!$P366)","v":0},{"$f":"VALUE(DINAMICA!$Q366)","v":0},{"$f":"VALUE(DINAMICA!$R366)","v":0}]
[{"$f":"VALUE(DINAMICA!$A367)","v":0},{"$f":"VALUE(DINAMICA!$B367)","v":"00:00:00"},{"$f":"VALUE(DINAMICA!$C367)","v":0},{"$f":"DINAMICA!D367","v":0},{"$f":"DINAMICA!E367","v":0},{"$f":"DINAMICA!F367","v":0},{"$f":"DINAMICA!G367","v":0},{"$f":"DINAMICA!H367","v":0},{"$f":"DINAMICA!I367","v":0},{"$f":"DINAMICA!J367","v":0},{"$f":"DINAMICA!K367","v":0},{"$f":"VALUE(DINAMICA!$L367)","v":0},{"$f":"VALUE(DINAMICA!$M367)","v":0},{"$f":"VALUE(DINAMICA!$N367)","v":0},{"$f":"VALUE(DINAMICA!$O367)","v":0},{"$f":"VALUE(DINAMICA!$P367)","v":0},{"$f":"VALUE(DINAMICA!$Q367)","v":0},{"$f":"VALUE(DINAMICA!$R367)","v":0}]
[{"$f":"VALUE(DINAMICA!$A368)","v":0},{"$f":"VALUE(DINAMICA!$B368)","v":"00:00:00"},{"$f":"VALUE(DINAMICA!$C368)","v":0},{"$f":"DINAMICA!D368","v":0},{"$f":"DINAMICA!E368","v":0},{"$f":"DINAMICA!F368","v":0},{"$f":"DINAMICA!G368","v":0},{"$f":"DINAMICA!H368","v":0},{"$f":"DINAMICA!I368","v":0},{"$f":"DINAMICA!J368","v":0},{"$f":"DINAMICA!K368","v":0},{"$f":"VALUE(DINAMICA!$L368)","v":0},{"$f":"VALUE(DINAMICA!$M368)","v":0},{"$f":"VALUE(DINAMICA!$N368)","v":0},{"$f":"VALUE(DINAMICA!$O368)","v":0},{"$f":"VALUE(DINAMICA!$P368)","v":0},{"$f":"VALUE(DINAMICA!$Q368)","v":0},{"$f":"VALUE(DINAMICA!$R368)","v":0}]
[{"$f":"VALUE(DINAMICA!$A369)","v":0},{"$f":"VALUE(DINAMICA!$B369)","v":"00:00:00"},{"$f":"VALUE(DINAMICA!$C369)","v":0},{"$f":"DINAMICA!D369","v":0},{"$f":"DINAMICA!E369","v":0},{"$f":"DINAMICA!F369","v":0},{"$f":"DINAMICA!G369","v":0},{"$f":"DINAMICA!H369","v":0},{"$f":"DINAMICA!I369","v":0},{"$f":"DINAMICA!J369","v":0},{"$f":"DINAMICA!K369","v":0},{"$f":"VALUE(DINAMICA!$L369)","v":0},{"$f":"VALUE(DINAMICA!$M369)","v":0},{"$f":"VALUE(DINAMICA!$N369)","v":0},{"$f":"VALUE(DINAMICA!$O369)","v":0},{"$f":"VALUE(DINAMICA!$P369)","v":0},{"$f":"VALUE(DINAMICA!$Q369)","v":0},{"$f":"VALUE(DINAMICA!$R369)","v":0}]
[{"$f":"VALUE(DINAMICA!$A370)","v":0},{"$f":"VALUE(DINAMICA!$B370)","v":"00:00:00"},{"$f":"VALUE(DINAMICA!$C370)","v":0},{"$f":"DINAMICA!D370","v":0},{"$f":"DINAMICA!E370","v":0},{"$f":"DINAMICA!F370","v":0},{"$f":"DINAMICA!G370","v":0},{"$f":"DINAMICA!H370","v":0},{"$f":"DINAMICA!I370","v":0},{"$f":"DINAMICA!J370","v":0},{"$f":"DINAMICA!K370","v":0},{"$f":"VALUE(DINAMICA!$L370)","v":0},{"$f":"VALUE(DINAMICA!$M370)","v":0},{"$f":"VALUE(DINAMICA!$N370)","v":0},{"$f":"VALUE(DINAMICA!$O370)","v":0},{"$f":"VALUE(DINAMICA!$P370)","v":0},{"$f":"VALUE(DINAMICA!$Q370)","v":0},{"$f":"VALUE(DINAMICA!$R370)","v":0}]
[{"$f":"VALUE(DINAMICA!$A371)","v":0},{"$f":"VALUE(DINAMICA!$B371)","v":"00:00:00"},{"$f":"VALUE(DINAMICA!$C371)","v":0},{"$f":"DINAMICA!D371","v":0},{"$f":"DINAMICA!E371","v":0},{"$f":"DINAMICA!F371","v":0},{"$f":"DINAMICA!G371","v":0},{"$f":"DINAMICA!H371","v":0},{"$f":"DINAMICA!I371","v":0},{"$f":"DINAMICA!J371","v":0},{"$f":"DINAMICA!K371","v":0},{"$f":"VALUE(DINAMICA!$L371)","v":0},{"$f":"VALUE(DINAMICA!$M371)","v":0},{"$f":"VALUE(DINAMICA!$N371)","v":0},{"$f":"VALUE(DINAMICA!$O371)","v":0},{"$f":"VALUE(DINAMICA!$P371)","v":0},{"$f":"VALUE(DINAMICA!$Q371)","v":0},{"$f":"VALUE(DINAMICA!$R371)","v":0}]
[{"$f":"VALUE(DINAMICA!$A372)","v":0},{"$f":"VALUE(DINAMICA!$B372)","v":"00:00:00"},{"$f":"VALUE(DINAMICA!$C372)","v":0},{"$f":"DINAMICA!D372","v":0},{"$f":"DINAMICA!E372","v":0},{"$f":"DINAMICA!F372","v":0},{"$f":"DINAMICA!G372","v":0},{"$f":"DINAMICA!H372","v":0},{"$f":"DINAMICA!I372","v":0},{"$f":"DINAMICA!J372","v":0},{"$f":"DINAMICA!K372","v":0},{"$f":"VALUE(DINAMICA!$L372)","v":0},{"$f":"VALUE(DINAMICA!$M372)","v":0},{"$f":"VALUE(DINAMICA!$N372)","v":0},{"$f":"VALUE(DINAMICA!$O372)","v":0},{"$f":"VALUE(DINAMICA!$P372)","v":0},{"$f":"VALUE(DINAMICA!$Q372)","v":0},{"$f":"VALUE(DINAMICA!$R372)","v":0}]
[{"$f":"VALUE(DINAMICA!$A373)","v":0},{"$f":"VALUE(DINAMICA!$B373)","v":"00:00:00"},{"$f":"VALUE(DINAMICA!$C373)","v":0},{"$f":"DINAMICA!D373","v":0},{"$f":"DINAMICA!E373","v":0},{"$f":"DINAMICA!F373","v":0},{"$f":"DINAMICA!G373","v":0},{"$f":"DINAMICA!H373","v":0},{"$f":"DINAMICA!I373","v":0},{"$f":"DINAMICA!J373","v":0},{"$f":"DINAMICA!K373","v":0},{"$f":"VALUE(DINAMICA!$L373)","v":0},{"$f":"VALUE(DINAMICA!$M373)","v":0},{"$f":"VALUE(DINAMICA!$N373)","v":0},{"$f":"VALUE(DINAMICA!$O373)","v":0},{"$f":"VALUE(DINAMICA!$P373)","v":0},{"$f":"VALUE(DINAMICA!$Q373)","v":0},{"$f":"VALUE(DINAMICA!$R373)","v":0}]
[{"$f":"VALUE(DINAMICA!$A374)","v":0},{"$f":"VALUE(DINAMICA!$B374)","v":"00:00:00"},{"$f":"VALUE(DINAMICA!$C374)","v":0},{"$f":"DINAMICA!D374","v":0},{"$f":"DINAMICA!E374","v":0},{"$f":"DINAMICA!F374","v":0},{"$f":"DINAMICA!G374","v":0},{"$f":"DINAMICA!H374","v":0},{"$f":"DINAMICA!I374","v":0},{"$f":"DINAMICA!J374","v":0},{"$f":"DINAMICA!K374","v":0},{"$f":"VALUE(DINAMICA!$L374)","v":0},{"$f":"VALUE(DINAMICA!$M374)","v":0},{"$f":"VALUE(DINAMICA!$N374)","v":0},{"$f":"VALUE(DINAMICA!$O374)","v":0},{"$f":"VALUE(DINAMICA!$P374)","v":0},{"$f":"VALUE(DINAMICA!$Q374)","v":0},{"$f":"VALUE(DINAMICA!$R374)","v":0}]
[{"$f":"VALUE(DINAMICA!$A375)","v":0},{"$f":"VALUE(DINAMICA!$B375)","v":"00:00:00"},{"$f":"VALUE(DINAMICA!$C375)","v":0},{"$f":"DINAMICA!D375","v":0},{"$f":"DINAMICA!E375","v":0},{"$f":"DINAMICA!F375","v":0},{"$f":"DINAMICA!G375","v":0},{"$f":"DINAMICA!H375","v":0},{"$f":"DINAMICA!I375","v":0},{"$f":"DINAMICA!J375","v":0},{"$f":"DINAMICA!K375","v":0},{"$f":"VALUE(DINAMICA!$L375)","v":0},{"$f":"VALUE(DINAMICA!$M375)","v":0},{"$f":"VALUE(DINAMICA!$N375)","v":0},{"$f":"VALUE(DINAMICA!$O375)","v":0},{"$f":"VALUE(DINAMICA!$P375)","v":0},{"$f":"VALUE(DINAMICA!$Q375)","v":0},{"$f":"VALUE(DINAMICA!$R375)","v":0}]
[{"$f":"VALUE(DINAMICA!$A376)","v":0},{"$f":"VALUE(DINAMICA!$B376)","v":"00:00:00"},{"$f":"VALUE(DINAMICA!$C376)","v":0},{"$f":"DINAMICA!D376","v":0},{"$f":"DINAMICA!E376","v":0},{"$f":"DINAMICA!F376","v":0},{"$f":"DINAMICA!G376","v":0},{"$f":"DINAMICA!H376","v":0},{"$f":"DINAMICA!I376","v":0},{"$f":"DINAMICA!J376","v":0},{"$f":"DINAMICA!K376","v":0},{"$f":"VALUE(DINAMICA!$L376)","v":0},{"$f":"VALUE(DINAMICA!$M376)","v":0},{"$f":"VALUE(DINAMICA!$N376)","v":0},{"$f":"VALUE(DINAMICA!$O376)","v":0},{"$f":"VALUE(DINAMICA!$P376)","v":0},{"$f":"VALUE(DINAMICA!$Q376)","v":0},{"$f":"VALUE(DINAMICA!$R376)","v":0}]
[{"$f":"VALUE(DINAMICA!$A377)","v":0},{"$f":"VALUE(DINAMICA!$B377)","v":"00:00:00"},{"$f":"VALUE(DINAMICA!$C377)","v":0},{"$f":"DINAMICA!D377","v":0},{"$f":"DINAMICA!E377","v":0},{"$f":"DINAMICA!F377","v":0},{"$f":"DINAMICA!G377","v":0},{"$f":"DINAMICA!H377","v":0},{"$f":"DINAMICA!I377","v":0},{"$f":"DINAMICA!J377","v":0},{"$f":"DINAMICA!K377","v":0},{"$f":"VALUE(DINAMICA!$L377)","v":0},{"$f":"VALUE(DINAMICA!$M377)","v":0},{"$f":"VALUE(DINAMICA!$N377)","v":0},{"$f":"VALUE(DINAMICA!$O377)","v":0},{"$f":"VALUE(DINAMICA!$P377)","v":0},{"$f":"VALUE(DINAMICA!$Q377)","v":0},{"$f":"VALUE(DINAMICA!$R377)","v":0}]
[{"$f":"VALUE(DINAMICA!$A378)","v":0},{"$f":"VALUE(DINAMICA!$B378)","v":"00:00:00"},{"$f":"VALUE(DINAMICA!$C378)","v":0},{"$f":"DINAMICA!D378","v":0},{"$f":"DINAMICA!E378","v":0},{"$f":"DINAMICA!F378","v":0},{"$f":"DINAMICA!G378","v":0},{"$f":"DINAMICA!H378","v":0},{"$f":"DINAMICA!I378","v":0},{"$f":"DINAMICA!J378","v":0},{"$f":"DINAMICA!K378","v":0},{"$f":"VALUE(DINAMICA!$L378)","v":0},{"$f":"VALUE(DINAMICA!$M378)","v":0},{"$f":"VALUE(DINAMICA!$N378)","v":0},{"$f":"VALUE(DINAMICA!$O378)","v":0},{"$f":"VALUE(DINAMICA!$P378)","v":0},{"$f":"VALUE(DINAMICA!$Q378)","v":0},{"$f":"VALUE(DINAMICA!$R378)","v":0}]
[{"$f":"VALUE(DINAMICA!$A379)","v":0},{"$f":"VALUE(DINAMICA!$B379)","v":"00:00:00"},{"$f":"VALUE(DINAMICA!$C379)","v":0},{"$f":"DINAMICA!D379","v":0},{"$f":"DINAMICA!E379","v":0},{"$f":"DINAMICA!F379","v":0},{"$f":"DINAMICA!G379","v":0},{"$f":"DINAMICA!H379","v":0},{"$f":"DINAMICA!I379","v":0},{"$f":"DINAMICA!J379","v":0},{"$f":"DINAMICA!K379","v":0},{"$f":"VALUE(DINAMICA!$L379)","v":0},{"$f":"VALUE(DINAMICA!$M379)","v":0},{"$f":"VALUE(DINAMICA!$N379)","v":0},{"$f":"VALUE(DINAMICA!$O379)","v":0},{"$f":"VALUE(DINAMICA!$P379)","v":0},{"$f":"VALUE(DINAMICA!$Q379)","v":0},{"$f":"VALUE(DINAMICA!$R379)","v":0}]
[{"$f":"VALUE(DINAMICA!$A380)","v":0},{"$f":"VALUE(DINAMICA!$B380)","v":"00:00:00"},{"$f":"VALUE(DINAMICA!$C380)","v":0},{"$f":"DINAMICA!D380","v":0},{"$f":"DINAMICA!E380","v":0},{"$f":"DINAMICA!F380","v":0},{"$f":"DINAMICA!G380","v":0},{"$f":"DINAMICA!H380","v":0},{"$f":"DINAMICA!I380","v":0},{"$f":"DINAMICA!J380","v":0},{"$f":"DINAMICA!K380","v":0},{"$f":"VALUE(DINAMICA!$L380)","v":0},{"$f":"VALUE(DINAMICA!$M380)","v":0},{"$f":"VALUE(DINAMICA!$N380)","v":0},{"$f":"VALUE(DINAMICA!$O380)","v":0},{"$f":"VALUE(DINAMICA!$P380)","v":0},{"$f":"VALUE(DINAMICA!$Q380)","v":0},{"$f":"VALUE(DINAMICA!$R380)","v":0}]
[{"$f":"VALUE(DINAMICA!$A381)","v":0},{"$f":"VALUE(DINAMICA!$B381)","v":"00:00:00"},{"$f":"VALUE(DINAMICA!$C381)","v":0},{"$f":"DINAMICA!D381","v":0},{"$f":"DINAMICA!E381","v":0},{"$f":"DINAMICA!F381","v":0},{"$f":"DINAMICA!G381","v":0},{"$f":"DINAMICA!H381","v":0},{"$f":"DINAMICA!I381","v":0},{"$f":"DINAMICA!J381","v":0},{"$f":"DINAMICA!K381","v":0},{"$f":"VALUE(DINAMICA!$L381)","v":0},{"$f":"VALUE(DINAMICA!$M381)","v":0},{"$f":"VALUE(DINAMICA!$N381)","v":0},{"$f":"VALUE(DINAMICA!$O381)","v":0},{"$f":"VALUE(DINAMICA!$P381)","v":0},{"$f":"VALUE(DINAMICA!$Q381)","v":0},{"$f":"VALUE(DINAMICA!$R381)","v":0}]
[{"$f":"VALUE(DINAMICA!$A382)","v":0},{"$f":"VALUE(DINAMICA!$B382)","v":"00:00:00"},{"$f":"VALUE(DINAMICA!$C382)","v":0},{"$f":"DINAMICA!D382","v":0},{"$f":"DINAMICA!E382","v":0},{"$f":"DINAMICA!F382","v":0},{"$f":"DINAMICA!G382","v":0},{"$f":"DINAMICA!H382","v":0},{"$f":"DINAMICA!I382","v":0},{"$f":"DINAMICA!J382","v":0},{"$f":"DINAMICA!K382","v":0},{"$f":"VALUE(DINAMICA!$L382)","v":0},{"$f":"VALUE(DINAMICA!$M382)","v":0},{"$f":"VALUE(DINAMICA!$N382)","v":0},{"$f":"VALUE(DINAMICA!$O382)","v":0},{"$f":"VALUE(DINAMICA!$P382)","v":0},{"$f":"VALUE(DINAMICA!$Q382)","v":0},{"$f":"VALUE(DINAMICA!$R382)","v":0}]
[{"$f":"VALUE(DINAMICA!$A383)","v":0},{"$f":"VALUE(DINAMICA!$B383)","v":"00:00:00"},{"$f":"VALUE(DINAMICA!$C383)","v":0},{"$f":"DINAMICA!D383","v":0},{"$f":"DINAMICA!E383","v":0},{"$f":"DINAMICA!F383","v":0},{"$f":"DINAMICA!G383","v":0},{"$f":"DINAMICA!H383","v":0},{"$f":"DINAMICA!I383","v":0},{"$f":"DINAMICA!J383","v":0},{"$f":"DINAMICA!K383","v":0},{"$f":"VALUE(DINAMICA!$L383)","v":0},{"$f":"VALUE(DINAMICA!$M383)","v":0},{"$f":"VALUE(DINAMICA!$N383)","v":0},{"$f":"VALUE(DINAMICA!$O383)","v":0},{"$f":"VALUE(DINAMICA!$P383)","v":0},{"$f":"VALUE(DINAMICA!$Q383)","v":0},{"$f":"VALUE(DINAMICA!$R383)","v":0}]
[{"$f":"VALUE(DINAMICA!$A384)","v":0},{"$f":"VALUE(DINAMICA!$B384)","v":"00:00:00"},{"$f":"VALUE(DINAMICA!$C384)","v":0},{"$f":"DINAMICA!D384","v":0},{"$f":"DINAMICA!E384","v":0},{"$f":"DINAMICA!F384","v":0},{"$f":"DINAMICA!G384","v":0},{"$f":"DINAMICA!H384","v":0},{"$f":"DINAMICA!I384","v":0},{"$f":"DINAMICA!J384","v":0},{"$f":"DINAMICA!K384","v":0},{"$f":"VALUE(DINAMICA!$L384)","v":0},{"$f":"VALUE(DINAMICA!$M384)","v":0},{"$f":"VALUE(DINAMICA!$N384)","v":0},{"$f":"VALUE(DINAMICA!$O384)","v":0},{"$f":"VALUE(DINAMICA!$P384)","v":0},{"$f":"VALUE(DINAMICA!$Q384)","v":0},{"$f":"VALUE(DINAMICA!$R384)","v":0}]
[{"$f":"VALUE(DINAMICA!$A385)","v":0},{"$f":"VALUE(DINAMICA!$B385)","v":"00:00:00"},{"$f":"VALUE(DINAMICA!$C385)","v":0},{"$f":"DINAMICA!D385","v":0},{"$f":"DINAMICA!E385","v":0},{"$f":"DINAMICA!F385","v":0},{"$f":"DINAMICA!G385","v":0},{"$f":"DINAMICA!H385","v":0},{"$f":"DINAMICA!I385","v":0},{"$f":"DINAMICA!J385","v":0},{"$f":"DINAMICA!K385","v":0},{"$f":"VALUE(DINAMICA!$L385)","v":0},{"$f":"VALUE(DINAMICA!$M385)","v":0},{"$f":"VALUE(DINAMICA!$N385)","v":0},{"$f":"VALUE(DINAMICA!$O385)","v":0},{"$f":"VALUE(DINAMICA!$P385)","v":0},{"$f":"VALUE(DINAMICA!$Q385)","v":0},{"$f":"VALUE(DINAMICA!$R385)","v":0}]
[{"$f":"VALUE(DINAMICA!$A386)","v":0},{"$f":"VALUE(DINAMICA!$B386)","v":"00:00:00"},{"$f":"VALUE(DINAMICA!$C386)","v":0},{"$f":"DINAMICA!D386","v":0},{"$f":"DINAMICA!E386","v":0},{"$f":"DINAMICA!F386","v":0},{"$f":"DINAMICA!G386","v":0},{"$f":"DINAMICA!H386","v":0},{"$f":"DINAMICA!I386","v":0},{"$f":"DINAMICA!J386","v":0},{"$f":"DINAMICA!K386","v":0},{"$f":"VALUE(DINAMICA!$L386)","v":0},{"$f":"VALUE(DINAMICA!$M386)","v":0},{"$f":"VALUE(DINAMICA!$N386)","v":0},{"$f":"VALUE(DINAMICA!$O386)","v":0},{"$f":"VALUE(DINAMICA!$P386)","v":0},{"$f":"VALUE(DINAMICA!$Q386)","v":0},{"$f":"VALUE(DINAMICA!$R386)","v":0}]
[{"$f":"VALUE(DINAMICA!$A387)","v":0},{"$f":"VALUE(DINAMICA!$B387)","v":"00:00:00"},{"$f":"VALUE(DINAMICA!$C387)","v":0},{"$f":"DINAMICA!D387","v":0},{"$f":"DINAMICA!E387","v":0},{"$f":"DINAMICA!F387","v":0},{"$f":"DINAMICA!G387","v":0},{"$f":"DINAMICA!H387","v":0},{"$f":"DINAMICA!I387","v":0},{"$f":"DINAMICA!J387","v":0},{"$f":"DINAMICA!K387","v":0},{"$f":"VALUE(DINAMICA!$L387)","v":0},{"$f":"VALUE(DINAMICA!$M387)","v":0},{"$f":"VALUE(DINAMICA!$N387)","v":0},{"$f":"VALUE(DINAMICA!$O387)","v":0},{"$f":"VALUE(DINAMICA!$P387)","v":0},{"$f":"VALUE(DINAMICA!$Q387)","v":0},{"$f":"VALUE(DINAMICA!$R387)","v":0}]
[{"$f":"VALUE(DINAMICA!$A388)","v":0},{"$f":"VALUE(DINAMICA!$B388)","v":"00:00:00"},{"$f":"VALUE(DINAMICA!$C388)","v":0},{"$f":"DINAMICA!D388","v":0},{"$f":"DINAMICA!E388","v":0},{"$f":"DINAMICA!F388","v":0},{"$f":"DINAMICA!G388","v":0},{"$f":"DINAMICA!H388","v":0},{"$f":"DINAMICA!I388","v":0},{"$f":"DINAMICA!J388","v":0},{"$f":"DINAMICA!K388","v":0},{"$f":"VALUE(DINAMICA!$L388)","v":0},{"$f":"VALUE(DINAMICA!$M388)","v":0},{"$f":"VALUE(DINAMICA!$N388)","v":0},{"$f":"VALUE(DINAMICA!$O388)","v":0},{"$f":"VALUE(DINAMICA!$P388)","v":0},{"$f":"VALUE(DINAMICA!$Q388)","v":0},{"$f":"VALUE(DINAMICA!$R388)","v":0}]
[{"$f":"VALUE(DINAMICA!$A389)","v":0},{"$f":"VALUE(DINAMICA!$B389)","v":"00:00:00"},{"$f":"VALUE(DINAMICA!$C389)","v":0},{"$f":"DINAMICA!D389","v":0},{"$f":"DINAMICA!E389","v":0},{"$f":"DINAMICA!F389","v":0},{"$f":"DINAMICA!G389","v":0},{"$f":"DINAMICA!H389","v":0},{"$f":"DINAMICA!I389","v":0},{"$f":"DINAMICA!J389","v":0},{"$f":"DINAMICA!K389","v":0},{"$f":"VALUE(DINAMICA!$L389)","v":0},{"$f":"VALUE(DINAMICA!$M389)","v":0},{"$f":"VALUE(DINAMICA!$N389)","v":0},{"$f":"VALUE(DINAMICA!$O389)","v":0},{"$f":"VALUE(DINAMICA!$P389)","v":0},{"$f":"VALUE(DINAMICA!$Q389)","v":0},{"$f":"VALUE(DINAMICA!$R389)","v":0}]
[{"$f":"VALUE(DINAMICA!$A390)","v":0},{"$f":"VALUE(DINAMICA!$B390)","v":"00:00:00"},{"$f":"VALUE(DINAMICA!$C390)","v":0},{"$f":"DINAMICA!D390","v":0},{"$f":"DINAMICA!E390","v":0},{"$f":"DINAMICA!F390","v":0},{"$f":"DINAMICA!G390","v":0},{"$f":"DINAMICA!H390","v":0},{"$f":"DINAMICA!I390","v":0},{"$f":"DINAMICA!J390","v":0},{"$f":"DINAMICA!K390","v":0},{"$f":"VALUE(DINAMICA!$L390)","v":0},{"$f":"VALUE(DINAMICA!$M390)","v":0},{"$f":"VALUE(DINAMICA!$N390)","v":0},{"$f":"VALUE(DINAMICA!$O390)","v":0},{"$f":"VALUE(DINAMICA!$P390)","v":0},{"$f":"VALUE(DINAMICA!$Q390)","v":0},{"$f":"VALUE(DINAMICA!$R390)","v":0}]
[{"$f":"VALUE(DINAMICA!$A391)","v":0},{"$f":"VALUE(DINAMICA!$B391)","v":"00:00:00"},{"$f":"VALUE(DINAMICA!$C391)","v":0},{"$f":"DINAMICA!D391","v":0},{"$f":"DINAMICA!E391","v":0},{"$f":"DINAMICA!F391","v":0},{"$f":"DINAMICA!G391","v":0},{"$f":"DINAMICA!H391","v":0},{"$f":"DINAMICA!I391","v":0},{"$f":"DINAMICA!J391","v":0},{"$f":"DINAMICA!K391","v":0},{"$f":"VALUE(DINAMICA!$L391)","v":0},{"$f":"VALUE(DINAMICA!$M391)","v":0},{"$f":"VALUE(DINAMICA!$N391)","v":0},{"$f":"VALUE(DINAMICA!$O391)","v":0},{"$f":"VALUE(DINAMICA!$P391)","v":0},{"$f":"VALUE(DINAMICA!$Q391)","v":0},{"$f":"VALUE(DINAMICA!$R391)","v":0}]
[{"$f":"VALUE(DINAMICA!$A392)","v":0},{"$f":"VALUE(DINAMICA!$B392)","v":"00:00:00"},{"$f":"VALUE(DINAMICA!$C392)","v":0},{"$f":"DINAMICA!D392","v":0},{"$f":"DINAMICA!E392","v":0},{"$f":"DINAMICA!F392","v":0},{"$f":"DINAMICA!G392","v":0},{"$f":"DINAMICA!H392","v":0},{"$f":"DINAMICA!I392","v":0},{"$f":"DINAMICA!J392","v":0},{"$f":"DINAMICA!K392","v":0},{"$f":"VALUE(DINAMICA!$L392)","v":0},{"$f":"VALUE(DINAMICA!$M392)","v":0},{"$f":"VALUE(DINAMICA!$N392)","v":0},{"$f":"VALUE(DINAMICA!$O392)","v":0},{"$f":"VALUE(DINAMICA!$P392)","v":0},{"$f":"VALUE(DINAMICA!$Q392)","v":0},{"$f":"VALUE(DINAMICA!$R392)","v":0}]
[{"$f":"VALUE(DINAMICA!$A393)","v":0},{"$f":"VALUE(DINAMICA!$B393)","v":"00:00:00"},{"$f":"VALUE(DINAMICA!$C393)","v":0},{"$f":"DINAMICA!D393","v":0},{"$f":"DINAMICA!E393","v":0},{"$f":"DINAMICA!F393","v":0},{"$f":"DINAMICA!G393","v":0},{"$f":"DINAMICA!H393","v":0},{"$f":"DINAMICA!I393","v":0},{"$f":"DINAMICA!J393","v":0},{"$f":"DINAMICA!K393","v":0},{"$f":"VALUE(DINAMICA!$L393)","v":0},{"$f":"VALUE(DINAMICA!$M393)","v":0},{"$f":"VALUE(DINAMICA!$N393)","v":0},{"$f":"VALUE(DINAMICA!$O393)","v":0},{"$f":"VALUE(DINAMICA!$P393)","v":0},{"$f":"VALUE(DINAMICA!$Q393)","v":0},{"$f":"VALUE(DINAMICA!$R393)","v":0}]
[{"$f":"VALUE(DINAMICA!$A394)","v":0},{"$f":"VALUE(DINAMICA!$B394)","v":"00:00:00"},{"$f":"VALUE(DINAMICA!$C394)","v":0},{"$f":"DINAMICA!D394","v":0},{"$f":"DINAMICA!E394","v":0},{"$f":"DINAMICA!F394","v":0},{"$f":"DINAMICA!G394","v":0},{"$f":"DINAMICA!H394","v":0},{"$f":"DINAMICA!I394","v":0},{"$f":"DINAMICA!J394","v":0},{"$f":"DINAMICA!K394","v":0},{"$f":"VALUE(DINAMICA!$L394)","v":0},{"$f":"VALUE(DINAMICA!$M394)","v":0},{"$f":"VALUE(DINAMICA!$N394)","v":0},{"$f":"VALUE(DINAMICA!$O394)","v":0},{"$f":"VALUE(DINAMICA!$P394)","v":0},{"$f":"VALUE(DINAMICA!$Q394)","v":0},{"$f":"VALUE(DINAMICA!$R394)","v":0}]
[{"$f":"VALUE(DINAMICA!$A395)","v":0},{"$f":"VALUE(DINAMICA!$B395)","v":"00:00:00"},{"$f":"VALUE(DINAMICA!$C395)","v":0},{"$f":"DINAMICA!D395","v":0},{"$f":"DINAMICA!E395","v":0},{"$f":"DINAMICA!F395","v":0},{"$f":"DINAMICA!G395","v":0},{"$f":"DINAMICA!H395","v":0},{"$f":"DINAMICA!I395","v":0},{"$f":"DINAMICA!J395","v":0},{"$f":"DINAMICA!K395","v":0},{"$f":"VALUE(DINAMICA!$L395)","v":0},{"$f":"VALUE(DINAMICA!$M395)","v":0},{"$f":"VALUE(DINAMICA!$N395)","v":0},{"$f":"VALUE(DINAMICA!$O395)","v":0},{"$f":"VALUE(DINAMICA!$P395)","v":0},{"$f":"VALUE(DINAMICA!$Q395)","v":0},{"$f":"VALUE(DINAMICA!$R395)","v":0}]
[{"$f":"VALUE(DINAMICA!$A396)","v":0},{"$f":"VALUE(DINAMICA!$B396)","v":"00:00:00"},{"$f":"VALUE(DINAMICA!$C396)","v":0},{"$f":"DINAMICA!D396","v":0},{"$f":"DINAMICA!E396","v":0},{"$f":"DINAMICA!F396","v":0},{"$f":"DINAMICA!G396","v":0},{"$f":"DINAMICA!H396","v":0},{"$f":"DINAMICA!I396","v":0},{"$f":"DINAMICA!J396","v":0},{"$f":"DINAMICA!K396","v":0},{"$f":"VALUE(DINAMICA!$L396)","v":0},{"$f":"VALUE(DINAMICA!$M396)","v":0},{"$f":"VALUE(DINAMICA!$N396)","v":0},{"$f":"VALUE(DINAMICA!$O396)","v":0},{"$f":"VALUE(DINAMICA!$P396)","v":0},{"$f":"VALUE(DINAMICA!$Q396)","v":0},{"$f":"VALUE(DINAMICA!$R396)","v":0}]
[{"$f":"VALUE(DINAMICA!$A397)","v":0},{"$f":"VALUE(DINAMICA!$B397)","v":"00:00:00"},{"$f":"VALUE(DINAMICA!$C397)","v":0},{"$f":"DINAMICA!D397","v":0},{"$f":"DINAMICA!E397","v":0},{"$f":"DINAMICA!F397","v":0},{"$f":"DINAMICA!G397","v":0},{"$f":"DINAMICA!H397","v":0},{"$f":"DINAMICA!I397","v":0},{"$f":"DINAMICA!J397","v":0},{"$f":"DINAMICA!K397","v":0},{"$f":"VALUE(DINAMICA!$L397)","v":0},{"$f":"VALUE(DINAMICA!$M397)","v":0},{"$f":"VALUE(DINAMICA!$N397)","v":0},{"$f":"VALUE(DINAMICA!$O397)","v":0},{"$f":"VALUE(DINAMICA!$P397)","v":0},{"$f":"VALUE(DINAMICA!$Q397)","v":0},{"$f":"VALUE(DINAMICA!$R397)","v":0}]
[{"$f":"VALUE(DINAMICA!$A398)","v":0},{"$f":"VALUE(DINAMICA!$B398)","v":"00:00:00"},{"$f":"VALUE(DINAMICA!$C398)","v":0},{"$f":"DINAMICA!D398","v":0},{"$f":"DINAMICA!E398","v":0},{"$f":"DINAMICA!F398","v":0},{"$f":"DINAMICA!G398","v":0},{"$f":"DINAMICA!H398","v":0},{"$f":"DINAMICA!I398","v":0},{"$f":"DINAMICA!J398","v":0},{"$f":"DINAMICA!K398","v":0},{"$f":"VALUE(DINAMICA!$L398)","v":0},{"$f":"VALUE(DINAMICA!$M398)","v":0},{"$f":"VALUE(DINAMICA!$N398)","v":0},{"$f":"VALUE(DINAMICA!$O398)","v":0},{"$f":"VALUE(DINAMICA!$P398)","v":0},{"$f":"VALUE(DINAMICA!$Q398)","v":0},{"$f":"VALUE(DINAMICA!$R398)","v":0}]
[{"$f":"VALUE(DINAMICA!$A399)","v":0},{"$f":"VALUE(DINAMICA!$B399)","v":"00:00:00"},{"$f":"VALUE(DINAMICA!$C399)","v":0},{"$f":"DINAMICA!D399","v":0},{"$f":"DINAMICA!E399","v":0},{"$f":"DINAMICA!F399","v":0},{"$f":"DINAMICA!G399","v":0},{"$f":"DINAMICA!H399","v":0},{"$f":"DINAMICA!I399","v":0},{"$f":"DINAMICA!J399","v":0},{"$f":"DINAMICA!K399","v":0},{"$f":"VALUE(DINAMICA!$L399)","v":0},{"$f":"VALUE(DINAMICA!$M399)","v":0},{"$f":"VALUE(DINAMICA!$N399)","v":0},{"$f":"VALUE(DINAMICA!$O399)","v":0},{"$f":"VALUE(DINAMICA!$P399)","v":0},{"$f":"VALUE(DINAMICA!$Q399)","v":0},{"$f":"VALUE(DINAMICA!$R399)","v":0}]
[{"$f":"VALUE(DINAMICA!$A400)","v":0},{"$f":"VALUE(DINAMICA!$B400)","v":"00:00:00"},{"$f":"VALUE(DINAMICA!$C400)","v":0},{"$f":"DINAMICA!D400","v":0},{"$f":"DINAMICA!E400","v":0},{"$f":"DINAMICA!F400","v":0},{"$f":"DINAMICA!G400","v":0},{"$f":"DINAMICA!H400","v":0},{"$f":"DINAMICA!I400","v":0},{"$f":"DINAMICA!J400","v":0},{"$f":"DINAMICA!K400","v":0},{"$f":"VALUE(DINAMICA!$L400)","v":0},{"$f":"VALUE(DINAMICA!$M400)","v":0},{"$f":"VALUE(DINAMICA!$N400)","v":0},{"$f":"VALUE(DINAMICA!$O400)","v":0},{"$f":"VALUE(DINAMICA!$P400)","v":0},{"$f":"VALUE(DINAMICA!$Q400)","v":0},{"$f":"VALUE(DINAMICA!$R400)","v":0}]
[{"$f":"VALUE(DINAMICA!$A401)","v":0},{"$f":"VALUE(DINAMICA!$B401)","v":"00:00:00"},{"$f":"VALUE(DINAMICA!$C401)","v":0},{"$f":"DINAMICA!D401","v":0},{"$f":"DINAMICA!E401","v":0},{"$f":"DINAMICA!F401","v":0},{"$f":"DINAMICA!G401","v":0},{"$f":"DINAMICA!H401","v":0},{"$f":"DINAMICA!I401","v":0},{"$f":"DINAMICA!J401","v":0},{"$f":"DINAMICA!K401","v":0},{"$f":"VALUE(DINAMICA!$L401)","v":0},{"$f":"VALUE(DINAMICA!$M401)","v":0},{"$f":"VALUE(DINAMICA!$N401)","v":0},{"$f":"VALUE(DINAMICA!$O401)","v":0},{"$f":"VALUE(DINAMICA!$P401)","v":0},{"$f":"VALUE(DINAMICA!$Q401)","v":0},{"$f":"VALUE(DINAMICA!$R401)","v":0}]
[{"$f":"VALUE(DINAMICA!$A402)","v":0},{"$f":"VALUE(DINAMICA!$B402)","v":"00:00:00"},{"$f":"VALUE(DINAMICA!$C402)","v":0},{"$f":"DINAMICA!D402","v":0},{"$f":"DINAMICA!E402","v":0},{"$f":"DINAMICA!F402","v":0},{"$f":"DINAMICA!G402","v":0},{"$f":"DINAMICA!H402","v":0},{"$f":"DINAMICA!I402","v":0},{"$f":"DINAMICA!J402","v":0},{"$f":"DINAMICA!K402","v":0},{"$f":"VALUE(DINAMICA!$L402)","v":0},{"$f":"VALUE(DINAMICA!$M402)","v":0},{"$f":"VALUE(DINAMICA!$N402)","v":0},{"$f":"VALUE(DINAMICA!$O402)","v":0},{"$f":"VALUE(DINAMICA!$P402)","v":0},{"$f":"VALUE(DINAMICA!$Q402)","v":0},{"$f":"VALUE(DINAMICA!$R402)","v":0}]
[{"$f":"VALUE(DINAMICA!$A403)","v":0},{"$f":"VALUE(DINAMICA!$B403)","v":"00:00:00"},{"$f":"VALUE(DINAMICA!$C403)","v":0},{"$f":"DINAMICA!D403","v":0},{"$f":"DINAMICA!E403","v":0},{"$f":"DINAMICA!F403","v":0},{"$f":"DINAMICA!G403","v":0},{"$f":"DINAMICA!H403","v":0},{"$f":"DINAMICA!I403","v":0},{"$f":"DINAMICA!J403","v":0},{"$f":"DINAMICA!K403","v":0},{"$f":"VALUE(DINAMICA!$L403)","v":0},{"$f":"VALUE(DINAMICA!$M403)","v":0},{"$f":"VALUE(DINAMICA!$N403)","v":0},{"$f":"VALUE(DINAMICA!$O403)","v":0},{"$f":"VALUE(DINAMICA!$P403)","v":0},{"$f":"VALUE(DINAMICA!$Q403)","v":0},{"$f":"VALUE(DINAMICA!$R403)","v":0}]
[{"$f":"VALUE(DINAMICA!$A404)","v":0},{"$f":"VALUE(DINAMICA!$B404)","v":"00:00:00"},{"$f":"VALUE(DINAMICA!$C404)","v":0},{"$f":"DINAMICA!D404","v":0},{"$f":"DINAMICA!E404","v":0},{"$f":"DINAMICA!F404","v":0},{"$f":"DINAMICA!G404","v":0},{"$f":"DINAMICA!H404","v":0},{"$f":"DINAMICA!I404","v":0},{"$f":"DINAMICA!J404","v":0},{"$f":"DINAMICA!K404","v":0},{"$f":"VALUE(DINAMICA!$L404)","v":0},{"$f":"VALUE(DINAMICA!$M404)","v":0},{"$f":"VALUE(DINAMICA!$N404)","v":0},{"$f":"VALUE(DINAMICA!$O404)","v":0},{"$f":"VALUE(DINAMICA!$P404)","v":0},{"$f":"VALUE(DINAMICA!$Q404)","v":0},{"$f":"VALUE(DINAMICA!$R404)","v":0}]
[{"$f":"VALUE(DINAMICA!$A405)","v":0},{"$f":"VALUE(DINAMICA!$B405)","v":"00:00:00"},{"$f":"VALUE(DINAMICA!$C405)","v":0},{"$f":"DINAMICA!D405","v":0},{"$f":"DINAMICA!E405","v":0},{"$f":"DINAMICA!F405","v":0},{"$f":"DINAMICA!G405","v":0},{"$f":"DINAMICA!H405","v":0},{"$f":"DINAMICA!I405","v":0},{"$f":"DINAMICA!J405","v":0},{"$f":"DINAMICA!K405","v":0},{"$f":"VALUE(DINAMICA!$L405)","v":0},{"$f":"VALUE(DINAMICA!$M405)","v":0},{"$f":"VALUE(DINAMICA!$N405)","v":0},{"$f":"VALUE(DINAMICA!$O405)","v":0},{"$f":"VALUE(DINAMICA!$P405)","v":0},{"$f":"VALUE(DINAMICA!$Q405)","v":0},{"$f":"VALUE(DINAMICA!$R405)","v":0}]
[{"$f":"VALUE(DINAMICA!$A406)","v":0},{"$f":"VALUE(DINAMICA!$B406)","v":"00:00:00"},{"$f":"VALUE(DINAMICA!$C406)","v":0},{"$f":"DINAMICA!D406","v":0},{"$f":"DINAMICA!E406","v":0},{"$f":"DINAMICA!F406","v":0},{"$f":"DINAMICA!G406","v":0},{"$f":"DINAMICA!H406","v":0},{"$f":"DINAMICA!I406","v":0},{"$f":"DINAMICA!J406","v":0},{"$f":"DINAMICA!K406","v":0},{"$f":"VALUE(DINAMICA!$L406)","v":0},{"$f":"VALUE(DINAMICA!$M406)","v":0},{"$f":"VALUE(DINAMICA!$N406)","v":0},{"$f":"VALUE(DINAMICA!$O406)","v":0},{"$f":"VALUE(DINAMICA!$P406)","v":0},{"$f":"VALUE(DINAMICA!$Q406)","v":0},{"$f":"VALUE(DINAMICA!$R406)","v":0}]
[{"$f":"VALUE(DINAMICA!$A407)","v":0},{"$f":"VALUE(DINAMICA!$B407)","v":"00:00:00"},{"$f":"VALUE(DINAMICA!$C407)","v":0},{"$f":"DINAMICA!D407","v":0},{"$f":"DINAMICA!E407","v":0},{"$f":"DINAMICA!F407","v":0},{"$f":"DINAMICA!G407","v":0},{"$f":"DINAMICA!H407","v":0},{"$f":"DINAMICA!I407","v":0},{"$f":"DINAMICA!J407","v":0},{"$f":"DINAMICA!K407","v":0},{"$f":"VALUE(DINAMICA!$L407)","v":0},{"$f":"VALUE(DINAMICA!$M407)","v":0},{"$f":"VALUE(DINAMICA!$N407)","v":0},{"$f":"VALUE(DINAMICA!$O407)","v":0},{"$f":"VALUE(DINAMICA!$P407)","v":0},{"$f":"VALUE(DINAMICA!$Q407)","v":0},{"$f":"VALUE(DINAMICA!$R407)","v":0}]
[{"$f":"VALUE(DINAMICA!$A408)","v":0},{"$f":"VALUE(DINAMICA!$B408)","v":"00:00:00"},{"$f":"VALUE(DINAMICA!$C408)","v":0},{"$f":"DINAMICA!D408","v":0},{"$f":"DINAMICA!E408","v":0},{"$f":"DINAMICA!F408","v":0},{"$f":"DINAMICA!G408","v":0},{"$f":"DINAMICA!H408","v":0},{"$f":"DINAMICA!I408","v":0},{"$f":"DINAMICA!J408","v":0},{"$f":"DINAMICA!K408","v":0},{"$f":"VALUE(DINAMICA!$L408)","v":0},{"$f":"VALUE(DINAMICA!$M408)","v":0},{"$f":"VALUE(DINAMICA!$N408)","v":0},{"$f":"VALUE(DINAMICA!$O408)","v":0},{"$f":"VALUE(DINAMICA!$P408)","v":0},{"$f":"VALUE(DINAMICA!$Q408)","v":0},{"$f":"VALUE(DINAMICA!$R408)","v":0}]
[{"$f":"VALUE(DINAMICA!$A409)","v":0},{"$f":"VALUE(DINAMICA!$B409)","v":"00:00:00"},{"$f":"VALUE(DINAMICA!$C409)","v":0},{"$f":"DINAMICA!D409","v":0},{"$f":"DINAMICA!E409","v":0},{"$f":"DINAMICA!F409","v":0},{"$f":"DINAMICA!G409","v":0},{"$f":"DINAMICA!H409","v":0},{"$f":"DINAMICA!I409","v":0},{"$f":"DINAMICA!J409","v":0},{"$f":"DINAMICA!K409","v":0},{"$f":"VALUE(DINAMICA!$L409)","v":0},{"$f":"VALUE(DINAMICA!$M409)","v":0},{"$f":"VALUE(DINAMICA!$N409)","v":0},{"$f":"VALUE(DINAMICA!$O409)","v":0},{"$f":"VALUE(DINAMICA!$P409)","v":0},{"$f":"VALUE(DINAMICA!$Q409)","v":0},{"$f":"VALUE(DINAMICA!$R409)","v":0}]
[{"$f":"VALUE(DINAMICA!$A410)","v":0},{"$f":"VALUE(DINAMICA!$B410)","v":"00:00:00"},{"$f":"VALUE(DINAMICA!$C410)","v":0},{"$f":"DINAMICA!D410","v":0},{"$f":"DINAMICA!E410","v":0},{"$f":"DINAMICA!F410","v":0},{"$f":"DINAMICA!G410","v":0},{"$f":"DINAMICA!H410","v":0},{"$f":"DINAMICA!I410","v":0},{"$f":"DINAMICA!J410","v":0},{"$f":"DINAMICA!K410","v":0},{"$f":"VALUE(DINAMICA!$L410)","v":0},{"$f":"VALUE(DINAMICA!$M410)","v":0},{"$f":"VALUE(DINAMICA!$N410)","v":0},{"$f":"VALUE(DINAMICA!$O410)","v":0},{"$f":"VALUE(DINAMICA!$P410)","v":0},{"$f":"VALUE(DINAMICA!$Q410)","v":0},{"$f":"VALUE(DINAMICA!$R410)","v":0}]
[{"$f":"VALUE(DINAMICA!$A411)","v":0},{"$f":"VALUE(DINAMICA!$B411)","v":"00:00:00"},{"$f":"VALUE(DINAMICA!$C411)","v":0},{"$f":"DINAMICA!D411","v":0},{"$f":"DINAMICA!E411","v":0},{"$f":"DINAMICA!F411","v":0},{"$f":"DINAMICA!G411","v":0},{"$f":"DINAMICA!H411","v":0},{"$f":"DINAMICA!I411","v":0},{"$f":"DINAMICA!J411","v":0},{"$f":"DINAMICA!K411","v":0},{"$f":"VALUE(DINAMICA!$L411)","v":0},{"$f":"VALUE(DINAMICA!$M411)","v":0},{"$f":"VALUE(DINAMICA!$N411)","v":0},{"$f":"VALUE(DINAMICA!$O411)","v":0},{"$f":"VALUE(DINAMICA!$P411)","v":0},{"$f":"VALUE(DINAMICA!$Q411)","v":0},{"$f":"VALUE(DINAMICA!$R411)","v":0}]
[{"$f":"VALUE(DINAMICA!$A412)","v":0},{"$f":"VALUE(DINAMICA!$B412)","v":"00:00:00"},{"$f":"VALUE(DINAMICA!$C412)","v":0},{"$f":"DINAMICA!D412","v":0},{"$f":"DINAMICA!E412","v":0},{"$f":"DINAMICA!F412","v":0},{"$f":"DINAMICA!G412","v":0},{"$f":"DINAMICA!H412","v":0},{"$f":"DINAMICA!I412","v":0},{"$f":"DINAMICA!J412","v":0},{"$f":"DINAMICA!K412","v":0},{"$f":"VALUE(DINAMICA!$L412)","v":0},{"$f":"VALUE(DINAMICA!$M412)","v":0},{"$f":"VALUE(DINAMICA!$N412)","v":0},{"$f":"VALUE(DINAMICA!$O412)","v":0},{"$f":"VALUE(DINAMICA!$P412)","v":0},{"$f":"VALUE(DINAMICA!$Q412)","v":0},{"$f":"VALUE(DINAMICA!$R412)","v":0}]
[{"$f":"VALUE(DINAMICA!$A413)","v":0},{"$f":"VALUE(DINAMICA!$B413)","v":"00:00:00"},{"$f":"VALUE(DINAMICA!$C413)","v":0},{"$f":"DINAMICA!D413","v":0},{"$f":"DINAMICA!E413","v":0},{"$f":"DINAMICA!F413","v":0},{"$f":"DINAMICA!G413","v":0},{"$f":"DINAMICA!H413","v":0},{"$f":"DINAMICA!I413","v":0},{"$f":"DINAMICA!J413","v":0},{"$f":"DINAMICA!K413","v":0},{"$f":"VALUE(DINAMICA!$L413)","v":0},{"$f":"VALUE(DINAMICA!$M413)","v":0},{"$f":"VALUE(DINAMICA!$N413)","v":0},{"$f":"VALUE(DINAMICA!$O413)","v":0},{"$f":"VALUE(DINAMICA!$P413)","v":0},{"$f":"VALUE(DINAMICA!$Q413)","v":0},{"$f":"VALUE(DINAMICA!$R413)","v":0}]
[{"$f":"VALUE(DINAMICA!$A414)","v":0},{"$f":"VALUE(DINAMICA!$B414)","v":"00:00:00"},{"$f":"VALUE(DINAMICA!$C414)","v":0},{"$f":"DINAMICA!D414","v":0},{"$f":"DINAMICA!E414","v":0},{"$f":"DINAMICA!F414","v":0},{"$f":"DINAMICA!G414","v":0},{"$f":"DINAMICA!H414","v":0},{"$f":"DINAMICA!I414","v":0},{"$f":"DINAMICA!J414","v":0},{"$f":"DINAMICA!K414","v":0},{"$f":"VALUE(DINAMICA!$L414)","v":0},{"$f":"VALUE(DINAMICA!$M414)","v":0},{"$f":"VALUE(DINAMICA!$N414)","v":0},{"$f":"VALUE(DINAMICA!$O414)","v":0},{"$f":"VALUE(DINAMICA!$P414)","v":0},{"$f":"VALUE(DINAMICA!$Q414)","v":0},{"$f":"VALUE(DINAMICA!$R414)","v":0}]
[{"$f":"VALUE(DINAMICA!$A415)","v":0},{"$f":"VALUE(DINAMICA!$B415)","v":"00:00:00"},{"$f":"VALUE(DINAMICA!$C415)","v":0},{"$f":"DINAMICA!D415","v":0},{"$f":"DINAMICA!E415","v":0},{"$f":"DINAMICA!F415","v":0},{"$f":"DINAMICA!G415","v":0},{"$f":"DINAMICA!H415","v":0},{"$f":"DINAMICA!I415","v":0},{"$f":"DINAMICA!J415","v":0},{"$f":"DINAMICA!K415","v":0},{"$f":"VALUE(DINAMICA!$L415)","v":0},{"$f":"VALUE(DINAMICA!$M415)","v":0},{"$f":"VALUE(DINAMICA!$N415)","v":0},{"$f":"VALUE(DINAMICA!$O415)","v":0},{"$f":"VALUE(DINAMICA!$P415)","v":0},{"$f":"VALUE(DINAMICA!$Q415)","v":0},{"$f":"VALUE(DINAMICA!$R415)","v":0}]
[{"$f":"VALUE(DINAMICA!$A416)","v":0},{"$f":"VALUE(DINAMICA!$B416)","v":"00:00:00"},{"$f":"VALUE(DINAMICA!$C416)","v":0},{"$f":"DINAMICA!D416","v":0},{"$f":"DINAMICA!E416","v":0},{"$f":"DINAMICA!F416","v":0},{"$f":"DINAMICA!G416","v":0},{"$f":"DINAMICA!H416","v":0},{"$f":"DINAMICA!I416","v":0},{"$f":"DINAMICA!J416","v":0},{"$f":"DINAMICA!K416","v":0},{"$f":"VALUE(DINAMICA!$L416)","v":0},{"$f":"VALUE(DINAMICA!$M416)","v":0},{"$f":"VALUE(DINAMICA!$N416)","v":0},{"$f":"VALUE(DINAMICA!$O416)","v":0},{"$f":"VALUE(DINAMICA!$P416)","v":0},{"$f":"VALUE(DINAMICA!$Q416)","v":0},{"$f":"VALUE(DINAMICA!$R416)","v":0}]
[{"$f":"VALUE(DINAMICA!$A417)","v":0},{"$f":"VALUE(DINAMICA!$B417)","v":"00:00:00"},{"$f":"VALUE(DINAMICA!$C417)","v":0},{"$f":"DINAMICA!D417","v":0},{"$f":"DINAMICA!E417","v":0},{"$f":"DINAMICA!F417","v":0},{"$f":"DINAMICA!G417","v":0},{"$f":"DINAMICA!H417","v":0},{"$f":"DINAMICA!I417","v":0},{"$f":"DINAMICA!J417","v":0},{"$f":"DINAMICA!K417","v":0},{"$f":"VALUE(DINAMICA!$L417)","v":0},{"$f":"VALUE(DINAMICA!$M417)","v":0},{"$f":"VALUE(DINAMICA!$N417)","v":0},{"$f":"VALUE(DINAMICA!$O417)","v":0},{"$f":"VALUE(DINAMICA!$P417)","v":0},{"$f":"VALUE(DINAMICA!$Q417)","v":0},{"$f":"VALUE(DINAMICA!$R417)","v":0}]
[{"$f":"VALUE(DINAMICA!$A418)","v":0},{"$f":"VALUE(DINAMICA!$B418)","v":"00:00:00"},{"$f":"VALUE(DINAMICA!$C418)","v":0},{"$f":"DINAMICA!D418","v":0},{"$f":"DINAMICA!E418","v":0},{"$f":"DINAMICA!F418","v":0},{"$f":"DINAMICA!G418","v":0},{"$f":"DINAMICA!H418","v":0},{"$f":"DINAMICA!I418","v":0},{"$f":"DINAMICA!J418","v":0},{"$f":"DINAMICA!K418","v":0},{"$f":"VALUE(DINAMICA!$L418)","v":0},{"$f":"VALUE(DINAMICA!$M418)","v":0},{"$f":"VALUE(DINAMICA!$N418)","v":0},{"$f":"VALUE(DINAMICA!$O418)","v":0},{"$f":"VALUE(DINAMICA!$P418)","v":0},{"$f":"VALUE(DINAMICA!$Q418)","v":0},{"$f":"VALUE(DINAMICA!$R418)","v":0}]
[{"$f":"VALUE(DINAMICA!$A419)","v":0},{"$f":"VALUE(DINAMICA!$B419)","v":"00:00:00"},{"$f":"VALUE(DINAMICA!$C419)","v":0},{"$f":"DINAMICA!D419","v":0},{"$f":"DINAMICA!E419","v":0},{"$f":"DINAMICA!F419","v":0},{"$f":"DINAMICA!G419","v":0},{"$f":"DINAMICA!H419","v":0},{"$f":"DINAMICA!I419","v":0},{"$f":"DINAMICA!J419","v":0},{"$f":"DINAMICA!K419","v":0},{"$f":"VALUE(DINAMICA!$L419)","v":0},{"$f":"VALUE(DINAMICA!$M419)","v":0},{"$f":"VALUE(DINAMICA!$N419)","v":0},{"$f":"VALUE(DINAMICA!$O419)","v":0},{"$f":"VALUE(DINAMICA!$P419)","v":0},{"$f":"VALUE(DINAMICA!$Q419)","v":0},{"$f":"VALUE(DINAMICA!$R419)","v":0}]
[{"$f":"VALUE(DINAMICA!$A420)","v":0},{"$f":"VALUE(DINAMICA!$B420)","v":"00:00:00"},{"$f":"VALUE(DINAMICA!$C420)","v":0},{"$f":"DINAMICA!D420","v":0},{"$f":"DINAMICA!E420","v":0},{"$f":"DINAMICA!F420","v":0},{"$f":"DINAMICA!G420","v":0},{"$f":"DINAMICA!H420","v":0},{"$f":"DINAMICA!I420","v":0},{"$f":"DINAMICA!J420","v":0},{"$f":"DINAMICA!K420","v":0},{"$f":"VALUE(DINAMICA!$L420)","v":0},{"$f":"VALUE(DINAMICA!$M420)","v":0},{"$f":"VALUE(DINAMICA!$N420)","v":0},{"$f":"VALUE(DINAMICA!$O420)","v":0},{"$f":"VALUE(DINAMICA!$P420)","v":0},{"$f":"VALUE(DINAMICA!$Q420)","v":0},{"$f":"VALUE(DINAMICA!$R420)","v":0}]
[{"$f":"VALUE(DINAMICA!$A421)","v":0},{"$f":"VALUE(DINAMICA!$B421)","v":"00:00:00"},{"$f":"VALUE(DINAMICA!$C421)","v":0},{"$f":"DINAMICA!D421","v":0},{"$f":"DINAMICA!E421","v":0},{"$f":"DINAMICA!F421","v":0},{"$f":"DINAMICA!G421","v":0},{"$f":"DINAMICA!H421","v":0},{"$f":"DINAMICA!I421","v":0},{"$f":"DINAMICA!J421","v":0},{"$f":"DINAMICA!K421","v":0},{"$f":"VALUE(DINAMICA!$L421)","v":0},{"$f":"VALUE(DINAMICA!$M421)","v":0},{"$f":"VALUE(DINAMICA!$N421)","v":0},{"$f":"VALUE(DINAMICA!$O421)","v":0},{"$f":"VALUE(DINAMICA!$P421)","v":0},{"$f":"VALUE(DINAMICA!$Q421)","v":0},{"$f":"VALUE(DINAMICA!$R421)","v":0}]
[{"$f":"VALUE(DINAMICA!$A422)","v":0},{"$f":"VALUE(DINAMICA!$B422)","v":"00:00:00"},{"$f":"VALUE(DINAMICA!$C422)","v":0},{"$f":"DINAMICA!D422","v":0},{"$f":"DINAMICA!E422","v":0},{"$f":"DINAMICA!F422","v":0},{"$f":"DINAMICA!G422","v":0},{"$f":"DINAMICA!H422","v":0},{"$f":"DINAMICA!I422","v":0},{"$f":"DINAMICA!J422","v":0},{"$f":"DINAMICA!K422","v":0},{"$f":"VALUE(DINAMICA!$L422)","v":0},{"$f":"VALUE(DINAMICA!$M422)","v":0},{"$f":"VALUE(DINAMICA!$N422)","v":0},{"$f":"VALUE(DINAMICA!$O422)","v":0},{"$f":"VALUE(DINAMICA!$P422)","v":0},{"$f":"VALUE(DINAMICA!$Q422)","v":0},{"$f":"VALUE(DINAMICA!$R422)","v":0}]
[{"$f":"VALUE(DINAMICA!$A423)","v":0},{"$f":"VALUE(DINAMICA!$B423)","v":"00:00:00"},{"$f":"VALUE(DINAMICA!$C423)","v":0},{"$f":"DINAMICA!D423","v":0},{"$f":"DINAMICA!E423","v":0},{"$f":"DINAMICA!F423","v":0},{"$f":"DINAMICA!G423","v":0},{"$f":"DINAMICA!H423","v":0},{"$f":"DINAMICA!I423","v":0},{"$f":"DINAMICA!J423","v":0},{"$f":"DINAMICA!K423","v":0},{"$f":"VALUE(DINAMICA!$L423)","v":0},{"$f":"VALUE(DINAMICA!$M423)","v":0},{"$f":"VALUE(DINAMICA!$N423)","v":0},{"$f":"VALUE(DINAMICA!$O423)","v":0},{"$f":"VALUE(DINAMICA!$P423)","v":0},{"$f":"VALUE(DINAMICA!$Q423)","v":0},{"$f":"VALUE(DINAMICA!$R423)","v":0}]
[{"$f":"VALUE(DINAMICA!$A424)","v":0},{"$f":"VALUE(DINAMICA!$B424)","v":"00:00:00"},{"$f":"VALUE(DINAMICA!$C424)","v":0},{"$f":"DINAMICA!D424","v":0},{"$f":"DINAMICA!E424","v":0},{"$f":"DINAMICA!F424","v":0},{"$f":"DINAMICA!G424","v":0},{"$f":"DINAMICA!H424","v":0},{"$f":"DINAMICA!I424","v":0},{"$f":"DINAMICA!J424","v":0},{"$f":"DINAMICA!K424","v":0},{"$f":"VALUE(DINAMICA!$L424)","v":0},{"$f":"VALUE(DINAMICA!$M424)","v":0},{"$f":"VALUE(DINAMICA!$N424)","v":0},{"$f":"VALUE(DINAMICA!$O424)","v":0},{"$f":"VALUE(DINAMICA!$P424)","v":0},{"$f":"VALUE(DINAMICA!$Q424)","v":0},{"$f":"VALUE(DINAMICA!$R424)","v":0}]
[{"$f":"VALUE(DINAMICA!$A425)","v":0},{"$f":"VALUE(DINAMICA!$B425)","v":"00:00:00"},{"$f":"VALUE(DINAMICA!$C425)","v":0},{"$f":"DINAMICA!D425","v":0},{"$f":"DINAMICA!E425","v":0},{"$f":"DINAMICA!F425","v":0},{"$f":"DINAMICA!G425","v":0},{"$f":"DINAMICA!H425","v":0},{"$f":"DINAMICA!I425","v":0},{"$f":"DINAMICA!J425","v":0},{"$f":"DINAMICA!K425","v":0},{"$f":"VALUE(DINAMICA!$L425)","v":0},{"$f":"VALUE(DINAMICA!$M425)","v":0},{"$f":"VALUE(DINAMICA!$N425)","v":0},{"$f":"VALUE(DINAMICA!$O425)","v":0},{"$f":"VALUE(DINAMICA!$P425)","v":0},{"$f":"VALUE(DINAMICA!$Q425)","v":0},{"$f":"VALUE(DINAMICA!$R425)","v":0}]
[{"$f":"VALUE(DINAMICA!$A426)","v":0},{"$f":"VALUE(DINAMICA!$B426)","v":"00:00:00"},{"$f":"VALUE(DINAMICA!$C426)","v":0},{"$f":"DINAMICA!D426","v":0},{"$f":"DINAMICA!E426","v":0},{"$f":"DINAMICA!F426","v":0},{"$f":"DINAMICA!G426","v":0},{"$f":"DINAMICA!H426","v":0},{"$f":"DINAMICA!I426","v":0},{"$f":"DINAMICA!J426","v":0},{"$f":"DINAMICA!K426","v":0},{"$f":"VALUE(DINAMICA!$L426)","v":0},{"$f":"VALUE(DINAMICA!$M426)","v":0},{"$f":"VALUE(DINAMICA!$N426)","v":0},{"$f":"VALUE(DINAMICA!$O426)","v":0},{"$f":"VALUE(DINAMICA!$P426)","v":0},{"$f":"VALUE(DINAMICA!$Q426)","v":0},{"$f":"VALUE(DINAMICA!$R426)","v":0}]
[{"$f":"VALUE(DINAMICA!$A427)","v":0},{"$f":"VALUE(DINAMICA!$B427)","v":"00:00:00"},{"$f":"VALUE(DINAMICA!$C427)","v":0},{"$f":"DINAMICA!D427","v":0},{"$f":"DINAMICA!E427","v":0},{"$f":"DINAMICA!F427","v":0},{"$f":"DINAMICA!G427","v":0},{"$f":"DINAMICA!H427","v":0},{"$f":"DINAMICA!I427","v":0},{"$f":"DINAMICA!J427","v":0},{"$f":"DINAMICA!K427","v":0},{"$f":"VALUE(DINAMICA!$L427)","v":0},{"$f":"VALUE(DINAMICA!$M427)","v":0},{"$f":"VALUE(DINAMICA!$N427)","v":0},{"$f":"VALUE(DINAMICA!$O427)","v":0},{"$f":"VALUE(DINAMICA!$P427)","v":0},{"$f":"VALUE(DINAMICA!$Q427)","v":0},{"$f":"VALUE(DINAMICA!$R427)","v":0}]
[{"$f":"VALUE(DINAMICA!$A428)","v":0},{"$f":"VALUE(DINAMICA!$B428)","v":"00:00:00"},{"$f":"VALUE(DINAMICA!$C428)","v":0},{"$f":"DINAMICA!D428","v":0},{"$f":"DINAMICA!E428","v":0},{"$f":"DINAMICA!F428","v":0},{"$f":"DINAMICA!G428","v":0},{"$f":"DINAMICA!H428","v":0},{"$f":"DINAMICA!I428","v":0},{"$f":"DINAMICA!J428","v":0},{"$f":"DINAMICA!K428","v":0},{"$f":"VALUE(DINAMICA!$L428)","v":0},{"$f":"VALUE(DINAMICA!$M428)","v":0},{"$f":"VALUE(DINAMICA!$N428)","v":0},{"$f":"VALUE(DINAMICA!$O428)","v":0},{"$f":"VALUE(DINAMICA!$P428)","v":0},{"$f":"VALUE(DINAMICA!$Q428)","v":0},{"$f":"VALUE(DINAMICA!$R428)","v":0}]
[{"$f":"VALUE(DINAMICA!$A429)","v":0},{"$f":"VALUE(DINAMICA!$B429)","v":"00:00:00"},{"$f":"VALUE(DINAMICA!$C429)","v":0},{"$f":"DINAMICA!D429","v":0},{"$f":"DINAMICA!E429","v":0},{"$f":"DINAMICA!F429","v":0},{"$f":"DINAMICA!G429","v":0},{"$f":"DINAMICA!H429","v":0},{"$f":"DINAMICA!I429","v":0},{"$f":"DINAMICA!J429","v":0},{"$f":"DINAMICA!K429","v":0},{"$f":"VALUE(DINAMICA!$L429)","v":0},{"$f":"VALUE(DINAMICA!$M429)","v":0},{"$f":"VALUE(DINAMICA!$N429)","v":0},{"$f":"VALUE(DINAMICA!$O429)","v":0},{"$f":"VALUE(DINAMICA!$P429)","v":0},{"$f":"VALUE(DINAMICA!$Q429)","v":0},{"$f":"VALUE(DINAMICA!$R429)","v":0}]
[{"$f":"VALUE(DINAMICA!$A430)","v":0},{"$f":"VALUE(DINAMICA!$B430)","v":"00:00:00"},{"$f":"VALUE(DINAMICA!$C430)","v":0},{"$f":"DINAMICA!D430","v":0},{"$f":"DINAMICA!E430","v":0},{"$f":"DINAMICA!F430","v":0},{"$f":"DINAMICA!G430","v":0},{"$f":"DINAMICA!H430","v":0},{"$f":"DINAMICA!I430","v":0},{"$f":"DINAMICA!J430","v":0},{"$f":"DINAMICA!K430","v":0},{"$f":"VALUE(DINAMICA!$L430)","v":0},{"$f":"VALUE(DINAMICA!$M430)","v":0},{"$f":"VALUE(DINAMICA!$N430)","v":0},{"$f":"VALUE(DINAMICA!$O430)","v":0},{"$f":"VALUE(DINAMICA!$P430)","v":0},{"$f":"VALUE(DINAMICA!$Q430)","v":0},{"$f":"VALUE(DINAMICA!$R430)","v":0}]
[{"$f":"VALUE(DINAMICA!$A431)","v":0},{"$f":"VALUE(DINAMICA!$B431)","v":"00:00:00"},{"$f":"VALUE(DINAMICA!$C431)","v":0},{"$f":"DINAMICA!D431","v":0},{"$f":"DINAMICA!E431","v":0},{"$f":"DINAMICA!F431","v":0},{"$f":"DINAMICA!G431","v":0},{"$f":"DINAMICA!H431","v":0},{"$f":"DINAMICA!I431","v":0},{"$f":"DINAMICA!J431","v":0},{"$f":"DINAMICA!K431","v":0},{"$f":"VALUE(DINAMICA!$L431)","v":0},{"$f":"VALUE(DINAMICA!$M431)","v":0},{"$f":"VALUE(DINAMICA!$N431)","v":0},{"$f":"VALUE(DINAMICA!$O431)","v":0},{"$f":"VALUE(DINAMICA!$P431)","v":0},{"$f":"VALUE(DINAMICA!$Q431)","v":0},{"$f":"VALUE(DINAMICA!$R431)","v":0}]
[{"$f":"VALUE(DINAMICA!$A432)","v":0},{"$f":"VALUE(DINAMICA!$B432)","v":"00:00:00"},{"$f":"VALUE(DINAMICA!$C432)","v":0},{"$f":"DINAMICA!D432","v":0},{"$f":"DINAMICA!E432","v":0},{"$f":"DINAMICA!F432","v":0},{"$f":"DINAMICA!G432","v":0},{"$f":"DINAMICA!H432","v":0},{"$f":"DINAMICA!I432","v":0},{"$f":"DINAMICA!J432","v":0},{"$f":"DINAMICA!K432","v":0},{"$f":"VALUE(DINAMICA!$L432)","v":0},{"$f":"VALUE(DINAMICA!$M432)","v":0},{"$f":"VALUE(DINAMICA!$N432)","v":0},{"$f":"VALUE(DINAMICA!$O432)","v":0},{"$f":"VALUE(DINAMICA!$P432)","v":0},{"$f":"VALUE(DINAMICA!$Q432)","v":0},{"$f":"VALUE(DINAMICA!$R432)","v":0}]
[{"$f":"VALUE(DINAMICA!$A433)","v":0},{"$f":"VALUE(DINAMICA!$B433)","v":"00:00:00"},{"$f":"VALUE(DINAMICA!$C433)","v":0},{"$f":"DINAMICA!D433","v":0},{"$f":"DINAMICA!E433","v":0},{"$f":"DINAMICA!F433","v":0},{"$f":"DINAMICA!G433","v":0},{"$f":"DINAMICA!H433","v":0},{"$f":"DINAMICA!I433","v":0},{"$f":"DINAMICA!J433","v":0},{"$f":"DINAMICA!K433","v":0},{"$f":"VALUE(DINAMICA!$L433)","v":0},{"$f":"VALUE(DINAMICA!$M433)","v":0},{"$f":"VALUE(DINAMICA!$N433)","v":0},{"$f":"VALUE(DINAMICA!$O433)","v":0},{"$f":"VALUE(DINAMICA!$P433)","v":0},{"$f":"VALUE(DINAMICA!$Q433)","v":0},{"$f":"VALUE(DINAMICA!$R433)","v":0}]
[{"$f":"VALUE(DINAMICA!$A434)","v":0},{"$f":"VALUE(DINAMICA!$B434)","v":"00:00:00"},{"$f":"VALUE(DINAMICA!$C434)","v":0},{"$f":"DINAMICA!D434","v":0},{"$f":"DINAMICA!E434","v":0},{"$f":"DINAMICA!F434","v":0},{"$f":"DINAMICA!G434","v":0},{"$f":"DINAMICA!H434","v":0},{"$f":"DINAMICA!I434","v":0},{"$f":"DINAMICA!J434","v":0},{"$f":"DINAMICA!K434","v":0},{"$f":"VALUE(DINAMICA!$L434)","v":0},{"$f":"VALUE(DINAMICA!$M434)","v":0},{"$f":"VALUE(DINAMICA!$N434)","v":0},{"$f":"VALUE(DINAMICA!$O434)","v":0},{"$f":"VALUE(DINAMICA!$P434)","v":0},{"$f":"VALUE(DINAMICA!$Q434)","v":0},{"$f":"VALUE(DINAMICA!$R434)","v":0}]
[{"$f":"VALUE(DINAMICA!$A435)","v":0},{"$f":"VALUE(DINAMICA!$B435)","v":"00:00:00"},{"$f":"VALUE(DINAMICA!$C435)","v":0},{"$f":"DINAMICA!D435","v":0},{"$f":"DINAMICA!E435","v":0},{"$f":"DINAMICA!F435","v":0},{"$f":"DINAMICA!G435","v":0},{"$f":"DINAMICA!H435","v":0},{"$f":"DINAMICA!I435","v":0},{"$f":"DINAMICA!J435","v":0},{"$f":"DINAMICA!K435","v":0},{"$f":"VALUE(DINAMICA!$L435)","v":0},{"$f":"VALUE(DINAMICA!$M435)","v":0},{"$f":"VALUE(DINAMICA!$N435)","v":0},{"$f":"VALUE(DINAMICA!$O435)","v":0},{"$f":"VALUE(DINAMICA!$P435)","v":0},{"$f":"VALUE(DINAMICA!$Q435)","v":0},{"$f":"VALUE(DINAMICA!$R435)","v":0}]
[{"$f":"VALUE(DINAMICA!$A436)","v":0},{"$f":"VALUE(DINAMICA!$B436)","v":"00:00:00"},{"$f":"VALUE(DINAMICA!$C436)","v":0},{"$f":"DINAMICA!D436","v":0},{"$f":"DINAMICA!E436","v":0},{"$f":"DINAMICA!F436","v":0},{"$f":"DINAMICA!G436","v":0},{"$f":"DINAMICA!H436","v":0},{"$f":"DINAMICA!I436","v":0},{"$f":"DINAMICA!J436","v":0},{"$f":"DINAMICA!K436","v":0},{"$f":"VALUE(DINAMICA!$L436)","v":0},{"$f":"VALUE(DINAMICA!$M436)","v":0},{"$f":"VALUE(DINAMICA!$N436)","v":0},{"$f":"VALUE(DINAMICA!$O436)","v":0},{"$f":"VALUE(DINAMICA!$P436)","v":0},{"$f":"VALUE(DINAMICA!$Q436)","v":0},{"$f":"VALUE(DINAMICA!$R436)","v":0}]
[{"$f":"VALUE(DINAMICA!$A437)","v":0},{"$f":"VALUE(DINAMICA!$B437)","v":"00:00:00"},{"$f":"VALUE(DINAMICA!$C437)","v":0},{"$f":"DINAMICA!D437","v":0},{"$f":"DINAMICA!E437","v":0},{"$f":"DINAMICA!F437","v":0},{"$f":"DINAMICA!G437","v":0},{"$f":"DINAMICA!H437","v":0},{"$f":"DINAMICA!I437","v":0},{"$f":"DINAMICA!J437","v":0},{"$f":"DINAMICA!K437","v":0},{"$f":"VALUE(DINAMICA!$L437)","v":0},{"$f":"VALUE(DINAMICA!$M437)","v":0},{"$f":"VALUE(DINAMICA!$N437)","v":0},{"$f":"VALUE(DINAMICA!$O437)","v":0},{"$f":"VALUE(DINAMICA!$P437)","v":0},{"$f":"VALUE(DINAMICA!$Q437)","v":0},{"$f":"VALUE(DINAMICA!$R437)","v":0}]
[{"$f":"VALUE(DINAMICA!$A438)","v":0},{"$f":"VALUE(DINAMICA!$B438)","v":"00:00:00"},{"$f":"VALUE(DINAMICA!$C438)","v":0},{"$f":"DINAMICA!D438","v":0},{"$f":"DINAMICA!E438","v":0},{"$f":"DINAMICA!F438","v":0},{"$f":"DINAMICA!G438","v":0},{"$f":"DINAMICA!H438","v":0},{"$f":"DINAMICA!I438","v":0},{"$f":"DINAMICA!J438","v":0},{"$f":"DINAMICA!K438","v":0},{"$f":"VALUE(DINAMICA!$L438)","v":0},{"$f":"VALUE(DINAMICA!$M438)","v":0},{"$f":"VALUE(DINAMICA!$N438)","v":0},{"$f":"VALUE(DINAMICA!$O438)","v":0},{"$f":"VALUE(DINAMICA!$P438)","v":0},{"$f":"VALUE(DINAMICA!$Q438)","v":0},{"$f":"VALUE(DINAMICA!$R438)","v":0}]
[{"$f":"VALUE(DINAMICA!$A439)","v":0},{"$f":"VALUE(DINAMICA!$B439)","v":"00:00:00"},{"$f":"VALUE(DINAMICA!$C439)","v":0},{"$f":"DINAMICA!D439","v":0},{"$f":"DINAMICA!E439","v":0},{"$f":"DINAMICA!F439","v":0},{"$f":"DINAMICA!G439","v":0},{"$f":"DINAMICA!H439","v":0},{"$f":"DINAMICA!I439","v":0},{"$f":"DINAMICA!J439","v":0},{"$f":"DINAMICA!K439","v":0},{"$f":"VALUE(DINAMICA!$L439)","v":0},{"$f":"VALUE(DINAMICA!$M439)","v":0},{"$f":"VALUE(DINAMICA!$N439)","v":0},{"$f":"VALUE(DINAMICA!$O439)","v":0},{"$f":"VALUE(DINAMICA!$P439)","v":0},{"$f":"VALUE(DINAMICA!$Q439)","v":0},{"$f":"VALUE(DINAMICA!$R439)","v":0}]
[{"$f":"VALUE(DINAMICA!$A440)","v":0},{"$f":"VALUE(DINAMICA!$B440)","v":"00:00:00"},{"$f":"VALUE(DINAMICA!$C440)","v":0},{"$f":"DINAMICA!D440","v":0},{"$f":"DINAMICA!E440","v":0},{"$f":"DINAMICA!F440","v":0},{"$f":"DINAMICA!G440","v":0},{"$f":"DINAMICA!H440","v":0},{"$f":"DINAMICA!I440","v":0},{"$f":"DINAMICA!J440","v":0},{"$f":"DINAMICA!K440","v":0},{"$f":"VALUE(DINAMICA!$L440)","v":0},{"$f":"VALUE(DINAMICA!$M440)","v":0},{"$f":"VALUE(DINAMICA!$N440)","v":0},{"$f":"VALUE(DINAMICA!$O440)","v":0},{"$f":"VALUE(DINAMICA!$P440)","v":0},{"$f":"VALUE(DINAMICA!$Q440)","v":0},{"$f":"VALUE(DINAMICA!$R440)","v":0}]
[{"$f":"VALUE(DINAMICA!$A441)","v":0},{"$f":"VALUE(DINAMICA!$B441)","v":"00:00:00"},{"$f":"VALUE(DINAMICA!$C441)","v":0},{"$f":"DINAMICA!D441","v":0},{"$f":"DINAMICA!E441","v":0},{"$f":"DINAMICA!F441","v":0},{"$f":"DINAMICA!G441","v":0},{"$f":"DINAMICA!H441","v":0},{"$f":"DINAMICA!I441","v":0},{"$f":"DINAMICA!J441","v":0},{"$f":"DINAMICA!K441","v":0},{"$f":"VALUE(DINAMICA!$L441)","v":0},{"$f":"VALUE(DINAMICA!$M441)","v":0},{"$f":"VALUE(DINAMICA!$N441)","v":0},{"$f":"VALUE(DINAMICA!$O441)","v":0},{"$f":"VALUE(DINAMICA!$P441)","v":0},{"$f":"VALUE(DINAMICA!$Q441)","v":0},{"$f":"VALUE(DINAMICA!$R441)","v":0}]
[{"$f":"VALUE(DINAMICA!$A442)","v":0},{"$f":"VALUE(DINAMICA!$B442)","v":"00:00:00"},{"$f":"VALUE(DINAMICA!$C442)","v":0},{"$f":"DINAMICA!D442","v":0},{"$f":"DINAMICA!E442","v":0},{"$f":"DINAMICA!F442","v":0},{"$f":"DINAMICA!G442","v":0},{"$f":"DINAMICA!H442","v":0},{"$f":"DINAMICA!I442","v":0},{"$f":"DINAMICA!J442","v":0},{"$f":"DINAMICA!K442","v":0},{"$f":"VALUE(DINAMICA!$L442)","v":0},{"$f":"VALUE(DINAMICA!$M442)","v":0},{"$f":"VALUE(DINAMICA!$N442)","v":0},{"$f":"VALUE(DINAMICA!$O442)","v":0},{"$f":"VALUE(DINAMICA!$P442)","v":0},{"$f":"VALUE(DINAMICA!$Q442)","v":0},{"$f":"VALUE(DINAMICA!$R442)","v":0}]
[{"$f":"VALUE(DINAMICA!$A443)","v":0},{"$f":"VALUE(DINAMICA!$B443)","v":"00:00:00"},{"$f":"VALUE(DINAMICA!$C443)","v":0},{"$f":"DINAMICA!D443","v":0},{"$f":"DINAMICA!E443","v":0},{"$f":"DINAMICA!F443","v":0},{"$f":"DINAMICA!G443","v":0},{"$f":"DINAMICA!H443","v":0},{"$f":"DINAMICA!I443","v":0},{"$f":"DINAMICA!J443","v":0},{"$f":"DINAMICA!K443","v":0},{"$f":"VALUE(DINAMICA!$L443)","v":0},{"$f":"VALUE(DINAMICA!$M443)","v":0},{"$f":"VALUE(DINAMICA!$N443)","v":0},{"$f":"VALUE(DINAMICA!$O443)","v":0},{"$f":"VALUE(DINAMICA!$P443)","v":0},{"$f":"VALUE(DINAMICA!$Q443)","v":0},{"$f":"VALUE(DINAMICA!$R443)","v":0}]
[{"$f":"VALUE(DINAMICA!$A444)","v":0},{"$f":"VALUE(DINAMICA!$B444)","v":"00:00:00"},{"$f":"VALUE(DINAMICA!$C444)","v":0},{"$f":"DINAMICA!D444","v":0},{"$f":"DINAMICA!E444","v":0},{"$f":"DINAMICA!F444","v":0},{"$f":"DINAMICA!G444","v":0},{"$f":"DINAMICA!H444","v":0},{"$f":"DINAMICA!I444","v":0},{"$f":"DINAMICA!J444","v":0},{"$f":"DINAMICA!K444","v":0},{"$f":"VALUE(DINAMICA!$L444)","v":0},{"$f":"VALUE(DINAMICA!$M444)","v":0},{"$f":"VALUE(DINAMICA!$N444)","v":0},{"$f":"VALUE(DINAMICA!$O444)","v":0},{"$f":"VALUE(DINAMICA!$P444)","v":0},{"$f":"VALUE(DINAMICA!$Q444)","v":0},{"$f":"VALUE(DINAMICA!$R444)","v":0}]
[{"$f":"VALUE(DINAMICA!$A445)","v":0},{"$f":"VALUE(DINAMICA!$B445)","v":"00:00:00"},{"$f":"VALUE(DINAMICA!$C445)","v":0},{"$f":"DINAMICA!D445","v":0},{"$f":"DINAMICA!E445","v":0},{"$f":"DINAMICA!F445","v":0},{"$f":"DINAMICA!G445","v":0},{"$f":"DINAMICA!H445","v":0},{"$f":"DINAMICA!I445","v":0},{"$f":"DINAMICA!J445","v":0},{"$f":"DINAMICA!K445","v":0},{"$f":"VALUE(DINAMICA!$L445)","v":0},{"$f":"VALUE(DINAMICA!$M445)","v":0},{"$f":"VALUE(DINAMICA!$N445)","v":0},{"$f":"VALUE(DINAMICA!$O445)","v":0},{"$f":"VALUE(DINAMICA!$P445)","v":0},{"$f":"VALUE(DINAMICA!$Q445)","v":0},{"$f":"VALUE(DINAMICA!$R445)","v":0}]
[{"$f":"VALUE(DINAMICA!$A446)","v":0},{"$f":"VALUE(DINAMICA!$B446)","v":"00:00:00"},{"$f":"VALUE(DINAMICA!$C446)","v":0},{"$f":"DINAMICA!D446","v":0},{"$f":"DINAMICA!E446","v":0},{"$f":"DINAMICA!F446","v":0},{"$f":"DINAMICA!G446","v":0},{"$f":"DINAMICA!H446","v":0},{"$f":"DINAMICA!I446","v":0},{"$f":"DINAMICA!J446","v":0},{"$f":"DINAMICA!K446","v":0},{"$f":"VALUE(DINAMICA!$L446)","v":0},{"$f":"VALUE(DINAMICA!$M446)","v":0},{"$f":"VALUE(DINAMICA!$N446)","v":0},{"$f":"VALUE(DINAMICA!$O446)","v":0},{"$f":"VALUE(DINAMICA!$P446)","v":0},{"$f":"VALUE(DINAMICA!$Q446)","v":0},{"$f":"VALUE(DINAMICA!$R446)","v":0}]
[{"$f":"VALUE(DINAMICA!$A447)","v":0},{"$f":"VALUE(DINAMICA!$B447)","v":"00:00:00"},{"$f":"VALUE(DINAMICA!$C447)","v":0},{"$f":"DINAMICA!D447","v":0},{"$f":"DINAMICA!E447","v":0},{"$f":"DINAMICA!F447","v":0},{"$f":"DINAMICA!G447","v":0},{"$f":"DINAMICA!H447","v":0},{"$f":"DINAMICA!I447","v":0},{"$f":"DINAMICA!J447","v":0},{"$f":"DINAMICA!K447","v":0},{"$f":"VALUE(DINAMICA!$L447)","v":0},{"$f":"VALUE(DINAMICA!$M447)","v":0},{"$f":"VALUE(DINAMICA!$N447)","v":0},{"$f":"VALUE(DINAMICA!$O447)","v":0},{"$f":"VALUE(DINAMICA!$P447)","v":0},{"$f":"VALUE(DINAMICA!$Q447)","v":0},{"$f":"VALUE(DINAMICA!$R447)","v":0}]
[{"$f":"VALUE(DINAMICA!$A448)","v":0},{"$f":"VALUE(DINAMICA!$B448)","v":"00:00:00"},{"$f":"VALUE(DINAMICA!$C448)","v":0},{"$f":"DINAMICA!D448","v":0},{"$f":"DINAMICA!E448","v":0},{"$f":"DINAMICA!F448","v":0},{"$f":"DINAMICA!G448","v":0},{"$f":"DINAMICA!H448","v":0},{"$f":"DINAMICA!I448","v":0},{"$f":"DINAMICA!J448","v":0},{"$f":"DINAMICA!K448","v":0},{"$f":"VALUE(DINAMICA!$L448)","v":0},{"$f":"VALUE(DINAMICA!$M448)","v":0},{"$f":"VALUE(DINAMICA!$N448)","v":0},{"$f":"VALUE(DINAMICA!$O448)","v":0},{"$f":"VALUE(DINAMICA!$P448)","v":0},{"$f":"VALUE(DINAMICA!$Q448)","v":0},{"$f":"VALUE(DINAMICA!$R448)","v":0}]
[{"$f":"VALUE(DINAMICA!$A449)","v":0},{"$f":"VALUE(DINAMICA!$B449)","v":"00:00:00"},{"$f":"VALUE(DINAMICA!$C449)","v":0},{"$f":"DINAMICA!D449","v":0},{"$f":"DINAMICA!E449","v":0},{"$f":"DINAMICA!F449","v":0},{"$f":"DINAMICA!G449","v":0},{"$f":"DINAMICA!H449","v":0},{"$f":"DINAMICA!I449","v":0},{"$f":"DINAMICA!J449","v":0},{"$f":"DINAMICA!K449","v":0},{"$f":"VALUE(DINAMICA!$L449)","v":0},{"$f":"VALUE(DINAMICA!$M449)","v":0},{"$f":"VALUE(DINAMICA!$N449)","v":0},{"$f":"VALUE(DINAMICA!$O449)","v":0},{"$f":"VALUE(DINAMICA!$P449)","v":0},{"$f":"VALUE(DINAMICA!$Q449)","v":0},{"$f":"VALUE(DINAMICA!$R449)","v":0}]
[{"$f":"VALUE(DINAMICA!$A450)","v":0},{"$f":"VALUE(DINAMICA!$B450)","v":"00:00:00"},{"$f":"VALUE(DINAMICA!$C450)","v":0},{"$f":"DINAMICA!D450","v":0},{"$f":"DINAMICA!E450","v":0},{"$f":"DINAMICA!F450","v":0},{"$f":"DINAMICA!G450","v":0},{"$f":"DINAMICA!H450","v":0},{"$f":"DINAMICA!I450","v":0},{"$f":"DINAMICA!J450","v":0},{"$f":"DINAMICA!K450","v":0},{"$f":"VALUE(DINAMICA!$L450)","v":0},{"$f":"VALUE(DINAMICA!$M450)","v":0},{"$f":"VALUE(DINAMICA!$N450)","v":0},{"$f":"VALUE(DINAMICA!$O450)","v":0},{"$f":"VALUE(DINAMICA!$P450)","v":0},{"$f":"VALUE(DINAMICA!$Q450)","v":0},{"$f":"VALUE(DINAMICA!$R450)","v":0}]
[{"$f":"VALUE(DINAMICA!$A451)","v":0},{"$f":"VALUE(DINAMICA!$B451)","v":"00:00:00"},{"$f":"VALUE(DINAMICA!$C451)","v":0},{"$f":"DINAMICA!D451","v":0},{"$f":"DINAMICA!E451","v":0},{"$f":"DINAMICA!F451","v":0},{"$f":"DINAMICA!G451","v":0},{"$f":"DINAMICA!H451","v":0},{"$f":"DINAMICA!I451","v":0},{"$f":"DINAMICA!J451","v":0},{"$f":"DINAMICA!K451","v":0},{"$f":"VALUE(DINAMICA!$L451)","v":0},{"$f":"VALUE(DINAMICA!$M451)","v":0},{"$f":"VALUE(DINAMICA!$N451)","v":0},{"$f":"VALUE(DINAMICA!$O451)","v":0},{"$f":"VALUE(DINAMICA!$P451)","v":0},{"$f":"VALUE(DINAMICA!$Q451)","v":0},{"$f":"VALUE(DINAMICA!$R451)","v":0}]
[{"$f":"VALUE(DINAMICA!$A452)","v":0},{"$f":"VALUE(DINAMICA!$B452)","v":"00:00:00"},{"$f":"VALUE(DINAMICA!$C452)","v":0},{"$f":"DINAMICA!D452","v":0},{"$f":"DINAMICA!E452","v":0},{"$f":"DINAMICA!F452","v":0},{"$f":"DINAMICA!G452","v":0},{"$f":"DINAMICA!H452","v":0},{"$f":"DINAMICA!I452","v":0},{"$f":"DINAMICA!J452","v":0},{"$f":"DINAMICA!K452","v":0},{"$f":"VALUE(DINAMICA!$L452)","v":0},{"$f":"VALUE(DINAMICA!$M452)","v":0},{"$f":"VALUE(DINAMICA!$N452)","v":0},{"$f":"VALUE(DINAMICA!$O452)","v":0},{"$f":"VALUE(DINAMICA!$P452)","v":0},{"$f":"VALUE(DINAMICA!$Q452)","v":0},{"$f":"VALUE(DINAMICA!$R452)","v":0}]
[{"$f":"VALUE(DINAMICA!$A453)","v":0},{"$f":"VALUE(DINAMICA!$B453)","v":"00:00:00"},{"$f":"VALUE(DINAMICA!$C453)","v":0},{"$f":"DINAMICA!D453","v":0},{"$f":"DINAMICA!E453","v":0},{"$f":"DINAMICA!F453","v":0},{"$f":"DINAMICA!G453","v":0},{"$f":"DINAMICA!H453","v":0},{"$f":"DINAMICA!I453","v":0},{"$f":"DINAMICA!J453","v":0},{"$f":"DINAMICA!K453","v":0},{"$f":"VALUE(DINAMICA!$L453)","v":0},{"$f":"VALUE(DINAMICA!$M453)","v":0},{"$f":"VALUE(DINAMICA!$N453)","v":0},{"$f":"VALUE(DINAMICA!$O453)","v":0},{"$f":"VALUE(DINAMICA!$P453)","v":0},{"$f":"VALUE(DINAMICA!$Q453)","v":0},{"$f":"VALUE(DINAMICA!$R453)","v":0}]
[{"$f":"VALUE(DINAMICA!$A454)","v":0},{"$f":"VALUE(DINAMICA!$B454)","v":"00:00:00"},{"$f":"VALUE(DINAMICA!$C454)","v":0},{"$f":"DINAMICA!D454","v":0},{"$f":"DINAMICA!E454","v":0},{"$f":"DINAMICA!F454","v":0},{"$f":"DINAMICA!G454","v":0},{"$f":"DINAMICA!H454","v":0},{"$f":"DINAMICA!I454","v":0},{"$f":"DINAMICA!J454","v":0},{"$f":"DINAMICA!K454","v":0},{"$f":"VALUE(DINAMICA!$L454)","v":0},{"$f":"VALUE(DINAMICA!$M454)","v":0},{"$f":"VALUE(DINAMICA!$N454)","v":0},{"$f":"VALUE(DINAMICA!$O454)","v":0},{"$f":"VALUE(DINAMICA!$P454)","v":0},{"$f":"VALUE(DINAMICA!$Q454)","v":0},{"$f":"VALUE(DINAMICA!$R454)","v":0}]
[{"$f":"VALUE(DINAMICA!$A455)","v":0},{"$f":"VALUE(DINAMICA!$B455)","v":"00:00:00"},{"$f":"VALUE(DINAMICA!$C455)","v":0},{"$f":"DINAMICA!D455","v":0},{"$f":"DINAMICA!E455","v":0},{"$f":"DINAMICA!F455","v":0},{"$f":"DINAMICA!G455","v":0},{"$f":"DINAMICA!H455","v":0},{"$f":"DINAMICA!I455","v":0},{"$f":"DINAMICA!J455","v":0},{"$f":"DINAMICA!K455","v":0},{"$f":"VALUE(DINAMICA!$L455)","v":0},{"$f":"VALUE(DINAMICA!$M455)","v":0},{"$f":"VALUE(DINAMICA!$N455)","v":0},{"$f":"VALUE(DINAMICA!$O455)","v":0},{"$f":"VALUE(DINAMICA!$P455)","v":0},{"$f":"VALUE(DINAMICA!$Q455)","v":0},{"$f":"VALUE(DINAMICA!$R455)","v":0}]
[{"$f":"VALUE(DINAMICA!$A456)","v":0},{"$f":"VALUE(DINAMICA!$B456)","v":"00:00:00"},{"$f":"VALUE(DINAMICA!$C456)","v":0},{"$f":"DINAMICA!D456","v":0},{"$f":"DINAMICA!E456","v":0},{"$f":"DINAMICA!F456","v":0},{"$f":"DINAMICA!G456","v":0},{"$f":"DINAMICA!H456","v":0},{"$f":"DINAMICA!I456","v":0},{"$f":"DINAMICA!J456","v":0},{"$f":"DINAMICA!K456","v":0},{"$f":"VALUE(DINAMICA!$L456)","v":0},{"$f":"VALUE(DINAMICA!$M456)","v":0},{"$f":"VALUE(DINAMICA!$N456)","v":0},{"$f":"VALUE(DINAMICA!$O456)","v":0},{"$f":"VALUE(DINAMICA!$P456)","v":0},{"$f":"VALUE(DINAMICA!$Q456)","v":0},{"$f":"VALUE(DINAMICA!$R456)","v":0}]
[{"$f":"VALUE(DINAMICA!$A457)","v":0},{"$f":"VALUE(DINAMICA!$B457)","v":"00:00:00"},{"$f":"VALUE(DINAMICA!$C457)","v":0},{"$f":"DINAMICA!D457","v":0},{"$f":"DINAMICA!E457","v":0},{"$f":"DINAMICA!F457","v":0},{"$f":"DINAMICA!G457","v":0},{"$f":"DINAMICA!H457","v":0},{"$f":"DINAMICA!I457","v":0},{"$f":"DINAMICA!J457","v":0},{"$f":"DINAMICA!K457","v":0},{"$f":"VALUE(DINAMICA!$L457)","v":0},{"$f":"VALUE(DINAMICA!$M457)","v":0},{"$f":"VALUE(DINAMICA!$N457)","v":0},{"$f":"VALUE(DINAMICA!$O457)","v":0},{"$f":"VALUE(DINAMICA!$P457)","v":0},{"$f":"VALUE(DINAMICA!$Q457)","v":0},{"$f":"VALUE(DINAMICA!$R457)","v":0}]
[{"$f":"VALUE(DINAMICA!$A458)","v":0},{"$f":"VALUE(DINAMICA!$B458)","v":"00:00:00"},{"$f":"VALUE(DINAMICA!$C458)","v":0},{"$f":"DINAMICA!D458","v":0},{"$f":"DINAMICA!E458","v":0},{"$f":"DINAMICA!F458","v":0},{"$f":"DINAMICA!G458","v":0},{"$f":"DINAMICA!H458","v":0},{"$f":"DINAMICA!I458","v":0},{"$f":"DINAMICA!J458","v":0},{"$f":"DINAMICA!K458","v":0},{"$f":"VALUE(DINAMICA!$L458)","v":0},{"$f":"VALUE(DINAMICA!$M458)","v":0},{"$f":"VALUE(DINAMICA!$N458)","v":0},{"$f":"VALUE(DINAMICA!$O458)","v":0},{"$f":"VALUE(DINAMICA!$P458)","v":0},{"$f":"VALUE(DINAMICA!$Q458)","v":0},{"$f":"VALUE(DINAMICA!$R458)","v":0}]
[{"$f":"VALUE(DINAMICA!$A459)","v":0},{"$f":"VALUE(DINAMICA!$B459)","v":"00:00:00"},{"$f":"VALUE(DINAMICA!$C459)","v":0},{"$f":"DINAMICA!D459","v":0},{"$f":"DINAMICA!E459","v":0},{"$f":"DINAMICA!F459","v":0},{"$f":"DINAMICA!G459","v":0},{"$f":"DINAMICA!H459","v":0},{"$f":"DINAMICA!I459","v":0},{"$f":"DINAMICA!J459","v":0},{"$f":"DINAMICA!K459","v":0},{"$f":"VALUE(DINAMICA!$L459)","v":0},{"$f":"VALUE(DINAMICA!$M459)","v":0},{"$f":"VALUE(DINAMICA!$N459)","v":0},{"$f":"VALUE(DINAMICA!$O459)","v":0},{"$f":"VALUE(DINAMICA!$P459)","v":0},{"$f":"VALUE(DINAMICA!$Q459)","v":0},{"$f":"VALUE(DINAMICA!$R459)","v":0}]
[{"$f":"VALUE(DINAMICA!$A460)","v":0},{"$f":"VALUE(DINAMICA!$B460)","v":"00:00:00"},{"$f":"VALUE(DINAMICA!$C460)","v":0},{"$f":"DINAMICA!D460","v":0},{"$f":"DINAMICA!E460","v":0},{"$f":"DINAMICA!F460","v":0},{"$f":"DINAMICA!G460","v":0},{"$f":"DINAMICA!H460","v":0},{"$f":"DINAMICA!I460","v":0},{"$f":"DINAMICA!J460","v":0},{"$f":"DINAMICA!K460","v":0},{"$f":"VALUE(DINAMICA!$L460)","v":0},{"$f":"VALUE(DINAMICA!$M460)","v":0},{"$f":"VALUE(DINAMICA!$N460)","v":0},{"$f":"VALUE(DINAMICA!$O460)","v":0},{"$f":"VALUE(DINAMICA!$P460)","v":0},{"$f":"VALUE(DINAMICA!$Q460)","v":0},{"$f":"VALUE(DINAMICA!$R460)","v":0}]
[{"$f":"VALUE(DINAMICA!$A461)","v":0},{"$f":"VALUE(DINAMICA!$B461)","v":"00:00:00"},{"$f":"VALUE(DINAMICA!$C461)","v":0},{"$f":"DINAMICA!D461","v":0},{"$f":"DINAMICA!E461","v":0},{"$f":"DINAMICA!F461","v":0},{"$f":"DINAMICA!G461","v":0},{"$f":"DINAMICA!H461","v":0},{"$f":"DINAMICA!I461","v":0},{"$f":"DINAMICA!J461","v":0},{"$f":"DINAMICA!K461","v":0},{"$f":"VALUE(DINAMICA!$L461)","v":0},{"$f":"VALUE(DINAMICA!$M461)","v":0},{"$f":"VALUE(DINAMICA!$N461)","v":0},{"$f":"VALUE(DINAMICA!$O461)","v":0},{"$f":"VALUE(DINAMICA!$P461)","v":0},{"$f":"VALUE(DINAMICA!$Q461)","v":0},{"$f":"VALUE(DINAMICA!$R461)","v":0}]
[{"$f":"VALUE(DINAMICA!$A462)","v":0},{"$f":"VALUE(DINAMICA!$B462)","v":"00:00:00"},{"$f":"VALUE(DINAMICA!$C462)","v":0},{"$f":"DINAMICA!D462","v":0},{"$f":"DINAMICA!E462","v":0},{"$f":"DINAMICA!F462","v":0},{"$f":"DINAMICA!G462","v":0},{"$f":"DINAMICA!H462","v":0},{"$f":"DINAMICA!I462","v":0},{"$f":"DINAMICA!J462","v":0},{"$f":"DINAMICA!K462","v":0},{"$f":"VALUE(DINAMICA!$L462)","v":0},{"$f":"VALUE(DINAMICA!$M462)","v":0},{"$f":"VALUE(DINAMICA!$N462)","v":0},{"$f":"VALUE(DINAMICA!$O462)","v":0},{"$f":"VALUE(DINAMICA!$P462)","v":0},{"$f":"VALUE(DINAMICA!$Q462)","v":0},{"$f":"VALUE(DINAMICA!$R462)","v":0}]
[{"$f":"VALUE(DINAMICA!$A463)","v":0},{"$f":"VALUE(DINAMICA!$B463)","v":"00:00:00"},{"$f":"VALUE(DINAMICA!$C463)","v":0},{"$f":"DINAMICA!D463","v":0},{"$f":"DINAMICA!E463","v":0},{"$f":"DINAMICA!F463","v":0},{"$f":"DINAMICA!G463","v":0},{"$f":"DINAMICA!H463","v":0},{"$f":"DINAMICA!I463","v":0},{"$f":"DINAMICA!J463","v":0},{"$f":"DINAMICA!K463","v":0},{"$f":"VALUE(DINAMICA!$L463)","v":0},{"$f":"VALUE(DINAMICA!$M463)","v":0},{"$f":"VALUE(DINAMICA!$N463)","v":0},{"$f":"VALUE(DINAMICA!$O463)","v":0},{"$f":"VALUE(DINAMICA!$P463)","v":0},{"$f":"VALUE(DINAMICA!$Q463)","v":0},{"$f":"VALUE(DINAMICA!$R463)","v":0}]
[{"$f":"VALUE(DINAMICA!$A464)","v":0},{"$f":"VALUE(DINAMICA!$B464)","v":"00:00:00"},{"$f":"VALUE(DINAMICA!$C464)","v":0},{"$f":"DINAMICA!D464","v":0},{"$f":"DINAMICA!E464","v":0},{"$f":"DINAMICA!F464","v":0},{"$f":"DINAMICA!G464","v":0},{"$f":"DINAMICA!H464","v":0},{"$f":"DINAMICA!I464","v":0},{"$f":"DINAMICA!J464","v":0},{"$f":"DINAMICA!K464","v":0},{"$f":"VALUE(DINAMICA!$L464)","v":0},{"$f":"VALUE(DINAMICA!$M464)","v":0},{"$f":"VALUE(DINAMICA!$N464)","v":0},{"$f":"VALUE(DINAMICA!$O464)","v":0},{"$f":"VALUE(DINAMICA!$P464)","v":0},{"$f":"VALUE(DINAMICA!$Q464)","v":0},{"$f":"VALUE(DINAMICA!$R464)","v":0}]
[{"$f":"VALUE(DINAMICA!$A465)","v":0},{"$f":"VALUE(DINAMICA!$B465)","v":"00:00:00"},{"$f":"VALUE(DINAMICA!$C465)","v":0},{"$f":"DINAMICA!D465","v":0},{"$f":"DINAMICA!E465","v":0},{"$f":"DINAMICA!F465","v":0},{"$f":"DINAMICA!G465","v":0},{"$f":"DINAMICA!H465","v":0},{"$f":"DINAMICA!I465","v":0},{"$f":"DINAMICA!J465","v":0},{"$f":"DINAMICA!K465","v":0},{"$f":"VALUE(DINAMICA!$L465)","v":0},{"$f":"VALUE(DINAMICA!$M465)","v":0},{"$f":"VALUE(DINAMICA!$N465)","v":0},{"$f":"VALUE(DINAMICA!$O465)","v":0},{"$f":"VALUE(DINAMICA!$P465)","v":0},{"$f":"VALUE(DINAMICA!$Q465)","v":0},{"$f":"VALUE(DINAMICA!$R465)","v":0}]
[{"$f":"VALUE(DINAMICA!$A466)","v":0},{"$f":"VALUE(DINAMICA!$B466)","v":"00:00:00"},{"$f":"VALUE(DINAMICA!$C466)","v":0},{"$f":"DINAMICA!D466","v":0},{"$f":"DINAMICA!E466","v":0},{"$f":"DINAMICA!F466","v":0},{"$f":"DINAMICA!G466","v":0},{"$f":"DINAMICA!H466","v":0},{"$f":"DINAMICA!I466","v":0},{"$f":"DINAMICA!J466","v":0},{"$f":"DINAMICA!K466","v":0},{"$f":"VALUE(DINAMICA!$L466)","v":0},{"$f":"VALUE(DINAMICA!$M466)","v":0},{"$f":"VALUE(DINAMICA!$N466)","v":0},{"$f":"VALUE(DINAMICA!$O466)","v":0},{"$f":"VALUE(DINAMICA!$P466)","v":0},{"$f":"VALUE(DINAMICA!$Q466)","v":0},{"$f":"VALUE(DINAMICA!$R466)","v":0}]
[{"$f":"VALUE(DINAMICA!$A467)","v":0},{"$f":"VALUE(DINAMICA!$B467)","v":"00:00:00"},{"$f":"VALUE(DINAMICA!$C467)","v":0},{"$f":"DINAMICA!D467","v":0},{"$f":"DINAMICA!E467","v":0},{"$f":"DINAMICA!F467","v":0},{"$f":"DINAMICA!G467","v":0},{"$f":"DINAMICA!H467","v":0},{"$f":"DINAMICA!I467","v":0},{"$f":"DINAMICA!J467","v":0},{"$f":"DINAMICA!K467","v":0},{"$f":"VALUE(DINAMICA!$L467)","v":0},{"$f":"VALUE(DINAMICA!$M467)","v":0},{"$f":"VALUE(DINAMICA!$N467)","v":0},{"$f":"VALUE(DINAMICA!$O467)","v":0},{"$f":"VALUE(DINAMICA!$P467)","v":0},{"$f":"VALUE(DINAMICA!$Q467)","v":0},{"$f":"VALUE(DINAMICA!$R467)","v":0}]
[{"$f":"VALUE(DINAMICA!$A468)","v":0},{"$f":"VALUE(DINAMICA!$B468)","v":"00:00:00"},{"$f":"VALUE(DINAMICA!$C468)","v":0},{"$f":"DINAMICA!D468","v":0},{"$f":"DINAMICA!E468","v":0},{"$f":"DINAMICA!F468","v":0},{"$f":"DINAMICA!G468","v":0},{"$f":"DINAMICA!H468","v":0},{"$f":"DINAMICA!I468","v":0},{"$f":"DINAMICA!J468","v":0},{"$f":"DINAMICA!K468","v":0},{"$f":"VALUE(DINAMICA!$L468)","v":0},{"$f":"VALUE(DINAMICA!$M468)","v":0},{"$f":"VALUE(DINAMICA!$N468)","v":0},{"$f":"VALUE(DINAMICA!$O468)","v":0},{"$f":"VALUE(DINAMICA!$P468)","v":0},{"$f":"VALUE(DINAMICA!$Q468)","v":0},{"$f":"VALUE(DINAMICA!$R468)","v":0}]
[{"$f":"VALUE(DINAMICA!$A469)","v":0},{"$f":"VALUE(DINAMICA!$B469)","v":"00:00:00"},{"$f":"VALUE(DINAMICA!$C469)","v":0},{"$f":"DINAMICA!D469","v":0},{"$f":"DINAMICA!E469","v":0},{"$f":"DINAMICA!F469","v":0},{"$f":"DINAMICA!G469","v":0},{"$f":"DINAMICA!H469","v":0},{"$f":"DINAMICA!I469","v":0},{"$f":"DINAMICA!J469","v":0},{"$f":"DINAMICA!K469","v":0},{"$f":"VALUE(DINAMICA!$L469)","v":0},{"$f":"VALUE(DINAMICA!$M469)","v":0},{"$f":"VALUE(DINAMICA!$N469)","v":0},{"$f":"VALUE(DINAMICA!$O469)","v":0},{"$f":"VALUE(DINAMICA!$P469)","v":0},{"$f":"VALUE(DINAMICA!$Q469)","v":0},{"$f":"VALUE(DINAMICA!$R469)","v":0}]
[{"$f":"VALUE(DINAMICA!$A470)","v":0},{"$f":"VALUE(DINAMICA!$B470)","v":"00:00:00"},{"$f":"VALUE(DINAMICA!$C470)","v":0},{"$f":"DINAMICA!D470","v":0},{"$f":"DINAMICA!E470","v":0},{"$f":"DINAMICA!F470","v":0},{"$f":"DINAMICA!G470","v":0},{"$f":"DINAMICA!H470","v":0},{"$f":"DINAMICA!I470","v":0},{"$f":"DINAMICA!J470","v":0},{"$f":"DINAMICA!K470","v":0},{"$f":"VALUE(DINAMICA!$L470)","v":0},{"$f":"VALUE(DINAMICA!$M470)","v":0},{"$f":"VALUE(DINAMICA!$N470)","v":0},{"$f":"VALUE(DINAMICA!$O470)","v":0},{"$f":"VALUE(DINAMICA!$P470)","v":0},{"$f":"VALUE(DINAMICA!$Q470)","v":0},{"$f":"VALUE(DINAMICA!$R470)","v":0}]
[{"$f":"VALUE(DINAMICA!$A471)","v":0},{"$f":"VALUE(DINAMICA!$B471)","v":"00:00:00"},{"$f":"VALUE(DINAMICA!$C471)","v":0},{"$f":"DINAMICA!D471","v":0},{"$f":"DINAMICA!E471","v":0},{"$f":"DINAMICA!F471","v":0},{"$f":"DINAMICA!G471","v":0},{"$f":"DINAMICA!H471","v":0},{"$f":"DINAMICA!I471","v":0},{"$f":"DINAMICA!J471","v":0},{"$f":"DINAMICA!K471","v":0},{"$f":"VALUE(DINAMICA!$L471)","v":0},{"$f":"VALUE(DINAMICA!$M471)","v":0},{"$f":"VALUE(DINAMICA!$N471)","v":0},{"$f":"VALUE(DINAMICA!$O471)","v":0},{"$f":"VALUE(DINAMICA!$P471)","v":0},{"$f":"VALUE(DINAMICA!$Q471)","v":0},{"$f":"VALUE(DINAMICA!$R471)","v":0}]
[{"$f":"VALUE(DINAMICA!$A472)","v":0},{"$f":"VALUE(DINAMICA!$B472)","v":"00:00:00"},{"$f":"VALUE(DINAMICA!$C472)","v":0},{"$f":"DINAMICA!D472","v":0},{"$f":"DINAMICA!E472","v":0},{"$f":"DINAMICA!F472","v":0},{"$f":"DINAMICA!G472","v":0},{"$f":"DINAMICA!H472","v":0},{"$f":"DINAMICA!I472","v":0},{"$f":"DINAMICA!J472","v":0},{"$f":"DINAMICA!K472","v":0},{"$f":"VALUE(DINAMICA!$L472)","v":0},{"$f":"VALUE(DINAMICA!$M472)","v":0},{"$f":"VALUE(DINAMICA!$N472)","v":0},{"$f":"VALUE(DINAMICA!$O472)","v":0},{"$f":"VALUE(DINAMICA!$P472)","v":0},{"$f":"VALUE(DINAMICA!$Q472)","v":0},{"$f":"VALUE(DINAMICA!$R472)","v":0}]
[{"$f":"VALUE(DINAMICA!$A473)","v":0},{"$f":"VALUE(DINAMICA!$B473)","v":"00:00:00"},{"$f":"VALUE(DINAMICA!$C473)","v":0},{"$f":"DINAMICA!D473","v":0},{"$f":"DINAMICA!E473","v":0},{"$f":"DINAMICA!F473","v":0},{"$f":"DINAMICA!G473","v":0},{"$f":"DINAMICA!H473","v":0},{"$f":"DINAMICA!I473","v":0},{"$f":"DINAMICA!J473","v":0},{"$f":"DINAMICA!K473","v":0},{"$f":"VALUE(DINAMICA!$L473)","v":0},{"$f":"VALUE(DINAMICA!$M473)","v":0},{"$f":"VALUE(DINAMICA!$N473)","v":0},{"$f":"VALUE(DINAMICA!$O473)","v":0},{"$f":"VALUE(DINAMICA!$P473)","v":0},{"$f":"VALUE(DINAMICA!$Q473)","v":0},{"$f":"VALUE(DINAMICA!$R473)","v":0}]
[{"$f":"VALUE(DINAMICA!$A474)","v":0},{"$f":"VALUE(DINAMICA!$B474)","v":"00:00:00"},{"$f":"VALUE(DINAMICA!$C474)","v":0},{"$f":"DINAMICA!D474","v":0},{"$f":"DINAMICA!E474","v":0},{"$f":"DINAMICA!F474","v":0},{"$f":"DINAMICA!G474","v":0},{"$f":"DINAMICA!H474","v":0},{"$f":"DINAMICA!I474","v":0},{"$f":"DINAMICA!J474","v":0},{"$f":"DINAMICA!K474","v":0},{"$f":"VALUE(DINAMICA!$L474)","v":0},{"$f":"VALUE(DINAMICA!$M474)","v":0},{"$f":"VALUE(DINAMICA!$N474)","v":0},{"$f":"VALUE(DINAMICA!$O474)","v":0},{"$f":"VALUE(DINAMICA!$P474)","v":0},{"$f":"VALUE(DINAMICA!$Q474)","v":0},{"$f":"VALUE(DINAMICA!$R474)","v":0}]
[{"$f":"VALUE(DINAMICA!$A475)","v":0},{"$f":"VALUE(DINAMICA!$B475)","v":"00:00:00"},{"$f":"VALUE(DINAMICA!$C475)","v":0},{"$f":"DINAMICA!D475","v":0},{"$f":"DINAMICA!E475","v":0},{"$f":"DINAMICA!F475","v":0},{"$f":"DINAMICA!G475","v":0},{"$f":"DINAMICA!H475","v":0},{"$f":"DINAMICA!I475","v":0},{"$f":"DINAMICA!J475","v":0},{"$f":"DINAMICA!K475","v":0},{"$f":"VALUE(DINAMICA!$L475)","v":0},{"$f":"VALUE(DINAMICA!$M475)","v":0},{"$f":"VALUE(DINAMICA!$N475)","v":0},{"$f":"VALUE(DINAMICA!$O475)","v":0},{"$f":"VALUE(DINAMICA!$P475)","v":0},{"$f":"VALUE(DINAMICA!$Q475)","v":0},{"$f":"VALUE(DINAMICA!$R475)","v":0}]
[{"$f":"VALUE(DINAMICA!$A476)","v":0},{"$f":"VALUE(DINAMICA!$B476)","v":"00:00:00"},{"$f":"VALUE(DINAMICA!$C476)","v":0},{"$f":"DINAMICA!D476","v":0},{"$f":"DINAMICA!E476","v":0},{"$f":"DINAMICA!F476","v":0},{"$f":"DINAMICA!G476","v":0},{"$f":"DINAMICA!H476","v":0},{"$f":"DINAMICA!I476","v":0},{"$f":"DINAMICA!J476","v":0},{"$f":"DINAMICA!K476","v":0},{"$f":"VALUE(DINAMICA!$L476)","v":0},{"$f":"VALUE(DINAMICA!$M476)","v":0},{"$f":"VALUE(DINAMICA!$N476)","v":0},{"$f":"VALUE(DINAMICA!$O476)","v":0},{"$f":"VALUE(DINAMICA!$P476)","v":0},{"$f":"VALUE(DINAMICA!$Q476)","v":0},{"$f":"VALUE(DINAMICA!$R476)","v":0}]
[{"$f":"VALUE(DINAMICA!$A477)","v":0},{"$f":"VALUE(DINAMICA!$B477)","v":"00:00:00"},{"$f":"VALUE(DINAMICA!$C477)","v":0},{"$f":"DINAMICA!D477","v":0},{"$f":"DINAMICA!E477","v":0},{"$f":"DINAMICA!F477","v":0},{"$f":"DINAMICA!G477","v":0},{"$f":"DINAMICA!H477","v":0},{"$f":"DINAMICA!I477","v":0},{"$f":"DINAMICA!J477","v":0},{"$f":"DINAMICA!K477","v":0},{"$f":"VALUE(DINAMICA!$L477)","v":0},{"$f":"VALUE(DINAMICA!$M477)","v":0},{"$f":"VALUE(DINAMICA!$N477)","v":0},{"$f":"VALUE(DINAMICA!$O477)","v":0},{"$f":"VALUE(DINAMICA!$P477)","v":0},{"$f":"VALUE(DINAMICA!$Q477)","v":0},{"$f":"VALUE(DINAMICA!$R477)","v":0}]
[{"$f":"VALUE(DINAMICA!$A478)","v":0},{"$f":"VALUE(DINAMICA!$B478)","v":"00:00:00"},{"$f":"VALUE(DINAMICA!$C478)","v":0},{"$f":"DINAMICA!D478","v":0},{"$f":"DINAMICA!E478","v":0},{"$f":"DINAMICA!F478","v":0},{"$f":"DINAMICA!G478","v":0},{"$f":"DINAMICA!H478","v":0},{"$f":"DINAMICA!I478","v":0},{"$f":"DINAMICA!J478","v":0},{"$f":"DINAMICA!K478","v":0},{"$f":"VALUE(DINAMICA!$L478)","v":0},{"$f":"VALUE(DINAMICA!$M478)","v":0},{"$f":"VALUE(DINAMICA!$N478)","v":0},{"$f":"VALUE(DINAMICA!$O478)","v":0},{"$f":"VALUE(DINAMICA!$P478)","v":0},{"$f":"VALUE(DINAMICA!$Q478)","v":0},{"$f":"VALUE(DINAMICA!$R478)","v":0}]
[{"$f":"VALUE(DINAMICA!$A479)","v":0},{"$f":"VALUE(DINAMICA!$B479)","v":"00:00:00"},{"$f":"VALUE(DINAMICA!$C479)","v":0},{"$f":"DINAMICA!D479","v":0},{"$f":"DINAMICA!E479","v":0},{"$f":"DINAMICA!F479","v":0},{"$f":"DINAMICA!G479","v":0},{"$f":"DINAMICA!H479","v":0},{"$f":"DINAMICA!I479","v":0},{"$f":"DINAMICA!J479","v":0},{"$f":"DINAMICA!K479","v":0},{"$f":"VALUE(DINAMICA!$L479)","v":0},{"$f":"VALUE(DINAMICA!$M479)","v":0},{"$f":"VALUE(DINAMICA!$N479)","v":0},{"$f":"VALUE(DINAMICA!$O479)","v":0},{"$f":"VALUE(DINAMICA!$P479)","v":0},{"$f":"VALUE(DINAMICA!$Q479)","v":0},{"$f":"VALUE(DINAMICA!$R479)","v":0}]
[{"$f":"VALUE(DINAMICA!$A480)","v":0},{"$f":"VALUE(DINAMICA!$B480)","v":"00:00:00"},{"$f":"VALUE(DINAMICA!$C480)","v":0},{"$f":"DINAMICA!D480","v":0},{"$f":"DINAMICA!E480","v":0},{"$f":"DINAMICA!F480","v":0},{"$f":"DINAMICA!G480","v":0},{"$f":"DINAMICA!H480","v":0},{"$f":"DINAMICA!I480","v":0},{"$f":"DINAMICA!J480","v":0},{"$f":"DINAMICA!K480","v":0},{"$f":"VALUE(DINAMICA!$L480)","v":0},{"$f":"VALUE(DINAMICA!$M480)","v":0},{"$f":"VALUE(DINAMICA!$N480)","v":0},{"$f":"VALUE(DINAMICA!$O480)","v":0},{"$f":"VALUE(DINAMICA!$P480)","v":0},{"$f":"VALUE(DINAMICA!$Q480)","v":0},{"$f":"VALUE(DINAMICA!$R480)","v":0}]
[{"$f":"VALUE(DINAMICA!$A481)","v":0},{"$f":"VALUE(DINAMICA!$B481)","v":"00:00:00"},{"$f":"VALUE(DINAMICA!$C481)","v":0},{"$f":"DINAMICA!D481","v":0},{"$f":"DINAMICA!E481","v":0},{"$f":"DINAMICA!F481","v":0},{"$f":"DINAMICA!G481","v":0},{"$f":"DINAMICA!H481","v":0},{"$f":"DINAMICA!I481","v":0},{"$f":"DINAMICA!J481","v":0},{"$f":"DINAMICA!K481","v":0},{"$f":"VALUE(DINAMICA!$L481)","v":0},{"$f":"VALUE(DINAMICA!$M481)","v":0},{"$f":"VALUE(DINAMICA!$N481)","v":0},{"$f":"VALUE(DINAMICA!$O481)","v":0},{"$f":"VALUE(DINAMICA!$P481)","v":0},{"$f":"VALUE(DINAMICA!$Q481)","v":0},{"$f":"VALUE(DINAMICA!$R481)","v":0}]
[{"$f":"VALUE(DINAMICA!$A482)","v":0},{"$f":"VALUE(DINAMICA!$B482)","v":"00:00:00"},{"$f":"VALUE(DINAMICA!$C482)","v":0},{"$f":"DINAMICA!D482","v":0},{"$f":"DINAMICA!E482","v":0},{"$f":"DINAMICA!F482","v":0},{"$f":"DINAMICA!G482","v":0},{"$f":"DINAMICA!H482","v":0},{"$f":"DINAMICA!I482","v":0},{"$f":"DINAMICA!J482","v":0},{"$f":"DINAMICA!K482","v":0},{"$f":"VALUE(DINAMICA!$L482)","v":0},{"$f":"VALUE(DINAMICA!$M482)","v":0},{"$f":"VALUE(DINAMICA!$N482)","v":0},{"$f":"VALUE(DINAMICA!$O482)","v":0},{"$f":"VALUE(DINAMICA!$P482)","v":0},{"$f":"VALUE(DINAMICA!$Q482)","v":0},{"$f":"VALUE(DINAMICA!$R482)","v":0}]
[{"$f":"VALUE(DINAMICA!$A483)","v":0},{"$f":"VALUE(DINAMICA!$B483)","v":"00:00:00"},{"$f":"VALUE(DINAMICA!$C483)","v":0},{"$f":"DINAMICA!D483","v":0},{"$f":"DINAMICA!E483","v":0},{"$f":"DINAMICA!F483","v":0},{"$f":"DINAMICA!G483","v":0},{"$f":"DINAMICA!H483","v":0},{"$f":"DINAMICA!I483","v":0},{"$f":"DINAMICA!J483","v":0},{"$f":"DINAMICA!K483","v":0},{"$f":"VALUE(DINAMICA!$L483)","v":0},{"$f":"VALUE(DINAMICA!$M483)","v":0},{"$f":"VALUE(DINAMICA!$N483)","v":0},{"$f":"VALUE(DINAMICA!$O483)","v":0},{"$f":"VALUE(DINAMICA!$P483)","v":0},{"$f":"VALUE(DINAMICA!$Q483)","v":0},{"$f":"VALUE(DINAMICA!$R483)","v":0}]
[{"$f":"VALUE(DINAMICA!$A484)","v":0},{"$f":"VALUE(DINAMICA!$B484)","v":"00:00:00"},{"$f":"VALUE(DINAMICA!$C484)","v":0},{"$f":"DINAMICA!D484","v":0},{"$f":"DINAMICA!E484","v":0},{"$f":"DINAMICA!F484","v":0},{"$f":"DINAMICA!G484","v":0},{"$f":"DINAMICA!H484","v":0},{"$f":"DINAMICA!I484","v":0},{"$f":"DINAMICA!J484","v":0},{"$f":"DINAMICA!K484","v":0},{"$f":"VALUE(DINAMICA!$L484)","v":0},{"$f":"VALUE(DINAMICA!$M484)","v":0},{"$f":"VALUE(DINAMICA!$N484)","v":0},{"$f":"VALUE(DINAMICA!$O484)","v":0},{"$f":"VALUE(DINAMICA!$P484)","v":0},{"$f":"VALUE(DINAMICA!$Q484)","v":0},{"$f":"VALUE(DINAMICA!$R484)","v":0}]
[{"$f":"VALUE(DINAMICA!$A485)","v":0},{"$f":"VALUE(DINAMICA!$B485)","v":"00:00:00"},{"$f":"VALUE(DINAMICA!$C485)","v":0},{"$f":"DINAMICA!D485","v":0},{"$f":"DINAMICA!E485","v":0},{"$f":"DINAMICA!F485","v":0},{"$f":"DINAMICA!G485","v":0},{"$f":"DINAMICA!H485","v":0},{"$f":"DINAMICA!I485","v":0},{"$f":"DINAMICA!J485","v":0},{"$f":"DINAMICA!K485","v":0},{"$f":"VALUE(DINAMICA!$L485)","v":0},{"$f":"VALUE(DINAMICA!$M485)","v":0},{"$f":"VALUE(DINAMICA!$N485)","v":0},{"$f":"VALUE(DINAMICA!$O485)","v":0},{"$f":"VALUE(DINAMICA!$P485)","v":0},{"$f":"VALUE(DINAMICA!$Q485)","v":0},{"$f":"VALUE(DINAMICA!$R485)","v":0}]
[{"$f":"VALUE(DINAMICA!$A486)","v":0},{"$f":"VALUE(DINAMICA!$B486)","v":"00:00:00"},{"$f":"VALUE(DINAMICA!$C486)","v":0},{"$f":"DINAMICA!D486","v":0},{"$f":"DINAMICA!E486","v":0},{"$f":"DINAMICA!F486","v":0},{"$f":"DINAMICA!G486","v":0},{"$f":"DINAMICA!H486","v":0},{"$f":"DINAMICA!I486","v":0},{"$f":"DINAMICA!J486","v":0},{"$f":"DINAMICA!K486","v":0},{"$f":"VALUE(DINAMICA!$L486)","v":0},{"$f":"VALUE(DINAMICA!$M486)","v":0},{"$f":"VALUE(DINAMICA!$N486)","v":0},{"$f":"VALUE(DINAMICA!$O486)","v":0},{"$f":"VALUE(DINAMICA!$P486)","v":0},{"$f":"VALUE(DINAMICA!$Q486)","v":0},{"$f":"VALUE(DINAMICA!$R486)","v":0}]
[{"$f":"VALUE(DINAMICA!$A487)","v":0},{"$f":"VALUE(DINAMICA!$B487)","v":"00:00:00"},{"$f":"VALUE(DINAMICA!$C487)","v":0},{"$f":"DINAMICA!D487","v":0},{"$f":"DINAMICA!E487","v":0},{"$f":"DINAMICA!F487","v":0},{"$f":"DINAMICA!G487","v":0},{"$f":"DINAMICA!H487","v":0},{"$f":"DINAMICA!I487","v":0},{"$f":"DINAMICA!J487","v":0},{"$f":"DINAMICA!K487","v":0},{"$f":"VALUE(DINAMICA!$L487)","v":0},{"$f":"VALUE(DINAMICA!$M487)","v":0},{"$f":"VALUE(DINAMICA!$N487)","v":0},{"$f":"VALUE(DINAMICA!$O487)","v":0},{"$f":"VALUE(DINAMICA!$P487)","v":0},{"$f":"VALUE(DINAMICA!$Q487)","v":0},{"$f":"VALUE(DINAMICA!$R487)","v":0}]
[{"$f":"VALUE(DINAMICA!$A488)","v":0},{"$f":"VALUE(DINAMICA!$B488)","v":"00:00:00"},{"$f":"VALUE(DINAMICA!$C488)","v":0},{"$f":"DINAMICA!D488","v":0},{"$f":"DINAMICA!E488","v":0},{"$f":"DINAMICA!F488","v":0},{"$f":"DINAMICA!G488","v":0},{"$f":"DINAMICA!H488","v":0},{"$f":"DINAMICA!I488","v":0},{"$f":"DINAMICA!J488","v":0},{"$f":"DINAMICA!K488","v":0},{"$f":"VALUE(DINAMICA!$L488)","v":0},{"$f":"VALUE(DINAMICA!$M488)","v":0},{"$f":"VALUE(DINAMICA!$N488)","v":0},{"$f":"VALUE(DINAMICA!$O488)","v":0},{"$f":"VALUE(DINAMICA!$P488)","v":0},{"$f":"VALUE(DINAMICA!$Q488)","v":0},{"$f":"VALUE(DINAMICA!$R488)","v":0}]
[{"$f":"VALUE(DINAMICA!$A489)","v":0},{"$f":"VALUE(DINAMICA!$B489)","v":"00:00:00"},{"$f":"VALUE(DINAMICA!$C489)","v":0},{"$f":"DINAMICA!D489","v":0},{"$f":"DINAMICA!E489","v":0},{"$f":"DINAMICA!F489","v":0},{"$f":"DINAMICA!G489","v":0},{"$f":"DINAMICA!H489","v":0},{"$f":"DINAMICA!I489","v":0},{"$f":"DINAMICA!J489","v":0},{"$f":"DINAMICA!K489","v":0},{"$f":"VALUE(DINAMICA!$L489)","v":0},{"$f":"VALUE(DINAMICA!$M489)","v":0},{"$f":"VALUE(DINAMICA!$N489)","v":0},{"$f":"VALUE(DINAMICA!$O489)","v":0},{"$f":"VALUE(DINAMICA!$P489)","v":0},{"$f":"VALUE(DINAMICA!$Q489)","v":0},{"$f":"VALUE(DINAMICA!$R489)","v":0}]
[{"$f":"VALUE(DINAMICA!$A490)","v":0},{"$f":"VALUE(DINAMICA!$B490)","v":"00:00:00"},{"$f":"VALUE(DINAMICA!$C490)","v":0},{"$f":"DINAMICA!D490","v":0},{"$f":"DINAMICA!E490","v":0},{"$f":"DINAMICA!F490","v":0},{"$f":"DINAMICA!G490","v":0},{"$f":"DINAMICA!H490","v":0},{"$f":"DINAMICA!I490","v":0},{"$f":"DINAMICA!J490","v":0},{"$f":"DINAMICA!K490","v":0},{"$f":"VALUE(DINAMICA!$L490)","v":0},{"$f":"VALUE(DINAMICA!$M490)","v":0},{"$f":"VALUE(DINAMICA!$N490)","v":0},{"$f":"VALUE(DINAMICA!$O490)","v":0},{"$f":"VALUE(DINAMICA!$P490)","v":0},{"$f":"VALUE(DINAMICA!$Q490)","v":0},{"$f":"VALUE(DINAMICA!$R490)","v":0}]
[{"$f":"VALUE(DINAMICA!$A491)","v":0},{"$f":"VALUE(DINAMICA!$B491)","v":"00:00:00"},{"$f":"VALUE(DINAMICA!$C491)","v":0},{"$f":"DINAMICA!D491","v":0},{"$f":"DINAMICA!E491","v":0},{"$f":"DINAMICA!F491","v":0},{"$f":"DINAMICA!G491","v":0},{"$f":"DINAMICA!H491","v":0},{"$f":"DINAMICA!I491","v":0},{"$f":"DINAMICA!J491","v":0},{"$f":"DINAMICA!K491","v":0},{"$f":"VALUE(DINAMICA!$L491)","v":0},{"$f":"VALUE(DINAMICA!$M491)","v":0},{"$f":"VALUE(DINAMICA!$N491)","v":0},{"$f":"VALUE(DINAMICA!$O491)","v":0},{"$f":"VALUE(DINAMICA!$P491)","v":0},{"$f":"VALUE(DINAMICA!$Q491)","v":0},{"$f":"VALUE(DINAMICA!$R491)","v":0}]
[{"$f":"VALUE(DINAMICA!$A492)","v":0},{"$f":"VALUE(DINAMICA!$B492)","v":"00:00:00"},{"$f":"VALUE(DINAMICA!$C492)","v":0},{"$f":"DINAMICA!D492","v":0},{"$f":"DINAMICA!E492","v":0},{"$f":"DINAMICA!F492","v":0},{"$f":"DINAMICA!G492","v":0},{"$f":"DINAMICA!H492","v":0},{"$f":"DINAMICA!I492","v":0},{"$f":"DINAMICA!J492","v":0},{"$f":"DINAMICA!K492","v":0},{"$f":"VALUE(DINAMICA!$L492)","v":0},{"$f":"VALUE(DINAMICA!$M492)","v":0},{"$f":"VALUE(DINAMICA!$N492)","v":0},{"$f":"VALUE(DINAMICA!$O492)","v":0},{"$f":"VALUE(DINAMICA!$P492)","v":0},{"$f":"VALUE(DINAMICA!$Q492)","v":0},{"$f":"VALUE(DINAMICA!$R492)","v":0}]
[{"$f":"VALUE(DINAMICA!$A493)","v":0},{"$f":"VALUE(DINAMICA!$B493)","v":"00:00:00"},{"$f":"VALUE(DINAMICA!$C493)","v":0},{"$f":"DINAMICA!D493","v":0},{"$f":"DINAMICA!E493","v":0},{"$f":"DINAMICA!F493","v":0},{"$f":"DINAMICA!G493","v":0},{"$f":"DINAMICA!H493","v":0},{"$f":"DINAMICA!I493","v":0},{"$f":"DINAMICA!J493","v":0},{"$f":"DINAMICA!K493","v":0},{"$f":"VALUE(DINAMICA!$L493)","v":0},{"$f":"VALUE(DINAMICA!$M493)","v":0},{"$f":"VALUE(DINAMICA!$N493)","v":0},{"$f":"VALUE(DINAMICA!$O493)","v":0},{"$f":"VALUE(DINAMICA!$P493)","v":0},{"$f":"VALUE(DINAMICA!$Q493)","v":0},{"$f":"VALUE(DINAMICA!$R493)","v":0}]
[{"$f":"VALUE(DINAMICA!$A494)","v":0},{"$f":"VALUE(DINAMICA!$B494)","v":"00:00:00"},{"$f":"VALUE(DINAMICA!$C494)","v":0},{"$f":"DINAMICA!D494","v":0},{"$f":"DINAMICA!E494","v":0},{"$f":"DINAMICA!F494","v":0},{"$f":"DINAMICA!G494","v":0},{"$f":"DINAMICA!H494","v":0},{"$f":"DINAMICA!I494","v":0},{"$f":"DINAMICA!J494","v":0},{"$f":"DINAMICA!K494","v":0},{"$f":"VALUE(DINAMICA!$L494)","v":0},{"$f":"VALUE(DINAMICA!$M494)","v":0},{"$f":"VALUE(DINAMICA!$N494)","v":0},{"$f":"VALUE(DINAMICA!$O494)","v":0},{"$f":"VALUE(DINAMICA!$P494)","v":0},{"$f":"VALUE(DINAMICA!$Q494)","v":0},{"$f":"VALUE(DINAMICA!$R494)","v":0}]
[{"$f":"VALUE(DINAMICA!$A495)","v":0},{"$f":"VALUE(DINAMICA!$B495)","v":"00:00:00"},{"$f":"VALUE(DINAMICA!$C495)","v":0},{"$f":"DINAMICA!D495","v":0},{"$f":"DINAMICA!E495","v":0},{"$f":"DINAMICA!F495","v":0},{"$f":"DINAMICA!G495","v":0},{"$f":"DINAMICA!H495","v":0},{"$f":"DINAMICA!I495","v":0},{"$f":"DINAMICA!J495","v":0},{"$f":"DINAMICA!K495","v":0},{"$f":"VALUE(DINAMICA!$L495)","v":0},{"$f":"VALUE(DINAMICA!$M495)","v":0},{"$f":"VALUE(DINAMICA!$N495)","v":0},{"$f":"VALUE(DINAMICA!$O495)","v":0},{"$f":"VALUE(DINAMICA!$P495)","v":0},{"$f":"VALUE(DINAMICA!$Q495)","v":0},{"$f":"VALUE(DINAMICA!$R495)","v":0}]
[{"$f":"VALUE(DINAMICA!$A496)","v":0},{"$f":"VALUE(DINAMICA!$B496)","v":"00:00:00"},{"$f":"VALUE(DINAMICA!$C496)","v":0},{"$f":"DINAMICA!D496","v":0},{"$f":"DINAMICA!E496","v":0},{"$f":"DINAMICA!F496","v":0},{"$f":"DINAMICA!G496","v":0},{"$f":"DINAMICA!H496","v":0},{"$f":"DINAMICA!I496","v":0},{"$f":"DINAMICA!J496","v":0},{"$f":"DINAMICA!K496","v":0},{"$f":"VALUE(DINAMICA!$L496)","v":0},{"$f":"VALUE(DINAMICA!$M496)","v":0},{"$f":"VALUE(DINAMICA!$N496)","v":0},{"$f":"VALUE(DINAMICA!$O496)","v":0},{"$f":"VALUE(DINAMICA!$P496)","v":0},{"$f":"VALUE(DINAMICA!$Q496)","v":0},{"$f":"VALUE(DINAMICA!$R496)","v":0}]
[{"$f":"VALUE(DINAMICA!$A497)","v":0},{"$f":"VALUE(DINAMICA!$B497)","v":"00:00:00"},{"$f":"VALUE(DINAMICA!$C497)","v":0},{"$f":"DINAMICA!D497","v":0},{"$f":"DINAMICA!E497","v":0},{"$f":"DINAMICA!F497","v":0},{"$f":"DINAMICA!G497","v":0},{"$f":"DINAMICA!H497","v":0},{"$f":"DINAMICA!I497","v":0},{"$f":"DINAMICA!J497","v":0},{"$f":"DINAMICA!K497","v":0},{"$f":"VALUE(DINAMICA!$L497)","v":0},{"$f":"VALUE(DINAMICA!$M497)","v":0},{"$f":"VALUE(DINAMICA!$N497)","v":0},{"$f":"VALUE(DINAMICA!$O497)","v":0},{"$f":"VALUE(DINAMICA!$P497)","v":0},{"$f":"VALUE(DINAMICA!$Q497)","v":0},{"$f":"VALUE(DINAMICA!$R497)","v":0}]
[{"$f":"VALUE(DINAMICA!$A498)","v":0},{"$f":"VALUE(DINAMICA!$B498)","v":"00:00:00"},{"$f":"VALUE(DINAMICA!$C498)","v":0},{"$f":"DINAMICA!D498","v":0},{"$f":"DINAMICA!E498","v":0},{"$f":"DINAMICA!F498","v":0},{"$f":"DINAMICA!G498","v":0},{"$f":"DINAMICA!H498","v":0},{"$f":"DINAMICA!I498","v":0},{"$f":"DINAMICA!J498","v":0},{"$f":"DINAMICA!K498","v":0},{"$f":"VALUE(DINAMICA!$L498)","v":0},{"$f":"VALUE(DINAMICA!$M498)","v":0},{"$f":"VALUE(DINAMICA!$N498)","v":0},{"$f":"VALUE(DINAMICA!$O498)","v":0},{"$f":"VALUE(DINAMICA!$P498)","v":0},{"$f":"VALUE(DINAMICA!$Q498)","v":0},{"$f":"VALUE(DINAMICA!$R498)","v":0}]
[{"$f":"VALUE(DINAMICA!$A499)","v":0},{"$f":"VALUE(DINAMICA!$B499)","v":"00:00:00"},{"$f":"VALUE(DINAMICA!$C499)","v":0},{"$f":"DINAMICA!D499","v":0},{"$f":"DINAMICA!E499","v":0},{"$f":"DINAMICA!F499","v":0},{"$f":"DINAMICA!G499","v":0},{"$f":"DINAMICA!H499","v":0},{"$f":"DINAMICA!I499","v":0},{"$f":"DINAMICA!J499","v":0},{"$f":"DINAMICA!K499","v":0},{"$f":"VALUE(DINAMICA!$L499)","v":0},{"$f":"VALUE(DINAMICA!$M499)","v":0},{"$f":"VALUE(DINAMICA!$N499)","v":0},{"$f":"VALUE(DINAMICA!$O499)","v":0},{"$f":"VALUE(DINAMICA!$P499)","v":0},{"$f":"VALUE(DINAMICA!$Q499)","v":0},{"$f":"VALUE(DINAMICA!$R499)","v":0}]
[{"$f":"VALUE(DINAMICA!$A500)","v":0},{"$f":"VALUE(DINAMICA!$B500)","v":"00:00:00"},{"$f":"VALUE(DINAMICA!$C500)","v":0},{"$f":"DINAMICA!D500","v":0},{"$f":"DINAMICA!E500","v":0},{"$f":"DINAMICA!F500","v":0},{"$f":"DINAMICA!G500","v":0},{"$f":"DINAMICA!H500","v":0},{"$f":"DINAMICA!I500","v":0},{"$f":"DINAMICA!J500","v":0},{"$f":"DINAMICA!K500","v":0},{"$f":"VALUE(DINAMICA!$L500)","v":0},{"$f":"VALUE(DINAMICA!$M500)","v":0},{"$f":"VALUE(DINAMICA!$N500)","v":0},{"$f":"VALUE(DINAMICA!$O500)","v":0},{"$f":"VALUE(DINAMICA!$P500)","v":0},{"$f":"VALUE(DINAMICA!$Q500)","v":0},{"$f":"VALUE(DINAMICA!$R500)","v":0}]
[{"$f":"VALUE(DINAMICA!$A501)","v":0},{"$f":"VALUE(DINAMICA!$B501)","v":"00:00:00"},{"$f":"VALUE(DINAMICA!$C501)","v":0},{"$f":"DINAMICA!D501","v":0},{"$f":"DINAMICA!E501","v":0},{"$f":"DINAMICA!F501","v":0},{"$f":"DINAMICA!G501","v":0},{"$f":"DINAMICA!H501","v":0},{"$f":"DINAMICA!I501","v":0},{"$f":"DINAMICA!J501","v":0},{"$f":"DINAMICA!K501","v":0},{"$f":"VALUE(DINAMICA!$L501)","v":0},{"$f":"VALUE(DINAMICA!$M501)","v":0},{"$f":"VALUE(DINAMICA!$N501)","v":0},{"$f":"VALUE(DINAMICA!$O501)","v":0},{"$f":"VALUE(DINAMICA!$P501)","v":0},{"$f":"VALUE(DINAMICA!$Q501)","v":0},{"$f":"VALUE(DINAMICA!$R501)","v":0}]
[{"$f":"VALUE(DINAMICA!$A502)","v":0},{"$f":"VALUE(DINAMICA!$B502)","v":"00:00:00"},{"$f":"VALUE(DINAMICA!$C502)","v":0},{"$f":"DINAMICA!D502","v":0},{"$f":"DINAMICA!E502","v":0},{"$f":"DINAMICA!F502","v":0},{"$f":"DINAMICA!G502","v":0},{"$f":"DINAMICA!H502","v":0},{"$f":"DINAMICA!I502","v":0},{"$f":"DINAMICA!J502","v":0},{"$f":"DINAMICA!K502","v":0},{"$f":"VALUE(DINAMICA!$L502)","v":0},{"$f":"VALUE(DINAMICA!$M502)","v":0},{"$f":"VALUE(DINAMICA!$N502)","v":0},{"$f":"VALUE(DINAMICA!$O502)","v":0},{"$f":"VALUE(DINAMICA!$P502)","v":0},{"$f":"VALUE(DINAMICA!$Q502)","v":0},{"$f":"VALUE(DINAMICA!$R502)","v":0}]
[{"$f":"VALUE(DINAMICA!$A503)","v":0},{"$f":"VALUE(DINAMICA!$B503)","v":"00:00:00"},{"$f":"VALUE(DINAMICA!$C503)","v":0},{"$f":"DINAMICA!D503","v":0},{"$f":"DINAMICA!E503","v":0},{"$f":"DINAMICA!F503","v":0},{"$f":"DINAMICA!G503","v":0},{"$f":"DINAMICA!H503","v":0},{"$f":"DINAMICA!I503","v":0},{"$f":"DINAMICA!J503","v":0},{"$f":"DINAMICA!K503","v":0},{"$f":"VALUE(DINAMICA!$L503)","v":0},{"$f":"VALUE(DINAMICA!$M503)","v":0},{"$f":"VALUE(DINAMICA!$N503)","v":0},{"$f":"VALUE(DINAMICA!$O503)","v":0},{"$f":"VALUE(DINAMICA!$P503)","v":0},{"$f":"VALUE(DINAMICA!$Q503)","v":0},{"$f":"VALUE(DINAMICA!$R503)","v":0}]
[{"$f":"VALUE(DINAMICA!$A504)","v":0},{"$f":"VALUE(DINAMICA!$B504)","v":"00:00:00"},{"$f":"VALUE(DINAMICA!$C504)","v":0},{"$f":"DINAMICA!D504","v":0},{"$f":"DINAMICA!E504","v":0},{"$f":"DINAMICA!F504","v":0},{"$f":"DINAMICA!G504","v":0},{"$f":"DINAMICA!H504","v":0},{"$f":"DINAMICA!I504","v":0},{"$f":"DINAMICA!J504","v":0},{"$f":"DINAMICA!K504","v":0},{"$f":"VALUE(DINAMICA!$L504)","v":0},{"$f":"VALUE(DINAMICA!$M504)","v":0},{"$f":"VALUE(DINAMICA!$N504)","v":0},{"$f":"VALUE(DINAMICA!$O504)","v":0},{"$f":"VALUE(DINAMICA!$P504)","v":0},{"$f":"VALUE(DINAMICA!$Q504)","v":0},{"$f":"VALUE(DINAMICA!$R504)","v":0}]
[{"$f":"VALUE(DINAMICA!$A505)","v":0},{"$f":"VALUE(DINAMICA!$B505)","v":"00:00:00"},{"$f":"VALUE(DINAMICA!$C505)","v":0},{"$f":"DINAMICA!D505","v":0},{"$f":"DINAMICA!E505","v":0},{"$f":"DINAMICA!F505","v":0},{"$f":"DINAMICA!G505","v":0},{"$f":"DINAMICA!H505","v":0},{"$f":"DINAMICA!I505","v":0},{"$f":"DINAMICA!J505","v":0},{"$f":"DINAMICA!K505","v":0},{"$f":"VALUE(DINAMICA!$L505)","v":0},{"$f":"VALUE(DINAMICA!$M505)","v":0},{"$f":"VALUE(DINAMICA!$N505)","v":0},{"$f":"VALUE(DINAMICA!$O505)","v":0},{"$f":"VALUE(DINAMICA!$P505)","v":0},{"$f":"VALUE(DINAMICA!$Q505)","v":0},{"$f":"VALUE(DINAMICA!$R505)","v":0}]
[{"$f":"VALUE(DINAMICA!$A506)","v":0},{"$f":"VALUE(DINAMICA!$B506)","v":"00:00:00"},{"$f":"VALUE(DINAMICA!$C506)","v":0},{"$f":"DINAMICA!D506","v":0},{"$f":"DINAMICA!E506","v":0},{"$f":"DINAMICA!F506","v":0},{"$f":"DINAMICA!G506","v":0},{"$f":"DINAMICA!H506","v":0},{"$f":"DINAMICA!I506","v":0},{"$f":"DINAMICA!J506","v":0},{"$f":"DINAMICA!K506","v":0},{"$f":"VALUE(DINAMICA!$L506)","v":0},{"$f":"VALUE(DINAMICA!$M506)","v":0},{"$f":"VALUE(DINAMICA!$N506)","v":0},{"$f":"VALUE(DINAMICA!$O506)","v":0},{"$f":"VALUE(DINAMICA!$P506)","v":0},{"$f":"VALUE(DINAMICA!$Q506)","v":0},{"$f":"VALUE(DINAMICA!$R506)","v":0}]
[{"$f":"VALUE(DINAMICA!$A507)","v":0},{"$f":"VALUE(DINAMICA!$B507)","v":"00:00:00"},{"$f":"VALUE(DINAMICA!$C507)","v":0},{"$f":"DINAMICA!D507","v":0},{"$f":"DINAMICA!E507","v":0},{"$f":"DINAMICA!F507","v":0},{"$f":"DINAMICA!G507","v":0},{"$f":"DINAMICA!H507","v":0},{"$f":"DINAMICA!I507","v":0},{"$f":"DINAMICA!J507","v":0},{"$f":"DINAMICA!K507","v":0},{"$f":"VALUE(DINAMICA!$L507)","v":0},{"$f":"VALUE(DINAMICA!$M507)","v":0},{"$f":"VALUE(DINAMICA!$N507)","v":0},{"$f":"VALUE(DINAMICA!$O507)","v":0},{"$f":"VALUE(DINAMICA!$P507)","v":0},{"$f":"VALUE(DINAMICA!$Q507)","v":0},{"$f":"VALUE(DINAMICA!$R507)","v":0}]
[{"$f":"VALUE(DINAMICA!$A508)","v":0},{"$f":"VALUE(DINAMICA!$B508)","v":"00:00:00"},{"$f":"VALUE(DINAMICA!$C508)","v":0},{"$f":"DINAMICA!D508","v":0},{"$f":"DINAMICA!E508","v":0},{"$f":"DINAMICA!F508","v":0},{"$f":"DINAMICA!G508","v":0},{"$f":"DINAMICA!H508","v":0},{"$f":"DINAMICA!I508","v":0},{"$f":"DINAMICA!J508","v":0},{"$f":"DINAMICA!K508","v":0},{"$f":"VALUE(DINAMICA!$L508)","v":0},{"$f":"VALUE(DINAMICA!$M508)","v":0},{"$f":"VALUE(DINAMICA!$N508)","v":0},{"$f":"VALUE(DINAMICA!$O508)","v":0},{"$f":"VALUE(DINAMICA!$P508)","v":0},{"$f":"VALUE(DINAMICA!$Q508)","v":0},{"$f":"VALUE(DINAMICA!$R508)","v":0}]
[{"$f":"VALUE(DINAMICA!$A509)","v":0},{"$f":"VALUE(DINAMICA!$B509)","v":"00:00:00"},{"$f":"VALUE(DINAMICA!$C509)","v":0},{"$f":"DINAMICA!D509","v":0},{"$f":"DINAMICA!E509","v":0},{"$f":"DINAMICA!F509","v":0},{"$f":"DINAMICA!G509","v":0},{"$f":"DINAMICA!H509","v":0},{"$f":"DINAMICA!I509","v":0},{"$f":"DINAMICA!J509","v":0},{"$f":"DINAMICA!K509","v":0},{"$f":"VALUE(DINAMICA!$L509)","v":0},{"$f":"VALUE(DINAMICA!$M509)","v":0},{"$f":"VALUE(DINAMICA!$N509)","v":0},{"$f":"VALUE(DINAMICA!$O509)","v":0},{"$f":"VALUE(DINAMICA!$P509)","v":0},{"$f":"VALUE(DINAMICA!$Q509)","v":0},{"$f":"VALUE(DINAMICA!$R509)","v":0}]
[{"$f":"VALUE(DINAMICA!$A510)","v":0},{"$f":"VALUE(DINAMICA!$B510)","v":"00:00:00"},{"$f":"VALUE(DINAMICA!$C510)","v":0},{"$f":"DINAMICA!D510","v":0},{"$f":"DINAMICA!E510","v":0},{"$f":"DINAMICA!F510","v":0},{"$f":"DINAMICA!G510","v":0},{"$f":"DINAMICA!H510","v":0},{"$f":"DINAMICA!I510","v":0},{"$f":"DINAMICA!J510","v":0},{"$f":"DINAMICA!K510","v":0},{"$f":"VALUE(DINAMICA!$L510)","v":0},{"$f":"VALUE(DINAMICA!$M510)","v":0},{"$f":"VALUE(DINAMICA!$N510)","v":0},{"$f":"VALUE(DINAMICA!$O510)","v":0},{"$f":"VALUE(DINAMICA!$P510)","v":0},{"$f":"VALUE(DINAMICA!$Q510)","v":0},{"$f":"VALUE(DINAMICA!$R510)","v":0}]
[{"$f":"VALUE(DINAMICA!$A511)","v":0},{"$f":"VALUE(DINAMICA!$B511)","v":"00:00:00"},{"$f":"VALUE(DINAMICA!$C511)","v":0},{"$f":"DINAMICA!D511","v":0},{"$f":"DINAMICA!E511","v":0},{"$f":"DINAMICA!F511","v":0},{"$f":"DINAMICA!G511","v":0},{"$f":"DINAMICA!H511","v":0},{"$f":"DINAMICA!I511","v":0},{"$f":"DINAMICA!J511","v":0},{"$f":"DINAMICA!K511","v":0},{"$f":"VALUE(DINAMICA!$L511)","v":0},{"$f":"VALUE(DINAMICA!$M511)","v":0},{"$f":"VALUE(DINAMICA!$N511)","v":0},{"$f":"VALUE(DINAMICA!$O511)","v":0},{"$f":"VALUE(DINAMICA!$P511)","v":0},{"$f":"VALUE(DINAMICA!$Q511)","v":0},{"$f":"VALUE(DINAMICA!$R511)","v":0}]
[{"$f":"VALUE(DINAMICA!$A512)","v":0},{"$f":"VALUE(DINAMICA!$B512)","v":"00:00:00"},{"$f":"VALUE(DINAMICA!$C512)","v":0},{"$f":"DINAMICA!D512","v":0},{"$f":"DINAMICA!E512","v":0},{"$f":"DINAMICA!F512","v":0},{"$f":"DINAMICA!G512","v":0},{"$f":"DINAMICA!H512","v":0},{"$f":"DINAMICA!I512","v":0},{"$f":"DINAMICA!J512","v":0},{"$f":"DINAMICA!K512","v":0},{"$f":"VALUE(DINAMICA!$L512)","v":0},{"$f":"VALUE(DINAMICA!$M512)","v":0},{"$f":"VALUE(DINAMICA!$N512)","v":0},{"$f":"VALUE(DINAMICA!$O512)","v":0},{"$f":"VALUE(DINAMICA!$P512)","v":0},{"$f":"VALUE(DINAMICA!$Q512)","v":0},{"$f":"VALUE(DINAMICA!$R512)","v":0}]
[{"$f":"VALUE(DINAMICA!$A513)","v":0},{"$f":"VALUE(DINAMICA!$B513)","v":"00:00:00"},{"$f":"VALUE(DINAMICA!$C513)","v":0},{"$f":"DINAMICA!D513","v":0},{"$f":"DINAMICA!E513","v":0},{"$f":"DINAMICA!F513","v":0},{"$f":"DINAMICA!G513","v":0},{"$f":"DINAMICA!H513","v":0},{"$f":"DINAMICA!I513","v":0},{"$f":"DINAMICA!J513","v":0},{"$f":"DINAMICA!K513","v":0},{"$f":"VALUE(DINAMICA!$L513)","v":0},{"$f":"VALUE(DINAMICA!$M513)","v":0},{"$f":"VALUE(DINAMICA!$N513)","v":0},{"$f":"VALUE(DINAMICA!$O513)","v":0},{"$f":"VALUE(DINAMICA!$P513)","v":0},{"$f":"VALUE(DINAMICA!$Q513)","v":0},{"$f":"VALUE(DINAMICA!$R513)","v":0}]
[{"$f":"VALUE(DINAMICA!$A514)","v":0},{"$f":"VALUE(DINAMICA!$B514)","v":"00:00:00"},{"$f":"VALUE(DINAMICA!$C514)","v":0},{"$f":"DINAMICA!D514","v":0},{"$f":"DINAMICA!E514","v":0},{"$f":"DINAMICA!F514","v":0},{"$f":"DINAMICA!G514","v":0},{"$f":"DINAMICA!H514","v":0},{"$f":"DINAMICA!I514","v":0},{"$f":"DINAMICA!J514","v":0},{"$f":"DINAMICA!K514","v":0},{"$f":"VALUE(DINAMICA!$L514)","v":0},{"$f":"VALUE(DINAMICA!$M514)","v":0},{"$f":"VALUE(DINAMICA!$N514)","v":0},{"$f":"VALUE(DINAMICA!$O514)","v":0},{"$f":"VALUE(DINAMICA!$P514)","v":0},{"$f":"VALUE(DINAMICA!$Q514)","v":0},{"$f":"VALUE(DINAMICA!$R514)","v":0}]
[{"$f":"VALUE(DINAMICA!$A515)","v":0},{"$f":"VALUE(DINAMICA!$B515)","v":"00:00:00"},{"$f":"VALUE(DINAMICA!$C515)","v":0},{"$f":"DINAMICA!D515","v":0},{"$f":"DINAMICA!E515","v":0},{"$f":"DINAMICA!F515","v":0},{"$f":"DINAMICA!G515","v":0},{"$f":"DINAMICA!H515","v":0},{"$f":"DINAMICA!I515","v":0},{"$f":"DINAMICA!J515","v":0},{"$f":"DINAMICA!K515","v":0},{"$f":"VALUE(DINAMICA!$L515)","v":0},{"$f":"VALUE(DINAMICA!$M515)","v":0},{"$f":"VALUE(DINAMICA!$N515)","v":0},{"$f":"VALUE(DINAMICA!$O515)","v":0},{"$f":"VALUE(DINAMICA!$P515)","v":0},{"$f":"VALUE(DINAMICA!$Q515)","v":0},{"$f":"VALUE(DINAMICA!$R515)","v":0}]
[{"$f":"VALUE(DINAMICA!$A516)","v":0},{"$f":"VALUE(DINAMICA!$B516)","v":"00:00:00"},{"$f":"VALUE(DINAMICA!$C516)","v":0},{"$f":"DINAMICA!D516","v":0},{"$f":"DINAMICA!E516","v":0},{"$f":"DINAMICA!F516","v":0},{"$f":"DINAMICA!G516","v":0},{"$f":"DINAMICA!H516","v":0},{"$f":"DINAMICA!I516","v":0},{"$f":"DINAMICA!J516","v":0},{"$f":"DINAMICA!K516","v":0},{"$f":"VALUE(DINAMICA!$L516)","v":0},{"$f":"VALUE(DINAMICA!$M516)","v":0},{"$f":"VALUE(DINAMICA!$N516)","v":0},{"$f":"VALUE(DINAMICA!$O516)","v":0},{"$f":"VALUE(DINAMICA!$P516)","v":0},{"$f":"VALUE(DINAMICA!$Q516)","v":0},{"$f":"VALUE(DINAMICA!$R516)","v":0}]
[{"$f":"VALUE(DINAMICA!$A517)","v":0},{"$f":"VALUE(DINAMICA!$B517)","v":"00:00:00"},{"$f":"VALUE(DINAMICA!$C517)","v":0},{"$f":"DINAMICA!D517","v":0},{"$f":"DINAMICA!E517","v":0},{"$f":"DINAMICA!F517","v":0},{"$f":"DINAMICA!G517","v":0},{"$f":"DINAMICA!H517","v":0},{"$f":"DINAMICA!I517","v":0},{"$f":"DINAMICA!J517","v":0},{"$f":"DINAMICA!K517","v":0},{"$f":"VALUE(DINAMICA!$L517)","v":0},{"$f":"VALUE(DINAMICA!$M517)","v":0},{"$f":"VALUE(DINAMICA!$N517)","v":0},{"$f":"VALUE(DINAMICA!$O517)","v":0},{"$f":"VALUE(DINAMICA!$P517)","v":0},{"$f":"VALUE(DINAMICA!$Q517)","v":0},{"$f":"VALUE(DINAMICA!$R517)","v":0}]
[{"$f":"VALUE(DINAMICA!$A518)","v":0},{"$f":"VALUE(DINAMICA!$B518)","v":"00:00:00"},{"$f":"VALUE(DINAMICA!$C518)","v":0},{"$f":"DINAMICA!D518","v":0},{"$f":"DINAMICA!E518","v":0},{"$f":"DINAMICA!F518","v":0},{"$f":"DINAMICA!G518","v":0},{"$f":"DINAMICA!H518","v":0},{"$f":"DINAMICA!I518","v":0},{"$f":"DINAMICA!J518","v":0},{"$f":"DINAMICA!K518","v":0},{"$f":"VALUE(DINAMICA!$L518)","v":0},{"$f":"VALUE(DINAMICA!$M518)","v":0},{"$f":"VALUE(DINAMICA!$N518)","v":0},{"$f":"VALUE(DINAMICA!$O518)","v":0},{"$f":"VALUE(DINAMICA!$P518)","v":0},{"$f":"VALUE(DINAMICA!$Q518)","v":0},{"$f":"VALUE(DINAMICA!$R518)","v":0}]
[{"$f":"VALUE(DINAMICA!$A519)","v":0},{"$f":"VALUE(DINAMICA!$B519)","v":"00:00:00"},{"$f":"VALUE(DINAMICA!$C519)","v":0},{"$f":"DINAMICA!D519","v":0},{"$f":"DINAMICA!E519","v":0},{"$f":"DINAMICA!F519","v":0},{"$f":"DINAMICA!G519","v":0},{"$f":"DINAMICA!H519","v":0},{"$f":"DINAMICA!I519","v":0},{"$f":"DINAMICA!J519","v":0},{"$f":"DINAMICA!K519","v":0},{"$f":"VALUE(DINAMICA!$L519)","v":0},{"$f":"VALUE(DINAMICA!$M519)","v":0},{"$f":"VALUE(DINAMICA!$N519)","v":0},{"$f":"VALUE(DINAMICA!$O519)","v":0},{"$f":"VALUE(DINAMICA!$P519)","v":0},{"$f":"VALUE(DINAMICA!$Q519)","v":0},{"$f":"VALUE(DINAMICA!$R519)","v":0}]
[{"$f":"VALUE(DINAMICA!$A520)","v":0},{"$f":"VALUE(DINAMICA!$B520)","v":"00:00:00"},{"$f":"VALUE(DINAMICA!$C520)","v":0},{"$f":"DINAMICA!D520","v":0},{"$f":"DINAMICA!E520","v":0},{"$f":"DINAMICA!F520","v":0},{"$f":"DINAMICA!G520","v":0},{"$f":"DINAMICA!H520","v":0},{"$f":"DINAMICA!I520","v":0},{"$f":"DINAMICA!J520","v":0},{"$f":"DINAMICA!K520","v":0},{"$f":"VALUE(DINAMICA!$L520)","v":0},{"$f":"VALUE(DINAMICA!$M520)","v":0},{"$f":"VALUE(DINAMICA!$N520)","v":0},{"$f":"VALUE(DINAMICA!$O520)","v":0},{"$f":"VALUE(DINAMICA!$P520)","v":0},{"$f":"VALUE(DINAMICA!$Q520)","v":0},{"$f":"VALUE(DINAMICA!$R520)","v":0}]
[{"$f":"VALUE(DINAMICA!$A521)","v":0},{"$f":"VALUE(DINAMICA!$B521)","v":"00:00:00"},{"$f":"VALUE(DINAMICA!$C521)","v":0},{"$f":"DINAMICA!D521","v":0},{"$f":"DINAMICA!E521","v":0},{"$f":"DINAMICA!F521","v":0},{"$f":"DINAMICA!G521","v":0},{"$f":"DINAMICA!H521","v":0},{"$f":"DINAMICA!I521","v":0},{"$f":"DINAMICA!J521","v":0},{"$f":"DINAMICA!K521","v":0},{"$f":"VALUE(DINAMICA!$L521)","v":0},{"$f":"VALUE(DINAMICA!$M521)","v":0},{"$f":"VALUE(DINAMICA!$N521)","v":0},{"$f":"VALUE(DINAMICA!$O521)","v":0},{"$f":"VALUE(DINAMICA!$P521)","v":0},{"$f":"VALUE(DINAMICA!$Q521)","v":0},{"$f":"VALUE(DINAMICA!$R521)","v":0}]
[{"$f":"VALUE(DINAMICA!$A522)","v":0},{"$f":"VALUE(DINAMICA!$B522)","v":"00:00:00"},{"$f":"VALUE(DINAMICA!$C522)","v":0},{"$f":"DINAMICA!D522","v":0},{"$f":"DINAMICA!E522","v":0},{"$f":"DINAMICA!F522","v":0},{"$f":"DINAMICA!G522","v":0},{"$f":"DINAMICA!H522","v":0},{"$f":"DINAMICA!I522","v":0},{"$f":"DINAMICA!J522","v":0},{"$f":"DINAMICA!K522","v":0},{"$f":"VALUE(DINAMICA!$L522)","v":0},{"$f":"VALUE(DINAMICA!$M522)","v":0},{"$f":"VALUE(DINAMICA!$N522)","v":0},{"$f":"VALUE(DINAMICA!$O522)","v":0},{"$f":"VALUE(DINAMICA!$P522)","v":0},{"$f":"VALUE(DINAMICA!$Q522)","v":0},{"$f":"VALUE(DINAMICA!$R522)","v":0}]
[{"$f":"VALUE(DINAMICA!$A523)","v":0},{"$f":"VALUE(DINAMICA!$B523)","v":"00:00:00"},{"$f":"VALUE(DINAMICA!$C523)","v":0},{"$f":"DINAMICA!D523","v":0},{"$f":"DINAMICA!E523","v":0},{"$f":"DINAMICA!F523","v":0},{"$f":"DINAMICA!G523","v":0},{"$f":"DINAMICA!H523","v":0},{"$f":"DINAMICA!I523","v":0},{"$f":"DINAMICA!J523","v":0},{"$f":"DINAMICA!K523","v":0},{"$f":"VALUE(DINAMICA!$L523)","v":0},{"$f":"VALUE(DINAMICA!$M523)","v":0},{"$f":"VALUE(DINAMICA!$N523)","v":0},{"$f":"VALUE(DINAMICA!$O523)","v":0},{"$f":"VALUE(DINAMICA!$P523)","v":0},{"$f":"VALUE(DINAMICA!$Q523)","v":0},{"$f":"VALUE(DINAMICA!$R523)","v":0}]
[{"$f":"VALUE(DINAMICA!$A524)","v":0},{"$f":"VALUE(DINAMICA!$B524)","v":"00:00:00"},{"$f":"VALUE(DINAMICA!$C524)","v":0},{"$f":"DINAMICA!D524","v":0},{"$f":"DINAMICA!E524","v":0},{"$f":"DINAMICA!F524","v":0},{"$f":"DINAMICA!G524","v":0},{"$f":"DINAMICA!H524","v":0},{"$f":"DINAMICA!I524","v":0},{"$f":"DINAMICA!J524","v":0},{"$f":"DINAMICA!K524","v":0},{"$f":"VALUE(DINAMICA!$L524)","v":0},{"$f":"VALUE(DINAMICA!$M524)","v":0},{"$f":"VALUE(DINAMICA!$N524)","v":0},{"$f":"VALUE(DINAMICA!$O524)","v":0},{"$f":"VALUE(DINAMICA!$P524)","v":0},{"$f":"VALUE(DINAMICA!$Q524)","v":0},{"$f":"VALUE(DINAMICA!$R524)","v":0}]
[{"$f":"VALUE(DINAMICA!$A525)","v":0},{"$f":"VALUE(DINAMICA!$B525)","v":"00:00:00"},{"$f":"VALUE(DINAMICA!$C525)","v":0},{"$f":"DINAMICA!D525","v":0},{"$f":"DINAMICA!E525","v":0},{"$f":"DINAMICA!F525","v":0},{"$f":"DINAMICA!G525","v":0},{"$f":"DINAMICA!H525","v":0},{"$f":"DINAMICA!I525","v":0},{"$f":"DINAMICA!J525","v":0},{"$f":"DINAMICA!K525","v":0},{"$f":"VALUE(DINAMICA!$L525)","v":0},{"$f":"VALUE(DINAMICA!$M525)","v":0},{"$f":"VALUE(DINAMICA!$N525)","v":0},{"$f":"VALUE(DINAMICA!$O525)","v":0},{"$f":"VALUE(DINAMICA!$P525)","v":0},{"$f":"VALUE(DINAMICA!$Q525)","v":0},{"$f":"VALUE(DINAMICA!$R525)","v":0}]
[{"$f":"VALUE(DINAMICA!$A526)","v":0},{"$f":"VALUE(DINAMICA!$B526)","v":"00:00:00"},{"$f":"VALUE(DINAMICA!$C526)","v":0},{"$f":"DINAMICA!D526","v":0},{"$f":"DINAMICA!E526","v":0},{"$f":"DINAMICA!F526","v":0},{"$f":"DINAMICA!G526","v":0},{"$f":"DINAMICA!H526","v":0},{"$f":"DINAMICA!I526","v":0},{"$f":"DINAMICA!J526","v":0},{"$f":"DINAMICA!K526","v":0},{"$f":"VALUE(DINAMICA!$L526)","v":0},{"$f":"VALUE(DINAMICA!$M526)","v":0},{"$f":"VALUE(DINAMICA!$N526)","v":0},{"$f":"VALUE(DINAMICA!$O526)","v":0},{"$f":"VALUE(DINAMICA!$P526)","v":0},{"$f":"VALUE(DINAMICA!$Q526)","v":0},{"$f":"VALUE(DINAMICA!$R526)","v":0}]
[{"$f":"VALUE(DINAMICA!$A527)","v":0},{"$f":"VALUE(DINAMICA!$B527)","v":"00:00:00"},{"$f":"VALUE(DINAMICA!$C527)","v":0},{"$f":"DINAMICA!D527","v":0},{"$f":"DINAMICA!E527","v":0},{"$f":"DINAMICA!F527","v":0},{"$f":"DINAMICA!G527","v":0},{"$f":"DINAMICA!H527","v":0},{"$f":"DINAMICA!I527","v":0},{"$f":"DINAMICA!J527","v":0},{"$f":"DINAMICA!K527","v":0},{"$f":"VALUE(DINAMICA!$L527)","v":0},{"$f":"VALUE(DINAMICA!$M527)","v":0},{"$f":"VALUE(DINAMICA!$N527)","v":0},{"$f":"VALUE(DINAMICA!$O527)","v":0},{"$f":"VALUE(DINAMICA!$P527)","v":0},{"$f":"VALUE(DINAMICA!$Q527)","v":0},{"$f":"VALUE(DINAMICA!$R527)","v":0}]
[{"$f":"VALUE(DINAMICA!$A528)","v":0},{"$f":"VALUE(DINAMICA!$B528)","v":"00:00:00"},{"$f":"VALUE(DINAMICA!$C528)","v":0},{"$f":"DINAMICA!D528","v":0},{"$f":"DINAMICA!E528","v":0},{"$f":"DINAMICA!F528","v":0},{"$f":"DINAMICA!G528","v":0},{"$f":"DINAMICA!H528","v":0},{"$f":"DINAMICA!I528","v":0},{"$f":"DINAMICA!J528","v":0},{"$f":"DINAMICA!K528","v":0},{"$f":"VALUE(DINAMICA!$L528)","v":0},{"$f":"VALUE(DINAMICA!$M528)","v":0},{"$f":"VALUE(DINAMICA!$N528)","v":0},{"$f":"VALUE(DINAMICA!$O528)","v":0},{"$f":"VALUE(DINAMICA!$P528)","v":0},{"$f":"VALUE(DINAMICA!$Q528)","v":0},{"$f":"VALUE(DINAMICA!$R528)","v":0}]
[{"$f":"VALUE(DINAMICA!$A529)","v":0},{"$f":"VALUE(DINAMICA!$B529)","v":"00:00:00"},{"$f":"VALUE(DINAMICA!$C529)","v":0},{"$f":"DINAMICA!D529","v":0},{"$f":"DINAMICA!E529","v":0},{"$f":"DINAMICA!F529","v":0},{"$f":"DINAMICA!G529","v":0},{"$f":"DINAMICA!H529","v":0},{"$f":"DINAMICA!I529","v":0},{"$f":"DINAMICA!J529","v":0},{"$f":"DINAMICA!K529","v":0},{"$f":"VALUE(DINAMICA!$L529)","v":0},{"$f":"VALUE(DINAMICA!$M529)","v":0},{"$f":"VALUE(DINAMICA!$N529)","v":0},{"$f":"VALUE(DINAMICA!$O529)","v":0},{"$f":"VALUE(DINAMICA!$P529)","v":0},{"$f":"VALUE(DINAMICA!$Q529)","v":0},{"$f":"VALUE(DINAMICA!$R529)","v":0}]
[{"$f":"VALUE(DINAMICA!$A530)","v":0},{"$f":"VALUE(DINAMICA!$B530)","v":"00:00:00"},{"$f":"VALUE(DINAMICA!$C530)","v":0},{"$f":"DINAMICA!D530","v":0},{"$f":"DINAMICA!E530","v":0},{"$f":"DINAMICA!F530","v":0},{"$f":"DINAMICA!G530","v":0},{"$f":"DINAMICA!H530","v":0},{"$f":"DINAMICA!I530","v":0},{"$f":"DINAMICA!J530","v":0},{"$f":"DINAMICA!K530","v":0},{"$f":"VALUE(DINAMICA!$L530)","v":0},{"$f":"VALUE(DINAMICA!$M530)","v":0},{"$f":"VALUE(DINAMICA!$N530)","v":0},{"$f":"VALUE(DINAMICA!$O530)","v":0},{"$f":"VALUE(DINAMICA!$P530)","v":0},{"$f":"VALUE(DINAMICA!$Q530)","v":0},{"$f":"VALUE(DINAMICA!$R530)","v":0}]
[{"$f":"VALUE(DINAMICA!$A531)","v":0},{"$f":"VALUE(DINAMICA!$B531)","v":"00:00:00"},{"$f":"VALUE(DINAMICA!$C531)","v":0},{"$f":"DINAMICA!D531","v":0},{"$f":"DINAMICA!E531","v":0},{"$f":"DINAMICA!F531","v":0},{"$f":"DINAMICA!G531","v":0},{"$f":"DINAMICA!H531","v":0},{"$f":"DINAMICA!I531","v":0},{"$f":"DINAMICA!J531","v":0},{"$f":"DINAMICA!K531","v":0},{"$f":"VALUE(DINAMICA!$L531)","v":0},{"$f":"VALUE(DINAMICA!$M531)","v":0},{"$f":"VALUE(DINAMICA!$N531)","v":0},{"$f":"VALUE(DINAMICA!$O531)","v":0},{"$f":"VALUE(DINAMICA!$P531)","v":0},{"$f":"VALUE(DINAMICA!$Q531)","v":0},{"$f":"VALUE(DINAMICA!$R531)","v":0}]
[{"$f":"VALUE(DINAMICA!$A532)","v":0},{"$f":"VALUE(DINAMICA!$B532)","v":"00:00:00"},{"$f":"VALUE(DINAMICA!$C532)","v":0},{"$f":"DINAMICA!D532","v":0},{"$f":"DINAMICA!E532","v":0},{"$f":"DINAMICA!F532","v":0},{"$f":"DINAMICA!G532","v":0},{"$f":"DINAMICA!H532","v":0},{"$f":"DINAMICA!I532","v":0},{"$f":"DINAMICA!J532","v":0},{"$f":"DINAMICA!K532","v":0},{"$f":"VALUE(DINAMICA!$L532)","v":0},{"$f":"VALUE(DINAMICA!$M532)","v":0},{"$f":"VALUE(DINAMICA!$N532)","v":0},{"$f":"VALUE(DINAMICA!$O532)","v":0},{"$f":"VALUE(DINAMICA!$P532)","v":0},{"$f":"VALUE(DINAMICA!$Q532)","v":0},{"$f":"VALUE(DINAMICA!$R532)","v":0}]
[{"$f":"VALUE(DINAMICA!$A533)","v":0},{"$f":"VALUE(DINAMICA!$B533)","v":"00:00:00"},{"$f":"VALUE(DINAMICA!$C533)","v":0},{"$f":"DINAMICA!D533","v":0},{"$f":"DINAMICA!E533","v":0},{"$f":"DINAMICA!F533","v":0},{"$f":"DINAMICA!G533","v":0},{"$f":"DINAMICA!H533","v":0},{"$f":"DINAMICA!I533","v":0},{"$f":"DINAMICA!J533","v":0},{"$f":"DINAMICA!K533","v":0},{"$f":"VALUE(DINAMICA!$L533)","v":0},{"$f":"VALUE(DINAMICA!$M533)","v":0},{"$f":"VALUE(DINAMICA!$N533)","v":0},{"$f":"VALUE(DINAMICA!$O533)","v":0},{"$f":"VALUE(DINAMICA!$P533)","v":0},{"$f":"VALUE(DINAMICA!$Q533)","v":0},{"$f":"VALUE(DINAMICA!$R533)","v":0}]
[{"$f":"VALUE(DINAMICA!$A534)","v":0},{"$f":"VALUE(DINAMICA!$B534)","v":"00:00:00"},{"$f":"VALUE(DINAMICA!$C534)","v":0},{"$f":"DINAMICA!D534","v":0},{"$f":"DINAMICA!E534","v":0},{"$f":"DINAMICA!F534","v":0},{"$f":"DINAMICA!G534","v":0},{"$f":"DINAMICA!H534","v":0},{"$f":"DINAMICA!I534","v":0},{"$f":"DINAMICA!J534","v":0},{"$f":"DINAMICA!K534","v":0},{"$f":"VALUE(DINAMICA!$L534)","v":0},{"$f":"VALUE(DINAMICA!$M534)","v":0},{"$f":"VALUE(DINAMICA!$N534)","v":0},{"$f":"VALUE(DINAMICA!$O534)","v":0},{"$f":"VALUE(DINAMICA!$P534)","v":0},{"$f":"VALUE(DINAMICA!$Q534)","v":0},{"$f":"VALUE(DINAMICA!$R534)","v":0}]
[{"$f":"VALUE(DINAMICA!$A535)","v":0},{"$f":"VALUE(DINAMICA!$B535)","v":"00:00:00"},{"$f":"VALUE(DINAMICA!$C535)","v":0},{"$f":"DINAMICA!D535","v":0},{"$f":"DINAMICA!E535","v":0},{"$f":"DINAMICA!F535","v":0},{"$f":"DINAMICA!G535","v":0},{"$f":"DINAMICA!H535","v":0},{"$f":"DINAMICA!I535","v":0},{"$f":"DINAMICA!J535","v":0},{"$f":"DINAMICA!K535","v":0},{"$f":"VALUE(DINAMICA!$L535)","v":0},{"$f":"VALUE(DINAMICA!$M535)","v":0},{"$f":"VALUE(DINAMICA!$N535)","v":0},{"$f":"VALUE(DINAMICA!$O535)","v":0},{"$f":"VALUE(DINAMICA!$P535)","v":0},{"$f":"VALUE(DINAMICA!$Q535)","v":0},{"$f":"VALUE(DINAMICA!$R535)","v":0}]
[{"$f":"VALUE(DINAMICA!$A536)","v":0},{"$f":"VALUE(DINAMICA!$B536)","v":"00:00:00"},{"$f":"VALUE(DINAMICA!$C536)","v":0},{"$f":"DINAMICA!D536","v":0},{"$f":"DINAMICA!E536","v":0},{"$f":"DINAMICA!F536","v":0},{"$f":"DINAMICA!G536","v":0},{"$f":"DINAMICA!H536","v":0},{"$f":"DINAMICA!I536","v":0},{"$f":"DINAMICA!J536","v":0},{"$f":"DINAMICA!K536","v":0},{"$f":"VALUE(DINAMICA!$L536)","v":0},{"$f":"VALUE(DINAMICA!$M536)","v":0},{"$f":"VALUE(DINAMICA!$N536)","v":0},{"$f":"VALUE(DINAMICA!$O536)","v":0},{"$f":"VALUE(DINAMICA!$P536)","v":0},{"$f":"VALUE(DINAMICA!$Q536)","v":0},{"$f":"VALUE(DINAMICA!$R536)","v":0}]
[{"$f":"VALUE(DINAMICA!$A537)","v":0},{"$f":"VALUE(DINAMICA!$B537)","v":"00:00:00"},{"$f":"VALUE(DINAMICA!$C537)","v":0},{"$f":"DINAMICA!D537","v":0},{"$f":"DINAMICA!E537","v":0},{"$f":"DINAMICA!F537","v":0},{"$f":"DINAMICA!G537","v":0},{"$f":"DINAMICA!H537","v":0},{"$f":"DINAMICA!I537","v":0},{"$f":"DINAMICA!J537","v":0},{"$f":"DINAMICA!K537","v":0},{"$f":"VALUE(DINAMICA!$L537)","v":0},{"$f":"VALUE(DINAMICA!$M537)","v":0},{"$f":"VALUE(DINAMICA!$N537)","v":0},{"$f":"VALUE(DINAMICA!$O537)","v":0},{"$f":"VALUE(DINAMICA!$P537)","v":0},{"$f":"VALUE(DINAMICA!$Q537)","v":0},{"$f":"VALUE(DINAMICA!$R537)","v":0}]
[{"$f":"VALUE(DINAMICA!$A538)","v":0},{"$f":"VALUE(DINAMICA!$B538)","v":"00:00:00"},{"$f":"VALUE(DINAMICA!$C538)","v":0},{"$f":"DINAMICA!D538","v":0},{"$f":"DINAMICA!E538","v":0},{"$f":"DINAMICA!F538","v":0},{"$f":"DINAMICA!G538","v":0},{"$f":"DINAMICA!H538","v":0},{"$f":"DINAMICA!I538","v":0},{"$f":"DINAMICA!J538","v":0},{"$f":"DINAMICA!K538","v":0},{"$f":"VALUE(DINAMICA!$L538)","v":0},{"$f":"VALUE(DINAMICA!$M538)","v":0},{"$f":"VALUE(DINAMICA!$N538)","v":0},{"$f":"VALUE(DINAMICA!$O538)","v":0},{"$f":"VALUE(DINAMICA!$P538)","v":0},{"$f":"VALUE(DINAMICA!$Q538)","v":0},{"$f":"VALUE(DINAMICA!$R538)","v":0}]
[{"$f":"VALUE(DINAMICA!$A539)","v":0},{"$f":"VALUE(DINAMICA!$B539)","v":"00:00:00"},{"$f":"VALUE(DINAMICA!$C539)","v":0},{"$f":"DINAMICA!D539","v":0},{"$f":"DINAMICA!E539","v":0},{"$f":"DINAMICA!F539","v":0},{"$f":"DINAMICA!G539","v":0},{"$f":"DINAMICA!H539","v":0},{"$f":"DINAMICA!I539","v":0},{"$f":"DINAMICA!J539","v":0},{"$f":"DINAMICA!K539","v":0},{"$f":"VALUE(DINAMICA!$L539)","v":0},{"$f":"VALUE(DINAMICA!$M539)","v":0},{"$f":"VALUE(DINAMICA!$N539)","v":0},{"$f":"VALUE(DINAMICA!$O539)","v":0},{"$f":"VALUE(DINAMICA!$P539)","v":0},{"$f":"VALUE(DINAMICA!$Q539)","v":0},{"$f":"VALUE(DINAMICA!$R539)","v":0}]
[{"$f":"VALUE(DINAMICA!$A540)","v":0},{"$f":"VALUE(DINAMICA!$B540)","v":"00:00:00"},{"$f":"VALUE(DINAMICA!$C540)","v":0},{"$f":"DINAMICA!D540","v":0},{"$f":"DINAMICA!E540","v":0},{"$f":"DINAMICA!F540","v":0},{"$f":"DINAMICA!G540","v":0},{"$f":"DINAMICA!H540","v":0},{"$f":"DINAMICA!I540","v":0},{"$f":"DINAMICA!J540","v":0},{"$f":"DINAMICA!K540","v":0},{"$f":"VALUE(DINAMICA!$L540)","v":0},{"$f":"VALUE(DINAMICA!$M540)","v":0},{"$f":"VALUE(DINAMICA!$N540)","v":0},{"$f":"VALUE(DINAMICA!$O540)","v":0},{"$f":"VALUE(DINAMICA!$P540)","v":0},{"$f":"VALUE(DINAMICA!$Q540)","v":0},{"$f":"VALUE(DINAMICA!$R540)","v":0}]
[{"$f":"VALUE(DINAMICA!$A541)","v":0},{"$f":"VALUE(DINAMICA!$B541)","v":"00:00:00"},{"$f":"VALUE(DINAMICA!$C541)","v":0},{"$f":"DINAMICA!D541","v":0},{"$f":"DINAMICA!E541","v":0},{"$f":"DINAMICA!F541","v":0},{"$f":"DINAMICA!G541","v":0},{"$f":"DINAMICA!H541","v":0},{"$f":"DINAMICA!I541","v":0},{"$f":"DINAMICA!J541","v":0},{"$f":"DINAMICA!K541","v":0},{"$f":"VALUE(DINAMICA!$L541)","v":0},{"$f":"VALUE(DINAMICA!$M541)","v":0},{"$f":"VALUE(DINAMICA!$N541)","v":0},{"$f":"VALUE(DINAMICA!$O541)","v":0},{"$f":"VALUE(DINAMICA!$P541)","v":0},{"$f":"VALUE(DINAMICA!$Q541)","v":0},{"$f":"VALUE(DINAMICA!$R541)","v":0}]
[{"$f":"VALUE(DINAMICA!$A542)","v":0},{"$f":"VALUE(DINAMICA!$B542)","v":"00:00:00"},{"$f":"VALUE(DINAMICA!$C542)","v":0},{"$f":"DINAMICA!D542","v":0},{"$f":"DINAMICA!E542","v":0},{"$f":"DINAMICA!F542","v":0},{"$f":"DINAMICA!G542","v":0},{"$f":"DINAMICA!H542","v":0},{"$f":"DINAMICA!I542","v":0},{"$f":"DINAMICA!J542","v":0},{"$f":"DINAMICA!K542","v":0},{"$f":"VALUE(DINAMICA!$L542)","v":0},{"$f":"VALUE(DINAMICA!$M542)","v":0},{"$f":"VALUE(DINAMICA!$N542)","v":0},{"$f":"VALUE(DINAMICA!$O542)","v":0},{"$f":"VALUE(DINAMICA!$P542)","v":0},{"$f":"VALUE(DINAMICA!$Q542)","v":0},{"$f":"VALUE(DINAMICA!$R542)","v":0}]
[{"$f":"VALUE(DINAMICA!$A543)","v":0},{"$f":"VALUE(DINAMICA!$B543)","v":"00:00:00"},{"$f":"VALUE(DINAMICA!$C543)","v":0},{"$f":"DINAMICA!D543","v":0},{"$f":"DINAMICA!E543","v":0},{"$f":"DINAMICA!F543","v":0},{"$f":"DINAMICA!G543","v":0},{"$f":"DINAMICA!H543","v":0},{"$f":"DINAMICA!I543","v":0},{"$f":"DINAMICA!J543","v":0},{"$f":"DINAMICA!K543","v":0},{"$f":"VALUE(DINAMICA!$L543)","v":0},{"$f":"VALUE(DINAMICA!$M543)","v":0},{"$f":"VALUE(DINAMICA!$N543)","v":0},{"$f":"VALUE(DINAMICA!$O543)","v":0},{"$f":"VALUE(DINAMICA!$P543)","v":0},{"$f":"VALUE(DINAMICA!$Q543)","v":0},{"$f":"VALUE(DINAMICA!$R543)","v":0}]
[{"$f":"VALUE(DINAMICA!$A544)","v":0},{"$f":"VALUE(DINAMICA!$B544)","v":"00:00:00"},{"$f":"VALUE(DINAMICA!$C544)","v":0},{"$f":"DINAMICA!D544","v":0},{"$f":"DINAMICA!E544","v":0},{"$f":"DINAMICA!F544","v":0},{"$f":"DINAMICA!G544","v":0},{"$f":"DINAMICA!H544","v":0},{"$f":"DINAMICA!I544","v":0},{"$f":"DINAMICA!J544","v":0},{"$f":"DINAMICA!K544","v":0},{"$f":"VALUE(DINAMICA!$L544)","v":0},{"$f":"VALUE(DINAMICA!$M544)","v":0},{"$f":"VALUE(DINAMICA!$N544)","v":0},{"$f":"VALUE(DINAMICA!$O544)","v":0},{"$f":"VALUE(DINAMICA!$P544)","v":0},{"$f":"VALUE(DINAMICA!$Q544)","v":0},{"$f":"VALUE(DINAMICA!$R544)","v":0}]
[{"$f":"VALUE(DINAMICA!$A545)","v":0},{"$f":"VALUE(DINAMICA!$B545)","v":"00:00:00"},{"$f":"VALUE(DINAMICA!$C545)","v":0},{"$f":"DINAMICA!D545","v":0},{"$f":"DINAMICA!E545","v":0},{"$f":"DINAMICA!F545","v":0},{"$f":"DINAMICA!G545","v":0},{"$f":"DINAMICA!H545","v":0},{"$f":"DINAMICA!I545","v":0},{"$f":"DINAMICA!J545","v":0},{"$f":"DINAMICA!K545","v":0},{"$f":"VALUE(DINAMICA!$L545)","v":0},{"$f":"VALUE(DINAMICA!$M545)","v":0},{"$f":"VALUE(DINAMICA!$N545)","v":0},{"$f":"VALUE(DINAMICA!$O545)","v":0},{"$f":"VALUE(DINAMICA!$P545)","v":0},{"$f":"VALUE(DINAMICA!$Q545)","v":0},{"$f":"VALUE(DINAMICA!$R545)","v":0}]
[{"$f":"VALUE(DINAMICA!$A546)","v":0},{"$f":"VALUE(DINAMICA!$B546)","v":"00:00:00"},{"$f":"VALUE(DINAMICA!$C546)","v":0},{"$f":"DINAMICA!D546","v":0},{"$f":"DINAMICA!E546","v":0},{"$f":"DINAMICA!F546","v":0},{"$f":"DINAMICA!G546","v":0},{"$f":"DINAMICA!H546","v":0},{"$f":"DINAMICA!I546","v":0},{"$f":"DINAMICA!J546","v":0},{"$f":"DINAMICA!K546","v":0},{"$f":"VALUE(DINAMICA!$L546)","v":0},{"$f":"VALUE(DINAMICA!$M546)","v":0},{"$f":"VALUE(DINAMICA!$N546)","v":0},{"$f":"VALUE(DINAMICA!$O546)","v":0},{"$f":"VALUE(DINAMICA!$P546)","v":0},{"$f":"VALUE(DINAMICA!$Q546)","v":0},{"$f":"VALUE(DINAMICA!$R546)","v":0}]
[{"$f":"VALUE(DINAMICA!$A547)","v":0},{"$f":"VALUE(DINAMICA!$B547)","v":"00:00:00"},{"$f":"VALUE(DINAMICA!$C547)","v":0},{"$f":"DINAMICA!D547","v":0},{"$f":"DINAMICA!E547","v":0},{"$f":"DINAMICA!F547","v":0},{"$f":"DINAMICA!G547","v":0},{"$f":"DINAMICA!H547","v":0},{"$f":"DINAMICA!I547","v":0},{"$f":"DINAMICA!J547","v":0},{"$f":"DINAMICA!K547","v":0},{"$f":"VALUE(DINAMICA!$L547)","v":0},{"$f":"VALUE(DINAMICA!$M547)","v":0},{"$f":"VALUE(DINAMICA!$N547)","v":0},{"$f":"VALUE(DINAMICA!$O547)","v":0},{"$f":"VALUE(DINAMICA!$P547)","v":0},{"$f":"VALUE(DINAMICA!$Q547)","v":0},{"$f":"VALUE(DINAMICA!$R547)","v":0}]
[{"$f":"VALUE(DINAMICA!$A548)","v":0},{"$f":"VALUE(DINAMICA!$B548)","v":"00:00:00"},{"$f":"VALUE(DINAMICA!$C548)","v":0},{"$f":"DINAMICA!D548","v":0},{"$f":"DINAMICA!E548","v":0},{"$f":"DINAMICA!F548","v":0},{"$f":"DINAMICA!G548","v":0},{"$f":"DINAMICA!H548","v":0},{"$f":"DINAMICA!I548","v":0},{"$f":"DINAMICA!J548","v":0},{"$f":"DINAMICA!K548","v":0},{"$f":"VALUE(DINAMICA!$L548)","v":0},{"$f":"VALUE(DINAMICA!$M548)","v":0},{"$f":"VALUE(DINAMICA!$N548)","v":0},{"$f":"VALUE(DINAMICA!$O548)","v":0},{"$f":"VALUE(DINAMICA!$P548)","v":0},{"$f":"VALUE(DINAMICA!$Q548)","v":0},{"$f":"VALUE(DINAMICA!$R548)","v":0}]
[{"$f":"VALUE(DINAMICA!$A549)","v":0},{"$f":"VALUE(DINAMICA!$B549)","v":"00:00:00"},{"$f":"VALUE(DINAMICA!$C549)","v":0},{"$f":"DINAMICA!D549","v":0},{"$f":"DINAMICA!E549","v":0},{"$f":"DINAMICA!F549","v":0},{"$f":"DINAMICA!G549","v":0},{"$f":"DINAMICA!H549","v":0},{"$f":"DINAMICA!I549","v":0},{"$f":"DINAMICA!J549","v":0},{"$f":"DINAMICA!K549","v":0},{"$f":"VALUE(DINAMICA!$L549)","v":0},{"$f":"VALUE(DINAMICA!$M549)","v":0},{"$f":"VALUE(DINAMICA!$N549)","v":0},{"$f":"VALUE(DINAMICA!$O549)","v":0},{"$f":"VALUE(DINAMICA!$P549)","v":0},{"$f":"VALUE(DINAMICA!$Q549)","v":0},{"$f":"VALUE(DINAMICA!$R549)","v":0}]
[{"$f":"VALUE(DINAMICA!$A550)","v":0},{"$f":"VALUE(DINAMICA!$B550)","v":"00:00:00"},{"$f":"VALUE(DINAMICA!$C550)","v":0},{"$f":"DINAMICA!D550","v":0},{"$f":"DINAMICA!E550","v":0},{"$f":"DINAMICA!F550","v":0},{"$f":"DINAMICA!G550","v":0},{"$f":"DINAMICA!H550","v":0},{"$f":"DINAMICA!I550","v":0},{"$f":"DINAMICA!J550","v":0},{"$f":"DINAMICA!K550","v":0},{"$f":"VALUE(DINAMICA!$L550)","v":0},{"$f":"VALUE(DINAMICA!$M550)","v":0},{"$f":"VALUE(DINAMICA!$N550)","v":0},{"$f":"VALUE(DINAMICA!$O550)","v":0},{"$f":"VALUE(DINAMICA!$P550)","v":0},{"$f":"VALUE(DINAMICA!$Q550)","v":0},{"$f":"VALUE(DINAMICA!$R550)","v":0}]
[{"$f":"VALUE(DINAMICA!$A551)","v":0},{"$f":"VALUE(DINAMICA!$B551)","v":"00:00:00"},{"$f":"VALUE(DINAMICA!$C551)","v":0},{"$f":"DINAMICA!D551","v":0},{"$f":"DINAMICA!E551","v":0},{"$f":"DINAMICA!F551","v":0},{"$f":"DINAMICA!G551","v":0},{"$f":"DINAMICA!H551","v":0},{"$f":"DINAMICA!I551","v":0},{"$f":"DINAMICA!J551","v":0},{"$f":"DINAMICA!K551","v":0},{"$f":"VALUE(DINAMICA!$L551)","v":0},{"$f":"VALUE(DINAMICA!$M551)","v":0},{"$f":"VALUE(DINAMICA!$N551)","v":0},{"$f":"VALUE(DINAMICA!$O551)","v":0},{"$f":"VALUE(DINAMICA!$P551)","v":0},{"$f":"VALUE(DINAMICA!$Q551)","v":0},{"$f":"VALUE(DINAMICA!$R551)","v":0}]
[{"$f":"VALUE(DINAMICA!$A552)","v":0},{"$f":"VALUE(DINAMICA!$B552)","v":"00:00:00"},{"$f":"VALUE(DINAMICA!$C552)","v":0},{"$f":"DINAMICA!D552","v":0},{"$f":"DINAMICA!E552","v":0},{"$f":"DINAMICA!F552","v":0},{"$f":"DINAMICA!G552","v":0},{"$f":"DINAMICA!H552","v":0},{"$f":"DINAMICA!I552","v":0},{"$f":"DINAMICA!J552","v":0},{"$f":"DINAMICA!K552","v":0},{"$f":"VALUE(DINAMICA!$L552)","v":0},{"$f":"VALUE(DINAMICA!$M552)","v":0},{"$f":"VALUE(DINAMICA!$N552)","v":0},{"$f":"VALUE(DINAMICA!$O552)","v":0},{"$f":"VALUE(DINAMICA!$P552)","v":0},{"$f":"VALUE(DINAMICA!$Q552)","v":0},{"$f":"VALUE(DINAMICA!$R552)","v":0}]
[{"$f":"VALUE(DINAMICA!$A553)","v":0},{"$f":"VALUE(DINAMICA!$B553)","v":"00:00:00"},{"$f":"VALUE(DINAMICA!$C553)","v":0},{"$f":"DINAMICA!D553","v":0},{"$f":"DINAMICA!E553","v":0},{"$f":"DINAMICA!F553","v":0},{"$f":"DINAMICA!G553","v":0},{"$f":"DINAMICA!H553","v":0},{"$f":"DINAMICA!I553","v":0},{"$f":"DINAMICA!J553","v":0},{"$f":"DINAMICA!K553","v":0},{"$f":"VALUE(DINAMICA!$L553)","v":0},{"$f":"VALUE(DINAMICA!$M553)","v":0},{"$f":"VALUE(DINAMICA!$N553)","v":0},{"$f":"VALUE(DINAMICA!$O553)","v":0},{"$f":"VALUE(DINAMICA!$P553)","v":0},{"$f":"VALUE(DINAMICA!$Q553)","v":0},{"$f":"VALUE(DINAMICA!$R553)","v":0}]
[{"$f":"VALUE(DINAMICA!$A554)","v":0},{"$f":"VALUE(DINAMICA!$B554)","v":"00:00:00"},{"$f":"VALUE(DINAMICA!$C554)","v":0},{"$f":"DINAMICA!D554","v":0},{"$f":"DINAMICA!E554","v":0},{"$f":"DINAMICA!F554","v":0},{"$f":"DINAMICA!G554","v":0},{"$f":"DINAMICA!H554","v":0},{"$f":"DINAMICA!I554","v":0},{"$f":"DINAMICA!J554","v":0},{"$f":"DINAMICA!K554","v":0},{"$f":"VALUE(DINAMICA!$L554)","v":0},{"$f":"VALUE(DINAMICA!$M554)","v":0},{"$f":"VALUE(DINAMICA!$N554)","v":0},{"$f":"VALUE(DINAMICA!$O554)","v":0},{"$f":"VALUE(DINAMICA!$P554)","v":0},{"$f":"VALUE(DINAMICA!$Q554)","v":0},{"$f":"VALUE(DINAMICA!$R554)","v":0}]
[{"$f":"VALUE(DINAMICA!$A555)","v":0},{"$f":"VALUE(DINAMICA!$B555)","v":"00:00:00"},{"$f":"VALUE(DINAMICA!$C555)","v":0},{"$f":"DINAMICA!D555","v":0},{"$f":"DINAMICA!E555","v":0},{"$f":"DINAMICA!F555","v":0},{"$f":"DINAMICA!G555","v":0},{"$f":"DINAMICA!H555","v":0},{"$f":"DINAMICA!I555","v":0},{"$f":"DINAMICA!J555","v":0},{"$f":"DINAMICA!K555","v":0},{"$f":"VALUE(DINAMICA!$L555)","v":0},{"$f":"VALUE(DINAMICA!$M555)","v":0},{"$f":"VALUE(DINAMICA!$N555)","v":0},{"$f":"VALUE(DINAMICA!$O555)","v":0},{"$f":"VALUE(DINAMICA!$P555)","v":0},{"$f":"VALUE(DINAMICA!$Q555)","v":0},{"$f":"VALUE(DINAMICA!$R555)","v":0}]
[{"$f":"VALUE(DINAMICA!$A556)","v":0},{"$f":"VALUE(DINAMICA!$B556)","v":"00:00:00"},{"$f":"VALUE(DINAMICA!$C556)","v":0},{"$f":"DINAMICA!D556","v":0},{"$f":"DINAMICA!E556","v":0},{"$f":"DINAMICA!F556","v":0},{"$f":"DINAMICA!G556","v":0},{"$f":"DINAMICA!H556","v":0},{"$f":"DINAMICA!I556","v":0},{"$f":"DINAMICA!J556","v":0},{"$f":"DINAMICA!K556","v":0},{"$f":"VALUE(DINAMICA!$L556)","v":0},{"$f":"VALUE(DINAMICA!$M556)","v":0},{"$f":"VALUE(DINAMICA!$N556)","v":0},{"$f":"VALUE(DINAMICA!$O556)","v":0},{"$f":"VALUE(DINAMICA!$P556)","v":0},{"$f":"VALUE(DINAMICA!$Q556)","v":0},{"$f":"VALUE(DINAMICA!$R556)","v":0}]
[{"$f":"VALUE(DINAMICA!$A557)","v":0},{"$f":"VALUE(DINAMICA!$B557)","v":"00:00:00"},{"$f":"VALUE(DINAMICA!$C557)","v":0},{"$f":"DINAMICA!D557","v":0},{"$f":"DINAMICA!E557","v":0},{"$f":"DINAMICA!F557","v":0},{"$f":"DINAMICA!G557","v":0},{"$f":"DINAMICA!H557","v":0},{"$f":"DINAMICA!I557","v":0},{"$f":"DINAMICA!J557","v":0},{"$f":"DINAMICA!K557","v":0},{"$f":"VALUE(DINAMICA!$L557)","v":0},{"$f":"VALUE(DINAMICA!$M557)","v":0},{"$f":"VALUE(DINAMICA!$N557)","v":0},{"$f":"VALUE(DINAMICA!$O557)","v":0},{"$f":"VALUE(DINAMICA!$P557)","v":0},{"$f":"VALUE(DINAMICA!$Q557)","v":0},{"$f":"VALUE(DINAMICA!$R557)","v":0}]
[{"$f":"VALUE(DINAMICA!$A558)","v":0},{"$f":"VALUE(DINAMICA!$B558)","v":"00:00:00"},{"$f":"VALUE(DINAMICA!$C558)","v":0},{"$f":"DINAMICA!D558","v":0},{"$f":"DINAMICA!E558","v":0},{"$f":"DINAMICA!F558","v":0},{"$f":"DINAMICA!G558","v":0},{"$f":"DINAMICA!H558","v":0},{"$f":"DINAMICA!I558","v":0},{"$f":"DINAMICA!J558","v":0},{"$f":"DINAMICA!K558","v":0},{"$f":"VALUE(DINAMICA!$L558)","v":0},{"$f":"VALUE(DINAMICA!$M558)","v":0},{"$f":"VALUE(DINAMICA!$N558)","v":0},{"$f":"VALUE(DINAMICA!$O558)","v":0},{"$f":"VALUE(DINAMICA!$P558)","v":0},{"$f":"VALUE(DINAMICA!$Q558)","v":0},{"$f":"VALUE(DINAMICA!$R558)","v":0}]
[{"$f":"VALUE(DINAMICA!$A559)","v":0},{"$f":"VALUE(DINAMICA!$B559)","v":"00:00:00"},{"$f":"VALUE(DINAMICA!$C559)","v":0},{"$f":"DINAMICA!D559","v":0},{"$f":"DINAMICA!E559","v":0},{"$f":"DINAMICA!F559","v":0},{"$f":"DINAMICA!G559","v":0},{"$f":"DINAMICA!H559","v":0},{"$f":"DINAMICA!I559","v":0},{"$f":"DINAMICA!J559","v":0},{"$f":"DINAMICA!K559","v":0},{"$f":"VALUE(DINAMICA!$L559)","v":0},{"$f":"VALUE(DINAMICA!$M559)","v":0},{"$f":"VALUE(DINAMICA!$N559)","v":0},{"$f":"VALUE(DINAMICA!$O559)","v":0},{"$f":"VALUE(DINAMICA!$P559)","v":0},{"$f":"VALUE(DINAMICA!$Q559)","v":0},{"$f":"VALUE(DINAMICA!$R559)","v":0}]
[{"$f":"VALUE(DINAMICA!$A560)","v":0},{"$f":"VALUE(DINAMICA!$B560)","v":"00:00:00"},{"$f":"VALUE(DINAMICA!$C560)","v":0},{"$f":"DINAMICA!D560","v":0},{"$f":"DINAMICA!E560","v":0},{"$f":"DINAMICA!F560","v":0},{"$f":"DINAMICA!G560","v":0},{"$f":"DINAMICA!H560","v":0},{"$f":"DINAMICA!I560","v":0},{"$f":"DINAMICA!J560","v":0},{"$f":"DINAMICA!K560","v":0},{"$f":"VALUE(DINAMICA!$L560)","v":0},{"$f":"VALUE(DINAMICA!$M560)","v":0},{"$f":"VALUE(DINAMICA!$N560)","v":0},{"$f":"VALUE(DINAMICA!$O560)","v":0},{"$f":"VALUE(DINAMICA!$P560)","v":0},{"$f":"VALUE(DINAMICA!$Q560)","v":0},{"$f":"VALUE(DINAMICA!$R560)","v":0}]
[{"$f":"VALUE(DINAMICA!$A561)","v":0},{"$f":"VALUE(DINAMICA!$B561)","v":"00:00:00"},{"$f":"VALUE(DINAMICA!$C561)","v":0},{"$f":"DINAMICA!D561","v":0},{"$f":"DINAMICA!E561","v":0},{"$f":"DINAMICA!F561","v":0},{"$f":"DINAMICA!G561","v":0},{"$f":"DINAMICA!H561","v":0},{"$f":"DINAMICA!I561","v":0},{"$f":"DINAMICA!J561","v":0},{"$f":"DINAMICA!K561","v":0},{"$f":"VALUE(DINAMICA!$L561)","v":0},{"$f":"VALUE(DINAMICA!$M561)","v":0},{"$f":"VALUE(DINAMICA!$N561)","v":0},{"$f":"VALUE(DINAMICA!$O561)","v":0},{"$f":"VALUE(DINAMICA!$P561)","v":0},{"$f":"VALUE(DINAMICA!$Q561)","v":0},{"$f":"VALUE(DINAMICA!$R561)","v":0}]
[{"$f":"VALUE(DINAMICA!$A562)","v":0},{"$f":"VALUE(DINAMICA!$B562)","v":"00:00:00"},{"$f":"VALUE(DINAMICA!$C562)","v":0},{"$f":"DINAMICA!D562","v":0},{"$f":"DINAMICA!E562","v":0},{"$f":"DINAMICA!F562","v":0},{"$f":"DINAMICA!G562","v":0},{"$f":"DINAMICA!H562","v":0},{"$f":"DINAMICA!I562","v":0},{"$f":"DINAMICA!J562","v":0},{"$f":"DINAMICA!K562","v":0},{"$f":"VALUE(DINAMICA!$L562)","v":0},{"$f":"VALUE(DINAMICA!$M562)","v":0},{"$f":"VALUE(DINAMICA!$N562)","v":0},{"$f":"VALUE(DINAMICA!$O562)","v":0},{"$f":"VALUE(DINAMICA!$P562)","v":0},{"$f":"VALUE(DINAMICA!$Q562)","v":0},{"$f":"VALUE(DINAMICA!$R562)","v":0}]
[{"$f":"VALUE(DINAMICA!$A563)","v":0},{"$f":"VALUE(DINAMICA!$B563)","v":"00:00:00"},{"$f":"VALUE(DINAMICA!$C563)","v":0},{"$f":"DINAMICA!D563","v":0},{"$f":"DINAMICA!E563","v":0},{"$f":"DINAMICA!F563","v":0},{"$f":"DINAMICA!G563","v":0},{"$f":"DINAMICA!H563","v":0},{"$f":"DINAMICA!I563","v":0},{"$f":"DINAMICA!J563","v":0},{"$f":"DINAMICA!K563","v":0},{"$f":"VALUE(DINAMICA!$L563)","v":0},{"$f":"VALUE(DINAMICA!$M563)","v":0},{"$f":"VALUE(DINAMICA!$N563)","v":0},{"$f":"VALUE(DINAMICA!$O563)","v":0},{"$f":"VALUE(DINAMICA!$P563)","v":0},{"$f":"VALUE(DINAMICA!$Q563)","v":0},{"$f":"VALUE(DINAMICA!$R563)","v":0}]
[{"$f":"VALUE(DINAMICA!$A564)","v":0},{"$f":"VALUE(DINAMICA!$B564)","v":"00:00:00"},{"$f":"VALUE(DINAMICA!$C564)","v":0},{"$f":"DINAMICA!D564","v":0},{"$f":"DINAMICA!E564","v":0},{"$f":"DINAMICA!F564","v":0},{"$f":"DINAMICA!G564","v":0},{"$f":"DINAMICA!H564","v":0},{"$f":"DINAMICA!I564","v":0},{"$f":"DINAMICA!J564","v":0},{"$f":"DINAMICA!K564","v":0},{"$f":"VALUE(DINAMICA!$L564)","v":0},{"$f":"VALUE(DINAMICA!$M564)","v":0},{"$f":"VALUE(DINAMICA!$N564)","v":0},{"$f":"VALUE(DINAMICA!$O564)","v":0},{"$f":"VALUE(DINAMICA!$P564)","v":0},{"$f":"VALUE(DINAMICA!$Q564)","v":0},{"$f":"VALUE(DINAMICA!$R564)","v":0}]
[{"$f":"VALUE(DINAMICA!$A565)","v":0},{"$f":"VALUE(DINAMICA!$B565)","v":"00:00:00"},{"$f":"VALUE(DINAMICA!$C565)","v":0},{"$f":"DINAMICA!D565","v":0},{"$f":"DINAMICA!E565","v":0},{"$f":"DINAMICA!F565","v":0},{"$f":"DINAMICA!G565","v":0},{"$f":"DINAMICA!H565","v":0},{"$f":"DINAMICA!I565","v":0},{"$f":"DINAMICA!J565","v":0},{"$f":"DINAMICA!K565","v":0},{"$f":"VALUE(DINAMICA!$L565)","v":0},{"$f":"VALUE(DINAMICA!$M565)","v":0},{"$f":"VALUE(DINAMICA!$N565)","v":0},{"$f":"VALUE(DINAMICA!$O565)","v":0},{"$f":"VALUE(DINAMICA!$P565)","v":0},{"$f":"VALUE(DINAMICA!$Q565)","v":0},{"$f":"VALUE(DINAMICA!$R565)","v":0}]
[{"$f":"VALUE(DINAMICA!$A566)","v":0},{"$f":"VALUE(DINAMICA!$B566)","v":"00:00:00"},{"$f":"VALUE(DINAMICA!$C566)","v":0},{"$f":"DINAMICA!D566","v":0},{"$f":"DINAMICA!E566","v":0},{"$f":"DINAMICA!F566","v":0},{"$f":"DINAMICA!G566","v":0},{"$f":"DINAMICA!H566","v":0},{"$f":"DINAMICA!I566","v":0},{"$f":"DINAMICA!J566","v":0},{"$f":"DINAMICA!K566","v":0},{"$f":"VALUE(DINAMICA!$L566)","v":0},{"$f":"VALUE(DINAMICA!$M566)","v":0},{"$f":"VALUE(DINAMICA!$N566)","v":0},{"$f":"VALUE(DINAMICA!$O566)","v":0},{"$f":"VALUE(DINAMICA!$P566)","v":0},{"$f":"VALUE(DINAMICA!$Q566)","v":0},{"$f":"VALUE(DINAMICA!$R566)","v":0}]
[{"$f":"VALUE(DINAMICA!$A567)","v":0},{"$f":"VALUE(DINAMICA!$B567)","v":"00:00:00"},{"$f":"VALUE(DINAMICA!$C567)","v":0},{"$f":"DINAMICA!D567","v":0},{"$f":"DINAMICA!E567","v":0},{"$f":"DINAMICA!F567","v":0},{"$f":"DINAMICA!G567","v":0},{"$f":"DINAMICA!H567","v":0},{"$f":"DINAMICA!I567","v":0},{"$f":"DINAMICA!J567","v":0},{"$f":"DINAMICA!K567","v":0},{"$f":"VALUE(DINAMICA!$L567)","v":0},{"$f":"VALUE(DINAMICA!$M567)","v":0},{"$f":"VALUE(DINAMICA!$N567)","v":0},{"$f":"VALUE(DINAMICA!$O567)","v":0},{"$f":"VALUE(DINAMICA!$P567)","v":0},{"$f":"VALUE(DINAMICA!$Q567)","v":0},{"$f":"VALUE(DINAMICA!$R567)","v":0}]
[{"$f":"VALUE(DINAMICA!$A568)","v":0},{"$f":"VALUE(DINAMICA!$B568)","v":"00:00:00"},{"$f":"VALUE(DINAMICA!$C568)","v":0},{"$f":"DINAMICA!D568","v":0},{"$f":"DINAMICA!E568","v":0},{"$f":"DINAMICA!F568","v":0},{"$f":"DINAMICA!G568","v":0},{"$f":"DINAMICA!H568","v":0},{"$f":"DINAMICA!I568","v":0},{"$f":"DINAMICA!J568","v":0},{"$f":"DINAMICA!K568","v":0},{"$f":"VALUE(DINAMICA!$L568)","v":0},{"$f":"VALUE(DINAMICA!$M568)","v":0},{"$f":"VALUE(DINAMICA!$N568)","v":0},{"$f":"VALUE(DINAMICA!$O568)","v":0},{"$f":"VALUE(DINAMICA!$P568)","v":0},{"$f":"VALUE(DINAMICA!$Q568)","v":0},{"$f":"VALUE(DINAMICA!$R568)","v":0}]
[{"$f":"VALUE(DINAMICA!$A569)","v":0},{"$f":"VALUE(DINAMICA!$B569)","v":"00:00:00"},{"$f":"VALUE(DINAMICA!$C569)","v":0},{"$f":"DINAMICA!D569","v":0},{"$f":"DINAMICA!E569","v":0},{"$f":"DINAMICA!F569","v":0},{"$f":"DINAMICA!G569","v":0},{"$f":"DINAMICA!H569","v":0},{"$f":"DINAMICA!I569","v":0},{"$f":"DINAMICA!J569","v":0},{"$f":"DINAMICA!K569","v":0},{"$f":"VALUE(DINAMICA!$L569)","v":0},{"$f":"VALUE(DINAMICA!$M569)","v":0},{"$f":"VALUE(DINAMICA!$N569)","v":0},{"$f":"VALUE(DINAMICA!$O569)","v":0},{"$f":"VALUE(DINAMICA!$P569)","v":0},{"$f":"VALUE(DINAMICA!$Q569)","v":0},{"$f":"VALUE(DINAMICA!$R569)","v":0}]
[{"$f":"VALUE(DINAMICA!$A570)","v":0},{"$f":"VALUE(DINAMICA!$B570)","v":"00:00:00"},{"$f":"VALUE(DINAMICA!$C570)","v":0},{"$f":"DINAMICA!D570","v":0},{"$f":"DINAMICA!E570","v":0},{"$f":"DINAMICA!F570","v":0},{"$f":"DINAMICA!G570","v":0},{"$f":"DINAMICA!H570","v":0},{"$f":"DINAMICA!I570","v":0},{"$f":"DINAMICA!J570","v":0},{"$f":"DINAMICA!K570","v":0},{"$f":"VALUE(DINAMICA!$L570)","v":0},{"$f":"VALUE(DINAMICA!$M570)","v":0},{"$f":"VALUE(DINAMICA!$N570)","v":0},{"$f":"VALUE(DINAMICA!$O570)","v":0},{"$f":"VALUE(DINAMICA!$P570)","v":0},{"$f":"VALUE(DINAMICA!$Q570)","v":0},{"$f":"VALUE(DINAMICA!$R570)","v":0}]
[{"$f":"VALUE(DINAMICA!$A571)","v":0},{"$f":"VALUE(DINAMICA!$B571)","v":"00:00:00"},{"$f":"VALUE(DINAMICA!$C571)","v":0},{"$f":"DINAMICA!D571","v":0},{"$f":"DINAMICA!E571","v":0},{"$f":"DINAMICA!F571","v":0},{"$f":"DINAMICA!G571","v":0},{"$f":"DINAMICA!H571","v":0},{"$f":"DINAMICA!I571","v":0},{"$f":"DINAMICA!J571","v":0},{"$f":"DINAMICA!K571","v":0},{"$f":"VALUE(DINAMICA!$L571)","v":0},{"$f":"VALUE(DINAMICA!$M571)","v":0},{"$f":"VALUE(DINAMICA!$N571)","v":0},{"$f":"VALUE(DINAMICA!$O571)","v":0},{"$f":"VALUE(DINAMICA!$P571)","v":0},{"$f":"VALUE(DINAMICA!$Q571)","v":0},{"$f":"VALUE(DINAMICA!$R571)","v":0}]
[{"$f":"VALUE(DINAMICA!$A572)","v":0},{"$f":"VALUE(DINAMICA!$B572)","v":"00:00:00"},{"$f":"VALUE(DINAMICA!$C572)","v":0},{"$f":"DINAMICA!D572","v":0},{"$f":"DINAMICA!E572","v":0},{"$f":"DINAMICA!F572","v":0},{"$f":"DINAMICA!G572","v":0},{"$f":"DINAMICA!H572","v":0},{"$f":"DINAMICA!I572","v":0},{"$f":"DINAMICA!J572","v":0},{"$f":"DINAMICA!K572","v":0},{"$f":"VALUE(DINAMICA!$L572)","v":0},{"$f":"VALUE(DINAMICA!$M572)","v":0},{"$f":"VALUE(DINAMICA!$N572)","v":0},{"$f":"VALUE(DINAMICA!$O572)","v":0},{"$f":"VALUE(DINAMICA!$P572)","v":0},{"$f":"VALUE(DINAMICA!$Q572)","v":0},{"$f":"VALUE(DINAMICA!$R572)","v":0}]
[{"$f":"VALUE(DINAMICA!$A573)","v":0},{"$f":"VALUE(DINAMICA!$B573)","v":"00:00:00"},{"$f":"VALUE(DINAMICA!$C573)","v":0},{"$f":"DINAMICA!D573","v":0},{"$f":"DINAMICA!E573","v":0},{"$f":"DINAMICA!F573","v":0},{"$f":"DINAMICA!G573","v":0},{"$f":"DINAMICA!H573","v":0},{"$f":"DINAMICA!I573","v":0},{"$f":"DINAMICA!J573","v":0},{"$f":"DINAMICA!K573","v":0},{"$f":"VALUE(DINAMICA!$L573)","v":0},{"$f":"VALUE(DINAMICA!$M573)","v":0},{"$f":"VALUE(DINAMICA!$N573)","v":0},{"$f":"VALUE(DINAMICA!$O573)","v":0},{"$f":"VALUE(DINAMICA!$P573)","v":0},{"$f":"VALUE(DINAMICA!$Q573)","v":0},{"$f":"VALUE(DINAMICA!$R573)","v":0}]
[{"$f":"VALUE(DINAMICA!$A574)","v":0},{"$f":"VALUE(DINAMICA!$B574)","v":"00:00:00"},{"$f":"VALUE(DINAMICA!$C574)","v":0},{"$f":"DINAMICA!D574","v":0},{"$f":"DINAMICA!E574","v":0},{"$f":"DINAMICA!F574","v":0},{"$f":"DINAMICA!G574","v":0},{"$f":"DINAMICA!H574","v":0},{"$f":"DINAMICA!I574","v":0},{"$f":"DINAMICA!J574","v":0},{"$f":"DINAMICA!K574","v":0},{"$f":"VALUE(DINAMICA!$L574)","v":0},{"$f":"VALUE(DINAMICA!$M574)","v":0},{"$f":"VALUE(DINAMICA!$N574)","v":0},{"$f":"VALUE(DINAMICA!$O574)","v":0},{"$f":"VALUE(DINAMICA!$P574)","v":0},{"$f":"VALUE(DINAMICA!$Q574)","v":0},{"$f":"VALUE(DINAMICA!$R574)","v":0}]
[{"$f":"VALUE(DINAMICA!$A575)","v":0},{"$f":"VALUE(DINAMICA!$B575)","v":"00:00:00"},{"$f":"VALUE(DINAMICA!$C575)","v":0},{"$f":"DINAMICA!D575","v":0},{"$f":"DINAMICA!E575","v":0},{"$f":"DINAMICA!F575","v":0},{"$f":"DINAMICA!G575","v":0},{"$f":"DINAMICA!H575","v":0},{"$f":"DINAMICA!I575","v":0},{"$f":"DINAMICA!J575","v":0},{"$f":"DINAMICA!K575","v":0},{"$f":"VALUE(DINAMICA!$L575)","v":0},{"$f":"VALUE(DINAMICA!$M575)","v":0},{"$f":"VALUE(DINAMICA!$N575)","v":0},{"$f":"VALUE(DINAMICA!$O575)","v":0},{"$f":"VALUE(DINAMICA!$P575)","v":0},{"$f":"VALUE(DINAMICA!$Q575)","v":0},{"$f":"VALUE(DINAMICA!$R575)","v":0}]
[{"$f":"VALUE(DINAMICA!$A576)","v":0},{"$f":"VALUE(DINAMICA!$B576)","v":"00:00:00"},{"$f":"VALUE(DINAMICA!$C576)","v":0},{"$f":"DINAMICA!D576","v":0},{"$f":"DINAMICA!E576","v":0},{"$f":"DINAMICA!F576","v":0},{"$f":"DINAMICA!G576","v":0},{"$f":"DINAMICA!H576","v":0},{"$f":"DINAMICA!I576","v":0},{"$f":"DINAMICA!J576","v":0},{"$f":"DINAMICA!K576","v":0},{"$f":"VALUE(DINAMICA!$L576)","v":0},{"$f":"VALUE(DINAMICA!$M576)","v":0},{"$f":"VALUE(DINAMICA!$N576)","v":0},{"$f":"VALUE(DINAMICA!$O576)","v":0},{"$f":"VALUE(DINAMICA!$P576)","v":0},{"$f":"VALUE(DINAMICA!$Q576)","v":0},{"$f":"VALUE(DINAMICA!$R576)","v":0}]
[{"$f":"VALUE(DINAMICA!$A577)","v":0},{"$f":"VALUE(DINAMICA!$B577)","v":"00:00:00"},{"$f":"VALUE(DINAMICA!$C577)","v":0},{"$f":"DINAMICA!D577","v":0},{"$f":"DINAMICA!E577","v":0},{"$f":"DINAMICA!F577","v":0},{"$f":"DINAMICA!G577","v":0},{"$f":"DINAMICA!H577","v":0},{"$f":"DINAMICA!I577","v":0},{"$f":"DINAMICA!J577","v":0},{"$f":"DINAMICA!K577","v":0},{"$f":"VALUE(DINAMICA!$L577)","v":0},{"$f":"VALUE(DINAMICA!$M577)","v":0},{"$f":"VALUE(DINAMICA!$N577)","v":0},{"$f":"VALUE(DINAMICA!$O577)","v":0},{"$f":"VALUE(DINAMICA!$P577)","v":0},{"$f":"VALUE(DINAMICA!$Q577)","v":0},{"$f":"VALUE(DINAMICA!$R577)","v":0}]
[{"$f":"VALUE(DINAMICA!$A578)","v":0},{"$f":"VALUE(DINAMICA!$B578)","v":"00:00:00"},{"$f":"VALUE(DINAMICA!$C578)","v":0},{"$f":"DINAMICA!D578","v":0},{"$f":"DINAMICA!E578","v":0},{"$f":"DINAMICA!F578","v":0},{"$f":"DINAMICA!G578","v":0},{"$f":"DINAMICA!H578","v":0},{"$f":"DINAMICA!I578","v":0},{"$f":"DINAMICA!J578","v":0},{"$f":"DINAMICA!K578","v":0},{"$f":"VALUE(DINAMICA!$L578)","v":0},{"$f":"VALUE(DINAMICA!$M578)","v":0},{"$f":"VALUE(DINAMICA!$N578)","v":0},{"$f":"VALUE(DINAMICA!$O578)","v":0},{"$f":"VALUE(DINAMICA!$P578)","v":0},{"$f":"VALUE(DINAMICA!$Q578)","v":0},{"$f":"VALUE(DINAMICA!$R578)","v":0}]
[{"$f":"VALUE(DINAMICA!$A579)","v":0},{"$f":"VALUE(DINAMICA!$B579)","v":"00:00:00"},{"$f":"VALUE(DINAMICA!$C579)","v":0},{"$f":"DINAMICA!D579","v":0},{"$f":"DINAMICA!E579","v":0},{"$f":"DINAMICA!F579","v":0},{"$f":"DINAMICA!G579","v":0},{"$f":"DINAMICA!H579","v":0},{"$f":"DINAMICA!I579","v":0},{"$f":"DINAMICA!J579","v":0},{"$f":"DINAMICA!K579","v":0},{"$f":"VALUE(DINAMICA!$L579)","v":0},{"$f":"VALUE(DINAMICA!$M579)","v":0},{"$f":"VALUE(DINAMICA!$N579)","v":0},{"$f":"VALUE(DINAMICA!$O579)","v":0},{"$f":"VALUE(DINAMICA!$P579)","v":0},{"$f":"VALUE(DINAMICA!$Q579)","v":0},{"$f":"VALUE(DINAMICA!$R579)","v":0}]
[{"$f":"VALUE(DINAMICA!$A580)","v":0},{"$f":"VALUE(DINAMICA!$B580)","v":"00:00:00"},{"$f":"VALUE(DINAMICA!$C580)","v":0},{"$f":"DINAMICA!D580","v":0},{"$f":"DINAMICA!E580","v":0},{"$f":"DINAMICA!F580","v":0},{"$f":"DINAMICA!G580","v":0},{"$f":"DINAMICA!H580","v":0},{"$f":"DINAMICA!I580","v":0},{"$f":"DINAMICA!J580","v":0},{"$f":"DINAMICA!K580","v":0},{"$f":"VALUE(DINAMICA!$L580)","v":0},{"$f":"VALUE(DINAMICA!$M580)","v":0},{"$f":"VALUE(DINAMICA!$N580)","v":0},{"$f":"VALUE(DINAMICA!$O580)","v":0},{"$f":"VALUE(DINAMICA!$P580)","v":0},{"$f":"VALUE(DINAMICA!$Q580)","v":0},{"$f":"VALUE(DINAMICA!$R580)","v":0}]
[{"$f":"VALUE(DINAMICA!$A581)","v":0},{"$f":"VALUE(DINAMICA!$B581)","v":"00:00:00"},{"$f":"VALUE(DINAMICA!$C581)","v":0},{"$f":"DINAMICA!D581","v":0},{"$f":"DINAMICA!E581","v":0},{"$f":"DINAMICA!F581","v":0},{"$f":"DINAMICA!G581","v":0},{"$f":"DINAMICA!H581","v":0},{"$f":"DINAMICA!I581","v":0},{"$f":"DINAMICA!J581","v":0},{"$f":"DINAMICA!K581","v":0},{"$f":"VALUE(DINAMICA!$L581)","v":0},{"$f":"VALUE(DINAMICA!$M581)","v":0},{"$f":"VALUE(DINAMICA!$N581)","v":0},{"$f":"VALUE(DINAMICA!$O581)","v":0},{"$f":"VALUE(DINAMICA!$P581)","v":0},{"$f":"VALUE(DINAMICA!$Q581)","v":0},{"$f":"VALUE(DINAMICA!$R581)","v":0}]
[{"$f":"VALUE(DINAMICA!$A582)","v":0},{"$f":"VALUE(DINAMICA!$B582)","v":"00:00:00"},{"$f":"VALUE(DINAMICA!$C582)","v":0},{"$f":"DINAMICA!D582","v":0},{"$f":"DINAMICA!E582","v":0},{"$f":"DINAMICA!F582","v":0},{"$f":"DINAMICA!G582","v":0},{"$f":"DINAMICA!H582","v":0},{"$f":"DINAMICA!I582","v":0},{"$f":"DINAMICA!J582","v":0},{"$f":"DINAMICA!K582","v":0},{"$f":"VALUE(DINAMICA!$L582)","v":0},{"$f":"VALUE(DINAMICA!$M582)","v":0},{"$f":"VALUE(DINAMICA!$N582)","v":0},{"$f":"VALUE(DINAMICA!$O582)","v":0},{"$f":"VALUE(DINAMICA!$P582)","v":0},{"$f":"VALUE(DINAMICA!$Q582)","v":0},{"$f":"VALUE(DINAMICA!$R582)","v":0}]
[{"$f":"VALUE(DINAMICA!$A583)","v":0},{"$f":"VALUE(DINAMICA!$B583)","v":"00:00:00"},{"$f":"VALUE(DINAMICA!$C583)","v":0},{"$f":"DINAMICA!D583","v":0},{"$f":"DINAMICA!E583","v":0},{"$f":"DINAMICA!F583","v":0},{"$f":"DINAMICA!G583","v":0},{"$f":"DINAMICA!H583","v":0},{"$f":"DINAMICA!I583","v":0},{"$f":"DINAMICA!J583","v":0},{"$f":"DINAMICA!K583","v":0},{"$f":"VALUE(DINAMICA!$L583)","v":0},{"$f":"VALUE(DINAMICA!$M583)","v":0},{"$f":"VALUE(DINAMICA!$N583)","v":0},{"$f":"VALUE(DINAMICA!$O583)","v":0},{"$f":"VALUE(DINAMICA!$P583)","v":0},{"$f":"VALUE(DINAMICA!$Q583)","v":0},{"$f":"VALUE(DINAMICA!$R583)","v":0}]
[{"$f":"VALUE(DINAMICA!$A584)","v":0},{"$f":"VALUE(DINAMICA!$B584)","v":"00:00:00"},{"$f":"VALUE(DINAMICA!$C584)","v":0},{"$f":"DINAMICA!D584","v":0},{"$f":"DINAMICA!E584","v":0},{"$f":"DINAMICA!F584","v":0},{"$f":"DINAMICA!G584","v":0},{"$f":"DINAMICA!H584","v":0},{"$f":"DINAMICA!I584","v":0},{"$f":"DINAMICA!J584","v":0},{"$f":"DINAMICA!K584","v":0},{"$f":"VALUE(DINAMICA!$L584)","v":0},{"$f":"VALUE(DINAMICA!$M584)","v":0},{"$f":"VALUE(DINAMICA!$N584)","v":0},{"$f":"VALUE(DINAMICA!$O584)","v":0},{"$f":"VALUE(DINAMICA!$P584)","v":0},{"$f":"VALUE(DINAMICA!$Q584)","v":0},{"$f":"VALUE(DINAMICA!$R584)","v":0}]
[{"$f":"VALUE(DINAMICA!$A585)","v":0},{"$f":"VALUE(DINAMICA!$B585)","v":"00:00:00"},{"$f":"VALUE(DINAMICA!$C585)","v":0},{"$f":"DINAMICA!D585","v":0},{"$f":"DINAMICA!E585","v":0},{"$f":"DINAMICA!F585","v":0},{"$f":"DINAMICA!G585","v":0},{"$f":"DINAMICA!H585","v":0},{"$f":"DINAMICA!I585","v":0},{"$f":"DINAMICA!J585","v":0},{"$f":"DINAMICA!K585","v":0},{"$f":"VALUE(DINAMICA!$L585)","v":0},{"$f":"VALUE(DINAMICA!$M585)","v":0},{"$f":"VALUE(DINAMICA!$N585)","v":0},{"$f":"VALUE(DINAMICA!$O585)","v":0},{"$f":"VALUE(DINAMICA!$P585)","v":0},{"$f":"VALUE(DINAMICA!$Q585)","v":0},{"$f":"VALUE(DINAMICA!$R585)","v":0}]
[{"$f":"VALUE(DINAMICA!$A586)","v":0},{"$f":"VALUE(DINAMICA!$B586)","v":"00:00:00"},{"$f":"VALUE(DINAMICA!$C586)","v":0},{"$f":"DINAMICA!D586","v":0},{"$f":"DINAMICA!E586","v":0},{"$f":"DINAMICA!F586","v":0},{"$f":"DINAMICA!G586","v":0},{"$f":"DINAMICA!H586","v":0},{"$f":"DINAMICA!I586","v":0},{"$f":"DINAMICA!J586","v":0},{"$f":"DINAMICA!K586","v":0},{"$f":"VALUE(DINAMICA!$L586)","v":0},{"$f":"VALUE(DINAMICA!$M586)","v":0},{"$f":"VALUE(DINAMICA!$N586)","v":0},{"$f":"VALUE(DINAMICA!$O586)","v":0},{"$f":"VALUE(DINAMICA!$P586)","v":0},{"$f":"VALUE(DINAMICA!$Q586)","v":0},{"$f":"VALUE(DINAMICA!$R586)","v":0}]
[{"$f":"VALUE(DINAMICA!$A587)","v":0},{"$f":"VALUE(DINAMICA!$B587)","v":"00:00:00"},{"$f":"VALUE(DINAMICA!$C587)","v":0},{"$f":"DINAMICA!D587","v":0},{"$f":"DINAMICA!E587","v":0},{"$f":"DINAMICA!F587","v":0},{"$f":"DINAMICA!G587","v":0},{"$f":"DINAMICA!H587","v":0},{"$f":"DINAMICA!I587","v":0},{"$f":"DINAMICA!J587","v":0},{"$f":"DINAMICA!K587","v":0},{"$f":"VALUE(DINAMICA!$L587)","v":0},{"$f":"VALUE(DINAMICA!$M587)","v":0},{"$f":"VALUE(DINAMICA!$N587)","v":0},{"$f":"VALUE(DINAMICA!$O587)","v":0},{"$f":"VALUE(DINAMICA!$P587)","v":0},{"$f":"VALUE(DINAMICA!$Q587)","v":0},{"$f":"VALUE(DINAMICA!$R587)","v":0}]
[{"$f":"VALUE(DINAMICA!$A588)","v":0},{"$f":"VALUE(DINAMICA!$B588)","v":"00:00:00"},{"$f":"VALUE(DINAMICA!$C588)","v":0},{"$f":"DINAMICA!D588","v":0},{"$f":"DINAMICA!E588","v":0},{"$f":"DINAMICA!F588","v":0},{"$f":"DINAMICA!G588","v":0},{"$f":"DINAMICA!H588","v":0},{"$f":"DINAMICA!I588","v":0},{"$f":"DINAMICA!J588","v":0},{"$f":"DINAMICA!K588","v":0},{"$f":"VALUE(DINAMICA!$L588)","v":0},{"$f":"VALUE(DINAMICA!$M588)","v":0},{"$f":"VALUE(DINAMICA!$N588)","v":0},{"$f":"VALUE(DINAMICA!$O588)","v":0},{"$f":"VALUE(DINAMICA!$P588)","v":0},{"$f":"VALUE(DINAMICA!$Q588)","v":0},{"$f":"VALUE(DINAMICA!$R588)","v":0}]
[{"$f":"VALUE(DINAMICA!$A589)","v":0},{"$f":"VALUE(DINAMICA!$B589)","v":"00:00:00"},{"$f":"VALUE(DINAMICA!$C589)","v":0},{"$f":"DINAMICA!D589","v":0},{"$f":"DINAMICA!E589","v":0},{"$f":"DINAMICA!F589","v":0},{"$f":"DINAMICA!G589","v":0},{"$f":"DINAMICA!H589","v":0},{"$f":"DINAMICA!I589","v":0},{"$f":"DINAMICA!J589","v":0},{"$f":"DINAMICA!K589","v":0},{"$f":"VALUE(DINAMICA!$L589)","v":0},{"$f":"VALUE(DINAMICA!$M589)","v":0},{"$f":"VALUE(DINAMICA!$N589)","v":0},{"$f":"VALUE(DINAMICA!$O589)","v":0},{"$f":"VALUE(DINAMICA!$P589)","v":0},{"$f":"VALUE(DINAMICA!$Q589)","v":0},{"$f":"VALUE(DINAMICA!$R589)","v":0}]
[{"$f":"VALUE(DINAMICA!$A590)","v":0},{"$f":"VALUE(DINAMICA!$B590)","v":"00:00:00"},{"$f":"VALUE(DINAMICA!$C590)","v":0},{"$f":"DINAMICA!D590","v":0},{"$f":"DINAMICA!E590","v":0},{"$f":"DINAMICA!F590","v":0},{"$f":"DINAMICA!G590","v":0},{"$f":"DINAMICA!H590","v":0},{"$f":"DINAMICA!I590","v":0},{"$f":"DINAMICA!J590","v":0},{"$f":"DINAMICA!K590","v":0},{"$f":"VALUE(DINAMICA!$L590)","v":0},{"$f":"VALUE(DINAMICA!$M590)","v":0},{"$f":"VALUE(DINAMICA!$N590)","v":0},{"$f":"VALUE(DINAMICA!$O590)","v":0},{"$f":"VALUE(DINAMICA!$P590)","v":0},{"$f":"VALUE(DINAMICA!$Q590)","v":0},{"$f":"VALUE(DINAMICA!$R590)","v":0}]
[{"$f":"VALUE(DINAMICA!$A591)","v":0},{"$f":"VALUE(DINAMICA!$B591)","v":"00:00:00"},{"$f":"VALUE(DINAMICA!$C591)","v":0},{"$f":"DINAMICA!D591","v":0},{"$f":"DINAMICA!E591","v":0},{"$f":"DINAMICA!F591","v":0},{"$f":"DINAMICA!G591","v":0},{"$f":"DINAMICA!H591","v":0},{"$f":"DINAMICA!I591","v":0},{"$f":"DINAMICA!J591","v":0},{"$f":"DINAMICA!K591","v":0},{"$f":"VALUE(DINAMICA!$L591)","v":0},{"$f":"VALUE(DINAMICA!$M591)","v":0},{"$f":"VALUE(DINAMICA!$N591)","v":0},{"$f":"VALUE(DINAMICA!$O591)","v":0},{"$f":"VALUE(DINAMICA!$P591)","v":0},{"$f":"VALUE(DINAMICA!$Q591)","v":0},{"$f":"VALUE(DINAMICA!$R591)","v":0}]
[{"$f":"VALUE(DINAMICA!$A592)","v":0},{"$f":"VALUE(DINAMICA!$B592)","v":"00:00:00"},{"$f":"VALUE(DINAMICA!$C592)","v":0},{"$f":"DINAMICA!D592","v":0},{"$f":"DINAMICA!E592","v":0},{"$f":"DINAMICA!F592","v":0},{"$f":"DINAMICA!G592","v":0},{"$f":"DINAMICA!H592","v":0},{"$f":"DINAMICA!I592","v":0},{"$f":"DINAMICA!J592","v":0},{"$f":"DINAMICA!K592","v":0},{"$f":"VALUE(DINAMICA!$L592)","v":0},{"$f":"VALUE(DINAMICA!$M592)","v":0},{"$f":"VALUE(DINAMICA!$N592)","v":0},{"$f":"VALUE(DINAMICA!$O592)","v":0},{"$f":"VALUE(DINAMICA!$P592)","v":0},{"$f":"VALUE(DINAMICA!$Q592)","v":0},{"$f":"VALUE(DINAMICA!$R592)","v":0}]
[{"$f":"VALUE(DINAMICA!$A593)","v":0},{"$f":"VALUE(DINAMICA!$B593)","v":"00:00:00"},{"$f":"VALUE(DINAMICA!$C593)","v":0},{"$f":"DINAMICA!D593","v":0},{"$f":"DINAMICA!E593","v":0},{"$f":"DINAMICA!F593","v":0},{"$f":"DINAMICA!G593","v":0},{"$f":"DINAMICA!H593","v":0},{"$f":"DINAMICA!I593","v":0},{"$f":"DINAMICA!J593","v":0},{"$f":"DINAMICA!K593","v":0},{"$f":"VALUE(DINAMICA!$L593)","v":0},{"$f":"VALUE(DINAMICA!$M593)","v":0},{"$f":"VALUE(DINAMICA!$N593)","v":0},{"$f":"VALUE(DINAMICA!$O593)","v":0},{"$f":"VALUE(DINAMICA!$P593)","v":0},{"$f":"VALUE(DINAMICA!$Q593)","v":0},{"$f":"VALUE(DINAMICA!$R593)","v":0}]
[{"$f":"VALUE(DINAMICA!$A594)","v":0},{"$f":"VALUE(DINAMICA!$B594)","v":"00:00:00"},{"$f":"VALUE(DINAMICA!$C594)","v":0},{"$f":"DINAMICA!D594","v":0},{"$f":"DINAMICA!E594","v":0},{"$f":"DINAMICA!F594","v":0},{"$f":"DINAMICA!G594","v":0},{"$f":"DINAMICA!H594","v":0},{"$f":"DINAMICA!I594","v":0},{"$f":"DINAMICA!J594","v":0},{"$f":"DINAMICA!K594","v":0},{"$f":"VALUE(DINAMICA!$L594)","v":0},{"$f":"VALUE(DINAMICA!$M594)","v":0},{"$f":"VALUE(DINAMICA!$N594)","v":0},{"$f":"VALUE(DINAMICA!$O594)","v":0},{"$f":"VALUE(DINAMICA!$P594)","v":0},{"$f":"VALUE(DINAMICA!$Q594)","v":0},{"$f":"VALUE(DINAMICA!$R594)","v":0}]
[{"$f":"VALUE(DINAMICA!$A595)","v":0},{"$f":"VALUE(DINAMICA!$B595)","v":"00:00:00"},{"$f":"VALUE(DINAMICA!$C595)","v":0},{"$f":"DINAMICA!D595","v":0},{"$f":"DINAMICA!E595","v":0},{"$f":"DINAMICA!F595","v":0},{"$f":"DINAMICA!G595","v":0},{"$f":"DINAMICA!H595","v":0},{"$f":"DINAMICA!I595","v":0},{"$f":"DINAMICA!J595","v":0},{"$f":"DINAMICA!K595","v":0},{"$f":"VALUE(DINAMICA!$L595)","v":0},{"$f":"VALUE(DINAMICA!$M595)","v":0},{"$f":"VALUE(DINAMICA!$N595)","v":0},{"$f":"VALUE(DINAMICA!$O595)","v":0},{"$f":"VALUE(DINAMICA!$P595)","v":0},{"$f":"VALUE(DINAMICA!$Q595)","v":0},{"$f":"VALUE(DINAMICA!$R595)","v":0}]
[{"$f":"VALUE(DINAMICA!$A596)","v":0},{"$f":"VALUE(DINAMICA!$B596)","v":"00:00:00"},{"$f":"VALUE(DINAMICA!$C596)","v":0},{"$f":"DINAMICA!D596","v":0},{"$f":"DINAMICA!E596","v":0},{"$f":"DINAMICA!F596","v":0},{"$f":"DINAMICA!G596","v":0},{"$f":"DINAMICA!H596","v":0},{"$f":"DINAMICA!I596","v":0},{"$f":"DINAMICA!J596","v":0},{"$f":"DINAMICA!K596","v":0},{"$f":"VALUE(DINAMICA!$L596)","v":0},{"$f":"VALUE(DINAMICA!$M596)","v":0},{"$f":"VALUE(DINAMICA!$N596)","v":0},{"$f":"VALUE(DINAMICA!$O596)","v":0},{"$f":"VALUE(DINAMICA!$P596)","v":0},{"$f":"VALUE(DINAMICA!$Q596)","v":0},{"$f":"VALUE(DINAMICA!$R596)","v":0}]
[{"$f":"VALUE(DINAMICA!$A597)","v":0},{"$f":"VALUE(DINAMICA!$B597)","v":"00:00:00"},{"$f":"VALUE(DINAMICA!$C597)","v":0},{"$f":"DINAMICA!D597","v":0},{"$f":"DINAMICA!E597","v":0},{"$f":"DINAMICA!F597","v":0},{"$f":"DINAMICA!G597","v":0},{"$f":"DINAMICA!H597","v":0},{"$f":"DINAMICA!I597","v":0},{"$f":"DINAMICA!J597","v":0},{"$f":"DINAMICA!K597","v":0},{"$f":"VALUE(DINAMICA!$L597)","v":0},{"$f":"VALUE(DINAMICA!$M597)","v":0},{"$f":"VALUE(DINAMICA!$N597)","v":0},{"$f":"VALUE(DINAMICA!$O597)","v":0},{"$f":"VALUE(DINAMICA!$P597)","v":0},{"$f":"VALUE(DINAMICA!$Q597)","v":0},{"$f":"VALUE(DINAMICA!$R597)","v":0}]
[{"$f":"VALUE(DINAMICA!$A598)","v":0},{"$f":"VALUE(DINAMICA!$B598)","v":"00:00:00"},{"$f":"VALUE(DINAMICA!$C598)","v":0},{"$f":"DINAMICA!D598","v":0},{"$f":"DINAMICA!E598","v":0},{"$f":"DINAMICA!F598","v":0},{"$f":"DINAMICA!G598","v":0},{"$f":"DINAMICA!H598","v":0},{"$f":"DINAMICA!I598","v":0},{"$f":"DINAMICA!J598","v":0},{"$f":"DINAMICA!K598","v":0},{"$f":"VALUE(DINAMICA!$L598)","v":0},{"$f":"VALUE(DINAMICA!$M598)","v":0},{"$f":"VALUE(DINAMICA!$N598)","v":0},{"$f":"VALUE(DINAMICA!$O598)","v":0},{"$f":"VALUE(DINAMICA!$P598)","v":0},{"$f":"VALUE(DINAMICA!$Q598)","v":0},{"$f":"VALUE(DINAMICA!$R598)","v":0}]
[{"$f":"VALUE(DINAMICA!$A599)","v":0},{"$f":"VALUE(DINAMICA!$B599)","v":"00:00:00"},{"$f":"VALUE(DINAMICA!$C599)","v":0},{"$f":"DINAMICA!D599","v":0},{"$f":"DINAMICA!E599","v":0},{"$f":"DINAMICA!F599","v":0},{"$f":"DINAMICA!G599","v":0},{"$f":"DINAMICA!H599","v":0},{"$f":"DINAMICA!I599","v":0},{"$f":"DINAMICA!J599","v":0},{"$f":"DINAMICA!K599","v":0},{"$f":"VALUE(DINAMICA!$L599)","v":0},{"$f":"VALUE(DINAMICA!$M599)","v":0},{"$f":"VALUE(DINAMICA!$N599)","v":0},{"$f":"VALUE(DINAMICA!$O599)","v":0},{"$f":"VALUE(DINAMICA!$P599)","v":0},{"$f":"VALUE(DINAMICA!$Q599)","v":0},{"$f":"VALUE(DINAMICA!$R599)","v":0}]
[{"$f":"VALUE(DINAMICA!$A600)","v":0},{"$f":"VALUE(DINAMICA!$B600)","v":"00:00:00"},{"$f":"VALUE(DINAMICA!$C600)","v":0},{"$f":"DINAMICA!D600","v":0},{"$f":"DINAMICA!E600","v":0},{"$f":"DINAMICA!F600","v":0},{"$f":"DINAMICA!G600","v":0},{"$f":"DINAMICA!H600","v":0},{"$f":"DINAMICA!I600","v":0},{"$f":"DINAMICA!J600","v":0},{"$f":"DINAMICA!K600","v":0},{"$f":"VALUE(DINAMICA!$L600)","v":0},{"$f":"VALUE(DINAMICA!$M600)","v":0},{"$f":"VALUE(DINAMICA!$N600)","v":0},{"$f":"VALUE(DINAMICA!$O600)","v":0},{"$f":"VALUE(DINAMICA!$P600)","v":0},{"$f":"VALUE(DINAMICA!$Q600)","v":0},{"$f":"VALUE(DINAMICA!$R600)","v":0}]
[{"$f":"VALUE(DINAMICA!$A601)","v":0},{"$f":"VALUE(DINAMICA!$B601)","v":"00:00:00"},{"$f":"VALUE(DINAMICA!$C601)","v":0},{"$f":"DINAMICA!D601","v":0},{"$f":"DINAMICA!E601","v":0},{"$f":"DINAMICA!F601","v":0},{"$f":"DINAMICA!G601","v":0},{"$f":"DINAMICA!H601","v":0},{"$f":"DINAMICA!I601","v":0},{"$f":"DINAMICA!J601","v":0},{"$f":"DINAMICA!K601","v":0},{"$f":"VALUE(DINAMICA!$L601)","v":0},{"$f":"VALUE(DINAMICA!$M601)","v":0},{"$f":"VALUE(DINAMICA!$N601)","v":0},{"$f":"VALUE(DINAMICA!$O601)","v":0},{"$f":"VALUE(DINAMICA!$P601)","v":0},{"$f":"VALUE(DINAMICA!$Q601)","v":0},{"$f":"VALUE(DINAMICA!$R601)","v":0}]
[{"$f":"VALUE(DINAMICA!$A602)","v":0},{"$f":"VALUE(DINAMICA!$B602)","v":"00:00:00"},{"$f":"VALUE(DINAMICA!$C602)","v":0},{"$f":"DINAMICA!D602","v":0},{"$f":"DINAMICA!E602","v":0},{"$f":"DINAMICA!F602","v":0},{"$f":"DINAMICA!G602","v":0},{"$f":"DINAMICA!H602","v":0},{"$f":"DINAMICA!I602","v":0},{"$f":"DINAMICA!J602","v":0},{"$f":"DINAMICA!K602","v":0},{"$f":"VALUE(DINAMICA!$L602)","v":0},{"$f":"VALUE(DINAMICA!$M602)","v":0},{"$f":"VALUE(DINAMICA!$N602)","v":0},{"$f":"VALUE(DINAMICA!$O602)","v":0},{"$f":"VALUE(DINAMICA!$P602)","v":0},{"$f":"VALUE(DINAMICA!$Q602)","v":0},{"$f":"VALUE(DINAMICA!$R602)","v":0}]
[{"$f":"VALUE(DINAMICA!$A603)","v":0},{"$f":"VALUE(DINAMICA!$B603)","v":"00:00:00"},{"$f":"VALUE(DINAMICA!$C603)","v":0},{"$f":"DINAMICA!D603","v":0},{"$f":"DINAMICA!E603","v":0},{"$f":"DINAMICA!F603","v":0},{"$f":"DINAMICA!G603","v":0},{"$f":"DINAMICA!H603","v":0},{"$f":"DINAMICA!I603","v":0},{"$f":"DINAMICA!J603","v":0},{"$f":"DINAMICA!K603","v":0},{"$f":"VALUE(DINAMICA!$L603)","v":0},{"$f":"VALUE(DINAMICA!$M603)","v":0},{"$f":"VALUE(DINAMICA!$N603)","v":0},{"$f":"VALUE(DINAMICA!$O603)","v":0},{"$f":"VALUE(DINAMICA!$P603)","v":0},{"$f":"VALUE(DINAMICA!$Q603)","v":0},{"$f":"VALUE(DINAMICA!$R603)","v":0}]
[{"$f":"VALUE(DINAMICA!$A604)","v":0},{"$f":"VALUE(DINAMICA!$B604)","v":"00:00:00"},{"$f":"VALUE(DINAMICA!$C604)","v":0},{"$f":"DINAMICA!D604","v":0},{"$f":"DINAMICA!E604","v":0},{"$f":"DINAMICA!F604","v":0},{"$f":"DINAMICA!G604","v":0},{"$f":"DINAMICA!H604","v":0},{"$f":"DINAMICA!I604","v":0},{"$f":"DINAMICA!J604","v":0},{"$f":"DINAMICA!K604","v":0},{"$f":"VALUE(DINAMICA!$L604)","v":0},{"$f":"VALUE(DINAMICA!$M604)","v":0},{"$f":"VALUE(DINAMICA!$N604)","v":0},{"$f":"VALUE(DINAMICA!$O604)","v":0},{"$f":"VALUE(DINAMICA!$P604)","v":0},{"$f":"VALUE(DINAMICA!$Q604)","v":0},{"$f":"VALUE(DINAMICA!$R604)","v":0}]
[{"$f":"VALUE(DINAMICA!$A605)","v":0},{"$f":"VALUE(DINAMICA!$B605)","v":"00:00:00"},{"$f":"VALUE(DINAMICA!$C605)","v":0},{"$f":"DINAMICA!D605","v":0},{"$f":"DINAMICA!E605","v":0},{"$f":"DINAMICA!F605","v":0},{"$f":"DINAMICA!G605","v":0},{"$f":"DINAMICA!H605","v":0},{"$f":"DINAMICA!I605","v":0},{"$f":"DINAMICA!J605","v":0},{"$f":"DINAMICA!K605","v":0},{"$f":"VALUE(DINAMICA!$L605)","v":0},{"$f":"VALUE(DINAMICA!$M605)","v":0},{"$f":"VALUE(DINAMICA!$N605)","v":0},{"$f":"VALUE(DINAMICA!$O605)","v":0},{"$f":"VALUE(DINAMICA!$P605)","v":0},{"$f":"VALUE(DINAMICA!$Q605)","v":0},{"$f":"VALUE(DINAMICA!$R605)","v":0}]
[{"$f":"VALUE(DINAMICA!$A606)","v":0},{"$f":"VALUE(DINAMICA!$B606)","v":"00:00:00"},{"$f":"VALUE(DINAMICA!$C606)","v":0},{"$f":"DINAMICA!D606","v":0},{"$f":"DINAMICA!E606","v":0},{"$f":"DINAMICA!F606","v":0},{"$f":"DINAMICA!G606","v":0},{"$f":"DINAMICA!H606","v":0},{"$f":"DINAMICA!I606","v":0},{"$f":"DINAMICA!J606","v":0},{"$f":"DINAMICA!K606","v":0},{"$f":"VALUE(DINAMICA!$L606)","v":0},{"$f":"VALUE(DINAMICA!$M606)","v":0},{"$f":"VALUE(DINAMICA!$N606)","v":0},{"$f":"VALUE(DINAMICA!$O606)","v":0},{"$f":"VALUE(DINAMICA!$P606)","v":0},{"$f":"VALUE(DINAMICA!$Q606)","v":0},{"$f":"VALUE(DINAMICA!$R606)","v":0}]
[{"$f":"VALUE(DINAMICA!$A607)","v":0},{"$f":"VALUE(DINAMICA!$B607)","v":"00:00:00"},{"$f":"VALUE(DINAMICA!$C607)","v":0},{"$f":"DINAMICA!D607","v":0},{"$f":"DINAMICA!E607","v":0},{"$f":"DINAMICA!F607","v":0},{"$f":"DINAMICA!G607","v":0},{"$f":"DINAMICA!H607","v":0},{"$f":"DINAMICA!I607","v":0},{"$f":"DINAMICA!J607","v":0},{"$f":"DINAMICA!K607","v":0},{"$f":"VALUE(DINAMICA!$L607)","v":0},{"$f":"VALUE(DINAMICA!$M607)","v":0},{"$f":"VALUE(DINAMICA!$N607)","v":0},{"$f":"VALUE(DINAMICA!$O607)","v":0},{"$f":"VALUE(DINAMICA!$P607)","v":0},{"$f":"VALUE(DINAMICA!$Q607)","v":0},{"$f":"VALUE(DINAMICA!$R607)","v":0}]
[{"$f":"VALUE(DINAMICA!$A608)","v":0},{"$f":"VALUE(DINAMICA!$B608)","v":"00:00:00"},{"$f":"VALUE(DINAMICA!$C608)","v":0},{"$f":"DINAMICA!D608","v":0},{"$f":"DINAMICA!E608","v":0},{"$f":"DINAMICA!F608","v":0},{"$f":"DINAMICA!G608","v":0},{"$f":"DINAMICA!H608","v":0},{"$f":"DINAMICA!I608","v":0},{"$f":"DINAMICA!J608","v":0},{"$f":"DINAMICA!K608","v":0},{"$f":"VALUE(DINAMICA!$L608)","v":0},{"$f":"VALUE(DINAMICA!$M608)","v":0},{"$f":"VALUE(DINAMICA!$N608)","v":0},{"$f":"VALUE(DINAMICA!$O608)","v":0},{"$f":"VALUE(DINAMICA!$P608)","v":0},{"$f":"VALUE(DINAMICA!$Q608)","v":0},{"$f":"VALUE(DINAMICA!$R608)","v":0}]
[{"$f":"VALUE(DINAMICA!$A609)","v":0},{"$f":"VALUE(DINAMICA!$B609)","v":"00:00:00"},{"$f":"VALUE(DINAMICA!$C609)","v":0},{"$f":"DINAMICA!D609","v":0},{"$f":"DINAMICA!E609","v":0},{"$f":"DINAMICA!F609","v":0},{"$f":"DINAMICA!G609","v":0},{"$f":"DINAMICA!H609","v":0},{"$f":"DINAMICA!I609","v":0},{"$f":"DINAMICA!J609","v":0},{"$f":"DINAMICA!K609","v":0},{"$f":"VALUE(DINAMICA!$L609)","v":0},{"$f":"VALUE(DINAMICA!$M609)","v":0},{"$f":"VALUE(DINAMICA!$N609)","v":0},{"$f":"VALUE(DINAMICA!$O609)","v":0},{"$f":"VALUE(DINAMICA!$P609)","v":0},{"$f":"VALUE(DINAMICA!$Q609)","v":0},{"$f":"VALUE(DINAMICA!$R609)","v":0}]
[{"$f":"VALUE(DINAMICA!$A610)","v":0},{"$f":"VALUE(DINAMICA!$B610)","v":"00:00:00"},{"$f":"VALUE(DINAMICA!$C610)","v":0},{"$f":"DINAMICA!D610","v":0},{"$f":"DINAMICA!E610","v":0},{"$f":"DINAMICA!F610","v":0},{"$f":"DINAMICA!G610","v":0},{"$f":"DINAMICA!H610","v":0},{"$f":"DINAMICA!I610","v":0},{"$f":"DINAMICA!J610","v":0},{"$f":"DINAMICA!K610","v":0},{"$f":"VALUE(DINAMICA!$L610)","v":0},{"$f":"VALUE(DINAMICA!$M610)","v":0},{"$f":"VALUE(DINAMICA!$N610)","v":0},{"$f":"VALUE(DINAMICA!$O610)","v":0},{"$f":"VALUE(DINAMICA!$P610)","v":0},{"$f":"VALUE(DINAMICA!$Q610)","v":0},{"$f":"VALUE(DINAMICA!$R610)","v":0}]
[{"$f":"VALUE(DINAMICA!$A611)","v":0},{"$f":"VALUE(DINAMICA!$B611)","v":"00:00:00"},{"$f":"VALUE(DINAMICA!$C611)","v":0},{"$f":"DINAMICA!D611","v":0},{"$f":"DINAMICA!E611","v":0},{"$f":"DINAMICA!F611","v":0},{"$f":"DINAMICA!G611","v":0},{"$f":"DINAMICA!H611","v":0},{"$f":"DINAMICA!I611","v":0},{"$f":"DINAMICA!J611","v":0},{"$f":"DINAMICA!K611","v":0},{"$f":"VALUE(DINAMICA!$L611)","v":0},{"$f":"VALUE(DINAMICA!$M611)","v":0},{"$f":"VALUE(DINAMICA!$N611)","v":0},{"$f":"VALUE(DINAMICA!$O611)","v":0},{"$f":"VALUE(DINAMICA!$P611)","v":0},{"$f":"VALUE(DINAMICA!$Q611)","v":0},{"$f":"VALUE(DINAMICA!$R611)","v":0}]
[{"$f":"VALUE(DINAMICA!$A612)","v":0},{"$f":"VALUE(DINAMICA!$B612)","v":"00:00:00"},{"$f":"VALUE(DINAMICA!$C612)","v":0},{"$f":"DINAMICA!D612","v":0},{"$f":"DINAMICA!E612","v":0},{"$f":"DINAMICA!F612","v":0},{"$f":"DINAMICA!G612","v":0},{"$f":"DINAMICA!H612","v":0},{"$f":"DINAMICA!I612","v":0},{"$f":"DINAMICA!J612","v":0},{"$f":"DINAMICA!K612","v":0},{"$f":"VALUE(DINAMICA!$L612)","v":0},{"$f":"VALUE(DINAMICA!$M612)","v":0},{"$f":"VALUE(DINAMICA!$N612)","v":0},{"$f":"VALUE(DINAMICA!$O612)","v":0},{"$f":"VALUE(DINAMICA!$P612)","v":0},{"$f":"VALUE(DINAMICA!$Q612)","v":0},{"$f":"VALUE(DINAMICA!$R612)","v":0}]
[{"$f":"VALUE(DINAMICA!$A613)","v":0},{"$f":"VALUE(DINAMICA!$B613)","v":"00:00:00"},{"$f":"VALUE(DINAMICA!$C613)","v":0},{"$f":"DINAMICA!D613","v":0},{"$f":"DINAMICA!E613","v":0},{"$f":"DINAMICA!F613","v":0},{"$f":"DINAMICA!G613","v":0},{"$f":"DINAMICA!H613","v":0},{"$f":"DINAMICA!I613","v":0},{"$f":"DINAMICA!J613","v":0},{"$f":"DINAMICA!K613","v":0},{"$f":"VALUE(DINAMICA!$L613)","v":0},{"$f":"VALUE(DINAMICA!$M613)","v":0},{"$f":"VALUE(DINAMICA!$N613)","v":0},{"$f":"VALUE(DINAMICA!$O613)","v":0},{"$f":"VALUE(DINAMICA!$P613)","v":0},{"$f":"VALUE(DINAMICA!$Q613)","v":0},{"$f":"VALUE(DINAMICA!$R613)","v":0}]
[{"$f":"VALUE(DINAMICA!$A614)","v":0},{"$f":"VALUE(DINAMICA!$B614)","v":"00:00:00"},{"$f":"VALUE(DINAMICA!$C614)","v":0},{"$f":"DINAMICA!D614","v":0},{"$f":"DINAMICA!E614","v":0},{"$f":"DINAMICA!F614","v":0},{"$f":"DINAMICA!G614","v":0},{"$f":"DINAMICA!H614","v":0},{"$f":"DINAMICA!I614","v":0},{"$f":"DINAMICA!J614","v":0},{"$f":"DINAMICA!K614","v":0},{"$f":"VALUE(DINAMICA!$L614)","v":0},{"$f":"VALUE(DINAMICA!$M614)","v":0},{"$f":"VALUE(DINAMICA!$N614)","v":0},{"$f":"VALUE(DINAMICA!$O614)","v":0},{"$f":"VALUE(DINAMICA!$P614)","v":0},{"$f":"VALUE(DINAMICA!$Q614)","v":0},{"$f":"VALUE(DINAMICA!$R614)","v":0}]
[{"$f":"VALUE(DINAMICA!$A615)","v":0},{"$f":"VALUE(DINAMICA!$B615)","v":"00:00:00"},{"$f":"VALUE(DINAMICA!$C615)","v":0},{"$f":"DINAMICA!D615","v":0},{"$f":"DINAMICA!E615","v":0},{"$f":"DINAMICA!F615","v":0},{"$f":"DINAMICA!G615","v":0},{"$f":"DINAMICA!H615","v":0},{"$f":"DINAMICA!I615","v":0},{"$f":"DINAMICA!J615","v":0},{"$f":"DINAMICA!K615","v":0},{"$f":"VALUE(DINAMICA!$L615)","v":0},{"$f":"VALUE(DINAMICA!$M615)","v":0},{"$f":"VALUE(DINAMICA!$N615)","v":0},{"$f":"VALUE(DINAMICA!$O615)","v":0},{"$f":"VALUE(DINAMICA!$P615)","v":0},{"$f":"VALUE(DINAMICA!$Q615)","v":0},{"$f":"VALUE(DINAMICA!$R615)","v":0}]
[{"$f":"VALUE(DINAMICA!$A616)","v":0},{"$f":"VALUE(DINAMICA!$B616)","v":"00:00:00"},{"$f":"VALUE(DINAMICA!$C616)","v":0},{"$f":"DINAMICA!D616","v":0},{"$f":"DINAMICA!E616","v":0},{"$f":"DINAMICA!F616","v":0},{"$f":"DINAMICA!G616","v":0},{"$f":"DINAMICA!H616","v":0},{"$f":"DINAMICA!I616","v":0},{"$f":"DINAMICA!J616","v":0},{"$f":"DINAMICA!K616","v":0},{"$f":"VALUE(DINAMICA!$L616)","v":0},{"$f":"VALUE(DINAMICA!$M616)","v":0},{"$f":"VALUE(DINAMICA!$N616)","v":0},{"$f":"VALUE(DINAMICA!$O616)","v":0},{"$f":"VALUE(DINAMICA!$P616)","v":0},{"$f":"VALUE(DINAMICA!$Q616)","v":0},{"$f":"VALUE(DINAMICA!$R616)","v":0}]
[{"$f":"VALUE(DINAMICA!$A617)","v":0},{"$f":"VALUE(DINAMICA!$B617)","v":"00:00:00"},{"$f":"VALUE(DINAMICA!$C617)","v":0},{"$f":"DINAMICA!D617","v":0},{"$f":"DINAMICA!E617","v":0},{"$f":"DINAMICA!F617","v":0},{"$f":"DINAMICA!G617","v":0},{"$f":"DINAMICA!H617","v":0},{"$f":"DINAMICA!I617","v":0},{"$f":"DINAMICA!J617","v":0},{"$f":"DINAMICA!K617","v":0},{"$f":"VALUE(DINAMICA!$L617)","v":0},{"$f":"VALUE(DINAMICA!$M617)","v":0},{"$f":"VALUE(DINAMICA!$N617)","v":0},{"$f":"VALUE(DINAMICA!$O617)","v":0},{"$f":"VALUE(DINAMICA!$P617)","v":0},{"$f":"VALUE(DINAMICA!$Q617)","v":0},{"$f":"VALUE(DINAMICA!$R617)","v":0}]
[{"$f":"VALUE(DINAMICA!$A618)","v":0},{"$f":"VALUE(DINAMICA!$B618)","v":"00:00:00"},{"$f":"VALUE(DINAMICA!$C618)","v":0},{"$f":"DINAMICA!D618","v":0},{"$f":"DINAMICA!E618","v":0},{"$f":"DINAMICA!F618","v":0},{"$f":"DINAMICA!G618","v":0},{"$f":"DINAMICA!H618","v":0},{"$f":"DINAMICA!I618","v":0},{"$f":"DINAMICA!J618","v":0},{"$f":"DINAMICA!K618","v":0},{"$f":"VALUE(DINAMICA!$L618)","v":0},{"$f":"VALUE(DINAMICA!$M618)","v":0},{"$f":"VALUE(DINAMICA!$N618)","v":0},{"$f":"VALUE(DINAMICA!$O618)","v":0},{"$f":"VALUE(DINAMICA!$P618)","v":0},{"$f":"VALUE(DINAMICA!$Q618)","v":0},{"$f":"VALUE(DINAMICA!$R618)","v":0}]
[{"$f":"VALUE(DINAMICA!$A619)","v":0},{"$f":"VALUE(DINAMICA!$B619)","v":"00:00:00"},{"$f":"VALUE(DINAMICA!$C619)","v":0},{"$f":"DINAMICA!D619","v":0},{"$f":"DINAMICA!E619","v":0},{"$f":"DINAMICA!F619","v":0},{"$f":"DINAMICA!G619","v":0},{"$f":"DINAMICA!H619","v":0},{"$f":"DINAMICA!I619","v":0},{"$f":"DINAMICA!J619","v":0},{"$f":"DINAMICA!K619","v":0},{"$f":"VALUE(DINAMICA!$L619)","v":0},{"$f":"VALUE(DINAMICA!$M619)","v":0},{"$f":"VALUE(DINAMICA!$N619)","v":0},{"$f":"VALUE(DINAMICA!$O619)","v":0},{"$f":"VALUE(DINAMICA!$P619)","v":0},{"$f":"VALUE(DINAMICA!$Q619)","v":0},{"$f":"VALUE(DINAMICA!$R619)","v":0}]
[{"$f":"VALUE(DINAMICA!$A620)","v":0},{"$f":"VALUE(DINAMICA!$B620)","v":"00:00:00"},{"$f":"VALUE(DINAMICA!$C620)","v":0},{"$f":"DINAMICA!D620","v":0},{"$f":"DINAMICA!E620","v":0},{"$f":"DINAMICA!F620","v":0},{"$f":"DINAMICA!G620","v":0},{"$f":"DINAMICA!H620","v":0},{"$f":"DINAMICA!I620","v":0},{"$f":"DINAMICA!J620","v":0},{"$f":"DINAMICA!K620","v":0},{"$f":"VALUE(DINAMICA!$L620)","v":0},{"$f":"VALUE(DINAMICA!$M620)","v":0},{"$f":"VALUE(DINAMICA!$N620)","v":0},{"$f":"VALUE(DINAMICA!$O620)","v":0},{"$f":"VALUE(DINAMICA!$P620)","v":0},{"$f":"VALUE(DINAMICA!$Q620)","v":0},{"$f":"VALUE(DINAMICA!$R620)","v":0}]
[{"$f":"VALUE(DINAMICA!$A621)","v":0},{"$f":"VALUE(DINAMICA!$B621)","v":"00:00:00"},{"$f":"VALUE(DINAMICA!$C621)","v":0},{"$f":"DINAMICA!D621","v":0},{"$f":"DINAMICA!E621","v":0},{"$f":"DINAMICA!F621","v":0},{"$f":"DINAMICA!G621","v":0},{"$f":"DINAMICA!H621","v":0},{"$f":"DINAMICA!I621","v":0},{"$f":"DINAMICA!J621","v":0},{"$f":"DINAMICA!K621","v":0},{"$f":"VALUE(DINAMICA!$L621)","v":0},{"$f":"VALUE(DINAMICA!$M621)","v":0},{"$f":"VALUE(DINAMICA!$N621)","v":0},{"$f":"VALUE(DINAMICA!$O621)","v":0},{"$f":"VALUE(DINAMICA!$P621)","v":0},{"$f":"VALUE(DINAMICA!$Q621)","v":0},{"$f":"VALUE(DINAMICA!$R621)","v":0}]
[{"$f":"VALUE(DINAMICA!$A622)","v":0},{"$f":"VALUE(DINAMICA!$B622)","v":"00:00:00"},{"$f":"VALUE(DINAMICA!$C622)","v":0},{"$f":"DINAMICA!D622","v":0},{"$f":"DINAMICA!E622","v":0},{"$f":"DINAMICA!F622","v":0},{"$f":"DINAMICA!G622","v":0},{"$f":"DINAMICA!H622","v":0},{"$f":"DINAMICA!I622","v":0},{"$f":"DINAMICA!J622","v":0},{"$f":"DINAMICA!K622","v":0},{"$f":"VALUE(DINAMICA!$L622)","v":0},{"$f":"VALUE(DINAMICA!$M622)","v":0},{"$f":"VALUE(DINAMICA!$N622)","v":0},{"$f":"VALUE(DINAMICA!$O622)","v":0},{"$f":"VALUE(DINAMICA!$P622)","v":0},{"$f":"VALUE(DINAMICA!$Q622)","v":0},{"$f":"VALUE(DINAMICA!$R622)","v":0}]
[{"$f":"VALUE(DINAMICA!$A623)","v":0},{"$f":"VALUE(DINAMICA!$B623)","v":"00:00:00"},{"$f":"VALUE(DINAMICA!$C623)","v":0},{"$f":"DINAMICA!D623","v":0},{"$f":"DINAMICA!E623","v":0},{"$f":"DINAMICA!F623","v":0},{"$f":"DINAMICA!G623","v":0},{"$f":"DINAMICA!H623","v":0},{"$f":"DINAMICA!I623","v":0},{"$f":"DINAMICA!J623","v":0},{"$f":"DINAMICA!K623","v":0},{"$f":"VALUE(DINAMICA!$L623)","v":0},{"$f":"VALUE(DINAMICA!$M623)","v":0},{"$f":"VALUE(DINAMICA!$N623)","v":0},{"$f":"VALUE(DINAMICA!$O623)","v":0},{"$f":"VALUE(DINAMICA!$P623)","v":0},{"$f":"VALUE(DINAMICA!$Q623)","v":0},{"$f":"VALUE(DINAMICA!$R623)","v":0}]
[{"$f":"VALUE(DINAMICA!$A624)","v":0},{"$f":"VALUE(DINAMICA!$B624)","v":"00:00:00"},{"$f":"VALUE(DINAMICA!$C624)","v":0},{"$f":"DINAMICA!D624","v":0},{"$f":"DINAMICA!E624","v":0},{"$f":"DINAMICA!F624","v":0},{"$f":"DINAMICA!G624","v":0},{"$f":"DINAMICA!H624","v":0},{"$f":"DINAMICA!I624","v":0},{"$f":"DINAMICA!J624","v":0},{"$f":"DINAMICA!K624","v":0},{"$f":"VALUE(DINAMICA!$L624)","v":0},{"$f":"VALUE(DINAMICA!$M624)","v":0},{"$f":"VALUE(DINAMICA!$N624)","v":0},{"$f":"VALUE(DINAMICA!$O624)","v":0},{"$f":"VALUE(DINAMICA!$P624)","v":0},{"$f":"VALUE(DINAMICA!$Q624)","v":0},{"$f":"VALUE(DINAMICA!$R624)","v":0}]
[{"$f":"VALUE(DINAMICA!$A625)","v":0},{"$f":"VALUE(DINAMICA!$B625)","v":"00:00:00"},{"$f":"VALUE(DINAMICA!$C625)","v":0},{"$f":"DINAMICA!D625","v":0},{"$f":"DINAMICA!E625","v":0},{"$f":"DINAMICA!F625","v":0},{"$f":"DINAMICA!G625","v":0},{"$f":"DINAMICA!H625","v":0},{"$f":"DINAMICA!I625","v":0},{"$f":"DINAMICA!J625","v":0},{"$f":"DINAMICA!K625","v":0},{"$f":"VALUE(DINAMICA!$L625)","v":0},{"$f":"VALUE(DINAMICA!$M625)","v":0},{"$f":"VALUE(DINAMICA!$N625)","v":0},{"$f":"VALUE(DINAMICA!$O625)","v":0},{"$f":"VALUE(DINAMICA!$P625)","v":0},{"$f":"VALUE(DINAMICA!$Q625)","v":0},{"$f":"VALUE(DINAMICA!$R625)","v":0}]
[{"$f":"VALUE(DINAMICA!$A626)","v":0},{"$f":"VALUE(DINAMICA!$B626)","v":"00:00:00"},{"$f":"VALUE(DINAMICA!$C626)","v":0},{"$f":"DINAMICA!D626","v":0},{"$f":"DINAMICA!E626","v":0},{"$f":"DINAMICA!F626","v":0},{"$f":"DINAMICA!G626","v":0},{"$f":"DINAMICA!H626","v":0},{"$f":"DINAMICA!I626","v":0},{"$f":"DINAMICA!J626","v":0},{"$f":"DINAMICA!K626","v":0},{"$f":"VALUE(DINAMICA!$L626)","v":0},{"$f":"VALUE(DINAMICA!$M626)","v":0},{"$f":"VALUE(DINAMICA!$N626)","v":0},{"$f":"VALUE(DINAMICA!$O626)","v":0},{"$f":"VALUE(DINAMICA!$P626)","v":0},{"$f":"VALUE(DINAMICA!$Q626)","v":0},{"$f":"VALUE(DINAMICA!$R626)","v":0}]
[{"$f":"VALUE(DINAMICA!$A627)","v":0},{"$f":"VALUE(DINAMICA!$B627)","v":"00:00:00"},{"$f":"VALUE(DINAMICA!$C627)","v":0},{"$f":"DINAMICA!D627","v":0},{"$f":"DINAMICA!E627","v":0},{"$f":"DINAMICA!F627","v":0},{"$f":"DINAMICA!G627","v":0},{"$f":"DINAMICA!H627","v":0},{"$f":"DINAMICA!I627","v":0},{"$f":"DINAMICA!J627","v":0},{"$f":"DINAMICA!K627","v":0},{"$f":"VALUE(DINAMICA!$L627)","v":0},{"$f":"VALUE(DINAMICA!$M627)","v":0},{"$f":"VALUE(DINAMICA!$N627)","v":0},{"$f":"VALUE(DINAMICA!$O627)","v":0},{"$f":"VALUE(DINAMICA!$P627)","v":0},{"$f":"VALUE(DINAMICA!$Q627)","v":0},{"$f":"VALUE(DINAMICA!$R627)","v":0}]
[{"$f":"VALUE(DINAMICA!$A628)","v":0},{"$f":"VALUE(DINAMICA!$B628)","v":"00:00:00"},{"$f":"VALUE(DINAMICA!$C628)","v":0},{"$f":"DINAMICA!D628","v":0},{"$f":"DINAMICA!E628","v":0},{"$f":"DINAMICA!F628","v":0},{"$f":"DINAMICA!G628","v":0},{"$f":"DINAMICA!H628","v":0},{"$f":"DINAMICA!I628","v":0},{"$f":"DINAMICA!J628","v":0},{"$f":"DINAMICA!K628","v":0},{"$f":"VALUE(DINAMICA!$L628)","v":0},{"$f":"VALUE(DINAMICA!$M628)","v":0},{"$f":"VALUE(DINAMICA!$N628)","v":0},{"$f":"VALUE(DINAMICA!$O628)","v":0},{"$f":"VALUE(DINAMICA!$P628)","v":0},{"$f":"VALUE(DINAMICA!$Q628)","v":0},{"$f":"VALUE(DINAMICA!$R628)","v":0}]
[{"$f":"VALUE(DINAMICA!$A629)","v":0},{"$f":"VALUE(DINAMICA!$B629)","v":"00:00:00"},{"$f":"VALUE(DINAMICA!$C629)","v":0},{"$f":"DINAMICA!D629","v":0},{"$f":"DINAMICA!E629","v":0},{"$f":"DINAMICA!F629","v":0},{"$f":"DINAMICA!G629","v":0},{"$f":"DINAMICA!H629","v":0},{"$f":"DINAMICA!I629","v":0},{"$f":"DINAMICA!J629","v":0},{"$f":"DINAMICA!K629","v":0},{"$f":"VALUE(DINAMICA!$L629)","v":0},{"$f":"VALUE(DINAMICA!$M629)","v":0},{"$f":"VALUE(DINAMICA!$N629)","v":0},{"$f":"VALUE(DINAMICA!$O629)","v":0},{"$f":"VALUE(DINAMICA!$P629)","v":0},{"$f":"VALUE(DINAMICA!$Q629)","v":0},{"$f":"VALUE(DINAMICA!$R629)","v":0}]
[{"$f":"VALUE(DINAMICA!$A630)","v":0},{"$f":"VALUE(DINAMICA!$B630)","v":"00:00:00"},{"$f":"VALUE(DINAMICA!$C630)","v":0},{"$f":"DINAMICA!D630","v":0},{"$f":"DINAMICA!E630","v":0},{"$f":"DINAMICA!F630","v":0},{"$f":"DINAMICA!G630","v":0},{"$f":"DINAMICA!H630","v":0},{"$f":"DINAMICA!I630","v":0},{"$f":"DINAMICA!J630","v":0},{"$f":"DINAMICA!K630","v":0},{"$f":"VALUE(DINAMICA!$L630)","v":0},{"$f":"VALUE(DINAMICA!$M630)","v":0},{"$f":"VALUE(DINAMICA!$N630)","v":0},{"$f":"VALUE(DINAMICA!$O630)","v":0},{"$f":"VALUE(DINAMICA!$P630)","v":0},{"$f":"VALUE(DINAMICA!$Q630)","v":0},{"$f":"VALUE(DINAMICA!$R630)","v":0}]
[{"$f":"VALUE(DINAMICA!$A631)","v":0},{"$f":"VALUE(DINAMICA!$B631)","v":"00:00:00"},{"$f":"VALUE(DINAMICA!$C631)","v":0},{"$f":"DINAMICA!D631","v":0},{"$f":"DINAMICA!E631","v":0},{"$f":"DINAMICA!F631","v":0},{"$f":"DINAMICA!G631","v":0},{"$f":"DINAMICA!H631","v":0},{"$f":"DINAMICA!I631","v":0},{"$f":"DINAMICA!J631","v":0},{"$f":"DINAMICA!K631","v":0},{"$f":"VALUE(DINAMICA!$L631)","v":0},{"$f":"VALUE(DINAMICA!$M631)","v":0},{"$f":"VALUE(DINAMICA!$N631)","v":0},{"$f":"VALUE(DINAMICA!$O631)","v":0},{"$f":"VALUE(DINAMICA!$P631)","v":0},{"$f":"VALUE(DINAMICA!$Q631)","v":0},{"$f":"VALUE(DINAMICA!$R631)","v":0}]
[{"$f":"VALUE(DINAMICA!$A632)","v":0},{"$f":"VALUE(DINAMICA!$B632)","v":"00:00:00"},{"$f":"VALUE(DINAMICA!$C632)","v":0},{"$f":"DINAMICA!D632","v":0},{"$f":"DINAMICA!E632","v":0},{"$f":"DINAMICA!F632","v":0},{"$f":"DINAMICA!G632","v":0},{"$f":"DINAMICA!H632","v":0},{"$f":"DINAMICA!I632","v":0},{"$f":"DINAMICA!J632","v":0},{"$f":"DINAMICA!K632","v":0},{"$f":"VALUE(DINAMICA!$L632)","v":0},{"$f":"VALUE(DINAMICA!$M632)","v":0},{"$f":"VALUE(DINAMICA!$N632)","v":0},{"$f":"VALUE(DINAMICA!$O632)","v":0},{"$f":"VALUE(DINAMICA!$P632)","v":0},{"$f":"VALUE(DINAMICA!$Q632)","v":0},{"$f":"VALUE(DINAMICA!$R632)","v":0}]
[{"$f":"VALUE(DINAMICA!$A633)","v":0},{"$f":"VALUE(DINAMICA!$B633)","v":"00:00:00"},{"$f":"VALUE(DINAMICA!$C633)","v":0},{"$f":"DINAMICA!D633","v":0},{"$f":"DINAMICA!E633","v":0},{"$f":"DINAMICA!F633","v":0},{"$f":"DINAMICA!G633","v":0},{"$f":"DINAMICA!H633","v":0},{"$f":"DINAMICA!I633","v":0},{"$f":"DINAMICA!J633","v":0},{"$f":"DINAMICA!K633","v":0},{"$f":"VALUE(DINAMICA!$L633)","v":0},{"$f":"VALUE(DINAMICA!$M633)","v":0},{"$f":"VALUE(DINAMICA!$N633)","v":0},{"$f":"VALUE(DINAMICA!$O633)","v":0},{"$f":"VALUE(DINAMICA!$P633)","v":0},{"$f":"VALUE(DINAMICA!$Q633)","v":0},{"$f":"VALUE(DINAMICA!$R633)","v":0}]
[{"$f":"VALUE(DINAMICA!$A634)","v":0},{"$f":"VALUE(DINAMICA!$B634)","v":"00:00:00"},{"$f":"VALUE(DINAMICA!$C634)","v":0},{"$f":"DINAMICA!D634","v":0},{"$f":"DINAMICA!E634","v":0},{"$f":"DINAMICA!F634","v":0},{"$f":"DINAMICA!G634","v":0},{"$f":"DINAMICA!H634","v":0},{"$f":"DINAMICA!I634","v":0},{"$f":"DINAMICA!J634","v":0},{"$f":"DINAMICA!K634","v":0},{"$f":"VALUE(DINAMICA!$L634)","v":0},{"$f":"VALUE(DINAMICA!$M634)","v":0},{"$f":"VALUE(DINAMICA!$N634)","v":0},{"$f":"VALUE(DINAMICA!$O634)","v":0},{"$f":"VALUE(DINAMICA!$P634)","v":0},{"$f":"VALUE(DINAMICA!$Q634)","v":0},{"$f":"VALUE(DINAMICA!$R634)","v":0}]
[{"$f":"VALUE(DINAMICA!$A635)","v":0},{"$f":"VALUE(DINAMICA!$B635)","v":"00:00:00"},{"$f":"VALUE(DINAMICA!$C635)","v":0},{"$f":"DINAMICA!D635","v":0},{"$f":"DINAMICA!E635","v":0},{"$f":"DINAMICA!F635","v":0},{"$f":"DINAMICA!G635","v":0},{"$f":"DINAMICA!H635","v":0},{"$f":"DINAMICA!I635","v":0},{"$f":"DINAMICA!J635","v":0},{"$f":"DINAMICA!K635","v":0},{"$f":"VALUE(DINAMICA!$L635)","v":0},{"$f":"VALUE(DINAMICA!$M635)","v":0},{"$f":"VALUE(DINAMICA!$N635)","v":0},{"$f":"VALUE(DINAMICA!$O635)","v":0},{"$f":"VALUE(DINAMICA!$P635)","v":0},{"$f":"VALUE(DINAMICA!$Q635)","v":0},{"$f":"VALUE(DINAMICA!$R635)","v":0}]
[{"$f":"VALUE(DINAMICA!$A636)","v":0},{"$f":"VALUE(DINAMICA!$B636)","v":"00:00:00"},{"$f":"VALUE(DINAMICA!$C636)","v":0},{"$f":"DINAMICA!D636","v":0},{"$f":"DINAMICA!E636","v":0},{"$f":"DINAMICA!F636","v":0},{"$f":"DINAMICA!G636","v":0},{"$f":"DINAMICA!H636","v":0},{"$f":"DINAMICA!I636","v":0},{"$f":"DINAMICA!J636","v":0},{"$f":"DINAMICA!K636","v":0},{"$f":"VALUE(DINAMICA!$L636)","v":0},{"$f":"VALUE(DINAMICA!$M636)","v":0},{"$f":"VALUE(DINAMICA!$N636)","v":0},{"$f":"VALUE(DINAMICA!$O636)","v":0},{"$f":"VALUE(DINAMICA!$P636)","v":0},{"$f":"VALUE(DINAMICA!$Q636)","v":0},{"$f":"VALUE(DINAMICA!$R636)","v":0}]
[{"$f":"VALUE(DINAMICA!$A637)","v":0},{"$f":"VALUE(DINAMICA!$B637)","v":"00:00:00"},{"$f":"VALUE(DINAMICA!$C637)","v":0},{"$f":"DINAMICA!D637","v":0},{"$f":"DINAMICA!E637","v":0},{"$f":"DINAMICA!F637","v":0},{"$f":"DINAMICA!G637","v":0},{"$f":"DINAMICA!H637","v":0},{"$f":"DINAMICA!I637","v":0},{"$f":"DINAMICA!J637","v":0},{"$f":"DINAMICA!K637","v":0},{"$f":"VALUE(DINAMICA!$L637)","v":0},{"$f":"VALUE(DINAMICA!$M637)","v":0},{"$f":"VALUE(DINAMICA!$N637)","v":0},{"$f":"VALUE(DINAMICA!$O637)","v":0},{"$f":"VALUE(DINAMICA!$P637)","v":0},{"$f":"VALUE(DINAMICA!$Q637)","v":0},{"$f":"VALUE(DINAMICA!$R637)","v":0}]
[{"$f":"VALUE(DINAMICA!$A638)","v":0},{"$f":"VALUE(DINAMICA!$B638)","v":"00:00:00"},{"$f":"VALUE(DINAMICA!$C638)","v":0},{"$f":"DINAMICA!D638","v":0},{"$f":"DINAMICA!E638","v":0},{"$f":"DINAMICA!F638","v":0},{"$f":"DINAMICA!G638","v":0},{"$f":"DINAMICA!H638","v":0},{"$f":"DINAMICA!I638","v":0},{"$f":"DINAMICA!J638","v":0},{"$f":"DINAMICA!K638","v":0},{"$f":"VALUE(DINAMICA!$L638)","v":0},{"$f":"VALUE(DINAMICA!$M638)","v":0},{"$f":"VALUE(DINAMICA!$N638)","v":0},{"$f":"VALUE(DINAMICA!$O638)","v":0},{"$f":"VALUE(DINAMICA!$P638)","v":0},{"$f":"VALUE(DINAMICA!$Q638)","v":0},{"$f":"VALUE(DINAMICA!$R638)","v":0}]
[{"$f":"VALUE(DINAMICA!$A639)","v":0},{"$f":"VALUE(DINAMICA!$B639)","v":"00:00:00"},{"$f":"VALUE(DINAMICA!$C639)","v":0},{"$f":"DINAMICA!D639","v":0},{"$f":"DINAMICA!E639","v":0},{"$f":"DINAMICA!F639","v":0},{"$f":"DINAMICA!G639","v":0},{"$f":"DINAMICA!H639","v":0},{"$f":"DINAMICA!I639","v":0},{"$f":"DINAMICA!J639","v":0},{"$f":"DINAMICA!K639","v":0},{"$f":"VALUE(DINAMICA!$L639)","v":0},{"$f":"VALUE(DINAMICA!$M639)","v":0},{"$f":"VALUE(DINAMICA!$N639)","v":0},{"$f":"VALUE(DINAMICA!$O639)","v":0},{"$f":"VALUE(DINAMICA!$P639)","v":0},{"$f":"VALUE(DINAMICA!$Q639)","v":0},{"$f":"VALUE(DINAMICA!$R639)","v":0}]
[{"$f":"VALUE(DINAMICA!$A640)","v":0},{"$f":"VALUE(DINAMICA!$B640)","v":"00:00:00"},{"$f":"VALUE(DINAMICA!$C640)","v":0},{"$f":"DINAMICA!D640","v":0},{"$f":"DINAMICA!E640","v":0},{"$f":"DINAMICA!F640","v":0},{"$f":"DINAMICA!G640","v":0},{"$f":"DINAMICA!H640","v":0},{"$f":"DINAMICA!I640","v":0},{"$f":"DINAMICA!J640","v":0},{"$f":"DINAMICA!K640","v":0},{"$f":"VALUE(DINAMICA!$L640)","v":0},{"$f":"VALUE(DINAMICA!$M640)","v":0},{"$f":"VALUE(DINAMICA!$N640)","v":0},{"$f":"VALUE(DINAMICA!$O640)","v":0},{"$f":"VALUE(DINAMICA!$P640)","v":0},{"$f":"VALUE(DINAMICA!$Q640)","v":0},{"$f":"VALUE(DINAMICA!$R640)","v":0}]
[{"$f":"VALUE(DINAMICA!$A641)","v":0},{"$f":"VALUE(DINAMICA!$B641)","v":"00:00:00"},{"$f":"VALUE(DINAMICA!$C641)","v":0},{"$f":"DINAMICA!D641","v":0},{"$f":"DINAMICA!E641","v":0},{"$f":"DINAMICA!F641","v":0},{"$f":"DINAMICA!G641","v":0},{"$f":"DINAMICA!H641","v":0},{"$f":"DINAMICA!I641","v":0},{"$f":"DINAMICA!J641","v":0},{"$f":"DINAMICA!K641","v":0},{"$f":"VALUE(DINAMICA!$L641)","v":0},{"$f":"VALUE(DINAMICA!$M641)","v":0},{"$f":"VALUE(DINAMICA!$N641)","v":0},{"$f":"VALUE(DINAMICA!$O641)","v":0},{"$f":"VALUE(DINAMICA!$P641)","v":0},{"$f":"VALUE(DINAMICA!$Q641)","v":0},{"$f":"VALUE(DINAMICA!$R641)","v":0}]
[{"$f":"VALUE(DINAMICA!$A642)","v":0},{"$f":"VALUE(DINAMICA!$B642)","v":"00:00:00"},{"$f":"VALUE(DINAMICA!$C642)","v":0},{"$f":"DINAMICA!D642","v":0},{"$f":"DINAMICA!E642","v":0},{"$f":"DINAMICA!F642","v":0},{"$f":"DINAMICA!G642","v":0},{"$f":"DINAMICA!H642","v":0},{"$f":"DINAMICA!I642","v":0},{"$f":"DINAMICA!J642","v":0},{"$f":"DINAMICA!K642","v":0},{"$f":"VALUE(DINAMICA!$L642)","v":0},{"$f":"VALUE(DINAMICA!$M642)","v":0},{"$f":"VALUE(DINAMICA!$N642)","v":0},{"$f":"VALUE(DINAMICA!$O642)","v":0},{"$f":"VALUE(DINAMICA!$P642)","v":0},{"$f":"VALUE(DINAMICA!$Q642)","v":0},{"$f":"VALUE(DINAMICA!$R642)","v":0}]
[{"$f":"VALUE(DINAMICA!$A643)","v":0},{"$f":"VALUE(DINAMICA!$B643)","v":"00:00:00"},{"$f":"VALUE(DINAMICA!$C643)","v":0},{"$f":"DINAMICA!D643","v":0},{"$f":"DINAMICA!E643","v":0},{"$f":"DINAMICA!F643","v":0},{"$f":"DINAMICA!G643","v":0},{"$f":"DINAMICA!H643","v":0},{"$f":"DINAMICA!I643","v":0},{"$f":"DINAMICA!J643","v":0},{"$f":"DINAMICA!K643","v":0},{"$f":"VALUE(DINAMICA!$L643)","v":0},{"$f":"VALUE(DINAMICA!$M643)","v":0},{"$f":"VALUE(DINAMICA!$N643)","v":0},{"$f":"VALUE(DINAMICA!$O643)","v":0},{"$f":"VALUE(DINAMICA!$P643)","v":0},{"$f":"VALUE(DINAMICA!$Q643)","v":0},{"$f":"VALUE(DINAMICA!$R643)","v":0}]
[{"$f":"VALUE(DINAMICA!$A644)","v":0},{"$f":"VALUE(DINAMICA!$B644)","v":"00:00:00"},{"$f":"VALUE(DINAMICA!$C644)","v":0},{"$f":"DINAMICA!D644","v":0},{"$f":"DINAMICA!E644","v":0},{"$f":"DINAMICA!F644","v":0},{"$f":"DINAMICA!G644","v":0},{"$f":"DINAMICA!H644","v":0},{"$f":"DINAMICA!I644","v":0},{"$f":"DINAMICA!J644","v":0},{"$f":"DINAMICA!K644","v":0},{"$f":"VALUE(DINAMICA!$L644)","v":0},{"$f":"VALUE(DINAMICA!$M644)","v":0},{"$f":"VALUE(DINAMICA!$N644)","v":0},{"$f":"VALUE(DINAMICA!$O644)","v":0},{"$f":"VALUE(DINAMICA!$P644)","v":0},{"$f":"VALUE(DINAMICA!$Q644)","v":0},{"$f":"VALUE(DINAMICA!$R644)","v":0}]
[{"$f":"VALUE(DINAMICA!$A645)","v":0},{"$f":"VALUE(DINAMICA!$B645)","v":"00:00:00"},{"$f":"VALUE(DINAMICA!$C645)","v":0},{"$f":"DINAMICA!D645","v":0},{"$f":"DINAMICA!E645","v":0},{"$f":"DINAMICA!F645","v":0},{"$f":"DINAMICA!G645","v":0},{"$f":"DINAMICA!H645","v":0},{"$f":"DINAMICA!I645","v":0},{"$f":"DINAMICA!J645","v":0},{"$f":"DINAMICA!K645","v":0},{"$f":"VALUE(DINAMICA!$L645)","v":0},{"$f":"VALUE(DINAMICA!$M645)","v":0},{"$f":"VALUE(DINAMICA!$N645)","v":0},{"$f":"VALUE(DINAMICA!$O645)","v":0},{"$f":"VALUE(DINAMICA!$P645)","v":0},{"$f":"VALUE(DINAMICA!$Q645)","v":0},{"$f":"VALUE(DINAMICA!$R645)","v":0}]
[{"$f":"VALUE(DINAMICA!$A646)","v":0},{"$f":"VALUE(DINAMICA!$B646)","v":"00:00:00"},{"$f":"VALUE(DINAMICA!$C646)","v":0},{"$f":"DINAMICA!D646","v":0},{"$f":"DINAMICA!E646","v":0},{"$f":"DINAMICA!F646","v":0},{"$f":"DINAMICA!G646","v":0},{"$f":"DINAMICA!H646","v":0},{"$f":"DINAMICA!I646","v":0},{"$f":"DINAMICA!J646","v":0},{"$f":"DINAMICA!K646","v":0},{"$f":"VALUE(DINAMICA!$L646)","v":0},{"$f":"VALUE(DINAMICA!$M646)","v":0},{"$f":"VALUE(DINAMICA!$N646)","v":0},{"$f":"VALUE(DINAMICA!$O646)","v":0},{"$f":"VALUE(DINAMICA!$P646)","v":0},{"$f":"VALUE(DINAMICA!$Q646)","v":0},{"$f":"VALUE(DINAMICA!$R646)","v":0}]
[{"$f":"VALUE(DINAMICA!$A647)","v":0},{"$f":"VALUE(DINAMICA!$B647)","v":"00:00:00"},{"$f":"VALUE(DINAMICA!$C647)","v":0},{"$f":"DINAMICA!D647","v":0},{"$f":"DINAMICA!E647","v":0},{"$f":"DINAMICA!F647","v":0},{"$f":"DINAMICA!G647","v":0},{"$f":"DINAMICA!H647","v":0},{"$f":"DINAMICA!I647","v":0},{"$f":"DINAMICA!J647","v":0},{"$f":"DINAMICA!K647","v":0},{"$f":"VALUE(DINAMICA!$L647)","v":0},{"$f":"VALUE(DINAMICA!$M647)","v":0},{"$f":"VALUE(DINAMICA!$N647)","v":0},{"$f":"VALUE(DINAMICA!$O647)","v":0},{"$f":"VALUE(DINAMICA!$P647)","v":0},{"$f":"VALUE(DINAMICA!$Q647)","v":0},{"$f":"VALUE(DINAMICA!$R647)","v":0}]
[{"$f":"VALUE(DINAMICA!$A648)","v":0},{"$f":"VALUE(DINAMICA!$B648)","v":"00:00:00"},{"$f":"VALUE(DINAMICA!$C648)","v":0},{"$f":"DINAMICA!D648","v":0},{"$f":"DINAMICA!E648","v":0},{"$f":"DINAMICA!F648","v":0},{"$f":"DINAMICA!G648","v":0},{"$f":"DINAMICA!H648","v":0},{"$f":"DINAMICA!I648","v":0},{"$f":"DINAMICA!J648","v":0},{"$f":"DINAMICA!K648","v":0},{"$f":"VALUE(DINAMICA!$L648)","v":0},{"$f":"VALUE(DINAMICA!$M648)","v":0},{"$f":"VALUE(DINAMICA!$N648)","v":0},{"$f":"VALUE(DINAMICA!$O648)","v":0},{"$f":"VALUE(DINAMICA!$P648)","v":0},{"$f":"VALUE(DINAMICA!$Q648)","v":0},{"$f":"VALUE(DINAMICA!$R648)","v":0}]
[{"$f":"VALUE(DINAMICA!$A649)","v":0},{"$f":"VALUE(DINAMICA!$B649)","v":"00:00:00"},{"$f":"VALUE(DINAMICA!$C649)","v":0},{"$f":"DINAMICA!D649","v":0},{"$f":"DINAMICA!E649","v":0},{"$f":"DINAMICA!F649","v":0},{"$f":"DINAMICA!G649","v":0},{"$f":"DINAMICA!H649","v":0},{"$f":"DINAMICA!I649","v":0},{"$f":"DINAMICA!J649","v":0},{"$f":"DINAMICA!K649","v":0},{"$f":"VALUE(DINAMICA!$L649)","v":0},{"$f":"VALUE(DINAMICA!$M649)","v":0},{"$f":"VALUE(DINAMICA!$N649)","v":0},{"$f":"VALUE(DINAMICA!$O649)","v":0},{"$f":"VALUE(DINAMICA!$P649)","v":0},{"$f":"VALUE(DINAMICA!$Q649)","v":0},{"$f":"VALUE(DINAMICA!$R649)","v":0}]
[{"$f":"VALUE(DINAMICA!$A650)","v":0},{"$f":"VALUE(DINAMICA!$B650)","v":"00:00:00"},{"$f":"VALUE(DINAMICA!$C650)","v":0},{"$f":"DINAMICA!D650","v":0},{"$f":"DINAMICA!E650","v":0},{"$f":"DINAMICA!F650","v":0},{"$f":"DINAMICA!G650","v":0},{"$f":"DINAMICA!H650","v":0},{"$f":"DINAMICA!I650","v":0},{"$f":"DINAMICA!J650","v":0},{"$f":"DINAMICA!K650","v":0},{"$f":"VALUE(DINAMICA!$L650)","v":0},{"$f":"VALUE(DINAMICA!$M650)","v":0},{"$f":"VALUE(DINAMICA!$N650)","v":0},{"$f":"VALUE(DINAMICA!$O650)","v":0},{"$f":"VALUE(DINAMICA!$P650)","v":0},{"$f":"VALUE(DINAMICA!$Q650)","v":0},{"$f":"VALUE(DINAMICA!$R650)","v":0}]
[{"$f":"VALUE(DINAMICA!$A651)","v":0},{"$f":"VALUE(DINAMICA!$B651)","v":"00:00:00"},{"$f":"VALUE(DINAMICA!$C651)","v":0},{"$f":"DINAMICA!D651","v":0},{"$f":"DINAMICA!E651","v":0},{"$f":"DINAMICA!F651","v":0},{"$f":"DINAMICA!G651","v":0},{"$f":"DINAMICA!H651","v":0},{"$f":"DINAMICA!I651","v":0},{"$f":"DINAMICA!J651","v":0},{"$f":"DINAMICA!K651","v":0},{"$f":"VALUE(DINAMICA!$L651)","v":0},{"$f":"VALUE(DINAMICA!$M651)","v":0},{"$f":"VALUE(DINAMICA!$N651)","v":0},{"$f":"VALUE(DINAMICA!$O651)","v":0},{"$f":"VALUE(DINAMICA!$P651)","v":0},{"$f":"VALUE(DINAMICA!$Q651)","v":0},{"$f":"VALUE(DINAMICA!$R651)","v":0}]
[{"$f":"VALUE(DINAMICA!$A652)","v":0},{"$f":"VALUE(DINAMICA!$B652)","v":"00:00:00"},{"$f":"VALUE(DINAMICA!$C652)","v":0},{"$f":"DINAMICA!D652","v":0},{"$f":"DINAMICA!E652","v":0},{"$f":"DINAMICA!F652","v":0},{"$f":"DINAMICA!G652","v":0},{"$f":"DINAMICA!H652","v":0},{"$f":"DINAMICA!I652","v":0},{"$f":"DINAMICA!J652","v":0},{"$f":"DINAMICA!K652","v":0},{"$f":"VALUE(DINAMICA!$L652)","v":0},{"$f":"VALUE(DINAMICA!$M652)","v":0},{"$f":"VALUE(DINAMICA!$N652)","v":0},{"$f":"VALUE(DINAMICA!$O652)","v":0},{"$f":"VALUE(DINAMICA!$P652)","v":0},{"$f":"VALUE(DINAMICA!$Q652)","v":0},{"$f":"VALUE(DINAMICA!$R652)","v":0}]
[{"$f":"VALUE(DINAMICA!$A653)","v":0},{"$f":"VALUE(DINAMICA!$B653)","v":"00:00:00"},{"$f":"VALUE(DINAMICA!$C653)","v":0},{"$f":"DINAMICA!D653","v":0},{"$f":"DINAMICA!E653","v":0},{"$f":"DINAMICA!F653","v":0},{"$f":"DINAMICA!G653","v":0},{"$f":"DINAMICA!H653","v":0},{"$f":"DINAMICA!I653","v":0},{"$f":"DINAMICA!J653","v":0},{"$f":"DINAMICA!K653","v":0},{"$f":"VALUE(DINAMICA!$L653)","v":0},{"$f":"VALUE(DINAMICA!$M653)","v":0},{"$f":"VALUE(DINAMICA!$N653)","v":0},{"$f":"VALUE(DINAMICA!$O653)","v":0},{"$f":"VALUE(DINAMICA!$P653)","v":0},{"$f":"VALUE(DINAMICA!$Q653)","v":0},{"$f":"VALUE(DINAMICA!$R653)","v":0}]
[{"$f":"VALUE(DINAMICA!$A654)","v":0},{"$f":"VALUE(DINAMICA!$B654)","v":"00:00:00"},{"$f":"VALUE(DINAMICA!$C654)","v":0},{"$f":"DINAMICA!D654","v":0},{"$f":"DINAMICA!E654","v":0},{"$f":"DINAMICA!F654","v":0},{"$f":"DINAMICA!G654","v":0},{"$f":"DINAMICA!H654","v":0},{"$f":"DINAMICA!I654","v":0},{"$f":"DINAMICA!J654","v":0},{"$f":"DINAMICA!K654","v":0},{"$f":"VALUE(DINAMICA!$L654)","v":0},{"$f":"VALUE(DINAMICA!$M654)","v":0},{"$f":"VALUE(DINAMICA!$N654)","v":0},{"$f":"VALUE(DINAMICA!$O654)","v":0},{"$f":"VALUE(DINAMICA!$P654)","v":0},{"$f":"VALUE(DINAMICA!$Q654)","v":0},{"$f":"VALUE(DINAMICA!$R654)","v":0}]
[{"$f":"VALUE(DINAMICA!$A655)","v":0},{"$f":"VALUE(DINAMICA!$B655)","v":"00:00:00"},{"$f":"VALUE(DINAMICA!$C655)","v":0},{"$f":"DINAMICA!D655","v":0},{"$f":"DINAMICA!E655","v":0},{"$f":"DINAMICA!F655","v":0},{"$f":"DINAMICA!G655","v":0},{"$f":"DINAMICA!H655","v":0},{"$f":"DINAMICA!I655","v":0},{"$f":"DINAMICA!J655","v":0},{"$f":"DINAMICA!K655","v":0},{"$f":"VALUE(DINAMICA!$L655)","v":0},{"$f":"VALUE(DINAMICA!$M655)","v":0},{"$f":"VALUE(DINAMICA!$N655)","v":0},{"$f":"VALUE(DINAMICA!$O655)","v":0},{"$f":"VALUE(DINAMICA!$P655)","v":0},{"$f":"VALUE(DINAMICA!$Q655)","v":0},{"$f":"VALUE(DINAMICA!$R655)","v":0}]
[{"$f":"VALUE(DINAMICA!$A656)","v":0},{"$f":"VALUE(DINAMICA!$B656)","v":"00:00:00"},{"$f":"VALUE(DINAMICA!$C656)","v":0},{"$f":"DINAMICA!D656","v":0},{"$f":"DINAMICA!E656","v":0},{"$f":"DINAMICA!F656","v":0},{"$f":"DINAMICA!G656","v":0},{"$f":"DINAMICA!H656","v":0},{"$f":"DINAMICA!I656","v":0},{"$f":"DINAMICA!J656","v":0},{"$f":"DINAMICA!K656","v":0},{"$f":"VALUE(DINAMICA!$L656)","v":0},{"$f":"VALUE(DINAMICA!$M656)","v":0},{"$f":"VALUE(DINAMICA!$N656)","v":0},{"$f":"VALUE(DINAMICA!$O656)","v":0},{"$f":"VALUE(DINAMICA!$P656)","v":0},{"$f":"VALUE(DINAMICA!$Q656)","v":0},{"$f":"VALUE(DINAMICA!$R656)","v":0}]
[{"$f":"VALUE(DINAMICA!$A657)","v":0},{"$f":"VALUE(DINAMICA!$B657)","v":"00:00:00"},{"$f":"VALUE(DINAMICA!$C657)","v":0},{"$f":"DINAMICA!D657","v":0},{"$f":"DINAMICA!E657","v":0},{"$f":"DINAMICA!F657","v":0},{"$f":"DINAMICA!G657","v":0},{"$f":"DINAMICA!H657","v":0},{"$f":"DINAMICA!I657","v":0},{"$f":"DINAMICA!J657","v":0},{"$f":"DINAMICA!K657","v":0},{"$f":"VALUE(DINAMICA!$L657)","v":0},{"$f":"VALUE(DINAMICA!$M657)","v":0},{"$f":"VALUE(DINAMICA!$N657)","v":0},{"$f":"VALUE(DINAMICA!$O657)","v":0},{"$f":"VALUE(DINAMICA!$P657)","v":0},{"$f":"VALUE(DINAMICA!$Q657)","v":0},{"$f":"VALUE(DINAMICA!$R657)","v":0}]
[{"$f":"VALUE(DINAMICA!$A658)","v":0},{"$f":"VALUE(DINAMICA!$B658)","v":"00:00:00"},{"$f":"VALUE(DINAMICA!$C658)","v":0},{"$f":"DINAMICA!D658","v":0},{"$f":"DINAMICA!E658","v":0},{"$f":"DINAMICA!F658","v":0},{"$f":"DINAMICA!G658","v":0},{"$f":"DINAMICA!H658","v":0},{"$f":"DINAMICA!I658","v":0},{"$f":"DINAMICA!J658","v":0},{"$f":"DINAMICA!K658","v":0},{"$f":"VALUE(DINAMICA!$L658)","v":0},{"$f":"VALUE(DINAMICA!$M658)","v":0},{"$f":"VALUE(DINAMICA!$N658)","v":0},{"$f":"VALUE(DINAMICA!$O658)","v":0},{"$f":"VALUE(DINAMICA!$P658)","v":0},{"$f":"VALUE(DINAMICA!$Q658)","v":0},{"$f":"VALUE(DINAMICA!$R658)","v":0}]
[{"$f":"VALUE(DINAMICA!$A659)","v":0},{"$f":"VALUE(DINAMICA!$B659)","v":"00:00:00"},{"$f":"VALUE(DINAMICA!$C659)","v":0},{"$f":"DINAMICA!D659","v":0},{"$f":"DINAMICA!E659","v":0},{"$f":"DINAMICA!F659","v":0},{"$f":"DINAMICA!G659","v":0},{"$f":"DINAMICA!H659","v":0},{"$f":"DINAMICA!I659","v":0},{"$f":"DINAMICA!J659","v":0},{"$f":"DINAMICA!K659","v":0},{"$f":"VALUE(DINAMICA!$L659)","v":0},{"$f":"VALUE(DINAMICA!$M659)","v":0},{"$f":"VALUE(DINAMICA!$N659)","v":0},{"$f":"VALUE(DINAMICA!$O659)","v":0},{"$f":"VALUE(DINAMICA!$P659)","v":0},{"$f":"VALUE(DINAMICA!$Q659)","v":0},{"$f":"VALUE(DINAMICA!$R659)","v":0}]
[{"$f":"VALUE(DINAMICA!$A660)","v":0},{"$f":"VALUE(DINAMICA!$B660)","v":"00:00:00"},{"$f":"VALUE(DINAMICA!$C660)","v":0},{"$f":"DINAMICA!D660","v":0},{"$f":"DINAMICA!E660","v":0},{"$f":"DINAMICA!F660","v":0},{"$f":"DINAMICA!G660","v":0},{"$f":"DINAMICA!H660","v":0},{"$f":"DINAMICA!I660","v":0},{"$f":"DINAMICA!J660","v":0},{"$f":"DINAMICA!K660","v":0},{"$f":"VALUE(DINAMICA!$L660)","v":0},{"$f":"VALUE(DINAMICA!$M660)","v":0},{"$f":"VALUE(DINAMICA!$N660)","v":0},{"$f":"VALUE(DINAMICA!$O660)","v":0},{"$f":"VALUE(DINAMICA!$P660)","v":0},{"$f":"VALUE(DINAMICA!$Q660)","v":0},{"$f":"VALUE(DINAMICA!$R660)","v":0}]
[{"$f":"VALUE(DINAMICA!$A661)","v":0},{"$f":"VALUE(DINAMICA!$B661)","v":"00:00:00"},{"$f":"VALUE(DINAMICA!$C661)","v":0},{"$f":"DINAMICA!D661","v":0},{"$f":"DINAMICA!E661","v":0},{"$f":"DINAMICA!F661","v":0},{"$f":"DINAMICA!G661","v":0},{"$f":"DINAMICA!H661","v":0},{"$f":"DINAMICA!I661","v":0},{"$f":"DINAMICA!J661","v":0},{"$f":"DINAMICA!K661","v":0},{"$f":"VALUE(DINAMICA!$L661)","v":0},{"$f":"VALUE(DINAMICA!$M661)","v":0},{"$f":"VALUE(DINAMICA!$N661)","v":0},{"$f":"VALUE(DINAMICA!$O661)","v":0},{"$f":"VALUE(DINAMICA!$P661)","v":0},{"$f":"VALUE(DINAMICA!$Q661)","v":0},{"$f":"VALUE(DINAMICA!$R661)","v":0}]
[{"$f":"VALUE(DINAMICA!$A662)","v":0},{"$f":"VALUE(DINAMICA!$B662)","v":"00:00:00"},{"$f":"VALUE(DINAMICA!$C662)","v":0},{"$f":"DINAMICA!D662","v":0},{"$f":"DINAMICA!E662","v":0},{"$f":"DINAMICA!F662","v":0},{"$f":"DINAMICA!G662","v":0},{"$f":"DINAMICA!H662","v":0},{"$f":"DINAMICA!I662","v":0},{"$f":"DINAMICA!J662","v":0},{"$f":"DINAMICA!K662","v":0},{"$f":"VALUE(DINAMICA!$L662)","v":0},{"$f":"VALUE(DINAMICA!$M662)","v":0},{"$f":"VALUE(DINAMICA!$N662)","v":0},{"$f":"VALUE(DINAMICA!$O662)","v":0},{"$f":"VALUE(DINAMICA!$P662)","v":0},{"$f":"VALUE(DINAMICA!$Q662)","v":0},{"$f":"VALUE(DINAMICA!$R662)","v":0}]
[{"$f":"VALUE(DINAMICA!$A663)","v":0},{"$f":"VALUE(DINAMICA!$B663)","v":"00:00:00"},{"$f":"VALUE(DINAMICA!$C663)","v":0},{"$f":"DINAMICA!D663","v":0},{"$f":"DINAMICA!E663","v":0},{"$f":"DINAMICA!F663","v":0},{"$f":"DINAMICA!G663","v":0},{"$f":"DINAMICA!H663","v":0},{"$f":"DINAMICA!I663","v":0},{"$f":"DINAMICA!J663","v":0},{"$f":"DINAMICA!K663","v":0},{"$f":"VALUE(DINAMICA!$L663)","v":0},{"$f":"VALUE(DINAMICA!$M663)","v":0},{"$f":"VALUE(DINAMICA!$N663)","v":0},{"$f":"VALUE(DINAMICA!$O663)","v":0},{"$f":"VALUE(DINAMICA!$P663)","v":0},{"$f":"VALUE(DINAMICA!$Q663)","v":0},{"$f":"VALUE(DINAMICA!$R663)","v":0}]
[{"$f":"VALUE(DINAMICA!$A664)","v":0},{"$f":"VALUE(DINAMICA!$B664)","v":"00:00:00"},{"$f":"VALUE(DINAMICA!$C664)","v":0},{"$f":"DINAMICA!D664","v":0},{"$f":"DINAMICA!E664","v":0},{"$f":"DINAMICA!F664","v":0},{"$f":"DINAMICA!G664","v":0},{"$f":"DINAMICA!H664","v":0},{"$f":"DINAMICA!I664","v":0},{"$f":"DINAMICA!J664","v":0},{"$f":"DINAMICA!K664","v":0},{"$f":"VALUE(DINAMICA!$L664)","v":0},{"$f":"VALUE(DINAMICA!$M664)","v":0},{"$f":"VALUE(DINAMICA!$N664)","v":0},{"$f":"VALUE(DINAMICA!$O664)","v":0},{"$f":"VALUE(DINAMICA!$P664)","v":0},{"$f":"VALUE(DINAMICA!$Q664)","v":0},{"$f":"VALUE(DINAMICA!$R664)","v":0}]
[{"$f":"VALUE(DINAMICA!$A665)","v":0},{"$f":"VALUE(DINAMICA!$B665)","v":"00:00:00"},{"$f":"VALUE(DINAMICA!$C665)","v":0},{"$f":"DINAMICA!D665","v":0},{"$f":"DINAMICA!E665","v":0},{"$f":"DINAMICA!F665","v":0},{"$f":"DINAMICA!G665","v":0},{"$f":"DINAMICA!H665","v":0},{"$f":"DINAMICA!I665","v":0},{"$f":"DINAMICA!J665","v":0},{"$f":"DINAMICA!K665","v":0},{"$f":"VALUE(DINAMICA!$L665)","v":0},{"$f":"VALUE(DINAMICA!$M665)","v":0},{"$f":"VALUE(DINAMICA!$N665)","v":0},{"$f":"VALUE(DINAMICA!$O665)","v":0},{"$f":"VALUE(DINAMICA!$P665)","v":0},{"$f":"VALUE(DINAMICA!$Q665)","v":0},{"$f":"VALUE(DINAMICA!$R665)","v":0}]
[{"$f":"VALUE(DINAMICA!$A666)","v":0},{"$f":"VALUE(DINAMICA!$B666)","v":"00:00:00"},{"$f":"VALUE(DINAMICA!$C666)","v":0},{"$f":"DINAMICA!D666","v":0},{"$f":"DINAMICA!E666","v":0},{"$f":"DINAMICA!F666","v":0},{"$f":"DINAMICA!G666","v":0},{"$f":"DINAMICA!H666","v":0},{"$f":"DINAMICA!I666","v":0},{"$f":"DINAMICA!J666","v":0},{"$f":"DINAMICA!K666","v":0},{"$f":"VALUE(DINAMICA!$L666)","v":0},{"$f":"VALUE(DINAMICA!$M666)","v":0},{"$f":"VALUE(DINAMICA!$N666)","v":0},{"$f":"VALUE(DINAMICA!$O666)","v":0},{"$f":"VALUE(DINAMICA!$P666)","v":0},{"$f":"VALUE(DINAMICA!$Q666)","v":0},{"$f":"VALUE(DINAMICA!$R666)","v":0}]
[{"$f":"VALUE(DINAMICA!$A667)","v":0},{"$f":"VALUE(DINAMICA!$B667)","v":"00:00:00"},{"$f":"VALUE(DINAMICA!$C667)","v":0},{"$f":"DINAMICA!D667","v":0},{"$f":"DINAMICA!E667","v":0},{"$f":"DINAMICA!F667","v":0},{"$f":"DINAMICA!G667","v":0},{"$f":"DINAMICA!H667","v":0},{"$f":"DINAMICA!I667","v":0},{"$f":"DINAMICA!J667","v":0},{"$f":"DINAMICA!K667","v":0},{"$f":"VALUE(DINAMICA!$L667)","v":0},{"$f":"VALUE(DINAMICA!$M667)","v":0},{"$f":"VALUE(DINAMICA!$N667)","v":0},{"$f":"VALUE(DINAMICA!$O667)","v":0},{"$f":"VALUE(DINAMICA!$P667)","v":0},{"$f":"VALUE(DINAMICA!$Q667)","v":0},{"$f":"VALUE(DINAMICA!$R667)","v":0}]
[{"$f":"VALUE(DINAMICA!$A668)","v":0},{"$f":"VALUE(DINAMICA!$B668)","v":"00:00:00"},{"$f":"VALUE(DINAMICA!$C668)","v":0},{"$f":"DINAMICA!D668","v":0},{"$f":"DINAMICA!E668","v":0},{"$f":"DINAMICA!F668","v":0},{"$f":"DINAMICA!G668","v":0},{"$f":"DINAMICA!H668","v":0},{"$f":"DINAMICA!I668","v":0},{"$f":"DINAMICA!J668","v":0},{"$f":"DINAMICA!K668","v":0},{"$f":"VALUE(DINAMICA!$L668)","v":0},{"$f":"VALUE(DINAMICA!$M668)","v":0},{"$f":"VALUE(DINAMICA!$N668)","v":0},{"$f":"VALUE(DINAMICA!$O668)","v":0},{"$f":"VALUE(DINAMICA!$P668)","v":0},{"$f":"VALUE(DINAMICA!$Q668)","v":0},{"$f":"VALUE(DINAMICA!$R668)","v":0}]
[{"$f":"VALUE(DINAMICA!$A669)","v":0},{"$f":"VALUE(DINAMICA!$B669)","v":"00:00:00"},{"$f":"VALUE(DINAMICA!$C669)","v":0},{"$f":"DINAMICA!D669","v":0},{"$f":"DINAMICA!E669","v":0},{"$f":"DINAMICA!F669","v":0},{"$f":"DINAMICA!G669","v":0},{"$f":"DINAMICA!H669","v":0},{"$f":"DINAMICA!I669","v":0},{"$f":"DINAMICA!J669","v":0},{"$f":"DINAMICA!K669","v":0},{"$f":"VALUE(DINAMICA!$L669)","v":0},{"$f":"VALUE(DINAMICA!$M669)","v":0},{"$f":"VALUE(DINAMICA!$N669)","v":0},{"$f":"VALUE(DINAMICA!$O669)","v":0},{"$f":"VALUE(DINAMICA!$P669)","v":0},{"$f":"VALUE(DINAMICA!$Q669)","v":0},{"$f":"VALUE(DINAMICA!$R669)","v":0}]
[{"$f":"VALUE(DINAMICA!$A670)","v":0},{"$f":"VALUE(DINAMICA!$B670)","v":"00:00:00"},{"$f":"VALUE(DINAMICA!$C670)","v":0},{"$f":"DINAMICA!D670","v":0},{"$f":"DINAMICA!E670","v":0},{"$f":"DINAMICA!F670","v":0},{"$f":"DINAMICA!G670","v":0},{"$f":"DINAMICA!H670","v":0},{"$f":"DINAMICA!I670","v":0},{"$f":"DINAMICA!J670","v":0},{"$f":"DINAMICA!K670","v":0},{"$f":"VALUE(DINAMICA!$L670)","v":0},{"$f":"VALUE(DINAMICA!$M670)","v":0},{"$f":"VALUE(DINAMICA!$N670)","v":0},{"$f":"VALUE(DINAMICA!$O670)","v":0},{"$f":"VALUE(DINAMICA!$P670)","v":0},{"$f":"VALUE(DINAMICA!$Q670)","v":0},{"$f":"VALUE(DINAMICA!$R670)","v":0}]
[{"$f":"VALUE(DINAMICA!$A671)","v":0},{"$f":"VALUE(DINAMICA!$B671)","v":"00:00:00"},{"$f":"VALUE(DINAMICA!$C671)","v":0},{"$f":"DINAMICA!D671","v":0},{"$f":"DINAMICA!E671","v":0},{"$f":"DINAMICA!F671","v":0},{"$f":"DINAMICA!G671","v":0},{"$f":"DINAMICA!H671","v":0},{"$f":"DINAMICA!I671","v":0},{"$f":"DINAMICA!J671","v":0},{"$f":"DINAMICA!K671","v":0},{"$f":"VALUE(DINAMICA!$L671)","v":0},{"$f":"VALUE(DINAMICA!$M671)","v":0},{"$f":"VALUE(DINAMICA!$N671)","v":0},{"$f":"VALUE(DINAMICA!$O671)","v":0},{"$f":"VALUE(DINAMICA!$P671)","v":0},{"$f":"VALUE(DINAMICA!$Q671)","v":0},{"$f":"VALUE(DINAMICA!$R671)","v":0}]
[{"$f":"VALUE(DINAMICA!$A672)","v":0},{"$f":"VALUE(DINAMICA!$B672)","v":"00:00:00"},{"$f":"VALUE(DINAMICA!$C672)","v":0},{"$f":"DINAMICA!D672","v":0},{"$f":"DINAMICA!E672","v":0},{"$f":"DINAMICA!F672","v":0},{"$f":"DINAMICA!G672","v":0},{"$f":"DINAMICA!H672","v":0},{"$f":"DINAMICA!I672","v":0},{"$f":"DINAMICA!J672","v":0},{"$f":"DINAMICA!K672","v":0},{"$f":"VALUE(DINAMICA!$L672)","v":0},{"$f":"VALUE(DINAMICA!$M672)","v":0},{"$f":"VALUE(DINAMICA!$N672)","v":0},{"$f":"VALUE(DINAMICA!$O672)","v":0},{"$f":"VALUE(DINAMICA!$P672)","v":0},{"$f":"VALUE(DINAMICA!$Q672)","v":0},{"$f":"VALUE(DINAMICA!$R672)","v":0}]
[{"$f":"VALUE(DINAMICA!$A673)","v":0},{"$f":"VALUE(DINAMICA!$B673)","v":"00:00:00"},{"$f":"VALUE(DINAMICA!$C673)","v":0},{"$f":"DINAMICA!D673","v":0},{"$f":"DINAMICA!E673","v":0},{"$f":"DINAMICA!F673","v":0},{"$f":"DINAMICA!G673","v":0},{"$f":"DINAMICA!H673","v":0},{"$f":"DINAMICA!I673","v":0},{"$f":"DINAMICA!J673","v":0},{"$f":"DINAMICA!K673","v":0},{"$f":"VALUE(DINAMICA!$L673)","v":0},{"$f":"VALUE(DINAMICA!$M673)","v":0},{"$f":"VALUE(DINAMICA!$N673)","v":0},{"$f":"VALUE(DINAMICA!$O673)","v":0},{"$f":"VALUE(DINAMICA!$P673)","v":0},{"$f":"VALUE(DINAMICA!$Q673)","v":0},{"$f":"VALUE(DINAMICA!$R673)","v":0}]
[{"$f":"VALUE(DINAMICA!$A674)","v":0},{"$f":"VALUE(DINAMICA!$B674)","v":"00:00:00"},{"$f":"VALUE(DINAMICA!$C674)","v":0},{"$f":"DINAMICA!D674","v":0},{"$f":"DINAMICA!E674","v":0},{"$f":"DINAMICA!F674","v":0},{"$f":"DINAMICA!G674","v":0},{"$f":"DINAMICA!H674","v":0},{"$f":"DINAMICA!I674","v":0},{"$f":"DINAMICA!J674","v":0},{"$f":"DINAMICA!K674","v":0},{"$f":"VALUE(DINAMICA!$L674)","v":0},{"$f":"VALUE(DINAMICA!$M674)","v":0},{"$f":"VALUE(DINAMICA!$N674)","v":0},{"$f":"VALUE(DINAMICA!$O674)","v":0},{"$f":"VALUE(DINAMICA!$P674)","v":0},{"$f":"VALUE(DINAMICA!$Q674)","v":0},{"$f":"VALUE(DINAMICA!$R674)","v":0}]
[{"$f":"VALUE(DINAMICA!$A675)","v":0},{"$f":"VALUE(DINAMICA!$B675)","v":"00:00:00"},{"$f":"VALUE(DINAMICA!$C675)","v":0},{"$f":"DINAMICA!D675","v":0},{"$f":"DINAMICA!E675","v":0},{"$f":"DINAMICA!F675","v":0},{"$f":"DINAMICA!G675","v":0},{"$f":"DINAMICA!H675","v":0},{"$f":"DINAMICA!I675","v":0},{"$f":"DINAMICA!J675","v":0},{"$f":"DINAMICA!K675","v":0},{"$f":"VALUE(DINAMICA!$L675)","v":0},{"$f":"VALUE(DINAMICA!$M675)","v":0},{"$f":"VALUE(DINAMICA!$N675)","v":0},{"$f":"VALUE(DINAMICA!$O675)","v":0},{"$f":"VALUE(DINAMICA!$P675)","v":0},{"$f":"VALUE(DINAMICA!$Q675)","v":0},{"$f":"VALUE(DINAMICA!$R675)","v":0}]
[{"$f":"VALUE(DINAMICA!$A676)","v":0},{"$f":"VALUE(DINAMICA!$B676)","v":"00:00:00"},{"$f":"VALUE(DINAMICA!$C676)","v":0},{"$f":"DINAMICA!D676","v":0},{"$f":"DINAMICA!E676","v":0},{"$f":"DINAMICA!F676","v":0},{"$f":"DINAMICA!G676","v":0},{"$f":"DINAMICA!H676","v":0},{"$f":"DINAMICA!I676","v":0},{"$f":"DINAMICA!J676","v":0},{"$f":"DINAMICA!K676","v":0},{"$f":"VALUE(DINAMICA!$L676)","v":0},{"$f":"VALUE(DINAMICA!$M676)","v":0},{"$f":"VALUE(DINAMICA!$N676)","v":0},{"$f":"VALUE(DINAMICA!$O676)","v":0},{"$f":"VALUE(DINAMICA!$P676)","v":0},{"$f":"VALUE(DINAMICA!$Q676)","v":0},{"$f":"VALUE(DINAMICA!$R676)","v":0}]
[{"$f":"VALUE(DINAMICA!$A677)","v":0},{"$f":"VALUE(DINAMICA!$B677)","v":"00:00:00"},{"$f":"VALUE(DINAMICA!$C677)","v":0},{"$f":"DINAMICA!D677","v":0},{"$f":"DINAMICA!E677","v":0},{"$f":"DINAMICA!F677","v":0},{"$f":"DINAMICA!G677","v":0},{"$f":"DINAMICA!H677","v":0},{"$f":"DINAMICA!I677","v":0},{"$f":"DINAMICA!J677","v":0},{"$f":"DINAMICA!K677","v":0},{"$f":"VALUE(DINAMICA!$L677)","v":0},{"$f":"VALUE(DINAMICA!$M677)","v":0},{"$f":"VALUE(DINAMICA!$N677)","v":0},{"$f":"VALUE(DINAMICA!$O677)","v":0},{"$f":"VALUE(DINAMICA!$P677)","v":0},{"$f":"VALUE(DINAMICA!$Q677)","v":0},{"$f":"VALUE(DINAMICA!$R677)","v":0}]
[{"$f":"VALUE(DINAMICA!$A678)","v":0},{"$f":"VALUE(DINAMICA!$B678)","v":"00:00:00"},{"$f":"VALUE(DINAMICA!$C678)","v":0},{"$f":"DINAMICA!D678","v":0},{"$f":"DINAMICA!E678","v":0},{"$f":"DINAMICA!F678","v":0},{"$f":"DINAMICA!G678","v":0},{"$f":"DINAMICA!H678","v":0},{"$f":"DINAMICA!I678","v":0},{"$f":"DINAMICA!J678","v":0},{"$f":"DINAMICA!K678","v":0},{"$f":"VALUE(DINAMICA!$L678)","v":0},{"$f":"VALUE(DINAMICA!$M678)","v":0},{"$f":"VALUE(DINAMICA!$N678)","v":0},{"$f":"VALUE(DINAMICA!$O678)","v":0},{"$f":"VALUE(DINAMICA!$P678)","v":0},{"$f":"VALUE(DINAMICA!$Q678)","v":0},{"$f":"VALUE(DINAMICA!$R678)","v":0}]
[{"$f":"VALUE(DINAMICA!$A679)","v":0},{"$f":"VALUE(DINAMICA!$B679)","v":"00:00:00"},{"$f":"VALUE(DINAMICA!$C679)","v":0},{"$f":"DINAMICA!D679","v":0},{"$f":"DINAMICA!E679","v":0},{"$f":"DINAMICA!F679","v":0},{"$f":"DINAMICA!G679","v":0},{"$f":"DINAMICA!H679","v":0},{"$f":"DINAMICA!I679","v":0},{"$f":"DINAMICA!J679","v":0},{"$f":"DINAMICA!K679","v":0},{"$f":"VALUE(DINAMICA!$L679)","v":0},{"$f":"VALUE(DINAMICA!$M679)","v":0},{"$f":"VALUE(DINAMICA!$N679)","v":0},{"$f":"VALUE(DINAMICA!$O679)","v":0},{"$f":"VALUE(DINAMICA!$P679)","v":0},{"$f":"VALUE(DINAMICA!$Q679)","v":0},{"$f":"VALUE(DINAMICA!$R679)","v":0}]
[{"$f":"VALUE(DINAMICA!$A680)","v":0},{"$f":"VALUE(DINAMICA!$B680)","v":"00:00:00"},{"$f":"VALUE(DINAMICA!$C680)","v":0},{"$f":"DINAMICA!D680","v":0},{"$f":"DINAMICA!E680","v":0},{"$f":"DINAMICA!F680","v":0},{"$f":"DINAMICA!G680","v":0},{"$f":"DINAMICA!H680","v":0},{"$f":"DINAMICA!I680","v":0},{"$f":"DINAMICA!J680","v":0},{"$f":"DINAMICA!K680","v":0},{"$f":"VALUE(DINAMICA!$L680)","v":0},{"$f":"VALUE(DINAMICA!$M680)","v":0},{"$f":"VALUE(DINAMICA!$N680)","v":0},{"$f":"VALUE(DINAMICA!$O680)","v":0},{"$f":"VALUE(DINAMICA!$P680)","v":0},{"$f":"VALUE(DINAMICA!$Q680)","v":0},{"$f":"VALUE(DINAMICA!$R680)","v":0}]
[{"$f":"VALUE(DINAMICA!$A681)","v":0},{"$f":"VALUE(DINAMICA!$B681)","v":"00:00:00"},{"$f":"VALUE(DINAMICA!$C681)","v":0},{"$f":"DINAMICA!D681","v":0},{"$f":"DINAMICA!E681","v":0},{"$f":"DINAMICA!F681","v":0},{"$f":"DINAMICA!G681","v":0},{"$f":"DINAMICA!H681","v":0},{"$f":"DINAMICA!I681","v":0},{"$f":"DINAMICA!J681","v":0},{"$f":"DINAMICA!K681","v":0},{"$f":"VALUE(DINAMICA!$L681)","v":0},{"$f":"VALUE(DINAMICA!$M681)","v":0},{"$f":"VALUE(DINAMICA!$N681)","v":0},{"$f":"VALUE(DINAMICA!$O681)","v":0},{"$f":"VALUE(DINAMICA!$P681)","v":0},{"$f":"VALUE(DINAMICA!$Q681)","v":0},{"$f":"VALUE(DINAMICA!$R681)","v":0}]
[{"$f":"VALUE(DINAMICA!$A682)","v":0},{"$f":"VALUE(DINAMICA!$B682)","v":"00:00:00"},{"$f":"VALUE(DINAMICA!$C682)","v":0},{"$f":"DINAMICA!D682","v":0},{"$f":"DINAMICA!E682","v":0},{"$f":"DINAMICA!F682","v":0},{"$f":"DINAMICA!G682","v":0},{"$f":"DINAMICA!H682","v":0},{"$f":"DINAMICA!I682","v":0},{"$f":"DINAMICA!J682","v":0},{"$f":"DINAMICA!K682","v":0},{"$f":"VALUE(DINAMICA!$L682)","v":0},{"$f":"VALUE(DINAMICA!$M682)","v":0},{"$f":"VALUE(DINAMICA!$N682)","v":0},{"$f":"VALUE(DINAMICA!$O682)","v":0},{"$f":"VALUE(DINAMICA!$P682)","v":0},{"$f":"VALUE(DINAMICA!$Q682)","v":0},{"$f":"VALUE(DINAMICA!$R682)","v":0}]
[{"$f":"VALUE(DINAMICA!$A683)","v":0},{"$f":"VALUE(DINAMICA!$B683)","v":"00:00:00"},{"$f":"VALUE(DINAMICA!$C683)","v":0},{"$f":"DINAMICA!D683","v":0},{"$f":"DINAMICA!E683","v":0},{"$f":"DINAMICA!F683","v":0},{"$f":"DINAMICA!G683","v":0},{"$f":"DINAMICA!H683","v":0},{"$f":"DINAMICA!I683","v":0},{"$f":"DINAMICA!J683","v":0},{"$f":"DINAMICA!K683","v":0},{"$f":"VALUE(DINAMICA!$L683)","v":0},{"$f":"VALUE(DINAMICA!$M683)","v":0},{"$f":"VALUE(DINAMICA!$N683)","v":0},{"$f":"VALUE(DINAMICA!$O683)","v":0},{"$f":"VALUE(DINAMICA!$P683)","v":0},{"$f":"VALUE(DINAMICA!$Q683)","v":0},{"$f":"VALUE(DINAMICA!$R683)","v":0}]
[{"$f":"VALUE(DINAMICA!$A684)","v":0},{"$f":"VALUE(DINAMICA!$B684)","v":"00:00:00"},{"$f":"VALUE(DINAMICA!$C684)","v":0},{"$f":"DINAMICA!D684","v":0},{"$f":"DINAMICA!E684","v":0},{"$f":"DINAMICA!F684","v":0},{"$f":"DINAMICA!G684","v":0},{"$f":"DINAMICA!H684","v":0},{"$f":"DINAMICA!I684","v":0},{"$f":"DINAMICA!J684","v":0},{"$f":"DINAMICA!K684","v":0},{"$f":"VALUE(DINAMICA!$L684)","v":0},{"$f":"VALUE(DINAMICA!$M684)","v":0},{"$f":"VALUE(DINAMICA!$N684)","v":0},{"$f":"VALUE(DINAMICA!$O684)","v":0},{"$f":"VALUE(DINAMICA!$P684)","v":0},{"$f":"VALUE(DINAMICA!$Q684)","v":0},{"$f":"VALUE(DINAMICA!$R684)","v":0}]
[{"$f":"VALUE(DINAMICA!$A685)","v":0},{"$f":"VALUE(DINAMICA!$B685)","v":"00:00:00"},{"$f":"VALUE(DINAMICA!$C685)","v":0},{"$f":"DINAMICA!D685","v":0},{"$f":"DINAMICA!E685","v":0},{"$f":"DINAMICA!F685","v":0},{"$f":"DINAMICA!G685","v":0},{"$f":"DINAMICA!H685","v":0},{"$f":"DINAMICA!I685","v":0},{"$f":"DINAMICA!J685","v":0},{"$f":"DINAMICA!K685","v":0},{"$f":"VALUE(DINAMICA!$L685)","v":0},{"$f":"VALUE(DINAMICA!$M685)","v":0},{"$f":"VALUE(DINAMICA!$N685)","v":0},{"$f":"VALUE(DINAMICA!$O685)","v":0},{"$f":"VALUE(DINAMICA!$P685)","v":0},{"$f":"VALUE(DINAMICA!$Q685)","v":0},{"$f":"VALUE(DINAMICA!$R685)","v":0}]
[{"$f":"VALUE(DINAMICA!$A686)","v":0},{"$f":"VALUE(DINAMICA!$B686)","v":"00:00:00"},{"$f":"VALUE(DINAMICA!$C686)","v":0},{"$f":"DINAMICA!D686","v":0},{"$f":"DINAMICA!E686","v":0},{"$f":"DINAMICA!F686","v":0},{"$f":"DINAMICA!G686","v":0},{"$f":"DINAMICA!H686","v":0},{"$f":"DINAMICA!I686","v":0},{"$f":"DINAMICA!J686","v":0},{"$f":"DINAMICA!K686","v":0},{"$f":"VALUE(DINAMICA!$L686)","v":0},{"$f":"VALUE(DINAMICA!$M686)","v":0},{"$f":"VALUE(DINAMICA!$N686)","v":0},{"$f":"VALUE(DINAMICA!$O686)","v":0},{"$f":"VALUE(DINAMICA!$P686)","v":0},{"$f":"VALUE(DINAMICA!$Q686)","v":0},{"$f":"VALUE(DINAMICA!$R686)","v":0}]
[{"$f":"VALUE(DINAMICA!$A687)","v":0},{"$f":"VALUE(DINAMICA!$B687)","v":"00:00:00"},{"$f":"VALUE(DINAMICA!$C687)","v":0},{"$f":"DINAMICA!D687","v":0},{"$f":"DINAMICA!E687","v":0},{"$f":"DINAMICA!F687","v":0},{"$f":"DINAMICA!G687","v":0},{"$f":"DINAMICA!H687","v":0},{"$f":"DINAMICA!I687","v":0},{"$f":"DINAMICA!J687","v":0},{"$f":"DINAMICA!K687","v":0},{"$f":"VALUE(DINAMICA!$L687)","v":0},{"$f":"VALUE(DINAMICA!$M687)","v":0},{"$f":"VALUE(DINAMICA!$N687)","v":0},{"$f":"VALUE(DINAMICA!$O687)","v":0},{"$f":"VALUE(DINAMICA!$P687)","v":0},{"$f":"VALUE(DINAMICA!$Q687)","v":0},{"$f":"VALUE(DINAMICA!$R687)","v":0}]
[{"$f":"VALUE(DINAMICA!$A688)","v":0},{"$f":"VALUE(DINAMICA!$B688)","v":"00:00:00"},{"$f":"VALUE(DINAMICA!$C688)","v":0},{"$f":"DINAMICA!D688","v":0},{"$f":"DINAMICA!E688","v":0},{"$f":"DINAMICA!F688","v":0},{"$f":"DINAMICA!G688","v":0},{"$f":"DINAMICA!H688","v":0},{"$f":"DINAMICA!I688","v":0},{"$f":"DINAMICA!J688","v":0},{"$f":"DINAMICA!K688","v":0},{"$f":"VALUE(DINAMICA!$L688)","v":0},{"$f":"VALUE(DINAMICA!$M688)","v":0},{"$f":"VALUE(DINAMICA!$N688)","v":0},{"$f":"VALUE(DINAMICA!$O688)","v":0},{"$f":"VALUE(DINAMICA!$P688)","v":0},{"$f":"VALUE(DINAMICA!$Q688)","v":0},{"$f":"VALUE(DINAMICA!$R688)","v":0}]
[{"$f":"VALUE(DINAMICA!$A689)","v":0},{"$f":"VALUE(DINAMICA!$B689)","v":"00:00:00"},{"$f":"VALUE(DINAMICA!$C689)","v":0},{"$f":"DINAMICA!D689","v":0},{"$f":"DINAMICA!E689","v":0},{"$f":"DINAMICA!F689","v":0},{"$f":"DINAMICA!G689","v":0},{"$f":"DINAMICA!H689","v":0},{"$f":"DINAMICA!I689","v":0},{"$f":"DINAMICA!J689","v":0},{"$f":"DINAMICA!K689","v":0},{"$f":"VALUE(DINAMICA!$L689)","v":0},{"$f":"VALUE(DINAMICA!$M689)","v":0},{"$f":"VALUE(DINAMICA!$N689)","v":0},{"$f":"VALUE(DINAMICA!$O689)","v":0},{"$f":"VALUE(DINAMICA!$P689)","v":0},{"$f":"VALUE(DINAMICA!$Q689)","v":0},{"$f":"VALUE(DINAMICA!$R689)","v":0}]
[{"$f":"VALUE(DINAMICA!$A690)","v":0},{"$f":"VALUE(DINAMICA!$B690)","v":"00:00:00"},{"$f":"VALUE(DINAMICA!$C690)","v":0},{"$f":"DINAMICA!D690","v":0},{"$f":"DINAMICA!E690","v":0},{"$f":"DINAMICA!F690","v":0},{"$f":"DINAMICA!G690","v":0},{"$f":"DINAMICA!H690","v":0},{"$f":"DINAMICA!I690","v":0},{"$f":"DINAMICA!J690","v":0},{"$f":"DINAMICA!K690","v":0},{"$f":"VALUE(DINAMICA!$L690)","v":0},{"$f":"VALUE(DINAMICA!$M690)","v":0},{"$f":"VALUE(DINAMICA!$N690)","v":0},{"$f":"VALUE(DINAMICA!$O690)","v":0},{"$f":"VALUE(DINAMICA!$P690)","v":0},{"$f":"VALUE(DINAMICA!$Q690)","v":0},{"$f":"VALUE(DINAMICA!$R690)","v":0}]
[{"$f":"VALUE(DINAMICA!$A691)","v":0},{"$f":"VALUE(DINAMICA!$B691)","v":"00:00:00"},{"$f":"VALUE(DINAMICA!$C691)","v":0},{"$f":"DINAMICA!D691","v":0},{"$f":"DINAMICA!E691","v":0},{"$f":"DINAMICA!F691","v":0},{"$f":"DINAMICA!G691","v":0},{"$f":"DINAMICA!H691","v":0},{"$f":"DINAMICA!I691","v":0},{"$f":"DINAMICA!J691","v":0},{"$f":"DINAMICA!K691","v":0},{"$f":"VALUE(DINAMICA!$L691)","v":0},{"$f":"VALUE(DINAMICA!$M691)","v":0},{"$f":"VALUE(DINAMICA!$N691)","v":0},{"$f":"VALUE(DINAMICA!$O691)","v":0},{"$f":"VALUE(DINAMICA!$P691)","v":0},{"$f":"VALUE(DINAMICA!$Q691)","v":0},{"$f":"VALUE(DINAMICA!$R691)","v":0}]
[{"$f":"VALUE(DINAMICA!$A692)","v":0},{"$f":"VALUE(DINAMICA!$B692)","v":"00:00:00"},{"$f":"VALUE(DINAMICA!$C692)","v":0},{"$f":"DINAMICA!D692","v":0},{"$f":"DINAMICA!E692","v":0},{"$f":"DINAMICA!F692","v":0},{"$f":"DINAMICA!G692","v":0},{"$f":"DINAMICA!H692","v":0},{"$f":"DINAMICA!I692","v":0},{"$f":"DINAMICA!J692","v":0},{"$f":"DINAMICA!K692","v":0},{"$f":"VALUE(DINAMICA!$L692)","v":0},{"$f":"VALUE(DINAMICA!$M692)","v":0},{"$f":"VALUE(DINAMICA!$N692)","v":0},{"$f":"VALUE(DINAMICA!$O692)","v":0},{"$f":"VALUE(DINAMICA!$P692)","v":0},{"$f":"VALUE(DINAMICA!$Q692)","v":0},{"$f":"VALUE(DINAMICA!$R692)","v":0}]
[{"$f":"VALUE(DINAMICA!$A693)","v":0},{"$f":"VALUE(DINAMICA!$B693)","v":"00:00:00"},{"$f":"VALUE(DINAMICA!$C693)","v":0},{"$f":"DINAMICA!D693","v":0},{"$f":"DINAMICA!E693","v":0},{"$f":"DINAMICA!F693","v":0},{"$f":"DINAMICA!G693","v":0},{"$f":"DINAMICA!H693","v":0},{"$f":"DINAMICA!I693","v":0},{"$f":"DINAMICA!J693","v":0},{"$f":"DINAMICA!K693","v":0},{"$f":"VALUE(DINAMICA!$L693)","v":0},{"$f":"VALUE(DINAMICA!$M693)","v":0},{"$f":"VALUE(DINAMICA!$N693)","v":0},{"$f":"VALUE(DINAMICA!$O693)","v":0},{"$f":"VALUE(DINAMICA!$P693)","v":0},{"$f":"VALUE(DINAMICA!$Q693)","v":0},{"$f":"VALUE(DINAMICA!$R693)","v":0}]
[{"$f":"VALUE(DINAMICA!$A694)","v":0},{"$f":"VALUE(DINAMICA!$B694)","v":"00:00:00"},{"$f":"VALUE(DINAMICA!$C694)","v":0},{"$f":"DINAMICA!D694","v":0},{"$f":"DINAMICA!E694","v":0},{"$f":"DINAMICA!F694","v":0},{"$f":"DINAMICA!G694","v":0},{"$f":"DINAMICA!H694","v":0},{"$f":"DINAMICA!I694","v":0},{"$f":"DINAMICA!J694","v":0},{"$f":"DINAMICA!K694","v":0},{"$f":"VALUE(DINAMICA!$L694)","v":0},{"$f":"VALUE(DINAMICA!$M694)","v":0},{"$f":"VALUE(DINAMICA!$N694)","v":0},{"$f":"VALUE(DINAMICA!$O694)","v":0},{"$f":"VALUE(DINAMICA!$P694)","v":0},{"$f":"VALUE(DINAMICA!$Q694)","v":0},{"$f":"VALUE(DINAMICA!$R694)","v":0}]
[{"$f":"VALUE(DINAMICA!$A695)","v":0},{"$f":"VALUE(DINAMICA!$B695)","v":"00:00:00"},{"$f":"VALUE(DINAMICA!$C695)","v":0},{"$f":"DINAMICA!D695","v":0},{"$f":"DINAMICA!E695","v":0},{"$f":"DINAMICA!F695","v":0},{"$f":"DINAMICA!G695","v":0},{"$f":"DINAMICA!H695","v":0},{"$f":"DINAMICA!I695","v":0},{"$f":"DINAMICA!J695","v":0},{"$f":"DINAMICA!K695","v":0},{"$f":"VALUE(DINAMICA!$L695)","v":0},{"$f":"VALUE(DINAMICA!$M695)","v":0},{"$f":"VALUE(DINAMICA!$N695)","v":0},{"$f":"VALUE(DINAMICA!$O695)","v":0},{"$f":"VALUE(DINAMICA!$P695)","v":0},{"$f":"VALUE(DINAMICA!$Q695)","v":0},{"$f":"VALUE(DINAMICA!$R695)","v":0}]
[{"$f":"VALUE(DINAMICA!$A696)","v":0},{"$f":"VALUE(DINAMICA!$B696)","v":"00:00:00"},{"$f":"VALUE(DINAMICA!$C696)","v":0},{"$f":"DINAMICA!D696","v":0},{"$f":"DINAMICA!E696","v":0},{"$f":"DINAMICA!F696","v":0},{"$f":"DINAMICA!G696","v":0},{"$f":"DINAMICA!H696","v":0},{"$f":"DINAMICA!I696","v":0},{"$f":"DINAMICA!J696","v":0},{"$f":"DINAMICA!K696","v":0},{"$f":"VALUE(DINAMICA!$L696)","v":0},{"$f":"VALUE(DINAMICA!$M696)","v":0},{"$f":"VALUE(DINAMICA!$N696)","v":0},{"$f":"VALUE(DINAMICA!$O696)","v":0},{"$f":"VALUE(DINAMICA!$P696)","v":0},{"$f":"VALUE(DINAMICA!$Q696)","v":0},{"$f":"VALUE(DINAMICA!$R696)","v":0}]
[{"$f":"VALUE(DINAMICA!$A697)","v":0},{"$f":"VALUE(DINAMICA!$B697)","v":"00:00:00"},{"$f":"VALUE(DINAMICA!$C697)","v":0},{"$f":"DINAMICA!D697","v":0},{"$f":"DINAMICA!E697","v":0},{"$f":"DINAMICA!F697","v":0},{"$f":"DINAMICA!G697","v":0},{"$f":"DINAMICA!H697","v":0},{"$f":"DINAMICA!I697","v":0},{"$f":"DINAMICA!J697","v":0},{"$f":"DINAMICA!K697","v":0},{"$f":"VALUE(DINAMICA!$L697)","v":0},{"$f":"VALUE(DINAMICA!$M697)","v":0},{"$f":"VALUE(DINAMICA!$N697)","v":0},{"$f":"VALUE(DINAMICA!$O697)","v":0},{"$f":"VALUE(DINAMICA!$P697)","v":0},{"$f":"VALUE(DINAMICA!$Q697)","v":0},{"$f":"VALUE(DINAMICA!$R697)","v":0}]
[{"$f":"VALUE(DINAMICA!$A698)","v":0},{"$f":"VALUE(DINAMICA!$B698)","v":"00:00:00"},{"$f":"VALUE(DINAMICA!$C698)","v":0},{"$f":"DINAMICA!D698","v":0},{"$f":"DINAMICA!E698","v":0},{"$f":"DINAMICA!F698","v":0},{"$f":"DINAMICA!G698","v":0},{"$f":"DINAMICA!H698","v":0},{"$f":"DINAMICA!I698","v":0},{"$f":"DINAMICA!J698","v":0},{"$f":"DINAMICA!K698","v":0},{"$f":"VALUE(DINAMICA!$L698)","v":0},{"$f":"VALUE(DINAMICA!$M698)","v":0},{"$f":"VALUE(DINAMICA!$N698)","v":0},{"$f":"VALUE(DINAMICA!$O698)","v":0},{"$f":"VALUE(DINAMICA!$P698)","v":0},{"$f":"VALUE(DINAMICA!$Q698)","v":0},{"$f":"VALUE(DINAMICA!$R698)","v":0}]
[{"$f":"VALUE(DINAMICA!$A699)","v":0},{"$f":"VALUE(DINAMICA!$B699)","v":"00:00:00"},{"$f":"VALUE(DINAMICA!$C699)","v":0},{"$f":"DINAMICA!D699","v":0},{"$f":"DINAMICA!E699","v":0},{"$f":"DINAMICA!F699","v":0},{"$f":"DINAMICA!G699","v":0},{"$f":"DINAMICA!H699","v":0},{"$f":"DINAMICA!I699","v":0},{"$f":"DINAMICA!J699","v":0},{"$f":"DINAMICA!K699","v":0},{"$f":"VALUE(DINAMICA!$L699)","v":0},{"$f":"VALUE(DINAMICA!$M699)","v":0},{"$f":"VALUE(DINAMICA!$N699)","v":0},{"$f":"VALUE(DINAMICA!$O699)","v":0},{"$f":"VALUE(DINAMICA!$P699)","v":0},{"$f":"VALUE(DINAMICA!$Q699)","v":0},{"$f":"VALUE(DINAMICA!$R699)","v":0}]
[{"$f":"VALUE(DINAMICA!$A700)","v":0},{"$f":"VALUE(DINAMICA!$B700)","v":"00:00:00"},{"$f":"VALUE(DINAMICA!$C700)","v":0},{"$f":"DINAMICA!D700","v":0},{"$f":"DINAMICA!E700","v":0},{"$f":"DINAMICA!F700","v":0},{"$f":"DINAMICA!G700","v":0},{"$f":"DINAMICA!H700","v":0},{"$f":"DINAMICA!I700","v":0},{"$f":"DINAMICA!J700","v":0},{"$f":"DINAMICA!K700","v":0},{"$f":"VALUE(DINAMICA!$L700)","v":0},{"$f":"VALUE(DINAMICA!$M700)","v":0},{"$f":"VALUE(DINAMICA!$N700)","v":0},{"$f":"VALUE(DINAMICA!$O700)","v":0},{"$f":"VALUE(DINAMICA!$P700)","v":0},{"$f":"VALUE(DINAMICA!$Q700)","v":0},{"$f":"VALUE(DINAMICA!$R700)","v":0}]
[{"$f":"VALUE(DINAMICA!$A701)","v":0},{"$f":"VALUE(DINAMICA!$B701)","v":"00:00:00"},{"$f":"VALUE(DINAMICA!$C701)","v":0},{"$f":"DINAMICA!D701","v":0},{"$f":"DINAMICA!E701","v":0},{"$f":"DINAMICA!F701","v":0},{"$f":"DINAMICA!G701","v":0},{"$f":"DINAMICA!H701","v":0},{"$f":"DINAMICA!I701","v":0},{"$f":"DINAMICA!J701","v":0},{"$f":"DINAMICA!K701","v":0},{"$f":"VALUE(DINAMICA!$L701)","v":0},{"$f":"VALUE(DINAMICA!$M701)","v":0},{"$f":"VALUE(DINAMICA!$N701)","v":0},{"$f":"VALUE(DINAMICA!$O701)","v":0},{"$f":"VALUE(DINAMICA!$P701)","v":0},{"$f":"VALUE(DINAMICA!$Q701)","v":0},{"$f":"VALUE(DINAMICA!$R701)","v":0}]
[{"$f":"VALUE(DINAMICA!$A702)","v":0},{"$f":"VALUE(DINAMICA!$B702)","v":"00:00:00"},{"$f":"VALUE(DINAMICA!$C702)","v":0},{"$f":"DINAMICA!D702","v":0},{"$f":"DINAMICA!E702","v":0},{"$f":"DINAMICA!F702","v":0},{"$f":"DINAMICA!G702","v":0},{"$f":"DINAMICA!H702","v":0},{"$f":"DINAMICA!I702","v":0},{"$f":"DINAMICA!J702","v":0},{"$f":"DINAMICA!K702","v":0},{"$f":"VALUE(DINAMICA!$L702)","v":0},{"$f":"VALUE(DINAMICA!$M702)","v":0},{"$f":"VALUE(DINAMICA!$N702)","v":0},{"$f":"VALUE(DINAMICA!$O702)","v":0},{"$f":"VALUE(DINAMICA!$P702)","v":0},{"$f":"VALUE(DINAMICA!$Q702)","v":0},{"$f":"VALUE(DINAMICA!$R702)","v":0}]
[{"$f":"VALUE(DINAMICA!$A703)","v":0},{"$f":"VALUE(DINAMICA!$B703)","v":"00:00:00"},{"$f":"VALUE(DINAMICA!$C703)","v":0},{"$f":"DINAMICA!D703","v":0},{"$f":"DINAMICA!E703","v":0},{"$f":"DINAMICA!F703","v":0},{"$f":"DINAMICA!G703","v":0},{"$f":"DINAMICA!H703","v":0},{"$f":"DINAMICA!I703","v":0},{"$f":"DINAMICA!J703","v":0},{"$f":"DINAMICA!K703","v":0},{"$f":"VALUE(DINAMICA!$L703)","v":0},{"$f":"VALUE(DINAMICA!$M703)","v":0},{"$f":"VALUE(DINAMICA!$N703)","v":0},{"$f":"VALUE(DINAMICA!$O703)","v":0},{"$f":"VALUE(DINAMICA!$P703)","v":0},{"$f":"VALUE(DINAMICA!$Q703)","v":0},{"$f":"VALUE(DINAMICA!$R703)","v":0}]
[{"$f":"VALUE(DINAMICA!$A704)","v":0},{"$f":"VALUE(DINAMICA!$B704)","v":"00:00:00"},{"$f":"VALUE(DINAMICA!$C704)","v":0},{"$f":"DINAMICA!D704","v":0},{"$f":"DINAMICA!E704","v":0},{"$f":"DINAMICA!F704","v":0},{"$f":"DINAMICA!G704","v":0},{"$f":"DINAMICA!H704","v":0},{"$f":"DINAMICA!I704","v":0},{"$f":"DINAMICA!J704","v":0},{"$f":"DINAMICA!K704","v":0},{"$f":"VALUE(DINAMICA!$L704)","v":0},{"$f":"VALUE(DINAMICA!$M704)","v":0},{"$f":"VALUE(DINAMICA!$N704)","v":0},{"$f":"VALUE(DINAMICA!$O704)","v":0},{"$f":"VALUE(DINAMICA!$P704)","v":0},{"$f":"VALUE(DINAMICA!$Q704)","v":0},{"$f":"VALUE(DINAMICA!$R704)","v":0}]
[{"$f":"VALUE(DINAMICA!$A705)","v":0},{"$f":"VALUE(DINAMICA!$B705)","v":"00:00:00"},{"$f":"VALUE(DINAMICA!$C705)","v":0},{"$f":"DINAMICA!D705","v":0},{"$f":"DINAMICA!E705","v":0},{"$f":"DINAMICA!F705","v":0},{"$f":"DINAMICA!G705","v":0},{"$f":"DINAMICA!H705","v":0},{"$f":"DINAMICA!I705","v":0},{"$f":"DINAMICA!J705","v":0},{"$f":"DINAMICA!K705","v":0},{"$f":"VALUE(DINAMICA!$L705)","v":0},{"$f":"VALUE(DINAMICA!$M705)","v":0},{"$f":"VALUE(DINAMICA!$N705)","v":0},{"$f":"VALUE(DINAMICA!$O705)","v":0},{"$f":"VALUE(DINAMICA!$P705)","v":0},{"$f":"VALUE(DINAMICA!$Q705)","v":0},{"$f":"VALUE(DINAMICA!$R705)","v":0}]
[{"$f":"VALUE(DINAMICA!$A706)","v":0},{"$f":"VALUE(DINAMICA!$B706)","v":"00:00:00"},{"$f":"VALUE(DINAMICA!$C706)","v":0},{"$f":"DINAMICA!D706","v":0},{"$f":"DINAMICA!E706","v":0},{"$f":"DINAMICA!F706","v":0},{"$f":"DINAMICA!G706","v":0},{"$f":"DINAMICA!H706","v":0},{"$f":"DINAMICA!I706","v":0},{"$f":"DINAMICA!J706","v":0},{"$f":"DINAMICA!K706","v":0},{"$f":"VALUE(DINAMICA!$L706)","v":0},{"$f":"VALUE(DINAMICA!$M706)","v":0},{"$f":"VALUE(DINAMICA!$N706)","v":0},{"$f":"VALUE(DINAMICA!$O706)","v":0},{"$f":"VALUE(DINAMICA!$P706)","v":0},{"$f":"VALUE(DINAMICA!$Q706)","v":0},{"$f":"VALUE(DINAMICA!$R706)","v":0}]
[{"$f":"VALUE(DINAMICA!$A707)","v":0},{"$f":"VALUE(DINAMICA!$B707)","v":"00:00:00"},{"$f":"VALUE(DINAMICA!$C707)","v":0},{"$f":"DINAMICA!D707","v":0},{"$f":"DINAMICA!E707","v":0},{"$f":"DINAMICA!F707","v":0},{"$f":"DINAMICA!G707","v":0},{"$f":"DINAMICA!H707","v":0},{"$f":"DINAMICA!I707","v":0},{"$f":"DINAMICA!J707","v":0},{"$f":"DINAMICA!K707","v":0},{"$f":"VALUE(DINAMICA!$L707)","v":0},{"$f":"VALUE(DINAMICA!$M707)","v":0},{"$f":"VALUE(DINAMICA!$N707)","v":0},{"$f":"VALUE(DINAMICA!$O707)","v":0},{"$f":"VALUE(DINAMICA!$P707)","v":0},{"$f":"VALUE(DINAMICA!$Q707)","v":0},{"$f":"VALUE(DINAMICA!$R707)","v":0}]
[{"$f":"VALUE(DINAMICA!$A708)","v":0},{"$f":"VALUE(DINAMICA!$B708)","v":"00:00:00"},{"$f":"VALUE(DINAMICA!$C708)","v":0},{"$f":"DINAMICA!D708","v":0},{"$f":"DINAMICA!E708","v":0},{"$f":"DINAMICA!F708","v":0},{"$f":"DINAMICA!G708","v":0},{"$f":"DINAMICA!H708","v":0},{"$f":"DINAMICA!I708","v":0},{"$f":"DINAMICA!J708","v":0},{"$f":"DINAMICA!K708","v":0},{"$f":"VALUE(DINAMICA!$L708)","v":0},{"$f":"VALUE(DINAMICA!$M708)","v":0},{"$f":"VALUE(DINAMICA!$N708)","v":0},{"$f":"VALUE(DINAMICA!$O708)","v":0},{"$f":"VALUE(DINAMICA!$P708)","v":0},{"$f":"VALUE(DINAMICA!$Q708)","v":0},{"$f":"VALUE(DINAMICA!$R708)","v":0}]
[{"$f":"VALUE(DINAMICA!$A709)","v":0},{"$f":"VALUE(DINAMICA!$B709)","v":"00:00:00"},{"$f":"VALUE(DINAMICA!$C709)","v":0},{"$f":"DINAMICA!D709","v":0},{"$f":"DINAMICA!E709","v":0},{"$f":"DINAMICA!F709","v":0},{"$f":"DINAMICA!G709","v":0},{"$f":"DINAMICA!H709","v":0},{"$f":"DINAMICA!I709","v":0},{"$f":"DINAMICA!J709","v":0},{"$f":"DINAMICA!K709","v":0},{"$f":"VALUE(DINAMICA!$L709)","v":0},{"$f":"VALUE(DINAMICA!$M709)","v":0},{"$f":"VALUE(DINAMICA!$N709)","v":0},{"$f":"VALUE(DINAMICA!$O709)","v":0},{"$f":"VALUE(DINAMICA!$P709)","v":0},{"$f":"VALUE(DINAMICA!$Q709)","v":0},{"$f":"VALUE(DINAMICA!$R709)","v":0}]
[{"$f":"VALUE(DINAMICA!$A710)","v":0},{"$f":"VALUE(DINAMICA!$B710)","v":"00:00:00"},{"$f":"VALUE(DINAMICA!$C710)","v":0},{"$f":"DINAMICA!D710","v":0},{"$f":"DINAMICA!E710","v":0},{"$f":"DINAMICA!F710","v":0},{"$f":"DINAMICA!G710","v":0},{"$f":"DINAMICA!H710","v":0},{"$f":"DINAMICA!I710","v":0},{"$f":"DINAMICA!J710","v":0},{"$f":"DINAMICA!K710","v":0},{"$f":"VALUE(DINAMICA!$L710)","v":0},{"$f":"VALUE(DINAMICA!$M710)","v":0},{"$f":"VALUE(DINAMICA!$N710)","v":0},{"$f":"VALUE(DINAMICA!$O710)","v":0},{"$f":"VALUE(DINAMICA!$P710)","v":0},{"$f":"VALUE(DINAMICA!$Q710)","v":0},{"$f":"VALUE(DINAMICA!$R710)","v":0}]
[{"$f":"VALUE(DINAMICA!$A711)","v":0},{"$f":"VALUE(DINAMICA!$B711)","v":"00:00:00"},{"$f":"VALUE(DINAMICA!$C711)","v":0},{"$f":"DINAMICA!D711","v":0},{"$f":"DINAMICA!E711","v":0},{"$f":"DINAMICA!F711","v":0},{"$f":"DINAMICA!G711","v":0},{"$f":"DINAMICA!H711","v":0},{"$f":"DINAMICA!I711","v":0},{"$f":"DINAMICA!J711","v":0},{"$f":"DINAMICA!K711","v":0},{"$f":"VALUE(DINAMICA!$L711)","v":0},{"$f":"VALUE(DINAMICA!$M711)","v":0},{"$f":"VALUE(DINAMICA!$N711)","v":0},{"$f":"VALUE(DINAMICA!$O711)","v":0},{"$f":"VALUE(DINAMICA!$P711)","v":0},{"$f":"VALUE(DINAMICA!$Q711)","v":0},{"$f":"VALUE(DINAMICA!$R711)","v":0}]
[{"$f":"VALUE(DINAMICA!$A712)","v":0},{"$f":"VALUE(DINAMICA!$B712)","v":"00:00:00"},{"$f":"VALUE(DINAMICA!$C712)","v":0},{"$f":"DINAMICA!D712","v":0},{"$f":"DINAMICA!E712","v":0},{"$f":"DINAMICA!F712","v":0},{"$f":"DINAMICA!G712","v":0},{"$f":"DINAMICA!H712","v":0},{"$f":"DINAMICA!I712","v":0},{"$f":"DINAMICA!J712","v":0},{"$f":"DINAMICA!K712","v":0},{"$f":"VALUE(DINAMICA!$L712)","v":0},{"$f":"VALUE(DINAMICA!$M712)","v":0},{"$f":"VALUE(DINAMICA!$N712)","v":0},{"$f":"VALUE(DINAMICA!$O712)","v":0},{"$f":"VALUE(DINAMICA!$P712)","v":0},{"$f":"VALUE(DINAMICA!$Q712)","v":0},{"$f":"VALUE(DINAMICA!$R712)","v":0}]
[{"$f":"VALUE(DINAMICA!$A713)","v":0},{"$f":"VALUE(DINAMICA!$B713)","v":"00:00:00"},{"$f":"VALUE(DINAMICA!$C713)","v":0},{"$f":"DINAMICA!D713","v":0},{"$f":"DINAMICA!E713","v":0},{"$f":"DINAMICA!F713","v":0},{"$f":"DINAMICA!G713","v":0},{"$f":"DINAMICA!H713","v":0},{"$f":"DINAMICA!I713","v":0},{"$f":"DINAMICA!J713","v":0},{"$f":"DINAMICA!K713","v":0},{"$f":"VALUE(DINAMICA!$L713)","v":0},{"$f":"VALUE(DINAMICA!$M713)","v":0},{"$f":"VALUE(DINAMICA!$N713)","v":0},{"$f":"VALUE(DINAMICA!$O713)","v":0},{"$f":"VALUE(DINAMICA!$P713)","v":0},{"$f":"VALUE(DINAMICA!$Q713)","v":0},{"$f":"VALUE(DINAMICA!$R713)","v":0}]
[{"$f":"VALUE(DINAMICA!$A714)","v":0},{"$f":"VALUE(DINAMICA!$B714)","v":"00:00:00"},{"$f":"VALUE(DINAMICA!$C714)","v":0},{"$f":"DINAMICA!D714","v":0},{"$f":"DINAMICA!E714","v":0},{"$f":"DINAMICA!F714","v":0},{"$f":"DINAMICA!G714","v":0},{"$f":"DINAMICA!H714","v":0},{"$f":"DINAMICA!I714","v":0},{"$f":"DINAMICA!J714","v":0},{"$f":"DINAMICA!K714","v":0},{"$f":"VALUE(DINAMICA!$L714)","v":0},{"$f":"VALUE(DINAMICA!$M714)","v":0},{"$f":"VALUE(DINAMICA!$N714)","v":0},{"$f":"VALUE(DINAMICA!$O714)","v":0},{"$f":"VALUE(DINAMICA!$P714)","v":0},{"$f":"VALUE(DINAMICA!$Q714)","v":0},{"$f":"VALUE(DINAMICA!$R714)","v":0}]
[{"$f":"VALUE(DINAMICA!$A715)","v":0},{"$f":"VALUE(DINAMICA!$B715)","v":"00:00:00"},{"$f":"VALUE(DINAMICA!$C715)","v":0},{"$f":"DINAMICA!D715","v":0},{"$f":"DINAMICA!E715","v":0},{"$f":"DINAMICA!F715","v":0},{"$f":"DINAMICA!G715","v":0},{"$f":"DINAMICA!H715","v":0},{"$f":"DINAMICA!I715","v":0},{"$f":"DINAMICA!J715","v":0},{"$f":"DINAMICA!K715","v":0},{"$f":"VALUE(DINAMICA!$L715)","v":0},{"$f":"VALUE(DINAMICA!$M715)","v":0},{"$f":"VALUE(DINAMICA!$N715)","v":0},{"$f":"VALUE(DINAMICA!$O715)","v":0},{"$f":"VALUE(DINAMICA!$P715)","v":0},{"$f":"VALUE(DINAMICA!$Q715)","v":0},{"$f":"VALUE(DINAMICA!$R715)","v":0}]
[{"$f":"VALUE(DINAMICA!$A716)","v":0},{"$f":"VALUE(DINAMICA!$B716)","v":"00:00:00"},{"$f":"VALUE(DINAMICA!$C716)","v":0},{"$f":"DINAMICA!D716","v":0},{"$f":"DINAMICA!E716","v":0},{"$f":"DINAMICA!F716","v":0},{"$f":"DINAMICA!G716","v":0},{"$f":"DINAMICA!H716","v":0},{"$f":"DINAMICA!I716","v":0},{"$f":"DINAMICA!J716","v":0},{"$f":"DINAMICA!K716","v":0},{"$f":"VALUE(DINAMICA!$L716)","v":0},{"$f":"VALUE(DINAMICA!$M716)","v":0},{"$f":"VALUE(DINAMICA!$N716)","v":0},{"$f":"VALUE(DINAMICA!$O716)","v":0},{"$f":"VALUE(DINAMICA!$P716)","v":0},{"$f":"VALUE(DINAMICA!$Q716)","v":0},{"$f":"VALUE(DINAMICA!$R716)","v":0}]
[{"$f":"VALUE(DINAMICA!$A717)","v":0},{"$f":"VALUE(DINAMICA!$B717)","v":"00:00:00"},{"$f":"VALUE(DINAMICA!$C717)","v":0},{"$f":"DINAMICA!D717","v":0},{"$f":"DINAMICA!E717","v":0},{"$f":"DINAMICA!F717","v":0},{"$f":"DINAMICA!G717","v":0},{"$f":"DINAMICA!H717","v":0},{"$f":"DINAMICA!I717","v":0},{"$f":"DINAMICA!J717","v":0},{"$f":"DINAMICA!K717","v":0},{"$f":"VALUE(DINAMICA!$L717)","v":0},{"$f":"VALUE(DINAMICA!$M717)","v":0},{"$f":"VALUE(DINAMICA!$N717)","v":0},{"$f":"VALUE(DINAMICA!$O717)","v":0},{"$f":"VALUE(DINAMICA!$P717)","v":0},{"$f":"VALUE(DINAMICA!$Q717)","v":0},{"$f":"VALUE(DINAMICA!$R717)","v":0}]
[{"$f":"VALUE(DINAMICA!$A718)","v":0},{"$f":"VALUE(DINAMICA!$B718)","v":"00:00:00"},{"$f":"VALUE(DINAMICA!$C718)","v":0},{"$f":"DINAMICA!D718","v":0},{"$f":"DINAMICA!E718","v":0},{"$f":"DINAMICA!F718","v":0},{"$f":"DINAMICA!G718","v":0},{"$f":"DINAMICA!H718","v":0},{"$f":"DINAMICA!I718","v":0},{"$f":"DINAMICA!J718","v":0},{"$f":"DINAMICA!K718","v":0},{"$f":"VALUE(DINAMICA!$L718)","v":0},{"$f":"VALUE(DINAMICA!$M718)","v":0},{"$f":"VALUE(DINAMICA!$N718)","v":0},{"$f":"VALUE(DINAMICA!$O718)","v":0},{"$f":"VALUE(DINAMICA!$P718)","v":0},{"$f":"VALUE(DINAMICA!$Q718)","v":0},{"$f":"VALUE(DINAMICA!$R718)","v":0}]
[{"$f":"VALUE(DINAMICA!$A719)","v":0},{"$f":"VALUE(DINAMICA!$B719)","v":"00:00:00"},{"$f":"VALUE(DINAMICA!$C719)","v":0},{"$f":"DINAMICA!D719","v":0},{"$f":"DINAMICA!E719","v":0},{"$f":"DINAMICA!F719","v":0},{"$f":"DINAMICA!G719","v":0},{"$f":"DINAMICA!H719","v":0},{"$f":"DINAMICA!I719","v":0},{"$f":"DINAMICA!J719","v":0},{"$f":"DINAMICA!K719","v":0},{"$f":"VALUE(DINAMICA!$L719)","v":0},{"$f":"VALUE(DINAMICA!$M719)","v":0},{"$f":"VALUE(DINAMICA!$N719)","v":0},{"$f":"VALUE(DINAMICA!$O719)","v":0},{"$f":"VALUE(DINAMICA!$P719)","v":0},{"$f":"VALUE(DINAMICA!$Q719)","v":0},{"$f":"VALUE(DINAMICA!$R719)","v":0}]
[{"$f":"VALUE(DINAMICA!$A720)","v":0},{"$f":"VALUE(DINAMICA!$B720)","v":"00:00:00"},{"$f":"VALUE(DINAMICA!$C720)","v":0},{"$f":"DINAMICA!D720","v":0},{"$f":"DINAMICA!E720","v":0},{"$f":"DINAMICA!F720","v":0},{"$f":"DINAMICA!G720","v":0},{"$f":"DINAMICA!H720","v":0},{"$f":"DINAMICA!I720","v":0},{"$f":"DINAMICA!J720","v":0},{"$f":"DINAMICA!K720","v":0},{"$f":"VALUE(DINAMICA!$L720)","v":0},{"$f":"VALUE(DINAMICA!$M720)","v":0},{"$f":"VALUE(DINAMICA!$N720)","v":0},{"$f":"VALUE(DINAMICA!$O720)","v":0},{"$f":"VALUE(DINAMICA!$P720)","v":0},{"$f":"VALUE(DINAMICA!$Q720)","v":0},{"$f":"VALUE(DINAMICA!$R720)","v":0}]
[{"$f":"VALUE(DINAMICA!$A721)","v":0},{"$f":"VALUE(DINAMICA!$B721)","v":"00:00:00"},{"$f":"VALUE(DINAMICA!$C721)","v":0},{"$f":"DINAMICA!D721","v":0},{"$f":"DINAMICA!E721","v":0},{"$f":"DINAMICA!F721","v":0},{"$f":"DINAMICA!G721","v":0},{"$f":"DINAMICA!H721","v":0},{"$f":"DINAMICA!I721","v":0},{"$f":"DINAMICA!J721","v":0},{"$f":"DINAMICA!K721","v":0},{"$f":"VALUE(DINAMICA!$L721)","v":0},{"$f":"VALUE(DINAMICA!$M721)","v":0},{"$f":"VALUE(DINAMICA!$N721)","v":0},{"$f":"VALUE(DINAMICA!$O721)","v":0},{"$f":"VALUE(DINAMICA!$P721)","v":0},{"$f":"VALUE(DINAMICA!$Q721)","v":0},{"$f":"VALUE(DINAMICA!$R721)","v":0}]
[{"$f":"VALUE(DINAMICA!$A722)","v":0},{"$f":"VALUE(DINAMICA!$B722)","v":"00:00:00"},{"$f":"VALUE(DINAMICA!$C722)","v":0},{"$f":"DINAMICA!D722","v":0},{"$f":"DINAMICA!E722","v":0},{"$f":"DINAMICA!F722","v":0},{"$f":"DINAMICA!G722","v":0},{"$f":"DINAMICA!H722","v":0},{"$f":"DINAMICA!I722","v":0},{"$f":"DINAMICA!J722","v":0},{"$f":"DINAMICA!K722","v":0},{"$f":"VALUE(DINAMICA!$L722)","v":0},{"$f":"VALUE(DINAMICA!$M722)","v":0},{"$f":"VALUE(DINAMICA!$N722)","v":0},{"$f":"VALUE(DINAMICA!$O722)","v":0},{"$f":"VALUE(DINAMICA!$P722)","v":0},{"$f":"VALUE(DINAMICA!$Q722)","v":0},{"$f":"VALUE(DINAMICA!$R722)","v":0}]
[{"$f":"VALUE(DINAMICA!$A723)","v":0},{"$f":"VALUE(DINAMICA!$B723)","v":"00:00:00"},{"$f":"VALUE(DINAMICA!$C723)","v":0},{"$f":"DINAMICA!D723","v":0},{"$f":"DINAMICA!E723","v":0},{"$f":"DINAMICA!F723","v":0},{"$f":"DINAMICA!G723","v":0},{"$f":"DINAMICA!H723","v":0},{"$f":"DINAMICA!I723","v":0},{"$f":"DINAMICA!J723","v":0},{"$f":"DINAMICA!K723","v":0},{"$f":"VALUE(DINAMICA!$L723)","v":0},{"$f":"VALUE(DINAMICA!$M723)","v":0},{"$f":"VALUE(DINAMICA!$N723)","v":0},{"$f":"VALUE(DINAMICA!$O723)","v":0},{"$f":"VALUE(DINAMICA!$P723)","v":0},{"$f":"VALUE(DINAMICA!$Q723)","v":0},{"$f":"VALUE(DINAMICA!$R723)","v":0}]
[{"$f":"VALUE(DINAMICA!$A724)","v":0},{"$f":"VALUE(DINAMICA!$B724)","v":"00:00:00"},{"$f":"VALUE(DINAMICA!$C724)","v":0},{"$f":"DINAMICA!D724","v":0},{"$f":"DINAMICA!E724","v":0},{"$f":"DINAMICA!F724","v":0},{"$f":"DINAMICA!G724","v":0},{"$f":"DINAMICA!H724","v":0},{"$f":"DINAMICA!I724","v":0},{"$f":"DINAMICA!J724","v":0},{"$f":"DINAMICA!K724","v":0},{"$f":"VALUE(DINAMICA!$L724)","v":0},{"$f":"VALUE(DINAMICA!$M724)","v":0},{"$f":"VALUE(DINAMICA!$N724)","v":0},{"$f":"VALUE(DINAMICA!$O724)","v":0},{"$f":"VALUE(DINAMICA!$P724)","v":0},{"$f":"VALUE(DINAMICA!$Q724)","v":0},{"$f":"VALUE(DINAMICA!$R724)","v":0}]
[{"$f":"VALUE(DINAMICA!$A725)","v":0},{"$f":"VALUE(DINAMICA!$B725)","v":"00:00:00"},{"$f":"VALUE(DINAMICA!$C725)","v":0},{"$f":"DINAMICA!D725","v":0},{"$f":"DINAMICA!E725","v":0},{"$f":"DINAMICA!F725","v":0},{"$f":"DINAMICA!G725","v":0},{"$f":"DINAMICA!H725","v":0},{"$f":"DINAMICA!I725","v":0},{"$f":"DINAMICA!J725","v":0},{"$f":"DINAMICA!K725","v":0},{"$f":"VALUE(DINAMICA!$L725)","v":0},{"$f":"VALUE(DINAMICA!$M725)","v":0},{"$f":"VALUE(DINAMICA!$N725)","v":0},{"$f":"VALUE(DINAMICA!$O725)","v":0},{"$f":"VALUE(DINAMICA!$P725)","v":0},{"$f":"VALUE(DINAMICA!$Q725)","v":0},{"$f":"VALUE(DINAMICA!$R725)","v":0}]
[{"$f":"VALUE(DINAMICA!$A726)","v":0},{"$f":"VALUE(DINAMICA!$B726)","v":"00:00:00"},{"$f":"VALUE(DINAMICA!$C726)","v":0},{"$f":"DINAMICA!D726","v":0},{"$f":"DINAMICA!E726","v":0},{"$f":"DINAMICA!F726","v":0},{"$f":"DINAMICA!G726","v":0},{"$f":"DINAMICA!H726","v":0},{"$f":"DINAMICA!I726","v":0},{"$f":"DINAMICA!J726","v":0},{"$f":"DINAMICA!K726","v":0},{"$f":"VALUE(DINAMICA!$L726)","v":0},{"$f":"VALUE(DINAMICA!$M726)","v":0},{"$f":"VALUE(DINAMICA!$N726)","v":0},{"$f":"VALUE(DINAMICA!$O726)","v":0},{"$f":"VALUE(DINAMICA!$P726)","v":0},{"$f":"VALUE(DINAMICA!$Q726)","v":0},{"$f":"VALUE(DINAMICA!$R726)","v":0}]
[{"$f":"VALUE(DINAMICA!$A727)","v":0},{"$f":"VALUE(DINAMICA!$B727)","v":"00:00:00"},{"$f":"VALUE(DINAMICA!$C727)","v":0},{"$f":"DINAMICA!D727","v":0},{"$f":"DINAMICA!E727","v":0},{"$f":"DINAMICA!F727","v":0},{"$f":"DINAMICA!G727","v":0},{"$f":"DINAMICA!H727","v":0},{"$f":"DINAMICA!I727","v":0},{"$f":"DINAMICA!J727","v":0},{"$f":"DINAMICA!K727","v":0},{"$f":"VALUE(DINAMICA!$L727)","v":0},{"$f":"VALUE(DINAMICA!$M727)","v":0},{"$f":"VALUE(DINAMICA!$N727)","v":0},{"$f":"VALUE(DINAMICA!$O727)","v":0},{"$f":"VALUE(DINAMICA!$P727)","v":0},{"$f":"VALUE(DINAMICA!$Q727)","v":0},{"$f":"VALUE(DINAMICA!$R727)","v":0}]
[{"$f":"VALUE(DINAMICA!$A728)","v":0},{"$f":"VALUE(DINAMICA!$B728)","v":"00:00:00"},{"$f":"VALUE(DINAMICA!$C728)","v":0},{"$f":"DINAMICA!D728","v":0},{"$f":"DINAMICA!E728","v":0},{"$f":"DINAMICA!F728","v":0},{"$f":"DINAMICA!G728","v":0},{"$f":"DINAMICA!H728","v":0},{"$f":"DINAMICA!I728","v":0},{"$f":"DINAMICA!J728","v":0},{"$f":"DINAMICA!K728","v":0},{"$f":"VALUE(DINAMICA!$L728)","v":0},{"$f":"VALUE(DINAMICA!$M728)","v":0},{"$f":"VALUE(DINAMICA!$N728)","v":0},{"$f":"VALUE(DINAMICA!$O728)","v":0},{"$f":"VALUE(DINAMICA!$P728)","v":0},{"$f":"VALUE(DINAMICA!$Q728)","v":0},{"$f":"VALUE(DINAMICA!$R728)","v":0}]
[{"$f":"VALUE(DINAMICA!$A729)","v":0},{"$f":"VALUE(DINAMICA!$B729)","v":"00:00:00"},{"$f":"VALUE(DINAMICA!$C729)","v":0},{"$f":"DINAMICA!D729","v":0},{"$f":"DINAMICA!E729","v":0},{"$f":"DINAMICA!F729","v":0},{"$f":"DINAMICA!G729","v":0},{"$f":"DINAMICA!H729","v":0},{"$f":"DINAMICA!I729","v":0},{"$f":"DINAMICA!J729","v":0},{"$f":"DINAMICA!K729","v":0},{"$f":"VALUE(DINAMICA!$L729)","v":0},{"$f":"VALUE(DINAMICA!$M729)","v":0},{"$f":"VALUE(DINAMICA!$N729)","v":0},{"$f":"VALUE(DINAMICA!$O729)","v":0},{"$f":"VALUE(DINAMICA!$P729)","v":0},{"$f":"VALUE(DINAMICA!$Q729)","v":0},{"$f":"VALUE(DINAMICA!$R729)","v":0}]
[{"$f":"VALUE(DINAMICA!$A730)","v":0},{"$f":"VALUE(DINAMICA!$B730)","v":"00:00:00"},{"$f":"VALUE(DINAMICA!$C730)","v":0},{"$f":"DINAMICA!D730","v":0},{"$f":"DINAMICA!E730","v":0},{"$f":"DINAMICA!F730","v":0},{"$f":"DINAMICA!G730","v":0},{"$f":"DINAMICA!H730","v":0},{"$f":"DINAMICA!I730","v":0},{"$f":"DINAMICA!J730","v":0},{"$f":"DINAMICA!K730","v":0},{"$f":"VALUE(DINAMICA!$L730)","v":0},{"$f":"VALUE(DINAMICA!$M730)","v":0},{"$f":"VALUE(DINAMICA!$N730)","v":0},{"$f":"VALUE(DINAMICA!$O730)","v":0},{"$f":"VALUE(DINAMICA!$P730)","v":0},{"$f":"VALUE(DINAMICA!$Q730)","v":0},{"$f":"VALUE(DINAMICA!$R730)","v":0}]
[{"$f":"VALUE(DINAMICA!$A731)","v":0},{"$f":"VALUE(DINAMICA!$B731)","v":"00:00:00"},{"$f":"VALUE(DINAMICA!$C731)","v":0},{"$f":"DINAMICA!D731","v":0},{"$f":"DINAMICA!E731","v":0},{"$f":"DINAMICA!F731","v":0},{"$f":"DINAMICA!G731","v":0},{"$f":"DINAMICA!H731","v":0},{"$f":"DINAMICA!I731","v":0},{"$f":"DINAMICA!J731","v":0},{"$f":"DINAMICA!K731","v":0},{"$f":"VALUE(DINAMICA!$L731)","v":0},{"$f":"VALUE(DINAMICA!$M731)","v":0},{"$f":"VALUE(DINAMICA!$N731)","v":0},{"$f":"VALUE(DINAMICA!$O731)","v":0},{"$f":"VALUE(DINAMICA!$P731)","v":0},{"$f":"VALUE(DINAMICA!$Q731)","v":0},{"$f":"VALUE(DINAMICA!$R731)","v":0}]
[{"$f":"VALUE(DINAMICA!$A732)","v":0},{"$f":"VALUE(DINAMICA!$B732)","v":"00:00:00"},{"$f":"VALUE(DINAMICA!$C732)","v":0},{"$f":"DINAMICA!D732","v":0},{"$f":"DINAMICA!E732","v":0},{"$f":"DINAMICA!F732","v":0},{"$f":"DINAMICA!G732","v":0},{"$f":"DINAMICA!H732","v":0},{"$f":"DINAMICA!I732","v":0},{"$f":"DINAMICA!J732","v":0},{"$f":"DINAMICA!K732","v":0},{"$f":"VALUE(DINAMICA!$L732)","v":0},{"$f":"VALUE(DINAMICA!$M732)","v":0},{"$f":"VALUE(DINAMICA!$N732)","v":0},{"$f":"VALUE(DINAMICA!$O732)","v":0},{"$f":"VALUE(DINAMICA!$P732)","v":0},{"$f":"VALUE(DINAMICA!$Q732)","v":0},{"$f":"VALUE(DINAMICA!$R732)","v":0}]
[{"$f":"VALUE(DINAMICA!$A733)","v":0},{"$f":"VALUE(DINAMICA!$B733)","v":"00:00:00"},{"$f":"VALUE(DINAMICA!$C733)","v":0},{"$f":"DINAMICA!D733","v":0},{"$f":"DINAMICA!E733","v":0},{"$f":"DINAMICA!F733","v":0},{"$f":"DINAMICA!G733","v":0},{"$f":"DINAMICA!H733","v":0},{"$f":"DINAMICA!I733","v":0},{"$f":"DINAMICA!J733","v":0},{"$f":"DINAMICA!K733","v":0},{"$f":"VALUE(DINAMICA!$L733)","v":0},{"$f":"VALUE(DINAMICA!$M733)","v":0},{"$f":"VALUE(DINAMICA!$N733)","v":0},{"$f":"VALUE(DINAMICA!$O733)","v":0},{"$f":"VALUE(DINAMICA!$P733)","v":0},{"$f":"VALUE(DINAMICA!$Q733)","v":0},{"$f":"VALUE(DINAMICA!$R733)","v":0}]
[{"$f":"VALUE(DINAMICA!$A734)","v":0},{"$f":"VALUE(DINAMICA!$B734)","v":"00:00:00"},{"$f":"VALUE(DINAMICA!$C734)","v":0},{"$f":"DINAMICA!D734","v":0},{"$f":"DINAMICA!E734","v":0},{"$f":"DINAMICA!F734","v":0},{"$f":"DINAMICA!G734","v":0},{"$f":"DINAMICA!H734","v":0},{"$f":"DINAMICA!I734","v":0},{"$f":"DINAMICA!J734","v":0},{"$f":"DINAMICA!K734","v":0},{"$f":"VALUE(DINAMICA!$L734)","v":0},{"$f":"VALUE(DINAMICA!$M734)","v":0},{"$f":"VALUE(DINAMICA!$N734)","v":0},{"$f":"VALUE(DINAMICA!$O734)","v":0},{"$f":"VALUE(DINAMICA!$P734)","v":0},{"$f":"VALUE(DINAMICA!$Q734)","v":0},{"$f":"VALUE(DINAMICA!$R734)","v":0}]
[{"$f":"VALUE(DINAMICA!$A735)","v":0},{"$f":"VALUE(DINAMICA!$B735)","v":"00:00:00"},{"$f":"VALUE(DINAMICA!$C735)","v":0},{"$f":"DINAMICA!D735","v":0},{"$f":"DINAMICA!E735","v":0},{"$f":"DINAMICA!F735","v":0},{"$f":"DINAMICA!G735","v":0},{"$f":"DINAMICA!H735","v":0},{"$f":"DINAMICA!I735","v":0},{"$f":"DINAMICA!J735","v":0},{"$f":"DINAMICA!K735","v":0},{"$f":"VALUE(DINAMICA!$L735)","v":0},{"$f":"VALUE(DINAMICA!$M735)","v":0},{"$f":"VALUE(DINAMICA!$N735)","v":0},{"$f":"VALUE(DINAMICA!$O735)","v":0},{"$f":"VALUE(DINAMICA!$P735)","v":0},{"$f":"VALUE(DINAMICA!$Q735)","v":0},{"$f":"VALUE(DINAMICA!$R735)","v":0}]
[{"$f":"VALUE(DINAMICA!$A736)","v":0},{"$f":"VALUE(DINAMICA!$B736)","v":"00:00:00"},{"$f":"VALUE(DINAMICA!$C736)","v":0},{"$f":"DINAMICA!D736","v":0},{"$f":"DINAMICA!E736","v":0},{"$f":"DINAMICA!F736","v":0},{"$f":"DINAMICA!G736","v":0},{"$f":"DINAMICA!H736","v":0},{"$f":"DINAMICA!I736","v":0},{"$f":"DINAMICA!J736","v":0},{"$f":"DINAMICA!K736","v":0},{"$f":"VALUE(DINAMICA!$L736)","v":0},{"$f":"VALUE(DINAMICA!$M736)","v":0},{"$f":"VALUE(DINAMICA!$N736)","v":0},{"$f":"VALUE(DINAMICA!$O736)","v":0},{"$f":"VALUE(DINAMICA!$P736)","v":0},{"$f":"VALUE(DINAMICA!$Q736)","v":0},{"$f":"VALUE(DINAMICA!$R736)","v":0}]
[{"$f":"VALUE(DINAMICA!$A737)","v":0},{"$f":"VALUE(DINAMICA!$B737)","v":"00:00:00"},{"$f":"VALUE(DINAMICA!$C737)","v":0},{"$f":"DINAMICA!D737","v":0},{"$f":"DINAMICA!E737","v":0},{"$f":"DINAMICA!F737","v":0},{"$f":"DINAMICA!G737","v":0},{"$f":"DINAMICA!H737","v":0},{"$f":"DINAMICA!I737","v":0},{"$f":"DINAMICA!J737","v":0},{"$f":"DINAMICA!K737","v":0},{"$f":"VALUE(DINAMICA!$L737)","v":0},{"$f":"VALUE(DINAMICA!$M737)","v":0},{"$f":"VALUE(DINAMICA!$N737)","v":0},{"$f":"VALUE(DINAMICA!$O737)","v":0},{"$f":"VALUE(DINAMICA!$P737)","v":0},{"$f":"VALUE(DINAMICA!$Q737)","v":0},{"$f":"VALUE(DINAMICA!$R737)","v":0}]
[{"$f":"VALUE(DINAMICA!$A738)","v":0},{"$f":"VALUE(DINAMICA!$B738)","v":"00:00:00"},{"$f":"VALUE(DINAMICA!$C738)","v":0},{"$f":"DINAMICA!D738","v":0},{"$f":"DINAMICA!E738","v":0},{"$f":"DINAMICA!F738","v":0},{"$f":"DINAMICA!G738","v":0},{"$f":"DINAMICA!H738","v":0},{"$f":"DINAMICA!I738","v":0},{"$f":"DINAMICA!J738","v":0},{"$f":"DINAMICA!K738","v":0},{"$f":"VALUE(DINAMICA!$L738)","v":0},{"$f":"VALUE(DINAMICA!$M738)","v":0},{"$f":"VALUE(DINAMICA!$N738)","v":0},{"$f":"VALUE(DINAMICA!$O738)","v":0},{"$f":"VALUE(DINAMICA!$P738)","v":0},{"$f":"VALUE(DINAMICA!$Q738)","v":0},{"$f":"VALUE(DINAMICA!$R738)","v":0}]
[{"$f":"VALUE(DINAMICA!$A739)","v":0},{"$f":"VALUE(DINAMICA!$B739)","v":"00:00:00"},{"$f":"VALUE(DINAMICA!$C739)","v":0},{"$f":"DINAMICA!D739","v":0},{"$f":"DINAMICA!E739","v":0},{"$f":"DINAMICA!F739","v":0},{"$f":"DINAMICA!G739","v":0},{"$f":"DINAMICA!H739","v":0},{"$f":"DINAMICA!I739","v":0},{"$f":"DINAMICA!J739","v":0},{"$f":"DINAMICA!K739","v":0},{"$f":"VALUE(DINAMICA!$L739)","v":0},{"$f":"VALUE(DINAMICA!$M739)","v":0},{"$f":"VALUE(DINAMICA!$N739)","v":0},{"$f":"VALUE(DINAMICA!$O739)","v":0},{"$f":"VALUE(DINAMICA!$P739)","v":0},{"$f":"VALUE(DINAMICA!$Q739)","v":0},{"$f":"VALUE(DINAMICA!$R739)","v":0}]
[{"$f":"VALUE(DINAMICA!$A740)","v":0},{"$f":"VALUE(DINAMICA!$B740)","v":"00:00:00"},{"$f":"VALUE(DINAMICA!$C740)","v":0},{"$f":"DINAMICA!D740","v":0},{"$f":"DINAMICA!E740","v":0},{"$f":"DINAMICA!F740","v":0},{"$f":"DINAMICA!G740","v":0},{"$f":"DINAMICA!H740","v":0},{"$f":"DINAMICA!I740","v":0},{"$f":"DINAMICA!J740","v":0},{"$f":"DINAMICA!K740","v":0},{"$f":"VALUE(DINAMICA!$L740)","v":0},{"$f":"VALUE(DINAMICA!$M740)","v":0},{"$f":"VALUE(DINAMICA!$N740)","v":0},{"$f":"VALUE(DINAMICA!$O740)","v":0},{"$f":"VALUE(DINAMICA!$P740)","v":0},{"$f":"VALUE(DINAMICA!$Q740)","v":0},{"$f":"VALUE(DINAMICA!$R740)","v":0}]
[{"$f":"VALUE(DINAMICA!$A741)","v":0},{"$f":"VALUE(DINAMICA!$B741)","v":"00:00:00"},{"$f":"VALUE(DINAMICA!$C741)","v":0},{"$f":"DINAMICA!D741","v":0},{"$f":"DINAMICA!E741","v":0},{"$f":"DINAMICA!F741","v":0},{"$f":"DINAMICA!G741","v":0},{"$f":"DINAMICA!H741","v":0},{"$f":"DINAMICA!I741","v":0},{"$f":"DINAMICA!J741","v":0},{"$f":"DINAMICA!K741","v":0},{"$f":"VALUE(DINAMICA!$L741)","v":0},{"$f":"VALUE(DINAMICA!$M741)","v":0},{"$f":"VALUE(DINAMICA!$N741)","v":0},{"$f":"VALUE(DINAMICA!$O741)","v":0},{"$f":"VALUE(DINAMICA!$P741)","v":0},{"$f":"VALUE(DINAMICA!$Q741)","v":0},{"$f":"VALUE(DINAMICA!$R741)","v":0}]
[{"$f":"VALUE(DINAMICA!$A742)","v":0},{"$f":"VALUE(DINAMICA!$B742)","v":"00:00:00"},{"$f":"VALUE(DINAMICA!$C742)","v":0},{"$f":"DINAMICA!D742","v":0},{"$f":"DINAMICA!E742","v":0},{"$f":"DINAMICA!F742","v":0},{"$f":"DINAMICA!G742","v":0},{"$f":"DINAMICA!H742","v":0},{"$f":"DINAMICA!I742","v":0},{"$f":"DINAMICA!J742","v":0},{"$f":"DINAMICA!K742","v":0},{"$f":"VALUE(DINAMICA!$L742)","v":0},{"$f":"VALUE(DINAMICA!$M742)","v":0},{"$f":"VALUE(DINAMICA!$N742)","v":0},{"$f":"VALUE(DINAMICA!$O742)","v":0},{"$f":"VALUE(DINAMICA!$P742)","v":0},{"$f":"VALUE(DINAMICA!$Q742)","v":0},{"$f":"VALUE(DINAMICA!$R742)","v":0}]
[{"$f":"VALUE(DINAMICA!$A743)","v":0},{"$f":"VALUE(DINAMICA!$B743)","v":"00:00:00"},{"$f":"VALUE(DINAMICA!$C743)","v":0},{"$f":"DINAMICA!D743","v":0},{"$f":"DINAMICA!E743","v":0},{"$f":"DINAMICA!F743","v":0},{"$f":"DINAMICA!G743","v":0},{"$f":"DINAMICA!H743","v":0},{"$f":"DINAMICA!I743","v":0},{"$f":"DINAMICA!J743","v":0},{"$f":"DINAMICA!K743","v":0},{"$f":"VALUE(DINAMICA!$L743)","v":0},{"$f":"VALUE(DINAMICA!$M743)","v":0},{"$f":"VALUE(DINAMICA!$N743)","v":0},{"$f":"VALUE(DINAMICA!$O743)","v":0},{"$f":"VALUE(DINAMICA!$P743)","v":0},{"$f":"VALUE(DINAMICA!$Q743)","v":0},{"$f":"VALUE(DINAMICA!$R743)","v":0}]
[{"$f":"VALUE(DINAMICA!$A744)","v":0},{"$f":"VALUE(DINAMICA!$B744)","v":"00:00:00"},{"$f":"VALUE(DINAMICA!$C744)","v":0},{"$f":"DINAMICA!D744","v":0},{"$f":"DINAMICA!E744","v":0},{"$f":"DINAMICA!F744","v":0},{"$f":"DINAMICA!G744","v":0},{"$f":"DINAMICA!H744","v":0},{"$f":"DINAMICA!I744","v":0},{"$f":"DINAMICA!J744","v":0},{"$f":"DINAMICA!K744","v":0},{"$f":"VALUE(DINAMICA!$L744)","v":0},{"$f":"VALUE(DINAMICA!$M744)","v":0},{"$f":"VALUE(DINAMICA!$N744)","v":0},{"$f":"VALUE(DINAMICA!$O744)","v":0},{"$f":"VALUE(DINAMICA!$P744)","v":0},{"$f":"VALUE(DINAMICA!$Q744)","v":0},{"$f":"VALUE(DINAMICA!$R744)","v":0}]
[{"$f":"VALUE(DINAMICA!$A745)","v":0},{"$f":"VALUE(DINAMICA!$B745)","v":"00:00:00"},{"$f":"VALUE(DINAMICA!$C745)","v":0},{"$f":"DINAMICA!D745","v":0},{"$f":"DINAMICA!E745","v":0},{"$f":"DINAMICA!F745","v":0},{"$f":"DINAMICA!G745","v":0},{"$f":"DINAMICA!H745","v":0},{"$f":"DINAMICA!I745","v":0},{"$f":"DINAMICA!J745","v":0},{"$f":"DINAMICA!K745","v":0},{"$f":"VALUE(DINAMICA!$L745)","v":0},{"$f":"VALUE(DINAMICA!$M745)","v":0},{"$f":"VALUE(DINAMICA!$N745)","v":0},{"$f":"VALUE(DINAMICA!$O745)","v":0},{"$f":"VALUE(DINAMICA!$P745)","v":0},{"$f":"VALUE(DINAMICA!$Q745)","v":0},{"$f":"VALUE(DINAMICA!$R745)","v":0}]
[{"$f":"VALUE(DINAMICA!$A746)","v":0},{"$f":"VALUE(DINAMICA!$B746)","v":"00:00:00"},{"$f":"VALUE(DINAMICA!$C746)","v":0},{"$f":"DINAMICA!D746","v":0},{"$f":"DINAMICA!E746","v":0},{"$f":"DINAMICA!F746","v":0},{"$f":"DINAMICA!G746","v":0},{"$f":"DINAMICA!H746","v":0},{"$f":"DINAMICA!I746","v":0},{"$f":"DINAMICA!J746","v":0},{"$f":"DINAMICA!K746","v":0},{"$f":"VALUE(DINAMICA!$L746)","v":0},{"$f":"VALUE(DINAMICA!$M746)","v":0},{"$f":"VALUE(DINAMICA!$N746)","v":0},{"$f":"VALUE(DINAMICA!$O746)","v":0},{"$f":"VALUE(DINAMICA!$P746)","v":0},{"$f":"VALUE(DINAMICA!$Q746)","v":0},{"$f":"VALUE(DINAMICA!$R746)","v":0}]
[{"$f":"VALUE(DINAMICA!$A747)","v":0},{"$f":"VALUE(DINAMICA!$B747)","v":"00:00:00"},{"$f":"VALUE(DINAMICA!$C747)","v":0},{"$f":"DINAMICA!D747","v":0},{"$f":"DINAMICA!E747","v":0},{"$f":"DINAMICA!F747","v":0},{"$f":"DINAMICA!G747","v":0},{"$f":"DINAMICA!H747","v":0},{"$f":"DINAMICA!I747","v":0},{"$f":"DINAMICA!J747","v":0},{"$f":"DINAMICA!K747","v":0},{"$f":"VALUE(DINAMICA!$L747)","v":0},{"$f":"VALUE(DINAMICA!$M747)","v":0},{"$f":"VALUE(DINAMICA!$N747)","v":0},{"$f":"VALUE(DINAMICA!$O747)","v":0},{"$f":"VALUE(DINAMICA!$P747)","v":0},{"$f":"VALUE(DINAMICA!$Q747)","v":0},{"$f":"VALUE(DINAMICA!$R747)","v":0}]
[{"$f":"VALUE(DINAMICA!$A748)","v":0},{"$f":"VALUE(DINAMICA!$B748)","v":"00:00:00"},{"$f":"VALUE(DINAMICA!$C748)","v":0},{"$f":"DINAMICA!D748","v":0},{"$f":"DINAMICA!E748","v":0},{"$f":"DINAMICA!F748","v":0},{"$f":"DINAMICA!G748","v":0},{"$f":"DINAMICA!H748","v":0},{"$f":"DINAMICA!I748","v":0},{"$f":"DINAMICA!J748","v":0},{"$f":"DINAMICA!K748","v":0},{"$f":"VALUE(DINAMICA!$L748)","v":0},{"$f":"VALUE(DINAMICA!$M748)","v":0},{"$f":"VALUE(DINAMICA!$N748)","v":0},{"$f":"VALUE(DINAMICA!$O748)","v":0},{"$f":"VALUE(DINAMICA!$P748)","v":0},{"$f":"VALUE(DINAMICA!$Q748)","v":0},{"$f":"VALUE(DINAMICA!$R748)","v":0}]
[{"$f":"VALUE(DINAMICA!$A749)","v":0},{"$f":"VALUE(DINAMICA!$B749)","v":"00:00:00"},{"$f":"VALUE(DINAMICA!$C749)","v":0},{"$f":"DINAMICA!D749","v":0},{"$f":"DINAMICA!E749","v":0},{"$f":"DINAMICA!F749","v":0},{"$f":"DINAMICA!G749","v":0},{"$f":"DINAMICA!H749","v":0},{"$f":"DINAMICA!I749","v":0},{"$f":"DINAMICA!J749","v":0},{"$f":"DINAMICA!K749","v":0},{"$f":"VALUE(DINAMICA!$L749)","v":0},{"$f":"VALUE(DINAMICA!$M749)","v":0},{"$f":"VALUE(DINAMICA!$N749)","v":0},{"$f":"VALUE(DINAMICA!$O749)","v":0},{"$f":"VALUE(DINAMICA!$P749)","v":0},{"$f":"VALUE(DINAMICA!$Q749)","v":0},{"$f":"VALUE(DINAMICA!$R749)","v":0}]
[{"$f":"VALUE(DINAMICA!$A750)","v":0},{"$f":"VALUE(DINAMICA!$B750)","v":"00:00:00"},{"$f":"VALUE(DINAMICA!$C750)","v":0},{"$f":"DINAMICA!D750","v":0},{"$f":"DINAMICA!E750","v":0},{"$f":"DINAMICA!F750","v":0},{"$f":"DINAMICA!G750","v":0},{"$f":"DINAMICA!H750","v":0},{"$f":"DINAMICA!I750","v":0},{"$f":"DINAMICA!J750","v":0},{"$f":"DINAMICA!K750","v":0},{"$f":"VALUE(DINAMICA!$L750)","v":0},{"$f":"VALUE(DINAMICA!$M750)","v":0},{"$f":"VALUE(DINAMICA!$N750)","v":0},{"$f":"VALUE(DINAMICA!$O750)","v":0},{"$f":"VALUE(DINAMICA!$P750)","v":0},{"$f":"VALUE(DINAMICA!$Q750)","v":0},{"$f":"VALUE(DINAMICA!$R750)","v":0}]
[{"$f":"VALUE(DINAMICA!$A751)","v":0},{"$f":"VALUE(DINAMICA!$B751)","v":"00:00:00"},{"$f":"VALUE(DINAMICA!$C751)","v":0},{"$f":"DINAMICA!D751","v":0},{"$f":"DINAMICA!E751","v":0},{"$f":"DINAMICA!F751","v":0},{"$f":"DINAMICA!G751","v":0},{"$f":"DINAMICA!H751","v":0},{"$f":"DINAMICA!I751","v":0},{"$f":"DINAMICA!J751","v":0},{"$f":"DINAMICA!K751","v":0},{"$f":"VALUE(DINAMICA!$L751)","v":0},{"$f":"VALUE(DINAMICA!$M751)","v":0},{"$f":"VALUE(DINAMICA!$N751)","v":0},{"$f":"VALUE(DINAMICA!$O751)","v":0},{"$f":"VALUE(DINAMICA!$P751)","v":0},{"$f":"VALUE(DINAMICA!$Q751)","v":0},{"$f":"VALUE(DINAMICA!$R751)","v":0}]
[{"$f":"VALUE(DINAMICA!$A752)","v":0},{"$f":"VALUE(DINAMICA!$B752)","v":"00:00:00"},{"$f":"VALUE(DINAMICA!$C752)","v":0},{"$f":"DINAMICA!D752","v":0},{"$f":"DINAMICA!E752","v":0},{"$f":"DINAMICA!F752","v":0},{"$f":"DINAMICA!G752","v":0},{"$f":"DINAMICA!H752","v":0},{"$f":"DINAMICA!I752","v":0},{"$f":"DINAMICA!J752","v":0},{"$f":"DINAMICA!K752","v":0},{"$f":"VALUE(DINAMICA!$L752)","v":0},{"$f":"VALUE(DINAMICA!$M752)","v":0},{"$f":"VALUE(DINAMICA!$N752)","v":0},{"$f":"VALUE(DINAMICA!$O752)","v":0},{"$f":"VALUE(DINAMICA!$P752)","v":0},{"$f":"VALUE(DINAMICA!$Q752)","v":0},{"$f":"VALUE(DINAMICA!$R752)","v":0}]
[{"$f":"VALUE(DINAMICA!$A753)","v":0},{"$f":"VALUE(DINAMICA!$B753)","v":"00:00:00"},{"$f":"VALUE(DINAMICA!$C753)","v":0},{"$f":"DINAMICA!D753","v":0},{"$f":"DINAMICA!E753","v":0},{"$f":"DINAMICA!F753","v":0},{"$f":"DINAMICA!G753","v":0},{"$f":"DINAMICA!H753","v":0},{"$f":"DINAMICA!I753","v":0},{"$f":"DINAMICA!J753","v":0},{"$f":"DINAMICA!K753","v":0},{"$f":"VALUE(DINAMICA!$L753)","v":0},{"$f":"VALUE(DINAMICA!$M753)","v":0},{"$f":"VALUE(DINAMICA!$N753)","v":0},{"$f":"VALUE(DINAMICA!$O753)","v":0},{"$f":"VALUE(DINAMICA!$P753)","v":0},{"$f":"VALUE(DINAMICA!$Q753)","v":0},{"$f":"VALUE(DINAMICA!$R753)","v":0}]
[{"$f":"VALUE(DINAMICA!$A754)","v":0},{"$f":"VALUE(DINAMICA!$B754)","v":"00:00:00"},{"$f":"VALUE(DINAMICA!$C754)","v":0},{"$f":"DINAMICA!D754","v":0},{"$f":"DINAMICA!E754","v":0},{"$f":"DINAMICA!F754","v":0},{"$f":"DINAMICA!G754","v":0},{"$f":"DINAMICA!H754","v":0},{"$f":"DINAMICA!I754","v":0},{"$f":"DINAMICA!J754","v":0},{"$f":"DINAMICA!K754","v":0},{"$f":"VALUE(DINAMICA!$L754)","v":0},{"$f":"VALUE(DINAMICA!$M754)","v":0},{"$f":"VALUE(DINAMICA!$N754)","v":0},{"$f":"VALUE(DINAMICA!$O754)","v":0},{"$f":"VALUE(DINAMICA!$P754)","v":0},{"$f":"VALUE(DINAMICA!$Q754)","v":0},{"$f":"VALUE(DINAMICA!$R754)","v":0}]
[{"$f":"VALUE(DINAMICA!$A755)","v":0},{"$f":"VALUE(DINAMICA!$B755)","v":"00:00:00"},{"$f":"VALUE(DINAMICA!$C755)","v":0},{"$f":"DINAMICA!D755","v":0},{"$f":"DINAMICA!E755","v":0},{"$f":"DINAMICA!F755","v":0},{"$f":"DINAMICA!G755","v":0},{"$f":"DINAMICA!H755","v":0},{"$f":"DINAMICA!I755","v":0},{"$f":"DINAMICA!J755","v":0},{"$f":"DINAMICA!K755","v":0},{"$f":"VALUE(DINAMICA!$L755)","v":0},{"$f":"VALUE(DINAMICA!$M755)","v":0},{"$f":"VALUE(DINAMICA!$N755)","v":0},{"$f":"VALUE(DINAMICA!$O755)","v":0},{"$f":"VALUE(DINAMICA!$P755)","v":0},{"$f":"VALUE(DINAMICA!$Q755)","v":0},{"$f":"VALUE(DINAMICA!$R755)","v":0}]
[{"$f":"VALUE(DINAMICA!$A756)","v":0},{"$f":"VALUE(DINAMICA!$B756)","v":"00:00:00"},{"$f":"VALUE(DINAMICA!$C756)","v":0},{"$f":"DINAMICA!D756","v":0},{"$f":"DINAMICA!E756","v":0},{"$f":"DINAMICA!F756","v":0},{"$f":"DINAMICA!G756","v":0},{"$f":"DINAMICA!H756","v":0},{"$f":"DINAMICA!I756","v":0},{"$f":"DINAMICA!J756","v":0},{"$f":"DINAMICA!K756","v":0},{"$f":"VALUE(DINAMICA!$L756)","v":0},{"$f":"VALUE(DINAMICA!$M756)","v":0},{"$f":"VALUE(DINAMICA!$N756)","v":0},{"$f":"VALUE(DINAMICA!$O756)","v":0},{"$f":"VALUE(DINAMICA!$P756)","v":0},{"$f":"VALUE(DINAMICA!$Q756)","v":0},{"$f":"VALUE(DINAMICA!$R756)","v":0}]
[{"$f":"VALUE(DINAMICA!$A757)","v":0},{"$f":"VALUE(DINAMICA!$B757)","v":"00:00:00"},{"$f":"VALUE(DINAMICA!$C757)","v":0},{"$f":"DINAMICA!D757","v":0},{"$f":"DINAMICA!E757","v":0},{"$f":"DINAMICA!F757","v":0},{"$f":"DINAMICA!G757","v":0},{"$f":"DINAMICA!H757","v":0},{"$f":"DINAMICA!I757","v":0},{"$f":"DINAMICA!J757","v":0},{"$f":"DINAMICA!K757","v":0},{"$f":"VALUE(DINAMICA!$L757)","v":0},{"$f":"VALUE(DINAMICA!$M757)","v":0},{"$f":"VALUE(DINAMICA!$N757)","v":0},{"$f":"VALUE(DINAMICA!$O757)","v":0},{"$f":"VALUE(DINAMICA!$P757)","v":0},{"$f":"VALUE(DINAMICA!$Q757)","v":0},{"$f":"VALUE(DINAMICA!$R757)","v":0}]
[{"$f":"VALUE(DINAMICA!$A758)","v":0},{"$f":"VALUE(DINAMICA!$B758)","v":"00:00:00"},{"$f":"VALUE(DINAMICA!$C758)","v":0},{"$f":"DINAMICA!D758","v":0},{"$f":"DINAMICA!E758","v":0},{"$f":"DINAMICA!F758","v":0},{"$f":"DINAMICA!G758","v":0},{"$f":"DINAMICA!H758","v":0},{"$f":"DINAMICA!I758","v":0},{"$f":"DINAMICA!J758","v":0},{"$f":"DINAMICA!K758","v":0},{"$f":"VALUE(DINAMICA!$L758)","v":0},{"$f":"VALUE(DINAMICA!$M758)","v":0},{"$f":"VALUE(DINAMICA!$N758)","v":0},{"$f":"VALUE(DINAMICA!$O758)","v":0},{"$f":"VALUE(DINAMICA!$P758)","v":0},{"$f":"VALUE(DINAMICA!$Q758)","v":0},{"$f":"VALUE(DINAMICA!$R758)","v":0}]
[{"$f":"VALUE(DINAMICA!$A759)","v":0},{"$f":"VALUE(DINAMICA!$B759)","v":"00:00:00"},{"$f":"VALUE(DINAMICA!$C759)","v":0},{"$f":"DINAMICA!D759","v":0},{"$f":"DINAMICA!E759","v":0},{"$f":"DINAMICA!F759","v":0},{"$f":"DINAMICA!G759","v":0},{"$f":"DINAMICA!H759","v":0},{"$f":"DINAMICA!I759","v":0},{"$f":"DINAMICA!J759","v":0},{"$f":"DINAMICA!K759","v":0},{"$f":"VALUE(DINAMICA!$L759)","v":0},{"$f":"VALUE(DINAMICA!$M759)","v":0},{"$f":"VALUE(DINAMICA!$N759)","v":0},{"$f":"VALUE(DINAMICA!$O759)","v":0},{"$f":"VALUE(DINAMICA!$P759)","v":0},{"$f":"VALUE(DINAMICA!$Q759)","v":0},{"$f":"VALUE(DINAMICA!$R759)","v":0}]
[{"$f":"VALUE(DINAMICA!$A760)","v":0},{"$f":"VALUE(DINAMICA!$B760)","v":"00:00:00"},{"$f":"VALUE(DINAMICA!$C760)","v":0},{"$f":"DINAMICA!D760","v":0},{"$f":"DINAMICA!E760","v":0},{"$f":"DINAMICA!F760","v":0},{"$f":"DINAMICA!G760","v":0},{"$f":"DINAMICA!H760","v":0},{"$f":"DINAMICA!I760","v":0},{"$f":"DINAMICA!J760","v":0},{"$f":"DINAMICA!K760","v":0},{"$f":"VALUE(DINAMICA!$L760)","v":0},{"$f":"VALUE(DINAMICA!$M760)","v":0},{"$f":"VALUE(DINAMICA!$N760)","v":0},{"$f":"VALUE(DINAMICA!$O760)","v":0},{"$f":"VALUE(DINAMICA!$P760)","v":0},{"$f":"VALUE(DINAMICA!$Q760)","v":0},{"$f":"VALUE(DINAMICA!$R760)","v":0}]
[{"$f":"VALUE(DINAMICA!$A761)","v":0},{"$f":"VALUE(DINAMICA!$B761)","v":"00:00:00"},{"$f":"VALUE(DINAMICA!$C761)","v":0},{"$f":"DINAMICA!D761","v":0},{"$f":"DINAMICA!E761","v":0},{"$f":"DINAMICA!F761","v":0},{"$f":"DINAMICA!G761","v":0},{"$f":"DINAMICA!H761","v":0},{"$f":"DINAMICA!I761","v":0},{"$f":"DINAMICA!J761","v":0},{"$f":"DINAMICA!K761","v":0},{"$f":"VALUE(DINAMICA!$L761)","v":0},{"$f":"VALUE(DINAMICA!$M761)","v":0},{"$f":"VALUE(DINAMICA!$N761)","v":0},{"$f":"VALUE(DINAMICA!$O761)","v":0},{"$f":"VALUE(DINAMICA!$P761)","v":0},{"$f":"VALUE(DINAMICA!$Q761)","v":0},{"$f":"VALUE(DINAMICA!$R761)","v":0}]
[{"$f":"VALUE(DINAMICA!$A762)","v":0},{"$f":"VALUE(DINAMICA!$B762)","v":"00:00:00"},{"$f":"VALUE(DINAMICA!$C762)","v":0},{"$f":"DINAMICA!D762","v":0},{"$f":"DINAMICA!E762","v":0},{"$f":"DINAMICA!F762","v":0},{"$f":"DINAMICA!G762","v":0},{"$f":"DINAMICA!H762","v":0},{"$f":"DINAMICA!I762","v":0},{"$f":"DINAMICA!J762","v":0},{"$f":"DINAMICA!K762","v":0},{"$f":"VALUE(DINAMICA!$L762)","v":0},{"$f":"VALUE(DINAMICA!$M762)","v":0},{"$f":"VALUE(DINAMICA!$N762)","v":0},{"$f":"VALUE(DINAMICA!$O762)","v":0},{"$f":"VALUE(DINAMICA!$P762)","v":0},{"$f":"VALUE(DINAMICA!$Q762)","v":0},{"$f":"VALUE(DINAMICA!$R762)","v":0}]
[{"$f":"VALUE(DINAMICA!$A763)","v":0},{"$f":"VALUE(DINAMICA!$B763)","v":"00:00:00"},{"$f":"VALUE(DINAMICA!$C763)","v":0},{"$f":"DINAMICA!D763","v":0},{"$f":"DINAMICA!E763","v":0},{"$f":"DINAMICA!F763","v":0},{"$f":"DINAMICA!G763","v":0},{"$f":"DINAMICA!H763","v":0},{"$f":"DINAMICA!I763","v":0},{"$f":"DINAMICA!J763","v":0},{"$f":"DINAMICA!K763","v":0},{"$f":"VALUE(DINAMICA!$L763)","v":0},{"$f":"VALUE(DINAMICA!$M763)","v":0},{"$f":"VALUE(DINAMICA!$N763)","v":0},{"$f":"VALUE(DINAMICA!$O763)","v":0},{"$f":"VALUE(DINAMICA!$P763)","v":0},{"$f":"VALUE(DINAMICA!$Q763)","v":0},{"$f":"VALUE(DINAMICA!$R763)","v":0}]
[{"$f":"VALUE(DINAMICA!$A764)","v":0},{"$f":"VALUE(DINAMICA!$B764)","v":"00:00:00"},{"$f":"VALUE(DINAMICA!$C764)","v":0},{"$f":"DINAMICA!D764","v":0},{"$f":"DINAMICA!E764","v":0},{"$f":"DINAMICA!F764","v":0},{"$f":"DINAMICA!G764","v":0},{"$f":"DINAMICA!H764","v":0},{"$f":"DINAMICA!I764","v":0},{"$f":"DINAMICA!J764","v":0},{"$f":"DINAMICA!K764","v":0},{"$f":"VALUE(DINAMICA!$L764)","v":0},{"$f":"VALUE(DINAMICA!$M764)","v":0},{"$f":"VALUE(DINAMICA!$N764)","v":0},{"$f":"VALUE(DINAMICA!$O764)","v":0},{"$f":"VALUE(DINAMICA!$P764)","v":0},{"$f":"VALUE(DINAMICA!$Q764)","v":0},{"$f":"VALUE(DINAMICA!$R764)","v":0}]
[{"$f":"VALUE(DINAMICA!$A765)","v":0},{"$f":"VALUE(DINAMICA!$B765)","v":"00:00:00"},{"$f":"VALUE(DINAMICA!$C765)","v":0},{"$f":"DINAMICA!D765","v":0},{"$f":"DINAMICA!E765","v":0},{"$f":"DINAMICA!F765","v":0},{"$f":"DINAMICA!G765","v":0},{"$f":"DINAMICA!H765","v":0},{"$f":"DINAMICA!I765","v":0},{"$f":"DINAMICA!J765","v":0},{"$f":"DINAMICA!K765","v":0},{"$f":"VALUE(DINAMICA!$L765)","v":0},{"$f":"VALUE(DINAMICA!$M765)","v":0},{"$f":"VALUE(DINAMICA!$N765)","v":0},{"$f":"VALUE(DINAMICA!$O765)","v":0},{"$f":"VALUE(DINAMICA!$P765)","v":0},{"$f":"VALUE(DINAMICA!$Q765)","v":0},{"$f":"VALUE(DINAMICA!$R765)","v":0}]
[{"$f":"VALUE(DINAMICA!$A766)","v":0},{"$f":"VALUE(DINAMICA!$B766)","v":"00:00:00"},{"$f":"VALUE(DINAMICA!$C766)","v":0},{"$f":"DINAMICA!D766","v":0},{"$f":"DINAMICA!E766","v":0},{"$f":"DINAMICA!F766","v":0},{"$f":"DINAMICA!G766","v":0},{"$f":"DINAMICA!H766","v":0},{"$f":"DINAMICA!I766","v":0},{"$f":"DINAMICA!J766","v":0},{"$f":"DINAMICA!K766","v":0},{"$f":"VALUE(DINAMICA!$L766)","v":0},{"$f":"VALUE(DINAMICA!$M766)","v":0},{"$f":"VALUE(DINAMICA!$N766)","v":0},{"$f":"VALUE(DINAMICA!$O766)","v":0},{"$f":"VALUE(DINAMICA!$P766)","v":0},{"$f":"VALUE(DINAMICA!$Q766)","v":0},{"$f":"VALUE(DINAMICA!$R766)","v":0}]
[{"$f":"VALUE(DINAMICA!$A767)","v":0},{"$f":"VALUE(DINAMICA!$B767)","v":"00:00:00"},{"$f":"VALUE(DINAMICA!$C767)","v":0},{"$f":"DINAMICA!D767","v":0},{"$f":"DINAMICA!E767","v":0},{"$f":"DINAMICA!F767","v":0},{"$f":"DINAMICA!G767","v":0},{"$f":"DINAMICA!H767","v":0},{"$f":"DINAMICA!I767","v":0},{"$f":"DINAMICA!J767","v":0},{"$f":"DINAMICA!K767","v":0},{"$f":"VALUE(DINAMICA!$L767)","v":0},{"$f":"VALUE(DINAMICA!$M767)","v":0},{"$f":"VALUE(DINAMICA!$N767)","v":0},{"$f":"VALUE(DINAMICA!$O767)","v":0},{"$f":"VALUE(DINAMICA!$P767)","v":0},{"$f":"VALUE(DINAMICA!$Q767)","v":0},{"$f":"VALUE(DINAMICA!$R767)","v":0}]
[{"$f":"VALUE(DINAMICA!$A768)","v":0},{"$f":"VALUE(DINAMICA!$B768)","v":"00:00:00"},{"$f":"VALUE(DINAMICA!$C768)","v":0},{"$f":"DINAMICA!D768","v":0},{"$f":"DINAMICA!E768","v":0},{"$f":"DINAMICA!F768","v":0},{"$f":"DINAMICA!G768","v":0},{"$f":"DINAMICA!H768","v":0},{"$f":"DINAMICA!I768","v":0},{"$f":"DINAMICA!J768","v":0},{"$f":"DINAMICA!K768","v":0},{"$f":"VALUE(DINAMICA!$L768)","v":0},{"$f":"VALUE(DINAMICA!$M768)","v":0},{"$f":"VALUE(DINAMICA!$N768)","v":0},{"$f":"VALUE(DINAMICA!$O768)","v":0},{"$f":"VALUE(DINAMICA!$P768)","v":0},{"$f":"VALUE(DINAMICA!$Q768)","v":0},{"$f":"VALUE(DINAMICA!$R768)","v":0}]
[{"$f":"VALUE(DINAMICA!$A769)","v":0},{"$f":"VALUE(DINAMICA!$B769)","v":"00:00:00"},{"$f":"VALUE(DINAMICA!$C769)","v":0},{"$f":"DINAMICA!D769","v":0},{"$f":"DINAMICA!E769","v":0},{"$f":"DINAMICA!F769","v":0},{"$f":"DINAMICA!G769","v":0},{"$f":"DINAMICA!H769","v":0},{"$f":"DINAMICA!I769","v":0},{"$f":"DINAMICA!J769","v":0},{"$f":"DINAMICA!K769","v":0},{"$f":"VALUE(DINAMICA!$L769)","v":0},{"$f":"VALUE(DINAMICA!$M769)","v":0},{"$f":"VALUE(DINAMICA!$N769)","v":0},{"$f":"VALUE(DINAMICA!$O769)","v":0},{"$f":"VALUE(DINAMICA!$P769)","v":0},{"$f":"VALUE(DINAMICA!$Q769)","v":0},{"$f":"VALUE(DINAMICA!$R769)","v":0}]
[{"$f":"VALUE(DINAMICA!$A770)","v":0},{"$f":"VALUE(DINAMICA!$B770)","v":"00:00:00"},{"$f":"VALUE(DINAMICA!$C770)","v":0},{"$f":"DINAMICA!D770","v":0},{"$f":"DINAMICA!E770","v":0},{"$f":"DINAMICA!F770","v":0},{"$f":"DINAMICA!G770","v":0},{"$f":"DINAMICA!H770","v":0},{"$f":"DINAMICA!I770","v":0},{"$f":"DINAMICA!J770","v":0},{"$f":"DINAMICA!K770","v":0},{"$f":"VALUE(DINAMICA!$L770)","v":0},{"$f":"VALUE(DINAMICA!$M770)","v":0},{"$f":"VALUE(DINAMICA!$N770)","v":0},{"$f":"VALUE(DINAMICA!$O770)","v":0},{"$f":"VALUE(DINAMICA!$P770)","v":0},{"$f":"VALUE(DINAMICA!$Q770)","v":0},{"$f":"VALUE(DINAMICA!$R770)","v":0}]
[{"$f":"VALUE(DINAMICA!$A771)","v":0},{"$f":"VALUE(DINAMICA!$B771)","v":"00:00:00"},{"$f":"VALUE(DINAMICA!$C771)","v":0},{"$f":"DINAMICA!D771","v":0},{"$f":"DINAMICA!E771","v":0},{"$f":"DINAMICA!F771","v":0},{"$f":"DINAMICA!G771","v":0},{"$f":"DINAMICA!H771","v":0},{"$f":"DINAMICA!I771","v":0},{"$f":"DINAMICA!J771","v":0},{"$f":"DINAMICA!K771","v":0},{"$f":"VALUE(DINAMICA!$L771)","v":0},{"$f":"VALUE(DINAMICA!$M771)","v":0},{"$f":"VALUE(DINAMICA!$N771)","v":0},{"$f":"VALUE(DINAMICA!$O771)","v":0},{"$f":"VALUE(DINAMICA!$P771)","v":0},{"$f":"VALUE(DINAMICA!$Q771)","v":0},{"$f":"VALUE(DINAMICA!$R771)","v":0}]
[{"$f":"VALUE(DINAMICA!$A772)","v":0},{"$f":"VALUE(DINAMICA!$B772)","v":"00:00:00"},{"$f":"VALUE(DINAMICA!$C772)","v":0},{"$f":"DINAMICA!D772","v":0},{"$f":"DINAMICA!E772","v":0},{"$f":"DINAMICA!F772","v":0},{"$f":"DINAMICA!G772","v":0},{"$f":"DINAMICA!H772","v":0},{"$f":"DINAMICA!I772","v":0},{"$f":"DINAMICA!J772","v":0},{"$f":"DINAMICA!K772","v":0},{"$f":"VALUE(DINAMICA!$L772)","v":0},{"$f":"VALUE(DINAMICA!$M772)","v":0},{"$f":"VALUE(DINAMICA!$N772)","v":0},{"$f":"VALUE(DINAMICA!$O772)","v":0},{"$f":"VALUE(DINAMICA!$P772)","v":0},{"$f":"VALUE(DINAMICA!$Q772)","v":0},{"$f":"VALUE(DINAMICA!$R772)","v":0}]
[{"$f":"VALUE(DINAMICA!$A773)","v":0},{"$f":"VALUE(DINAMICA!$B773)","v":"00:00:00"},{"$f":"VALUE(DINAMICA!$C773)","v":0},{"$f":"DINAMICA!D773","v":0},{"$f":"DINAMICA!E773","v":0},{"$f":"DINAMICA!F773","v":0},{"$f":"DINAMICA!G773","v":0},{"$f":"DINAMICA!H773","v":0},{"$f":"DINAMICA!I773","v":0},{"$f":"DINAMICA!J773","v":0},{"$f":"DINAMICA!K773","v":0},{"$f":"VALUE(DINAMICA!$L773)","v":0},{"$f":"VALUE(DINAMICA!$M773)","v":0},{"$f":"VALUE(DINAMICA!$N773)","v":0},{"$f":"VALUE(DINAMICA!$O773)","v":0},{"$f":"VALUE(DINAMICA!$P773)","v":0},{"$f":"VALUE(DINAMICA!$Q773)","v":0},{"$f":"VALUE(DINAMICA!$R773)","v":0}]
[{"$f":"VALUE(DINAMICA!$A774)","v":0},{"$f":"VALUE(DINAMICA!$B774)","v":"00:00:00"},{"$f":"VALUE(DINAMICA!$C774)","v":0},{"$f":"DINAMICA!D774","v":0},{"$f":"DINAMICA!E774","v":0},{"$f":"DINAMICA!F774","v":0},{"$f":"DINAMICA!G774","v":0},{"$f":"DINAMICA!H774","v":0},{"$f":"DINAMICA!I774","v":0},{"$f":"DINAMICA!J774","v":0},{"$f":"DINAMICA!K774","v":0},{"$f":"VALUE(DINAMICA!$L774)","v":0},{"$f":"VALUE(DINAMICA!$M774)","v":0},{"$f":"VALUE(DINAMICA!$N774)","v":0},{"$f":"VALUE(DINAMICA!$O774)","v":0},{"$f":"VALUE(DINAMICA!$P774)","v":0},{"$f":"VALUE(DINAMICA!$Q774)","v":0},{"$f":"VALUE(DINAMICA!$R774)","v":0}]
[{"$f":"VALUE(DINAMICA!$A775)","v":0},{"$f":"VALUE(DINAMICA!$B775)","v":"00:00:00"},{"$f":"VALUE(DINAMICA!$C775)","v":0},{"$f":"DINAMICA!D775","v":0},{"$f":"DINAMICA!E775","v":0},{"$f":"DINAMICA!F775","v":0},{"$f":"DINAMICA!G775","v":0},{"$f":"DINAMICA!H775","v":0},{"$f":"DINAMICA!I775","v":0},{"$f":"DINAMICA!J775","v":0},{"$f":"DINAMICA!K775","v":0},{"$f":"VALUE(DINAMICA!$L775)","v":0},{"$f":"VALUE(DINAMICA!$M775)","v":0},{"$f":"VALUE(DINAMICA!$N775)","v":0},{"$f":"VALUE(DINAMICA!$O775)","v":0},{"$f":"VALUE(DINAMICA!$P775)","v":0},{"$f":"VALUE(DINAMICA!$Q775)","v":0},{"$f":"VALUE(DINAMICA!$R775)","v":0}]
[{"$f":"VALUE(DINAMICA!$A776)","v":0},{"$f":"VALUE(DINAMICA!$B776)","v":"00:00:00"},{"$f":"VALUE(DINAMICA!$C776)","v":0},{"$f":"DINAMICA!D776","v":0},{"$f":"DINAMICA!E776","v":0},{"$f":"DINAMICA!F776","v":0},{"$f":"DINAMICA!G776","v":0},{"$f":"DINAMICA!H776","v":0},{"$f":"DINAMICA!I776","v":0},{"$f":"DINAMICA!J776","v":0},{"$f":"DINAMICA!K776","v":0},{"$f":"VALUE(DINAMICA!$L776)","v":0},{"$f":"VALUE(DINAMICA!$M776)","v":0},{"$f":"VALUE(DINAMICA!$N776)","v":0},{"$f":"VALUE(DINAMICA!$O776)","v":0},{"$f":"VALUE(DINAMICA!$P776)","v":0},{"$f":"VALUE(DINAMICA!$Q776)","v":0},{"$f":"VALUE(DINAMICA!$R776)","v":0}]
[{"$f":"VALUE(DINAMICA!$A777)","v":0},{"$f":"VALUE(DINAMICA!$B777)","v":"00:00:00"},{"$f":"VALUE(DINAMICA!$C777)","v":0},{"$f":"DINAMICA!D777","v":0},{"$f":"DINAMICA!E777","v":0},{"$f":"DINAMICA!F777","v":0},{"$f":"DINAMICA!G777","v":0},{"$f":"DINAMICA!H777","v":0},{"$f":"DINAMICA!I777","v":0},{"$f":"DINAMICA!J777","v":0},{"$f":"DINAMICA!K777","v":0},{"$f":"VALUE(DINAMICA!$L777)","v":0},{"$f":"VALUE(DINAMICA!$M777)","v":0},{"$f":"VALUE(DINAMICA!$N777)","v":0},{"$f":"VALUE(DINAMICA!$O777)","v":0},{"$f":"VALUE(DINAMICA!$P777)","v":0},{"$f":"VALUE(DINAMICA!$Q777)","v":0},{"$f":"VALUE(DINAMICA!$R777)","v":0}]
[{"$f":"VALUE(DINAMICA!$A778)","v":0},{"$f":"VALUE(DINAMICA!$B778)","v":"00:00:00"},{"$f":"VALUE(DINAMICA!$C778)","v":0},{"$f":"DINAMICA!D778","v":0},{"$f":"DINAMICA!E778","v":0},{"$f":"DINAMICA!F778","v":0},{"$f":"DINAMICA!G778","v":0},{"$f":"DINAMICA!H778","v":0},{"$f":"DINAMICA!I778","v":0},{"$f":"DINAMICA!J778","v":0},{"$f":"DINAMICA!K778","v":0},{"$f":"VALUE(DINAMICA!$L778)","v":0},{"$f":"VALUE(DINAMICA!$M778)","v":0},{"$f":"VALUE(DINAMICA!$N778)","v":0},{"$f":"VALUE(DINAMICA!$O778)","v":0},{"$f":"VALUE(DINAMICA!$P778)","v":0},{"$f":"VALUE(DINAMICA!$Q778)","v":0},{"$f":"VALUE(DINAMICA!$R778)","v":0}]
[{"$f":"VALUE(DINAMICA!$A779)","v":0},{"$f":"VALUE(DINAMICA!$B779)","v":"00:00:00"},{"$f":"VALUE(DINAMICA!$C779)","v":0},{"$f":"DINAMICA!D779","v":0},{"$f":"DINAMICA!E779","v":0},{"$f":"DINAMICA!F779","v":0},{"$f":"DINAMICA!G779","v":0},{"$f":"DINAMICA!H779","v":0},{"$f":"DINAMICA!I779","v":0},{"$f":"DINAMICA!J779","v":0},{"$f":"DINAMICA!K779","v":0},{"$f":"VALUE(DINAMICA!$L779)","v":0},{"$f":"VALUE(DINAMICA!$M779)","v":0},{"$f":"VALUE(DINAMICA!$N779)","v":0},{"$f":"VALUE(DINAMICA!$O779)","v":0},{"$f":"VALUE(DINAMICA!$P779)","v":0},{"$f":"VALUE(DINAMICA!$Q779)","v":0},{"$f":"VALUE(DINAMICA!$R779)","v":0}]
[{"$f":"VALUE(DINAMICA!$A780)","v":0},{"$f":"VALUE(DINAMICA!$B780)","v":"00:00:00"},{"$f":"VALUE(DINAMICA!$C780)","v":0},{"$f":"DINAMICA!D780","v":0},{"$f":"DINAMICA!E780","v":0},{"$f":"DINAMICA!F780","v":0},{"$f":"DINAMICA!G780","v":0},{"$f":"DINAMICA!H780","v":0},{"$f":"DINAMICA!I780","v":0},{"$f":"DINAMICA!J780","v":0},{"$f":"DINAMICA!K780","v":0},{"$f":"VALUE(DINAMICA!$L780)","v":0},{"$f":"VALUE(DINAMICA!$M780)","v":0},{"$f":"VALUE(DINAMICA!$N780)","v":0},{"$f":"VALUE(DINAMICA!$O780)","v":0},{"$f":"VALUE(DINAMICA!$P780)","v":0},{"$f":"VALUE(DINAMICA!$Q780)","v":0},{"$f":"VALUE(DINAMICA!$R780)","v":0}]
[{"$f":"VALUE(DINAMICA!$A781)","v":0},{"$f":"VALUE(DINAMICA!$B781)","v":"00:00:00"},{"$f":"VALUE(DINAMICA!$C781)","v":0},{"$f":"DINAMICA!D781","v":0},{"$f":"DINAMICA!E781","v":0},{"$f":"DINAMICA!F781","v":0},{"$f":"DINAMICA!G781","v":0},{"$f":"DINAMICA!H781","v":0},{"$f":"DINAMICA!I781","v":0},{"$f":"DINAMICA!J781","v":0},{"$f":"DINAMICA!K781","v":0},{"$f":"VALUE(DINAMICA!$L781)","v":0},{"$f":"VALUE(DINAMICA!$M781)","v":0},{"$f":"VALUE(DINAMICA!$N781)","v":0},{"$f":"VALUE(DINAMICA!$O781)","v":0},{"$f":"VALUE(DINAMICA!$P781)","v":0},{"$f":"VALUE(DINAMICA!$Q781)","v":0},{"$f":"VALUE(DINAMICA!$R781)","v":0}]
[{"$f":"VALUE(DINAMICA!$A782)","v":0},{"$f":"VALUE(DINAMICA!$B782)","v":"00:00:00"},{"$f":"VALUE(DINAMICA!$C782)","v":0},{"$f":"DINAMICA!D782","v":0},{"$f":"DINAMICA!E782","v":0},{"$f":"DINAMICA!F782","v":0},{"$f":"DINAMICA!G782","v":0},{"$f":"DINAMICA!H782","v":0},{"$f":"DINAMICA!I782","v":0},{"$f":"DINAMICA!J782","v":0},{"$f":"DINAMICA!K782","v":0},{"$f":"VALUE(DINAMICA!$L782)","v":0},{"$f":"VALUE(DINAMICA!$M782)","v":0},{"$f":"VALUE(DINAMICA!$N782)","v":0},{"$f":"VALUE(DINAMICA!$O782)","v":0},{"$f":"VALUE(DINAMICA!$P782)","v":0},{"$f":"VALUE(DINAMICA!$Q782)","v":0},{"$f":"VALUE(DINAMICA!$R782)","v":0}]
[{"$f":"VALUE(DINAMICA!$A783)","v":0},{"$f":"VALUE(DINAMICA!$B783)","v":"00:00:00"},{"$f":"VALUE(DINAMICA!$C783)","v":0},{"$f":"DINAMICA!D783","v":0},{"$f":"DINAMICA!E783","v":0},{"$f":"DINAMICA!F783","v":0},{"$f":"DINAMICA!G783","v":0},{"$f":"DINAMICA!H783","v":0},{"$f":"DINAMICA!I783","v":0},{"$f":"DINAMICA!J783","v":0},{"$f":"DINAMICA!K783","v":0},{"$f":"VALUE(DINAMICA!$L783)","v":0},{"$f":"VALUE(DINAMICA!$M783)","v":0},{"$f":"VALUE(DINAMICA!$N783)","v":0},{"$f":"VALUE(DINAMICA!$O783)","v":0},{"$f":"VALUE(DINAMICA!$P783)","v":0},{"$f":"VALUE(DINAMICA!$Q783)","v":0},{"$f":"VALUE(DINAMICA!$R783)","v":0}]
[{"$f":"VALUE(DINAMICA!$A784)","v":0},{"$f":"VALUE(DINAMICA!$B784)","v":"00:00:00"},{"$f":"VALUE(DINAMICA!$C784)","v":0},{"$f":"DINAMICA!D784","v":0},{"$f":"DINAMICA!E784","v":0},{"$f":"DINAMICA!F784","v":0},{"$f":"DINAMICA!G784","v":0},{"$f":"DINAMICA!H784","v":0},{"$f":"DINAMICA!I784","v":0},{"$f":"DINAMICA!J784","v":0},{"$f":"DINAMICA!K784","v":0},{"$f":"VALUE(DINAMICA!$L784)","v":0},{"$f":"VALUE(DINAMICA!$M784)","v":0},{"$f":"VALUE(DINAMICA!$N784)","v":0},{"$f":"VALUE(DINAMICA!$O784)","v":0},{"$f":"VALUE(DINAMICA!$P784)","v":0},{"$f":"VALUE(DINAMICA!$Q784)","v":0},{"$f":"VALUE(DINAMICA!$R784)","v":0}]
[{"$f":"VALUE(DINAMICA!$A785)","v":0},{"$f":"VALUE(DINAMICA!$B785)","v":"00:00:00"},{"$f":"VALUE(DINAMICA!$C785)","v":0},{"$f":"DINAMICA!D785","v":0},{"$f":"DINAMICA!E785","v":0},{"$f":"DINAMICA!F785","v":0},{"$f":"DINAMICA!G785","v":0},{"$f":"DINAMICA!H785","v":0},{"$f":"DINAMICA!I785","v":0},{"$f":"DINAMICA!J785","v":0},{"$f":"DINAMICA!K785","v":0},{"$f":"VALUE(DINAMICA!$L785)","v":0},{"$f":"VALUE(DINAMICA!$M785)","v":0},{"$f":"VALUE(DINAMICA!$N785)","v":0},{"$f":"VALUE(DINAMICA!$O785)","v":0},{"$f":"VALUE(DINAMICA!$P785)","v":0},{"$f":"VALUE(DINAMICA!$Q785)","v":0},{"$f":"VALUE(DINAMICA!$R785)","v":0}]
[{"$f":"VALUE(DINAMICA!$A786)","v":0},{"$f":"VALUE(DINAMICA!$B786)","v":"00:00:00"},{"$f":"VALUE(DINAMICA!$C786)","v":0},{"$f":"DINAMICA!D786","v":0},{"$f":"DINAMICA!E786","v":0},{"$f":"DINAMICA!F786","v":0},{"$f":"DINAMICA!G786","v":0},{"$f":"DINAMICA!H786","v":0},{"$f":"DINAMICA!I786","v":0},{"$f":"DINAMICA!J786","v":0},{"$f":"DINAMICA!K786","v":0},{"$f":"VALUE(DINAMICA!$L786)","v":0},{"$f":"VALUE(DINAMICA!$M786)","v":0},{"$f":"VALUE(DINAMICA!$N786)","v":0},{"$f":"VALUE(DINAMICA!$O786)","v":0},{"$f":"VALUE(DINAMICA!$P786)","v":0},{"$f":"VALUE(DINAMICA!$Q786)","v":0},{"$f":"VALUE(DINAMICA!$R786)","v":0}]
[{"$f":"VALUE(DINAMICA!$A787)","v":0},{"$f":"VALUE(DINAMICA!$B787)","v":"00:00:00"},{"$f":"VALUE(DINAMICA!$C787)","v":0},{"$f":"DINAMICA!D787","v":0},{"$f":"DINAMICA!E787","v":0},{"$f":"DINAMICA!F787","v":0},{"$f":"DINAMICA!G787","v":0},{"$f":"DINAMICA!H787","v":0},{"$f":"DINAMICA!I787","v":0},{"$f":"DINAMICA!J787","v":0},{"$f":"DINAMICA!K787","v":0},{"$f":"VALUE(DINAMICA!$L787)","v":0},{"$f":"VALUE(DINAMICA!$M787)","v":0},{"$f":"VALUE(DINAMICA!$N787)","v":0},{"$f":"VALUE(DINAMICA!$O787)","v":0},{"$f":"VALUE(DINAMICA!$P787)","v":0},{"$f":"VALUE(DINAMICA!$Q787)","v":0},{"$f":"VALUE(DINAMICA!$R787)","v":0}]
[{"$f":"VALUE(DINAMICA!$A788)","v":0},{"$f":"VALUE(DINAMICA!$B788)","v":"00:00:00"},{"$f":"VALUE(DINAMICA!$C788)","v":0},{"$f":"DINAMICA!D788","v":0},{"$f":"DINAMICA!E788","v":0},{"$f":"DINAMICA!F788","v":0},{"$f":"DINAMICA!G788","v":0},{"$f":"DINAMICA!H788","v":0},{"$f":"DINAMICA!I788","v":0},{"$f":"DINAMICA!J788","v":0},{"$f":"DINAMICA!K788","v":0},{"$f":"VALUE(DINAMICA!$L788)","v":0},{"$f":"VALUE(DINAMICA!$M788)","v":0},{"$f":"VALUE(DINAMICA!$N788)","v":0},{"$f":"VALUE(DINAMICA!$O788)","v":0},{"$f":"VALUE(DINAMICA!$P788)","v":0},{"$f":"VALUE(DINAMICA!$Q788)","v":0},{"$f":"VALUE(DINAMICA!$R788)","v":0}]
[{"$f":"VALUE(DINAMICA!$A789)","v":0},{"$f":"VALUE(DINAMICA!$B789)","v":"00:00:00"},{"$f":"VALUE(DINAMICA!$C789)","v":0},{"$f":"DINAMICA!D789","v":0},{"$f":"DINAMICA!E789","v":0},{"$f":"DINAMICA!F789","v":0},{"$f":"DINAMICA!G789","v":0},{"$f":"DINAMICA!H789","v":0},{"$f":"DINAMICA!I789","v":0},{"$f":"DINAMICA!J789","v":0},{"$f":"DINAMICA!K789","v":0},{"$f":"VALUE(DINAMICA!$L789)","v":0},{"$f":"VALUE(DINAMICA!$M789)","v":0},{"$f":"VALUE(DINAMICA!$N789)","v":0},{"$f":"VALUE(DINAMICA!$O789)","v":0},{"$f":"VALUE(DINAMICA!$P789)","v":0},{"$f":"VALUE(DINAMICA!$Q789)","v":0},{"$f":"VALUE(DINAMICA!$R789)","v":0}]
[{"$f":"VALUE(DINAMICA!$A790)","v":0},{"$f":"VALUE(DINAMICA!$B790)","v":"00:00:00"},{"$f":"VALUE(DINAMICA!$C790)","v":0},{"$f":"DINAMICA!D790","v":0},{"$f":"DINAMICA!E790","v":0},{"$f":"DINAMICA!F790","v":0},{"$f":"DINAMICA!G790","v":0},{"$f":"DINAMICA!H790","v":0},{"$f":"DINAMICA!I790","v":0},{"$f":"DINAMICA!J790","v":0},{"$f":"DINAMICA!K790","v":0},{"$f":"VALUE(DINAMICA!$L790)","v":0},{"$f":"VALUE(DINAMICA!$M790)","v":0},{"$f":"VALUE(DINAMICA!$N790)","v":0},{"$f":"VALUE(DINAMICA!$O790)","v":0},{"$f":"VALUE(DINAMICA!$P790)","v":0},{"$f":"VALUE(DINAMICA!$Q790)","v":0},{"$f":"VALUE(DINAMICA!$R790)","v":0}]
[{"$f":"VALUE(DINAMICA!$A791)","v":0},{"$f":"VALUE(DINAMICA!$B791)","v":"00:00:00"},{"$f":"VALUE(DINAMICA!$C791)","v":0},{"$f":"DINAMICA!D791","v":0},{"$f":"DINAMICA!E791","v":0},{"$f":"DINAMICA!F791","v":0},{"$f":"DINAMICA!G791","v":0},{"$f":"DINAMICA!H791","v":0},{"$f":"DINAMICA!I791","v":0},{"$f":"DINAMICA!J791","v":0},{"$f":"DINAMICA!K791","v":0},{"$f":"VALUE(DINAMICA!$L791)","v":0},{"$f":"VALUE(DINAMICA!$M791)","v":0},{"$f":"VALUE(DINAMICA!$N791)","v":0},{"$f":"VALUE(DINAMICA!$O791)","v":0},{"$f":"VALUE(DINAMICA!$P791)","v":0},{"$f":"VALUE(DINAMICA!$Q791)","v":0},{"$f":"VALUE(DINAMICA!$R791)","v":0}]
[{"$f":"VALUE(DINAMICA!$A792)","v":0},{"$f":"VALUE(DINAMICA!$B792)","v":"00:00:00"},{"$f":"VALUE(DINAMICA!$C792)","v":0},{"$f":"DINAMICA!D792","v":0},{"$f":"DINAMICA!E792","v":0},{"$f":"DINAMICA!F792","v":0},{"$f":"DINAMICA!G792","v":0},{"$f":"DINAMICA!H792","v":0},{"$f":"DINAMICA!I792","v":0},{"$f":"DINAMICA!J792","v":0},{"$f":"DINAMICA!K792","v":0},{"$f":"VALUE(DINAMICA!$L792)","v":0},{"$f":"VALUE(DINAMICA!$M792)","v":0},{"$f":"VALUE(DINAMICA!$N792)","v":0},{"$f":"VALUE(DINAMICA!$O792)","v":0},{"$f":"VALUE(DINAMICA!$P792)","v":0},{"$f":"VALUE(DINAMICA!$Q792)","v":0},{"$f":"VALUE(DINAMICA!$R792)","v":0}]
[{"$f":"VALUE(DINAMICA!$A793)","v":0},{"$f":"VALUE(DINAMICA!$B793)","v":"00:00:00"},{"$f":"VALUE(DINAMICA!$C793)","v":0},{"$f":"DINAMICA!D793","v":0},{"$f":"DINAMICA!E793","v":0},{"$f":"DINAMICA!F793","v":0},{"$f":"DINAMICA!G793","v":0},{"$f":"DINAMICA!H793","v":0},{"$f":"DINAMICA!I793","v":0},{"$f":"DINAMICA!J793","v":0},{"$f":"DINAMICA!K793","v":0},{"$f":"VALUE(DINAMICA!$L793)","v":0},{"$f":"VALUE(DINAMICA!$M793)","v":0},{"$f":"VALUE(DINAMICA!$N793)","v":0},{"$f":"VALUE(DINAMICA!$O793)","v":0},{"$f":"VALUE(DINAMICA!$P793)","v":0},{"$f":"VALUE(DINAMICA!$Q793)","v":0},{"$f":"VALUE(DINAMICA!$R793)","v":0}]
[{"$f":"VALUE(DINAMICA!$A794)","v":0},{"$f":"VALUE(DINAMICA!$B794)","v":"00:00:00"},{"$f":"VALUE(DINAMICA!$C794)","v":0},{"$f":"DINAMICA!D794","v":0},{"$f":"DINAMICA!E794","v":0},{"$f":"DINAMICA!F794","v":0},{"$f":"DINAMICA!G794","v":0},{"$f":"DINAMICA!H794","v":0},{"$f":"DINAMICA!I794","v":0},{"$f":"DINAMICA!J794","v":0},{"$f":"DINAMICA!K794","v":0},{"$f":"VALUE(DINAMICA!$L794)","v":0},{"$f":"VALUE(DINAMICA!$M794)","v":0},{"$f":"VALUE(DINAMICA!$N794)","v":0},{"$f":"VALUE(DINAMICA!$O794)","v":0},{"$f":"VALUE(DINAMICA!$P794)","v":0},{"$f":"VALUE(DINAMICA!$Q794)","v":0},{"$f":"VALUE(DINAMICA!$R794)","v":0}]
[{"$f":"VALUE(DINAMICA!$A795)","v":0},{"$f":"VALUE(DINAMICA!$B795)","v":"00:00:00"},{"$f":"VALUE(DINAMICA!$C795)","v":0},{"$f":"DINAMICA!D795","v":0},{"$f":"DINAMICA!E795","v":0},{"$f":"DINAMICA!F795","v":0},{"$f":"DINAMICA!G795","v":0},{"$f":"DINAMICA!H795","v":0},{"$f":"DINAMICA!I795","v":0},{"$f":"DINAMICA!J795","v":0},{"$f":"DINAMICA!K795","v":0},{"$f":"VALUE(DINAMICA!$L795)","v":0},{"$f":"VALUE(DINAMICA!$M795)","v":0},{"$f":"VALUE(DINAMICA!$N795)","v":0},{"$f":"VALUE(DINAMICA!$O795)","v":0},{"$f":"VALUE(DINAMICA!$P795)","v":0},{"$f":"VALUE(DINAMICA!$Q795)","v":0},{"$f":"VALUE(DINAMICA!$R795)","v":0}]
[{"$f":"VALUE(DINAMICA!$A796)","v":0},{"$f":"VALUE(DINAMICA!$B796)","v":"00:00:00"},{"$f":"VALUE(DINAMICA!$C796)","v":0},{"$f":"DINAMICA!D796","v":0},{"$f":"DINAMICA!E796","v":0},{"$f":"DINAMICA!F796","v":0},{"$f":"DINAMICA!G796","v":0},{"$f":"DINAMICA!H796","v":0},{"$f":"DINAMICA!I796","v":0},{"$f":"DINAMICA!J796","v":0},{"$f":"DINAMICA!K796","v":0},{"$f":"VALUE(DINAMICA!$L796)","v":0},{"$f":"VALUE(DINAMICA!$M796)","v":0},{"$f":"VALUE(DINAMICA!$N796)","v":0},{"$f":"VALUE(DINAMICA!$O796)","v":0},{"$f":"VALUE(DINAMICA!$P796)","v":0},{"$f":"VALUE(DINAMICA!$Q796)","v":0},{"$f":"VALUE(DINAMICA!$R796)","v":0}]
[{"$f":"VALUE(DINAMICA!$A797)","v":0},{"$f":"VALUE(DINAMICA!$B797)","v":"00:00:00"},{"$f":"VALUE(DINAMICA!$C797)","v":0},{"$f":"DINAMICA!D797","v":0},{"$f":"DINAMICA!E797","v":0},{"$f":"DINAMICA!F797","v":0},{"$f":"DINAMICA!G797","v":0},{"$f":"DINAMICA!H797","v":0},{"$f":"DINAMICA!I797","v":0},{"$f":"DINAMICA!J797","v":0},{"$f":"DINAMICA!K797","v":0},{"$f":"VALUE(DINAMICA!$L797)","v":0},{"$f":"VALUE(DINAMICA!$M797)","v":0},{"$f":"VALUE(DINAMICA!$N797)","v":0},{"$f":"VALUE(DINAMICA!$O797)","v":0},{"$f":"VALUE(DINAMICA!$P797)","v":0},{"$f":"VALUE(DINAMICA!$Q797)","v":0},{"$f":"VALUE(DINAMICA!$R797)","v":0}]
[{"$f":"VALUE(DINAMICA!$A798)","v":0},{"$f":"VALUE(DINAMICA!$B798)","v":"00:00:00"},{"$f":"VALUE(DINAMICA!$C798)","v":0},{"$f":"DINAMICA!D798","v":0},{"$f":"DINAMICA!E798","v":0},{"$f":"DINAMICA!F798","v":0},{"$f":"DINAMICA!G798","v":0},{"$f":"DINAMICA!H798","v":0},{"$f":"DINAMICA!I798","v":0},{"$f":"DINAMICA!J798","v":0},{"$f":"DINAMICA!K798","v":0},{"$f":"VALUE(DINAMICA!$L798)","v":0},{"$f":"VALUE(DINAMICA!$M798)","v":0},{"$f":"VALUE(DINAMICA!$N798)","v":0},{"$f":"VALUE(DINAMICA!$O798)","v":0},{"$f":"VALUE(DINAMICA!$P798)","v":0},{"$f":"VALUE(DINAMICA!$Q798)","v":0},{"$f":"VALUE(DINAMICA!$R798)","v":0}]
[{"$f":"VALUE(DINAMICA!$A799)","v":0},{"$f":"VALUE(DINAMICA!$B799)","v":"00:00:00"},{"$f":"VALUE(DINAMICA!$C799)","v":0},{"$f":"DINAMICA!D799","v":0},{"$f":"DINAMICA!E799","v":0},{"$f":"DINAMICA!F799","v":0},{"$f":"DINAMICA!G799","v":0},{"$f":"DINAMICA!H799","v":0},{"$f":"DINAMICA!I799","v":0},{"$f":"DINAMICA!J799","v":0},{"$f":"DINAMICA!K799","v":0},{"$f":"VALUE(DINAMICA!$L799)","v":0},{"$f":"VALUE(DINAMICA!$M799)","v":0},{"$f":"VALUE(DINAMICA!$N799)","v":0},{"$f":"VALUE(DINAMICA!$O799)","v":0},{"$f":"VALUE(DINAMICA!$P799)","v":0},{"$f":"VALUE(DINAMICA!$Q799)","v":0},{"$f":"VALUE(DINAMICA!$R799)","v":0}]
[{"$f":"VALUE(DINAMICA!$A800)","v":0},{"$f":"VALUE(DINAMICA!$B800)","v":"00:00:00"},{"$f":"VALUE(DINAMICA!$C800)","v":0},{"$f":"DINAMICA!D800","v":0},{"$f":"DINAMICA!E800","v":0},{"$f":"DINAMICA!F800","v":0},{"$f":"DINAMICA!G800","v":0},{"$f":"DINAMICA!H800","v":0},{"$f":"DINAMICA!I800","v":0},{"$f":"DINAMICA!J800","v":0},{"$f":"DINAMICA!K800","v":0},{"$f":"VALUE(DINAMICA!$L800)","v":0},{"$f":"VALUE(DINAMICA!$M800)","v":0},{"$f":"VALUE(DINAMICA!$N800)","v":0},{"$f":"VALUE(DINAMICA!$O800)","v":0},{"$f":"VALUE(DINAMICA!$P800)","v":0},{"$f":"VALUE(DINAMICA!$Q800)","v":0},{"$f":"VALUE(DINAMICA!$R800)","v":0}]
[{"$f":"VALUE(DINAMICA!$A801)","v":0},{"$f":"VALUE(DINAMICA!$B801)","v":"00:00:00"},{"$f":"VALUE(DINAMICA!$C801)","v":0},{"$f":"DINAMICA!D801","v":0},{"$f":"DINAMICA!E801","v":0},{"$f":"DINAMICA!F801","v":0},{"$f":"DINAMICA!G801","v":0},{"$f":"DINAMICA!H801","v":0},{"$f":"DINAMICA!I801","v":0},{"$f":"DINAMICA!J801","v":0},{"$f":"DINAMICA!K801","v":0},{"$f":"VALUE(DINAMICA!$L801)","v":0},{"$f":"VALUE(DINAMICA!$M801)","v":0},{"$f":"VALUE(DINAMICA!$N801)","v":0},{"$f":"VALUE(DINAMICA!$O801)","v":0},{"$f":"VALUE(DINAMICA!$P801)","v":0},{"$f":"VALUE(DINAMICA!$Q801)","v":0},{"$f":"VALUE(DINAMICA!$R801)","v":0}]
[{"$f":"VALUE(DINAMICA!$A802)","v":0},{"$f":"VALUE(DINAMICA!$B802)","v":"00:00:00"},{"$f":"VALUE(DINAMICA!$C802)","v":0},{"$f":"DINAMICA!D802","v":0},{"$f":"DINAMICA!E802","v":0},{"$f":"DINAMICA!F802","v":0},{"$f":"DINAMICA!G802","v":0},{"$f":"DINAMICA!H802","v":0},{"$f":"DINAMICA!I802","v":0},{"$f":"DINAMICA!J802","v":0},{"$f":"DINAMICA!K802","v":0},{"$f":"VALUE(DINAMICA!$L802)","v":0},{"$f":"VALUE(DINAMICA!$M802)","v":0},{"$f":"VALUE(DINAMICA!$N802)","v":0},{"$f":"VALUE(DINAMICA!$O802)","v":0},{"$f":"VALUE(DINAMICA!$P802)","v":0},{"$f":"VALUE(DINAMICA!$Q802)","v":0},{"$f":"VALUE(DINAMICA!$R802)","v":0}]
[{"$f":"VALUE(DINAMICA!$A803)","v":0},{"$f":"VALUE(DINAMICA!$B803)","v":"00:00:00"},{"$f":"VALUE(DINAMICA!$C803)","v":0},{"$f":"DINAMICA!D803","v":0},{"$f":"DINAMICA!E803","v":0},{"$f":"DINAMICA!F803","v":0},{"$f":"DINAMICA!G803","v":0},{"$f":"DINAMICA!H803","v":0},{"$f":"DINAMICA!I803","v":0},{"$f":"DINAMICA!J803","v":0},{"$f":"DINAMICA!K803","v":0},{"$f":"VALUE(DINAMICA!$L803)","v":0},{"$f":"VALUE(DINAMICA!$M803)","v":0},{"$f":"VALUE(DINAMICA!$N803)","v":0},{"$f":"VALUE(DINAMICA!$O803)","v":0},{"$f":"VALUE(DINAMICA!$P803)","v":0},{"$f":"VALUE(DINAMICA!$Q803)","v":0},{"$f":"VALUE(DINAMICA!$R803)","v":0}]
[{"$f":"VALUE(DINAMICA!$A804)","v":0},{"$f":"VALUE(DINAMICA!$B804)","v":"00:00:00"},{"$f":"VALUE(DINAMICA!$C804)","v":0},{"$f":"DINAMICA!D804","v":0},{"$f":"DINAMICA!E804","v":0},{"$f":"DINAMICA!F804","v":0},{"$f":"DINAMICA!G804","v":0},{"$f":"DINAMICA!H804","v":0},{"$f":"DINAMICA!I804","v":0},{"$f":"DINAMICA!J804","v":0},{"$f":"DINAMICA!K804","v":0},{"$f":"VALUE(DINAMICA!$L804)","v":0},{"$f":"VALUE(DINAMICA!$M804)","v":0},{"$f":"VALUE(DINAMICA!$N804)","v":0},{"$f":"VALUE(DINAMICA!$O804)","v":0},{"$f":"VALUE(DINAMICA!$P804)","v":0},{"$f":"VALUE(DINAMICA!$Q804)","v":0},{"$f":"VALUE(DINAMICA!$R804)","v":0}]
[{"$f":"VALUE(DINAMICA!$A805)","v":0},{"$f":"VALUE(DINAMICA!$B805)","v":"00:00:00"},{"$f":"VALUE(DINAMICA!$C805)","v":0},{"$f":"DINAMICA!D805","v":0},{"$f":"DINAMICA!E805","v":0},{"$f":"DINAMICA!F805","v":0},{"$f":"DINAMICA!G805","v":0},{"$f":"DINAMICA!H805","v":0},{"$f":"DINAMICA!I805","v":0},{"$f":"DINAMICA!J805","v":0},{"$f":"DINAMICA!K805","v":0},{"$f":"VALUE(DINAMICA!$L805)","v":0},{"$f":"VALUE(DINAMICA!$M805)","v":0},{"$f":"VALUE(DINAMICA!$N805)","v":0},{"$f":"VALUE(DINAMICA!$O805)","v":0},{"$f":"VALUE(DINAMICA!$P805)","v":0},{"$f":"VALUE(DINAMICA!$Q805)","v":0},{"$f":"VALUE(DINAMICA!$R805)","v":0}]
[{"$f":"VALUE(DINAMICA!$A806)","v":0},{"$f":"VALUE(DINAMICA!$B806)","v":"00:00:00"},{"$f":"VALUE(DINAMICA!$C806)","v":0},{"$f":"DINAMICA!D806","v":0},{"$f":"DINAMICA!E806","v":0},{"$f":"DINAMICA!F806","v":0},{"$f":"DINAMICA!G806","v":0},{"$f":"DINAMICA!H806","v":0},{"$f":"DINAMICA!I806","v":0},{"$f":"DINAMICA!J806","v":0},{"$f":"DINAMICA!K806","v":0},{"$f":"VALUE(DINAMICA!$L806)","v":0},{"$f":"VALUE(DINAMICA!$M806)","v":0},{"$f":"VALUE(DINAMICA!$N806)","v":0},{"$f":"VALUE(DINAMICA!$O806)","v":0},{"$f":"VALUE(DINAMICA!$P806)","v":0},{"$f":"VALUE(DINAMICA!$Q806)","v":0},{"$f":"VALUE(DINAMICA!$R806)","v":0}]
[{"$f":"VALUE(DINAMICA!$A807)","v":0},{"$f":"VALUE(DINAMICA!$B807)","v":"00:00:00"},{"$f":"VALUE(DINAMICA!$C807)","v":0},{"$f":"DINAMICA!D807","v":0},{"$f":"DINAMICA!E807","v":0},{"$f":"DINAMICA!F807","v":0},{"$f":"DINAMICA!G807","v":0},{"$f":"DINAMICA!H807","v":0},{"$f":"DINAMICA!I807","v":0},{"$f":"DINAMICA!J807","v":0},{"$f":"DINAMICA!K807","v":0},{"$f":"VALUE(DINAMICA!$L807)","v":0},{"$f":"VALUE(DINAMICA!$M807)","v":0},{"$f":"VALUE(DINAMICA!$N807)","v":0},{"$f":"VALUE(DINAMICA!$O807)","v":0},{"$f":"VALUE(DINAMICA!$P807)","v":0},{"$f":"VALUE(DINAMICA!$Q807)","v":0},{"$f":"VALUE(DINAMICA!$R807)","v":0}]
[{"$f":"VALUE(DINAMICA!$A808)","v":0},{"$f":"VALUE(DINAMICA!$B808)","v":"00:00:00"},{"$f":"VALUE(DINAMICA!$C808)","v":0},{"$f":"DINAMICA!D808","v":0},{"$f":"DINAMICA!E808","v":0},{"$f":"DINAMICA!F808","v":0},{"$f":"DINAMICA!G808","v":0},{"$f":"DINAMICA!H808","v":0},{"$f":"DINAMICA!I808","v":0},{"$f":"DINAMICA!J808","v":0},{"$f":"DINAMICA!K808","v":0},{"$f":"VALUE(DINAMICA!$L808)","v":0},{"$f":"VALUE(DINAMICA!$M808)","v":0},{"$f":"VALUE(DINAMICA!$N808)","v":0},{"$f":"VALUE(DINAMICA!$O808)","v":0},{"$f":"VALUE(DINAMICA!$P808)","v":0},{"$f":"VALUE(DINAMICA!$Q808)","v":0},{"$f":"VALUE(DINAMICA!$R808)","v":0}]
[{"$f":"VALUE(DINAMICA!$A809)","v":0},{"$f":"VALUE(DINAMICA!$B809)","v":"00:00:00"},{"$f":"VALUE(DINAMICA!$C809)","v":0},{"$f":"DINAMICA!D809","v":0},{"$f":"DINAMICA!E809","v":0},{"$f":"DINAMICA!F809","v":0},{"$f":"DINAMICA!G809","v":0},{"$f":"DINAMICA!H809","v":0},{"$f":"DINAMICA!I809","v":0},{"$f":"DINAMICA!J809","v":0},{"$f":"DINAMICA!K809","v":0},{"$f":"VALUE(DINAMICA!$L809)","v":0},{"$f":"VALUE(DINAMICA!$M809)","v":0},{"$f":"VALUE(DINAMICA!$N809)","v":0},{"$f":"VALUE(DINAMICA!$O809)","v":0},{"$f":"VALUE(DINAMICA!$P809)","v":0},{"$f":"VALUE(DINAMICA!$Q809)","v":0},{"$f":"VALUE(DINAMICA!$R809)","v":0}]
[{"$f":"VALUE(DINAMICA!$A810)","v":0},{"$f":"VALUE(DINAMICA!$B810)","v":"00:00:00"},{"$f":"VALUE(DINAMICA!$C810)","v":0},{"$f":"DINAMICA!D810","v":0},{"$f":"DINAMICA!E810","v":0},{"$f":"DINAMICA!F810","v":0},{"$f":"DINAMICA!G810","v":0},{"$f":"DINAMICA!H810","v":0},{"$f":"DINAMICA!I810","v":0},{"$f":"DINAMICA!J810","v":0},{"$f":"DINAMICA!K810","v":0},{"$f":"VALUE(DINAMICA!$L810)","v":0},{"$f":"VALUE(DINAMICA!$M810)","v":0},{"$f":"VALUE(DINAMICA!$N810)","v":0},{"$f":"VALUE(DINAMICA!$O810)","v":0},{"$f":"VALUE(DINAMICA!$P810)","v":0},{"$f":"VALUE(DINAMICA!$Q810)","v":0},{"$f":"VALUE(DINAMICA!$R810)","v":0}]
[{"$f":"VALUE(DINAMICA!$A811)","v":0},{"$f":"VALUE(DINAMICA!$B811)","v":"00:00:00"},{"$f":"VALUE(DINAMICA!$C811)","v":0},{"$f":"DINAMICA!D811","v":0},{"$f":"DINAMICA!E811","v":0},{"$f":"DINAMICA!F811","v":0},{"$f":"DINAMICA!G811","v":0},{"$f":"DINAMICA!H811","v":0},{"$f":"DINAMICA!I811","v":0},{"$f":"DINAMICA!J811","v":0},{"$f":"DINAMICA!K811","v":0},{"$f":"VALUE(DINAMICA!$L811)","v":0},{"$f":"VALUE(DINAMICA!$M811)","v":0},{"$f":"VALUE(DINAMICA!$N811)","v":0},{"$f":"VALUE(DINAMICA!$O811)","v":0},{"$f":"VALUE(DINAMICA!$P811)","v":0},{"$f":"VALUE(DINAMICA!$Q811)","v":0},{"$f":"VALUE(DINAMICA!$R811)","v":0}]
[{"$f":"VALUE(DINAMICA!$A812)","v":0},{"$f":"VALUE(DINAMICA!$B812)","v":"00:00:00"},{"$f":"VALUE(DINAMICA!$C812)","v":0},{"$f":"DINAMICA!D812","v":0},{"$f":"DINAMICA!E812","v":0},{"$f":"DINAMICA!F812","v":0},{"$f":"DINAMICA!G812","v":0},{"$f":"DINAMICA!H812","v":0},{"$f":"DINAMICA!I812","v":0},{"$f":"DINAMICA!J812","v":0},{"$f":"DINAMICA!K812","v":0},{"$f":"VALUE(DINAMICA!$L812)","v":0},{"$f":"VALUE(DINAMICA!$M812)","v":0},{"$f":"VALUE(DINAMICA!$N812)","v":0},{"$f":"VALUE(DINAMICA!$O812)","v":0},{"$f":"VALUE(DINAMICA!$P812)","v":0},{"$f":"VALUE(DINAMICA!$Q812)","v":0},{"$f":"VALUE(DINAMICA!$R812)","v":0}]
[{"$f":"VALUE(DINAMICA!$A813)","v":0},{"$f":"VALUE(DINAMICA!$B813)","v":"00:00:00"},{"$f":"VALUE(DINAMICA!$C813)","v":0},{"$f":"DINAMICA!D813","v":0},{"$f":"DINAMICA!E813","v":0},{"$f":"DINAMICA!F813","v":0},{"$f":"DINAMICA!G813","v":0},{"$f":"DINAMICA!H813","v":0},{"$f":"DINAMICA!I813","v":0},{"$f":"DINAMICA!J813","v":0},{"$f":"DINAMICA!K813","v":0},{"$f":"VALUE(DINAMICA!$L813)","v":0},{"$f":"VALUE(DINAMICA!$M813)","v":0},{"$f":"VALUE(DINAMICA!$N813)","v":0},{"$f":"VALUE(DINAMICA!$O813)","v":0},{"$f":"VALUE(DINAMICA!$P813)","v":0},{"$f":"VALUE(DINAMICA!$Q813)","v":0},{"$f":"VALUE(DINAMICA!$R813)","v":0}]
[{"$f":"VALUE(DINAMICA!$A814)","v":0},{"$f":"VALUE(DINAMICA!$B814)","v":"00:00:00"},{"$f":"VALUE(DINAMICA!$C814)","v":0},{"$f":"DINAMICA!D814","v":0},{"$f":"DINAMICA!E814","v":0},{"$f":"DINAMICA!F814","v":0},{"$f":"DINAMICA!G814","v":0},{"$f":"DINAMICA!H814","v":0},{"$f":"DINAMICA!I814","v":0},{"$f":"DINAMICA!J814","v":0},{"$f":"DINAMICA!K814","v":0},{"$f":"VALUE(DINAMICA!$L814)","v":0},{"$f":"VALUE(DINAMICA!$M814)","v":0},{"$f":"VALUE(DINAMICA!$N814)","v":0},{"$f":"VALUE(DINAMICA!$O814)","v":0},{"$f":"VALUE(DINAMICA!$P814)","v":0},{"$f":"VALUE(DINAMICA!$Q814)","v":0},{"$f":"VALUE(DINAMICA!$R814)","v":0}]
[{"$f":"VALUE(DINAMICA!$A815)","v":0},{"$f":"VALUE(DINAMICA!$B815)","v":"00:00:00"},{"$f":"VALUE(DINAMICA!$C815)","v":0},{"$f":"DINAMICA!D815","v":0},{"$f":"DINAMICA!E815","v":0},{"$f":"DINAMICA!F815","v":0},{"$f":"DINAMICA!G815","v":0},{"$f":"DINAMICA!H815","v":0},{"$f":"DINAMICA!I815","v":0},{"$f":"DINAMICA!J815","v":0},{"$f":"DINAMICA!K815","v":0},{"$f":"VALUE(DINAMICA!$L815)","v":0},{"$f":"VALUE(DINAMICA!$M815)","v":0},{"$f":"VALUE(DINAMICA!$N815)","v":0},{"$f":"VALUE(DINAMICA!$O815)","v":0},{"$f":"VALUE(DINAMICA!$P815)","v":0},{"$f":"VALUE(DINAMICA!$Q815)","v":0},{"$f":"VALUE(DINAMICA!$R815)","v":0}]
[{"$f":"VALUE(DINAMICA!$A816)","v":0},{"$f":"VALUE(DINAMICA!$B816)","v":"00:00:00"},{"$f":"VALUE(DINAMICA!$C816)","v":0},{"$f":"DINAMICA!D816","v":0},{"$f":"DINAMICA!E816","v":0},{"$f":"DINAMICA!F816","v":0},{"$f":"DINAMICA!G816","v":0},{"$f":"DINAMICA!H816","v":0},{"$f":"DINAMICA!I816","v":0},{"$f":"DINAMICA!J816","v":0},{"$f":"DINAMICA!K816","v":0},{"$f":"VALUE(DINAMICA!$L816)","v":0},{"$f":"VALUE(DINAMICA!$M816)","v":0},{"$f":"VALUE(DINAMICA!$N816)","v":0},{"$f":"VALUE(DINAMICA!$O816)","v":0},{"$f":"VALUE(DINAMICA!$P816)","v":0},{"$f":"VALUE(DINAMICA!$Q816)","v":0},{"$f":"VALUE(DINAMICA!$R816)","v":0}]
[{"$f":"VALUE(DINAMICA!$A817)","v":0},{"$f":"VALUE(DINAMICA!$B817)","v":"00:00:00"},{"$f":"VALUE(DINAMICA!$C817)","v":0},{"$f":"DINAMICA!D817","v":0},{"$f":"DINAMICA!E817","v":0},{"$f":"DINAMICA!F817","v":0},{"$f":"DINAMICA!G817","v":0},{"$f":"DINAMICA!H817","v":0},{"$f":"DINAMICA!I817","v":0},{"$f":"DINAMICA!J817","v":0},{"$f":"DINAMICA!K817","v":0},{"$f":"VALUE(DINAMICA!$L817)","v":0},{"$f":"VALUE(DINAMICA!$M817)","v":0},{"$f":"VALUE(DINAMICA!$N817)","v":0},{"$f":"VALUE(DINAMICA!$O817)","v":0},{"$f":"VALUE(DINAMICA!$P817)","v":0},{"$f":"VALUE(DINAMICA!$Q817)","v":0},{"$f":"VALUE(DINAMICA!$R817)","v":0}]
[{"$f":"VALUE(DINAMICA!$A818)","v":0},{"$f":"VALUE(DINAMICA!$B818)","v":"00:00:00"},{"$f":"VALUE(DINAMICA!$C818)","v":0},{"$f":"DINAMICA!D818","v":0},{"$f":"DINAMICA!E818","v":0},{"$f":"DINAMICA!F818","v":0},{"$f":"DINAMICA!G818","v":0},{"$f":"DINAMICA!H818","v":0},{"$f":"DINAMICA!I818","v":0},{"$f":"DINAMICA!J818","v":0},{"$f":"DINAMICA!K818","v":0},{"$f":"VALUE(DINAMICA!$L818)","v":0},{"$f":"VALUE(DINAMICA!$M818)","v":0},{"$f":"VALUE(DINAMICA!$N818)","v":0},{"$f":"VALUE(DINAMICA!$O818)","v":0},{"$f":"VALUE(DINAMICA!$P818)","v":0},{"$f":"VALUE(DINAMICA!$Q818)","v":0},{"$f":"VALUE(DINAMICA!$R818)","v":0}]
[{"$f":"VALUE(DINAMICA!$A819)","v":0},{"$f":"VALUE(DINAMICA!$B819)","v":"00:00:00"},{"$f":"VALUE(DINAMICA!$C819)","v":0},{"$f":"DINAMICA!D819","v":0},{"$f":"DINAMICA!E819","v":0},{"$f":"DINAMICA!F819","v":0},{"$f":"DINAMICA!G819","v":0},{"$f":"DINAMICA!H819","v":0},{"$f":"DINAMICA!I819","v":0},{"$f":"DINAMICA!J819","v":0},{"$f":"DINAMICA!K819","v":0},{"$f":"VALUE(DINAMICA!$L819)","v":0},{"$f":"VALUE(DINAMICA!$M819)","v":0},{"$f":"VALUE(DINAMICA!$N819)","v":0},{"$f":"VALUE(DINAMICA!$O819)","v":0},{"$f":"VALUE(DINAMICA!$P819)","v":0},{"$f":"VALUE(DINAMICA!$Q819)","v":0},{"$f":"VALUE(DINAMICA!$R819)","v":0}]
[{"$f":"VALUE(DINAMICA!$A820)","v":0},{"$f":"VALUE(DINAMICA!$B820)","v":"00:00:00"},{"$f":"VALUE(DINAMICA!$C820)","v":0},{"$f":"DINAMICA!D820","v":0},{"$f":"DINAMICA!E820","v":0},{"$f":"DINAMICA!F820","v":0},{"$f":"DINAMICA!G820","v":0},{"$f":"DINAMICA!H820","v":0},{"$f":"DINAMICA!I820","v":0},{"$f":"DINAMICA!J820","v":0},{"$f":"DINAMICA!K820","v":0},{"$f":"VALUE(DINAMICA!$L820)","v":0},{"$f":"VALUE(DINAMICA!$M820)","v":0},{"$f":"VALUE(DINAMICA!$N820)","v":0},{"$f":"VALUE(DINAMICA!$O820)","v":0},{"$f":"VALUE(DINAMICA!$P820)","v":0},{"$f":"VALUE(DINAMICA!$Q820)","v":0},{"$f":"VALUE(DINAMICA!$R820)","v":0}]
[{"$f":"VALUE(DINAMICA!$A821)","v":0},{"$f":"VALUE(DINAMICA!$B821)","v":"00:00:00"},{"$f":"VALUE(DINAMICA!$C821)","v":0},{"$f":"DINAMICA!D821","v":0},{"$f":"DINAMICA!E821","v":0},{"$f":"DINAMICA!F821","v":0},{"$f":"DINAMICA!G821","v":0},{"$f":"DINAMICA!H821","v":0},{"$f":"DINAMICA!I821","v":0},{"$f":"DINAMICA!J821","v":0},{"$f":"DINAMICA!K821","v":0},{"$f":"VALUE(DINAMICA!$L821)","v":0},{"$f":"VALUE(DINAMICA!$M821)","v":0},{"$f":"VALUE(DINAMICA!$N821)","v":0},{"$f":"VALUE(DINAMICA!$O821)","v":0},{"$f":"VALUE(DINAMICA!$P821)","v":0},{"$f":"VALUE(DINAMICA!$Q821)","v":0},{"$f":"VALUE(DINAMICA!$R821)","v":0}]
[{"$f":"VALUE(DINAMICA!$A822)","v":0},{"$f":"VALUE(DINAMICA!$B822)","v":"00:00:00"},{"$f":"VALUE(DINAMICA!$C822)","v":0},{"$f":"DINAMICA!D822","v":0},{"$f":"DINAMICA!E822","v":0},{"$f":"DINAMICA!F822","v":0},{"$f":"DINAMICA!G822","v":0},{"$f":"DINAMICA!H822","v":0},{"$f":"DINAMICA!I822","v":0},{"$f":"DINAMICA!J822","v":0},{"$f":"DINAMICA!K822","v":0},{"$f":"VALUE(DINAMICA!$L822)","v":0},{"$f":"VALUE(DINAMICA!$M822)","v":0},{"$f":"VALUE(DINAMICA!$N822)","v":0},{"$f":"VALUE(DINAMICA!$O822)","v":0},{"$f":"VALUE(DINAMICA!$P822)","v":0},{"$f":"VALUE(DINAMICA!$Q822)","v":0},{"$f":"VALUE(DINAMICA!$R822)","v":0}]
[{"$f":"VALUE(DINAMICA!$A823)","v":0},{"$f":"VALUE(DINAMICA!$B823)","v":"00:00:00"},{"$f":"VALUE(DINAMICA!$C823)","v":0},{"$f":"DINAMICA!D823","v":0},{"$f":"DINAMICA!E823","v":0},{"$f":"DINAMICA!F823","v":0},{"$f":"DINAMICA!G823","v":0},{"$f":"DINAMICA!H823","v":0},{"$f":"DINAMICA!I823","v":0},{"$f":"DINAMICA!J823","v":0},{"$f":"DINAMICA!K823","v":0},{"$f":"VALUE(DINAMICA!$L823)","v":0},{"$f":"VALUE(DINAMICA!$M823)","v":0},{"$f":"VALUE(DINAMICA!$N823)","v":0},{"$f":"VALUE(DINAMICA!$O823)","v":0},{"$f":"VALUE(DINAMICA!$P823)","v":0},{"$f":"VALUE(DINAMICA!$Q823)","v":0},{"$f":"VALUE(DINAMICA!$R823)","v":0}]
[{"$f":"VALUE(DINAMICA!$A824)","v":0},{"$f":"VALUE(DINAMICA!$B824)","v":"00:00:00"},{"$f":"VALUE(DINAMICA!$C824)","v":0},{"$f":"DINAMICA!D824","v":0},{"$f":"DINAMICA!E824","v":0},{"$f":"DINAMICA!F824","v":0},{"$f":"DINAMICA!G824","v":0},{"$f":"DINAMICA!H824","v":0},{"$f":"DINAMICA!I824","v":0},{"$f":"DINAMICA!J824","v":0},{"$f":"DINAMICA!K824","v":0},{"$f":"VALUE(DINAMICA!$L824)","v":0},{"$f":"VALUE(DINAMICA!$M824)","v":0},{"$f":"VALUE(DINAMICA!$N824)","v":0},{"$f":"VALUE(DINAMICA!$O824)","v":0},{"$f":"VALUE(DINAMICA!$P824)","v":0},{"$f":"VALUE(DINAMICA!$Q824)","v":0},{"$f":"VALUE(DINAMICA!$R824)","v":0}]
[{"$f":"VALUE(DINAMICA!$A825)","v":0},{"$f":"VALUE(DINAMICA!$B825)","v":"00:00:00"},{"$f":"VALUE(DINAMICA!$C825)","v":0},{"$f":"DINAMICA!D825","v":0},{"$f":"DINAMICA!E825","v":0},{"$f":"DINAMICA!F825","v":0},{"$f":"DINAMICA!G825","v":0},{"$f":"DINAMICA!H825","v":0},{"$f":"DINAMICA!I825","v":0},{"$f":"DINAMICA!J825","v":0},{"$f":"DINAMICA!K825","v":0},{"$f":"VALUE(DINAMICA!$L825)","v":0},{"$f":"VALUE(DINAMICA!$M825)","v":0},{"$f":"VALUE(DINAMICA!$N825)","v":0},{"$f":"VALUE(DINAMICA!$O825)","v":0},{"$f":"VALUE(DINAMICA!$P825)","v":0},{"$f":"VALUE(DINAMICA!$Q825)","v":0},{"$f":"VALUE(DINAMICA!$R825)","v":0}]
[{"$f":"VALUE(DINAMICA!$A826)","v":0},{"$f":"VALUE(DINAMICA!$B826)","v":"00:00:00"},{"$f":"VALUE(DINAMICA!$C826)","v":0},{"$f":"DINAMICA!D826","v":0},{"$f":"DINAMICA!E826","v":0},{"$f":"DINAMICA!F826","v":0},{"$f":"DINAMICA!G826","v":0},{"$f":"DINAMICA!H826","v":0},{"$f":"DINAMICA!I826","v":0},{"$f":"DINAMICA!J826","v":0},{"$f":"DINAMICA!K826","v":0},{"$f":"VALUE(DINAMICA!$L826)","v":0},{"$f":"VALUE(DINAMICA!$M826)","v":0},{"$f":"VALUE(DINAMICA!$N826)","v":0},{"$f":"VALUE(DINAMICA!$O826)","v":0},{"$f":"VALUE(DINAMICA!$P826)","v":0},{"$f":"VALUE(DINAMICA!$Q826)","v":0},{"$f":"VALUE(DINAMICA!$R826)","v":0}]
[{"$f":"VALUE(DINAMICA!$A827)","v":0},{"$f":"VALUE(DINAMICA!$B827)","v":"00:00:00"},{"$f":"VALUE(DINAMICA!$C827)","v":0},{"$f":"DINAMICA!D827","v":0},{"$f":"DINAMICA!E827","v":0},{"$f":"DINAMICA!F827","v":0},{"$f":"DINAMICA!G827","v":0},{"$f":"DINAMICA!H827","v":0},{"$f":"DINAMICA!I827","v":0},{"$f":"DINAMICA!J827","v":0},{"$f":"DINAMICA!K827","v":0},{"$f":"VALUE(DINAMICA!$L827)","v":0},{"$f":"VALUE(DINAMICA!$M827)","v":0},{"$f":"VALUE(DINAMICA!$N827)","v":0},{"$f":"VALUE(DINAMICA!$O827)","v":0},{"$f":"VALUE(DINAMICA!$P827)","v":0},{"$f":"VALUE(DINAMICA!$Q827)","v":0},{"$f":"VALUE(DINAMICA!$R827)","v":0}]
[{"$f":"VALUE(DINAMICA!$A828)","v":0},{"$f":"VALUE(DINAMICA!$B828)","v":"00:00:00"},{"$f":"VALUE(DINAMICA!$C828)","v":0},{"$f":"DINAMICA!D828","v":0},{"$f":"DINAMICA!E828","v":0},{"$f":"DINAMICA!F828","v":0},{"$f":"DINAMICA!G828","v":0},{"$f":"DINAMICA!H828","v":0},{"$f":"DINAMICA!I828","v":0},{"$f":"DINAMICA!J828","v":0},{"$f":"DINAMICA!K828","v":0},{"$f":"VALUE(DINAMICA!$L828)","v":0},{"$f":"VALUE(DINAMICA!$M828)","v":0},{"$f":"VALUE(DINAMICA!$N828)","v":0},{"$f":"VALUE(DINAMICA!$O828)","v":0},{"$f":"VALUE(DINAMICA!$P828)","v":0},{"$f":"VALUE(DINAMICA!$Q828)","v":0},{"$f":"VALUE(DINAMICA!$R828)","v":0}]
[{"$f":"VALUE(DINAMICA!$A829)","v":0},{"$f":"VALUE(DINAMICA!$B829)","v":"00:00:00"},{"$f":"VALUE(DINAMICA!$C829)","v":0},{"$f":"DINAMICA!D829","v":0},{"$f":"DINAMICA!E829","v":0},{"$f":"DINAMICA!F829","v":0},{"$f":"DINAMICA!G829","v":0},{"$f":"DINAMICA!H829","v":0},{"$f":"DINAMICA!I829","v":0},{"$f":"DINAMICA!J829","v":0},{"$f":"DINAMICA!K829","v":0},{"$f":"VALUE(DINAMICA!$L829)","v":0},{"$f":"VALUE(DINAMICA!$M829)","v":0},{"$f":"VALUE(DINAMICA!$N829)","v":0},{"$f":"VALUE(DINAMICA!$O829)","v":0},{"$f":"VALUE(DINAMICA!$P829)","v":0},{"$f":"VALUE(DINAMICA!$Q829)","v":0},{"$f":"VALUE(DINAMICA!$R829)","v":0}]
[{"$f":"VALUE(DINAMICA!$A830)","v":0},{"$f":"VALUE(DINAMICA!$B830)","v":"00:00:00"},{"$f":"VALUE(DINAMICA!$C830)","v":0},{"$f":"DINAMICA!D830","v":0},{"$f":"DINAMICA!E830","v":0},{"$f":"DINAMICA!F830","v":0},{"$f":"DINAMICA!G830","v":0},{"$f":"DINAMICA!H830","v":0},{"$f":"DINAMICA!I830","v":0},{"$f":"DINAMICA!J830","v":0},{"$f":"DINAMICA!K830","v":0},{"$f":"VALUE(DINAMICA!$L830)","v":0},{"$f":"VALUE(DINAMICA!$M830)","v":0},{"$f":"VALUE(DINAMICA!$N830)","v":0},{"$f":"VALUE(DINAMICA!$O830)","v":0},{"$f":"VALUE(DINAMICA!$P830)","v":0},{"$f":"VALUE(DINAMICA!$Q830)","v":0},{"$f":"VALUE(DINAMICA!$R830)","v":0}]
[{"$f":"VALUE(DINAMICA!$A831)","v":0},{"$f":"VALUE(DINAMICA!$B831)","v":"00:00:00"},{"$f":"VALUE(DINAMICA!$C831)","v":0},{"$f":"DINAMICA!D831","v":0},{"$f":"DINAMICA!E831","v":0},{"$f":"DINAMICA!F831","v":0},{"$f":"DINAMICA!G831","v":0},{"$f":"DINAMICA!H831","v":0},{"$f":"DINAMICA!I831","v":0},{"$f":"DINAMICA!J831","v":0},{"$f":"DINAMICA!K831","v":0},{"$f":"VALUE(DINAMICA!$L831)","v":0},{"$f":"VALUE(DINAMICA!$M831)","v":0},{"$f":"VALUE(DINAMICA!$N831)","v":0},{"$f":"VALUE(DINAMICA!$O831)","v":0},{"$f":"VALUE(DINAMICA!$P831)","v":0},{"$f":"VALUE(DINAMICA!$Q831)","v":0},{"$f":"VALUE(DINAMICA!$R831)","v":0}]
[{"$f":"VALUE(DINAMICA!$A832)","v":0},{"$f":"VALUE(DINAMICA!$B832)","v":"00:00:00"},{"$f":"VALUE(DINAMICA!$C832)","v":0},{"$f":"DINAMICA!D832","v":0},{"$f":"DINAMICA!E832","v":0},{"$f":"DINAMICA!F832","v":0},{"$f":"DINAMICA!G832","v":0},{"$f":"DINAMICA!H832","v":0},{"$f":"DINAMICA!I832","v":0},{"$f":"DINAMICA!J832","v":0},{"$f":"DINAMICA!K832","v":0},{"$f":"VALUE(DINAMICA!$L832)","v":0},{"$f":"VALUE(DINAMICA!$M832)","v":0},{"$f":"VALUE(DINAMICA!$N832)","v":0},{"$f":"VALUE(DINAMICA!$O832)","v":0},{"$f":"VALUE(DINAMICA!$P832)","v":0},{"$f":"VALUE(DINAMICA!$Q832)","v":0},{"$f":"VALUE(DINAMICA!$R832)","v":0}]
[{"$f":"VALUE(DINAMICA!$A833)","v":0},{"$f":"VALUE(DINAMICA!$B833)","v":"00:00:00"},{"$f":"VALUE(DINAMICA!$C833)","v":0},{"$f":"DINAMICA!D833","v":0},{"$f":"DINAMICA!E833","v":0},{"$f":"DINAMICA!F833","v":0},{"$f":"DINAMICA!G833","v":0},{"$f":"DINAMICA!H833","v":0},{"$f":"DINAMICA!I833","v":0},{"$f":"DINAMICA!J833","v":0},{"$f":"DINAMICA!K833","v":0},{"$f":"VALUE(DINAMICA!$L833)","v":0},{"$f":"VALUE(DINAMICA!$M833)","v":0},{"$f":"VALUE(DINAMICA!$N833)","v":0},{"$f":"VALUE(DINAMICA!$O833)","v":0},{"$f":"VALUE(DINAMICA!$P833)","v":0},{"$f":"VALUE(DINAMICA!$Q833)","v":0},{"$f":"VALUE(DINAMICA!$R833)","v":0}]
[{"$f":"VALUE(DINAMICA!$A834)","v":0},{"$f":"VALUE(DINAMICA!$B834)","v":"00:00:00"},{"$f":"VALUE(DINAMICA!$C834)","v":0},{"$f":"DINAMICA!D834","v":0},{"$f":"DINAMICA!E834","v":0},{"$f":"DINAMICA!F834","v":0},{"$f":"DINAMICA!G834","v":0},{"$f":"DINAMICA!H834","v":0},{"$f":"DINAMICA!I834","v":0},{"$f":"DINAMICA!J834","v":0},{"$f":"DINAMICA!K834","v":0},{"$f":"VALUE(DINAMICA!$L834)","v":0},{"$f":"VALUE(DINAMICA!$M834)","v":0},{"$f":"VALUE(DINAMICA!$N834)","v":0},{"$f":"VALUE(DINAMICA!$O834)","v":0},{"$f":"VALUE(DINAMICA!$P834)","v":0},{"$f":"VALUE(DINAMICA!$Q834)","v":0},{"$f":"VALUE(DINAMICA!$R834)","v":0}]
[{"$f":"VALUE(DINAMICA!$A835)","v":0},{"$f":"VALUE(DINAMICA!$B835)","v":"00:00:00"},{"$f":"VALUE(DINAMICA!$C835)","v":0},{"$f":"DINAMICA!D835","v":0},{"$f":"DINAMICA!E835","v":0},{"$f":"DINAMICA!F835","v":0},{"$f":"DINAMICA!G835","v":0},{"$f":"DINAMICA!H835","v":0},{"$f":"DINAMICA!I835","v":0},{"$f":"DINAMICA!J835","v":0},{"$f":"DINAMICA!K835","v":0},{"$f":"VALUE(DINAMICA!$L835)","v":0},{"$f":"VALUE(DINAMICA!$M835)","v":0},{"$f":"VALUE(DINAMICA!$N835)","v":0},{"$f":"VALUE(DINAMICA!$O835)","v":0},{"$f":"VALUE(DINAMICA!$P835)","v":0},{"$f":"VALUE(DINAMICA!$Q835)","v":0},{"$f":"VALUE(DINAMICA!$R835)","v":0}]
[{"$f":"VALUE(DINAMICA!$A836)","v":0},{"$f":"VALUE(DINAMICA!$B836)","v":"00:00:00"},{"$f":"VALUE(DINAMICA!$C836)","v":0},{"$f":"DINAMICA!D836","v":0},{"$f":"DINAMICA!E836","v":0},{"$f":"DINAMICA!F836","v":0},{"$f":"DINAMICA!G836","v":0},{"$f":"DINAMICA!H836","v":0},{"$f":"DINAMICA!I836","v":0},{"$f":"DINAMICA!J836","v":0},{"$f":"DINAMICA!K836","v":0},{"$f":"VALUE(DINAMICA!$L836)","v":0},{"$f":"VALUE(DINAMICA!$M836)","v":0},{"$f":"VALUE(DINAMICA!$N836)","v":0},{"$f":"VALUE(DINAMICA!$O836)","v":0},{"$f":"VALUE(DINAMICA!$P836)","v":0},{"$f":"VALUE(DINAMICA!$Q836)","v":0},{"$f":"VALUE(DINAMICA!$R836)","v":0}]
[{"$f":"VALUE(DINAMICA!$A837)","v":0},{"$f":"VALUE(DINAMICA!$B837)","v":"00:00:00"},{"$f":"VALUE(DINAMICA!$C837)","v":0},{"$f":"DINAMICA!D837","v":0},{"$f":"DINAMICA!E837","v":0},{"$f":"DINAMICA!F837","v":0},{"$f":"DINAMICA!G837","v":0},{"$f":"DINAMICA!H837","v":0},{"$f":"DINAMICA!I837","v":0},{"$f":"DINAMICA!J837","v":0},{"$f":"DINAMICA!K837","v":0},{"$f":"VALUE(DINAMICA!$L837)","v":0},{"$f":"VALUE(DINAMICA!$M837)","v":0},{"$f":"VALUE(DINAMICA!$N837)","v":0},{"$f":"VALUE(DINAMICA!$O837)","v":0},{"$f":"VALUE(DINAMICA!$P837)","v":0},{"$f":"VALUE(DINAMICA!$Q837)","v":0},{"$f":"VALUE(DINAMICA!$R837)","v":0}]
[{"$f":"VALUE(DINAMICA!$A838)","v":0},{"$f":"VALUE(DINAMICA!$B838)","v":"00:00:00"},{"$f":"VALUE(DINAMICA!$C838)","v":0},{"$f":"DINAMICA!D838","v":0},{"$f":"DINAMICA!E838","v":0},{"$f":"DINAMICA!F838","v":0},{"$f":"DINAMICA!G838","v":0},{"$f":"DINAMICA!H838","v":0},{"$f":"DINAMICA!I838","v":0},{"$f":"DINAMICA!J838","v":0},{"$f":"DINAMICA!K838","v":0},{"$f":"VALUE(DINAMICA!$L838)","v":0},{"$f":"VALUE(DINAMICA!$M838)","v":0},{"$f":"VALUE(DINAMICA!$N838)","v":0},{"$f":"VALUE(DINAMICA!$O838)","v":0},{"$f":"VALUE(DINAMICA!$P838)","v":0},{"$f":"VALUE(DINAMICA!$Q838)","v":0},{"$f":"VALUE(DINAMICA!$R838)","v":0}]
[{"$f":"VALUE(DINAMICA!$A839)","v":0},{"$f":"VALUE(DINAMICA!$B839)","v":"00:00:00"},{"$f":"VALUE(DINAMICA!$C839)","v":0},{"$f":"DINAMICA!D839","v":0},{"$f":"DINAMICA!E839","v":0},{"$f":"DINAMICA!F839","v":0},{"$f":"DINAMICA!G839","v":0},{"$f":"DINAMICA!H839","v":0},{"$f":"DINAMICA!I839","v":0},{"$f":"DINAMICA!J839","v":0},{"$f":"DINAMICA!K839","v":0},{"$f":"VALUE(DINAMICA!$L839)","v":0},{"$f":"VALUE(DINAMICA!$M839)","v":0},{"$f":"VALUE(DINAMICA!$N839)","v":0},{"$f":"VALUE(DINAMICA!$O839)","v":0},{"$f":"VALUE(DINAMICA!$P839)","v":0},{"$f":"VALUE(DINAMICA!$Q839)","v":0},{"$f":"VALUE(DINAMICA!$R839)","v":0}]
[{"$f":"VALUE(DINAMICA!$A840)","v":0},{"$f":"VALUE(DINAMICA!$B840)","v":"00:00:00"},{"$f":"VALUE(DINAMICA!$C840)","v":0},{"$f":"DINAMICA!D840","v":0},{"$f":"DINAMICA!E840","v":0},{"$f":"DINAMICA!F840","v":0},{"$f":"DINAMICA!G840","v":0},{"$f":"DINAMICA!H840","v":0},{"$f":"DINAMICA!I840","v":0},{"$f":"DINAMICA!J840","v":0},{"$f":"DINAMICA!K840","v":0},{"$f":"VALUE(DINAMICA!$L840)","v":0},{"$f":"VALUE(DINAMICA!$M840)","v":0},{"$f":"VALUE(DINAMICA!$N840)","v":0},{"$f":"VALUE(DINAMICA!$O840)","v":0},{"$f":"VALUE(DINAMICA!$P840)","v":0},{"$f":"VALUE(DINAMICA!$Q840)","v":0},{"$f":"VALUE(DINAMICA!$R840)","v":0}]
[{"$f":"VALUE(DINAMICA!$A841)","v":0},{"$f":"VALUE(DINAMICA!$B841)","v":"00:00:00"},{"$f":"VALUE(DINAMICA!$C841)","v":0},{"$f":"DINAMICA!D841","v":0},{"$f":"DINAMICA!E841","v":0},{"$f":"DINAMICA!F841","v":0},{"$f":"DINAMICA!G841","v":0},{"$f":"DINAMICA!H841","v":0},{"$f":"DINAMICA!I841","v":0},{"$f":"DINAMICA!J841","v":0},{"$f":"DINAMICA!K841","v":0},{"$f":"VALUE(DINAMICA!$L841)","v":0},{"$f":"VALUE(DINAMICA!$M841)","v":0},{"$f":"VALUE(DINAMICA!$N841)","v":0},{"$f":"VALUE(DINAMICA!$O841)","v":0},{"$f":"VALUE(DINAMICA!$P841)","v":0},{"$f":"VALUE(DINAMICA!$Q841)","v":0},{"$f":"VALUE(DINAMICA!$R841)","v":0}]
[{"$f":"VALUE(DINAMICA!$A842)","v":0},{"$f":"VALUE(DINAMICA!$B842)","v":"00:00:00"},{"$f":"VALUE(DINAMICA!$C842)","v":0},{"$f":"DINAMICA!D842","v":0},{"$f":"DINAMICA!E842","v":0},{"$f":"DINAMICA!F842","v":0},{"$f":"DINAMICA!G842","v":0},{"$f":"DINAMICA!H842","v":0},{"$f":"DINAMICA!I842","v":0},{"$f":"DINAMICA!J842","v":0},{"$f":"DINAMICA!K842","v":0},{"$f":"VALUE(DINAMICA!$L842)","v":0},{"$f":"VALUE(DINAMICA!$M842)","v":0},{"$f":"VALUE(DINAMICA!$N842)","v":0},{"$f":"VALUE(DINAMICA!$O842)","v":0},{"$f":"VALUE(DINAMICA!$P842)","v":0},{"$f":"VALUE(DINAMICA!$Q842)","v":0},{"$f":"VALUE(DINAMICA!$R842)","v":0}]
[{"$f":"VALUE(DINAMICA!$A843)","v":0},{"$f":"VALUE(DINAMICA!$B843)","v":"00:00:00"},{"$f":"VALUE(DINAMICA!$C843)","v":0},{"$f":"DINAMICA!D843","v":0},{"$f":"DINAMICA!E843","v":0},{"$f":"DINAMICA!F843","v":0},{"$f":"DINAMICA!G843","v":0},{"$f":"DINAMICA!H843","v":0},{"$f":"DINAMICA!I843","v":0},{"$f":"DINAMICA!J843","v":0},{"$f":"DINAMICA!K843","v":0},{"$f":"VALUE(DINAMICA!$L843)","v":0},{"$f":"VALUE(DINAMICA!$M843)","v":0},{"$f":"VALUE(DINAMICA!$N843)","v":0},{"$f":"VALUE(DINAMICA!$O843)","v":0},{"$f":"VALUE(DINAMICA!$P843)","v":0},{"$f":"VALUE(DINAMICA!$Q843)","v":0},{"$f":"VALUE(DINAMICA!$R843)","v":0}]
[{"$f":"VALUE(DINAMICA!$A844)","v":0},{"$f":"VALUE(DINAMICA!$B844)","v":"00:00:00"},{"$f":"VALUE(DINAMICA!$C844)","v":0},{"$f":"DINAMICA!D844","v":0},{"$f":"DINAMICA!E844","v":0},{"$f":"DINAMICA!F844","v":0},{"$f":"DINAMICA!G844","v":0},{"$f":"DINAMICA!H844","v":0},{"$f":"DINAMICA!I844","v":0},{"$f":"DINAMICA!J844","v":0},{"$f":"DINAMICA!K844","v":0},{"$f":"VALUE(DINAMICA!$L844)","v":0},{"$f":"VALUE(DINAMICA!$M844)","v":0},{"$f":"VALUE(DINAMICA!$N844)","v":0},{"$f":"VALUE(DINAMICA!$O844)","v":0},{"$f":"VALUE(DINAMICA!$P844)","v":0},{"$f":"VALUE(DINAMICA!$Q844)","v":0},{"$f":"VALUE(DINAMICA!$R844)","v":0}]
[{"$f":"VALUE(DINAMICA!$A845)","v":0},{"$f":"VALUE(DINAMICA!$B845)","v":"00:00:00"},{"$f":"VALUE(DINAMICA!$C845)","v":0},{"$f":"DINAMICA!D845","v":0},{"$f":"DINAMICA!E845","v":0},{"$f":"DINAMICA!F845","v":0},{"$f":"DINAMICA!G845","v":0},{"$f":"DINAMICA!H845","v":0},{"$f":"DINAMICA!I845","v":0},{"$f":"DINAMICA!J845","v":0},{"$f":"DINAMICA!K845","v":0},{"$f":"VALUE(DINAMICA!$L845)","v":0},{"$f":"VALUE(DINAMICA!$M845)","v":0},{"$f":"VALUE(DINAMICA!$N845)","v":0},{"$f":"VALUE(DINAMICA!$O845)","v":0},{"$f":"VALUE(DINAMICA!$P845)","v":0},{"$f":"VALUE(DINAMICA!$Q845)","v":0},{"$f":"VALUE(DINAMICA!$R845)","v":0}]
[{"$f":"VALUE(DINAMICA!$A846)","v":0},{"$f":"VALUE(DINAMICA!$B846)","v":"00:00:00"},{"$f":"VALUE(DINAMICA!$C846)","v":0},{"$f":"DINAMICA!D846","v":0},{"$f":"DINAMICA!E846","v":0},{"$f":"DINAMICA!F846","v":0},{"$f":"DINAMICA!G846","v":0},{"$f":"DINAMICA!H846","v":0},{"$f":"DINAMICA!I846","v":0},{"$f":"DINAMICA!J846","v":0},{"$f":"DINAMICA!K846","v":0},{"$f":"VALUE(DINAMICA!$L846)","v":0},{"$f":"VALUE(DINAMICA!$M846)","v":0},{"$f":"VALUE(DINAMICA!$N846)","v":0},{"$f":"VALUE(DINAMICA!$O846)","v":0},{"$f":"VALUE(DINAMICA!$P846)","v":0},{"$f":"VALUE(DINAMICA!$Q846)","v":0},{"$f":"VALUE(DINAMICA!$R846)","v":0}]
[{"$f":"VALUE(DINAMICA!$A847)","v":0},{"$f":"VALUE(DINAMICA!$B847)","v":"00:00:00"},{"$f":"VALUE(DINAMICA!$C847)","v":0},{"$f":"DINAMICA!D847","v":0},{"$f":"DINAMICA!E847","v":0},{"$f":"DINAMICA!F847","v":0},{"$f":"DINAMICA!G847","v":0},{"$f":"DINAMICA!H847","v":0},{"$f":"DINAMICA!I847","v":0},{"$f":"DINAMICA!J847","v":0},{"$f":"DINAMICA!K847","v":0},{"$f":"VALUE(DINAMICA!$L847)","v":0},{"$f":"VALUE(DINAMICA!$M847)","v":0},{"$f":"VALUE(DINAMICA!$N847)","v":0},{"$f":"VALUE(DINAMICA!$O847)","v":0},{"$f":"VALUE(DINAMICA!$P847)","v":0},{"$f":"VALUE(DINAMICA!$Q847)","v":0},{"$f":"VALUE(DINAMICA!$R847)","v":0}]
[{"$f":"VALUE(DINAMICA!$A848)","v":0},{"$f":"VALUE(DINAMICA!$B848)","v":"00:00:00"},{"$f":"VALUE(DINAMICA!$C848)","v":0},{"$f":"DINAMICA!D848","v":0},{"$f":"DINAMICA!E848","v":0},{"$f":"DINAMICA!F848","v":0},{"$f":"DINAMICA!G848","v":0},{"$f":"DINAMICA!H848","v":0},{"$f":"DINAMICA!I848","v":0},{"$f":"DINAMICA!J848","v":0},{"$f":"DINAMICA!K848","v":0},{"$f":"VALUE(DINAMICA!$L848)","v":0},{"$f":"VALUE(DINAMICA!$M848)","v":0},{"$f":"VALUE(DINAMICA!$N848)","v":0},{"$f":"VALUE(DINAMICA!$O848)","v":0},{"$f":"VALUE(DINAMICA!$P848)","v":0},{"$f":"VALUE(DINAMICA!$Q848)","v":0},{"$f":"VALUE(DINAMICA!$R848)","v":0}]
[{"$f":"VALUE(DINAMICA!$A849)","v":0},{"$f":"VALUE(DINAMICA!$B849)","v":"00:00:00"},{"$f":"VALUE(DINAMICA!$C849)","v":0},{"$f":"DINAMICA!D849","v":0},{"$f":"DINAMICA!E849","v":0},{"$f":"DINAMICA!F849","v":0},{"$f":"DINAMICA!G849","v":0},{"$f":"DINAMICA!H849","v":0},{"$f":"DINAMICA!I849","v":0},{"$f":"DINAMICA!J849","v":0},{"$f":"DINAMICA!K849","v":0},{"$f":"VALUE(DINAMICA!$L849)","v":0},{"$f":"VALUE(DINAMICA!$M849)","v":0},{"$f":"VALUE(DINAMICA!$N849)","v":0},{"$f":"VALUE(DINAMICA!$O849)","v":0},{"$f":"VALUE(DINAMICA!$P849)","v":0},{"$f":"VALUE(DINAMICA!$Q849)","v":0},{"$f":"VALUE(DINAMICA!$R849)","v":0}]
[{"$f":"VALUE(DINAMICA!$A850)","v":0},{"$f":"VALUE(DINAMICA!$B850)","v":"00:00:00"},{"$f":"VALUE(DINAMICA!$C850)","v":0},{"$f":"DINAMICA!D850","v":0},{"$f":"DINAMICA!E850","v":0},{"$f":"DINAMICA!F850","v":0},{"$f":"DINAMICA!G850","v":0},{"$f":"DINAMICA!H850","v":0},{"$f":"DINAMICA!I850","v":0},{"$f":"DINAMICA!J850","v":0},{"$f":"DINAMICA!K850","v":0},{"$f":"VALUE(DINAMICA!$L850)","v":0},{"$f":"VALUE(DINAMICA!$M850)","v":0},{"$f":"VALUE(DINAMICA!$N850)","v":0},{"$f":"VALUE(DINAMICA!$O850)","v":0},{"$f":"VALUE(DINAMICA!$P850)","v":0},{"$f":"VALUE(DINAMICA!$Q850)","v":0},{"$f":"VALUE(DINAMICA!$R850)","v":0}]
[{"$f":"VALUE(DINAMICA!$A851)","v":0},{"$f":"VALUE(DINAMICA!$B851)","v":"00:00:00"},{"$f":"VALUE(DINAMICA!$C851)","v":0},{"$f":"DINAMICA!D851","v":0},{"$f":"DINAMICA!E851","v":0},{"$f":"DINAMICA!F851","v":0},{"$f":"DINAMICA!G851","v":0},{"$f":"DINAMICA!H851","v":0},{"$f":"DINAMICA!I851","v":0},{"$f":"DINAMICA!J851","v":0},{"$f":"DINAMICA!K851","v":0},{"$f":"VALUE(DINAMICA!$L851)","v":0},{"$f":"VALUE(DINAMICA!$M851)","v":0},{"$f":"VALUE(DINAMICA!$N851)","v":0},{"$f":"VALUE(DINAMICA!$O851)","v":0},{"$f":"VALUE(DINAMICA!$P851)","v":0},{"$f":"VALUE(DINAMICA!$Q851)","v":0},{"$f":"VALUE(DINAMICA!$R851)","v":0}]
[{"$f":"VALUE(DINAMICA!$A852)","v":0},{"$f":"VALUE(DINAMICA!$B852)","v":"00:00:00"},{"$f":"VALUE(DINAMICA!$C852)","v":0},{"$f":"DINAMICA!D852","v":0},{"$f":"DINAMICA!E852","v":0},{"$f":"DINAMICA!F852","v":0},{"$f":"DINAMICA!G852","v":0},{"$f":"DINAMICA!H852","v":0},{"$f":"DINAMICA!I852","v":0},{"$f":"DINAMICA!J852","v":0},{"$f":"DINAMICA!K852","v":0},{"$f":"VALUE(DINAMICA!$L852)","v":0},{"$f":"VALUE(DINAMICA!$M852)","v":0},{"$f":"VALUE(DINAMICA!$N852)","v":0},{"$f":"VALUE(DINAMICA!$O852)","v":0},{"$f":"VALUE(DINAMICA!$P852)","v":0},{"$f":"VALUE(DINAMICA!$Q852)","v":0},{"$f":"VALUE(DINAMICA!$R852)","v":0}]
[{"$f":"VALUE(DINAMICA!$A853)","v":0},{"$f":"VALUE(DINAMICA!$B853)","v":"00:00:00"},{"$f":"VALUE(DINAMICA!$C853)","v":0},{"$f":"DINAMICA!D853","v":0},{"$f":"DINAMICA!E853","v":0},{"$f":"DINAMICA!F853","v":0},{"$f":"DINAMICA!G853","v":0},{"$f":"DINAMICA!H853","v":0},{"$f":"DINAMICA!I853","v":0},{"$f":"DINAMICA!J853","v":0},{"$f":"DINAMICA!K853","v":0},{"$f":"VALUE(DINAMICA!$L853)","v":0},{"$f":"VALUE(DINAMICA!$M853)","v":0},{"$f":"VALUE(DINAMICA!$N853)","v":0},{"$f":"VALUE(DINAMICA!$O853)","v":0},{"$f":"VALUE(DINAMICA!$P853)","v":0},{"$f":"VALUE(DINAMICA!$Q853)","v":0},{"$f":"VALUE(DINAMICA!$R853)","v":0}]
[{"$f":"VALUE(DINAMICA!$A854)","v":0},{"$f":"VALUE(DINAMICA!$B854)","v":"00:00:00"},{"$f":"VALUE(DINAMICA!$C854)","v":0},{"$f":"DINAMICA!D854","v":0},{"$f":"DINAMICA!E854","v":0},{"$f":"DINAMICA!F854","v":0},{"$f":"DINAMICA!G854","v":0},{"$f":"DINAMICA!H854","v":0},{"$f":"DINAMICA!I854","v":0},{"$f":"DINAMICA!J854","v":0},{"$f":"DINAMICA!K854","v":0},{"$f":"VALUE(DINAMICA!$L854)","v":0},{"$f":"VALUE(DINAMICA!$M854)","v":0},{"$f":"VALUE(DINAMICA!$N854)","v":0},{"$f":"VALUE(DINAMICA!$O854)","v":0},{"$f":"VALUE(DINAMICA!$P854)","v":0},{"$f":"VALUE(DINAMICA!$Q854)","v":0},{"$f":"VALUE(DINAMICA!$R854)","v":0}]
[{"$f":"VALUE(DINAMICA!$A855)","v":0},{"$f":"VALUE(DINAMICA!$B855)","v":"00:00:00"},{"$f":"VALUE(DINAMICA!$C855)","v":0},{"$f":"DINAMICA!D855","v":0},{"$f":"DINAMICA!E855","v":0},{"$f":"DINAMICA!F855","v":0},{"$f":"DINAMICA!G855","v":0},{"$f":"DINAMICA!H855","v":0},{"$f":"DINAMICA!I855","v":0},{"$f":"DINAMICA!J855","v":0},{"$f":"DINAMICA!K855","v":0},{"$f":"VALUE(DINAMICA!$L855)","v":0},{"$f":"VALUE(DINAMICA!$M855)","v":0},{"$f":"VALUE(DINAMICA!$N855)","v":0},{"$f":"VALUE(DINAMICA!$O855)","v":0},{"$f":"VALUE(DINAMICA!$P855)","v":0},{"$f":"VALUE(DINAMICA!$Q855)","v":0},{"$f":"VALUE(DINAMICA!$R855)","v":0}]
[{"$f":"VALUE(DINAMICA!$A856)","v":0},{"$f":"VALUE(DINAMICA!$B856)","v":"00:00:00"},{"$f":"VALUE(DINAMICA!$C856)","v":0},{"$f":"DINAMICA!D856","v":0},{"$f":"DINAMICA!E856","v":0},{"$f":"DINAMICA!F856","v":0},{"$f":"DINAMICA!G856","v":0},{"$f":"DINAMICA!H856","v":0},{"$f":"DINAMICA!I856","v":0},{"$f":"DINAMICA!J856","v":0},{"$f":"DINAMICA!K856","v":0},{"$f":"VALUE(DINAMICA!$L856)","v":0},{"$f":"VALUE(DINAMICA!$M856)","v":0},{"$f":"VALUE(DINAMICA!$N856)","v":0},{"$f":"VALUE(DINAMICA!$O856)","v":0},{"$f":"VALUE(DINAMICA!$P856)","v":0},{"$f":"VALUE(DINAMICA!$Q856)","v":0},{"$f":"VALUE(DINAMICA!$R856)","v":0}]
[{"$f":"VALUE(DINAMICA!$A857)","v":0},{"$f":"VALUE(DINAMICA!$B857)","v":"00:00:00"},{"$f":"VALUE(DINAMICA!$C857)","v":0},{"$f":"DINAMICA!D857","v":0},{"$f":"DINAMICA!E857","v":0},{"$f":"DINAMICA!F857","v":0},{"$f":"DINAMICA!G857","v":0},{"$f":"DINAMICA!H857","v":0},{"$f":"DINAMICA!I857","v":0},{"$f":"DINAMICA!J857","v":0},{"$f":"DINAMICA!K857","v":0},{"$f":"VALUE(DINAMICA!$L857)","v":0},{"$f":"VALUE(DINAMICA!$M857)","v":0},{"$f":"VALUE(DINAMICA!$N857)","v":0},{"$f":"VALUE(DINAMICA!$O857)","v":0},{"$f":"VALUE(DINAMICA!$P857)","v":0},{"$f":"VALUE(DINAMICA!$Q857)","v":0},{"$f":"VALUE(DINAMICA!$R857)","v":0}]
[{"$f":"VALUE(DINAMICA!$A858)","v":0},{"$f":"VALUE(DINAMICA!$B858)","v":"00:00:00"},{"$f":"VALUE(DINAMICA!$C858)","v":0},{"$f":"DINAMICA!D858","v":0},{"$f":"DINAMICA!E858","v":0},{"$f":"DINAMICA!F858","v":0},{"$f":"DINAMICA!G858","v":0},{"$f":"DINAMICA!H858","v":0},{"$f":"DINAMICA!I858","v":0},{"$f":"DINAMICA!J858","v":0},{"$f":"DINAMICA!K858","v":0},{"$f":"VALUE(DINAMICA!$L858)","v":0},{"$f":"VALUE(DINAMICA!$M858)","v":0},{"$f":"VALUE(DINAMICA!$N858)","v":0},{"$f":"VALUE(DINAMICA!$O858)","v":0},{"$f":"VALUE(DINAMICA!$P858)","v":0},{"$f":"VALUE(DINAMICA!$Q858)","v":0},{"$f":"VALUE(DINAMICA!$R858)","v":0}]
[{"$f":"VALUE(DINAMICA!$A859)","v":0},{"$f":"VALUE(DINAMICA!$B859)","v":"00:00:00"},{"$f":"VALUE(DINAMICA!$C859)","v":0},{"$f":"DINAMICA!D859","v":0},{"$f":"DINAMICA!E859","v":0},{"$f":"DINAMICA!F859","v":0},{"$f":"DINAMICA!G859","v":0},{"$f":"DINAMICA!H859","v":0},{"$f":"DINAMICA!I859","v":0},{"$f":"DINAMICA!J859","v":0},{"$f":"DINAMICA!K859","v":0},{"$f":"VALUE(DINAMICA!$L859)","v":0},{"$f":"VALUE(DINAMICA!$M859)","v":0},{"$f":"VALUE(DINAMICA!$N859)","v":0},{"$f":"VALUE(DINAMICA!$O859)","v":0},{"$f":"VALUE(DINAMICA!$P859)","v":0},{"$f":"VALUE(DINAMICA!$Q859)","v":0},{"$f":"VALUE(DINAMICA!$R859)","v":0}]
[{"$f":"VALUE(DINAMICA!$A860)","v":0},{"$f":"VALUE(DINAMICA!$B860)","v":"00:00:00"},{"$f":"VALUE(DINAMICA!$C860)","v":0},{"$f":"DINAMICA!D860","v":0},{"$f":"DINAMICA!E860","v":0},{"$f":"DINAMICA!F860","v":0},{"$f":"DINAMICA!G860","v":0},{"$f":"DINAMICA!H860","v":0},{"$f":"DINAMICA!I860","v":0},{"$f":"DINAMICA!J860","v":0},{"$f":"DINAMICA!K860","v":0},{"$f":"VALUE(DINAMICA!$L860)","v":0},{"$f":"VALUE(DINAMICA!$M860)","v":0},{"$f":"VALUE(DINAMICA!$N860)","v":0},{"$f":"VALUE(DINAMICA!$O860)","v":0},{"$f":"VALUE(DINAMICA!$P860)","v":0},{"$f":"VALUE(DINAMICA!$Q860)","v":0},{"$f":"VALUE(DINAMICA!$R860)","v":0}]
[{"$f":"VALUE(DINAMICA!$A861)","v":0},{"$f":"VALUE(DINAMICA!$B861)","v":"00:00:00"},{"$f":"VALUE(DINAMICA!$C861)","v":0},{"$f":"DINAMICA!D861","v":0},{"$f":"DINAMICA!E861","v":0},{"$f":"DINAMICA!F861","v":0},{"$f":"DINAMICA!G861","v":0},{"$f":"DINAMICA!H861","v":0},{"$f":"DINAMICA!I861","v":0},{"$f":"DINAMICA!J861","v":0},{"$f":"DINAMICA!K861","v":0},{"$f":"VALUE(DINAMICA!$L861)","v":0},{"$f":"VALUE(DINAMICA!$M861)","v":0},{"$f":"VALUE(DINAMICA!$N861)","v":0},{"$f":"VALUE(DINAMICA!$O861)","v":0},{"$f":"VALUE(DINAMICA!$P861)","v":0},{"$f":"VALUE(DINAMICA!$Q861)","v":0},{"$f":"VALUE(DINAMICA!$R861)","v":0}]
[{"$f":"VALUE(DINAMICA!$A862)","v":0},{"$f":"VALUE(DINAMICA!$B862)","v":"00:00:00"},{"$f":"VALUE(DINAMICA!$C862)","v":0},{"$f":"DINAMICA!D862","v":0},{"$f":"DINAMICA!E862","v":0},{"$f":"DINAMICA!F862","v":0},{"$f":"DINAMICA!G862","v":0},{"$f":"DINAMICA!H862","v":0},{"$f":"DINAMICA!I862","v":0},{"$f":"DINAMICA!J862","v":0},{"$f":"DINAMICA!K862","v":0},{"$f":"VALUE(DINAMICA!$L862)","v":0},{"$f":"VALUE(DINAMICA!$M862)","v":0},{"$f":"VALUE(DINAMICA!$N862)","v":0},{"$f":"VALUE(DINAMICA!$O862)","v":0},{"$f":"VALUE(DINAMICA!$P862)","v":0},{"$f":"VALUE(DINAMICA!$Q862)","v":0},{"$f":"VALUE(DINAMICA!$R862)","v":0}]
[{"$f":"VALUE(DINAMICA!$A863)","v":0},{"$f":"VALUE(DINAMICA!$B863)","v":"00:00:00"},{"$f":"VALUE(DINAMICA!$C863)","v":0},{"$f":"DINAMICA!D863","v":0},{"$f":"DINAMICA!E863","v":0},{"$f":"DINAMICA!F863","v":0},{"$f":"DINAMICA!G863","v":0},{"$f":"DINAMICA!H863","v":0},{"$f":"DINAMICA!I863","v":0},{"$f":"DINAMICA!J863","v":0},{"$f":"DINAMICA!K863","v":0},{"$f":"VALUE(DINAMICA!$L863)","v":0},{"$f":"VALUE(DINAMICA!$M863)","v":0},{"$f":"VALUE(DINAMICA!$N863)","v":0},{"$f":"VALUE(DINAMICA!$O863)","v":0},{"$f":"VALUE(DINAMICA!$P863)","v":0},{"$f":"VALUE(DINAMICA!$Q863)","v":0},{"$f":"VALUE(DINAMICA!$R863)","v":0}]
[{"$f":"VALUE(DINAMICA!$A864)","v":0},{"$f":"VALUE(DINAMICA!$B864)","v":"00:00:00"},{"$f":"VALUE(DINAMICA!$C864)","v":0},{"$f":"DINAMICA!D864","v":0},{"$f":"DINAMICA!E864","v":0},{"$f":"DINAMICA!F864","v":0},{"$f":"DINAMICA!G864","v":0},{"$f":"DINAMICA!H864","v":0},{"$f":"DINAMICA!I864","v":0},{"$f":"DINAMICA!J864","v":0},{"$f":"DINAMICA!K864","v":0},{"$f":"VALUE(DINAMICA!$L864)","v":0},{"$f":"VALUE(DINAMICA!$M864)","v":0},{"$f":"VALUE(DINAMICA!$N864)","v":0},{"$f":"VALUE(DINAMICA!$O864)","v":0},{"$f":"VALUE(DINAMICA!$P864)","v":0},{"$f":"VALUE(DINAMICA!$Q864)","v":0},{"$f":"VALUE(DINAMICA!$R864)","v":0}]
[{"$f":"VALUE(DINAMICA!$A865)","v":0},{"$f":"VALUE(DINAMICA!$B865)","v":"00:00:00"},{"$f":"VALUE(DINAMICA!$C865)","v":0},{"$f":"DINAMICA!D865","v":0},{"$f":"DINAMICA!E865","v":0},{"$f":"DINAMICA!F865","v":0},{"$f":"DINAMICA!G865","v":0},{"$f":"DINAMICA!H865","v":0},{"$f":"DINAMICA!I865","v":0},{"$f":"DINAMICA!J865","v":0},{"$f":"DINAMICA!K865","v":0},{"$f":"VALUE(DINAMICA!$L865)","v":0},{"$f":"VALUE(DINAMICA!$M865)","v":0},{"$f":"VALUE(DINAMICA!$N865)","v":0},{"$f":"VALUE(DINAMICA!$O865)","v":0},{"$f":"VALUE(DINAMICA!$P865)","v":0},{"$f":"VALUE(DINAMICA!$Q865)","v":0},{"$f":"VALUE(DINAMICA!$R865)","v":0}]
[{"$f":"VALUE(DINAMICA!$A866)","v":0},{"$f":"VALUE(DINAMICA!$B866)","v":"00:00:00"},{"$f":"VALUE(DINAMICA!$C866)","v":0},{"$f":"DINAMICA!D866","v":0},{"$f":"DINAMICA!E866","v":0},{"$f":"DINAMICA!F866","v":0},{"$f":"DINAMICA!G866","v":0},{"$f":"DINAMICA!H866","v":0},{"$f":"DINAMICA!I866","v":0},{"$f":"DINAMICA!J866","v":0},{"$f":"DINAMICA!K866","v":0},{"$f":"VALUE(DINAMICA!$L866)","v":0},{"$f":"VALUE(DINAMICA!$M866)","v":0},{"$f":"VALUE(DINAMICA!$N866)","v":0},{"$f":"VALUE(DINAMICA!$O866)","v":0},{"$f":"VALUE(DINAMICA!$P866)","v":0},{"$f":"VALUE(DINAMICA!$Q866)","v":0},{"$f":"VALUE(DINAMICA!$R866)","v":0}]
[{"$f":"VALUE(DINAMICA!$A867)","v":0},{"$f":"VALUE(DINAMICA!$B867)","v":"00:00:00"},{"$f":"VALUE(DINAMICA!$C867)","v":0},{"$f":"DINAMICA!D867","v":0},{"$f":"DINAMICA!E867","v":0},{"$f":"DINAMICA!F867","v":0},{"$f":"DINAMICA!G867","v":0},{"$f":"DINAMICA!H867","v":0},{"$f":"DINAMICA!I867","v":0},{"$f":"DINAMICA!J867","v":0},{"$f":"DINAMICA!K867","v":0},{"$f":"VALUE(DINAMICA!$L867)","v":0},{"$f":"VALUE(DINAMICA!$M867)","v":0},{"$f":"VALUE(DINAMICA!$N867)","v":0},{"$f":"VALUE(DINAMICA!$O867)","v":0},{"$f":"VALUE(DINAMICA!$P867)","v":0},{"$f":"VALUE(DINAMICA!$Q867)","v":0},{"$f":"VALUE(DINAMICA!$R867)","v":0}]
[{"$f":"VALUE(DINAMICA!$A868)","v":0},{"$f":"VALUE(DINAMICA!$B868)","v":"00:00:00"},{"$f":"VALUE(DINAMICA!$C868)","v":0},{"$f":"DINAMICA!D868","v":0},{"$f":"DINAMICA!E868","v":0},{"$f":"DINAMICA!F868","v":0},{"$f":"DINAMICA!G868","v":0},{"$f":"DINAMICA!H868","v":0},{"$f":"DINAMICA!I868","v":0},{"$f":"DINAMICA!J868","v":0},{"$f":"DINAMICA!K868","v":0},{"$f":"VALUE(DINAMICA!$L868)","v":0},{"$f":"VALUE(DINAMICA!$M868)","v":0},{"$f":"VALUE(DINAMICA!$N868)","v":0},{"$f":"VALUE(DINAMICA!$O868)","v":0},{"$f":"VALUE(DINAMICA!$P868)","v":0},{"$f":"VALUE(DINAMICA!$Q868)","v":0},{"$f":"VALUE(DINAMICA!$R868)","v":0}]
[{"$f":"VALUE(DINAMICA!$A869)","v":0},{"$f":"VALUE(DINAMICA!$B869)","v":"00:00:00"},{"$f":"VALUE(DINAMICA!$C869)","v":0},{"$f":"DINAMICA!D869","v":0},{"$f":"DINAMICA!E869","v":0},{"$f":"DINAMICA!F869","v":0},{"$f":"DINAMICA!G869","v":0},{"$f":"DINAMICA!H869","v":0},{"$f":"DINAMICA!I869","v":0},{"$f":"DINAMICA!J869","v":0},{"$f":"DINAMICA!K869","v":0},{"$f":"VALUE(DINAMICA!$L869)","v":0},{"$f":"VALUE(DINAMICA!$M869)","v":0},{"$f":"VALUE(DINAMICA!$N869)","v":0},{"$f":"VALUE(DINAMICA!$O869)","v":0},{"$f":"VALUE(DINAMICA!$P869)","v":0},{"$f":"VALUE(DINAMICA!$Q869)","v":0},{"$f":"VALUE(DINAMICA!$R869)","v":0}]
[{"$f":"VALUE(DINAMICA!$A870)","v":0},{"$f":"VALUE(DINAMICA!$B870)","v":"00:00:00"},{"$f":"VALUE(DINAMICA!$C870)","v":0},{"$f":"DINAMICA!D870","v":0},{"$f":"DINAMICA!E870","v":0},{"$f":"DINAMICA!F870","v":0},{"$f":"DINAMICA!G870","v":0},{"$f":"DINAMICA!H870","v":0},{"$f":"DINAMICA!I870","v":0},{"$f":"DINAMICA!J870","v":0},{"$f":"DINAMICA!K870","v":0},{"$f":"VALUE(DINAMICA!$L870)","v":0},{"$f":"VALUE(DINAMICA!$M870)","v":0},{"$f":"VALUE(DINAMICA!$N870)","v":0},{"$f":"VALUE(DINAMICA!$O870)","v":0},{"$f":"VALUE(DINAMICA!$P870)","v":0},{"$f":"VALUE(DINAMICA!$Q870)","v":0},{"$f":"VALUE(DINAMICA!$R870)","v":0}]
[{"$f":"VALUE(DINAMICA!$A871)","v":0},{"$f":"VALUE(DINAMICA!$B871)","v":"00:00:00"},{"$f":"VALUE(DINAMICA!$C871)","v":0},{"$f":"DINAMICA!D871","v":0},{"$f":"DINAMICA!E871","v":0},{"$f":"DINAMICA!F871","v":0},{"$f":"DINAMICA!G871","v":0},{"$f":"DINAMICA!H871","v":0},{"$f":"DINAMICA!I871","v":0},{"$f":"DINAMICA!J871","v":0},{"$f":"DINAMICA!K871","v":0},{"$f":"VALUE(DINAMICA!$L871)","v":0},{"$f":"VALUE(DINAMICA!$M871)","v":0},{"$f":"VALUE(DINAMICA!$N871)","v":0},{"$f":"VALUE(DINAMICA!$O871)","v":0},{"$f":"VALUE(DINAMICA!$P871)","v":0},{"$f":"VALUE(DINAMICA!$Q871)","v":0},{"$f":"VALUE(DINAMICA!$R871)","v":0}]
[{"$f":"VALUE(DINAMICA!$A872)","v":0},{"$f":"VALUE(DINAMICA!$B872)","v":"00:00:00"},{"$f":"VALUE(DINAMICA!$C872)","v":0},{"$f":"DINAMICA!D872","v":0},{"$f":"DINAMICA!E872","v":0},{"$f":"DINAMICA!F872","v":0},{"$f":"DINAMICA!G872","v":0},{"$f":"DINAMICA!H872","v":0},{"$f":"DINAMICA!I872","v":0},{"$f":"DINAMICA!J872","v":0},{"$f":"DINAMICA!K872","v":0},{"$f":"VALUE(DINAMICA!$L872)","v":0},{"$f":"VALUE(DINAMICA!$M872)","v":0},{"$f":"VALUE(DINAMICA!$N872)","v":0},{"$f":"VALUE(DINAMICA!$O872)","v":0},{"$f":"VALUE(DINAMICA!$P872)","v":0},{"$f":"VALUE(DINAMICA!$Q872)","v":0},{"$f":"VALUE(DINAMICA!$R872)","v":0}]
[{"$f":"VALUE(DINAMICA!$A873)","v":0},{"$f":"VALUE(DINAMICA!$B873)","v":"00:00:00"},{"$f":"VALUE(DINAMICA!$C873)","v":0},{"$f":"DINAMICA!D873","v":0},{"$f":"DINAMICA!E873","v":0},{"$f":"DINAMICA!F873","v":0},{"$f":"DINAMICA!G873","v":0},{"$f":"DINAMICA!H873","v":0},{"$f":"DINAMICA!I873","v":0},{"$f":"DINAMICA!J873","v":0},{"$f":"DINAMICA!K873","v":0},{"$f":"VALUE(DINAMICA!$L873)","v":0},{"$f":"VALUE(DINAMICA!$M873)","v":0},{"$f":"VALUE(DINAMICA!$N873)","v":0},{"$f":"VALUE(DINAMICA!$O873)","v":0},{"$f":"VALUE(DINAMICA!$P873)","v":0},{"$f":"VALUE(DINAMICA!$Q873)","v":0},{"$f":"VALUE(DINAMICA!$R873)","v":0}]
[{"$f":"VALUE(DINAMICA!$A874)","v":0},{"$f":"VALUE(DINAMICA!$B874)","v":"00:00:00"},{"$f":"VALUE(DINAMICA!$C874)","v":0},{"$f":"DINAMICA!D874","v":0},{"$f":"DINAMICA!E874","v":0},{"$f":"DINAMICA!F874","v":0},{"$f":"DINAMICA!G874","v":0},{"$f":"DINAMICA!H874","v":0},{"$f":"DINAMICA!I874","v":0},{"$f":"DINAMICA!J874","v":0},{"$f":"DINAMICA!K874","v":0},{"$f":"VALUE(DINAMICA!$L874)","v":0},{"$f":"VALUE(DINAMICA!$M874)","v":0},{"$f":"VALUE(DINAMICA!$N874)","v":0},{"$f":"VALUE(DINAMICA!$O874)","v":0},{"$f":"VALUE(DINAMICA!$P874)","v":0},{"$f":"VALUE(DINAMICA!$Q874)","v":0},{"$f":"VALUE(DINAMICA!$R874)","v":0}]
[{"$f":"VALUE(DINAMICA!$A875)","v":0},{"$f":"VALUE(DINAMICA!$B875)","v":"00:00:00"},{"$f":"VALUE(DINAMICA!$C875)","v":0},{"$f":"DINAMICA!D875","v":0},{"$f":"DINAMICA!E875","v":0},{"$f":"DINAMICA!F875","v":0},{"$f":"DINAMICA!G875","v":0},{"$f":"DINAMICA!H875","v":0},{"$f":"DINAMICA!I875","v":0},{"$f":"DINAMICA!J875","v":0},{"$f":"DINAMICA!K875","v":0},{"$f":"VALUE(DINAMICA!$L875)","v":0},{"$f":"VALUE(DINAMICA!$M875)","v":0},{"$f":"VALUE(DINAMICA!$N875)","v":0},{"$f":"VALUE(DINAMICA!$O875)","v":0},{"$f":"VALUE(DINAMICA!$P875)","v":0},{"$f":"VALUE(DINAMICA!$Q875)","v":0},{"$f":"VALUE(DINAMICA!$R875)","v":0}]
[{"$f":"VALUE(DINAMICA!$A876)","v":0},{"$f":"VALUE(DINAMICA!$B876)","v":"00:00:00"},{"$f":"VALUE(DINAMICA!$C876)","v":0},{"$f":"DINAMICA!D876","v":0},{"$f":"DINAMICA!E876","v":0},{"$f":"DINAMICA!F876","v":0},{"$f":"DINAMICA!G876","v":0},{"$f":"DINAMICA!H876","v":0},{"$f":"DINAMICA!I876","v":0},{"$f":"DINAMICA!J876","v":0},{"$f":"DINAMICA!K876","v":0},{"$f":"VALUE(DINAMICA!$L876)","v":0},{"$f":"VALUE(DINAMICA!$M876)","v":0},{"$f":"VALUE(DINAMICA!$N876)","v":0},{"$f":"VALUE(DINAMICA!$O876)","v":0},{"$f":"VALUE(DINAMICA!$P876)","v":0},{"$f":"VALUE(DINAMICA!$Q876)","v":0},{"$f":"VALUE(DINAMICA!$R876)","v":0}]
[{"$f":"VALUE(DINAMICA!$A877)","v":0},{"$f":"VALUE(DINAMICA!$B877)","v":"00:00:00"},{"$f":"VALUE(DINAMICA!$C877)","v":0},{"$f":"DINAMICA!D877","v":0},{"$f":"DINAMICA!E877","v":0},{"$f":"DINAMICA!F877","v":0},{"$f":"DINAMICA!G877","v":0},{"$f":"DINAMICA!H877","v":0},{"$f":"DINAMICA!I877","v":0},{"$f":"DINAMICA!J877","v":0},{"$f":"DINAMICA!K877","v":0},{"$f":"VALUE(DINAMICA!$L877)","v":0},{"$f":"VALUE(DINAMICA!$M877)","v":0},{"$f":"VALUE(DINAMICA!$N877)","v":0},{"$f":"VALUE(DINAMICA!$O877)","v":0},{"$f":"VALUE(DINAMICA!$P877)","v":0},{"$f":"VALUE(DINAMICA!$Q877)","v":0},{"$f":"VALUE(DINAMICA!$R877)","v":0}]
[{"$f":"VALUE(DINAMICA!$A878)","v":0},{"$f":"VALUE(DINAMICA!$B878)","v":"00:00:00"},{"$f":"VALUE(DINAMICA!$C878)","v":0},{"$f":"DINAMICA!D878","v":0},{"$f":"DINAMICA!E878","v":0},{"$f":"DINAMICA!F878","v":0},{"$f":"DINAMICA!G878","v":0},{"$f":"DINAMICA!H878","v":0},{"$f":"DINAMICA!I878","v":0},{"$f":"DINAMICA!J878","v":0},{"$f":"DINAMICA!K878","v":0},{"$f":"VALUE(DINAMICA!$L878)","v":0},{"$f":"VALUE(DINAMICA!$M878)","v":0},{"$f":"VALUE(DINAMICA!$N878)","v":0},{"$f":"VALUE(DINAMICA!$O878)","v":0},{"$f":"VALUE(DINAMICA!$P878)","v":0},{"$f":"VALUE(DINAMICA!$Q878)","v":0},{"$f":"VALUE(DINAMICA!$R878)","v":0}]
[{"$f":"VALUE(DINAMICA!$A879)","v":0},{"$f":"VALUE(DINAMICA!$B879)","v":"00:00:00"},{"$f":"VALUE(DINAMICA!$C879)","v":0},{"$f":"DINAMICA!D879","v":0},{"$f":"DINAMICA!E879","v":0},{"$f":"DINAMICA!F879","v":0},{"$f":"DINAMICA!G879","v":0},{"$f":"DINAMICA!H879","v":0},{"$f":"DINAMICA!I879","v":0},{"$f":"DINAMICA!J879","v":0},{"$f":"DINAMICA!K879","v":0},{"$f":"VALUE(DINAMICA!$L879)","v":0},{"$f":"VALUE(DINAMICA!$M879)","v":0},{"$f":"VALUE(DINAMICA!$N879)","v":0},{"$f":"VALUE(DINAMICA!$O879)","v":0},{"$f":"VALUE(DINAMICA!$P879)","v":0},{"$f":"VALUE(DINAMICA!$Q879)","v":0},{"$f":"VALUE(DINAMICA!$R879)","v":0}]
[{"$f":"VALUE(DINAMICA!$A880)","v":0},{"$f":"VALUE(DINAMICA!$B880)","v":"00:00:00"},{"$f":"VALUE(DINAMICA!$C880)","v":0},{"$f":"DINAMICA!D880","v":0},{"$f":"DINAMICA!E880","v":0},{"$f":"DINAMICA!F880","v":0},{"$f":"DINAMICA!G880","v":0},{"$f":"DINAMICA!H880","v":0},{"$f":"DINAMICA!I880","v":0},{"$f":"DINAMICA!J880","v":0},{"$f":"DINAMICA!K880","v":0},{"$f":"VALUE(DINAMICA!$L880)","v":0},{"$f":"VALUE(DINAMICA!$M880)","v":0},{"$f":"VALUE(DINAMICA!$N880)","v":0},{"$f":"VALUE(DINAMICA!$O880)","v":0},{"$f":"VALUE(DINAMICA!$P880)","v":0},{"$f":"VALUE(DINAMICA!$Q880)","v":0},{"$f":"VALUE(DINAMICA!$R880)","v":0}]
[{"$f":"VALUE(DINAMICA!$A881)","v":0},{"$f":"VALUE(DINAMICA!$B881)","v":"00:00:00"},{"$f":"VALUE(DINAMICA!$C881)","v":0},{"$f":"DINAMICA!D881","v":0},{"$f":"DINAMICA!E881","v":0},{"$f":"DINAMICA!F881","v":0},{"$f":"DINAMICA!G881","v":0},{"$f":"DINAMICA!H881","v":0},{"$f":"DINAMICA!I881","v":0},{"$f":"DINAMICA!J881","v":0},{"$f":"DINAMICA!K881","v":0},{"$f":"VALUE(DINAMICA!$L881)","v":0},{"$f":"VALUE(DINAMICA!$M881)","v":0},{"$f":"VALUE(DINAMICA!$N881)","v":0},{"$f":"VALUE(DINAMICA!$O881)","v":0},{"$f":"VALUE(DINAMICA!$P881)","v":0},{"$f":"VALUE(DINAMICA!$Q881)","v":0},{"$f":"VALUE(DINAMICA!$R881)","v":0}]
[{"$f":"VALUE(DINAMICA!$A882)","v":0},{"$f":"VALUE(DINAMICA!$B882)","v":"00:00:00"},{"$f":"VALUE(DINAMICA!$C882)","v":0},{"$f":"DINAMICA!D882","v":0},{"$f":"DINAMICA!E882","v":0},{"$f":"DINAMICA!F882","v":0},{"$f":"DINAMICA!G882","v":0},{"$f":"DINAMICA!H882","v":0},{"$f":"DINAMICA!I882","v":0},{"$f":"DINAMICA!J882","v":0},{"$f":"DINAMICA!K882","v":0},{"$f":"VALUE(DINAMICA!$L882)","v":0},{"$f":"VALUE(DINAMICA!$M882)","v":0},{"$f":"VALUE(DINAMICA!$N882)","v":0},{"$f":"VALUE(DINAMICA!$O882)","v":0},{"$f":"VALUE(DINAMICA!$P882)","v":0},{"$f":"VALUE(DINAMICA!$Q882)","v":0},{"$f":"VALUE(DINAMICA!$R882)","v":0}]
[{"$f":"VALUE(DINAMICA!$A883)","v":0},{"$f":"VALUE(DINAMICA!$B883)","v":"00:00:00"},{"$f":"VALUE(DINAMICA!$C883)","v":0},{"$f":"DINAMICA!D883","v":0},{"$f":"DINAMICA!E883","v":0},{"$f":"DINAMICA!F883","v":0},{"$f":"DINAMICA!G883","v":0},{"$f":"DINAMICA!H883","v":0},{"$f":"DINAMICA!I883","v":0},{"$f":"DINAMICA!J883","v":0},{"$f":"DINAMICA!K883","v":0},{"$f":"VALUE(DINAMICA!$L883)","v":0},{"$f":"VALUE(DINAMICA!$M883)","v":0},{"$f":"VALUE(DINAMICA!$N883)","v":0},{"$f":"VALUE(DINAMICA!$O883)","v":0},{"$f":"VALUE(DINAMICA!$P883)","v":0},{"$f":"VALUE(DINAMICA!$Q883)","v":0},{"$f":"VALUE(DINAMICA!$R883)","v":0}]
[{"$f":"VALUE(DINAMICA!$A884)","v":0},{"$f":"VALUE(DINAMICA!$B884)","v":"00:00:00"},{"$f":"VALUE(DINAMICA!$C884)","v":0},{"$f":"DINAMICA!D884","v":0},{"$f":"DINAMICA!E884","v":0},{"$f":"DINAMICA!F884","v":0},{"$f":"DINAMICA!G884","v":0},{"$f":"DINAMICA!H884","v":0},{"$f":"DINAMICA!I884","v":0},{"$f":"DINAMICA!J884","v":0},{"$f":"DINAMICA!K884","v":0},{"$f":"VALUE(DINAMICA!$L884)","v":0},{"$f":"VALUE(DINAMICA!$M884)","v":0},{"$f":"VALUE(DINAMICA!$N884)","v":0},{"$f":"VALUE(DINAMICA!$O884)","v":0},{"$f":"VALUE(DINAMICA!$P884)","v":0},{"$f":"VALUE(DINAMICA!$Q884)","v":0},{"$f":"VALUE(DINAMICA!$R884)","v":0}]
[{"$f":"VALUE(DINAMICA!$A885)","v":0},{"$f":"VALUE(DINAMICA!$B885)","v":"00:00:00"},{"$f":"VALUE(DINAMICA!$C885)","v":0},{"$f":"DINAMICA!D885","v":0},{"$f":"DINAMICA!E885","v":0},{"$f":"DINAMICA!F885","v":0},{"$f":"DINAMICA!G885","v":0},{"$f":"DINAMICA!H885","v":0},{"$f":"DINAMICA!I885","v":0},{"$f":"DINAMICA!J885","v":0},{"$f":"DINAMICA!K885","v":0},{"$f":"VALUE(DINAMICA!$L885)","v":0},{"$f":"VALUE(DINAMICA!$M885)","v":0},{"$f":"VALUE(DINAMICA!$N885)","v":0},{"$f":"VALUE(DINAMICA!$O885)","v":0},{"$f":"VALUE(DINAMICA!$P885)","v":0},{"$f":"VALUE(DINAMICA!$Q885)","v":0},{"$f":"VALUE(DINAMICA!$R885)","v":0}]
[{"$f":"VALUE(DINAMICA!$A886)","v":0},{"$f":"VALUE(DINAMICA!$B886)","v":"00:00:00"},{"$f":"VALUE(DINAMICA!$C886)","v":0},{"$f":"DINAMICA!D886","v":0},{"$f":"DINAMICA!E886","v":0},{"$f":"DINAMICA!F886","v":0},{"$f":"DINAMICA!G886","v":0},{"$f":"DINAMICA!H886","v":0},{"$f":"DINAMICA!I886","v":0},{"$f":"DINAMICA!J886","v":0},{"$f":"DINAMICA!K886","v":0},{"$f":"VALUE(DINAMICA!$L886)","v":0},{"$f":"VALUE(DINAMICA!$M886)","v":0},{"$f":"VALUE(DINAMICA!$N886)","v":0},{"$f":"VALUE(DINAMICA!$O886)","v":0},{"$f":"VALUE(DINAMICA!$P886)","v":0},{"$f":"VALUE(DINAMICA!$Q886)","v":0},{"$f":"VALUE(DINAMICA!$R886)","v":0}]
[{"$f":"VALUE(DINAMICA!$A887)","v":0},{"$f":"VALUE(DINAMICA!$B887)","v":"00:00:00"},{"$f":"VALUE(DINAMICA!$C887)","v":0},{"$f":"DINAMICA!D887","v":0},{"$f":"DINAMICA!E887","v":0},{"$f":"DINAMICA!F887","v":0},{"$f":"DINAMICA!G887","v":0},{"$f":"DINAMICA!H887","v":0},{"$f":"DINAMICA!I887","v":0},{"$f":"DINAMICA!J887","v":0},{"$f":"DINAMICA!K887","v":0},{"$f":"VALUE(DINAMICA!$L887)","v":0},{"$f":"VALUE(DINAMICA!$M887)","v":0},{"$f":"VALUE(DINAMICA!$N887)","v":0},{"$f":"VALUE(DINAMICA!$O887)","v":0},{"$f":"VALUE(DINAMICA!$P887)","v":0},{"$f":"VALUE(DINAMICA!$Q887)","v":0},{"$f":"VALUE(DINAMICA!$R887)","v":0}]
[{"$f":"VALUE(DINAMICA!$A888)","v":0},{"$f":"VALUE(DINAMICA!$B888)","v":"00:00:00"},{"$f":"VALUE(DINAMICA!$C888)","v":0},{"$f":"DINAMICA!D888","v":0},{"$f":"DINAMICA!E888","v":0},{"$f":"DINAMICA!F888","v":0},{"$f":"DINAMICA!G888","v":0},{"$f":"DINAMICA!H888","v":0},{"$f":"DINAMICA!I888","v":0},{"$f":"DINAMICA!J888","v":0},{"$f":"DINAMICA!K888","v":0},{"$f":"VALUE(DINAMICA!$L888)","v":0},{"$f":"VALUE(DINAMICA!$M888)","v":0},{"$f":"VALUE(DINAMICA!$N888)","v":0},{"$f":"VALUE(DINAMICA!$O888)","v":0},{"$f":"VALUE(DINAMICA!$P888)","v":0},{"$f":"VALUE(DINAMICA!$Q888)","v":0},{"$f":"VALUE(DINAMICA!$R888)","v":0}]
[{"$f":"VALUE(DINAMICA!$A889)","v":0},{"$f":"VALUE(DINAMICA!$B889)","v":"00:00:00"},{"$f":"VALUE(DINAMICA!$C889)","v":0},{"$f":"DINAMICA!D889","v":0},{"$f":"DINAMICA!E889","v":0},{"$f":"DINAMICA!F889","v":0},{"$f":"DINAMICA!G889","v":0},{"$f":"DINAMICA!H889","v":0},{"$f":"DINAMICA!I889","v":0},{"$f":"DINAMICA!J889","v":0},{"$f":"DINAMICA!K889","v":0},{"$f":"VALUE(DINAMICA!$L889)","v":0},{"$f":"VALUE(DINAMICA!$M889)","v":0},{"$f":"VALUE(DINAMICA!$N889)","v":0},{"$f":"VALUE(DINAMICA!$O889)","v":0},{"$f":"VALUE(DINAMICA!$P889)","v":0},{"$f":"VALUE(DINAMICA!$Q889)","v":0},{"$f":"VALUE(DINAMICA!$R889)","v":0}]
[{"$f":"VALUE(DINAMICA!$A890)","v":0},{"$f":"VALUE(DINAMICA!$B890)","v":"00:00:00"},{"$f":"VALUE(DINAMICA!$C890)","v":0},{"$f":"DINAMICA!D890","v":0},{"$f":"DINAMICA!E890","v":0},{"$f":"DINAMICA!F890","v":0},{"$f":"DINAMICA!G890","v":0},{"$f":"DINAMICA!H890","v":0},{"$f":"DINAMICA!I890","v":0},{"$f":"DINAMICA!J890","v":0},{"$f":"DINAMICA!K890","v":0},{"$f":"VALUE(DINAMICA!$L890)","v":0},{"$f":"VALUE(DINAMICA!$M890)","v":0},{"$f":"VALUE(DINAMICA!$N890)","v":0},{"$f":"VALUE(DINAMICA!$O890)","v":0},{"$f":"VALUE(DINAMICA!$P890)","v":0},{"$f":"VALUE(DINAMICA!$Q890)","v":0},{"$f":"VALUE(DINAMICA!$R890)","v":0}]
[{"$f":"VALUE(DINAMICA!$A891)","v":0},{"$f":"VALUE(DINAMICA!$B891)","v":"00:00:00"},{"$f":"VALUE(DINAMICA!$C891)","v":0},{"$f":"DINAMICA!D891","v":0},{"$f":"DINAMICA!E891","v":0},{"$f":"DINAMICA!F891","v":0},{"$f":"DINAMICA!G891","v":0},{"$f":"DINAMICA!H891","v":0},{"$f":"DINAMICA!I891","v":0},{"$f":"DINAMICA!J891","v":0},{"$f":"DINAMICA!K891","v":0},{"$f":"VALUE(DINAMICA!$L891)","v":0},{"$f":"VALUE(DINAMICA!$M891)","v":0},{"$f":"VALUE(DINAMICA!$N891)","v":0},{"$f":"VALUE(DINAMICA!$O891)","v":0},{"$f":"VALUE(DINAMICA!$P891)","v":0},{"$f":"VALUE(DINAMICA!$Q891)","v":0},{"$f":"VALUE(DINAMICA!$R891)","v":0}]
[{"$f":"VALUE(DINAMICA!$A892)","v":0},{"$f":"VALUE(DINAMICA!$B892)","v":"00:00:00"},{"$f":"VALUE(DINAMICA!$C892)","v":0},{"$f":"DINAMICA!D892","v":0},{"$f":"DINAMICA!E892","v":0},{"$f":"DINAMICA!F892","v":0},{"$f":"DINAMICA!G892","v":0},{"$f":"DINAMICA!H892","v":0},{"$f":"DINAMICA!I892","v":0},{"$f":"DINAMICA!J892","v":0},{"$f":"DINAMICA!K892","v":0},{"$f":"VALUE(DINAMICA!$L892)","v":0},{"$f":"VALUE(DINAMICA!$M892)","v":0},{"$f":"VALUE(DINAMICA!$N892)","v":0},{"$f":"VALUE(DINAMICA!$O892)","v":0},{"$f":"VALUE(DINAMICA!$P892)","v":0},{"$f":"VALUE(DINAMICA!$Q892)","v":0},{"$f":"VALUE(DINAMICA!$R892)","v":0}]
[{"$f":"VALUE(DINAMICA!$A893)","v":0},{"$f":"VALUE(DINAMICA!$B893)","v":"00:00:00"},{"$f":"VALUE(DINAMICA!$C893)","v":0},{"$f":"DINAMICA!D893","v":0},{"$f":"DINAMICA!E893","v":0},{"$f":"DINAMICA!F893","v":0},{"$f":"DINAMICA!G893","v":0},{"$f":"DINAMICA!H893","v":0},{"$f":"DINAMICA!I893","v":0},{"$f":"DINAMICA!J893","v":0},{"$f":"DINAMICA!K893","v":0},{"$f":"VALUE(DINAMICA!$L893)","v":0},{"$f":"VALUE(DINAMICA!$M893)","v":0},{"$f":"VALUE(DINAMICA!$N893)","v":0},{"$f":"VALUE(DINAMICA!$O893)","v":0},{"$f":"VALUE(DINAMICA!$P893)","v":0},{"$f":"VALUE(DINAMICA!$Q893)","v":0},{"$f":"VALUE(DINAMICA!$R893)","v":0}]
[{"$f":"VALUE(DINAMICA!$A894)","v":0},{"$f":"VALUE(DINAMICA!$B894)","v":"00:00:00"},{"$f":"VALUE(DINAMICA!$C894)","v":0},{"$f":"DINAMICA!D894","v":0},{"$f":"DINAMICA!E894","v":0},{"$f":"DINAMICA!F894","v":0},{"$f":"DINAMICA!G894","v":0},{"$f":"DINAMICA!H894","v":0},{"$f":"DINAMICA!I894","v":0},{"$f":"DINAMICA!J894","v":0},{"$f":"DINAMICA!K894","v":0},{"$f":"VALUE(DINAMICA!$L894)","v":0},{"$f":"VALUE(DINAMICA!$M894)","v":0},{"$f":"VALUE(DINAMICA!$N894)","v":0},{"$f":"VALUE(DINAMICA!$O894)","v":0},{"$f":"VALUE(DINAMICA!$P894)","v":0},{"$f":"VALUE(DINAMICA!$Q894)","v":0},{"$f":"VALUE(DINAMICA!$R894)","v":0}]
[{"$f":"VALUE(DINAMICA!$A895)","v":0},{"$f":"VALUE(DINAMICA!$B895)","v":"00:00:00"},{"$f":"VALUE(DINAMICA!$C895)","v":0},{"$f":"DINAMICA!D895","v":0},{"$f":"DINAMICA!E895","v":0},{"$f":"DINAMICA!F895","v":0},{"$f":"DINAMICA!G895","v":0},{"$f":"DINAMICA!H895","v":0},{"$f":"DINAMICA!I895","v":0},{"$f":"DINAMICA!J895","v":0},{"$f":"DINAMICA!K895","v":0},{"$f":"VALUE(DINAMICA!$L895)","v":0},{"$f":"VALUE(DINAMICA!$M895)","v":0},{"$f":"VALUE(DINAMICA!$N895)","v":0},{"$f":"VALUE(DINAMICA!$O895)","v":0},{"$f":"VALUE(DINAMICA!$P895)","v":0},{"$f":"VALUE(DINAMICA!$Q895)","v":0},{"$f":"VALUE(DINAMICA!$R895)","v":0}]
[{"$f":"VALUE(DINAMICA!$A896)","v":0},{"$f":"VALUE(DINAMICA!$B896)","v":"00:00:00"},{"$f":"VALUE(DINAMICA!$C896)","v":0},{"$f":"DINAMICA!D896","v":0},{"$f":"DINAMICA!E896","v":0},{"$f":"DINAMICA!F896","v":0},{"$f":"DINAMICA!G896","v":0},{"$f":"DINAMICA!H896","v":0},{"$f":"DINAMICA!I896","v":0},{"$f":"DINAMICA!J896","v":0},{"$f":"DINAMICA!K896","v":0},{"$f":"VALUE(DINAMICA!$L896)","v":0},{"$f":"VALUE(DINAMICA!$M896)","v":0},{"$f":"VALUE(DINAMICA!$N896)","v":0},{"$f":"VALUE(DINAMICA!$O896)","v":0},{"$f":"VALUE(DINAMICA!$P896)","v":0},{"$f":"VALUE(DINAMICA!$Q896)","v":0},{"$f":"VALUE(DINAMICA!$R896)","v":0}]
[{"$f":"VALUE(DINAMICA!$A897)","v":0},{"$f":"VALUE(DINAMICA!$B897)","v":"00:00:00"},{"$f":"VALUE(DINAMICA!$C897)","v":0},{"$f":"DINAMICA!D897","v":0},{"$f":"DINAMICA!E897","v":0},{"$f":"DINAMICA!F897","v":0},{"$f":"DINAMICA!G897","v":0},{"$f":"DINAMICA!H897","v":0},{"$f":"DINAMICA!I897","v":0},{"$f":"DINAMICA!J897","v":0},{"$f":"DINAMICA!K897","v":0},{"$f":"VALUE(DINAMICA!$L897)","v":0},{"$f":"VALUE(DINAMICA!$M897)","v":0},{"$f":"VALUE(DINAMICA!$N897)","v":0},{"$f":"VALUE(DINAMICA!$O897)","v":0},{"$f":"VALUE(DINAMICA!$P897)","v":0},{"$f":"VALUE(DINAMICA!$Q897)","v":0},{"$f":"VALUE(DINAMICA!$R897)","v":0}]
[{"$f":"VALUE(DINAMICA!$A898)","v":0},{"$f":"VALUE(DINAMICA!$B898)","v":"00:00:00"},{"$f":"VALUE(DINAMICA!$C898)","v":0},{"$f":"DINAMICA!D898","v":0},{"$f":"DINAMICA!E898","v":0},{"$f":"DINAMICA!F898","v":0},{"$f":"DINAMICA!G898","v":0},{"$f":"DINAMICA!H898","v":0},{"$f":"DINAMICA!I898","v":0},{"$f":"DINAMICA!J898","v":0},{"$f":"DINAMICA!K898","v":0},{"$f":"VALUE(DINAMICA!$L898)","v":0},{"$f":"VALUE(DINAMICA!$M898)","v":0},{"$f":"VALUE(DINAMICA!$N898)","v":0},{"$f":"VALUE(DINAMICA!$O898)","v":0},{"$f":"VALUE(DINAMICA!$P898)","v":0},{"$f":"VALUE(DINAMICA!$Q898)","v":0},{"$f":"VALUE(DINAMICA!$R898)","v":0}]
[{"$f":"VALUE(DINAMICA!$A899)","v":0},{"$f":"VALUE(DINAMICA!$B899)","v":"00:00:00"},{"$f":"VALUE(DINAMICA!$C899)","v":0},{"$f":"DINAMICA!D899","v":0},{"$f":"DINAMICA!E899","v":0},{"$f":"DINAMICA!F899","v":0},{"$f":"DINAMICA!G899","v":0},{"$f":"DINAMICA!H899","v":0},{"$f":"DINAMICA!I899","v":0},{"$f":"DINAMICA!J899","v":0},{"$f":"DINAMICA!K899","v":0},{"$f":"VALUE(DINAMICA!$L899)","v":0},{"$f":"VALUE(DINAMICA!$M899)","v":0},{"$f":"VALUE(DINAMICA!$N899)","v":0},{"$f":"VALUE(DINAMICA!$O899)","v":0},{"$f":"VALUE(DINAMICA!$P899)","v":0},{"$f":"VALUE(DINAMICA!$Q899)","v":0},{"$f":"VALUE(DINAMICA!$R899)","v":0}]
[{"$f":"VALUE(DINAMICA!$A900)","v":0},{"$f":"VALUE(DINAMICA!$B900)","v":"00:00:00"},{"$f":"VALUE(DINAMICA!$C900)","v":0},{"$f":"DINAMICA!D900","v":0},{"$f":"DINAMICA!E900","v":0},{"$f":"DINAMICA!F900","v":0},{"$f":"DINAMICA!G900","v":0},{"$f":"DINAMICA!H900","v":0},{"$f":"DINAMICA!I900","v":0},{"$f":"DINAMICA!J900","v":0},{"$f":"DINAMICA!K900","v":0},{"$f":"VALUE(DINAMICA!$L900)","v":0},{"$f":"VALUE(DINAMICA!$M900)","v":0},{"$f":"VALUE(DINAMICA!$N900)","v":0},{"$f":"VALUE(DINAMICA!$O900)","v":0},{"$f":"VALUE(DINAMICA!$P900)","v":0},{"$f":"VALUE(DINAMICA!$Q900)","v":0},{"$f":"VALUE(DINAMICA!$R900)","v":0}]
[{"$f":"VALUE(DINAMICA!$A901)","v":0},{"$f":"VALUE(DINAMICA!$B901)","v":"00:00:00"},{"$f":"VALUE(DINAMICA!$C901)","v":0},{"$f":"DINAMICA!D901","v":0},{"$f":"DINAMICA!E901","v":0},{"$f":"DINAMICA!F901","v":0},{"$f":"DINAMICA!G901","v":0},{"$f":"DINAMICA!H901","v":0},{"$f":"DINAMICA!I901","v":0},{"$f":"DINAMICA!J901","v":0},{"$f":"DINAMICA!K901","v":0},{"$f":"VALUE(DINAMICA!$L901)","v":0},{"$f":"VALUE(DINAMICA!$M901)","v":0},{"$f":"VALUE(DINAMICA!$N901)","v":0},{"$f":"VALUE(DINAMICA!$O901)","v":0},{"$f":"VALUE(DINAMICA!$P901)","v":0},{"$f":"VALUE(DINAMICA!$Q901)","v":0},{"$f":"VALUE(DINAMICA!$R901)","v":0}]
[{"$f":"VALUE(DINAMICA!$A902)","v":0},{"$f":"VALUE(DINAMICA!$B902)","v":"00:00:00"},{"$f":"VALUE(DINAMICA!$C902)","v":0},{"$f":"DINAMICA!D902","v":0},{"$f":"DINAMICA!E902","v":0},{"$f":"DINAMICA!F902","v":0},{"$f":"DINAMICA!G902","v":0},{"$f":"DINAMICA!H902","v":0},{"$f":"DINAMICA!I902","v":0},{"$f":"DINAMICA!J902","v":0},{"$f":"DINAMICA!K902","v":0},{"$f":"VALUE(DINAMICA!$L902)","v":0},{"$f":"VALUE(DINAMICA!$M902)","v":0},{"$f":"VALUE(DINAMICA!$N902)","v":0},{"$f":"VALUE(DINAMICA!$O902)","v":0},{"$f":"VALUE(DINAMICA!$P902)","v":0},{"$f":"VALUE(DINAMICA!$Q902)","v":0},{"$f":"VALUE(DINAMICA!$R902)","v":0}]
[{"$f":"VALUE(DINAMICA!$A903)","v":0},{"$f":"VALUE(DINAMICA!$B903)","v":"00:00:00"},{"$f":"VALUE(DINAMICA!$C903)","v":0},{"$f":"DINAMICA!D903","v":0},{"$f":"DINAMICA!E903","v":0},{"$f":"DINAMICA!F903","v":0},{"$f":"DINAMICA!G903","v":0},{"$f":"DINAMICA!H903","v":0},{"$f":"DINAMICA!I903","v":0},{"$f":"DINAMICA!J903","v":0},{"$f":"DINAMICA!K903","v":0},{"$f":"VALUE(DINAMICA!$L903)","v":0},{"$f":"VALUE(DINAMICA!$M903)","v":0},{"$f":"VALUE(DINAMICA!$N903)","v":0},{"$f":"VALUE(DINAMICA!$O903)","v":0},{"$f":"VALUE(DINAMICA!$P903)","v":0},{"$f":"VALUE(DINAMICA!$Q903)","v":0},{"$f":"VALUE(DINAMICA!$R903)","v":0}]
[{"$f":"VALUE(DINAMICA!$A904)","v":0},{"$f":"VALUE(DINAMICA!$B904)","v":"00:00:00"},{"$f":"VALUE(DINAMICA!$C904)","v":0},{"$f":"DINAMICA!D904","v":0},{"$f":"DINAMICA!E904","v":0},{"$f":"DINAMICA!F904","v":0},{"$f":"DINAMICA!G904","v":0},{"$f":"DINAMICA!H904","v":0},{"$f":"DINAMICA!I904","v":0},{"$f":"DINAMICA!J904","v":0},{"$f":"DINAMICA!K904","v":0},{"$f":"VALUE(DINAMICA!$L904)","v":0},{"$f":"VALUE(DINAMICA!$M904)","v":0},{"$f":"VALUE(DINAMICA!$N904)","v":0},{"$f":"VALUE(DINAMICA!$O904)","v":0},{"$f":"VALUE(DINAMICA!$P904)","v":0},{"$f":"VALUE(DINAMICA!$Q904)","v":0},{"$f":"VALUE(DINAMICA!$R904)","v":0}]
[{"$f":"VALUE(DINAMICA!$A905)","v":0},{"$f":"VALUE(DINAMICA!$B905)","v":"00:00:00"},{"$f":"VALUE(DINAMICA!$C905)","v":0},{"$f":"DINAMICA!D905","v":0},{"$f":"DINAMICA!E905","v":0},{"$f":"DINAMICA!F905","v":0},{"$f":"DINAMICA!G905","v":0},{"$f":"DINAMICA!H905","v":0},{"$f":"DINAMICA!I905","v":0},{"$f":"DINAMICA!J905","v":0},{"$f":"DINAMICA!K905","v":0},{"$f":"VALUE(DINAMICA!$L905)","v":0},{"$f":"VALUE(DINAMICA!$M905)","v":0},{"$f":"VALUE(DINAMICA!$N905)","v":0},{"$f":"VALUE(DINAMICA!$O905)","v":0},{"$f":"VALUE(DINAMICA!$P905)","v":0},{"$f":"VALUE(DINAMICA!$Q905)","v":0},{"$f":"VALUE(DINAMICA!$R905)","v":0}]
[{"$f":"VALUE(DINAMICA!$A906)","v":0},{"$f":"VALUE(DINAMICA!$B906)","v":"00:00:00"},{"$f":"VALUE(DINAMICA!$C906)","v":0},{"$f":"DINAMICA!D906","v":0},{"$f":"DINAMICA!E906","v":0},{"$f":"DINAMICA!F906","v":0},{"$f":"DINAMICA!G906","v":0},{"$f":"DINAMICA!H906","v":0},{"$f":"DINAMICA!I906","v":0},{"$f":"DINAMICA!J906","v":0},{"$f":"DINAMICA!K906","v":0},{"$f":"VALUE(DINAMICA!$L906)","v":0},{"$f":"VALUE(DINAMICA!$M906)","v":0},{"$f":"VALUE(DINAMICA!$N906)","v":0},{"$f":"VALUE(DINAMICA!$O906)","v":0},{"$f":"VALUE(DINAMICA!$P906)","v":0},{"$f":"VALUE(DINAMICA!$Q906)","v":0},{"$f":"VALUE(DINAMICA!$R906)","v":0}]
[{"$f":"VALUE(DINAMICA!$A907)","v":0},{"$f":"VALUE(DINAMICA!$B907)","v":"00:00:00"},{"$f":"VALUE(DINAMICA!$C907)","v":0},{"$f":"DINAMICA!D907","v":0},{"$f":"DINAMICA!E907","v":0},{"$f":"DINAMICA!F907","v":0},{"$f":"DINAMICA!G907","v":0},{"$f":"DINAMICA!H907","v":0},{"$f":"DINAMICA!I907","v":0},{"$f":"DINAMICA!J907","v":0},{"$f":"DINAMICA!K907","v":0},{"$f":"VALUE(DINAMICA!$L907)","v":0},{"$f":"VALUE(DINAMICA!$M907)","v":0},{"$f":"VALUE(DINAMICA!$N907)","v":0},{"$f":"VALUE(DINAMICA!$O907)","v":0},{"$f":"VALUE(DINAMICA!$P907)","v":0},{"$f":"VALUE(DINAMICA!$Q907)","v":0},{"$f":"VALUE(DINAMICA!$R907)","v":0}]
[{"$f":"VALUE(DINAMICA!$A908)","v":0},{"$f":"VALUE(DINAMICA!$B908)","v":"00:00:00"},{"$f":"VALUE(DINAMICA!$C908)","v":0},{"$f":"DINAMICA!D908","v":0},{"$f":"DINAMICA!E908","v":0},{"$f":"DINAMICA!F908","v":0},{"$f":"DINAMICA!G908","v":0},{"$f":"DINAMICA!H908","v":0},{"$f":"DINAMICA!I908","v":0},{"$f":"DINAMICA!J908","v":0},{"$f":"DINAMICA!K908","v":0},{"$f":"VALUE(DINAMICA!$L908)","v":0},{"$f":"VALUE(DINAMICA!$M908)","v":0},{"$f":"VALUE(DINAMICA!$N908)","v":0},{"$f":"VALUE(DINAMICA!$O908)","v":0},{"$f":"VALUE(DINAMICA!$P908)","v":0},{"$f":"VALUE(DINAMICA!$Q908)","v":0},{"$f":"VALUE(DINAMICA!$R908)","v":0}]
[{"$f":"VALUE(DINAMICA!$A909)","v":0},{"$f":"VALUE(DINAMICA!$B909)","v":"00:00:00"},{"$f":"VALUE(DINAMICA!$C909)","v":0},{"$f":"DINAMICA!D909","v":0},{"$f":"DINAMICA!E909","v":0},{"$f":"DINAMICA!F909","v":0},{"$f":"DINAMICA!G909","v":0},{"$f":"DINAMICA!H909","v":0},{"$f":"DINAMICA!I909","v":0},{"$f":"DINAMICA!J909","v":0},{"$f":"DINAMICA!K909","v":0},{"$f":"VALUE(DINAMICA!$L909)","v":0},{"$f":"VALUE(DINAMICA!$M909)","v":0},{"$f":"VALUE(DINAMICA!$N909)","v":0},{"$f":"VALUE(DINAMICA!$O909)","v":0},{"$f":"VALUE(DINAMICA!$P909)","v":0},{"$f":"VALUE(DINAMICA!$Q909)","v":0},{"$f":"VALUE(DINAMICA!$R909)","v":0}]
[{"$f":"VALUE(DINAMICA!$A910)","v":0},{"$f":"VALUE(DINAMICA!$B910)","v":"00:00:00"},{"$f":"VALUE(DINAMICA!$C910)","v":0},{"$f":"DINAMICA!D910","v":0},{"$f":"DINAMICA!E910","v":0},{"$f":"DINAMICA!F910","v":0},{"$f":"DINAMICA!G910","v":0},{"$f":"DINAMICA!H910","v":0},{"$f":"DINAMICA!I910","v":0},{"$f":"DINAMICA!J910","v":0},{"$f":"DINAMICA!K910","v":0},{"$f":"VALUE(DINAMICA!$L910)","v":0},{"$f":"VALUE(DINAMICA!$M910)","v":0},{"$f":"VALUE(DINAMICA!$N910)","v":0},{"$f":"VALUE(DINAMICA!$O910)","v":0},{"$f":"VALUE(DINAMICA!$P910)","v":0},{"$f":"VALUE(DINAMICA!$Q910)","v":0},{"$f":"VALUE(DINAMICA!$R910)","v":0}]
[{"$f":"VALUE(DINAMICA!$A911)","v":0},{"$f":"VALUE(DINAMICA!$B911)","v":"00:00:00"},{"$f":"VALUE(DINAMICA!$C911)","v":0},{"$f":"DINAMICA!D911","v":0},{"$f":"DINAMICA!E911","v":0},{"$f":"DINAMICA!F911","v":0},{"$f":"DINAMICA!G911","v":0},{"$f":"DINAMICA!H911","v":0},{"$f":"DINAMICA!I911","v":0},{"$f":"DINAMICA!J911","v":0},{"$f":"DINAMICA!K911","v":0},{"$f":"VALUE(DINAMICA!$L911)","v":0},{"$f":"VALUE(DINAMICA!$M911)","v":0},{"$f":"VALUE(DINAMICA!$N911)","v":0},{"$f":"VALUE(DINAMICA!$O911)","v":0},{"$f":"VALUE(DINAMICA!$P911)","v":0},{"$f":"VALUE(DINAMICA!$Q911)","v":0},{"$f":"VALUE(DINAMICA!$R911)","v":0}]
[{"$f":"VALUE(DINAMICA!$A912)","v":0},{"$f":"VALUE(DINAMICA!$B912)","v":"00:00:00"},{"$f":"VALUE(DINAMICA!$C912)","v":0},{"$f":"DINAMICA!D912","v":0},{"$f":"DINAMICA!E912","v":0},{"$f":"DINAMICA!F912","v":0},{"$f":"DINAMICA!G912","v":0},{"$f":"DINAMICA!H912","v":0},{"$f":"DINAMICA!I912","v":0},{"$f":"DINAMICA!J912","v":0},{"$f":"DINAMICA!K912","v":0},{"$f":"VALUE(DINAMICA!$L912)","v":0},{"$f":"VALUE(DINAMICA!$M912)","v":0},{"$f":"VALUE(DINAMICA!$N912)","v":0},{"$f":"VALUE(DINAMICA!$O912)","v":0},{"$f":"VALUE(DINAMICA!$P912)","v":0},{"$f":"VALUE(DINAMICA!$Q912)","v":0},{"$f":"VALUE(DINAMICA!$R912)","v":0}]
[{"$f":"VALUE(DINAMICA!$A913)","v":0},{"$f":"VALUE(DINAMICA!$B913)","v":"00:00:00"},{"$f":"VALUE(DINAMICA!$C913)","v":0},{"$f":"DINAMICA!D913","v":0},{"$f":"DINAMICA!E913","v":0},{"$f":"DINAMICA!F913","v":0},{"$f":"DINAMICA!G913","v":0},{"$f":"DINAMICA!H913","v":0},{"$f":"DINAMICA!I913","v":0},{"$f":"DINAMICA!J913","v":0},{"$f":"DINAMICA!K913","v":0},{"$f":"VALUE(DINAMICA!$L913)","v":0},{"$f":"VALUE(DINAMICA!$M913)","v":0},{"$f":"VALUE(DINAMICA!$N913)","v":0},{"$f":"VALUE(DINAMICA!$O913)","v":0},{"$f":"VALUE(DINAMICA!$P913)","v":0},{"$f":"VALUE(DINAMICA!$Q913)","v":0},{"$f":"VALUE(DINAMICA!$R913)","v":0}]
[{"$f":"VALUE(DINAMICA!$A914)","v":0},{"$f":"VALUE(DINAMICA!$B914)","v":"00:00:00"},{"$f":"VALUE(DINAMICA!$C914)","v":0},{"$f":"DINAMICA!D914","v":0},{"$f":"DINAMICA!E914","v":0},{"$f":"DINAMICA!F914","v":0},{"$f":"DINAMICA!G914","v":0},{"$f":"DINAMICA!H914","v":0},{"$f":"DINAMICA!I914","v":0},{"$f":"DINAMICA!J914","v":0},{"$f":"DINAMICA!K914","v":0},{"$f":"VALUE(DINAMICA!$L914)","v":0},{"$f":"VALUE(DINAMICA!$M914)","v":0},{"$f":"VALUE(DINAMICA!$N914)","v":0},{"$f":"VALUE(DINAMICA!$O914)","v":0},{"$f":"VALUE(DINAMICA!$P914)","v":0},{"$f":"VALUE(DINAMICA!$Q914)","v":0},{"$f":"VALUE(DINAMICA!$R914)","v":0}]
[{"$f":"VALUE(DINAMICA!$A915)","v":0},{"$f":"VALUE(DINAMICA!$B915)","v":"00:00:00"},{"$f":"VALUE(DINAMICA!$C915)","v":0},{"$f":"DINAMICA!D915","v":0},{"$f":"DINAMICA!E915","v":0},{"$f":"DINAMICA!F915","v":0},{"$f":"DINAMICA!G915","v":0},{"$f":"DINAMICA!H915","v":0},{"$f":"DINAMICA!I915","v":0},{"$f":"DINAMICA!J915","v":0},{"$f":"DINAMICA!K915","v":0},{"$f":"VALUE(DINAMICA!$L915)","v":0},{"$f":"VALUE(DINAMICA!$M915)","v":0},{"$f":"VALUE(DINAMICA!$N915)","v":0},{"$f":"VALUE(DINAMICA!$O915)","v":0},{"$f":"VALUE(DINAMICA!$P915)","v":0},{"$f":"VALUE(DINAMICA!$Q915)","v":0},{"$f":"VALUE(DINAMICA!$R915)","v":0}]
[{"$f":"VALUE(DINAMICA!$A916)","v":0},{"$f":"VALUE(DINAMICA!$B916)","v":"00:00:00"},{"$f":"VALUE(DINAMICA!$C916)","v":0},{"$f":"DINAMICA!D916","v":0},{"$f":"DINAMICA!E916","v":0},{"$f":"DINAMICA!F916","v":0},{"$f":"DINAMICA!G916","v":0},{"$f":"DINAMICA!H916","v":0},{"$f":"DINAMICA!I916","v":0},{"$f":"DINAMICA!J916","v":0},{"$f":"DINAMICA!K916","v":0},{"$f":"VALUE(DINAMICA!$L916)","v":0},{"$f":"VALUE(DINAMICA!$M916)","v":0},{"$f":"VALUE(DINAMICA!$N916)","v":0},{"$f":"VALUE(DINAMICA!$O916)","v":0},{"$f":"VALUE(DINAMICA!$P916)","v":0},{"$f":"VALUE(DINAMICA!$Q916)","v":0},{"$f":"VALUE(DINAMICA!$R916)","v":0}]
[{"$f":"VALUE(DINAMICA!$A917)","v":0},{"$f":"VALUE(DINAMICA!$B917)","v":"00:00:00"},{"$f":"VALUE(DINAMICA!$C917)","v":0},{"$f":"DINAMICA!D917","v":0},{"$f":"DINAMICA!E917","v":0},{"$f":"DINAMICA!F917","v":0},{"$f":"DINAMICA!G917","v":0},{"$f":"DINAMICA!H917","v":0},{"$f":"DINAMICA!I917","v":0},{"$f":"DINAMICA!J917","v":0},{"$f":"DINAMICA!K917","v":0},{"$f":"VALUE(DINAMICA!$L917)","v":0},{"$f":"VALUE(DINAMICA!$M917)","v":0},{"$f":"VALUE(DINAMICA!$N917)","v":0},{"$f":"VALUE(DINAMICA!$O917)","v":0},{"$f":"VALUE(DINAMICA!$P917)","v":0},{"$f":"VALUE(DINAMICA!$Q917)","v":0},{"$f":"VALUE(DINAMICA!$R917)","v":0}]
[{"$f":"VALUE(DINAMICA!$A918)","v":0},{"$f":"VALUE(DINAMICA!$B918)","v":"00:00:00"},{"$f":"VALUE(DINAMICA!$C918)","v":0},{"$f":"DINAMICA!D918","v":0},{"$f":"DINAMICA!E918","v":0},{"$f":"DINAMICA!F918","v":0},{"$f":"DINAMICA!G918","v":0},{"$f":"DINAMICA!H918","v":0},{"$f":"DINAMICA!I918","v":0},{"$f":"DINAMICA!J918","v":0},{"$f":"DINAMICA!K918","v":0},{"$f":"VALUE(DINAMICA!$L918)","v":0},{"$f":"VALUE(DINAMICA!$M918)","v":0},{"$f":"VALUE(DINAMICA!$N918)","v":0},{"$f":"VALUE(DINAMICA!$O918)","v":0},{"$f":"VALUE(DINAMICA!$P918)","v":0},{"$f":"VALUE(DINAMICA!$Q918)","v":0},{"$f":"VALUE(DINAMICA!$R918)","v":0}]
[{"$f":"VALUE(DINAMICA!$A919)","v":0},{"$f":"VALUE(DINAMICA!$B919)","v":"00:00:00"},{"$f":"VALUE(DINAMICA!$C919)","v":0},{"$f":"DINAMICA!D919","v":0},{"$f":"DINAMICA!E919","v":0},{"$f":"DINAMICA!F919","v":0},{"$f":"DINAMICA!G919","v":0},{"$f":"DINAMICA!H919","v":0},{"$f":"DINAMICA!I919","v":0},{"$f":"DINAMICA!J919","v":0},{"$f":"DINAMICA!K919","v":0},{"$f":"VALUE(DINAMICA!$L919)","v":0},{"$f":"VALUE(DINAMICA!$M919)","v":0},{"$f":"VALUE(DINAMICA!$N919)","v":0},{"$f":"VALUE(DINAMICA!$O919)","v":0},{"$f":"VALUE(DINAMICA!$P919)","v":0},{"$f":"VALUE(DINAMICA!$Q919)","v":0},{"$f":"VALUE(DINAMICA!$R919)","v":0}]
[{"$f":"VALUE(DINAMICA!$A920)","v":0},{"$f":"VALUE(DINAMICA!$B920)","v":"00:00:00"},{"$f":"VALUE(DINAMICA!$C920)","v":0},{"$f":"DINAMICA!D920","v":0},{"$f":"DINAMICA!E920","v":0},{"$f":"DINAMICA!F920","v":0},{"$f":"DINAMICA!G920","v":0},{"$f":"DINAMICA!H920","v":0},{"$f":"DINAMICA!I920","v":0},{"$f":"DINAMICA!J920","v":0},{"$f":"DINAMICA!K920","v":0},{"$f":"VALUE(DINAMICA!$L920)","v":0},{"$f":"VALUE(DINAMICA!$M920)","v":0},{"$f":"VALUE(DINAMICA!$N920)","v":0},{"$f":"VALUE(DINAMICA!$O920)","v":0},{"$f":"VALUE(DINAMICA!$P920)","v":0},{"$f":"VALUE(DINAMICA!$Q920)","v":0},{"$f":"VALUE(DINAMICA!$R920)","v":0}]
[{"$f":"VALUE(DINAMICA!$A921)","v":0},{"$f":"VALUE(DINAMICA!$B921)","v":"00:00:00"},{"$f":"VALUE(DINAMICA!$C921)","v":0},{"$f":"DINAMICA!D921","v":0},{"$f":"DINAMICA!E921","v":0},{"$f":"DINAMICA!F921","v":0},{"$f":"DINAMICA!G921","v":0},{"$f":"DINAMICA!H921","v":0},{"$f":"DINAMICA!I921","v":0},{"$f":"DINAMICA!J921","v":0},{"$f":"DINAMICA!K921","v":0},{"$f":"VALUE(DINAMICA!$L921)","v":0},{"$f":"VALUE(DINAMICA!$M921)","v":0},{"$f":"VALUE(DINAMICA!$N921)","v":0},{"$f":"VALUE(DINAMICA!$O921)","v":0},{"$f":"VALUE(DINAMICA!$P921)","v":0},{"$f":"VALUE(DINAMICA!$Q921)","v":0},{"$f":"VALUE(DINAMICA!$R921)","v":0}]
[{"$f":"VALUE(DINAMICA!$A922)","v":0},{"$f":"VALUE(DINAMICA!$B922)","v":"00:00:00"},{"$f":"VALUE(DINAMICA!$C922)","v":0},{"$f":"DINAMICA!D922","v":0},{"$f":"DINAMICA!E922","v":0},{"$f":"DINAMICA!F922","v":0},{"$f":"DINAMICA!G922","v":0},{"$f":"DINAMICA!H922","v":0},{"$f":"DINAMICA!I922","v":0},{"$f":"DINAMICA!J922","v":0},{"$f":"DINAMICA!K922","v":0},{"$f":"VALUE(DINAMICA!$L922)","v":0},{"$f":"VALUE(DINAMICA!$M922)","v":0},{"$f":"VALUE(DINAMICA!$N922)","v":0},{"$f":"VALUE(DINAMICA!$O922)","v":0},{"$f":"VALUE(DINAMICA!$P922)","v":0},{"$f":"VALUE(DINAMICA!$Q922)","v":0},{"$f":"VALUE(DINAMICA!$R922)","v":0}]
[{"$f":"VALUE(DINAMICA!$A923)","v":0},{"$f":"VALUE(DINAMICA!$B923)","v":"00:00:00"},{"$f":"VALUE(DINAMICA!$C923)","v":0},{"$f":"DINAMICA!D923","v":0},{"$f":"DINAMICA!E923","v":0},{"$f":"DINAMICA!F923","v":0},{"$f":"DINAMICA!G923","v":0},{"$f":"DINAMICA!H923","v":0},{"$f":"DINAMICA!I923","v":0},{"$f":"DINAMICA!J923","v":0},{"$f":"DINAMICA!K923","v":0},{"$f":"VALUE(DINAMICA!$L923)","v":0},{"$f":"VALUE(DINAMICA!$M923)","v":0},{"$f":"VALUE(DINAMICA!$N923)","v":0},{"$f":"VALUE(DINAMICA!$O923)","v":0},{"$f":"VALUE(DINAMICA!$P923)","v":0},{"$f":"VALUE(DINAMICA!$Q923)","v":0},{"$f":"VALUE(DINAMICA!$R923)","v":0}]
[{"$f":"VALUE(DINAMICA!$A924)","v":0},{"$f":"VALUE(DINAMICA!$B924)","v":"00:00:00"},{"$f":"VALUE(DINAMICA!$C924)","v":0},{"$f":"DINAMICA!D924","v":0},{"$f":"DINAMICA!E924","v":0},{"$f":"DINAMICA!F924","v":0},{"$f":"DINAMICA!G924","v":0},{"$f":"DINAMICA!H924","v":0},{"$f":"DINAMICA!I924","v":0},{"$f":"DINAMICA!J924","v":0},{"$f":"DINAMICA!K924","v":0},{"$f":"VALUE(DINAMICA!$L924)","v":0},{"$f":"VALUE(DINAMICA!$M924)","v":0},{"$f":"VALUE(DINAMICA!$N924)","v":0},{"$f":"VALUE(DINAMICA!$O924)","v":0},{"$f":"VALUE(DINAMICA!$P924)","v":0},{"$f":"VALUE(DINAMICA!$Q924)","v":0},{"$f":"VALUE(DINAMICA!$R924)","v":0}]
[{"$f":"VALUE(DINAMICA!$A925)","v":0},{"$f":"VALUE(DINAMICA!$B925)","v":"00:00:00"},{"$f":"VALUE(DINAMICA!$C925)","v":0},{"$f":"DINAMICA!D925","v":0},{"$f":"DINAMICA!E925","v":0},{"$f":"DINAMICA!F925","v":0},{"$f":"DINAMICA!G925","v":0},{"$f":"DINAMICA!H925","v":0},{"$f":"DINAMICA!I925","v":0},{"$f":"DINAMICA!J925","v":0},{"$f":"DINAMICA!K925","v":0},{"$f":"VALUE(DINAMICA!$L925)","v":0},{"$f":"VALUE(DINAMICA!$M925)","v":0},{"$f":"VALUE(DINAMICA!$N925)","v":0},{"$f":"VALUE(DINAMICA!$O925)","v":0},{"$f":"VALUE(DINAMICA!$P925)","v":0},{"$f":"VALUE(DINAMICA!$Q925)","v":0},{"$f":"VALUE(DINAMICA!$R925)","v":0}]
[{"$f":"VALUE(DINAMICA!$A926)","v":0},{"$f":"VALUE(DINAMICA!$B926)","v":"00:00:00"},{"$f":"VALUE(DINAMICA!$C926)","v":0},{"$f":"DINAMICA!D926","v":0},{"$f":"DINAMICA!E926","v":0},{"$f":"DINAMICA!F926","v":0},{"$f":"DINAMICA!G926","v":0},{"$f":"DINAMICA!H926","v":0},{"$f":"DINAMICA!I926","v":0},{"$f":"DINAMICA!J926","v":0},{"$f":"DINAMICA!K926","v":0},{"$f":"VALUE(DINAMICA!$L926)","v":0},{"$f":"VALUE(DINAMICA!$M926)","v":0},{"$f":"VALUE(DINAMICA!$N926)","v":0},{"$f":"VALUE(DINAMICA!$O926)","v":0},{"$f":"VALUE(DINAMICA!$P926)","v":0},{"$f":"VALUE(DINAMICA!$Q926)","v":0},{"$f":"VALUE(DINAMICA!$R926)","v":0}]
[{"$f":"VALUE(DINAMICA!$A927)","v":0},{"$f":"VALUE(DINAMICA!$B927)","v":"00:00:00"},{"$f":"VALUE(DINAMICA!$C927)","v":0},{"$f":"DINAMICA!D927","v":0},{"$f":"DINAMICA!E927","v":0},{"$f":"DINAMICA!F927","v":0},{"$f":"DINAMICA!G927","v":0},{"$f":"DINAMICA!H927","v":0},{"$f":"DINAMICA!I927","v":0},{"$f":"DINAMICA!J927","v":0},{"$f":"DINAMICA!K927","v":0},{"$f":"VALUE(DINAMICA!$L927)","v":0},{"$f":"VALUE(DINAMICA!$M927)","v":0},{"$f":"VALUE(DINAMICA!$N927)","v":0},{"$f":"VALUE(DINAMICA!$O927)","v":0},{"$f":"VALUE(DINAMICA!$P927)","v":0},{"$f":"VALUE(DINAMICA!$Q927)","v":0},{"$f":"VALUE(DINAMICA!$R927)","v":0}]
[{"$f":"VALUE(DINAMICA!$A928)","v":0},{"$f":"VALUE(DINAMICA!$B928)","v":"00:00:00"},{"$f":"VALUE(DINAMICA!$C928)","v":0},{"$f":"DINAMICA!D928","v":0},{"$f":"DINAMICA!E928","v":0},{"$f":"DINAMICA!F928","v":0},{"$f":"DINAMICA!G928","v":0},{"$f":"DINAMICA!H928","v":0},{"$f":"DINAMICA!I928","v":0},{"$f":"DINAMICA!J928","v":0},{"$f":"DINAMICA!K928","v":0},{"$f":"VALUE(DINAMICA!$L928)","v":0},{"$f":"VALUE(DINAMICA!$M928)","v":0},{"$f":"VALUE(DINAMICA!$N928)","v":0},{"$f":"VALUE(DINAMICA!$O928)","v":0},{"$f":"VALUE(DINAMICA!$P928)","v":0},{"$f":"VALUE(DINAMICA!$Q928)","v":0},{"$f":"VALUE(DINAMICA!$R928)","v":0}]
[{"$f":"VALUE(DINAMICA!$A929)","v":0},{"$f":"VALUE(DINAMICA!$B929)","v":"00:00:00"},{"$f":"VALUE(DINAMICA!$C929)","v":0},{"$f":"DINAMICA!D929","v":0},{"$f":"DINAMICA!E929","v":0},{"$f":"DINAMICA!F929","v":0},{"$f":"DINAMICA!G929","v":0},{"$f":"DINAMICA!H929","v":0},{"$f":"DINAMICA!I929","v":0},{"$f":"DINAMICA!J929","v":0},{"$f":"DINAMICA!K929","v":0},{"$f":"VALUE(DINAMICA!$L929)","v":0},{"$f":"VALUE(DINAMICA!$M929)","v":0},{"$f":"VALUE(DINAMICA!$N929)","v":0},{"$f":"VALUE(DINAMICA!$O929)","v":0},{"$f":"VALUE(DINAMICA!$P929)","v":0},{"$f":"VALUE(DINAMICA!$Q929)","v":0},{"$f":"VALUE(DINAMICA!$R929)","v":0}]
[{"$f":"VALUE(DINAMICA!$A930)","v":0},{"$f":"VALUE(DINAMICA!$B930)","v":"00:00:00"},{"$f":"VALUE(DINAMICA!$C930)","v":0},{"$f":"DINAMICA!D930","v":0},{"$f":"DINAMICA!E930","v":0},{"$f":"DINAMICA!F930","v":0},{"$f":"DINAMICA!G930","v":0},{"$f":"DINAMICA!H930","v":0},{"$f":"DINAMICA!I930","v":0},{"$f":"DINAMICA!J930","v":0},{"$f":"DINAMICA!K930","v":0},{"$f":"VALUE(DINAMICA!$L930)","v":0},{"$f":"VALUE(DINAMICA!$M930)","v":0},{"$f":"VALUE(DINAMICA!$N930)","v":0},{"$f":"VALUE(DINAMICA!$O930)","v":0},{"$f":"VALUE(DINAMICA!$P930)","v":0},{"$f":"VALUE(DINAMICA!$Q930)","v":0},{"$f":"VALUE(DINAMICA!$R930)","v":0}]
[{"$f":"VALUE(DINAMICA!$A931)","v":0},{"$f":"VALUE(DINAMICA!$B931)","v":"00:00:00"},{"$f":"VALUE(DINAMICA!$C931)","v":0},{"$f":"DINAMICA!D931","v":0},{"$f":"DINAMICA!E931","v":0},{"$f":"DINAMICA!F931","v":0},{"$f":"DINAMICA!G931","v":0},{"$f":"DINAMICA!H931","v":0},{"$f":"DINAMICA!I931","v":0},{"$f":"DINAMICA!J931","v":0},{"$f":"DINAMICA!K931","v":0},{"$f":"VALUE(DINAMICA!$L931)","v":0},{"$f":"VALUE(DINAMICA!$M931)","v":0},{"$f":"VALUE(DINAMICA!$N931)","v":0},{"$f":"VALUE(DINAMICA!$O931)","v":0},{"$f":"VALUE(DINAMICA!$P931)","v":0},{"$f":"VALUE(DINAMICA!$Q931)","v":0},{"$f":"VALUE(DINAMICA!$R931)","v":0}]
[{"$f":"VALUE(DINAMICA!$A932)","v":0},{"$f":"VALUE(DINAMICA!$B932)","v":"00:00:00"},{"$f":"VALUE(DINAMICA!$C932)","v":0},{"$f":"DINAMICA!D932","v":0},{"$f":"DINAMICA!E932","v":0},{"$f":"DINAMICA!F932","v":0},{"$f":"DINAMICA!G932","v":0},{"$f":"DINAMICA!H932","v":0},{"$f":"DINAMICA!I932","v":0},{"$f":"DINAMICA!J932","v":0},{"$f":"DINAMICA!K932","v":0},{"$f":"VALUE(DINAMICA!$L932)","v":0},{"$f":"VALUE(DINAMICA!$M932)","v":0},{"$f":"VALUE(DINAMICA!$N932)","v":0},{"$f":"VALUE(DINAMICA!$O932)","v":0},{"$f":"VALUE(DINAMICA!$P932)","v":0},{"$f":"VALUE(DINAMICA!$Q932)","v":0},{"$f":"VALUE(DINAMICA!$R932)","v":0}]
[{"$f":"VALUE(DINAMICA!$A933)","v":0},{"$f":"VALUE(DINAMICA!$B933)","v":"00:00:00"},{"$f":"VALUE(DINAMICA!$C933)","v":0},{"$f":"DINAMICA!D933","v":0},{"$f":"DINAMICA!E933","v":0},{"$f":"DINAMICA!F933","v":0},{"$f":"DINAMICA!G933","v":0},{"$f":"DINAMICA!H933","v":0},{"$f":"DINAMICA!I933","v":0},{"$f":"DINAMICA!J933","v":0},{"$f":"DINAMICA!K933","v":0},{"$f":"VALUE(DINAMICA!$L933)","v":0},{"$f":"VALUE(DINAMICA!$M933)","v":0},{"$f":"VALUE(DINAMICA!$N933)","v":0},{"$f":"VALUE(DINAMICA!$O933)","v":0},{"$f":"VALUE(DINAMICA!$P933)","v":0},{"$f":"VALUE(DINAMICA!$Q933)","v":0},{"$f":"VALUE(DINAMICA!$R933)","v":0}]
[{"$f":"VALUE(DINAMICA!$A934)","v":0},{"$f":"VALUE(DINAMICA!$B934)","v":"00:00:00"},{"$f":"VALUE(DINAMICA!$C934)","v":0},{"$f":"DINAMICA!D934","v":0},{"$f":"DINAMICA!E934","v":0},{"$f":"DINAMICA!F934","v":0},{"$f":"DINAMICA!G934","v":0},{"$f":"DINAMICA!H934","v":0},{"$f":"DINAMICA!I934","v":0},{"$f":"DINAMICA!J934","v":0},{"$f":"DINAMICA!K934","v":0},{"$f":"VALUE(DINAMICA!$L934)","v":0},{"$f":"VALUE(DINAMICA!$M934)","v":0},{"$f":"VALUE(DINAMICA!$N934)","v":0},{"$f":"VALUE(DINAMICA!$O934)","v":0},{"$f":"VALUE(DINAMICA!$P934)","v":0},{"$f":"VALUE(DINAMICA!$Q934)","v":0},{"$f":"VALUE(DINAMICA!$R934)","v":0}]
[{"$f":"VALUE(DINAMICA!$A935)","v":0},{"$f":"VALUE(DINAMICA!$B935)","v":"00:00:00"},{"$f":"VALUE(DINAMICA!$C935)","v":0},{"$f":"DINAMICA!D935","v":0},{"$f":"DINAMICA!E935","v":0},{"$f":"DINAMICA!F935","v":0},{"$f":"DINAMICA!G935","v":0},{"$f":"DINAMICA!H935","v":0},{"$f":"DINAMICA!I935","v":0},{"$f":"DINAMICA!J935","v":0},{"$f":"DINAMICA!K935","v":0},{"$f":"VALUE(DINAMICA!$L935)","v":0},{"$f":"VALUE(DINAMICA!$M935)","v":0},{"$f":"VALUE(DINAMICA!$N935)","v":0},{"$f":"VALUE(DINAMICA!$O935)","v":0},{"$f":"VALUE(DINAMICA!$P935)","v":0},{"$f":"VALUE(DINAMICA!$Q935)","v":0},{"$f":"VALUE(DINAMICA!$R935)","v":0}]
[{"$f":"VALUE(DINAMICA!$A936)","v":0},{"$f":"VALUE(DINAMICA!$B936)","v":"00:00:00"},{"$f":"VALUE(DINAMICA!$C936)","v":0},{"$f":"DINAMICA!D936","v":0},{"$f":"DINAMICA!E936","v":0},{"$f":"DINAMICA!F936","v":0},{"$f":"DINAMICA!G936","v":0},{"$f":"DINAMICA!H936","v":0},{"$f":"DINAMICA!I936","v":0},{"$f":"DINAMICA!J936","v":0},{"$f":"DINAMICA!K936","v":0},{"$f":"VALUE(DINAMICA!$L936)","v":0},{"$f":"VALUE(DINAMICA!$M936)","v":0},{"$f":"VALUE(DINAMICA!$N936)","v":0},{"$f":"VALUE(DINAMICA!$O936)","v":0},{"$f":"VALUE(DINAMICA!$P936)","v":0},{"$f":"VALUE(DINAMICA!$Q936)","v":0},{"$f":"VALUE(DINAMICA!$R936)","v":0}]
[{"$f":"VALUE(DINAMICA!$A937)","v":0},{"$f":"VALUE(DINAMICA!$B937)","v":"00:00:00"},{"$f":"VALUE(DINAMICA!$C937)","v":0},{"$f":"DINAMICA!D937","v":0},{"$f":"DINAMICA!E937","v":0},{"$f":"DINAMICA!F937","v":0},{"$f":"DINAMICA!G937","v":0},{"$f":"DINAMICA!H937","v":0},{"$f":"DINAMICA!I937","v":0},{"$f":"DINAMICA!J937","v":0},{"$f":"DINAMICA!K937","v":0},{"$f":"VALUE(DINAMICA!$L937)","v":0},{"$f":"VALUE(DINAMICA!$M937)","v":0},{"$f":"VALUE(DINAMICA!$N937)","v":0},{"$f":"VALUE(DINAMICA!$O937)","v":0},{"$f":"VALUE(DINAMICA!$P937)","v":0},{"$f":"VALUE(DINAMICA!$Q937)","v":0},{"$f":"VALUE(DINAMICA!$R937)","v":0}]
[{"$f":"VALUE(DINAMICA!$A938)","v":0},{"$f":"VALUE(DINAMICA!$B938)","v":"00:00:00"},{"$f":"VALUE(DINAMICA!$C938)","v":0},{"$f":"DINAMICA!D938","v":0},{"$f":"DINAMICA!E938","v":0},{"$f":"DINAMICA!F938","v":0},{"$f":"DINAMICA!G938","v":0},{"$f":"DINAMICA!H938","v":0},{"$f":"DINAMICA!I938","v":0},{"$f":"DINAMICA!J938","v":0},{"$f":"DINAMICA!K938","v":0},{"$f":"VALUE(DINAMICA!$L938)","v":0},{"$f":"VALUE(DINAMICA!$M938)","v":0},{"$f":"VALUE(DINAMICA!$N938)","v":0},{"$f":"VALUE(DINAMICA!$O938)","v":0},{"$f":"VALUE(DINAMICA!$P938)","v":0},{"$f":"VALUE(DINAMICA!$Q938)","v":0},{"$f":"VALUE(DINAMICA!$R938)","v":0}]
[{"$f":"VALUE(DINAMICA!$A939)","v":0},{"$f":"VALUE(DINAMICA!$B939)","v":"00:00:00"},{"$f":"VALUE(DINAMICA!$C939)","v":0},{"$f":"DINAMICA!D939","v":0},{"$f":"DINAMICA!E939","v":0},{"$f":"DINAMICA!F939","v":0},{"$f":"DINAMICA!G939","v":0},{"$f":"DINAMICA!H939","v":0},{"$f":"DINAMICA!I939","v":0},{"$f":"DINAMICA!J939","v":0},{"$f":"DINAMICA!K939","v":0},{"$f":"VALUE(DINAMICA!$L939)","v":0},{"$f":"VALUE(DINAMICA!$M939)","v":0},{"$f":"VALUE(DINAMICA!$N939)","v":0},{"$f":"VALUE(DINAMICA!$O939)","v":0},{"$f":"VALUE(DINAMICA!$P939)","v":0},{"$f":"VALUE(DINAMICA!$Q939)","v":0},{"$f":"VALUE(DINAMICA!$R939)","v":0}]
[{"$f":"VALUE(DINAMICA!$A940)","v":0},{"$f":"VALUE(DINAMICA!$B940)","v":"00:00:00"},{"$f":"VALUE(DINAMICA!$C940)","v":0},{"$f":"DINAMICA!D940","v":0},{"$f":"DINAMICA!E940","v":0},{"$f":"DINAMICA!F940","v":0},{"$f":"DINAMICA!G940","v":0},{"$f":"DINAMICA!H940","v":0},{"$f":"DINAMICA!I940","v":0},{"$f":"DINAMICA!J940","v":0},{"$f":"DINAMICA!K940","v":0},{"$f":"VALUE(DINAMICA!$L940)","v":0},{"$f":"VALUE(DINAMICA!$M940)","v":0},{"$f":"VALUE(DINAMICA!$N940)","v":0},{"$f":"VALUE(DINAMICA!$O940)","v":0},{"$f":"VALUE(DINAMICA!$P940)","v":0},{"$f":"VALUE(DINAMICA!$Q940)","v":0},{"$f":"VALUE(DINAMICA!$R940)","v":0}]
[{"$f":"VALUE(DINAMICA!$A941)","v":0},{"$f":"VALUE(DINAMICA!$B941)","v":"00:00:00"},{"$f":"VALUE(DINAMICA!$C941)","v":0},{"$f":"DINAMICA!D941","v":0},{"$f":"DINAMICA!E941","v":0},{"$f":"DINAMICA!F941","v":0},{"$f":"DINAMICA!G941","v":0},{"$f":"DINAMICA!H941","v":0},{"$f":"DINAMICA!I941","v":0},{"$f":"DINAMICA!J941","v":0},{"$f":"DINAMICA!K941","v":0},{"$f":"VALUE(DINAMICA!$L941)","v":0},{"$f":"VALUE(DINAMICA!$M941)","v":0},{"$f":"VALUE(DINAMICA!$N941)","v":0},{"$f":"VALUE(DINAMICA!$O941)","v":0},{"$f":"VALUE(DINAMICA!$P941)","v":0},{"$f":"VALUE(DINAMICA!$Q941)","v":0},{"$f":"VALUE(DINAMICA!$R941)","v":0}]
[{"$f":"VALUE(DINAMICA!$A942)","v":0},{"$f":"VALUE(DINAMICA!$B942)","v":"00:00:00"},{"$f":"VALUE(DINAMICA!$C942)","v":0},{"$f":"DINAMICA!D942","v":0},{"$f":"DINAMICA!E942","v":0},{"$f":"DINAMICA!F942","v":0},{"$f":"DINAMICA!G942","v":0},{"$f":"DINAMICA!H942","v":0},{"$f":"DINAMICA!I942","v":0},{"$f":"DINAMICA!J942","v":0},{"$f":"DINAMICA!K942","v":0},{"$f":"VALUE(DINAMICA!$L942)","v":0},{"$f":"VALUE(DINAMICA!$M942)","v":0},{"$f":"VALUE(DINAMICA!$N942)","v":0},{"$f":"VALUE(DINAMICA!$O942)","v":0},{"$f":"VALUE(DINAMICA!$P942)","v":0},{"$f":"VALUE(DINAMICA!$Q942)","v":0},{"$f":"VALUE(DINAMICA!$R942)","v":0}]
[{"$f":"VALUE(DINAMICA!$A943)","v":0},{"$f":"VALUE(DINAMICA!$B943)","v":"00:00:00"},{"$f":"VALUE(DINAMICA!$C943)","v":0},{"$f":"DINAMICA!D943","v":0},{"$f":"DINAMICA!E943","v":0},{"$f":"DINAMICA!F943","v":0},{"$f":"DINAMICA!G943","v":0},{"$f":"DINAMICA!H943","v":0},{"$f":"DINAMICA!I943","v":0},{"$f":"DINAMICA!J943","v":0},{"$f":"DINAMICA!K943","v":0},{"$f":"VALUE(DINAMICA!$L943)","v":0},{"$f":"VALUE(DINAMICA!$M943)","v":0},{"$f":"VALUE(DINAMICA!$N943)","v":0},{"$f":"VALUE(DINAMICA!$O943)","v":0},{"$f":"VALUE(DINAMICA!$P943)","v":0},{"$f":"VALUE(DINAMICA!$Q943)","v":0},{"$f":"VALUE(DINAMICA!$R943)","v":0}]
[{"$f":"VALUE(DINAMICA!$A944)","v":0},{"$f":"VALUE(DINAMICA!$B944)","v":"00:00:00"},{"$f":"VALUE(DINAMICA!$C944)","v":0},{"$f":"DINAMICA!D944","v":0},{"$f":"DINAMICA!E944","v":0},{"$f":"DINAMICA!F944","v":0},{"$f":"DINAMICA!G944","v":0},{"$f":"DINAMICA!H944","v":0},{"$f":"DINAMICA!I944","v":0},{"$f":"DINAMICA!J944","v":0},{"$f":"DINAMICA!K944","v":0},{"$f":"VALUE(DINAMICA!$L944)","v":0},{"$f":"VALUE(DINAMICA!$M944)","v":0},{"$f":"VALUE(DINAMICA!$N944)","v":0},{"$f":"VALUE(DINAMICA!$O944)","v":0},{"$f":"VALUE(DINAMICA!$P944)","v":0},{"$f":"VALUE(DINAMICA!$Q944)","v":0},{"$f":"VALUE(DINAMICA!$R944)","v":0}]
[{"$f":"VALUE(DINAMICA!$A945)","v":0},{"$f":"VALUE(DINAMICA!$B945)","v":"00:00:00"},{"$f":"VALUE(DINAMICA!$C945)","v":0},{"$f":"DINAMICA!D945","v":0},{"$f":"DINAMICA!E945","v":0},{"$f":"DINAMICA!F945","v":0},{"$f":"DINAMICA!G945","v":0},{"$f":"DINAMICA!H945","v":0},{"$f":"DINAMICA!I945","v":0},{"$f":"DINAMICA!J945","v":0},{"$f":"DINAMICA!K945","v":0},{"$f":"VALUE(DINAMICA!$L945)","v":0},{"$f":"VALUE(DINAMICA!$M945)","v":0},{"$f":"VALUE(DINAMICA!$N945)","v":0},{"$f":"VALUE(DINAMICA!$O945)","v":0},{"$f":"VALUE(DINAMICA!$P945)","v":0},{"$f":"VALUE(DINAMICA!$Q945)","v":0},{"$f":"VALUE(DINAMICA!$R945)","v":0}]
[{"$f":"VALUE(DINAMICA!$A946)","v":0},{"$f":"VALUE(DINAMICA!$B946)","v":"00:00:00"},{"$f":"VALUE(DINAMICA!$C946)","v":0},{"$f":"DINAMICA!D946","v":0},{"$f":"DINAMICA!E946","v":0},{"$f":"DINAMICA!F946","v":0},{"$f":"DINAMICA!G946","v":0},{"$f":"DINAMICA!H946","v":0},{"$f":"DINAMICA!I946","v":0},{"$f":"DINAMICA!J946","v":0},{"$f":"DINAMICA!K946","v":0},{"$f":"VALUE(DINAMICA!$L946)","v":0},{"$f":"VALUE(DINAMICA!$M946)","v":0},{"$f":"VALUE(DINAMICA!$N946)","v":0},{"$f":"VALUE(DINAMICA!$O946)","v":0},{"$f":"VALUE(DINAMICA!$P946)","v":0},{"$f":"VALUE(DINAMICA!$Q946)","v":0},{"$f":"VALUE(DINAMICA!$R946)","v":0}]
[{"$f":"VALUE(DINAMICA!$A947)","v":0},{"$f":"VALUE(DINAMICA!$B947)","v":"00:00:00"},{"$f":"VALUE(DINAMICA!$C947)","v":0},{"$f":"DINAMICA!D947","v":0},{"$f":"DINAMICA!E947","v":0},{"$f":"DINAMICA!F947","v":0},{"$f":"DINAMICA!G947","v":0},{"$f":"DINAMICA!H947","v":0},{"$f":"DINAMICA!I947","v":0},{"$f":"DINAMICA!J947","v":0},{"$f":"DINAMICA!K947","v":0},{"$f":"VALUE(DINAMICA!$L947)","v":0},{"$f":"VALUE(DINAMICA!$M947)","v":0},{"$f":"VALUE(DINAMICA!$N947)","v":0},{"$f":"VALUE(DINAMICA!$O947)","v":0},{"$f":"VALUE(DINAMICA!$P947)","v":0},{"$f":"VALUE(DINAMICA!$Q947)","v":0},{"$f":"VALUE(DINAMICA!$R947)","v":0}]
[{"$f":"VALUE(DINAMICA!$A948)","v":0},{"$f":"VALUE(DINAMICA!$B948)","v":"00:00:00"},{"$f":"VALUE(DINAMICA!$C948)","v":0},{"$f":"DINAMICA!D948","v":0},{"$f":"DINAMICA!E948","v":0},{"$f":"DINAMICA!F948","v":0},{"$f":"DINAMICA!G948","v":0},{"$f":"DINAMICA!H948","v":0},{"$f":"DINAMICA!I948","v":0},{"$f":"DINAMICA!J948","v":0},{"$f":"DINAMICA!K948","v":0},{"$f":"VALUE(DINAMICA!$L948)","v":0},{"$f":"VALUE(DINAMICA!$M948)","v":0},{"$f":"VALUE(DINAMICA!$N948)","v":0},{"$f":"VALUE(DINAMICA!$O948)","v":0},{"$f":"VALUE(DINAMICA!$P948)","v":0},{"$f":"VALUE(DINAMICA!$Q948)","v":0},{"$f":"VALUE(DINAMICA!$R948)","v":0}]
[{"$f":"VALUE(DINAMICA!$A949)","v":0},{"$f":"VALUE(DINAMICA!$B949)","v":"00:00:00"},{"$f":"VALUE(DINAMICA!$C949)","v":0},{"$f":"DINAMICA!D949","v":0},{"$f":"DINAMICA!E949","v":0},{"$f":"DINAMICA!F949","v":0},{"$f":"DINAMICA!G949","v":0},{"$f":"DINAMICA!H949","v":0},{"$f":"DINAMICA!I949","v":0},{"$f":"DINAMICA!J949","v":0},{"$f":"DINAMICA!K949","v":0},{"$f":"VALUE(DINAMICA!$L949)","v":0},{"$f":"VALUE(DINAMICA!$M949)","v":0},{"$f":"VALUE(DINAMICA!$N949)","v":0},{"$f":"VALUE(DINAMICA!$O949)","v":0},{"$f":"VALUE(DINAMICA!$P949)","v":0},{"$f":"VALUE(DINAMICA!$Q949)","v":0},{"$f":"VALUE(DINAMICA!$R949)","v":0}]
[{"$f":"VALUE(DINAMICA!$A950)","v":0},{"$f":"VALUE(DINAMICA!$B950)","v":"00:00:00"},{"$f":"VALUE(DINAMICA!$C950)","v":0},{"$f":"DINAMICA!D950","v":0},{"$f":"DINAMICA!E950","v":0},{"$f":"DINAMICA!F950","v":0},{"$f":"DINAMICA!G950","v":0},{"$f":"DINAMICA!H950","v":0},{"$f":"DINAMICA!I950","v":0},{"$f":"DINAMICA!J950","v":0},{"$f":"DINAMICA!K950","v":0},{"$f":"VALUE(DINAMICA!$L950)","v":0},{"$f":"VALUE(DINAMICA!$M950)","v":0},{"$f":"VALUE(DINAMICA!$N950)","v":0},{"$f":"VALUE(DINAMICA!$O950)","v":0},{"$f":"VALUE(DINAMICA!$P950)","v":0},{"$f":"VALUE(DINAMICA!$Q950)","v":0},{"$f":"VALUE(DINAMICA!$R950)","v":0}]
[{"$f":"VALUE(DINAMICA!$A951)","v":0},{"$f":"VALUE(DINAMICA!$B951)","v":"00:00:00"},{"$f":"VALUE(DINAMICA!$C951)","v":0},{"$f":"DINAMICA!D951","v":0},{"$f":"DINAMICA!E951","v":0},{"$f":"DINAMICA!F951","v":0},{"$f":"DINAMICA!G951","v":0},{"$f":"DINAMICA!H951","v":0},{"$f":"DINAMICA!I951","v":0},{"$f":"DINAMICA!J951","v":0},{"$f":"DINAMICA!K951","v":0},{"$f":"VALUE(DINAMICA!$L951)","v":0},{"$f":"VALUE(DINAMICA!$M951)","v":0},{"$f":"VALUE(DINAMICA!$N951)","v":0},{"$f":"VALUE(DINAMICA!$O951)","v":0},{"$f":"VALUE(DINAMICA!$P951)","v":0},{"$f":"VALUE(DINAMICA!$Q951)","v":0},{"$f":"VALUE(DINAMICA!$R951)","v":0}]
[{"$f":"VALUE(DINAMICA!$A952)","v":0},{"$f":"VALUE(DINAMICA!$B952)","v":"00:00:00"},{"$f":"VALUE(DINAMICA!$C952)","v":0},{"$f":"DINAMICA!D952","v":0},{"$f":"DINAMICA!E952","v":0},{"$f":"DINAMICA!F952","v":0},{"$f":"DINAMICA!G952","v":0},{"$f":"DINAMICA!H952","v":0},{"$f":"DINAMICA!I952","v":0},{"$f":"DINAMICA!J952","v":0},{"$f":"DINAMICA!K952","v":0},{"$f":"VALUE(DINAMICA!$L952)","v":0},{"$f":"VALUE(DINAMICA!$M952)","v":0},{"$f":"VALUE(DINAMICA!$N952)","v":0},{"$f":"VALUE(DINAMICA!$O952)","v":0},{"$f":"VALUE(DINAMICA!$P952)","v":0},{"$f":"VALUE(DINAMICA!$Q952)","v":0},{"$f":"VALUE(DINAMICA!$R952)","v":0}]
[{"$f":"VALUE(DINAMICA!$A953)","v":0},{"$f":"VALUE(DINAMICA!$B953)","v":"00:00:00"},{"$f":"VALUE(DINAMICA!$C953)","v":0},{"$f":"DINAMICA!D953","v":0},{"$f":"DINAMICA!E953","v":0},{"$f":"DINAMICA!F953","v":0},{"$f":"DINAMICA!G953","v":0},{"$f":"DINAMICA!H953","v":0},{"$f":"DINAMICA!I953","v":0},{"$f":"DINAMICA!J953","v":0},{"$f":"DINAMICA!K953","v":0},{"$f":"VALUE(DINAMICA!$L953)","v":0},{"$f":"VALUE(DINAMICA!$M953)","v":0},{"$f":"VALUE(DINAMICA!$N953)","v":0},{"$f":"VALUE(DINAMICA!$O953)","v":0},{"$f":"VALUE(DINAMICA!$P953)","v":0},{"$f":"VALUE(DINAMICA!$Q953)","v":0},{"$f":"VALUE(DINAMICA!$R953)","v":0}]
[{"$f":"VALUE(DINAMICA!$A954)","v":0},{"$f":"VALUE(DINAMICA!$B954)","v":"00:00:00"},{"$f":"VALUE(DINAMICA!$C954)","v":0},{"$f":"DINAMICA!D954","v":0},{"$f":"DINAMICA!E954","v":0},{"$f":"DINAMICA!F954","v":0},{"$f":"DINAMICA!G954","v":0},{"$f":"DINAMICA!H954","v":0},{"$f":"DINAMICA!I954","v":0},{"$f":"DINAMICA!J954","v":0},{"$f":"DINAMICA!K954","v":0},{"$f":"VALUE(DINAMICA!$L954)","v":0},{"$f":"VALUE(DINAMICA!$M954)","v":0},{"$f":"VALUE(DINAMICA!$N954)","v":0},{"$f":"VALUE(DINAMICA!$O954)","v":0},{"$f":"VALUE(DINAMICA!$P954)","v":0},{"$f":"VALUE(DINAMICA!$Q954)","v":0},{"$f":"VALUE(DINAMICA!$R954)","v":0}]
[{"$f":"VALUE(DINAMICA!$A955)","v":0},{"$f":"VALUE(DINAMICA!$B955)","v":"00:00:00"},{"$f":"VALUE(DINAMICA!$C955)","v":0},{"$f":"DINAMICA!D955","v":0},{"$f":"DINAMICA!E955","v":0},{"$f":"DINAMICA!F955","v":0},{"$f":"DINAMICA!G955","v":0},{"$f":"DINAMICA!H955","v":0},{"$f":"DINAMICA!I955","v":0},{"$f":"DINAMICA!J955","v":0},{"$f":"DINAMICA!K955","v":0},{"$f":"VALUE(DINAMICA!$L955)","v":0},{"$f":"VALUE(DINAMICA!$M955)","v":0},{"$f":"VALUE(DINAMICA!$N955)","v":0},{"$f":"VALUE(DINAMICA!$O955)","v":0},{"$f":"VALUE(DINAMICA!$P955)","v":0},{"$f":"VALUE(DINAMICA!$Q955)","v":0},{"$f":"VALUE(DINAMICA!$R955)","v":0}]
[{"$f":"VALUE(DINAMICA!$A956)","v":0},{"$f":"VALUE(DINAMICA!$B956)","v":"00:00:00"},{"$f":"VALUE(DINAMICA!$C956)","v":0},{"$f":"DINAMICA!D956","v":0},{"$f":"DINAMICA!E956","v":0},{"$f":"DINAMICA!F956","v":0},{"$f":"DINAMICA!G956","v":0},{"$f":"DINAMICA!H956","v":0},{"$f":"DINAMICA!I956","v":0},{"$f":"DINAMICA!J956","v":0},{"$f":"DINAMICA!K956","v":0},{"$f":"VALUE(DINAMICA!$L956)","v":0},{"$f":"VALUE(DINAMICA!$M956)","v":0},{"$f":"VALUE(DINAMICA!$N956)","v":0},{"$f":"VALUE(DINAMICA!$O956)","v":0},{"$f":"VALUE(DINAMICA!$P956)","v":0},{"$f":"VALUE(DINAMICA!$Q956)","v":0},{"$f":"VALUE(DINAMICA!$R956)","v":0}]
[{"$f":"VALUE(DINAMICA!$A957)","v":0},{"$f":"VALUE(DINAMICA!$B957)","v":"00:00:00"},{"$f":"VALUE(DINAMICA!$C957)","v":0},{"$f":"DINAMICA!D957","v":0},{"$f":"DINAMICA!E957","v":0},{"$f":"DINAMICA!F957","v":0},{"$f":"DINAMICA!G957","v":0},{"$f":"DINAMICA!H957","v":0},{"$f":"DINAMICA!I957","v":0},{"$f":"DINAMICA!J957","v":0},{"$f":"DINAMICA!K957","v":0},{"$f":"VALUE(DINAMICA!$L957)","v":0},{"$f":"VALUE(DINAMICA!$M957)","v":0},{"$f":"VALUE(DINAMICA!$N957)","v":0},{"$f":"VALUE(DINAMICA!$O957)","v":0},{"$f":"VALUE(DINAMICA!$P957)","v":0},{"$f":"VALUE(DINAMICA!$Q957)","v":0},{"$f":"VALUE(DINAMICA!$R957)","v":0}]
[{"$f":"VALUE(DINAMICA!$A958)","v":0},{"$f":"VALUE(DINAMICA!$B958)","v":"00:00:00"},{"$f":"VALUE(DINAMICA!$C958)","v":0},{"$f":"DINAMICA!D958","v":0},{"$f":"DINAMICA!E958","v":0},{"$f":"DINAMICA!F958","v":0},{"$f":"DINAMICA!G958","v":0},{"$f":"DINAMICA!H958","v":0},{"$f":"DINAMICA!I958","v":0},{"$f":"DINAMICA!J958","v":0},{"$f":"DINAMICA!K958","v":0},{"$f":"VALUE(DINAMICA!$L958)","v":0},{"$f":"VALUE(DINAMICA!$M958)","v":0},{"$f":"VALUE(DINAMICA!$N958)","v":0},{"$f":"VALUE(DINAMICA!$O958)","v":0},{"$f":"VALUE(DINAMICA!$P958)","v":0},{"$f":"VALUE(DINAMICA!$Q958)","v":0},{"$f":"VALUE(DINAMICA!$R958)","v":0}]
[{"$f":"VALUE(DINAMICA!$A959)","v":0},{"$f":"VALUE(DINAMICA!$B959)","v":"00:00:00"},{"$f":"VALUE(DINAMICA!$C959)","v":0},{"$f":"DINAMICA!D959","v":0},{"$f":"DINAMICA!E959","v":0},{"$f":"DINAMICA!F959","v":0},{"$f":"DINAMICA!G959","v":0},{"$f":"DINAMICA!H959","v":0},{"$f":"DINAMICA!I959","v":0},{"$f":"DINAMICA!J959","v":0},{"$f":"DINAMICA!K959","v":0},{"$f":"VALUE(DINAMICA!$L959)","v":0},{"$f":"VALUE(DINAMICA!$M959)","v":0},{"$f":"VALUE(DINAMICA!$N959)","v":0},{"$f":"VALUE(DINAMICA!$O959)","v":0},{"$f":"VALUE(DINAMICA!$P959)","v":0},{"$f":"VALUE(DINAMICA!$Q959)","v":0},{"$f":"VALUE(DINAMICA!$R959)","v":0}]
[{"$f":"VALUE(DINAMICA!$A960)","v":0},{"$f":"VALUE(DINAMICA!$B960)","v":"00:00:00"},{"$f":"VALUE(DINAMICA!$C960)","v":0},{"$f":"DINAMICA!D960","v":0},{"$f":"DINAMICA!E960","v":0},{"$f":"DINAMICA!F960","v":0},{"$f":"DINAMICA!G960","v":0},{"$f":"DINAMICA!H960","v":0},{"$f":"DINAMICA!I960","v":0},{"$f":"DINAMICA!J960","v":0},{"$f":"DINAMICA!K960","v":0},{"$f":"VALUE(DINAMICA!$L960)","v":0},{"$f":"VALUE(DINAMICA!$M960)","v":0},{"$f":"VALUE(DINAMICA!$N960)","v":0},{"$f":"VALUE(DINAMICA!$O960)","v":0},{"$f":"VALUE(DINAMICA!$P960)","v":0},{"$f":"VALUE(DINAMICA!$Q960)","v":0},{"$f":"VALUE(DINAMICA!$R960)","v":0}]
[{"$f":"VALUE(DINAMICA!$A961)","v":0},{"$f":"VALUE(DINAMICA!$B961)","v":"00:00:00"},{"$f":"VALUE(DINAMICA!$C961)","v":0},{"$f":"DINAMICA!D961","v":0},{"$f":"DINAMICA!E961","v":0},{"$f":"DINAMICA!F961","v":0},{"$f":"DINAMICA!G961","v":0},{"$f":"DINAMICA!H961","v":0},{"$f":"DINAMICA!I961","v":0},{"$f":"DINAMICA!J961","v":0},{"$f":"DINAMICA!K961","v":0},{"$f":"VALUE(DINAMICA!$L961)","v":0},{"$f":"VALUE(DINAMICA!$M961)","v":0},{"$f":"VALUE(DINAMICA!$N961)","v":0},{"$f":"VALUE(DINAMICA!$O961)","v":0},{"$f":"VALUE(DINAMICA!$P961)","v":0},{"$f":"VALUE(DINAMICA!$Q961)","v":0},{"$f":"VALUE(DINAMICA!$R961)","v":0}]
[{"$f":"VALUE(DINAMICA!$A962)","v":0},{"$f":"VALUE(DINAMICA!$B962)","v":"00:00:00"},{"$f":"VALUE(DINAMICA!$C962)","v":0},{"$f":"DINAMICA!D962","v":0},{"$f":"DINAMICA!E962","v":0},{"$f":"DINAMICA!F962","v":0},{"$f":"DINAMICA!G962","v":0},{"$f":"DINAMICA!H962","v":0},{"$f":"DINAMICA!I962","v":0},{"$f":"DINAMICA!J962","v":0},{"$f":"DINAMICA!K962","v":0},{"$f":"VALUE(DINAMICA!$L962)","v":0},{"$f":"VALUE(DINAMICA!$M962)","v":0},{"$f":"VALUE(DINAMICA!$N962)","v":0},{"$f":"VALUE(DINAMICA!$O962)","v":0},{"$f":"VALUE(DINAMICA!$P962)","v":0},{"$f":"VALUE(DINAMICA!$Q962)","v":0},{"$f":"VALUE(DINAMICA!$R962)","v":0}]
[{"$f":"VALUE(DINAMICA!$A963)","v":0},{"$f":"VALUE(DINAMICA!$B963)","v":"00:00:00"},{"$f":"VALUE(DINAMICA!$C963)","v":0},{"$f":"DINAMICA!D963","v":0},{"$f":"DINAMICA!E963","v":0},{"$f":"DINAMICA!F963","v":0},{"$f":"DINAMICA!G963","v":0},{"$f":"DINAMICA!H963","v":0},{"$f":"DINAMICA!I963","v":0},{"$f":"DINAMICA!J963","v":0},{"$f":"DINAMICA!K963","v":0},{"$f":"VALUE(DINAMICA!$L963)","v":0},{"$f":"VALUE(DINAMICA!$M963)","v":0},{"$f":"VALUE(DINAMICA!$N963)","v":0},{"$f":"VALUE(DINAMICA!$O963)","v":0},{"$f":"VALUE(DINAMICA!$P963)","v":0},{"$f":"VALUE(DINAMICA!$Q963)","v":0},{"$f":"VALUE(DINAMICA!$R963)","v":0}]
[{"$f":"VALUE(DINAMICA!$A964)","v":0},{"$f":"VALUE(DINAMICA!$B964)","v":"00:00:00"},{"$f":"VALUE(DINAMICA!$C964)","v":0},{"$f":"DINAMICA!D964","v":0},{"$f":"DINAMICA!E964","v":0},{"$f":"DINAMICA!F964","v":0},{"$f":"DINAMICA!G964","v":0},{"$f":"DINAMICA!H964","v":0},{"$f":"DINAMICA!I964","v":0},{"$f":"DINAMICA!J964","v":0},{"$f":"DINAMICA!K964","v":0},{"$f":"VALUE(DINAMICA!$L964)","v":0},{"$f":"VALUE(DINAMICA!$M964)","v":0},{"$f":"VALUE(DINAMICA!$N964)","v":0},{"$f":"VALUE(DINAMICA!$O964)","v":0},{"$f":"VALUE(DINAMICA!$P964)","v":0},{"$f":"VALUE(DINAMICA!$Q964)","v":0},{"$f":"VALUE(DINAMICA!$R964)","v":0}]
[{"$f":"VALUE(DINAMICA!$A965)","v":0},{"$f":"VALUE(DINAMICA!$B965)","v":"00:00:00"},{"$f":"VALUE(DINAMICA!$C965)","v":0},{"$f":"DINAMICA!D965","v":0},{"$f":"DINAMICA!E965","v":0},{"$f":"DINAMICA!F965","v":0},{"$f":"DINAMICA!G965","v":0},{"$f":"DINAMICA!H965","v":0},{"$f":"DINAMICA!I965","v":0},{"$f":"DINAMICA!J965","v":0},{"$f":"DINAMICA!K965","v":0},{"$f":"VALUE(DINAMICA!$L965)","v":0},{"$f":"VALUE(DINAMICA!$M965)","v":0},{"$f":"VALUE(DINAMICA!$N965)","v":0},{"$f":"VALUE(DINAMICA!$O965)","v":0},{"$f":"VALUE(DINAMICA!$P965)","v":0},{"$f":"VALUE(DINAMICA!$Q965)","v":0},{"$f":"VALUE(DINAMICA!$R965)","v":0}]
[{"$f":"VALUE(DINAMICA!$A966)","v":0},{"$f":"VALUE(DINAMICA!$B966)","v":"00:00:00"},{"$f":"VALUE(DINAMICA!$C966)","v":0},{"$f":"DINAMICA!D966","v":0},{"$f":"DINAMICA!E966","v":0},{"$f":"DINAMICA!F966","v":0},{"$f":"DINAMICA!G966","v":0},{"$f":"DINAMICA!H966","v":0},{"$f":"DINAMICA!I966","v":0},{"$f":"DINAMICA!J966","v":0},{"$f":"DINAMICA!K966","v":0},{"$f":"VALUE(DINAMICA!$L966)","v":0},{"$f":"VALUE(DINAMICA!$M966)","v":0},{"$f":"VALUE(DINAMICA!$N966)","v":0},{"$f":"VALUE(DINAMICA!$O966)","v":0},{"$f":"VALUE(DINAMICA!$P966)","v":0},{"$f":"VALUE(DINAMICA!$Q966)","v":0},{"$f":"VALUE(DINAMICA!$R966)","v":0}]
[{"$f":"VALUE(DINAMICA!$A967)","v":0},{"$f":"VALUE(DINAMICA!$B967)","v":"00:00:00"},{"$f":"VALUE(DINAMICA!$C967)","v":0},{"$f":"DINAMICA!D967","v":0},{"$f":"DINAMICA!E967","v":0},{"$f":"DINAMICA!F967","v":0},{"$f":"DINAMICA!G967","v":0},{"$f":"DINAMICA!H967","v":0},{"$f":"DINAMICA!I967","v":0},{"$f":"DINAMICA!J967","v":0},{"$f":"DINAMICA!K967","v":0},{"$f":"VALUE(DINAMICA!$L967)","v":0},{"$f":"VALUE(DINAMICA!$M967)","v":0},{"$f":"VALUE(DINAMICA!$N967)","v":0},{"$f":"VALUE(DINAMICA!$O967)","v":0},{"$f":"VALUE(DINAMICA!$P967)","v":0},{"$f":"VALUE(DINAMICA!$Q967)","v":0},{"$f":"VALUE(DINAMICA!$R967)","v":0}]
[{"$f":"VALUE(DINAMICA!$A968)","v":0},{"$f":"VALUE(DINAMICA!$B968)","v":"00:00:00"},{"$f":"VALUE(DINAMICA!$C968)","v":0},{"$f":"DINAMICA!D968","v":0},{"$f":"DINAMICA!E968","v":0},{"$f":"DINAMICA!F968","v":0},{"$f":"DINAMICA!G968","v":0},{"$f":"DINAMICA!H968","v":0},{"$f":"DINAMICA!I968","v":0},{"$f":"DINAMICA!J968","v":0},{"$f":"DINAMICA!K968","v":0},{"$f":"VALUE(DINAMICA!$L968)","v":0},{"$f":"VALUE(DINAMICA!$M968)","v":0},{"$f":"VALUE(DINAMICA!$N968)","v":0},{"$f":"VALUE(DINAMICA!$O968)","v":0},{"$f":"VALUE(DINAMICA!$P968)","v":0},{"$f":"VALUE(DINAMICA!$Q968)","v":0},{"$f":"VALUE(DINAMICA!$R968)","v":0}]
[{"$f":"VALUE(DINAMICA!$A969)","v":0},{"$f":"VALUE(DINAMICA!$B969)","v":"00:00:00"},{"$f":"VALUE(DINAMICA!$C969)","v":0},{"$f":"DINAMICA!D969","v":0},{"$f":"DINAMICA!E969","v":0},{"$f":"DINAMICA!F969","v":0},{"$f":"DINAMICA!G969","v":0},{"$f":"DINAMICA!H969","v":0},{"$f":"DINAMICA!I969","v":0},{"$f":"DINAMICA!J969","v":0},{"$f":"DINAMICA!K969","v":0},{"$f":"VALUE(DINAMICA!$L969)","v":0},{"$f":"VALUE(DINAMICA!$M969)","v":0},{"$f":"VALUE(DINAMICA!$N969)","v":0},{"$f":"VALUE(DINAMICA!$O969)","v":0},{"$f":"VALUE(DINAMICA!$P969)","v":0},{"$f":"VALUE(DINAMICA!$Q969)","v":0},{"$f":"VALUE(DINAMICA!$R969)","v":0}]
[{"$f":"VALUE(DINAMICA!$A970)","v":0},{"$f":"VALUE(DINAMICA!$B970)","v":"00:00:00"},{"$f":"VALUE(DINAMICA!$C970)","v":0},{"$f":"DINAMICA!D970","v":0},{"$f":"DINAMICA!E970","v":0},{"$f":"DINAMICA!F970","v":0},{"$f":"DINAMICA!G970","v":0},{"$f":"DINAMICA!H970","v":0},{"$f":"DINAMICA!I970","v":0},{"$f":"DINAMICA!J970","v":0},{"$f":"DINAMICA!K970","v":0},{"$f":"VALUE(DINAMICA!$L970)","v":0},{"$f":"VALUE(DINAMICA!$M970)","v":0},{"$f":"VALUE(DINAMICA!$N970)","v":0},{"$f":"VALUE(DINAMICA!$O970)","v":0},{"$f":"VALUE(DINAMICA!$P970)","v":0},{"$f":"VALUE(DINAMICA!$Q970)","v":0},{"$f":"VALUE(DINAMICA!$R970)","v":0}]
[{"$f":"VALUE(DINAMICA!$A971)","v":0},{"$f":"VALUE(DINAMICA!$B971)","v":"00:00:00"},{"$f":"VALUE(DINAMICA!$C971)","v":0},{"$f":"DINAMICA!D971","v":0},{"$f":"DINAMICA!E971","v":0},{"$f":"DINAMICA!F971","v":0},{"$f":"DINAMICA!G971","v":0},{"$f":"DINAMICA!H971","v":0},{"$f":"DINAMICA!I971","v":0},{"$f":"DINAMICA!J971","v":0},{"$f":"DINAMICA!K971","v":0},{"$f":"VALUE(DINAMICA!$L971)","v":0},{"$f":"VALUE(DINAMICA!$M971)","v":0},{"$f":"VALUE(DINAMICA!$N971)","v":0},{"$f":"VALUE(DINAMICA!$O971)","v":0},{"$f":"VALUE(DINAMICA!$P971)","v":0},{"$f":"VALUE(DINAMICA!$Q971)","v":0},{"$f":"VALUE(DINAMICA!$R971)","v":0}]
[{"$f":"VALUE(DINAMICA!$A972)","v":0},{"$f":"VALUE(DINAMICA!$B972)","v":"00:00:00"},{"$f":"VALUE(DINAMICA!$C972)","v":0},{"$f":"DINAMICA!D972","v":0},{"$f":"DINAMICA!E972","v":0},{"$f":"DINAMICA!F972","v":0},{"$f":"DINAMICA!G972","v":0},{"$f":"DINAMICA!H972","v":0},{"$f":"DINAMICA!I972","v":0},{"$f":"DINAMICA!J972","v":0},{"$f":"DINAMICA!K972","v":0},{"$f":"VALUE(DINAMICA!$L972)","v":0},{"$f":"VALUE(DINAMICA!$M972)","v":0},{"$f":"VALUE(DINAMICA!$N972)","v":0},{"$f":"VALUE(DINAMICA!$O972)","v":0},{"$f":"VALUE(DINAMICA!$P972)","v":0},{"$f":"VALUE(DINAMICA!$Q972)","v":0},{"$f":"VALUE(DINAMICA!$R972)","v":0}]
[{"$f":"VALUE(DINAMICA!$A973)","v":0},{"$f":"VALUE(DINAMICA!$B973)","v":"00:00:00"},{"$f":"VALUE(DINAMICA!$C973)","v":0},{"$f":"DINAMICA!D973","v":0},{"$f":"DINAMICA!E973","v":0},{"$f":"DINAMICA!F973","v":0},{"$f":"DINAMICA!G973","v":0},{"$f":"DINAMICA!H973","v":0},{"$f":"DINAMICA!I973","v":0},{"$f":"DINAMICA!J973","v":0},{"$f":"DINAMICA!K973","v":0},{"$f":"VALUE(DINAMICA!$L973)","v":0},{"$f":"VALUE(DINAMICA!$M973)","v":0},{"$f":"VALUE(DINAMICA!$N973)","v":0},{"$f":"VALUE(DINAMICA!$O973)","v":0},{"$f":"VALUE(DINAMICA!$P973)","v":0},{"$f":"VALUE(DINAMICA!$Q973)","v":0},{"$f":"VALUE(DINAMICA!$R973)","v":0}]
[{"$f":"VALUE(DINAMICA!$A974)","v":0},{"$f":"VALUE(DINAMICA!$B974)","v":"00:00:00"},{"$f":"VALUE(DINAMICA!$C974)","v":0},{"$f":"DINAMICA!D974","v":0},{"$f":"DINAMICA!E974","v":0},{"$f":"DINAMICA!F974","v":0},{"$f":"DINAMICA!G974","v":0},{"$f":"DINAMICA!H974","v":0},{"$f":"DINAMICA!I974","v":0},{"$f":"DINAMICA!J974","v":0},{"$f":"DINAMICA!K974","v":0},{"$f":"VALUE(DINAMICA!$L974)","v":0},{"$f":"VALUE(DINAMICA!$M974)","v":0},{"$f":"VALUE(DINAMICA!$N974)","v":0},{"$f":"VALUE(DINAMICA!$O974)","v":0},{"$f":"VALUE(DINAMICA!$P974)","v":0},{"$f":"VALUE(DINAMICA!$Q974)","v":0},{"$f":"VALUE(DINAMICA!$R974)","v":0}]
[{"$f":"VALUE(DINAMICA!$A975)","v":0},{"$f":"VALUE(DINAMICA!$B975)","v":"00:00:00"},{"$f":"VALUE(DINAMICA!$C975)","v":0},{"$f":"DINAMICA!D975","v":0},{"$f":"DINAMICA!E975","v":0},{"$f":"DINAMICA!F975","v":0},{"$f":"DINAMICA!G975","v":0},{"$f":"DINAMICA!H975","v":0},{"$f":"DINAMICA!I975","v":0},{"$f":"DINAMICA!J975","v":0},{"$f":"DINAMICA!K975","v":0},{"$f":"VALUE(DINAMICA!$L975)","v":0},{"$f":"VALUE(DINAMICA!$M975)","v":0},{"$f":"VALUE(DINAMICA!$N975)","v":0},{"$f":"VALUE(DINAMICA!$O975)","v":0},{"$f":"VALUE(DINAMICA!$P975)","v":0},{"$f":"VALUE(DINAMICA!$Q975)","v":0},{"$f":"VALUE(DINAMICA!$R975)","v":0}]
[{"$f":"VALUE(DINAMICA!$A976)","v":0},{"$f":"VALUE(DINAMICA!$B976)","v":"00:00:00"},{"$f":"VALUE(DINAMICA!$C976)","v":0},{"$f":"DINAMICA!D976","v":0},{"$f":"DINAMICA!E976","v":0},{"$f":"DINAMICA!F976","v":0},{"$f":"DINAMICA!G976","v":0},{"$f":"DINAMICA!H976","v":0},{"$f":"DINAMICA!I976","v":0},{"$f":"DINAMICA!J976","v":0},{"$f":"DINAMICA!K976","v":0},{"$f":"VALUE(DINAMICA!$L976)","v":0},{"$f":"VALUE(DINAMICA!$M976)","v":0},{"$f":"VALUE(DINAMICA!$N976)","v":0},{"$f":"VALUE(DINAMICA!$O976)","v":0},{"$f":"VALUE(DINAMICA!$P976)","v":0},{"$f":"VALUE(DINAMICA!$Q976)","v":0},{"$f":"VALUE(DINAMICA!$R976)","v":0}]
[{"$f":"VALUE(DINAMICA!$A977)","v":0},{"$f":"VALUE(DINAMICA!$B977)","v":"00:00:00"},{"$f":"VALUE(DINAMICA!$C977)","v":0},{"$f":"DINAMICA!D977","v":0},{"$f":"DINAMICA!E977","v":0},{"$f":"DINAMICA!F977","v":0},{"$f":"DINAMICA!G977","v":0},{"$f":"DINAMICA!H977","v":0},{"$f":"DINAMICA!I977","v":0},{"$f":"DINAMICA!J977","v":0},{"$f":"DINAMICA!K977","v":0},{"$f":"VALUE(DINAMICA!$L977)","v":0},{"$f":"VALUE(DINAMICA!$M977)","v":0},{"$f":"VALUE(DINAMICA!$N977)","v":0},{"$f":"VALUE(DINAMICA!$O977)","v":0},{"$f":"VALUE(DINAMICA!$P977)","v":0},{"$f":"VALUE(DINAMICA!$Q977)","v":0},{"$f":"VALUE(DINAMICA!$R977)","v":0}]
[{"$f":"VALUE(DINAMICA!$A978)","v":0},{"$f":"VALUE(DINAMICA!$B978)","v":"00:00:00"},{"$f":"VALUE(DINAMICA!$C978)","v":0},{"$f":"DINAMICA!D978","v":0},{"$f":"DINAMICA!E978","v":0},{"$f":"DINAMICA!F978","v":0},{"$f":"DINAMICA!G978","v":0},{"$f":"DINAMICA!H978","v":0},{"$f":"DINAMICA!I978","v":0},{"$f":"DINAMICA!J978","v":0},{"$f":"DINAMICA!K978","v":0},{"$f":"VALUE(DINAMICA!$L978)","v":0},{"$f":"VALUE(DINAMICA!$M978)","v":0},{"$f":"VALUE(DINAMICA!$N978)","v":0},{"$f":"VALUE(DINAMICA!$O978)","v":0},{"$f":"VALUE(DINAMICA!$P978)","v":0},{"$f":"VALUE(DINAMICA!$Q978)","v":0},{"$f":"VALUE(DINAMICA!$R978)","v":0}]
[{"$f":"VALUE(DINAMICA!$A979)","v":0},{"$f":"VALUE(DINAMICA!$B979)","v":"00:00:00"},{"$f":"VALUE(DINAMICA!$C979)","v":0},{"$f":"DINAMICA!D979","v":0},{"$f":"DINAMICA!E979","v":0},{"$f":"DINAMICA!F979","v":0},{"$f":"DINAMICA!G979","v":0},{"$f":"DINAMICA!H979","v":0},{"$f":"DINAMICA!I979","v":0},{"$f":"DINAMICA!J979","v":0},{"$f":"DINAMICA!K979","v":0},{"$f":"VALUE(DINAMICA!$L979)","v":0},{"$f":"VALUE(DINAMICA!$M979)","v":0},{"$f":"VALUE(DINAMICA!$N979)","v":0},{"$f":"VALUE(DINAMICA!$O979)","v":0},{"$f":"VALUE(DINAMICA!$P979)","v":0},{"$f":"VALUE(DINAMICA!$Q979)","v":0},{"$f":"VALUE(DINAMICA!$R979)","v":0}]
[{"$f":"VALUE(DINAMICA!$A980)","v":0},{"$f":"VALUE(DINAMICA!$B980)","v":"00:00:00"},{"$f":"VALUE(DINAMICA!$C980)","v":0},{"$f":"DINAMICA!D980","v":0},{"$f":"DINAMICA!E980","v":0},{"$f":"DINAMICA!F980","v":0},{"$f":"DINAMICA!G980","v":0},{"$f":"DINAMICA!H980","v":0},{"$f":"DINAMICA!I980","v":0},{"$f":"DINAMICA!J980","v":0},{"$f":"DINAMICA!K980","v":0},{"$f":"VALUE(DINAMICA!$L980)","v":0},{"$f":"VALUE(DINAMICA!$M980)","v":0},{"$f":"VALUE(DINAMICA!$N980)","v":0},{"$f":"VALUE(DINAMICA!$O980)","v":0},{"$f":"VALUE(DINAMICA!$P980)","v":0},{"$f":"VALUE(DINAMICA!$Q980)","v":0},{"$f":"VALUE(DINAMICA!$R980)","v":0}]
[{"$f":"VALUE(DINAMICA!$A981)","v":0},{"$f":"VALUE(DINAMICA!$B981)","v":"00:00:00"},{"$f":"VALUE(DINAMICA!$C981)","v":0},{"$f":"DINAMICA!D981","v":0},{"$f":"DINAMICA!E981","v":0},{"$f":"DINAMICA!F981","v":0},{"$f":"DINAMICA!G981","v":0},{"$f":"DINAMICA!H981","v":0},{"$f":"DINAMICA!I981","v":0},{"$f":"DINAMICA!J981","v":0},{"$f":"DINAMICA!K981","v":0},{"$f":"VALUE(DINAMICA!$L981)","v":0},{"$f":"VALUE(DINAMICA!$M981)","v":0},{"$f":"VALUE(DINAMICA!$N981)","v":0},{"$f":"VALUE(DINAMICA!$O981)","v":0},{"$f":"VALUE(DINAMICA!$P981)","v":0},{"$f":"VALUE(DINAMICA!$Q981)","v":0},{"$f":"VALUE(DINAMICA!$R981)","v":0}]
[{"$f":"VALUE(DINAMICA!$A982)","v":0},{"$f":"VALUE(DINAMICA!$B982)","v":"00:00:00"},{"$f":"VALUE(DINAMICA!$C982)","v":0},{"$f":"DINAMICA!D982","v":0},{"$f":"DINAMICA!E982","v":0},{"$f":"DINAMICA!F982","v":0},{"$f":"DINAMICA!G982","v":0},{"$f":"DINAMICA!H982","v":0},{"$f":"DINAMICA!I982","v":0},{"$f":"DINAMICA!J982","v":0},{"$f":"DINAMICA!K982","v":0},{"$f":"VALUE(DINAMICA!$L982)","v":0},{"$f":"VALUE(DINAMICA!$M982)","v":0},{"$f":"VALUE(DINAMICA!$N982)","v":0},{"$f":"VALUE(DINAMICA!$O982)","v":0},{"$f":"VALUE(DINAMICA!$P982)","v":0},{"$f":"VALUE(DINAMICA!$Q982)","v":0},{"$f":"VALUE(DINAMICA!$R982)","v":0}]
[{"$f":"VALUE(DINAMICA!$A983)","v":0},{"$f":"VALUE(DINAMICA!$B983)","v":"00:00:00"},{"$f":"VALUE(DINAMICA!$C983)","v":0},{"$f":"DINAMICA!D983","v":0},{"$f":"DINAMICA!E983","v":0},{"$f":"DINAMICA!F983","v":0},{"$f":"DINAMICA!G983","v":0},{"$f":"DINAMICA!H983","v":0},{"$f":"DINAMICA!I983","v":0},{"$f":"DINAMICA!J983","v":0},{"$f":"DINAMICA!K983","v":0},{"$f":"VALUE(DINAMICA!$L983)","v":0},{"$f":"VALUE(DINAMICA!$M983)","v":0},{"$f":"VALUE(DINAMICA!$N983)","v":0},{"$f":"VALUE(DINAMICA!$O983)","v":0},{"$f":"VALUE(DINAMICA!$P983)","v":0},{"$f":"VALUE(DINAMICA!$Q983)","v":0},{"$f":"VALUE(DINAMICA!$R983)","v":0}]
[{"$f":"VALUE(DINAMICA!$A984)","v":0},{"$f":"VALUE(DINAMICA!$B984)","v":"00:00:00"},{"$f":"VALUE(DINAMICA!$C984)","v":0},{"$f":"DINAMICA!D984","v":0},{"$f":"DINAMICA!E984","v":0},{"$f":"DINAMICA!F984","v":0},{"$f":"DINAMICA!G984","v":0},{"$f":"DINAMICA!H984","v":0},{"$f":"DINAMICA!I984","v":0},{"$f":"DINAMICA!J984","v":0},{"$f":"DINAMICA!K984","v":0},{"$f":"VALUE(DINAMICA!$L984)","v":0},{"$f":"VALUE(DINAMICA!$M984)","v":0},{"$f":"VALUE(DINAMICA!$N984)","v":0},{"$f":"VALUE(DINAMICA!$O984)","v":0},{"$f":"VALUE(DINAMICA!$P984)","v":0},{"$f":"VALUE(DINAMICA!$Q984)","v":0},{"$f":"VALUE(DINAMICA!$R984)","v":0}]
[{"$f":"VALUE(DINAMICA!$A985)","v":0},{"$f":"VALUE(DINAMICA!$B985)","v":"00:00:00"},{"$f":"VALUE(DINAMICA!$C985)","v":0},{"$f":"DINAMICA!D985","v":0},{"$f":"DINAMICA!E985","v":0},{"$f":"DINAMICA!F985","v":0},{"$f":"DINAMICA!G985","v":0},{"$f":"DINAMICA!H985","v":0},{"$f":"DINAMICA!I985","v":0},{"$f":"DINAMICA!J985","v":0},{"$f":"DINAMICA!K985","v":0},{"$f":"VALUE(DINAMICA!$L985)","v":0},{"$f":"VALUE(DINAMICA!$M985)","v":0},{"$f":"VALUE(DINAMICA!$N985)","v":0},{"$f":"VALUE(DINAMICA!$O985)","v":0},{"$f":"VALUE(DINAMICA!$P985)","v":0},{"$f":"VALUE(DINAMICA!$Q985)","v":0},{"$f":"VALUE(DINAMICA!$R985)","v":0}]
[{"$f":"VALUE(DINAMICA!$A986)","v":0},{"$f":"VALUE(DINAMICA!$B986)","v":"00:00:00"},{"$f":"VALUE(DINAMICA!$C986)","v":0},{"$f":"DINAMICA!D986","v":0},{"$f":"DINAMICA!E986","v":0},{"$f":"DINAMICA!F986","v":0},{"$f":"DINAMICA!G986","v":0},{"$f":"DINAMICA!H986","v":0},{"$f":"DINAMICA!I986","v":0},{"$f":"DINAMICA!J986","v":0},{"$f":"DINAMICA!K986","v":0},{"$f":"VALUE(DINAMICA!$L986)","v":0},{"$f":"VALUE(DINAMICA!$M986)","v":0},{"$f":"VALUE(DINAMICA!$N986)","v":0},{"$f":"VALUE(DINAMICA!$O986)","v":0},{"$f":"VALUE(DINAMICA!$P986)","v":0},{"$f":"VALUE(DINAMICA!$Q986)","v":0},{"$f":"VALUE(DINAMICA!$R986)","v":0}]
[{"$f":"VALUE(DINAMICA!$A987)","v":0},{"$f":"VALUE(DINAMICA!$B987)","v":"00:00:00"},{"$f":"VALUE(DINAMICA!$C987)","v":0},{"$f":"DINAMICA!D987","v":0},{"$f":"DINAMICA!E987","v":0},{"$f":"DINAMICA!F987","v":0},{"$f":"DINAMICA!G987","v":0},{"$f":"DINAMICA!H987","v":0},{"$f":"DINAMICA!I987","v":0},{"$f":"DINAMICA!J987","v":0},{"$f":"DINAMICA!K987","v":0},{"$f":"VALUE(DINAMICA!$L987)","v":0},{"$f":"VALUE(DINAMICA!$M987)","v":0},{"$f":"VALUE(DINAMICA!$N987)","v":0},{"$f":"VALUE(DINAMICA!$O987)","v":0},{"$f":"VALUE(DINAMICA!$P987)","v":0},{"$f":"VALUE(DINAMICA!$Q987)","v":0},{"$f":"VALUE(DINAMICA!$R987)","v":0}]
[{"$f":"VALUE(DINAMICA!$A988)","v":0},{"$f":"VALUE(DINAMICA!$B988)","v":"00:00:00"},{"$f":"VALUE(DINAMICA!$C988)","v":0},{"$f":"DINAMICA!D988","v":0},{"$f":"DINAMICA!E988","v":0},{"$f":"DINAMICA!F988","v":0},{"$f":"DINAMICA!G988","v":0},{"$f":"DINAMICA!H988","v":0},{"$f":"DINAMICA!I988","v":0},{"$f":"DINAMICA!J988","v":0},{"$f":"DINAMICA!K988","v":0},{"$f":"VALUE(DINAMICA!$L988)","v":0},{"$f":"VALUE(DINAMICA!$M988)","v":0},{"$f":"VALUE(DINAMICA!$N988)","v":0},{"$f":"VALUE(DINAMICA!$O988)","v":0},{"$f":"VALUE(DINAMICA!$P988)","v":0},{"$f":"VALUE(DINAMICA!$Q988)","v":0},{"$f":"VALUE(DINAMICA!$R988)","v":0}]
[{"$f":"VALUE(DINAMICA!$A989)","v":0},{"$f":"VALUE(DINAMICA!$B989)","v":"00:00:00"},{"$f":"VALUE(DINAMICA!$C989)","v":0},{"$f":"DINAMICA!D989","v":0},{"$f":"DINAMICA!E989","v":0},{"$f":"DINAMICA!F989","v":0},{"$f":"DINAMICA!G989","v":0},{"$f":"DINAMICA!H989","v":0},{"$f":"DINAMICA!I989","v":0},{"$f":"DINAMICA!J989","v":0},{"$f":"DINAMICA!K989","v":0},{"$f":"VALUE(DINAMICA!$L989)","v":0},{"$f":"VALUE(DINAMICA!$M989)","v":0},{"$f":"VALUE(DINAMICA!$N989)","v":0},{"$f":"VALUE(DINAMICA!$O989)","v":0},{"$f":"VALUE(DINAMICA!$P989)","v":0},{"$f":"VALUE(DINAMICA!$Q989)","v":0},{"$f":"VALUE(DINAMICA!$R989)","v":0}]
[{"$f":"VALUE(DINAMICA!$A990)","v":0},{"$f":"VALUE(DINAMICA!$B990)","v":"00:00:00"},{"$f":"VALUE(DINAMICA!$C990)","v":0},{"$f":"DINAMICA!D990","v":0},{"$f":"DINAMICA!E990","v":0},{"$f":"DINAMICA!F990","v":0},{"$f":"DINAMICA!G990","v":0},{"$f":"DINAMICA!H990","v":0},{"$f":"DINAMICA!I990","v":0},{"$f":"DINAMICA!J990","v":0},{"$f":"DINAMICA!K990","v":0},{"$f":"VALUE(DINAMICA!$L990)","v":0},{"$f":"VALUE(DINAMICA!$M990)","v":0},{"$f":"VALUE(DINAMICA!$N990)","v":0},{"$f":"VALUE(DINAMICA!$O990)","v":0},{"$f":"VALUE(DINAMICA!$P990)","v":0},{"$f":"VALUE(DINAMICA!$Q990)","v":0},{"$f":"VALUE(DINAMICA!$R990)","v":0}]
[{"$f":"VALUE(DINAMICA!$A991)","v":0},{"$f":"VALUE(DINAMICA!$B991)","v":"00:00:00"},{"$f":"VALUE(DINAMICA!$C991)","v":0},{"$f":"DINAMICA!D991","v":0},{"$f":"DINAMICA!E991","v":0},{"$f":"DINAMICA!F991","v":0},{"$f":"DINAMICA!G991","v":0},{"$f":"DINAMICA!H991","v":0},{"$f":"DINAMICA!I991","v":0},{"$f":"DINAMICA!J991","v":0},{"$f":"DINAMICA!K991","v":0},{"$f":"VALUE(DINAMICA!$L991)","v":0},{"$f":"VALUE(DINAMICA!$M991)","v":0},{"$f":"VALUE(DINAMICA!$N991)","v":0},{"$f":"VALUE(DINAMICA!$O991)","v":0},{"$f":"VALUE(DINAMICA!$P991)","v":0},{"$f":"VALUE(DINAMICA!$Q991)","v":0},{"$f":"VALUE(DINAMICA!$R991)","v":0}]
[{"$f":"VALUE(DINAMICA!$A992)","v":0},{"$f":"VALUE(DINAMICA!$B992)","v":"00:00:00"},{"$f":"VALUE(DINAMICA!$C992)","v":0},{"$f":"DINAMICA!D992","v":0},{"$f":"DINAMICA!E992","v":0},{"$f":"DINAMICA!F992","v":0},{"$f":"DINAMICA!G992","v":0},{"$f":"DINAMICA!H992","v":0},{"$f":"DINAMICA!I992","v":0},{"$f":"DINAMICA!J992","v":0},{"$f":"DINAMICA!K992","v":0},{"$f":"VALUE(DINAMICA!$L992)","v":0},{"$f":"VALUE(DINAMICA!$M992)","v":0},{"$f":"VALUE(DINAMICA!$N992)","v":0},{"$f":"VALUE(DINAMICA!$O992)","v":0},{"$f":"VALUE(DINAMICA!$P992)","v":0},{"$f":"VALUE(DINAMICA!$Q992)","v":0},{"$f":"VALUE(DINAMICA!$R992)","v":0}]
[{"$f":"VALUE(DINAMICA!$A993)","v":0},{"$f":"VALUE(DINAMICA!$B993)","v":"00:00:00"},{"$f":"VALUE(DINAMICA!$C993)","v":0},{"$f":"DINAMICA!D993","v":0},{"$f":"DINAMICA!E993","v":0},{"$f":"DINAMICA!F993","v":0},{"$f":"DINAMICA!G993","v":0},{"$f":"DINAMICA!H993","v":0},{"$f":"DINAMICA!I993","v":0},{"$f":"DINAMICA!J993","v":0},{"$f":"DINAMICA!K993","v":0},{"$f":"VALUE(DINAMICA!$L993)","v":0},{"$f":"VALUE(DINAMICA!$M993)","v":0},{"$f":"VALUE(DINAMICA!$N993)","v":0},{"$f":"VALUE(DINAMICA!$O993)","v":0},{"$f":"VALUE(DINAMICA!$P993)","v":0},{"$f":"VALUE(DINAMICA!$Q993)","v":0},{"$f":"VALUE(DINAMICA!$R993)","v":0}]
[{"$f":"VALUE(DINAMICA!$A994)","v":0},{"$f":"VALUE(DINAMICA!$B994)","v":"00:00:00"},{"$f":"VALUE(DINAMICA!$C994)","v":0},{"$f":"DINAMICA!D994","v":0},{"$f":"DINAMICA!E994","v":0},{"$f":"DINAMICA!F994","v":0},{"$f":"DINAMICA!G994","v":0},{"$f":"DINAMICA!H994","v":0},{"$f":"DINAMICA!I994","v":0},{"$f":"DINAMICA!J994","v":0},{"$f":"DINAMICA!K994","v":0},{"$f":"VALUE(DINAMICA!$L994)","v":0},{"$f":"VALUE(DINAMICA!$M994)","v":0},{"$f":"VALUE(DINAMICA!$N994)","v":0},{"$f":"VALUE(DINAMICA!$O994)","v":0},{"$f":"VALUE(DINAMICA!$P994)","v":0},{"$f":"VALUE(DINAMICA!$Q994)","v":0},{"$f":"VALUE(DINAMICA!$R994)","v":0}]
[{"$f":"VALUE(DINAMICA!$A995)","v":0},{"$f":"VALUE(DINAMICA!$B995)","v":"00:00:00"},{"$f":"VALUE(DINAMICA!$C995)","v":0},{"$f":"DINAMICA!D995","v":0},{"$f":"DINAMICA!E995","v":0},{"$f":"DINAMICA!F995","v":0},{"$f":"DINAMICA!G995","v":0},{"$f":"DINAMICA!H995","v":0},{"$f":"DINAMICA!I995","v":0},{"$f":"DINAMICA!J995","v":0},{"$f":"DINAMICA!K995","v":0},{"$f":"VALUE(DINAMICA!$L995)","v":0},{"$f":"VALUE(DINAMICA!$M995)","v":0},{"$f":"VALUE(DINAMICA!$N995)","v":0},{"$f":"VALUE(DINAMICA!$O995)","v":0},{"$f":"VALUE(DINAMICA!$P995)","v":0},{"$f":"VALUE(DINAMICA!$Q995)","v":0},{"$f":"VALUE(DINAMICA!$R995)","v":0}]
[{"$f":"VALUE(DINAMICA!$A996)","v":0},{"$f":"VALUE(DINAMICA!$B996)","v":"00:00:00"},{"$f":"VALUE(DINAMICA!$C996)","v":0},{"$f":"DINAMICA!D996","v":0},{"$f":"DINAMICA!E996","v":0},{"$f":"DINAMICA!F996","v":0},{"$f":"DINAMICA!G996","v":0},{"$f":"DINAMICA!H996","v":0},{"$f":"DINAMICA!I996","v":0},{"$f":"DINAMICA!J996","v":0},{"$f":"DINAMICA!K996","v":0},{"$f":"VALUE(DINAMICA!$L996)","v":0},{"$f":"VALUE(DINAMICA!$M996)","v":0},{"$f":"VALUE(DINAMICA!$N996)","v":0},{"$f":"VALUE(DINAMICA!$O996)","v":0},{"$f":"VALUE(DINAMICA!$P996)","v":0},{"$f":"VALUE(DINAMICA!$Q996)","v":0},{"$f":"VALUE(DINAMICA!$R996)","v":0}]
[{"$f":"VALUE(DINAMICA!$A997)","v":0},{"$f":"VALUE(DINAMICA!$B997)","v":"00:00:00"},{"$f":"VALUE(DINAMICA!$C997)","v":0},{"$f":"DINAMICA!D997","v":0},{"$f":"DINAMICA!E997","v":0},{"$f":"DINAMICA!F997","v":0},{"$f":"DINAMICA!G997","v":0},{"$f":"DINAMICA!H997","v":0},{"$f":"DINAMICA!I997","v":0},{"$f":"DINAMICA!J997","v":0},{"$f":"DINAMICA!K997","v":0},{"$f":"VALUE(DINAMICA!$L997)","v":0},{"$f":"VALUE(DINAMICA!$M997)","v":0},{"$f":"VALUE(DINAMICA!$N997)","v":0},{"$f":"VALUE(DINAMICA!$O997)","v":0},{"$f":"VALUE(DINAMICA!$P997)","v":0},{"$f":"VALUE(DINAMICA!$Q997)","v":0},{"$f":"VALUE(DINAMICA!$R997)","v":0}]
[{"$f":"VALUE(DINAMICA!$A998)","v":0},{"$f":"VALUE(DINAMICA!$B998)","v":"00:00:00"},{"$f":"VALUE(DINAMICA!$C998)","v":0},{"$f":"DINAMICA!D998","v":0},{"$f":"DINAMICA!E998","v":0},{"$f":"DINAMICA!F998","v":0},{"$f":"DINAMICA!G998","v":0},{"$f":"DINAMICA!H998","v":0},{"$f":"DINAMICA!I998","v":0},{"$f":"DINAMICA!J998","v":0},{"$f":"DINAMICA!K998","v":0},{"$f":"VALUE(DINAMICA!$L998)","v":0},{"$f":"VALUE(DINAMICA!$M998)","v":0},{"$f":"VALUE(DINAMICA!$N998)","v":0},{"$f":"VALUE(DINAMICA!$O998)","v":0},{"$f":"VALUE(DINAMICA!$P998)","v":0},{"$f":"VALUE(DINAMICA!$Q998)","v":0},{"$f":"VALUE(DINAMICA!$R998)","v":0}]
[{"$f":"VALUE(DINAMICA!$A999)","v":0},{"$f":"VALUE(DINAMICA!$B999)","v":"00:00:00"},{"$f":"VALUE(DINAMICA!$C999)","v":0},{"$f":"DINAMICA!D999","v":0},{"$f":"DINAMICA!E999","v":0},{"$f":"DINAMICA!F999","v":0},{"$f":"DINAMICA!G999","v":0},{"$f":"DINAMICA!H999","v":0},{"$f":"DINAMICA!I999","v":0},{"$f":"DINAMICA!J999","v":0},{"$f":"DINAMICA!K999","v":0},{"$f":"VALUE(DINAMICA!$L999)","v":0},{"$f":"VALUE(DINAMICA!$M999)","v":0},{"$f":"VALUE(DINAMICA!$N999)","v":0},{"$f":"VALUE(DINAMICA!$O999)","v":0},{"$f":"VALUE(DINAMICA!$P999)","v":0},{"$f":"VALUE(DINAMICA!$Q999)","v":0},{"$f":"VALUE(DINAMICA!$R999)","v":0}]
[{"$f":"VALUE(DINAMICA!$A1000)","v":0},{"$f":"VALUE(DINAMICA!$B1000)","v":"00:00:00"},{"$f":"VALUE(DINAMICA!$C1000)","v":0},{"$f":"DINAMICA!D1000","v":0},{"$f":"DINAMICA!E1000","v":0},{"$f":"DINAMICA!F1000","v":0},{"$f":"DINAMICA!G1000","v":0},{"$f":"DINAMICA!H1000","v":0},{"$f":"DINAMICA!I1000","v":0},{"$f":"DINAMICA!J1000","v":0},{"$f":"DINAMICA!K1000","v":0},{"$f":"VALUE(DINAMICA!$L1000)","v":0},{"$f":"VALUE(DINAMICA!$M1000)","v":0},{"$f":"VALUE(DINAMICA!$N1000)","v":0},{"$f":"VALUE(DINAMICA!$O1000)","v":0},{"$f":"VALUE(DINAMICA!$P1000)","v":0},{"$f":"VALUE(DINAMICA!$Q1000)","v":0},{"$f":"VALUE(DINAMICA!$R1000)","v":0}]
[{"$f":"VALUE(DINAMICA!$A1001)","v":0},{"$f":"VALUE(DINAMICA!$B1001)","v":"00:00:00"},{"$f":"VALUE(DINAMICA!$C1001)","v":0},{"$f":"DINAMICA!D1001","v":0},{"$f":"DINAMICA!E1001","v":0},{"$f":"DINAMICA!F1001","v":0},{"$f":"DINAMICA!G1001","v":0},{"$f":"DINAMICA!H1001","v":0},{"$f":"DINAMICA!I1001","v":0},{"$f":"DINAMICA!J1001","v":0},{"$f":"DINAMICA!K1001","v":0},{"$f":"VALUE(DINAMICA!$L1001)","v":0},{"$f":"VALUE(DINAMICA!$M1001)","v":0},{"$f":"VALUE(DINAMICA!$N1001)","v":0},{"$f":"VALUE(DINAMICA!$O1001)","v":0},{"$f":"VALUE(DINAMICA!$P1001)","v":0},{"$f":"VALUE(DINAMICA!$Q1001)","v":0},{"$f":"VALUE(DINAMICA!$R1001)","v":0}]
[{"$f":"VALUE(DINAMICA!$A1002)","v":0},{"$f":"VALUE(DINAMICA!$B1002)","v":"00:00:00"},{"$f":"VALUE(DINAMICA!$C1002)","v":0},{"$f":"DINAMICA!D1002","v":0},{"$f":"DINAMICA!E1002","v":0},{"$f":"DINAMICA!F1002","v":0},{"$f":"DINAMICA!G1002","v":0},{"$f":"DINAMICA!H1002","v":0},{"$f":"DINAMICA!I1002","v":0},{"$f":"DINAMICA!J1002","v":0},{"$f":"DINAMICA!K1002","v":0},{"$f":"VALUE(DINAMICA!$L1002)","v":0},{"$f":"VALUE(DINAMICA!$M1002)","v":0},{"$f":"VALUE(DINAMICA!$N1002)","v":0},{"$f":"VALUE(DINAMICA!$O1002)","v":0},{"$f":"VALUE(DINAMICA!$P1002)","v":0},{"$f":"VALUE(DINAMICA!$Q1002)","v":0},{"$f":"VALUE(DINAMICA!$R1002)","v":0}]
[{"$f":"VALUE(DINAMICA!$A1003)","v":0},{"$f":"VALUE(DINAMICA!$B1003)","v":"00:00:00"},{"$f":"VALUE(DINAMICA!$C1003)","v":0},{"$f":"DINAMICA!D1003","v":0},{"$f":"DINAMICA!E1003","v":0},{"$f":"DINAMICA!F1003","v":0},{"$f":"DINAMICA!G1003","v":0},{"$f":"DINAMICA!H1003","v":0},{"$f":"DINAMICA!I1003","v":0},{"$f":"DINAMICA!J1003","v":0},{"$f":"DINAMICA!K1003","v":0},{"$f":"VALUE(DINAMICA!$L1003)","v":0},{"$f":"VALUE(DINAMICA!$M1003)","v":0},{"$f":"VALUE(DINAMICA!$N1003)","v":0},{"$f":"VALUE(DINAMICA!$O1003)","v":0},{"$f":"VALUE(DINAMICA!$P1003)","v":0},{"$f":"VALUE(DINAMICA!$Q1003)","v":0},{"$f":"VALUE(DINAMICA!$R1003)","v":0}]
[{"$f":"VALUE(DINAMICA!$A1004)","v":0},{"$f":"VALUE(DINAMICA!$B1004)","v":"00:00:00"},{"$f":"VALUE(DINAMICA!$C1004)","v":0},{"$f":"DINAMICA!D1004","v":0},{"$f":"DINAMICA!E1004","v":0},{"$f":"DINAMICA!F1004","v":0},{"$f":"DINAMICA!G1004","v":0},{"$f":"DINAMICA!H1004","v":0},{"$f":"DINAMICA!I1004","v":0},{"$f":"DINAMICA!J1004","v":0},{"$f":"DINAMICA!K1004","v":0},{"$f":"VALUE(DINAMICA!$L1004)","v":0},{"$f":"VALUE(DINAMICA!$M1004)","v":0},{"$f":"VALUE(DINAMICA!$N1004)","v":0},{"$f":"VALUE(DINAMICA!$O1004)","v":0},{"$f":"VALUE(DINAMICA!$P1004)","v":0},{"$f":"VALUE(DINAMICA!$Q1004)","v":0},{"$f":"VALUE(DINAMICA!$R1004)","v":0}]
[{"$f":"VALUE(DINAMICA!$A1005)","v":0},{"$f":"VALUE(DINAMICA!$B1005)","v":"00:00:00"},{"$f":"VALUE(DINAMICA!$C1005)","v":0},{"$f":"DINAMICA!D1005","v":0},{"$f":"DINAMICA!E1005","v":0},{"$f":"DINAMICA!F1005","v":0},{"$f":"DINAMICA!G1005","v":0},{"$f":"DINAMICA!H1005","v":0},{"$f":"DINAMICA!I1005","v":0},{"$f":"DINAMICA!J1005","v":0},{"$f":"DINAMICA!K1005","v":0},{"$f":"VALUE(DINAMICA!$L1005)","v":0},{"$f":"VALUE(DINAMICA!$M1005)","v":0},{"$f":"VALUE(DINAMICA!$N1005)","v":0},{"$f":"VALUE(DINAMICA!$O1005)","v":0},{"$f":"VALUE(DINAMICA!$P1005)","v":0},{"$f":"VALUE(DINAMICA!$Q1005)","v":0},{"$f":"VALUE(DINAMICA!$R1005)","v":0}]
[{"$f":"VALUE(DINAMICA!$A1006)","v":0},{"$f":"VALUE(DINAMICA!$B1006)","v":"00:00:00"},{"$f":"VALUE(DINAMICA!$C1006)","v":0},{"$f":"DINAMICA!D1006","v":0},{"$f":"DINAMICA!E1006","v":0},{"$f":"DINAMICA!F1006","v":0},{"$f":"DINAMICA!G1006","v":0},{"$f":"DINAMICA!H1006","v":0},{"$f":"DINAMICA!I1006","v":0},{"$f":"DINAMICA!J1006","v":0},{"$f":"DINAMICA!K1006","v":0},{"$f":"VALUE(DINAMICA!$L1006)","v":0},{"$f":"VALUE(DINAMICA!$M1006)","v":0},{"$f":"VALUE(DINAMICA!$N1006)","v":0},{"$f":"VALUE(DINAMICA!$O1006)","v":0},{"$f":"VALUE(DINAMICA!$P1006)","v":0},{"$f":"VALUE(DINAMICA!$Q1006)","v":0},{"$f":"VALUE(DINAMICA!$R1006)","v":0}]
[{"$f":"VALUE(DINAMICA!$A1007)","v":0},{"$f":"VALUE(DINAMICA!$B1007)","v":"00:00:00"},{"$f":"VALUE(DINAMICA!$C1007)","v":0},{"$f":"DINAMICA!D1007","v":0},{"$f":"DINAMICA!E1007","v":0},{"$f":"DINAMICA!F1007","v":0},{"$f":"DINAMICA!G1007","v":0},{"$f":"DINAMICA!H1007","v":0},{"$f":"DINAMICA!I1007","v":0},{"$f":"DINAMICA!J1007","v":0},{"$f":"DINAMICA!K1007","v":0},{"$f":"VALUE(DINAMICA!$L1007)","v":0},{"$f":"VALUE(DINAMICA!$M1007)","v":0},{"$f":"VALUE(DINAMICA!$N1007)","v":0},{"$f":"VALUE(DINAMICA!$O1007)","v":0},{"$f":"VALUE(DINAMICA!$P1007)","v":0},{"$f":"VALUE(DINAMICA!$Q1007)","v":0},{"$f":"VALUE(DINAMICA!$R1007)","v":0}]
[{"$f":"VALUE(DINAMICA!$A1008)","v":0},{"$f":"VALUE(DINAMICA!$B1008)","v":"00:00:00"},{"$f":"VALUE(DINAMICA!$C1008)","v":0},{"$f":"DINAMICA!D1008","v":0},{"$f":"DINAMICA!E1008","v":0},{"$f":"DINAMICA!F1008","v":0},{"$f":"DINAMICA!G1008","v":0},{"$f":"DINAMICA!H1008","v":0},{"$f":"DINAMICA!I1008","v":0},{"$f":"DINAMICA!J1008","v":0},{"$f":"DINAMICA!K1008","v":0},{"$f":"VALUE(DINAMICA!$L1008)","v":0},{"$f":"VALUE(DINAMICA!$M1008)","v":0},{"$f":"VALUE(DINAMICA!$N1008)","v":0},{"$f":"VALUE(DINAMICA!$O1008)","v":0},{"$f":"VALUE(DINAMICA!$P1008)","v":0},{"$f":"VALUE(DINAMICA!$Q1008)","v":0},{"$f":"VALUE(DINAMICA!$R1008)","v":0}]
[{"$f":"VALUE(DINAMICA!$A1009)","v":0},{"$f":"VALUE(DINAMICA!$B1009)","v":"00:00:00"},{"$f":"VALUE(DINAMICA!$C1009)","v":0},{"$f":"DINAMICA!D1009","v":0},{"$f":"DINAMICA!E1009","v":0},{"$f":"DINAMICA!F1009","v":0},{"$f":"DINAMICA!G1009","v":0},{"$f":"DINAMICA!H1009","v":0},{"$f":"DINAMICA!I1009","v":0},{"$f":"DINAMICA!J1009","v":0},{"$f":"DINAMICA!K1009","v":0},{"$f":"VALUE(DINAMICA!$L1009)","v":0},{"$f":"VALUE(DINAMICA!$M1009)","v":0},{"$f":"VALUE(DINAMICA!$N1009)","v":0},{"$f":"VALUE(DINAMICA!$O1009)","v":0},{"$f":"VALUE(DINAMICA!$P1009)","v":0},{"$f":"VALUE(DINAMICA!$Q1009)","v":0},{"$f":"VALUE(DINAMICA!$R1009)","v":0}]
[{"$f":"VALUE(DINAMICA!$A1010)","v":0},{"$f":"VALUE(DINAMICA!$B1010)","v":"00:00:00"},{"$f":"VALUE(DINAMICA!$C1010)","v":0},{"$f":"DINAMICA!D1010","v":0},{"$f":"DINAMICA!E1010","v":0},{"$f":"DINAMICA!F1010","v":0},{"$f":"DINAMICA!G1010","v":0},{"$f":"DINAMICA!H1010","v":0},{"$f":"DINAMICA!I1010","v":0},{"$f":"DINAMICA!J1010","v":0},{"$f":"DINAMICA!K1010","v":0},{"$f":"VALUE(DINAMICA!$L1010)","v":0},{"$f":"VALUE(DINAMICA!$M1010)","v":0},{"$f":"VALUE(DINAMICA!$N1010)","v":0},{"$f":"VALUE(DINAMICA!$O1010)","v":0},{"$f":"VALUE(DINAMICA!$P1010)","v":0},{"$f":"VALUE(DINAMICA!$Q1010)","v":0},{"$f":"VALUE(DINAMICA!$R1010)","v":0}]
[{"$f":"VALUE(DINAMICA!$A1011)","v":0},{"$f":"VALUE(DINAMICA!$B1011)","v":"00:00:00"},{"$f":"VALUE(DINAMICA!$C1011)","v":0},{"$f":"DINAMICA!D1011","v":0},{"$f":"DINAMICA!E1011","v":0},{"$f":"DINAMICA!F1011","v":0},{"$f":"DINAMICA!G1011","v":0},{"$f":"DINAMICA!H1011","v":0},{"$f":"DINAMICA!I1011","v":0},{"$f":"DINAMICA!J1011","v":0},{"$f":"DINAMICA!K1011","v":0},{"$f":"VALUE(DINAMICA!$L1011)","v":0},{"$f":"VALUE(DINAMICA!$M1011)","v":0},{"$f":"VALUE(DINAMICA!$N1011)","v":0},{"$f":"VALUE(DINAMICA!$O1011)","v":0},{"$f":"VALUE(DINAMICA!$P1011)","v":0},{"$f":"VALUE(DINAMICA!$Q1011)","v":0},{"$f":"VALUE(DINAMICA!$R1011)","v":0}]
[{"$f":"VALUE(DINAMICA!$A1012)","v":0},{"$f":"VALUE(DINAMICA!$B1012)","v":"00:00:00"},{"$f":"VALUE(DINAMICA!$C1012)","v":0},{"$f":"DINAMICA!D1012","v":0},{"$f":"DINAMICA!E1012","v":0},{"$f":"DINAMICA!F1012","v":0},{"$f":"DINAMICA!G1012","v":0},{"$f":"DINAMICA!H1012","v":0},{"$f":"DINAMICA!I1012","v":0},{"$f":"DINAMICA!J1012","v":0},{"$f":"DINAMICA!K1012","v":0},{"$f":"VALUE(DINAMICA!$L1012)","v":0},{"$f":"VALUE(DINAMICA!$M1012)","v":0},{"$f":"VALUE(DINAMICA!$N1012)","v":0},{"$f":"VALUE(DINAMICA!$O1012)","v":0},{"$f":"VALUE(DINAMICA!$P1012)","v":0},{"$f":"VALUE(DINAMICA!$Q1012)","v":0},{"$f":"VALUE(DINAMICA!$R1012)","v":0}]
[{"$f":"VALUE(DINAMICA!$A1013)","v":0},{"$f":"VALUE(DINAMICA!$B1013)","v":"00:00:00"},{"$f":"VALUE(DINAMICA!$C1013)","v":0},{"$f":"DINAMICA!D1013","v":0},{"$f":"DINAMICA!E1013","v":0},{"$f":"DINAMICA!F1013","v":0},{"$f":"DINAMICA!G1013","v":0},{"$f":"DINAMICA!H1013","v":0},{"$f":"DINAMICA!I1013","v":0},{"$f":"DINAMICA!J1013","v":0},{"$f":"DINAMICA!K1013","v":0},{"$f":"VALUE(DINAMICA!$L1013)","v":0},{"$f":"VALUE(DINAMICA!$M1013)","v":0},{"$f":"VALUE(DINAMICA!$N1013)","v":0},{"$f":"VALUE(DINAMICA!$O1013)","v":0},{"$f":"VALUE(DINAMICA!$P1013)","v":0},{"$f":"VALUE(DINAMICA!$Q1013)","v":0},{"$f":"VALUE(DINAMICA!$R1013)","v":0}]
[{"$f":"VALUE(DINAMICA!$A1014)","v":0},{"$f":"VALUE(DINAMICA!$B1014)","v":"00:00:00"},{"$f":"VALUE(DINAMICA!$C1014)","v":0},{"$f":"DINAMICA!D1014","v":0},{"$f":"DINAMICA!E1014","v":0},{"$f":"DINAMICA!F1014","v":0},{"$f":"DINAMICA!G1014","v":0},{"$f":"DINAMICA!H1014","v":0},{"$f":"DINAMICA!I1014","v":0},{"$f":"DINAMICA!J1014","v":0},{"$f":"DINAMICA!K1014","v":0},{"$f":"VALUE(DINAMICA!$L1014)","v":0},{"$f":"VALUE(DINAMICA!$M1014)","v":0},{"$f":"VALUE(DINAMICA!$N1014)","v":0},{"$f":"VALUE(DINAMICA!$O1014)","v":0},{"$f":"VALUE(DINAMICA!$P1014)","v":0},{"$f":"VALUE(DINAMICA!$Q1014)","v":0},{"$f":"VALUE(DINAMICA!$R1014)","v":0}]
[{"$f":"VALUE(DINAMICA!$A1015)","v":0},{"$f":"VALUE(DINAMICA!$B1015)","v":"00:00:00"},{"$f":"VALUE(DINAMICA!$C1015)","v":0},{"$f":"DINAMICA!D1015","v":0},{"$f":"DINAMICA!E1015","v":0},{"$f":"DINAMICA!F1015","v":0},{"$f":"DINAMICA!G1015","v":0},{"$f":"DINAMICA!H1015","v":0},{"$f":"DINAMICA!I1015","v":0},{"$f":"DINAMICA!J1015","v":0},{"$f":"DINAMICA!K1015","v":0},{"$f":"VALUE(DINAMICA!$L1015)","v":0},{"$f":"VALUE(DINAMICA!$M1015)","v":0},{"$f":"VALUE(DINAMICA!$N1015)","v":0},{"$f":"VALUE(DINAMICA!$O1015)","v":0},{"$f":"VALUE(DINAMICA!$P1015)","v":0},{"$f":"VALUE(DINAMICA!$Q1015)","v":0},{"$f":"VALUE(DINAMICA!$R1015)","v":0}]
[{"$f":"VALUE(DINAMICA!$A1016)","v":0},{"$f":"VALUE(DINAMICA!$B1016)","v":"00:00:00"},{"$f":"VALUE(DINAMICA!$C1016)","v":0},{"$f":"DINAMICA!D1016","v":0},{"$f":"DINAMICA!E1016","v":0},{"$f":"DINAMICA!F1016","v":0},{"$f":"DINAMICA!G1016","v":0},{"$f":"DINAMICA!H1016","v":0},{"$f":"DINAMICA!I1016","v":0},{"$f":"DINAMICA!J1016","v":0},{"$f":"DINAMICA!K1016","v":0},{"$f":"VALUE(DINAMICA!$L1016)","v":0},{"$f":"VALUE(DINAMICA!$M1016)","v":0},{"$f":"VALUE(DINAMICA!$N1016)","v":0},{"$f":"VALUE(DINAMICA!$O1016)","v":0},{"$f":"VALUE(DINAMICA!$P1016)","v":0},{"$f":"VALUE(DINAMICA!$Q1016)","v":0},{"$f":"VALUE(DINAMICA!$R1016)","v":0}]
[{"$f":"VALUE(DINAMICA!$A1017)","v":0},{"$f":"VALUE(DINAMICA!$B1017)","v":"00:00:00"},{"$f":"VALUE(DINAMICA!$C1017)","v":0},{"$f":"DINAMICA!D1017","v":0},{"$f":"DINAMICA!E1017","v":0},{"$f":"DINAMICA!F1017","v":0},{"$f":"DINAMICA!G1017","v":0},{"$f":"DINAMICA!H1017","v":0},{"$f":"DINAMICA!I1017","v":0},{"$f":"DINAMICA!J1017","v":0},{"$f":"DINAMICA!K1017","v":0},{"$f":"VALUE(DINAMICA!$L1017)","v":0},{"$f":"VALUE(DINAMICA!$M1017)","v":0},{"$f":"VALUE(DINAMICA!$N1017)","v":0},{"$f":"VALUE(DINAMICA!$O1017)","v":0},{"$f":"VALUE(DINAMICA!$P1017)","v":0},{"$f":"VALUE(DINAMICA!$Q1017)","v":0},{"$f":"VALUE(DINAMICA!$R1017)","v":0}]
[{"$f":"VALUE(DINAMICA!$A1018)","v":0},{"$f":"VALUE(DINAMICA!$B1018)","v":"00:00:00"},{"$f":"VALUE(DINAMICA!$C1018)","v":0},{"$f":"DINAMICA!D1018","v":0},{"$f":"DINAMICA!E1018","v":0},{"$f":"DINAMICA!F1018","v":0},{"$f":"DINAMICA!G1018","v":0},{"$f":"DINAMICA!H1018","v":0},{"$f":"DINAMICA!I1018","v":0},{"$f":"DINAMICA!J1018","v":0},{"$f":"DINAMICA!K1018","v":0},{"$f":"VALUE(DINAMICA!$L1018)","v":0},{"$f":"VALUE(DINAMICA!$M1018)","v":0},{"$f":"VALUE(DINAMICA!$N1018)","v":0},{"$f":"VALUE(DINAMICA!$O1018)","v":0},{"$f":"VALUE(DINAMICA!$P1018)","v":0},{"$f":"VALUE(DINAMICA!$Q1018)","v":0},{"$f":"VALUE(DINAMICA!$R1018)","v":0}]
[{"$f":"VALUE(DINAMICA!$A1019)","v":0},{"$f":"VALUE(DINAMICA!$B1019)","v":"00:00:00"},{"$f":"VALUE(DINAMICA!$C1019)","v":0},{"$f":"DINAMICA!D1019","v":0},{"$f":"DINAMICA!E1019","v":0},{"$f":"DINAMICA!F1019","v":0},{"$f":"DINAMICA!G1019","v":0},{"$f":"DINAMICA!H1019","v":0},{"$f":"DINAMICA!I1019","v":0},{"$f":"DINAMICA!J1019","v":0},{"$f":"DINAMICA!K1019","v":0},{"$f":"VALUE(DINAMICA!$L1019)","v":0},{"$f":"VALUE(DINAMICA!$M1019)","v":0},{"$f":"VALUE(DINAMICA!$N1019)","v":0},{"$f":"VALUE(DINAMICA!$O1019)","v":0},{"$f":"VALUE(DINAMICA!$P1019)","v":0},{"$f":"VALUE(DINAMICA!$Q1019)","v":0},{"$f":"VALUE(DINAMICA!$R1019)","v":0}]
[{"$f":"VALUE(DINAMICA!$A1020)","v":0},{"$f":"VALUE(DINAMICA!$B1020)","v":"00:00:00"},{"$f":"VALUE(DINAMICA!$C1020)","v":0},{"$f":"DINAMICA!D1020","v":0},{"$f":"DINAMICA!E1020","v":0},{"$f":"DINAMICA!F1020","v":0},{"$f":"DINAMICA!G1020","v":0},{"$f":"DINAMICA!H1020","v":0},{"$f":"DINAMICA!I1020","v":0},{"$f":"DINAMICA!J1020","v":0},{"$f":"DINAMICA!K1020","v":0},{"$f":"VALUE(DINAMICA!$L1020)","v":0},{"$f":"VALUE(DINAMICA!$M1020)","v":0},{"$f":"VALUE(DINAMICA!$N1020)","v":0},{"$f":"VALUE(DINAMICA!$O1020)","v":0},{"$f":"VALUE(DINAMICA!$P1020)","v":0},{"$f":"VALUE(DINAMICA!$Q1020)","v":0},{"$f":"VALUE(DINAMICA!$R1020)","v":0}]
[{"$f":"VALUE(DINAMICA!$A1021)","v":0},{"$f":"VALUE(DINAMICA!$B1021)","v":"00:00:00"},{"$f":"VALUE(DINAMICA!$C1021)","v":0},{"$f":"DINAMICA!D1021","v":0},{"$f":"DINAMICA!E1021","v":0},{"$f":"DINAMICA!F1021","v":0},{"$f":"DINAMICA!G1021","v":0},{"$f":"DINAMICA!H1021","v":0},{"$f":"DINAMICA!I1021","v":0},{"$f":"DINAMICA!J1021","v":0},{"$f":"DINAMICA!K1021","v":0},{"$f":"VALUE(DINAMICA!$L1021)","v":0},{"$f":"VALUE(DINAMICA!$M1021)","v":0},{"$f":"VALUE(DINAMICA!$N1021)","v":0},{"$f":"VALUE(DINAMICA!$O1021)","v":0},{"$f":"VALUE(DINAMICA!$P1021)","v":0},{"$f":"VALUE(DINAMICA!$Q1021)","v":0},{"$f":"VALUE(DINAMICA!$R1021)","v":0}]
[{"$f":"VALUE(DINAMICA!$A1022)","v":0},{"$f":"VALUE(DINAMICA!$B1022)","v":"00:00:00"},{"$f":"VALUE(DINAMICA!$C1022)","v":0},{"$f":"DINAMICA!D1022","v":0},{"$f":"DINAMICA!E1022","v":0},{"$f":"DINAMICA!F1022","v":0},{"$f":"DINAMICA!G1022","v":0},{"$f":"DINAMICA!H1022","v":0},{"$f":"DINAMICA!I1022","v":0},{"$f":"DINAMICA!J1022","v":0},{"$f":"DINAMICA!K1022","v":0},{"$f":"VALUE(DINAMICA!$L1022)","v":0},{"$f":"VALUE(DINAMICA!$M1022)","v":0},{"$f":"VALUE(DINAMICA!$N1022)","v":0},{"$f":"VALUE(DINAMICA!$O1022)","v":0},{"$f":"VALUE(DINAMICA!$P1022)","v":0},{"$f":"VALUE(DINAMICA!$Q1022)","v":0},{"$f":"VALUE(DINAMICA!$R1022)","v":0}]
[{"$f":"VALUE(DINAMICA!$A1023)","v":0},{"$f":"VALUE(DINAMICA!$B1023)","v":"00:00:00"},{"$f":"VALUE(DINAMICA!$C1023)","v":0},{"$f":"DINAMICA!D1023","v":0},{"$f":"DINAMICA!E1023","v":0},{"$f":"DINAMICA!F1023","v":0},{"$f":"DINAMICA!G1023","v":0},{"$f":"DINAMICA!H1023","v":0},{"$f":"DINAMICA!I1023","v":0},{"$f":"DINAMICA!J1023","v":0},{"$f":"DINAMICA!K1023","v":0},{"$f":"VALUE(DINAMICA!$L1023)","v":0},{"$f":"VALUE(DINAMICA!$M1023)","v":0},{"$f":"VALUE(DINAMICA!$N1023)","v":0},{"$f":"VALUE(DINAMICA!$O1023)","v":0},{"$f":"VALUE(DINAMICA!$P1023)","v":0},{"$f":"VALUE(DINAMICA!$Q1023)","v":0},{"$f":"VALUE(DINAMICA!$R1023)","v":0}]
[{"$f":"VALUE(DINAMICA!$A1024)","v":0},{"$f":"VALUE(DINAMICA!$B1024)","v":"00:00:00"},{"$f":"VALUE(DINAMICA!$C1024)","v":0},{"$f":"DINAMICA!D1024","v":0},{"$f":"DINAMICA!E1024","v":0},{"$f":"DINAMICA!F1024","v":0},{"$f":"DINAMICA!G1024","v":0},{"$f":"DINAMICA!H1024","v":0},{"$f":"DINAMICA!I1024","v":0},{"$f":"DINAMICA!J1024","v":0},{"$f":"DINAMICA!K1024","v":0},{"$f":"VALUE(DINAMICA!$L1024)","v":0},{"$f":"VALUE(DINAMICA!$M1024)","v":0},{"$f":"VALUE(DINAMICA!$N1024)","v":0},{"$f":"VALUE(DINAMICA!$O1024)","v":0},{"$f":"VALUE(DINAMICA!$P1024)","v":0},{"$f":"VALUE(DINAMICA!$Q1024)","v":0},{"$f":"VALUE(DINAMICA!$R1024)","v":0}]
[{"$f":"VALUE(DINAMICA!$A1025)","v":0},{"$f":"VALUE(DINAMICA!$B1025)","v":"00:00:00"},{"$f":"VALUE(DINAMICA!$C1025)","v":0},{"$f":"DINAMICA!D1025","v":0},{"$f":"DINAMICA!E1025","v":0},{"$f":"DINAMICA!F1025","v":0},{"$f":"DINAMICA!G1025","v":0},{"$f":"DINAMICA!H1025","v":0},{"$f":"DINAMICA!I1025","v":0},{"$f":"DINAMICA!J1025","v":0},{"$f":"DINAMICA!K1025","v":0},{"$f":"VALUE(DINAMICA!$L1025)","v":0},{"$f":"VALUE(DINAMICA!$M1025)","v":0},{"$f":"VALUE(DINAMICA!$N1025)","v":0},{"$f":"VALUE(DINAMICA!$O1025)","v":0},{"$f":"VALUE(DINAMICA!$P1025)","v":0},{"$f":"VALUE(DINAMICA!$Q1025)","v":0},{"$f":"VALUE(DINAMICA!$R1025)","v":0}]
[{"$f":"VALUE(DINAMICA!$A1026)","v":0},{"$f":"VALUE(DINAMICA!$B1026)","v":"00:00:00"},{"$f":"VALUE(DINAMICA!$C1026)","v":0},{"$f":"DINAMICA!D1026","v":0},{"$f":"DINAMICA!E1026","v":0},{"$f":"DINAMICA!F1026","v":0},{"$f":"DINAMICA!G1026","v":0},{"$f":"DINAMICA!H1026","v":0},{"$f":"DINAMICA!I1026","v":0},{"$f":"DINAMICA!J1026","v":0},{"$f":"DINAMICA!K1026","v":0},{"$f":"VALUE(DINAMICA!$L1026)","v":0},{"$f":"VALUE(DINAMICA!$M1026)","v":0},{"$f":"VALUE(DINAMICA!$N1026)","v":0},{"$f":"VALUE(DINAMICA!$O1026)","v":0},{"$f":"VALUE(DINAMICA!$P1026)","v":0},{"$f":"VALUE(DINAMICA!$Q1026)","v":0},{"$f":"VALUE(DINAMICA!$R1026)","v":0}]
[{"$f":"VALUE(DINAMICA!$A1027)","v":0},{"$f":"VALUE(DINAMICA!$B1027)","v":"00:00:00"},{"$f":"VALUE(DINAMICA!$C1027)","v":0},{"$f":"DINAMICA!D1027","v":0},{"$f":"DINAMICA!E1027","v":0},{"$f":"DINAMICA!F1027","v":0},{"$f":"DINAMICA!G1027","v":0},{"$f":"DINAMICA!H1027","v":0},{"$f":"DINAMICA!I1027","v":0},{"$f":"DINAMICA!J1027","v":0},{"$f":"DINAMICA!K1027","v":0},{"$f":"VALUE(DINAMICA!$L1027)","v":0},{"$f":"VALUE(DINAMICA!$M1027)","v":0},{"$f":"VALUE(DINAMICA!$N1027)","v":0},{"$f":"VALUE(DINAMICA!$O1027)","v":0},{"$f":"VALUE(DINAMICA!$P1027)","v":0},{"$f":"VALUE(DINAMICA!$Q1027)","v":0},{"$f":"VALUE(DINAMICA!$R1027)","v":0}]
[{"$f":"VALUE(DINAMICA!$A1028)","v":0},{"$f":"VALUE(DINAMICA!$B1028)","v":"00:00:00"},{"$f":"VALUE(DINAMICA!$C1028)","v":0},{"$f":"DINAMICA!D1028","v":0},{"$f":"DINAMICA!E1028","v":0},{"$f":"DINAMICA!F1028","v":0},{"$f":"DINAMICA!G1028","v":0},{"$f":"DINAMICA!H1028","v":0},{"$f":"DINAMICA!I1028","v":0},{"$f":"DINAMICA!J1028","v":0},{"$f":"DINAMICA!K1028","v":0},{"$f":"VALUE(DINAMICA!$L1028)","v":0},{"$f":"VALUE(DINAMICA!$M1028)","v":0},{"$f":"VALUE(DINAMICA!$N1028)","v":0},{"$f":"VALUE(DINAMICA!$O1028)","v":0},{"$f":"VALUE(DINAMICA!$P1028)","v":0},{"$f":"VALUE(DINAMICA!$Q1028)","v":0},{"$f":"VALUE(DINAMICA!$R1028)","v":0}]
[{"$f":"VALUE(DINAMICA!$A1029)","v":0},{"$f":"VALUE(DINAMICA!$B1029)","v":"00:00:00"},{"$f":"VALUE(DINAMICA!$C1029)","v":0},{"$f":"DINAMICA!D1029","v":0},{"$f":"DINAMICA!E1029","v":0},{"$f":"DINAMICA!F1029","v":0},{"$f":"DINAMICA!G1029","v":0},{"$f":"DINAMICA!H1029","v":0},{"$f":"DINAMICA!I1029","v":0},{"$f":"DINAMICA!J1029","v":0},{"$f":"DINAMICA!K1029","v":0},{"$f":"VALUE(DINAMICA!$L1029)","v":0},{"$f":"VALUE(DINAMICA!$M1029)","v":0},{"$f":"VALUE(DINAMICA!$N1029)","v":0},{"$f":"VALUE(DINAMICA!$O1029)","v":0},{"$f":"VALUE(DINAMICA!$P1029)","v":0},{"$f":"VALUE(DINAMICA!$Q1029)","v":0},{"$f":"VALUE(DINAMICA!$R1029)","v":0}]
[{"$f":"VALUE(DINAMICA!$A1030)","v":0},{"$f":"VALUE(DINAMICA!$B1030)","v":"00:00:00"},{"$f":"VALUE(DINAMICA!$C1030)","v":0},{"$f":"DINAMICA!D1030","v":0},{"$f":"DINAMICA!E1030","v":0},{"$f":"DINAMICA!F1030","v":0},{"$f":"DINAMICA!G1030","v":0},{"$f":"DINAMICA!H1030","v":0},{"$f":"DINAMICA!I1030","v":0},{"$f":"DINAMICA!J1030","v":0},{"$f":"DINAMICA!K1030","v":0},{"$f":"VALUE(DINAMICA!$L1030)","v":0},{"$f":"VALUE(DINAMICA!$M1030)","v":0},{"$f":"VALUE(DINAMICA!$N1030)","v":0},{"$f":"VALUE(DINAMICA!$O1030)","v":0},{"$f":"VALUE(DINAMICA!$P1030)","v":0},{"$f":"VALUE(DINAMICA!$Q1030)","v":0},{"$f":"VALUE(DINAMICA!$R1030)","v":0}]
[{"$f":"VALUE(DINAMICA!$A1031)","v":0},{"$f":"VALUE(DINAMICA!$B1031)","v":"00:00:00"},{"$f":"VALUE(DINAMICA!$C1031)","v":0},{"$f":"DINAMICA!D1031","v":0},{"$f":"DINAMICA!E1031","v":0},{"$f":"DINAMICA!F1031","v":0},{"$f":"DINAMICA!G1031","v":0},{"$f":"DINAMICA!H1031","v":0},{"$f":"DINAMICA!I1031","v":0},{"$f":"DINAMICA!J1031","v":0},{"$f":"DINAMICA!K1031","v":0},{"$f":"VALUE(DINAMICA!$L1031)","v":0},{"$f":"VALUE(DINAMICA!$M1031)","v":0},{"$f":"VALUE(DINAMICA!$N1031)","v":0},{"$f":"VALUE(DINAMICA!$O1031)","v":0},{"$f":"VALUE(DINAMICA!$P1031)","v":0},{"$f":"VALUE(DINAMICA!$Q1031)","v":0},{"$f":"VALUE(DINAMICA!$R1031)","v":0}]
[{"$f":"VALUE(DINAMICA!$A1032)","v":0},{"$f":"VALUE(DINAMICA!$B1032)","v":"00:00:00"},{"$f":"VALUE(DINAMICA!$C1032)","v":0},{"$f":"DINAMICA!D1032","v":0},{"$f":"DINAMICA!E1032","v":0},{"$f":"DINAMICA!F1032","v":0},{"$f":"DINAMICA!G1032","v":0},{"$f":"DINAMICA!H1032","v":0},{"$f":"DINAMICA!I1032","v":0},{"$f":"DINAMICA!J1032","v":0},{"$f":"DINAMICA!K1032","v":0},{"$f":"VALUE(DINAMICA!$L1032)","v":0},{"$f":"VALUE(DINAMICA!$M1032)","v":0},{"$f":"VALUE(DINAMICA!$N1032)","v":0},{"$f":"VALUE(DINAMICA!$O1032)","v":0},{"$f":"VALUE(DINAMICA!$P1032)","v":0},{"$f":"VALUE(DINAMICA!$Q1032)","v":0},{"$f":"VALUE(DINAMICA!$R1032)","v":0}]
[{"$f":"VALUE(DINAMICA!$A1033)","v":0},{"$f":"VALUE(DINAMICA!$B1033)","v":"00:00:00"},{"$f":"VALUE(DINAMICA!$C1033)","v":0},{"$f":"DINAMICA!D1033","v":0},{"$f":"DINAMICA!E1033","v":0},{"$f":"DINAMICA!F1033","v":0},{"$f":"DINAMICA!G1033","v":0},{"$f":"DINAMICA!H1033","v":0},{"$f":"DINAMICA!I1033","v":0},{"$f":"DINAMICA!J1033","v":0},{"$f":"DINAMICA!K1033","v":0},{"$f":"VALUE(DINAMICA!$L1033)","v":0},{"$f":"VALUE(DINAMICA!$M1033)","v":0},{"$f":"VALUE(DINAMICA!$N1033)","v":0},{"$f":"VALUE(DINAMICA!$O1033)","v":0},{"$f":"VALUE(DINAMICA!$P1033)","v":0},{"$f":"VALUE(DINAMICA!$Q1033)","v":0},{"$f":"VALUE(DINAMICA!$R1033)","v":0}]
[{"$f":"VALUE(DINAMICA!$A1034)","v":0},{"$f":"VALUE(DINAMICA!$B1034)","v":"00:00:00"},{"$f":"VALUE(DINAMICA!$C1034)","v":0},{"$f":"DINAMICA!D1034","v":0},{"$f":"DINAMICA!E1034","v":0},{"$f":"DINAMICA!F1034","v":0},{"$f":"DINAMICA!G1034","v":0},{"$f":"DINAMICA!H1034","v":0},{"$f":"DINAMICA!I1034","v":0},{"$f":"DINAMICA!J1034","v":0},{"$f":"DINAMICA!K1034","v":0},{"$f":"VALUE(DINAMICA!$L1034)","v":0},{"$f":"VALUE(DINAMICA!$M1034)","v":0},{"$f":"VALUE(DINAMICA!$N1034)","v":0},{"$f":"VALUE(DINAMICA!$O1034)","v":0},{"$f":"VALUE(DINAMICA!$P1034)","v":0},{"$f":"VALUE(DINAMICA!$Q1034)","v":0},{"$f":"VALUE(DINAMICA!$R1034)","v":0}]
[{"$f":"VALUE(DINAMICA!$A1035)","v":0},{"$f":"VALUE(DINAMICA!$B1035)","v":"00:00:00"},{"$f":"VALUE(DINAMICA!$C1035)","v":0},{"$f":"DINAMICA!D1035","v":0},{"$f":"DINAMICA!E1035","v":0},{"$f":"DINAMICA!F1035","v":0},{"$f":"DINAMICA!G1035","v":0},{"$f":"DINAMICA!H1035","v":0},{"$f":"DINAMICA!I1035","v":0},{"$f":"DINAMICA!J1035","v":0},{"$f":"DINAMICA!K1035","v":0},{"$f":"VALUE(DINAMICA!$L1035)","v":0},{"$f":"VALUE(DINAMICA!$M1035)","v":0},{"$f":"VALUE(DINAMICA!$N1035)","v":0},{"$f":"VALUE(DINAMICA!$O1035)","v":0},{"$f":"VALUE(DINAMICA!$P1035)","v":0},{"$f":"VALUE(DINAMICA!$Q1035)","v":0},{"$f":"VALUE(DINAMICA!$R1035)","v":0}]
[{"$f":"VALUE(DINAMICA!$A1036)","v":0},{"$f":"VALUE(DINAMICA!$B1036)","v":"00:00:00"},{"$f":"VALUE(DINAMICA!$C1036)","v":0},{"$f":"DINAMICA!D1036","v":0},{"$f":"DINAMICA!E1036","v":0},{"$f":"DINAMICA!F1036","v":0},{"$f":"DINAMICA!G1036","v":0},{"$f":"DINAMICA!H1036","v":0},{"$f":"DINAMICA!I1036","v":0},{"$f":"DINAMICA!J1036","v":0},{"$f":"DINAMICA!K1036","v":0},{"$f":"VALUE(DINAMICA!$L1036)","v":0},{"$f":"VALUE(DINAMICA!$M1036)","v":0},{"$f":"VALUE(DINAMICA!$N1036)","v":0},{"$f":"VALUE(DINAMICA!$O1036)","v":0},{"$f":"VALUE(DINAMICA!$P1036)","v":0},{"$f":"VALUE(DINAMICA!$Q1036)","v":0},{"$f":"VALUE(DINAMICA!$R1036)","v":0}]
[{"$f":"VALUE(DINAMICA!$A1037)","v":0},{"$f":"VALUE(DINAMICA!$B1037)","v":"00:00:00"},{"$f":"VALUE(DINAMICA!$C1037)","v":0},{"$f":"DINAMICA!D1037","v":0},{"$f":"DINAMICA!E1037","v":0},{"$f":"DINAMICA!F1037","v":0},{"$f":"DINAMICA!G1037","v":0},{"$f":"DINAMICA!H1037","v":0},{"$f":"DINAMICA!I1037","v":0},{"$f":"DINAMICA!J1037","v":0},{"$f":"DINAMICA!K1037","v":0},{"$f":"VALUE(DINAMICA!$L1037)","v":0},{"$f":"VALUE(DINAMICA!$M1037)","v":0},{"$f":"VALUE(DINAMICA!$N1037)","v":0},{"$f":"VALUE(DINAMICA!$O1037)","v":0},{"$f":"VALUE(DINAMICA!$P1037)","v":0},{"$f":"VALUE(DINAMICA!$Q1037)","v":0},{"$f":"VALUE(DINAMICA!$R1037)","v":0}]
[{"$f":"VALUE(DINAMICA!$A1038)","v":0},{"$f":"VALUE(DINAMICA!$B1038)","v":"00:00:00"},{"$f":"VALUE(DINAMICA!$C1038)","v":0},{"$f":"DINAMICA!D1038","v":0},{"$f":"DINAMICA!E1038","v":0},{"$f":"DINAMICA!F1038","v":0},{"$f":"DINAMICA!G1038","v":0},{"$f":"DINAMICA!H1038","v":0},{"$f":"DINAMICA!I1038","v":0},{"$f":"DINAMICA!J1038","v":0},{"$f":"DINAMICA!K1038","v":0},{"$f":"VALUE(DINAMICA!$L1038)","v":0},{"$f":"VALUE(DINAMICA!$M1038)","v":0},{"$f":"VALUE(DINAMICA!$N1038)","v":0},{"$f":"VALUE(DINAMICA!$O1038)","v":0},{"$f":"VALUE(DINAMICA!$P1038)","v":0},{"$f":"VALUE(DINAMICA!$Q1038)","v":0},{"$f":"VALUE(DINAMICA!$R1038)","v":0}]
[{"$f":"VALUE(DINAMICA!$A1039)","v":0},{"$f":"VALUE(DINAMICA!$B1039)","v":"00:00:00"},{"$f":"VALUE(DINAMICA!$C1039)","v":0},{"$f":"DINAMICA!D1039","v":0},{"$f":"DINAMICA!E1039","v":0},{"$f":"DINAMICA!F1039","v":0},{"$f":"DINAMICA!G1039","v":0},{"$f":"DINAMICA!H1039","v":0},{"$f":"DINAMICA!I1039","v":0},{"$f":"DINAMICA!J1039","v":0},{"$f":"DINAMICA!K1039","v":0},{"$f":"VALUE(DINAMICA!$L1039)","v":0},{"$f":"VALUE(DINAMICA!$M1039)","v":0},{"$f":"VALUE(DINAMICA!$N1039)","v":0},{"$f":"VALUE(DINAMICA!$O1039)","v":0},{"$f":"VALUE(DINAMICA!$P1039)","v":0},{"$f":"VALUE(DINAMICA!$Q1039)","v":0},{"$f":"VALUE(DINAMICA!$R1039)","v":0}]
[{"$f":"VALUE(DINAMICA!$A1040)","v":0},{"$f":"VALUE(DINAMICA!$B1040)","v":"00:00:00"},{"$f":"VALUE(DINAMICA!$C1040)","v":0},{"$f":"DINAMICA!D1040","v":0},{"$f":"DINAMICA!E1040","v":0},{"$f":"DINAMICA!F1040","v":0},{"$f":"DINAMICA!G1040","v":0},{"$f":"DINAMICA!H1040","v":0},{"$f":"DINAMICA!I1040","v":0},{"$f":"DINAMICA!J1040","v":0},{"$f":"DINAMICA!K1040","v":0},{"$f":"VALUE(DINAMICA!$L1040)","v":0},{"$f":"VALUE(DINAMICA!$M1040)","v":0},{"$f":"VALUE(DINAMICA!$N1040)","v":0},{"$f":"VALUE(DINAMICA!$O1040)","v":0},{"$f":"VALUE(DINAMICA!$P1040)","v":0},{"$f":"VALUE(DINAMICA!$Q1040)","v":0},{"$f":"VALUE(DINAMICA!$R1040)","v":0}]
[{"$f":"VALUE(DINAMICA!$A1041)","v":0},{"$f":"VALUE(DINAMICA!$B1041)","v":"00:00:00"},{"$f":"VALUE(DINAMICA!$C1041)","v":0},{"$f":"DINAMICA!D1041","v":0},{"$f":"DINAMICA!E1041","v":0},{"$f":"DINAMICA!F1041","v":0},{"$f":"DINAMICA!G1041","v":0},{"$f":"DINAMICA!H1041","v":0},{"$f":"DINAMICA!I1041","v":0},{"$f":"DINAMICA!J1041","v":0},{"$f":"DINAMICA!K1041","v":0},{"$f":"VALUE(DINAMICA!$L1041)","v":0},{"$f":"VALUE(DINAMICA!$M1041)","v":0},{"$f":"VALUE(DINAMICA!$N1041)","v":0},{"$f":"VALUE(DINAMICA!$O1041)","v":0},{"$f":"VALUE(DINAMICA!$P1041)","v":0},{"$f":"VALUE(DINAMICA!$Q1041)","v":0},{"$f":"VALUE(DINAMICA!$R1041)","v":0}]
[{"$f":"VALUE(DINAMICA!$A1042)","v":0},{"$f":"VALUE(DINAMICA!$B1042)","v":"00:00:00"},{"$f":"VALUE(DINAMICA!$C1042)","v":0},{"$f":"DINAMICA!D1042","v":0},{"$f":"DINAMICA!E1042","v":0},{"$f":"DINAMICA!F1042","v":0},{"$f":"DINAMICA!G1042","v":0},{"$f":"DINAMICA!H1042","v":0},{"$f":"DINAMICA!I1042","v":0},{"$f":"DINAMICA!J1042","v":0},{"$f":"DINAMICA!K1042","v":0},{"$f":"VALUE(DINAMICA!$L1042)","v":0},{"$f":"VALUE(DINAMICA!$M1042)","v":0},{"$f":"VALUE(DINAMICA!$N1042)","v":0},{"$f":"VALUE(DINAMICA!$O1042)","v":0},{"$f":"VALUE(DINAMICA!$P1042)","v":0},{"$f":"VALUE(DINAMICA!$Q1042)","v":0},{"$f":"VALUE(DINAMICA!$R1042)","v":0}]
[{"$f":"VALUE(DINAMICA!$A1043)","v":0},{"$f":"VALUE(DINAMICA!$B1043)","v":"00:00:00"},{"$f":"VALUE(DINAMICA!$C1043)","v":0},{"$f":"DINAMICA!D1043","v":0},{"$f":"DINAMICA!E1043","v":0},{"$f":"DINAMICA!F1043","v":0},{"$f":"DINAMICA!G1043","v":0},{"$f":"DINAMICA!H1043","v":0},{"$f":"DINAMICA!I1043","v":0},{"$f":"DINAMICA!J1043","v":0},{"$f":"DINAMICA!K1043","v":0},{"$f":"VALUE(DINAMICA!$L1043)","v":0},{"$f":"VALUE(DINAMICA!$M1043)","v":0},{"$f":"VALUE(DINAMICA!$N1043)","v":0},{"$f":"VALUE(DINAMICA!$O1043)","v":0},{"$f":"VALUE(DINAMICA!$P1043)","v":0},{"$f":"VALUE(DINAMICA!$Q1043)","v":0},{"$f":"VALUE(DINAMICA!$R1043)","v":0}]
[{"$f":"VALUE(DINAMICA!$A1044)","v":0},{"$f":"VALUE(DINAMICA!$B1044)","v":"00:00:00"},{"$f":"VALUE(DINAMICA!$C1044)","v":0},{"$f":"DINAMICA!D1044","v":0},{"$f":"DINAMICA!E1044","v":0},{"$f":"DINAMICA!F1044","v":0},{"$f":"DINAMICA!G1044","v":0},{"$f":"DINAMICA!H1044","v":0},{"$f":"DINAMICA!I1044","v":0},{"$f":"DINAMICA!J1044","v":0},{"$f":"DINAMICA!K1044","v":0},{"$f":"VALUE(DINAMICA!$L1044)","v":0},{"$f":"VALUE(DINAMICA!$M1044)","v":0},{"$f":"VALUE(DINAMICA!$N1044)","v":0},{"$f":"VALUE(DINAMICA!$O1044)","v":0},{"$f":"VALUE(DINAMICA!$P1044)","v":0},{"$f":"VALUE(DINAMICA!$Q1044)","v":0},{"$f":"VALUE(DINAMICA!$R1044)","v":0}]
[{"$f":"VALUE(DINAMICA!$A1045)","v":0},{"$f":"VALUE(DINAMICA!$B1045)","v":"00:00:00"},{"$f":"VALUE(DINAMICA!$C1045)","v":0},{"$f":"DINAMICA!D1045","v":0},{"$f":"DINAMICA!E1045","v":0},{"$f":"DINAMICA!F1045","v":0},{"$f":"DINAMICA!G1045","v":0},{"$f":"DINAMICA!H1045","v":0},{"$f":"DINAMICA!I1045","v":0},{"$f":"DINAMICA!J1045","v":0},{"$f":"DINAMICA!K1045","v":0},{"$f":"VALUE(DINAMICA!$L1045)","v":0},{"$f":"VALUE(DINAMICA!$M1045)","v":0},{"$f":"VALUE(DINAMICA!$N1045)","v":0},{"$f":"VALUE(DINAMICA!$O1045)","v":0},{"$f":"VALUE(DINAMICA!$P1045)","v":0},{"$f":"VALUE(DINAMICA!$Q1045)","v":0},{"$f":"VALUE(DINAMICA!$R1045)","v":0}]
[{"$f":"VALUE(DINAMICA!$A1046)","v":0},{"$f":"VALUE(DINAMICA!$B1046)","v":"00:00:00"},{"$f":"VALUE(DINAMICA!$C1046)","v":0},{"$f":"DINAMICA!D1046","v":0},{"$f":"DINAMICA!E1046","v":0},{"$f":"DINAMICA!F1046","v":0},{"$f":"DINAMICA!G1046","v":0},{"$f":"DINAMICA!H1046","v":0},{"$f":"DINAMICA!I1046","v":0},{"$f":"DINAMICA!J1046","v":0},{"$f":"DINAMICA!K1046","v":0},{"$f":"VALUE(DINAMICA!$L1046)","v":0},{"$f":"VALUE(DINAMICA!$M1046)","v":0},{"$f":"VALUE(DINAMICA!$N1046)","v":0},{"$f":"VALUE(DINAMICA!$O1046)","v":0},{"$f":"VALUE(DINAMICA!$P1046)","v":0},{"$f":"VALUE(DINAMICA!$Q1046)","v":0},{"$f":"VALUE(DINAMICA!$R1046)","v":0}]
[{"$f":"VALUE(DINAMICA!$A1047)","v":0},{"$f":"VALUE(DINAMICA!$B1047)","v":"00:00:00"},{"$f":"VALUE(DINAMICA!$C1047)","v":0},{"$f":"DINAMICA!D1047","v":0},{"$f":"DINAMICA!E1047","v":0},{"$f":"DINAMICA!F1047","v":0},{"$f":"DINAMICA!G1047","v":0},{"$f":"DINAMICA!H1047","v":0},{"$f":"DINAMICA!I1047","v":0},{"$f":"DINAMICA!J1047","v":0},{"$f":"DINAMICA!K1047","v":0},{"$f":"VALUE(DINAMICA!$L1047)","v":0},{"$f":"VALUE(DINAMICA!$M1047)","v":0},{"$f":"VALUE(DINAMICA!$N1047)","v":0},{"$f":"VALUE(DINAMICA!$O1047)","v":0},{"$f":"VALUE(DINAMICA!$P1047)","v":0},{"$f":"VALUE(DINAMICA!$Q1047)","v":0},{"$f":"VALUE(DINAMICA!$R1047)","v":0}]
[{"$f":"VALUE(DINAMICA!$A1048)","v":0},{"$f":"VALUE(DINAMICA!$B1048)","v":"00:00:00"},{"$f":"VALUE(DINAMICA!$C1048)","v":0},{"$f":"DINAMICA!D1048","v":0},{"$f":"DINAMICA!E1048","v":0},{"$f":"DINAMICA!F1048","v":0},{"$f":"DINAMICA!G1048","v":0},{"$f":"DINAMICA!H1048","v":0},{"$f":"DINAMICA!I1048","v":0},{"$f":"DINAMICA!J1048","v":0},{"$f":"DINAMICA!K1048","v":0},{"$f":"VALUE(DINAMICA!$L1048)","v":0},{"$f":"VALUE(DINAMICA!$M1048)","v":0},{"$f":"VALUE(DINAMICA!$N1048)","v":0},{"$f":"VALUE(DINAMICA!$O1048)","v":0},{"$f":"VALUE(DINAMICA!$P1048)","v":0},{"$f":"VALUE(DINAMICA!$Q1048)","v":0},{"$f":"VALUE(DINAMICA!$R1048)","v":0}]
[{"$f":"VALUE(DINAMICA!$A1049)","v":0},{"$f":"VALUE(DINAMICA!$B1049)","v":"00:00:00"},{"$f":"VALUE(DINAMICA!$C1049)","v":0},{"$f":"DINAMICA!D1049","v":0},{"$f":"DINAMICA!E1049","v":0},{"$f":"DINAMICA!F1049","v":0},{"$f":"DINAMICA!G1049","v":0},{"$f":"DINAMICA!H1049","v":0},{"$f":"DINAMICA!I1049","v":0},{"$f":"DINAMICA!J1049","v":0},{"$f":"DINAMICA!K1049","v":0},{"$f":"VALUE(DINAMICA!$L1049)","v":0},{"$f":"VALUE(DINAMICA!$M1049)","v":0},{"$f":"VALUE(DINAMICA!$N1049)","v":0},{"$f":"VALUE(DINAMICA!$O1049)","v":0},{"$f":"VALUE(DINAMICA!$P1049)","v":0},{"$f":"VALUE(DINAMICA!$Q1049)","v":0},{"$f":"VALUE(DINAMICA!$R1049)","v":0}]
[{"$f":"VALUE(DINAMICA!$A1050)","v":0},{"$f":"VALUE(DINAMICA!$B1050)","v":"00:00:00"},{"$f":"VALUE(DINAMICA!$C1050)","v":0},{"$f":"DINAMICA!D1050","v":0},{"$f":"DINAMICA!E1050","v":0},{"$f":"DINAMICA!F1050","v":0},{"$f":"DINAMICA!G1050","v":0},{"$f":"DINAMICA!H1050","v":0},{"$f":"DINAMICA!I1050","v":0},{"$f":"DINAMICA!J1050","v":0},{"$f":"DINAMICA!K1050","v":0},{"$f":"VALUE(DINAMICA!$L1050)","v":0},{"$f":"VALUE(DINAMICA!$M1050)","v":0},{"$f":"VALUE(DINAMICA!$N1050)","v":0},{"$f":"VALUE(DINAMICA!$O1050)","v":0},{"$f":"VALUE(DINAMICA!$P1050)","v":0},{"$f":"VALUE(DINAMICA!$Q1050)","v":0},{"$f":"VALUE(DINAMICA!$R1050)","v":0}]
[{"$f":"VALUE(DINAMICA!$A1051)","v":0},{"$f":"VALUE(DINAMICA!$B1051)","v":"00:00:00"},{"$f":"VALUE(DINAMICA!$C1051)","v":0},{"$f":"DINAMICA!D1051","v":0},{"$f":"DINAMICA!E1051","v":0},{"$f":"DINAMICA!F1051","v":0},{"$f":"DINAMICA!G1051","v":0},{"$f":"DINAMICA!H1051","v":0},{"$f":"DINAMICA!I1051","v":0},{"$f":"DINAMICA!J1051","v":0},{"$f":"DINAMICA!K1051","v":0},{"$f":"VALUE(DINAMICA!$L1051)","v":0},{"$f":"VALUE(DINAMICA!$M1051)","v":0},{"$f":"VALUE(DINAMICA!$N1051)","v":0},{"$f":"VALUE(DINAMICA!$O1051)","v":0},{"$f":"VALUE(DINAMICA!$P1051)","v":0},{"$f":"VALUE(DINAMICA!$Q1051)","v":0},{"$f":"VALUE(DINAMICA!$R1051)","v":0}]
[{"$f":"VALUE(DINAMICA!$A1052)","v":0},{"$f":"VALUE(DINAMICA!$B1052)","v":"00:00:00"},{"$f":"VALUE(DINAMICA!$C1052)","v":0},{"$f":"DINAMICA!D1052","v":0},{"$f":"DINAMICA!E1052","v":0},{"$f":"DINAMICA!F1052","v":0},{"$f":"DINAMICA!G1052","v":0},{"$f":"DINAMICA!H1052","v":0},{"$f":"DINAMICA!I1052","v":0},{"$f":"DINAMICA!J1052","v":0},{"$f":"DINAMICA!K1052","v":0},{"$f":"VALUE(DINAMICA!$L1052)","v":0},{"$f":"VALUE(DINAMICA!$M1052)","v":0},{"$f":"VALUE(DINAMICA!$N1052)","v":0},{"$f":"VALUE(DINAMICA!$O1052)","v":0},{"$f":"VALUE(DINAMICA!$P1052)","v":0},{"$f":"VALUE(DINAMICA!$Q1052)","v":0},{"$f":"VALUE(DINAMICA!$R1052)","v":0}]
[{"$f":"VALUE(DINAMICA!$A1053)","v":0},{"$f":"VALUE(DINAMICA!$B1053)","v":"00:00:00"},{"$f":"VALUE(DINAMICA!$C1053)","v":0},{"$f":"DINAMICA!D1053","v":0},{"$f":"DINAMICA!E1053","v":0},{"$f":"DINAMICA!F1053","v":0},{"$f":"DINAMICA!G1053","v":0},{"$f":"DINAMICA!H1053","v":0},{"$f":"DINAMICA!I1053","v":0},{"$f":"DINAMICA!J1053","v":0},{"$f":"DINAMICA!K1053","v":0},{"$f":"VALUE(DINAMICA!$L1053)","v":0},{"$f":"VALUE(DINAMICA!$M1053)","v":0},{"$f":"VALUE(DINAMICA!$N1053)","v":0},{"$f":"VALUE(DINAMICA!$O1053)","v":0},{"$f":"VALUE(DINAMICA!$P1053)","v":0},{"$f":"VALUE(DINAMICA!$Q1053)","v":0},{"$f":"VALUE(DINAMICA!$R1053)","v":0}]
[{"$f":"VALUE(DINAMICA!$A1054)","v":0},{"$f":"VALUE(DINAMICA!$B1054)","v":"00:00:00"},{"$f":"VALUE(DINAMICA!$C1054)","v":0},{"$f":"DINAMICA!D1054","v":0},{"$f":"DINAMICA!E1054","v":0},{"$f":"DINAMICA!F1054","v":0},{"$f":"DINAMICA!G1054","v":0},{"$f":"DINAMICA!H1054","v":0},{"$f":"DINAMICA!I1054","v":0},{"$f":"DINAMICA!J1054","v":0},{"$f":"DINAMICA!K1054","v":0},{"$f":"VALUE(DINAMICA!$L1054)","v":0},{"$f":"VALUE(DINAMICA!$M1054)","v":0},{"$f":"VALUE(DINAMICA!$N1054)","v":0},{"$f":"VALUE(DINAMICA!$O1054)","v":0},{"$f":"VALUE(DINAMICA!$P1054)","v":0},{"$f":"VALUE(DINAMICA!$Q1054)","v":0},{"$f":"VALUE(DINAMICA!$R1054)","v":0}]
[{"$f":"VALUE(DINAMICA!$A1055)","v":0},{"$f":"VALUE(DINAMICA!$B1055)","v":"00:00:00"},{"$f":"VALUE(DINAMICA!$C1055)","v":0},{"$f":"DINAMICA!D1055","v":0},{"$f":"DINAMICA!E1055","v":0},{"$f":"DINAMICA!F1055","v":0},{"$f":"DINAMICA!G1055","v":0},{"$f":"DINAMICA!H1055","v":0},{"$f":"DINAMICA!I1055","v":0},{"$f":"DINAMICA!J1055","v":0},{"$f":"DINAMICA!K1055","v":0},{"$f":"VALUE(DINAMICA!$L1055)","v":0},{"$f":"VALUE(DINAMICA!$M1055)","v":0},{"$f":"VALUE(DINAMICA!$N1055)","v":0},{"$f":"VALUE(DINAMICA!$O1055)","v":0},{"$f":"VALUE(DINAMICA!$P1055)","v":0},{"$f":"VALUE(DINAMICA!$Q1055)","v":0},{"$f":"VALUE(DINAMICA!$R1055)","v":0}]
[{"$f":"VALUE(DINAMICA!$A1056)","v":0},{"$f":"VALUE(DINAMICA!$B1056)","v":"00:00:00"},{"$f":"VALUE(DINAMICA!$C1056)","v":0},{"$f":"DINAMICA!D1056","v":0},{"$f":"DINAMICA!E1056","v":0},{"$f":"DINAMICA!F1056","v":0},{"$f":"DINAMICA!G1056","v":0},{"$f":"DINAMICA!H1056","v":0},{"$f":"DINAMICA!I1056","v":0},{"$f":"DINAMICA!J1056","v":0},{"$f":"DINAMICA!K1056","v":0},{"$f":"VALUE(DINAMICA!$L1056)","v":0},{"$f":"VALUE(DINAMICA!$M1056)","v":0},{"$f":"VALUE(DINAMICA!$N1056)","v":0},{"$f":"VALUE(DINAMICA!$O1056)","v":0},{"$f":"VALUE(DINAMICA!$P1056)","v":0},{"$f":"VALUE(DINAMICA!$Q1056)","v":0},{"$f":"VALUE(DINAMICA!$R1056)","v":0}]
[{"$f":"VALUE(DINAMICA!$A1057)","v":0},{"$f":"VALUE(DINAMICA!$B1057)","v":"00:00:00"},{"$f":"VALUE(DINAMICA!$C1057)","v":0},{"$f":"DINAMICA!D1057","v":0},{"$f":"DINAMICA!E1057","v":0},{"$f":"DINAMICA!F1057","v":0},{"$f":"DINAMICA!G1057","v":0},{"$f":"DINAMICA!H1057","v":0},{"$f":"DINAMICA!I1057","v":0},{"$f":"DINAMICA!J1057","v":0},{"$f":"DINAMICA!K1057","v":0},{"$f":"VALUE(DINAMICA!$L1057)","v":0},{"$f":"VALUE(DINAMICA!$M1057)","v":0},{"$f":"VALUE(DINAMICA!$N1057)","v":0},{"$f":"VALUE(DINAMICA!$O1057)","v":0},{"$f":"VALUE(DINAMICA!$P1057)","v":0},{"$f":"VALUE(DINAMICA!$Q1057)","v":0},{"$f":"VALUE(DINAMICA!$R1057)","v":0}]
[{"$f":"VALUE(DINAMICA!$A1058)","v":0},{"$f":"VALUE(DINAMICA!$B1058)","v":"00:00:00"},{"$f":"VALUE(DINAMICA!$C1058)","v":0},{"$f":"DINAMICA!D1058","v":0},{"$f":"DINAMICA!E1058","v":0},{"$f":"DINAMICA!F1058","v":0},{"$f":"DINAMICA!G1058","v":0},{"$f":"DINAMICA!H1058","v":0},{"$f":"DINAMICA!I1058","v":0},{"$f":"DINAMICA!J1058","v":0},{"$f":"DINAMICA!K1058","v":0},{"$f":"VALUE(DINAMICA!$L1058)","v":0},{"$f":"VALUE(DINAMICA!$M1058)","v":0},{"$f":"VALUE(DINAMICA!$N1058)","v":0},{"$f":"VALUE(DINAMICA!$O1058)","v":0},{"$f":"VALUE(DINAMICA!$P1058)","v":0},{"$f":"VALUE(DINAMICA!$Q1058)","v":0},{"$f":"VALUE(DINAMICA!$R1058)","v":0}]
[{"$f":"VALUE(DINAMICA!$A1059)","v":0},{"$f":"VALUE(DINAMICA!$B1059)","v":"00:00:00"},{"$f":"VALUE(DINAMICA!$C1059)","v":0},{"$f":"DINAMICA!D1059","v":0},{"$f":"DINAMICA!E1059","v":0},{"$f":"DINAMICA!F1059","v":0},{"$f":"DINAMICA!G1059","v":0},{"$f":"DINAMICA!H1059","v":0},{"$f":"DINAMICA!I1059","v":0},{"$f":"DINAMICA!J1059","v":0},{"$f":"DINAMICA!K1059","v":0},{"$f":"VALUE(DINAMICA!$L1059)","v":0},{"$f":"VALUE(DINAMICA!$M1059)","v":0},{"$f":"VALUE(DINAMICA!$N1059)","v":0},{"$f":"VALUE(DINAMICA!$O1059)","v":0},{"$f":"VALUE(DINAMICA!$P1059)","v":0},{"$f":"VALUE(DINAMICA!$Q1059)","v":0},{"$f":"VALUE(DINAMICA!$R1059)","v":0}]
[{"$f":"VALUE(DINAMICA!$A1060)","v":0},{"$f":"VALUE(DINAMICA!$B1060)","v":"00:00:00"},{"$f":"VALUE(DINAMICA!$C1060)","v":0},{"$f":"DINAMICA!D1060","v":0},{"$f":"DINAMICA!E1060","v":0},{"$f":"DINAMICA!F1060","v":0},{"$f":"DINAMICA!G1060","v":0},{"$f":"DINAMICA!H1060","v":0},{"$f":"DINAMICA!I1060","v":0},{"$f":"DINAMICA!J1060","v":0},{"$f":"DINAMICA!K1060","v":0},{"$f":"VALUE(DINAMICA!$L1060)","v":0},{"$f":"VALUE(DINAMICA!$M1060)","v":0},{"$f":"VALUE(DINAMICA!$N1060)","v":0},{"$f":"VALUE(DINAMICA!$O1060)","v":0},{"$f":"VALUE(DINAMICA!$P1060)","v":0},{"$f":"VALUE(DINAMICA!$Q1060)","v":0},{"$f":"VALUE(DINAMICA!$R1060)","v":0}]
[{"$f":"VALUE(DINAMICA!$A1061)","v":0},{"$f":"VALUE(DINAMICA!$B1061)","v":"00:00:00"},{"$f":"VALUE(DINAMICA!$C1061)","v":0},{"$f":"DINAMICA!D1061","v":0},{"$f":"DINAMICA!E1061","v":0},{"$f":"DINAMICA!F1061","v":0},{"$f":"DINAMICA!G1061","v":0},{"$f":"DINAMICA!H1061","v":0},{"$f":"DINAMICA!I1061","v":0},{"$f":"DINAMICA!J1061","v":0},{"$f":"DINAMICA!K1061","v":0},{"$f":"VALUE(DINAMICA!$L1061)","v":0},{"$f":"VALUE(DINAMICA!$M1061)","v":0},{"$f":"VALUE(DINAMICA!$N1061)","v":0},{"$f":"VALUE(DINAMICA!$O1061)","v":0},{"$f":"VALUE(DINAMICA!$P1061)","v":0},{"$f":"VALUE(DINAMICA!$Q1061)","v":0},{"$f":"VALUE(DINAMICA!$R1061)","v":0}]
[{"$f":"VALUE(DINAMICA!$A1062)","v":0},{"$f":"VALUE(DINAMICA!$B1062)","v":"00:00:00"},{"$f":"VALUE(DINAMICA!$C1062)","v":0},{"$f":"DINAMICA!D1062","v":0},{"$f":"DINAMICA!E1062","v":0},{"$f":"DINAMICA!F1062","v":0},{"$f":"DINAMICA!G1062","v":0},{"$f":"DINAMICA!H1062","v":0},{"$f":"DINAMICA!I1062","v":0},{"$f":"DINAMICA!J1062","v":0},{"$f":"DINAMICA!K1062","v":0},{"$f":"VALUE(DINAMICA!$L1062)","v":0},{"$f":"VALUE(DINAMICA!$M1062)","v":0},{"$f":"VALUE(DINAMICA!$N1062)","v":0},{"$f":"VALUE(DINAMICA!$O1062)","v":0},{"$f":"VALUE(DINAMICA!$P1062)","v":0},{"$f":"VALUE(DINAMICA!$Q1062)","v":0},{"$f":"VALUE(DINAMICA!$R1062)","v":0}]
[{"$f":"VALUE(DINAMICA!$A1063)","v":0},{"$f":"VALUE(DINAMICA!$B1063)","v":"00:00:00"},{"$f":"VALUE(DINAMICA!$C1063)","v":0},{"$f":"DINAMICA!D1063","v":0},{"$f":"DINAMICA!E1063","v":0},{"$f":"DINAMICA!F1063","v":0},{"$f":"DINAMICA!G1063","v":0},{"$f":"DINAMICA!H1063","v":0},{"$f":"DINAMICA!I1063","v":0},{"$f":"DINAMICA!J1063","v":0},{"$f":"DINAMICA!K1063","v":0},{"$f":"VALUE(DINAMICA!$L1063)","v":0},{"$f":"VALUE(DINAMICA!$M1063)","v":0},{"$f":"VALUE(DINAMICA!$N1063)","v":0},{"$f":"VALUE(DINAMICA!$O1063)","v":0},{"$f":"VALUE(DINAMICA!$P1063)","v":0},{"$f":"VALUE(DINAMICA!$Q1063)","v":0},{"$f":"VALUE(DINAMICA!$R1063)","v":0}]
[{"$f":"VALUE(DINAMICA!$A1064)","v":0},{"$f":"VALUE(DINAMICA!$B1064)","v":"00:00:00"},{"$f":"VALUE(DINAMICA!$C1064)","v":0},{"$f":"DINAMICA!D1064","v":0},{"$f":"DINAMICA!E1064","v":0},{"$f":"DINAMICA!F1064","v":0},{"$f":"DINAMICA!G1064","v":0},{"$f":"DINAMICA!H1064","v":0},{"$f":"DINAMICA!I1064","v":0},{"$f":"DINAMICA!J1064","v":0},{"$f":"DINAMICA!K1064","v":0},{"$f":"VALUE(DINAMICA!$L1064)","v":0},{"$f":"VALUE(DINAMICA!$M1064)","v":0},{"$f":"VALUE(DINAMICA!$N1064)","v":0},{"$f":"VALUE(DINAMICA!$O1064)","v":0},{"$f":"VALUE(DINAMICA!$P1064)","v":0},{"$f":"VALUE(DINAMICA!$Q1064)","v":0},{"$f":"VALUE(DINAMICA!$R1064)","v":0}]
[{"$f":"VALUE(DINAMICA!$A1065)","v":0},{"$f":"VALUE(DINAMICA!$B1065)","v":"00:00:00"},{"$f":"VALUE(DINAMICA!$C1065)","v":0},{"$f":"DINAMICA!D1065","v":0},{"$f":"DINAMICA!E1065","v":0},{"$f":"DINAMICA!F1065","v":0},{"$f":"DINAMICA!G1065","v":0},{"$f":"DINAMICA!H1065","v":0},{"$f":"DINAMICA!I1065","v":0},{"$f":"DINAMICA!J1065","v":0},{"$f":"DINAMICA!K1065","v":0},{"$f":"VALUE(DINAMICA!$L1065)","v":0},{"$f":"VALUE(DINAMICA!$M1065)","v":0},{"$f":"VALUE(DINAMICA!$N1065)","v":0},{"$f":"VALUE(DINAMICA!$O1065)","v":0},{"$f":"VALUE(DINAMICA!$P1065)","v":0},{"$f":"VALUE(DINAMICA!$Q1065)","v":0},{"$f":"VALUE(DINAMICA!$R1065)","v":0}]
[{"$f":"VALUE(DINAMICA!$A1066)","v":0},{"$f":"VALUE(DINAMICA!$B1066)","v":"00:00:00"},{"$f":"VALUE(DINAMICA!$C1066)","v":0},{"$f":"DINAMICA!D1066","v":0},{"$f":"DINAMICA!E1066","v":0},{"$f":"DINAMICA!F1066","v":0},{"$f":"DINAMICA!G1066","v":0},{"$f":"DINAMICA!H1066","v":0},{"$f":"DINAMICA!I1066","v":0},{"$f":"DINAMICA!J1066","v":0},{"$f":"DINAMICA!K1066","v":0},{"$f":"VALUE(DINAMICA!$L1066)","v":0},{"$f":"VALUE(DINAMICA!$M1066)","v":0},{"$f":"VALUE(DINAMICA!$N1066)","v":0},{"$f":"VALUE(DINAMICA!$O1066)","v":0},{"$f":"VALUE(DINAMICA!$P1066)","v":0},{"$f":"VALUE(DINAMICA!$Q1066)","v":0},{"$f":"VALUE(DINAMICA!$R1066)","v":0}]
[{"$f":"VALUE(DINAMICA!$A1067)","v":0},{"$f":"VALUE(DINAMICA!$B1067)","v":"00:00:00"},{"$f":"VALUE(DINAMICA!$C1067)","v":0},{"$f":"DINAMICA!D1067","v":0},{"$f":"DINAMICA!E1067","v":0},{"$f":"DINAMICA!F1067","v":0},{"$f":"DINAMICA!G1067","v":0},{"$f":"DINAMICA!H1067","v":0},{"$f":"DINAMICA!I1067","v":0},{"$f":"DINAMICA!J1067","v":0},{"$f":"DINAMICA!K1067","v":0},{"$f":"VALUE(DINAMICA!$L1067)","v":0},{"$f":"VALUE(DINAMICA!$M1067)","v":0},{"$f":"VALUE(DINAMICA!$N1067)","v":0},{"$f":"VALUE(DINAMICA!$O1067)","v":0},{"$f":"VALUE(DINAMICA!$P1067)","v":0},{"$f":"VALUE(DINAMICA!$Q1067)","v":0},{"$f":"VALUE(DINAMICA!$R1067)","v":0}]
[{"$f":"VALUE(DINAMICA!$A1068)","v":0},{"$f":"VALUE(DINAMICA!$B1068)","v":"00:00:00"},{"$f":"VALUE(DINAMICA!$C1068)","v":0},{"$f":"DINAMICA!D1068","v":0},{"$f":"DINAMICA!E1068","v":0},{"$f":"DINAMICA!F1068","v":0},{"$f":"DINAMICA!G1068","v":0},{"$f":"DINAMICA!H1068","v":0},{"$f":"DINAMICA!I1068","v":0},{"$f":"DINAMICA!J1068","v":0},{"$f":"DINAMICA!K1068","v":0},{"$f":"VALUE(DINAMICA!$L1068)","v":0},{"$f":"VALUE(DINAMICA!$M1068)","v":0},{"$f":"VALUE(DINAMICA!$N1068)","v":0},{"$f":"VALUE(DINAMICA!$O1068)","v":0},{"$f":"VALUE(DINAMICA!$P1068)","v":0},{"$f":"VALUE(DINAMICA!$Q1068)","v":0},{"$f":"VALUE(DINAMICA!$R1068)","v":0}]
[{"$f":"VALUE(DINAMICA!$A1069)","v":0},{"$f":"VALUE(DINAMICA!$B1069)","v":"00:00:00"},{"$f":"VALUE(DINAMICA!$C1069)","v":0},{"$f":"DINAMICA!D1069","v":0},{"$f":"DINAMICA!E1069","v":0},{"$f":"DINAMICA!F1069","v":0},{"$f":"DINAMICA!G1069","v":0},{"$f":"DINAMICA!H1069","v":0},{"$f":"DINAMICA!I1069","v":0},{"$f":"DINAMICA!J1069","v":0},{"$f":"DINAMICA!K1069","v":0},{"$f":"VALUE(DINAMICA!$L1069)","v":0},{"$f":"VALUE(DINAMICA!$M1069)","v":0},{"$f":"VALUE(DINAMICA!$N1069)","v":0},{"$f":"VALUE(DINAMICA!$O1069)","v":0},{"$f":"VALUE(DINAMICA!$P1069)","v":0},{"$f":"VALUE(DINAMICA!$Q1069)","v":0},{"$f":"VALUE(DINAMICA!$R1069)","v":0}]
[{"$f":"VALUE(DINAMICA!$A1070)","v":0},{"$f":"VALUE(DINAMICA!$B1070)","v":"00:00:00"},{"$f":"VALUE(DINAMICA!$C1070)","v":0},{"$f":"DINAMICA!D1070","v":0},{"$f":"DINAMICA!E1070","v":0},{"$f":"DINAMICA!F1070","v":0},{"$f":"DINAMICA!G1070","v":0},{"$f":"DINAMICA!H1070","v":0},{"$f":"DINAMICA!I1070","v":0},{"$f":"DINAMICA!J1070","v":0},{"$f":"DINAMICA!K1070","v":0},{"$f":"VALUE(DINAMICA!$L1070)","v":0},{"$f":"VALUE(DINAMICA!$M1070)","v":0},{"$f":"VALUE(DINAMICA!$N1070)","v":0},{"$f":"VALUE(DINAMICA!$O1070)","v":0},{"$f":"VALUE(DINAMICA!$P1070)","v":0},{"$f":"VALUE(DINAMICA!$Q1070)","v":0},{"$f":"VALUE(DINAMICA!$R1070)","v":0}]
[{"$f":"VALUE(DINAMICA!$A1071)","v":0},{"$f":"VALUE(DINAMICA!$B1071)","v":"00:00:00"},{"$f":"VALUE(DINAMICA!$C1071)","v":0},{"$f":"DINAMICA!D1071","v":0},{"$f":"DINAMICA!E1071","v":0},{"$f":"DINAMICA!F1071","v":0},{"$f":"DINAMICA!G1071","v":0},{"$f":"DINAMICA!H1071","v":0},{"$f":"DINAMICA!I1071","v":0},{"$f":"DINAMICA!J1071","v":0},{"$f":"DINAMICA!K1071","v":0},{"$f":"VALUE(DINAMICA!$L1071)","v":0},{"$f":"VALUE(DINAMICA!$M1071)","v":0},{"$f":"VALUE(DINAMICA!$N1071)","v":0},{"$f":"VALUE(DINAMICA!$O1071)","v":0},{"$f":"VALUE(DINAMICA!$P1071)","v":0},{"$f":"VALUE(DINAMICA!$Q1071)","v":0},{"$f":"VALUE(DINAMICA!$R1071)","v":0}]
[{"$f":"VALUE(DINAMICA!$A1072)","v":0},{"$f":"VALUE(DINAMICA!$B1072)","v":"00:00:00"},{"$f":"VALUE(DINAMICA!$C1072)","v":0},{"$f":"DINAMICA!D1072","v":0},{"$f":"DINAMICA!E1072","v":0},{"$f":"DINAMICA!F1072","v":0},{"$f":"DINAMICA!G1072","v":0},{"$f":"DINAMICA!H1072","v":0},{"$f":"DINAMICA!I1072","v":0},{"$f":"DINAMICA!J1072","v":0},{"$f":"DINAMICA!K1072","v":0},{"$f":"VALUE(DINAMICA!$L1072)","v":0},{"$f":"VALUE(DINAMICA!$M1072)","v":0},{"$f":"VALUE(DINAMICA!$N1072)","v":0},{"$f":"VALUE(DINAMICA!$O1072)","v":0},{"$f":"VALUE(DINAMICA!$P1072)","v":0},{"$f":"VALUE(DINAMICA!$Q1072)","v":0},{"$f":"VALUE(DINAMICA!$R1072)","v":0}]
[{"$f":"VALUE(DINAMICA!$A1073)","v":0},{"$f":"VALUE(DINAMICA!$B1073)","v":"00:00:00"},{"$f":"VALUE(DINAMICA!$C1073)","v":0},{"$f":"DINAMICA!D1073","v":0},{"$f":"DINAMICA!E1073","v":0},{"$f":"DINAMICA!F1073","v":0},{"$f":"DINAMICA!G1073","v":0},{"$f":"DINAMICA!H1073","v":0},{"$f":"DINAMICA!I1073","v":0},{"$f":"DINAMICA!J1073","v":0},{"$f":"DINAMICA!K1073","v":0},{"$f":"VALUE(DINAMICA!$L1073)","v":0},{"$f":"VALUE(DINAMICA!$M1073)","v":0},{"$f":"VALUE(DINAMICA!$N1073)","v":0},{"$f":"VALUE(DINAMICA!$O1073)","v":0},{"$f":"VALUE(DINAMICA!$P1073)","v":0},{"$f":"VALUE(DINAMICA!$Q1073)","v":0},{"$f":"VALUE(DINAMICA!$R1073)","v":0}]
[{"$f":"VALUE(DINAMICA!$A1074)","v":0},{"$f":"VALUE(DINAMICA!$B1074)","v":"00:00:00"},{"$f":"VALUE(DINAMICA!$C1074)","v":0},{"$f":"DINAMICA!D1074","v":0},{"$f":"DINAMICA!E1074","v":0},{"$f":"DINAMICA!F1074","v":0},{"$f":"DINAMICA!G1074","v":0},{"$f":"DINAMICA!H1074","v":0},{"$f":"DINAMICA!I1074","v":0},{"$f":"DINAMICA!J1074","v":0},{"$f":"DINAMICA!K1074","v":0},{"$f":"VALUE(DINAMICA!$L1074)","v":0},{"$f":"VALUE(DINAMICA!$M1074)","v":0},{"$f":"VALUE(DINAMICA!$N1074)","v":0},{"$f":"VALUE(DINAMICA!$O1074)","v":0},{"$f":"VALUE(DINAMICA!$P1074)","v":0},{"$f":"VALUE(DINAMICA!$Q1074)","v":0},{"$f":"VALUE(DINAMICA!$R1074)","v":0}]
[{"$f":"VALUE(DINAMICA!$A1075)","v":0},{"$f":"VALUE(DINAMICA!$B1075)","v":"00:00:00"},{"$f":"VALUE(DINAMICA!$C1075)","v":0},{"$f":"DINAMICA!D1075","v":0},{"$f":"DINAMICA!E1075","v":0},{"$f":"DINAMICA!F1075","v":0},{"$f":"DINAMICA!G1075","v":0},{"$f":"DINAMICA!H1075","v":0},{"$f":"DINAMICA!I1075","v":0},{"$f":"DINAMICA!J1075","v":0},{"$f":"DINAMICA!K1075","v":0},{"$f":"VALUE(DINAMICA!$L1075)","v":0},{"$f":"VALUE(DINAMICA!$M1075)","v":0},{"$f":"VALUE(DINAMICA!$N1075)","v":0},{"$f":"VALUE(DINAMICA!$O1075)","v":0},{"$f":"VALUE(DINAMICA!$P1075)","v":0},{"$f":"VALUE(DINAMICA!$Q1075)","v":0},{"$f":"VALUE(DINAMICA!$R1075)","v":0}]
[{"$f":"VALUE(DINAMICA!$A1076)","v":0},{"$f":"VALUE(DINAMICA!$B1076)","v":"00:00:00"},{"$f":"VALUE(DINAMICA!$C1076)","v":0},{"$f":"DINAMICA!D1076","v":0},{"$f":"DINAMICA!E1076","v":0},{"$f":"DINAMICA!F1076","v":0},{"$f":"DINAMICA!G1076","v":0},{"$f":"DINAMICA!H1076","v":0},{"$f":"DINAMICA!I1076","v":0},{"$f":"DINAMICA!J1076","v":0},{"$f":"DINAMICA!K1076","v":0},{"$f":"VALUE(DINAMICA!$L1076)","v":0},{"$f":"VALUE(DINAMICA!$M1076)","v":0},{"$f":"VALUE(DINAMICA!$N1076)","v":0},{"$f":"VALUE(DINAMICA!$O1076)","v":0},{"$f":"VALUE(DINAMICA!$P1076)","v":0},{"$f":"VALUE(DINAMICA!$Q1076)","v":0},{"$f":"VALUE(DINAMICA!$R1076)","v":0}]
[{"$f":"VALUE(DINAMICA!$A1077)","v":0},{"$f":"VALUE(DINAMICA!$B1077)","v":"00:00:00"},{"$f":"VALUE(DINAMICA!$C1077)","v":0},{"$f":"DINAMICA!D1077","v":0},{"$f":"DINAMICA!E1077","v":0},{"$f":"DINAMICA!F1077","v":0},{"$f":"DINAMICA!G1077","v":0},{"$f":"DINAMICA!H1077","v":0},{"$f":"DINAMICA!I1077","v":0},{"$f":"DINAMICA!J1077","v":0},{"$f":"DINAMICA!K1077","v":0},{"$f":"VALUE(DINAMICA!$L1077)","v":0},{"$f":"VALUE(DINAMICA!$M1077)","v":0},{"$f":"VALUE(DINAMICA!$N1077)","v":0},{"$f":"VALUE(DINAMICA!$O1077)","v":0},{"$f":"VALUE(DINAMICA!$P1077)","v":0},{"$f":"VALUE(DINAMICA!$Q1077)","v":0},{"$f":"VALUE(DINAMICA!$R1077)","v":0}]
[{"$f":"VALUE(DINAMICA!$A1078)","v":0},{"$f":"VALUE(DINAMICA!$B1078)","v":"00:00:00"},{"$f":"VALUE(DINAMICA!$C1078)","v":0},{"$f":"DINAMICA!D1078","v":0},{"$f":"DINAMICA!E1078","v":0},{"$f":"DINAMICA!F1078","v":0},{"$f":"DINAMICA!G1078","v":0},{"$f":"DINAMICA!H1078","v":0},{"$f":"DINAMICA!I1078","v":0},{"$f":"DINAMICA!J1078","v":0},{"$f":"DINAMICA!K1078","v":0},{"$f":"VALUE(DINAMICA!$L1078)","v":0},{"$f":"VALUE(DINAMICA!$M1078)","v":0},{"$f":"VALUE(DINAMICA!$N1078)","v":0},{"$f":"VALUE(DINAMICA!$O1078)","v":0},{"$f":"VALUE(DINAMICA!$P1078)","v":0},{"$f":"VALUE(DINAMICA!$Q1078)","v":0},{"$f":"VALUE(DINAMICA!$R1078)","v":0}]
[{"$f":"VALUE(DINAMICA!$A1079)","v":0},{"$f":"VALUE(DINAMICA!$B1079)","v":"00:00:00"},{"$f":"VALUE(DINAMICA!$C1079)","v":0},{"$f":"DINAMICA!D1079","v":0},{"$f":"DINAMICA!E1079","v":0},{"$f":"DINAMICA!F1079","v":0},{"$f":"DINAMICA!G1079","v":0},{"$f":"DINAMICA!H1079","v":0},{"$f":"DINAMICA!I1079","v":0},{"$f":"DINAMICA!J1079","v":0},{"$f":"DINAMICA!K1079","v":0},{"$f":"VALUE(DINAMICA!$L1079)","v":0},{"$f":"VALUE(DINAMICA!$M1079)","v":0},{"$f":"VALUE(DINAMICA!$N1079)","v":0},{"$f":"VALUE(DINAMICA!$O1079)","v":0},{"$f":"VALUE(DINAMICA!$P1079)","v":0},{"$f":"VALUE(DINAMICA!$Q1079)","v":0},{"$f":"VALUE(DINAMICA!$R1079)","v":0}]
[{"$f":"VALUE(DINAMICA!$A1080)","v":0},{"$f":"VALUE(DINAMICA!$B1080)","v":"00:00:00"},{"$f":"VALUE(DINAMICA!$C1080)","v":0},{"$f":"DINAMICA!D1080","v":0},{"$f":"DINAMICA!E1080","v":0},{"$f":"DINAMICA!F1080","v":0},{"$f":"DINAMICA!G1080","v":0},{"$f":"DINAMICA!H1080","v":0},{"$f":"DINAMICA!I1080","v":0},{"$f":"DINAMICA!J1080","v":0},{"$f":"DINAMICA!K1080","v":0},{"$f":"VALUE(DINAMICA!$L1080)","v":0},{"$f":"VALUE(DINAMICA!$M1080)","v":0},{"$f":"VALUE(DINAMICA!$N1080)","v":0},{"$f":"VALUE(DINAMICA!$O1080)","v":0},{"$f":"VALUE(DINAMICA!$P1080)","v":0},{"$f":"VALUE(DINAMICA!$Q1080)","v":0},{"$f":"VALUE(DINAMICA!$R1080)","v":0}]
[{"$f":"VALUE(DINAMICA!$A1081)","v":0},{"$f":"VALUE(DINAMICA!$B1081)","v":"00:00:00"},{"$f":"VALUE(DINAMICA!$C1081)","v":0},{"$f":"DINAMICA!D1081","v":0},{"$f":"DINAMICA!E1081","v":0},{"$f":"DINAMICA!F1081","v":0},{"$f":"DINAMICA!G1081","v":0},{"$f":"DINAMICA!H1081","v":0},{"$f":"DINAMICA!I1081","v":0},{"$f":"DINAMICA!J1081","v":0},{"$f":"DINAMICA!K1081","v":0},{"$f":"VALUE(DINAMICA!$L1081)","v":0},{"$f":"VALUE(DINAMICA!$M1081)","v":0},{"$f":"VALUE(DINAMICA!$N1081)","v":0},{"$f":"VALUE(DINAMICA!$O1081)","v":0},{"$f":"VALUE(DINAMICA!$P1081)","v":0},{"$f":"VALUE(DINAMICA!$Q1081)","v":0},{"$f":"VALUE(DINAMICA!$R1081)","v":0}]
[{"$f":"VALUE(DINAMICA!$A1082)","v":0},{"$f":"VALUE(DINAMICA!$B1082)","v":"00:00:00"},{"$f":"VALUE(DINAMICA!$C1082)","v":0},{"$f":"DINAMICA!D1082","v":0},{"$f":"DINAMICA!E1082","v":0},{"$f":"DINAMICA!F1082","v":0},{"$f":"DINAMICA!G1082","v":0},{"$f":"DINAMICA!H1082","v":0},{"$f":"DINAMICA!I1082","v":0},{"$f":"DINAMICA!J1082","v":0},{"$f":"DINAMICA!K1082","v":0},{"$f":"VALUE(DINAMICA!$L1082)","v":0},{"$f":"VALUE(DINAMICA!$M1082)","v":0},{"$f":"VALUE(DINAMICA!$N1082)","v":0},{"$f":"VALUE(DINAMICA!$O1082)","v":0},{"$f":"VALUE(DINAMICA!$P1082)","v":0},{"$f":"VALUE(DINAMICA!$Q1082)","v":0},{"$f":"VALUE(DINAMICA!$R1082)","v":0}]
[{"$f":"VALUE(DINAMICA!$A1083)","v":0},{"$f":"VALUE(DINAMICA!$B1083)","v":"00:00:00"},{"$f":"VALUE(DINAMICA!$C1083)","v":0},{"$f":"DINAMICA!D1083","v":0},{"$f":"DINAMICA!E1083","v":0},{"$f":"DINAMICA!F1083","v":0},{"$f":"DINAMICA!G1083","v":0},{"$f":"DINAMICA!H1083","v":0},{"$f":"DINAMICA!I1083","v":0},{"$f":"DINAMICA!J1083","v":0},{"$f":"DINAMICA!K1083","v":0},{"$f":"VALUE(DINAMICA!$L1083)","v":0},{"$f":"VALUE(DINAMICA!$M1083)","v":0},{"$f":"VALUE(DINAMICA!$N1083)","v":0},{"$f":"VALUE(DINAMICA!$O1083)","v":0},{"$f":"VALUE(DINAMICA!$P1083)","v":0},{"$f":"VALUE(DINAMICA!$Q1083)","v":0},{"$f":"VALUE(DINAMICA!$R1083)","v":0}]
[{"$f":"VALUE(DINAMICA!$A1084)","v":0},{"$f":"VALUE(DINAMICA!$B1084)","v":"00:00:00"},{"$f":"VALUE(DINAMICA!$C1084)","v":0},{"$f":"DINAMICA!D1084","v":0},{"$f":"DINAMICA!E1084","v":0},{"$f":"DINAMICA!F1084","v":0},{"$f":"DINAMICA!G1084","v":0},{"$f":"DINAMICA!H1084","v":0},{"$f":"DINAMICA!I1084","v":0},{"$f":"DINAMICA!J1084","v":0},{"$f":"DINAMICA!K1084","v":0},{"$f":"VALUE(DINAMICA!$L1084)","v":0},{"$f":"VALUE(DINAMICA!$M1084)","v":0},{"$f":"VALUE(DINAMICA!$N1084)","v":0},{"$f":"VALUE(DINAMICA!$O1084)","v":0},{"$f":"VALUE(DINAMICA!$P1084)","v":0},{"$f":"VALUE(DINAMICA!$Q1084)","v":0},{"$f":"VALUE(DINAMICA!$R1084)","v":0}]
[{"$f":"VALUE(DINAMICA!$A1085)","v":0},{"$f":"VALUE(DINAMICA!$B1085)","v":"00:00:00"},{"$f":"VALUE(DINAMICA!$C1085)","v":0},{"$f":"DINAMICA!D1085","v":0},{"$f":"DINAMICA!E1085","v":0},{"$f":"DINAMICA!F1085","v":0},{"$f":"DINAMICA!G1085","v":0},{"$f":"DINAMICA!H1085","v":0},{"$f":"DINAMICA!I1085","v":0},{"$f":"DINAMICA!J1085","v":0},{"$f":"DINAMICA!K1085","v":0},{"$f":"VALUE(DINAMICA!$L1085)","v":0},{"$f":"VALUE(DINAMICA!$M1085)","v":0},{"$f":"VALUE(DINAMICA!$N1085)","v":0},{"$f":"VALUE(DINAMICA!$O1085)","v":0},{"$f":"VALUE(DINAMICA!$P1085)","v":0},{"$f":"VALUE(DINAMICA!$Q1085)","v":0},{"$f":"VALUE(DINAMICA!$R1085)","v":0}]
[{"$f":"VALUE(DINAMICA!$A1086)","v":0},{"$f":"VALUE(DINAMICA!$B1086)","v":"00:00:00"},{"$f":"VALUE(DINAMICA!$C1086)","v":0},{"$f":"DINAMICA!D1086","v":0},{"$f":"DINAMICA!E1086","v":0},{"$f":"DINAMICA!F1086","v":0},{"$f":"DINAMICA!G1086","v":0},{"$f":"DINAMICA!H1086","v":0},{"$f":"DINAMICA!I1086","v":0},{"$f":"DINAMICA!J1086","v":0},{"$f":"DINAMICA!K1086","v":0},{"$f":"VALUE(DINAMICA!$L1086)","v":0},{"$f":"VALUE(DINAMICA!$M1086)","v":0},{"$f":"VALUE(DINAMICA!$N1086)","v":0},{"$f":"VALUE(DINAMICA!$O1086)","v":0},{"$f":"VALUE(DINAMICA!$P1086)","v":0},{"$f":"VALUE(DINAMICA!$Q1086)","v":0},{"$f":"VALUE(DINAMICA!$R1086)","v":0}]
[{"$f":"VALUE(DINAMICA!$A1087)","v":0},{"$f":"VALUE(DINAMICA!$B1087)","v":"00:00:00"},{"$f":"VALUE(DINAMICA!$C1087)","v":0},{"$f":"DINAMICA!D1087","v":0},{"$f":"DINAMICA!E1087","v":0},{"$f":"DINAMICA!F1087","v":0},{"$f":"DINAMICA!G1087","v":0},{"$f":"DINAMICA!H1087","v":0},{"$f":"DINAMICA!I1087","v":0},{"$f":"DINAMICA!J1087","v":0},{"$f":"DINAMICA!K1087","v":0},{"$f":"VALUE(DINAMICA!$L1087)","v":0},{"$f":"VALUE(DINAMICA!$M1087)","v":0},{"$f":"VALUE(DINAMICA!$N1087)","v":0},{"$f":"VALUE(DINAMICA!$O1087)","v":0},{"$f":"VALUE(DINAMICA!$P1087)","v":0},{"$f":"VALUE(DINAMICA!$Q1087)","v":0},{"$f":"VALUE(DINAMICA!$R1087)","v":0}]
[{"$f":"VALUE(DINAMICA!$A1088)","v":0},{"$f":"VALUE(DINAMICA!$B1088)","v":"00:00:00"},{"$f":"VALUE(DINAMICA!$C1088)","v":0},{"$f":"DINAMICA!D1088","v":0},{"$f":"DINAMICA!E1088","v":0},{"$f":"DINAMICA!F1088","v":0},{"$f":"DINAMICA!G1088","v":0},{"$f":"DINAMICA!H1088","v":0},{"$f":"DINAMICA!I1088","v":0},{"$f":"DINAMICA!J1088","v":0},{"$f":"DINAMICA!K1088","v":0},{"$f":"VALUE(DINAMICA!$L1088)","v":0},{"$f":"VALUE(DINAMICA!$M1088)","v":0},{"$f":"VALUE(DINAMICA!$N1088)","v":0},{"$f":"VALUE(DINAMICA!$O1088)","v":0},{"$f":"VALUE(DINAMICA!$P1088)","v":0},{"$f":"VALUE(DINAMICA!$Q1088)","v":0},{"$f":"VALUE(DINAMICA!$R1088)","v":0}]
[{"$f":"VALUE(DINAMICA!$A1089)","v":0},{"$f":"VALUE(DINAMICA!$B1089)","v":"00:00:00"},{"$f":"VALUE(DINAMICA!$C1089)","v":0},{"$f":"DINAMICA!D1089","v":0},{"$f":"DINAMICA!E1089","v":0},{"$f":"DINAMICA!F1089","v":0},{"$f":"DINAMICA!G1089","v":0},{"$f":"DINAMICA!H1089","v":0},{"$f":"DINAMICA!I1089","v":0},{"$f":"DINAMICA!J1089","v":0},{"$f":"DINAMICA!K1089","v":0},{"$f":"VALUE(DINAMICA!$L1089)","v":0},{"$f":"VALUE(DINAMICA!$M1089)","v":0},{"$f":"VALUE(DINAMICA!$N1089)","v":0},{"$f":"VALUE(DINAMICA!$O1089)","v":0},{"$f":"VALUE(DINAMICA!$P1089)","v":0},{"$f":"VALUE(DINAMICA!$Q1089)","v":0},{"$f":"VALUE(DINAMICA!$R1089)","v":0}]
[{"$f":"VALUE(DINAMICA!$A1090)","v":0},{"$f":"VALUE(DINAMICA!$B1090)","v":"00:00:00"},{"$f":"VALUE(DINAMICA!$C1090)","v":0},{"$f":"DINAMICA!D1090","v":0},{"$f":"DINAMICA!E1090","v":0},{"$f":"DINAMICA!F1090","v":0},{"$f":"DINAMICA!G1090","v":0},{"$f":"DINAMICA!H1090","v":0},{"$f":"DINAMICA!I1090","v":0},{"$f":"DINAMICA!J1090","v":0},{"$f":"DINAMICA!K1090","v":0},{"$f":"VALUE(DINAMICA!$L1090)","v":0},{"$f":"VALUE(DINAMICA!$M1090)","v":0},{"$f":"VALUE(DINAMICA!$N1090)","v":0},{"$f":"VALUE(DINAMICA!$O1090)","v":0},{"$f":"VALUE(DINAMICA!$P1090)","v":0},{"$f":"VALUE(DINAMICA!$Q1090)","v":0},{"$f":"VALUE(DINAMICA!$R1090)","v":0}]
[{"$f":"VALUE(DINAMICA!$A1091)","v":0},{"$f":"VALUE(DINAMICA!$B1091)","v":"00:00:00"},{"$f":"VALUE(DINAMICA!$C1091)","v":0},{"$f":"DINAMICA!D1091","v":0},{"$f":"DINAMICA!E1091","v":0},{"$f":"DINAMICA!F1091","v":0},{"$f":"DINAMICA!G1091","v":0},{"$f":"DINAMICA!H1091","v":0},{"$f":"DINAMICA!I1091","v":0},{"$f":"DINAMICA!J1091","v":0},{"$f":"DINAMICA!K1091","v":0},{"$f":"VALUE(DINAMICA!$L1091)","v":0},{"$f":"VALUE(DINAMICA!$M1091)","v":0},{"$f":"VALUE(DINAMICA!$N1091)","v":0},{"$f":"VALUE(DINAMICA!$O1091)","v":0},{"$f":"VALUE(DINAMICA!$P1091)","v":0},{"$f":"VALUE(DINAMICA!$Q1091)","v":0},{"$f":"VALUE(DINAMICA!$R1091)","v":0}]
[{"$f":"VALUE(DINAMICA!$A1092)","v":0},{"$f":"VALUE(DINAMICA!$B1092)","v":"00:00:00"},{"$f":"VALUE(DINAMICA!$C1092)","v":0},{"$f":"DINAMICA!D1092","v":0},{"$f":"DINAMICA!E1092","v":0},{"$f":"DINAMICA!F1092","v":0},{"$f":"DINAMICA!G1092","v":0},{"$f":"DINAMICA!H1092","v":0},{"$f":"DINAMICA!I1092","v":0},{"$f":"DINAMICA!J1092","v":0},{"$f":"DINAMICA!K1092","v":0},{"$f":"VALUE(DINAMICA!$L1092)","v":0},{"$f":"VALUE(DINAMICA!$M1092)","v":0},{"$f":"VALUE(DINAMICA!$N1092)","v":0},{"$f":"VALUE(DINAMICA!$O1092)","v":0},{"$f":"VALUE(DINAMICA!$P1092)","v":0},{"$f":"VALUE(DINAMICA!$Q1092)","v":0},{"$f":"VALUE(DINAMICA!$R1092)","v":0}]
[{"$f":"VALUE(DINAMICA!$A1093)","v":0},{"$f":"VALUE(DINAMICA!$B1093)","v":"00:00:00"},{"$f":"VALUE(DINAMICA!$C1093)","v":0},{"$f":"DINAMICA!D1093","v":0},{"$f":"DINAMICA!E1093","v":0},{"$f":"DINAMICA!F1093","v":0},{"$f":"DINAMICA!G1093","v":0},{"$f":"DINAMICA!H1093","v":0},{"$f":"DINAMICA!I1093","v":0},{"$f":"DINAMICA!J1093","v":0},{"$f":"DINAMICA!K1093","v":0},{"$f":"VALUE(DINAMICA!$L1093)","v":0},{"$f":"VALUE(DINAMICA!$M1093)","v":0},{"$f":"VALUE(DINAMICA!$N1093)","v":0},{"$f":"VALUE(DINAMICA!$O1093)","v":0},{"$f":"VALUE(DINAMICA!$P1093)","v":0},{"$f":"VALUE(DINAMICA!$Q1093)","v":0},{"$f":"VALUE(DINAMICA!$R1093)","v":0}]
[{"$f":"VALUE(DINAMICA!$A1094)","v":0},{"$f":"VALUE(DINAMICA!$B1094)","v":"00:00:00"},{"$f":"VALUE(DINAMICA!$C1094)","v":0},{"$f":"DINAMICA!D1094","v":0},{"$f":"DINAMICA!E1094","v":0},{"$f":"DINAMICA!F1094","v":0},{"$f":"DINAMICA!G1094","v":0},{"$f":"DINAMICA!H1094","v":0},{"$f":"DINAMICA!I1094","v":0},{"$f":"DINAMICA!J1094","v":0},{"$f":"DINAMICA!K1094","v":0},{"$f":"VALUE(DINAMICA!$L1094)","v":0},{"$f":"VALUE(DINAMICA!$M1094)","v":0},{"$f":"VALUE(DINAMICA!$N1094)","v":0},{"$f":"VALUE(DINAMICA!$O1094)","v":0},{"$f":"VALUE(DINAMICA!$P1094)","v":0},{"$f":"VALUE(DINAMICA!$Q1094)","v":0},{"$f":"VALUE(DINAMICA!$R1094)","v":0}]
[{"$f":"VALUE(DINAMICA!$A1095)","v":0},{"$f":"VALUE(DINAMICA!$B1095)","v":"00:00:00"},{"$f":"VALUE(DINAMICA!$C1095)","v":0},{"$f":"DINAMICA!D1095","v":0},{"$f":"DINAMICA!E1095","v":0},{"$f":"DINAMICA!F1095","v":0},{"$f":"DINAMICA!G1095","v":0},{"$f":"DINAMICA!H1095","v":0},{"$f":"DINAMICA!I1095","v":0},{"$f":"DINAMICA!J1095","v":0},{"$f":"DINAMICA!K1095","v":0},{"$f":"VALUE(DINAMICA!$L1095)","v":0},{"$f":"VALUE(DINAMICA!$M1095)","v":0},{"$f":"VALUE(DINAMICA!$N1095)","v":0},{"$f":"VALUE(DINAMICA!$O1095)","v":0},{"$f":"VALUE(DINAMICA!$P1095)","v":0},{"$f":"VALUE(DINAMICA!$Q1095)","v":0},{"$f":"VALUE(DINAMICA!$R1095)","v":0}]
[{"$f":"VALUE(DINAMICA!$A1096)","v":0},{"$f":"VALUE(DINAMICA!$B1096)","v":"00:00:00"},{"$f":"VALUE(DINAMICA!$C1096)","v":0},{"$f":"DINAMICA!D1096","v":0},{"$f":"DINAMICA!E1096","v":0},{"$f":"DINAMICA!F1096","v":0},{"$f":"DINAMICA!G1096","v":0},{"$f":"DINAMICA!H1096","v":0},{"$f":"DINAMICA!I1096","v":0},{"$f":"DINAMICA!J1096","v":0},{"$f":"DINAMICA!K1096","v":0},{"$f":"VALUE(DINAMICA!$L1096)","v":0},{"$f":"VALUE(DINAMICA!$M1096)","v":0},{"$f":"VALUE(DINAMICA!$N1096)","v":0},{"$f":"VALUE(DINAMICA!$O1096)","v":0},{"$f":"VALUE(DINAMICA!$P1096)","v":0},{"$f":"VALUE(DINAMICA!$Q1096)","v":0},{"$f":"VALUE(DINAMICA!$R1096)","v":0}]
[{"$f":"VALUE(DINAMICA!$A1097)","v":0},{"$f":"VALUE(DINAMICA!$B1097)","v":"00:00:00"},{"$f":"VALUE(DINAMICA!$C1097)","v":0},{"$f":"DINAMICA!D1097","v":0},{"$f":"DINAMICA!E1097","v":0},{"$f":"DINAMICA!F1097","v":0},{"$f":"DINAMICA!G1097","v":0},{"$f":"DINAMICA!H1097","v":0},{"$f":"DINAMICA!I1097","v":0},{"$f":"DINAMICA!J1097","v":0},{"$f":"DINAMICA!K1097","v":0},{"$f":"VALUE(DINAMICA!$L1097)","v":0},{"$f":"VALUE(DINAMICA!$M1097)","v":0},{"$f":"VALUE(DINAMICA!$N1097)","v":0},{"$f":"VALUE(DINAMICA!$O1097)","v":0},{"$f":"VALUE(DINAMICA!$P1097)","v":0},{"$f":"VALUE(DINAMICA!$Q1097)","v":0},{"$f":"VALUE(DINAMICA!$R1097)","v":0}]
[{"$f":"VALUE(DINAMICA!$A1098)","v":0},{"$f":"VALUE(DINAMICA!$B1098)","v":"00:00:00"},{"$f":"VALUE(DINAMICA!$C1098)","v":0},{"$f":"DINAMICA!D1098","v":0},{"$f":"DINAMICA!E1098","v":0},{"$f":"DINAMICA!F1098","v":0},{"$f":"DINAMICA!G1098","v":0},{"$f":"DINAMICA!H1098","v":0},{"$f":"DINAMICA!I1098","v":0},{"$f":"DINAMICA!J1098","v":0},{"$f":"DINAMICA!K1098","v":0},{"$f":"VALUE(DINAMICA!$L1098)","v":0},{"$f":"VALUE(DINAMICA!$M1098)","v":0},{"$f":"VALUE(DINAMICA!$N1098)","v":0},{"$f":"VALUE(DINAMICA!$O1098)","v":0},{"$f":"VALUE(DINAMICA!$P1098)","v":0},{"$f":"VALUE(DINAMICA!$Q1098)","v":0},{"$f":"VALUE(DINAMICA!$R1098)","v":0}]
[{"$f":"VALUE(DINAMICA!$A1099)","v":0},{"$f":"VALUE(DINAMICA!$B1099)","v":"00:00:00"},{"$f":"VALUE(DINAMICA!$C1099)","v":0},{"$f":"DINAMICA!D1099","v":0},{"$f":"DINAMICA!E1099","v":0},{"$f":"DINAMICA!F1099","v":0},{"$f":"DINAMICA!G1099","v":0},{"$f":"DINAMICA!H1099","v":0},{"$f":"DINAMICA!I1099","v":0},{"$f":"DINAMICA!J1099","v":0},{"$f":"DINAMICA!K1099","v":0},{"$f":"VALUE(DINAMICA!$L1099)","v":0},{"$f":"VALUE(DINAMICA!$M1099)","v":0},{"$f":"VALUE(DINAMICA!$N1099)","v":0},{"$f":"VALUE(DINAMICA!$O1099)","v":0},{"$f":"VALUE(DINAMICA!$P1099)","v":0},{"$f":"VALUE(DINAMICA!$Q1099)","v":0},{"$f":"VALUE(DINAMICA!$R1099)","v":0}]
[{"$f":"VALUE(DINAMICA!$A1100)","v":0},{"$f":"VALUE(DINAMICA!$B1100)","v":"00:00:00"},{"$f":"VALUE(DINAMICA!$C1100)","v":0},{"$f":"DINAMICA!D1100","v":0},{"$f":"DINAMICA!E1100","v":0},{"$f":"DINAMICA!F1100","v":0},{"$f":"DINAMICA!G1100","v":0},{"$f":"DINAMICA!H1100","v":0},{"$f":"DINAMICA!I1100","v":0},{"$f":"DINAMICA!J1100","v":0},{"$f":"DINAMICA!K1100","v":0},{"$f":"VALUE(DINAMICA!$L1100)","v":0},{"$f":"VALUE(DINAMICA!$M1100)","v":0},{"$f":"VALUE(DINAMICA!$N1100)","v":0},{"$f":"VALUE(DINAMICA!$O1100)","v":0},{"$f":"VALUE(DINAMICA!$P1100)","v":0},{"$f":"VALUE(DINAMICA!$Q1100)","v":0},{"$f":"VALUE(DINAMICA!$R1100)","v":0}]
[{"$f":"VALUE(DINAMICA!$A1101)","v":0},{"$f":"VALUE(DINAMICA!$B1101)","v":"00:00:00"},{"$f":"VALUE(DINAMICA!$C1101)","v":0},{"$f":"DINAMICA!D1101","v":0},{"$f":"DINAMICA!E1101","v":0},{"$f":"DINAMICA!F1101","v":0},{"$f":"DINAMICA!G1101","v":0},{"$f":"DINAMICA!H1101","v":0},{"$f":"DINAMICA!I1101","v":0},{"$f":"DINAMICA!J1101","v":0},{"$f":"DINAMICA!K1101","v":0},{"$f":"VALUE(DINAMICA!$L1101)","v":0},{"$f":"VALUE(DINAMICA!$M1101)","v":0},{"$f":"VALUE(DINAMICA!$N1101)","v":0},{"$f":"VALUE(DINAMICA!$O1101)","v":0},{"$f":"VALUE(DINAMICA!$P1101)","v":0},{"$f":"VALUE(DINAMICA!$Q1101)","v":0},{"$f":"VALUE(DINAMICA!$R1101)","v":0}]
[{"$f":"VALUE(DINAMICA!$A1102)","v":0},{"$f":"VALUE(DINAMICA!$B1102)","v":"00:00:00"},{"$f":"VALUE(DINAMICA!$C1102)","v":0},{"$f":"DINAMICA!D1102","v":0},{"$f":"DINAMICA!E1102","v":0},{"$f":"DINAMICA!F1102","v":0},{"$f":"DINAMICA!G1102","v":0},{"$f":"DINAMICA!H1102","v":0},{"$f":"DINAMICA!I1102","v":0},{"$f":"DINAMICA!J1102","v":0},{"$f":"DINAMICA!K1102","v":0},{"$f":"VALUE(DINAMICA!$L1102)","v":0},{"$f":"VALUE(DINAMICA!$M1102)","v":0},{"$f":"VALUE(DINAMICA!$N1102)","v":0},{"$f":"VALUE(DINAMICA!$O1102)","v":0},{"$f":"VALUE(DINAMICA!$P1102)","v":0},{"$f":"VALUE(DINAMICA!$Q1102)","v":0},{"$f":"VALUE(DINAMICA!$R1102)","v":0}]
[{"$f":"VALUE(DINAMICA!$A1103)","v":0},{"$f":"VALUE(DINAMICA!$B1103)","v":"00:00:00"},{"$f":"VALUE(DINAMICA!$C1103)","v":0},{"$f":"DINAMICA!D1103","v":0},{"$f":"DINAMICA!E1103","v":0},{"$f":"DINAMICA!F1103","v":0},{"$f":"DINAMICA!G1103","v":0},{"$f":"DINAMICA!H1103","v":0},{"$f":"DINAMICA!I1103","v":0},{"$f":"DINAMICA!J1103","v":0},{"$f":"DINAMICA!K1103","v":0},{"$f":"VALUE(DINAMICA!$L1103)","v":0},{"$f":"VALUE(DINAMICA!$M1103)","v":0},{"$f":"VALUE(DINAMICA!$N1103)","v":0},{"$f":"VALUE(DINAMICA!$O1103)","v":0},{"$f":"VALUE(DINAMICA!$P1103)","v":0},{"$f":"VALUE(DINAMICA!$Q1103)","v":0},{"$f":"VALUE(DINAMICA!$R1103)","v":0}]
[{"$f":"VALUE(DINAMICA!$A1104)","v":0},{"$f":"VALUE(DINAMICA!$B1104)","v":"00:00:00"},{"$f":"VALUE(DINAMICA!$C1104)","v":0},{"$f":"DINAMICA!D1104","v":0},{"$f":"DINAMICA!E1104","v":0},{"$f":"DINAMICA!F1104","v":0},{"$f":"DINAMICA!G1104","v":0},{"$f":"DINAMICA!H1104","v":0},{"$f":"DINAMICA!I1104","v":0},{"$f":"DINAMICA!J1104","v":0},{"$f":"DINAMICA!K1104","v":0},{"$f":"VALUE(DINAMICA!$L1104)","v":0},{"$f":"VALUE(DINAMICA!$M1104)","v":0},{"$f":"VALUE(DINAMICA!$N1104)","v":0},{"$f":"VALUE(DINAMICA!$O1104)","v":0},{"$f":"VALUE(DINAMICA!$P1104)","v":0},{"$f":"VALUE(DINAMICA!$Q1104)","v":0},{"$f":"VALUE(DINAMICA!$R1104)","v":0}]
[{"$f":"VALUE(DINAMICA!$A1105)","v":0},{"$f":"VALUE(DINAMICA!$B1105)","v":"00:00:00"},{"$f":"VALUE(DINAMICA!$C1105)","v":0},{"$f":"DINAMICA!D1105","v":0},{"$f":"DINAMICA!E1105","v":0},{"$f":"DINAMICA!F1105","v":0},{"$f":"DINAMICA!G1105","v":0},{"$f":"DINAMICA!H1105","v":0},{"$f":"DINAMICA!I1105","v":0},{"$f":"DINAMICA!J1105","v":0},{"$f":"DINAMICA!K1105","v":0},{"$f":"VALUE(DINAMICA!$L1105)","v":0},{"$f":"VALUE(DINAMICA!$M1105)","v":0},{"$f":"VALUE(DINAMICA!$N1105)","v":0},{"$f":"VALUE(DINAMICA!$O1105)","v":0},{"$f":"VALUE(DINAMICA!$P1105)","v":0},{"$f":"VALUE(DINAMICA!$Q1105)","v":0},{"$f":"VALUE(DINAMICA!$R1105)","v":0}]
[{"$f":"VALUE(DINAMICA!$A1106)","v":0},{"$f":"VALUE(DINAMICA!$B1106)","v":"00:00:00"},{"$f":"VALUE(DINAMICA!$C1106)","v":0},{"$f":"DINAMICA!D1106","v":0},{"$f":"DINAMICA!E1106","v":0},{"$f":"DINAMICA!F1106","v":0},{"$f":"DINAMICA!G1106","v":0},{"$f":"DINAMICA!H1106","v":0},{"$f":"DINAMICA!I1106","v":0},{"$f":"DINAMICA!J1106","v":0},{"$f":"DINAMICA!K1106","v":0},{"$f":"VALUE(DINAMICA!$L1106)","v":0},{"$f":"VALUE(DINAMICA!$M1106)","v":0},{"$f":"VALUE(DINAMICA!$N1106)","v":0},{"$f":"VALUE(DINAMICA!$O1106)","v":0},{"$f":"VALUE(DINAMICA!$P1106)","v":0},{"$f":"VALUE(DINAMICA!$Q1106)","v":0},{"$f":"VALUE(DINAMICA!$R1106)","v":0}]
[{"$f":"VALUE(DINAMICA!$A1107)","v":0},{"$f":"VALUE(DINAMICA!$B1107)","v":"00:00:00"},{"$f":"VALUE(DINAMICA!$C1107)","v":0},{"$f":"DINAMICA!D1107","v":0},{"$f":"DINAMICA!E1107","v":0},{"$f":"DINAMICA!F1107","v":0},{"$f":"DINAMICA!G1107","v":0},{"$f":"DINAMICA!H1107","v":0},{"$f":"DINAMICA!I1107","v":0},{"$f":"DINAMICA!J1107","v":0},{"$f":"DINAMICA!K1107","v":0},{"$f":"VALUE(DINAMICA!$L1107)","v":0},{"$f":"VALUE(DINAMICA!$M1107)","v":0},{"$f":"VALUE(DINAMICA!$N1107)","v":0},{"$f":"VALUE(DINAMICA!$O1107)","v":0},{"$f":"VALUE(DINAMICA!$P1107)","v":0},{"$f":"VALUE(DINAMICA!$Q1107)","v":0},{"$f":"VALUE(DINAMICA!$R1107)","v":0}]
[{"$f":"VALUE(DINAMICA!$A1108)","v":0},{"$f":"VALUE(DINAMICA!$B1108)","v":"00:00:00"},{"$f":"VALUE(DINAMICA!$C1108)","v":0},{"$f":"DINAMICA!D1108","v":0},{"$f":"DINAMICA!E1108","v":0},{"$f":"DINAMICA!F1108","v":0},{"$f":"DINAMICA!G1108","v":0},{"$f":"DINAMICA!H1108","v":0},{"$f":"DINAMICA!I1108","v":0},{"$f":"DINAMICA!J1108","v":0},{"$f":"DINAMICA!K1108","v":0},{"$f":"VALUE(DINAMICA!$L1108)","v":0},{"$f":"VALUE(DINAMICA!$M1108)","v":0},{"$f":"VALUE(DINAMICA!$N1108)","v":0},{"$f":"VALUE(DINAMICA!$O1108)","v":0},{"$f":"VALUE(DINAMICA!$P1108)","v":0},{"$f":"VALUE(DINAMICA!$Q1108)","v":0},{"$f":"VALUE(DINAMICA!$R1108)","v":0}]
[{"$f":"VALUE(DINAMICA!$A1109)","v":0},{"$f":"VALUE(DINAMICA!$B1109)","v":"00:00:00"},{"$f":"VALUE(DINAMICA!$C1109)","v":0},{"$f":"DINAMICA!D1109","v":0},{"$f":"DINAMICA!E1109","v":0},{"$f":"DINAMICA!F1109","v":0},{"$f":"DINAMICA!G1109","v":0},{"$f":"DINAMICA!H1109","v":0},{"$f":"DINAMICA!I1109","v":0},{"$f":"DINAMICA!J1109","v":0},{"$f":"DINAMICA!K1109","v":0},{"$f":"VALUE(DINAMICA!$L1109)","v":0},{"$f":"VALUE(DINAMICA!$M1109)","v":0},{"$f":"VALUE(DINAMICA!$N1109)","v":0},{"$f":"VALUE(DINAMICA!$O1109)","v":0},{"$f":"VALUE(DINAMICA!$P1109)","v":0},{"$f":"VALUE(DINAMICA!$Q1109)","v":0},{"$f":"VALUE(DINAMICA!$R1109)","v":0}]
[{"$f":"VALUE(DINAMICA!$A1110)","v":0},{"$f":"VALUE(DINAMICA!$B1110)","v":"00:00:00"},{"$f":"VALUE(DINAMICA!$C1110)","v":0},{"$f":"DINAMICA!D1110","v":0},{"$f":"DINAMICA!E1110","v":0},{"$f":"DINAMICA!F1110","v":0},{"$f":"DINAMICA!G1110","v":0},{"$f":"DINAMICA!H1110","v":0},{"$f":"DINAMICA!I1110","v":0},{"$f":"DINAMICA!J1110","v":0},{"$f":"DINAMICA!K1110","v":0},{"$f":"VALUE(DINAMICA!$L1110)","v":0},{"$f":"VALUE(DINAMICA!$M1110)","v":0},{"$f":"VALUE(DINAMICA!$N1110)","v":0},{"$f":"VALUE(DINAMICA!$O1110)","v":0},{"$f":"VALUE(DINAMICA!$P1110)","v":0},{"$f":"VALUE(DINAMICA!$Q1110)","v":0},{"$f":"VALUE(DINAMICA!$R1110)","v":0}]
[{"$f":"VALUE(DINAMICA!$A1111)","v":0},{"$f":"VALUE(DINAMICA!$B1111)","v":"00:00:00"},{"$f":"VALUE(DINAMICA!$C1111)","v":0},{"$f":"DINAMICA!D1111","v":0},{"$f":"DINAMICA!E1111","v":0},{"$f":"DINAMICA!F1111","v":0},{"$f":"DINAMICA!G1111","v":0},{"$f":"DINAMICA!H1111","v":0},{"$f":"DINAMICA!I1111","v":0},{"$f":"DINAMICA!J1111","v":0},{"$f":"DINAMICA!K1111","v":0},{"$f":"VALUE(DINAMICA!$L1111)","v":0},{"$f":"VALUE(DINAMICA!$M1111)","v":0},{"$f":"VALUE(DINAMICA!$N1111)","v":0},{"$f":"VALUE(DINAMICA!$O1111)","v":0},{"$f":"VALUE(DINAMICA!$P1111)","v":0},{"$f":"VALUE(DINAMICA!$Q1111)","v":0},{"$f":"VALUE(DINAMICA!$R1111)","v":0}]
[{"$f":"VALUE(DINAMICA!$A1112)","v":0},{"$f":"VALUE(DINAMICA!$B1112)","v":"00:00:00"},{"$f":"VALUE(DINAMICA!$C1112)","v":0},{"$f":"DINAMICA!D1112","v":0},{"$f":"DINAMICA!E1112","v":0},{"$f":"DINAMICA!F1112","v":0},{"$f":"DINAMICA!G1112","v":0},{"$f":"DINAMICA!H1112","v":0},{"$f":"DINAMICA!I1112","v":0},{"$f":"DINAMICA!J1112","v":0},{"$f":"DINAMICA!K1112","v":0},{"$f":"VALUE(DINAMICA!$L1112)","v":0},{"$f":"VALUE(DINAMICA!$M1112)","v":0},{"$f":"VALUE(DINAMICA!$N1112)","v":0},{"$f":"VALUE(DINAMICA!$O1112)","v":0},{"$f":"VALUE(DINAMICA!$P1112)","v":0},{"$f":"VALUE(DINAMICA!$Q1112)","v":0},{"$f":"VALUE(DINAMICA!$R1112)","v":0}]
[{"$f":"VALUE(DINAMICA!$A1113)","v":0},{"$f":"VALUE(DINAMICA!$B1113)","v":"00:00:00"},{"$f":"VALUE(DINAMICA!$C1113)","v":0},{"$f":"DINAMICA!D1113","v":0},{"$f":"DINAMICA!E1113","v":0},{"$f":"DINAMICA!F1113","v":0},{"$f":"DINAMICA!G1113","v":0},{"$f":"DINAMICA!H1113","v":0},{"$f":"DINAMICA!I1113","v":0},{"$f":"DINAMICA!J1113","v":0},{"$f":"DINAMICA!K1113","v":0},{"$f":"VALUE(DINAMICA!$L1113)","v":0},{"$f":"VALUE(DINAMICA!$M1113)","v":0},{"$f":"VALUE(DINAMICA!$N1113)","v":0},{"$f":"VALUE(DINAMICA!$O1113)","v":0},{"$f":"VALUE(DINAMICA!$P1113)","v":0},{"$f":"VALUE(DINAMICA!$Q1113)","v":0},{"$f":"VALUE(DINAMICA!$R1113)","v":0}]
[{"$f":"VALUE(DINAMICA!$A1114)","v":0},{"$f":"VALUE(DINAMICA!$B1114)","v":"00:00:00"},{"$f":"VALUE(DINAMICA!$C1114)","v":0},{"$f":"DINAMICA!D1114","v":0},{"$f":"DINAMICA!E1114","v":0},{"$f":"DINAMICA!F1114","v":0},{"$f":"DINAMICA!G1114","v":0},{"$f":"DINAMICA!H1114","v":0},{"$f":"DINAMICA!I1114","v":0},{"$f":"DINAMICA!J1114","v":0},{"$f":"DINAMICA!K1114","v":0},{"$f":"VALUE(DINAMICA!$L1114)","v":0},{"$f":"VALUE(DINAMICA!$M1114)","v":0},{"$f":"VALUE(DINAMICA!$N1114)","v":0},{"$f":"VALUE(DINAMICA!$O1114)","v":0},{"$f":"VALUE(DINAMICA!$P1114)","v":0},{"$f":"VALUE(DINAMICA!$Q1114)","v":0},{"$f":"VALUE(DINAMICA!$R1114)","v":0}]
[{"$f":"VALUE(DINAMICA!$A1115)","v":0},{"$f":"VALUE(DINAMICA!$B1115)","v":"00:00:00"},{"$f":"VALUE(DINAMICA!$C1115)","v":0},{"$f":"DINAMICA!D1115","v":0},{"$f":"DINAMICA!E1115","v":0},{"$f":"DINAMICA!F1115","v":0},{"$f":"DINAMICA!G1115","v":0},{"$f":"DINAMICA!H1115","v":0},{"$f":"DINAMICA!I1115","v":0},{"$f":"DINAMICA!J1115","v":0},{"$f":"DINAMICA!K1115","v":0},{"$f":"VALUE(DINAMICA!$L1115)","v":0},{"$f":"VALUE(DINAMICA!$M1115)","v":0},{"$f":"VALUE(DINAMICA!$N1115)","v":0},{"$f":"VALUE(DINAMICA!$O1115)","v":0},{"$f":"VALUE(DINAMICA!$P1115)","v":0},{"$f":"VALUE(DINAMICA!$Q1115)","v":0},{"$f":"VALUE(DINAMICA!$R1115)","v":0}]
[{"$f":"VALUE(DINAMICA!$A1116)","v":0},{"$f":"VALUE(DINAMICA!$B1116)","v":"00:00:00"},{"$f":"VALUE(DINAMICA!$C1116)","v":0},{"$f":"DINAMICA!D1116","v":0},{"$f":"DINAMICA!E1116","v":0},{"$f":"DINAMICA!F1116","v":0},{"$f":"DINAMICA!G1116","v":0},{"$f":"DINAMICA!H1116","v":0},{"$f":"DINAMICA!I1116","v":0},{"$f":"DINAMICA!J1116","v":0},{"$f":"DINAMICA!K1116","v":0},{"$f":"VALUE(DINAMICA!$L1116)","v":0},{"$f":"VALUE(DINAMICA!$M1116)","v":0},{"$f":"VALUE(DINAMICA!$N1116)","v":0},{"$f":"VALUE(DINAMICA!$O1116)","v":0},{"$f":"VALUE(DINAMICA!$P1116)","v":0},{"$f":"VALUE(DINAMICA!$Q1116)","v":0},{"$f":"VALUE(DINAMICA!$R1116)","v":0}]
[{"$f":"VALUE(DINAMICA!$A1117)","v":0},{"$f":"VALUE(DINAMICA!$B1117)","v":"00:00:00"},{"$f":"VALUE(DINAMICA!$C1117)","v":0},{"$f":"DINAMICA!D1117","v":0},{"$f":"DINAMICA!E1117","v":0},{"$f":"DINAMICA!F1117","v":0},{"$f":"DINAMICA!G1117","v":0},{"$f":"DINAMICA!H1117","v":0},{"$f":"DINAMICA!I1117","v":0},{"$f":"DINAMICA!J1117","v":0},{"$f":"DINAMICA!K1117","v":0},{"$f":"VALUE(DINAMICA!$L1117)","v":0},{"$f":"VALUE(DINAMICA!$M1117)","v":0},{"$f":"VALUE(DINAMICA!$N1117)","v":0},{"$f":"VALUE(DINAMICA!$O1117)","v":0},{"$f":"VALUE(DINAMICA!$P1117)","v":0},{"$f":"VALUE(DINAMICA!$Q1117)","v":0},{"$f":"VALUE(DINAMICA!$R1117)","v":0}]
[{"$f":"VALUE(DINAMICA!$A1118)","v":0},{"$f":"VALUE(DINAMICA!$B1118)","v":"00:00:00"},{"$f":"VALUE(DINAMICA!$C1118)","v":0},{"$f":"DINAMICA!D1118","v":0},{"$f":"DINAMICA!E1118","v":0},{"$f":"DINAMICA!F1118","v":0},{"$f":"DINAMICA!G1118","v":0},{"$f":"DINAMICA!H1118","v":0},{"$f":"DINAMICA!I1118","v":0},{"$f":"DINAMICA!J1118","v":0},{"$f":"DINAMICA!K1118","v":0},{"$f":"VALUE(DINAMICA!$L1118)","v":0},{"$f":"VALUE(DINAMICA!$M1118)","v":0},{"$f":"VALUE(DINAMICA!$N1118)","v":0},{"$f":"VALUE(DINAMICA!$O1118)","v":0},{"$f":"VALUE(DINAMICA!$P1118)","v":0},{"$f":"VALUE(DINAMICA!$Q1118)","v":0},{"$f":"VALUE(DINAMICA!$R1118)","v":0}]
[{"$f":"VALUE(DINAMICA!$A1119)","v":0},{"$f":"VALUE(DINAMICA!$B1119)","v":"00:00:00"},{"$f":"VALUE(DINAMICA!$C1119)","v":0},{"$f":"DINAMICA!D1119","v":0},{"$f":"DINAMICA!E1119","v":0},{"$f":"DINAMICA!F1119","v":0},{"$f":"DINAMICA!G1119","v":0},{"$f":"DINAMICA!H1119","v":0},{"$f":"DINAMICA!I1119","v":0},{"$f":"DINAMICA!J1119","v":0},{"$f":"DINAMICA!K1119","v":0},{"$f":"VALUE(DINAMICA!$L1119)","v":0},{"$f":"VALUE(DINAMICA!$M1119)","v":0},{"$f":"VALUE(DINAMICA!$N1119)","v":0},{"$f":"VALUE(DINAMICA!$O1119)","v":0},{"$f":"VALUE(DINAMICA!$P1119)","v":0},{"$f":"VALUE(DINAMICA!$Q1119)","v":0},{"$f":"VALUE(DINAMICA!$R1119)","v":0}]
[{"$f":"VALUE(DINAMICA!$A1120)","v":0},{"$f":"VALUE(DINAMICA!$B1120)","v":"00:00:00"},{"$f":"VALUE(DINAMICA!$C1120)","v":0},{"$f":"DINAMICA!D1120","v":0},{"$f":"DINAMICA!E1120","v":0},{"$f":"DINAMICA!F1120","v":0},{"$f":"DINAMICA!G1120","v":0},{"$f":"DINAMICA!H1120","v":0},{"$f":"DINAMICA!I1120","v":0},{"$f":"DINAMICA!J1120","v":0},{"$f":"DINAMICA!K1120","v":0},{"$f":"VALUE(DINAMICA!$L1120)","v":0},{"$f":"VALUE(DINAMICA!$M1120)","v":0},{"$f":"VALUE(DINAMICA!$N1120)","v":0},{"$f":"VALUE(DINAMICA!$O1120)","v":0},{"$f":"VALUE(DINAMICA!$P1120)","v":0},{"$f":"VALUE(DINAMICA!$Q1120)","v":0},{"$f":"VALUE(DINAMICA!$R1120)","v":0}]
[{"$f":"VALUE(DINAMICA!$A1121)","v":0},{"$f":"VALUE(DINAMICA!$B1121)","v":"00:00:00"},{"$f":"VALUE(DINAMICA!$C1121)","v":0},{"$f":"DINAMICA!D1121","v":0},{"$f":"DINAMICA!E1121","v":0},{"$f":"DINAMICA!F1121","v":0},{"$f":"DINAMICA!G1121","v":0},{"$f":"DINAMICA!H1121","v":0},{"$f":"DINAMICA!I1121","v":0},{"$f":"DINAMICA!J1121","v":0},{"$f":"DINAMICA!K1121","v":0},{"$f":"VALUE(DINAMICA!$L1121)","v":0},{"$f":"VALUE(DINAMICA!$M1121)","v":0},{"$f":"VALUE(DINAMICA!$N1121)","v":0},{"$f":"VALUE(DINAMICA!$O1121)","v":0},{"$f":"VALUE(DINAMICA!$P1121)","v":0},{"$f":"VALUE(DINAMICA!$Q1121)","v":0},{"$f":"VALUE(DINAMICA!$R1121)","v":0}]
[{"$f":"VALUE(DINAMICA!$A1122)","v":0},{"$f":"VALUE(DINAMICA!$B1122)","v":"00:00:00"},{"$f":"VALUE(DINAMICA!$C1122)","v":0},{"$f":"DINAMICA!D1122","v":0},{"$f":"DINAMICA!E1122","v":0},{"$f":"DINAMICA!F1122","v":0},{"$f":"DINAMICA!G1122","v":0},{"$f":"DINAMICA!H1122","v":0},{"$f":"DINAMICA!I1122","v":0},{"$f":"DINAMICA!J1122","v":0},{"$f":"DINAMICA!K1122","v":0},{"$f":"VALUE(DINAMICA!$L1122)","v":0},{"$f":"VALUE(DINAMICA!$M1122)","v":0},{"$f":"VALUE(DINAMICA!$N1122)","v":0},{"$f":"VALUE(DINAMICA!$O1122)","v":0},{"$f":"VALUE(DINAMICA!$P1122)","v":0},{"$f":"VALUE(DINAMICA!$Q1122)","v":0},{"$f":"VALUE(DINAMICA!$R1122)","v":0}]
[{"$f":"VALUE(DINAMICA!$A1123)","v":0},{"$f":"VALUE(DINAMICA!$B1123)","v":"00:00:00"},{"$f":"VALUE(DINAMICA!$C1123)","v":0},{"$f":"DINAMICA!D1123","v":0},{"$f":"DINAMICA!E1123","v":0},{"$f":"DINAMICA!F1123","v":0},{"$f":"DINAMICA!G1123","v":0},{"$f":"DINAMICA!H1123","v":0},{"$f":"DINAMICA!I1123","v":0},{"$f":"DINAMICA!J1123","v":0},{"$f":"DINAMICA!K1123","v":0},{"$f":"VALUE(DINAMICA!$L1123)","v":0},{"$f":"VALUE(DINAMICA!$M1123)","v":0},{"$f":"VALUE(DINAMICA!$N1123)","v":0},{"$f":"VALUE(DINAMICA!$O1123)","v":0},{"$f":"VALUE(DINAMICA!$P1123)","v":0},{"$f":"VALUE(DINAMICA!$Q1123)","v":0},{"$f":"VALUE(DINAMICA!$R1123)","v":0}]
[{"$f":"VALUE(DINAMICA!$A1124)","v":0},{"$f":"VALUE(DINAMICA!$B1124)","v":"00:00:00"},{"$f":"VALUE(DINAMICA!$C1124)","v":0},{"$f":"DINAMICA!D1124","v":0},{"$f":"DINAMICA!E1124","v":0},{"$f":"DINAMICA!F1124","v":0},{"$f":"DINAMICA!G1124","v":0},{"$f":"DINAMICA!H1124","v":0},{"$f":"DINAMICA!I1124","v":0},{"$f":"DINAMICA!J1124","v":0},{"$f":"DINAMICA!K1124","v":0},{"$f":"VALUE(DINAMICA!$L1124)","v":0},{"$f":"VALUE(DINAMICA!$M1124)","v":0},{"$f":"VALUE(DINAMICA!$N1124)","v":0},{"$f":"VALUE(DINAMICA!$O1124)","v":0},{"$f":"VALUE(DINAMICA!$P1124)","v":0},{"$f":"VALUE(DINAMICA!$Q1124)","v":0},{"$f":"VALUE(DINAMICA!$R1124)","v":0}]
[{"$f":"VALUE(DINAMICA!$A1125)","v":0},{"$f":"VALUE(DINAMICA!$B1125)","v":"00:00:00"},{"$f":"VALUE(DINAMICA!$C1125)","v":0},{"$f":"DINAMICA!D1125","v":0},{"$f":"DINAMICA!E1125","v":0},{"$f":"DINAMICA!F1125","v":0},{"$f":"DINAMICA!G1125","v":0},{"$f":"DINAMICA!H1125","v":0},{"$f":"DINAMICA!I1125","v":0},{"$f":"DINAMICA!J1125","v":0},{"$f":"DINAMICA!K1125","v":0},{"$f":"VALUE(DINAMICA!$L1125)","v":0},{"$f":"VALUE(DINAMICA!$M1125)","v":0},{"$f":"VALUE(DINAMICA!$N1125)","v":0},{"$f":"VALUE(DINAMICA!$O1125)","v":0},{"$f":"VALUE(DINAMICA!$P1125)","v":0},{"$f":"VALUE(DINAMICA!$Q1125)","v":0},{"$f":"VALUE(DINAMICA!$R1125)","v":0}]
[{"$f":"VALUE(DINAMICA!$A1126)","v":0},{"$f":"VALUE(DINAMICA!$B1126)","v":"00:00:00"},{"$f":"VALUE(DINAMICA!$C1126)","v":0},{"$f":"DINAMICA!D1126","v":0},{"$f":"DINAMICA!E1126","v":0},{"$f":"DINAMICA!F1126","v":0},{"$f":"DINAMICA!G1126","v":0},{"$f":"DINAMICA!H1126","v":0},{"$f":"DINAMICA!I1126","v":0},{"$f":"DINAMICA!J1126","v":0},{"$f":"DINAMICA!K1126","v":0},{"$f":"VALUE(DINAMICA!$L1126)","v":0},{"$f":"VALUE(DINAMICA!$M1126)","v":0},{"$f":"VALUE(DINAMICA!$N1126)","v":0},{"$f":"VALUE(DINAMICA!$O1126)","v":0},{"$f":"VALUE(DINAMICA!$P1126)","v":0},{"$f":"VALUE(DINAMICA!$Q1126)","v":0},{"$f":"VALUE(DINAMICA!$R1126)","v":0}]
[{"$f":"VALUE(DINAMICA!$A1127)","v":0},{"$f":"VALUE(DINAMICA!$B1127)","v":"00:00:00"},{"$f":"VALUE(DINAMICA!$C1127)","v":0},{"$f":"DINAMICA!D1127","v":0},{"$f":"DINAMICA!E1127","v":0},{"$f":"DINAMICA!F1127","v":0},{"$f":"DINAMICA!G1127","v":0},{"$f":"DINAMICA!H1127","v":0},{"$f":"DINAMICA!I1127","v":0},{"$f":"DINAMICA!J1127","v":0},{"$f":"DINAMICA!K1127","v":0},{"$f":"VALUE(DINAMICA!$L1127)","v":0},{"$f":"VALUE(DINAMICA!$M1127)","v":0},{"$f":"VALUE(DINAMICA!$N1127)","v":0},{"$f":"VALUE(DINAMICA!$O1127)","v":0},{"$f":"VALUE(DINAMICA!$P1127)","v":0},{"$f":"VALUE(DINAMICA!$Q1127)","v":0},{"$f":"VALUE(DINAMICA!$R1127)","v":0}]
[{"$f":"VALUE(DINAMICA!$A1128)","v":0},{"$f":"VALUE(DINAMICA!$B1128)","v":"00:00:00"},{"$f":"VALUE(DINAMICA!$C1128)","v":0},{"$f":"DINAMICA!D1128","v":0},{"$f":"DINAMICA!E1128","v":0},{"$f":"DINAMICA!F1128","v":0},{"$f":"DINAMICA!G1128","v":0},{"$f":"DINAMICA!H1128","v":0},{"$f":"DINAMICA!I1128","v":0},{"$f":"DINAMICA!J1128","v":0},{"$f":"DINAMICA!K1128","v":0},{"$f":"VALUE(DINAMICA!$L1128)","v":0},{"$f":"VALUE(DINAMICA!$M1128)","v":0},{"$f":"VALUE(DINAMICA!$N1128)","v":0},{"$f":"VALUE(DINAMICA!$O1128)","v":0},{"$f":"VALUE(DINAMICA!$P1128)","v":0},{"$f":"VALUE(DINAMICA!$Q1128)","v":0},{"$f":"VALUE(DINAMICA!$R1128)","v":0}]
[{"$f":"VALUE(DINAMICA!$A1129)","v":0},{"$f":"VALUE(DINAMICA!$B1129)","v":"00:00:00"},{"$f":"VALUE(DINAMICA!$C1129)","v":0},{"$f":"DINAMICA!D1129","v":0},{"$f":"DINAMICA!E1129","v":0},{"$f":"DINAMICA!F1129","v":0},{"$f":"DINAMICA!G1129","v":0},{"$f":"DINAMICA!H1129","v":0},{"$f":"DINAMICA!I1129","v":0},{"$f":"DINAMICA!J1129","v":0},{"$f":"DINAMICA!K1129","v":0},{"$f":"VALUE(DINAMICA!$L1129)","v":0},{"$f":"VALUE(DINAMICA!$M1129)","v":0},{"$f":"VALUE(DINAMICA!$N1129)","v":0},{"$f":"VALUE(DINAMICA!$O1129)","v":0},{"$f":"VALUE(DINAMICA!$P1129)","v":0},{"$f":"VALUE(DINAMICA!$Q1129)","v":0},{"$f":"VALUE(DINAMICA!$R1129)","v":0}]
[{"$f":"VALUE(DINAMICA!$A1130)","v":0},{"$f":"VALUE(DINAMICA!$B1130)","v":"00:00:00"},{"$f":"VALUE(DINAMICA!$C1130)","v":0},{"$f":"DINAMICA!D1130","v":0},{"$f":"DINAMICA!E1130","v":0},{"$f":"DINAMICA!F1130","v":0},{"$f":"DINAMICA!G1130","v":0},{"$f":"DINAMICA!H1130","v":0},{"$f":"DINAMICA!I1130","v":0},{"$f":"DINAMICA!J1130","v":0},{"$f":"DINAMICA!K1130","v":0},{"$f":"VALUE(DINAMICA!$L1130)","v":0},{"$f":"VALUE(DINAMICA!$M1130)","v":0},{"$f":"VALUE(DINAMICA!$N1130)","v":0},{"$f":"VALUE(DINAMICA!$O1130)","v":0},{"$f":"VALUE(DINAMICA!$P1130)","v":0},{"$f":"VALUE(DINAMICA!$Q1130)","v":0},{"$f":"VALUE(DINAMICA!$R1130)","v":0}]
[{"$f":"VALUE(DINAMICA!$A1131)","v":0},{"$f":"VALUE(DINAMICA!$B1131)","v":"00:00:00"},{"$f":"VALUE(DINAMICA!$C1131)","v":0},{"$f":"DINAMICA!D1131","v":0},{"$f":"DINAMICA!E1131","v":0},{"$f":"DINAMICA!F1131","v":0},{"$f":"DINAMICA!G1131","v":0},{"$f":"DINAMICA!H1131","v":0},{"$f":"DINAMICA!I1131","v":0},{"$f":"DINAMICA!J1131","v":0},{"$f":"DINAMICA!K1131","v":0},{"$f":"VALUE(DINAMICA!$L1131)","v":0},{"$f":"VALUE(DINAMICA!$M1131)","v":0},{"$f":"VALUE(DINAMICA!$N1131)","v":0},{"$f":"VALUE(DINAMICA!$O1131)","v":0},{"$f":"VALUE(DINAMICA!$P1131)","v":0},{"$f":"VALUE(DINAMICA!$Q1131)","v":0},{"$f":"VALUE(DINAMICA!$R1131)","v":0}]
[{"$f":"VALUE(DINAMICA!$A1132)","v":0},{"$f":"VALUE(DINAMICA!$B1132)","v":"00:00:00"},{"$f":"VALUE(DINAMICA!$C1132)","v":0},{"$f":"DINAMICA!D1132","v":0},{"$f":"DINAMICA!E1132","v":0},{"$f":"DINAMICA!F1132","v":0},{"$f":"DINAMICA!G1132","v":0},{"$f":"DINAMICA!H1132","v":0},{"$f":"DINAMICA!I1132","v":0},{"$f":"DINAMICA!J1132","v":0},{"$f":"DINAMICA!K1132","v":0},{"$f":"VALUE(DINAMICA!$L1132)","v":0},{"$f":"VALUE(DINAMICA!$M1132)","v":0},{"$f":"VALUE(DINAMICA!$N1132)","v":0},{"$f":"VALUE(DINAMICA!$O1132)","v":0},{"$f":"VALUE(DINAMICA!$P1132)","v":0},{"$f":"VALUE(DINAMICA!$Q1132)","v":0},{"$f":"VALUE(DINAMICA!$R1132)","v":0}]
[{"$f":"VALUE(DINAMICA!$A1133)","v":0},{"$f":"VALUE(DINAMICA!$B1133)","v":"00:00:00"},{"$f":"VALUE(DINAMICA!$C1133)","v":0},{"$f":"DINAMICA!D1133","v":0},{"$f":"DINAMICA!E1133","v":0},{"$f":"DINAMICA!F1133","v":0},{"$f":"DINAMICA!G1133","v":0},{"$f":"DINAMICA!H1133","v":0},{"$f":"DINAMICA!I1133","v":0},{"$f":"DINAMICA!J1133","v":0},{"$f":"DINAMICA!K1133","v":0},{"$f":"VALUE(DINAMICA!$L1133)","v":0},{"$f":"VALUE(DINAMICA!$M1133)","v":0},{"$f":"VALUE(DINAMICA!$N1133)","v":0},{"$f":"VALUE(DINAMICA!$O1133)","v":0},{"$f":"VALUE(DINAMICA!$P1133)","v":0},{"$f":"VALUE(DINAMICA!$Q1133)","v":0},{"$f":"VALUE(DINAMICA!$R1133)","v":0}]
[{"$f":"VALUE(DINAMICA!$A1134)","v":0},{"$f":"VALUE(DINAMICA!$B1134)","v":"00:00:00"},{"$f":"VALUE(DINAMICA!$C1134)","v":0},{"$f":"DINAMICA!D1134","v":0},{"$f":"DINAMICA!E1134","v":0},{"$f":"DINAMICA!F1134","v":0},{"$f":"DINAMICA!G1134","v":0},{"$f":"DINAMICA!H1134","v":0},{"$f":"DINAMICA!I1134","v":0},{"$f":"DINAMICA!J1134","v":0},{"$f":"DINAMICA!K1134","v":0},{"$f":"VALUE(DINAMICA!$L1134)","v":0},{"$f":"VALUE(DINAMICA!$M1134)","v":0},{"$f":"VALUE(DINAMICA!$N1134)","v":0},{"$f":"VALUE(DINAMICA!$O1134)","v":0},{"$f":"VALUE(DINAMICA!$P1134)","v":0},{"$f":"VALUE(DINAMICA!$Q1134)","v":0},{"$f":"VALUE(DINAMICA!$R1134)","v":0}]
[{"$f":"VALUE(DINAMICA!$A1135)","v":0},{"$f":"VALUE(DINAMICA!$B1135)","v":"00:00:00"},{"$f":"VALUE(DINAMICA!$C1135)","v":0},{"$f":"DINAMICA!D1135","v":0},{"$f":"DINAMICA!E1135","v":0},{"$f":"DINAMICA!F1135","v":0},{"$f":"DINAMICA!G1135","v":0},{"$f":"DINAMICA!H1135","v":0},{"$f":"DINAMICA!I1135","v":0},{"$f":"DINAMICA!J1135","v":0},{"$f":"DINAMICA!K1135","v":0},{"$f":"VALUE(DINAMICA!$L1135)","v":0},{"$f":"VALUE(DINAMICA!$M1135)","v":0},{"$f":"VALUE(DINAMICA!$N1135)","v":0},{"$f":"VALUE(DINAMICA!$O1135)","v":0},{"$f":"VALUE(DINAMICA!$P1135)","v":0},{"$f":"VALUE(DINAMICA!$Q1135)","v":0},{"$f":"VALUE(DINAMICA!$R1135)","v":0}]
[{"$f":"VALUE(DINAMICA!$A1136)","v":0},{"$f":"VALUE(DINAMICA!$B1136)","v":"00:00:00"},{"$f":"VALUE(DINAMICA!$C1136)","v":0},{"$f":"DINAMICA!D1136","v":0},{"$f":"DINAMICA!E1136","v":0},{"$f":"DINAMICA!F1136","v":0},{"$f":"DINAMICA!G1136","v":0},{"$f":"DINAMICA!H1136","v":0},{"$f":"DINAMICA!I1136","v":0},{"$f":"DINAMICA!J1136","v":0},{"$f":"DINAMICA!K1136","v":0},{"$f":"VALUE(DINAMICA!$L1136)","v":0},{"$f":"VALUE(DINAMICA!$M1136)","v":0},{"$f":"VALUE(DINAMICA!$N1136)","v":0},{"$f":"VALUE(DINAMICA!$O1136)","v":0},{"$f":"VALUE(DINAMICA!$P1136)","v":0},{"$f":"VALUE(DINAMICA!$Q1136)","v":0},{"$f":"VALUE(DINAMICA!$R1136)","v":0}]
[{"$f":"VALUE(DINAMICA!$A1137)","v":0},{"$f":"VALUE(DINAMICA!$B1137)","v":"00:00:00"},{"$f":"VALUE(DINAMICA!$C1137)","v":0},{"$f":"DINAMICA!D1137","v":0},{"$f":"DINAMICA!E1137","v":0},{"$f":"DINAMICA!F1137","v":0},{"$f":"DINAMICA!G1137","v":0},{"$f":"DINAMICA!H1137","v":0},{"$f":"DINAMICA!I1137","v":0},{"$f":"DINAMICA!J1137","v":0},{"$f":"DINAMICA!K1137","v":0},{"$f":"VALUE(DINAMICA!$L1137)","v":0},{"$f":"VALUE(DINAMICA!$M1137)","v":0},{"$f":"VALUE(DINAMICA!$N1137)","v":0},{"$f":"VALUE(DINAMICA!$O1137)","v":0},{"$f":"VALUE(DINAMICA!$P1137)","v":0},{"$f":"VALUE(DINAMICA!$Q1137)","v":0},{"$f":"VALUE(DINAMICA!$R1137)","v":0}]
[{"$f":"VALUE(DINAMICA!$A1138)","v":0},{"$f":"VALUE(DINAMICA!$B1138)","v":"00:00:00"},{"$f":"VALUE(DINAMICA!$C1138)","v":0},{"$f":"DINAMICA!D1138","v":0},{"$f":"DINAMICA!E1138","v":0},{"$f":"DINAMICA!F1138","v":0},{"$f":"DINAMICA!G1138","v":0},{"$f":"DINAMICA!H1138","v":0},{"$f":"DINAMICA!I1138","v":0},{"$f":"DINAMICA!J1138","v":0},{"$f":"DINAMICA!K1138","v":0},{"$f":"VALUE(DINAMICA!$L1138)","v":0},{"$f":"VALUE(DINAMICA!$M1138)","v":0},{"$f":"VALUE(DINAMICA!$N1138)","v":0},{"$f":"VALUE(DINAMICA!$O1138)","v":0},{"$f":"VALUE(DINAMICA!$P1138)","v":0},{"$f":"VALUE(DINAMICA!$Q1138)","v":0},{"$f":"VALUE(DINAMICA!$R1138)","v":0}]
[{"$f":"VALUE(DINAMICA!$A1139)","v":0},{"$f":"VALUE(DINAMICA!$B1139)","v":"00:00:00"},{"$f":"VALUE(DINAMICA!$C1139)","v":0},{"$f":"DINAMICA!D1139","v":0},{"$f":"DINAMICA!E1139","v":0},{"$f":"DINAMICA!F1139","v":0},{"$f":"DINAMICA!G1139","v":0},{"$f":"DINAMICA!H1139","v":0},{"$f":"DINAMICA!I1139","v":0},{"$f":"DINAMICA!J1139","v":0},{"$f":"DINAMICA!K1139","v":0},{"$f":"VALUE(DINAMICA!$L1139)","v":0},{"$f":"VALUE(DINAMICA!$M1139)","v":0},{"$f":"VALUE(DINAMICA!$N1139)","v":0},{"$f":"VALUE(DINAMICA!$O1139)","v":0},{"$f":"VALUE(DINAMICA!$P1139)","v":0},{"$f":"VALUE(DINAMICA!$Q1139)","v":0},{"$f":"VALUE(DINAMICA!$R1139)","v":0}]
[{"$f":"VALUE(DINAMICA!$A1140)","v":0},{"$f":"VALUE(DINAMICA!$B1140)","v":"00:00:00"},{"$f":"VALUE(DINAMICA!$C1140)","v":0},{"$f":"DINAMICA!D1140","v":0},{"$f":"DINAMICA!E1140","v":0},{"$f":"DINAMICA!F1140","v":0},{"$f":"DINAMICA!G1140","v":0},{"$f":"DINAMICA!H1140","v":0},{"$f":"DINAMICA!I1140","v":0},{"$f":"DINAMICA!J1140","v":0},{"$f":"DINAMICA!K1140","v":0},{"$f":"VALUE(DINAMICA!$L1140)","v":0},{"$f":"VALUE(DINAMICA!$M1140)","v":0},{"$f":"VALUE(DINAMICA!$N1140)","v":0},{"$f":"VALUE(DINAMICA!$O1140)","v":0},{"$f":"VALUE(DINAMICA!$P1140)","v":0},{"$f":"VALUE(DINAMICA!$Q1140)","v":0},{"$f":"VALUE(DINAMICA!$R1140)","v":0}]
[{"$f":"VALUE(DINAMICA!$A1141)","v":0},{"$f":"VALUE(DINAMICA!$B1141)","v":"00:00:00"},{"$f":"VALUE(DINAMICA!$C1141)","v":0},{"$f":"DINAMICA!D1141","v":0},{"$f":"DINAMICA!E1141","v":0},{"$f":"DINAMICA!F1141","v":0},{"$f":"DINAMICA!G1141","v":0},{"$f":"DINAMICA!H1141","v":0},{"$f":"DINAMICA!I1141","v":0},{"$f":"DINAMICA!J1141","v":0},{"$f":"DINAMICA!K1141","v":0},{"$f":"VALUE(DINAMICA!$L1141)","v":0},{"$f":"VALUE(DINAMICA!$M1141)","v":0},{"$f":"VALUE(DINAMICA!$N1141)","v":0},{"$f":"VALUE(DINAMICA!$O1141)","v":0},{"$f":"VALUE(DINAMICA!$P1141)","v":0},{"$f":"VALUE(DINAMICA!$Q1141)","v":0},{"$f":"VALUE(DINAMICA!$R1141)","v":0}]
[{"$f":"VALUE(DINAMICA!$A1142)","v":0},{"$f":"VALUE(DINAMICA!$B1142)","v":"00:00:00"},{"$f":"VALUE(DINAMICA!$C1142)","v":0},{"$f":"DINAMICA!D1142","v":0},{"$f":"DINAMICA!E1142","v":0},{"$f":"DINAMICA!F1142","v":0},{"$f":"DINAMICA!G1142","v":0},{"$f":"DINAMICA!H1142","v":0},{"$f":"DINAMICA!I1142","v":0},{"$f":"DINAMICA!J1142","v":0},{"$f":"DINAMICA!K1142","v":0},{"$f":"VALUE(DINAMICA!$L1142)","v":0},{"$f":"VALUE(DINAMICA!$M1142)","v":0},{"$f":"VALUE(DINAMICA!$N1142)","v":0},{"$f":"VALUE(DINAMICA!$O1142)","v":0},{"$f":"VALUE(DINAMICA!$P1142)","v":0},{"$f":"VALUE(DINAMICA!$Q1142)","v":0},{"$f":"VALUE(DINAMICA!$R1142)","v":0}]
[{"$f":"VALUE(DINAMICA!$A1143)","v":0},{"$f":"VALUE(DINAMICA!$B1143)","v":"00:00:00"},{"$f":"VALUE(DINAMICA!$C1143)","v":0},{"$f":"DINAMICA!D1143","v":0},{"$f":"DINAMICA!E1143","v":0},{"$f":"DINAMICA!F1143","v":0},{"$f":"DINAMICA!G1143","v":0},{"$f":"DINAMICA!H1143","v":0},{"$f":"DINAMICA!I1143","v":0},{"$f":"DINAMICA!J1143","v":0},{"$f":"DINAMICA!K1143","v":0},{"$f":"VALUE(DINAMICA!$L1143)","v":0},{"$f":"VALUE(DINAMICA!$M1143)","v":0},{"$f":"VALUE(DINAMICA!$N1143)","v":0},{"$f":"VALUE(DINAMICA!$O1143)","v":0},{"$f":"VALUE(DINAMICA!$P1143)","v":0},{"$f":"VALUE(DINAMICA!$Q1143)","v":0},{"$f":"VALUE(DINAMICA!$R1143)","v":0}]
[{"$f":"VALUE(DINAMICA!$A1144)","v":0},{"$f":"VALUE(DINAMICA!$B1144)","v":"00:00:00"},{"$f":"VALUE(DINAMICA!$C1144)","v":0},{"$f":"DINAMICA!D1144","v":0},{"$f":"DINAMICA!E1144","v":0},{"$f":"DINAMICA!F1144","v":0},{"$f":"DINAMICA!G1144","v":0},{"$f":"DINAMICA!H1144","v":0},{"$f":"DINAMICA!I1144","v":0},{"$f":"DINAMICA!J1144","v":0},{"$f":"DINAMICA!K1144","v":0},{"$f":"VALUE(DINAMICA!$L1144)","v":0},{"$f":"VALUE(DINAMICA!$M1144)","v":0},{"$f":"VALUE(DINAMICA!$N1144)","v":0},{"$f":"VALUE(DINAMICA!$O1144)","v":0},{"$f":"VALUE(DINAMICA!$P1144)","v":0},{"$f":"VALUE(DINAMICA!$Q1144)","v":0},{"$f":"VALUE(DINAMICA!$R1144)","v":0}]
[{"$f":"VALUE(DINAMICA!$A1145)","v":0},{"$f":"VALUE(DINAMICA!$B1145)","v":"00:00:00"},{"$f":"VALUE(DINAMICA!$C1145)","v":0},{"$f":"DINAMICA!D1145","v":0},{"$f":"DINAMICA!E1145","v":0},{"$f":"DINAMICA!F1145","v":0},{"$f":"DINAMICA!G1145","v":0},{"$f":"DINAMICA!H1145","v":0},{"$f":"DINAMICA!I1145","v":0},{"$f":"DINAMICA!J1145","v":0},{"$f":"DINAMICA!K1145","v":0},{"$f":"VALUE(DINAMICA!$L1145)","v":0},{"$f":"VALUE(DINAMICA!$M1145)","v":0},{"$f":"VALUE(DINAMICA!$N1145)","v":0},{"$f":"VALUE(DINAMICA!$O1145)","v":0},{"$f":"VALUE(DINAMICA!$P1145)","v":0},{"$f":"VALUE(DINAMICA!$Q1145)","v":0},{"$f":"VALUE(DINAMICA!$R1145)","v":0}]
[{"$f":"VALUE(DINAMICA!$A1146)","v":0},{"$f":"VALUE(DINAMICA!$B1146)","v":"00:00:00"},{"$f":"VALUE(DINAMICA!$C1146)","v":0},{"$f":"DINAMICA!D1146","v":0},{"$f":"DINAMICA!E1146","v":0},{"$f":"DINAMICA!F1146","v":0},{"$f":"DINAMICA!G1146","v":0},{"$f":"DINAMICA!H1146","v":0},{"$f":"DINAMICA!I1146","v":0},{"$f":"DINAMICA!J1146","v":0},{"$f":"DINAMICA!K1146","v":0},{"$f":"VALUE(DINAMICA!$L1146)","v":0},{"$f":"VALUE(DINAMICA!$M1146)","v":0},{"$f":"VALUE(DINAMICA!$N1146)","v":0},{"$f":"VALUE(DINAMICA!$O1146)","v":0},{"$f":"VALUE(DINAMICA!$P1146)","v":0},{"$f":"VALUE(DINAMICA!$Q1146)","v":0},{"$f":"VALUE(DINAMICA!$R1146)","v":0}]
[{"$f":"VALUE(DINAMICA!$A1147)","v":0},{"$f":"VALUE(DINAMICA!$B1147)","v":"00:00:00"},{"$f":"VALUE(DINAMICA!$C1147)","v":0},{"$f":"DINAMICA!D1147","v":0},{"$f":"DINAMICA!E1147","v":0},{"$f":"DINAMICA!F1147","v":0},{"$f":"DINAMICA!G1147","v":0},{"$f":"DINAMICA!H1147","v":0},{"$f":"DINAMICA!I1147","v":0},{"$f":"DINAMICA!J1147","v":0},{"$f":"DINAMICA!K1147","v":0},{"$f":"VALUE(DINAMICA!$L1147)","v":0},{"$f":"VALUE(DINAMICA!$M1147)","v":0},{"$f":"VALUE(DINAMICA!$N1147)","v":0},{"$f":"VALUE(DINAMICA!$O1147)","v":0},{"$f":"VALUE(DINAMICA!$P1147)","v":0},{"$f":"VALUE(DINAMICA!$Q1147)","v":0},{"$f":"VALUE(DINAMICA!$R1147)","v":0}]
[{"$f":"VALUE(DINAMICA!$A1148)","v":0},{"$f":"VALUE(DINAMICA!$B1148)","v":"00:00:00"},{"$f":"VALUE(DINAMICA!$C1148)","v":0},{"$f":"DINAMICA!D1148","v":0},{"$f":"DINAMICA!E1148","v":0},{"$f":"DINAMICA!F1148","v":0},{"$f":"DINAMICA!G1148","v":0},{"$f":"DINAMICA!H1148","v":0},{"$f":"DINAMICA!I1148","v":0},{"$f":"DINAMICA!J1148","v":0},{"$f":"DINAMICA!K1148","v":0},{"$f":"VALUE(DINAMICA!$L1148)","v":0},{"$f":"VALUE(DINAMICA!$M1148)","v":0},{"$f":"VALUE(DINAMICA!$N1148)","v":0},{"$f":"VALUE(DINAMICA!$O1148)","v":0},{"$f":"VALUE(DINAMICA!$P1148)","v":0},{"$f":"VALUE(DINAMICA!$Q1148)","v":0},{"$f":"VALUE(DINAMICA!$R1148)","v":0}]
[{"$f":"VALUE(DINAMICA!$A1149)","v":0},{"$f":"VALUE(DINAMICA!$B1149)","v":"00:00:00"},{"$f":"VALUE(DINAMICA!$C1149)","v":0},{"$f":"DINAMICA!D1149","v":0},{"$f":"DINAMICA!E1149","v":0},{"$f":"DINAMICA!F1149","v":0},{"$f":"DINAMICA!G1149","v":0},{"$f":"DINAMICA!H1149","v":0},{"$f":"DINAMICA!I1149","v":0},{"$f":"DINAMICA!J1149","v":0},{"$f":"DINAMICA!K1149","v":0},{"$f":"VALUE(DINAMICA!$L1149)","v":0},{"$f":"VALUE(DINAMICA!$M1149)","v":0},{"$f":"VALUE(DINAMICA!$N1149)","v":0},{"$f":"VALUE(DINAMICA!$O1149)","v":0},{"$f":"VALUE(DINAMICA!$P1149)","v":0},{"$f":"VALUE(DINAMICA!$Q1149)","v":0},{"$f":"VALUE(DINAMICA!$R1149)","v":0}]
[{"$f":"VALUE(DINAMICA!$A1150)","v":0},{"$f":"VALUE(DINAMICA!$B1150)","v":"00:00:00"},{"$f":"VALUE(DINAMICA!$C1150)","v":0},{"$f":"DINAMICA!D1150","v":0},{"$f":"DINAMICA!E1150","v":0},{"$f":"DINAMICA!F1150","v":0},{"$f":"DINAMICA!G1150","v":0},{"$f":"DINAMICA!H1150","v":0},{"$f":"DINAMICA!I1150","v":0},{"$f":"DINAMICA!J1150","v":0},{"$f":"DINAMICA!K1150","v":0},{"$f":"VALUE(DINAMICA!$L1150)","v":0},{"$f":"VALUE(DINAMICA!$M1150)","v":0},{"$f":"VALUE(DINAMICA!$N1150)","v":0},{"$f":"VALUE(DINAMICA!$O1150)","v":0},{"$f":"VALUE(DINAMICA!$P1150)","v":0},{"$f":"VALUE(DINAMICA!$Q1150)","v":0},{"$f":"VALUE(DINAMICA!$R1150)","v":0}]
[{"$f":"VALUE(DINAMICA!$A1151)","v":0},{"$f":"VALUE(DINAMICA!$B1151)","v":"00:00:00"},{"$f":"VALUE(DINAMICA!$C1151)","v":0},{"$f":"DINAMICA!D1151","v":0},{"$f":"DINAMICA!E1151","v":0},{"$f":"DINAMICA!F1151","v":0},{"$f":"DINAMICA!G1151","v":0},{"$f":"DINAMICA!H1151","v":0},{"$f":"DINAMICA!I1151","v":0},{"$f":"DINAMICA!J1151","v":0},{"$f":"DINAMICA!K1151","v":0},{"$f":"VALUE(DINAMICA!$L1151)","v":0},{"$f":"VALUE(DINAMICA!$M1151)","v":0},{"$f":"VALUE(DINAMICA!$N1151)","v":0},{"$f":"VALUE(DINAMICA!$O1151)","v":0},{"$f":"VALUE(DINAMICA!$P1151)","v":0},{"$f":"VALUE(DINAMICA!$Q1151)","v":0},{"$f":"VALUE(DINAMICA!$R1151)","v":0}]
[{"$f":"VALUE(DINAMICA!$A1152)","v":0},{"$f":"VALUE(DINAMICA!$B1152)","v":"00:00:00"},{"$f":"VALUE(DINAMICA!$C1152)","v":0},{"$f":"DINAMICA!D1152","v":0},{"$f":"DINAMICA!E1152","v":0},{"$f":"DINAMICA!F1152","v":0},{"$f":"DINAMICA!G1152","v":0},{"$f":"DINAMICA!H1152","v":0},{"$f":"DINAMICA!I1152","v":0},{"$f":"DINAMICA!J1152","v":0},{"$f":"DINAMICA!K1152","v":0},{"$f":"VALUE(DINAMICA!$L1152)","v":0},{"$f":"VALUE(DINAMICA!$M1152)","v":0},{"$f":"VALUE(DINAMICA!$N1152)","v":0},{"$f":"VALUE(DINAMICA!$O1152)","v":0},{"$f":"VALUE(DINAMICA!$P1152)","v":0},{"$f":"VALUE(DINAMICA!$Q1152)","v":0},{"$f":"VALUE(DINAMICA!$R1152)","v":0}]
[{"$f":"VALUE(DINAMICA!$A1153)","v":0},{"$f":"VALUE(DINAMICA!$B1153)","v":"00:00:00"},{"$f":"VALUE(DINAMICA!$C1153)","v":0},{"$f":"DINAMICA!D1153","v":0},{"$f":"DINAMICA!E1153","v":0},{"$f":"DINAMICA!F1153","v":0},{"$f":"DINAMICA!G1153","v":0},{"$f":"DINAMICA!H1153","v":0},{"$f":"DINAMICA!I1153","v":0},{"$f":"DINAMICA!J1153","v":0},{"$f":"DINAMICA!K1153","v":0},{"$f":"VALUE(DINAMICA!$L1153)","v":0},{"$f":"VALUE(DINAMICA!$M1153)","v":0},{"$f":"VALUE(DINAMICA!$N1153)","v":0},{"$f":"VALUE(DINAMICA!$O1153)","v":0},{"$f":"VALUE(DINAMICA!$P1153)","v":0},{"$f":"VALUE(DINAMICA!$Q1153)","v":0},{"$f":"VALUE(DINAMICA!$R1153)","v":0}]
[{"$f":"VALUE(DINAMICA!$A1154)","v":0},{"$f":"VALUE(DINAMICA!$B1154)","v":"00:00:00"},{"$f":"VALUE(DINAMICA!$C1154)","v":0},{"$f":"DINAMICA!D1154","v":0},{"$f":"DINAMICA!E1154","v":0},{"$f":"DINAMICA!F1154","v":0},{"$f":"DINAMICA!G1154","v":0},{"$f":"DINAMICA!H1154","v":0},{"$f":"DINAMICA!I1154","v":0},{"$f":"DINAMICA!J1154","v":0},{"$f":"DINAMICA!K1154","v":0},{"$f":"VALUE(DINAMICA!$L1154)","v":0},{"$f":"VALUE(DINAMICA!$M1154)","v":0},{"$f":"VALUE(DINAMICA!$N1154)","v":0},{"$f":"VALUE(DINAMICA!$O1154)","v":0},{"$f":"VALUE(DINAMICA!$P1154)","v":0},{"$f":"VALUE(DINAMICA!$Q1154)","v":0},{"$f":"VALUE(DINAMICA!$R1154)","v":0}]
[{"$f":"VALUE(DINAMICA!$A1155)","v":0},{"$f":"VALUE(DINAMICA!$B1155)","v":"00:00:00"},{"$f":"VALUE(DINAMICA!$C1155)","v":0},{"$f":"DINAMICA!D1155","v":0},{"$f":"DINAMICA!E1155","v":0},{"$f":"DINAMICA!F1155","v":0},{"$f":"DINAMICA!G1155","v":0},{"$f":"DINAMICA!H1155","v":0},{"$f":"DINAMICA!I1155","v":0},{"$f":"DINAMICA!J1155","v":0},{"$f":"DINAMICA!K1155","v":0},{"$f":"VALUE(DINAMICA!$L1155)","v":0},{"$f":"VALUE(DINAMICA!$M1155)","v":0},{"$f":"VALUE(DINAMICA!$N1155)","v":0},{"$f":"VALUE(DINAMICA!$O1155)","v":0},{"$f":"VALUE(DINAMICA!$P1155)","v":0},{"$f":"VALUE(DINAMICA!$Q1155)","v":0},{"$f":"VALUE(DINAMICA!$R1155)","v":0}]
[{"$f":"VALUE(DINAMICA!$A1156)","v":0},{"$f":"VALUE(DINAMICA!$B1156)","v":"00:00:00"},{"$f":"VALUE(DINAMICA!$C1156)","v":0},{"$f":"DINAMICA!D1156","v":0},{"$f":"DINAMICA!E1156","v":0},{"$f":"DINAMICA!F1156","v":0},{"$f":"DINAMICA!G1156","v":0},{"$f":"DINAMICA!H1156","v":0},{"$f":"DINAMICA!I1156","v":0},{"$f":"DINAMICA!J1156","v":0},{"$f":"DINAMICA!K1156","v":0},{"$f":"VALUE(DINAMICA!$L1156)","v":0},{"$f":"VALUE(DINAMICA!$M1156)","v":0},{"$f":"VALUE(DINAMICA!$N1156)","v":0},{"$f":"VALUE(DINAMICA!$O1156)","v":0},{"$f":"VALUE(DINAMICA!$P1156)","v":0},{"$f":"VALUE(DINAMICA!$Q1156)","v":0},{"$f":"VALUE(DINAMICA!$R1156)","v":0}]
[{"$f":"VALUE(DINAMICA!$A1157)","v":0},{"$f":"VALUE(DINAMICA!$B1157)","v":"00:00:00"},{"$f":"VALUE(DINAMICA!$C1157)","v":0},{"$f":"DINAMICA!D1157","v":0},{"$f":"DINAMICA!E1157","v":0},{"$f":"DINAMICA!F1157","v":0},{"$f":"DINAMICA!G1157","v":0},{"$f":"DINAMICA!H1157","v":0},{"$f":"DINAMICA!I1157","v":0},{"$f":"DINAMICA!J1157","v":0},{"$f":"DINAMICA!K1157","v":0},{"$f":"VALUE(DINAMICA!$L1157)","v":0},{"$f":"VALUE(DINAMICA!$M1157)","v":0},{"$f":"VALUE(DINAMICA!$N1157)","v":0},{"$f":"VALUE(DINAMICA!$O1157)","v":0},{"$f":"VALUE(DINAMICA!$P1157)","v":0},{"$f":"VALUE(DINAMICA!$Q1157)","v":0},{"$f":"VALUE(DINAMICA!$R1157)","v":0}]
[{"$f":"VALUE(DINAMICA!$A1158)","v":0},{"$f":"VALUE(DINAMICA!$B1158)","v":"00:00:00"},{"$f":"VALUE(DINAMICA!$C1158)","v":0},{"$f":"DINAMICA!D1158","v":0},{"$f":"DINAMICA!E1158","v":0},{"$f":"DINAMICA!F1158","v":0},{"$f":"DINAMICA!G1158","v":0},{"$f":"DINAMICA!H1158","v":0},{"$f":"DINAMICA!I1158","v":0},{"$f":"DINAMICA!J1158","v":0},{"$f":"DINAMICA!K1158","v":0},{"$f":"VALUE(DINAMICA!$L1158)","v":0},{"$f":"VALUE(DINAMICA!$M1158)","v":0},{"$f":"VALUE(DINAMICA!$N1158)","v":0},{"$f":"VALUE(DINAMICA!$O1158)","v":0},{"$f":"VALUE(DINAMICA!$P1158)","v":0},{"$f":"VALUE(DINAMICA!$Q1158)","v":0},{"$f":"VALUE(DINAMICA!$R1158)","v":0}]
[{"$f":"VALUE(DINAMICA!$A1159)","v":0},{"$f":"VALUE(DINAMICA!$B1159)","v":"00:00:00"},{"$f":"VALUE(DINAMICA!$C1159)","v":0},{"$f":"DINAMICA!D1159","v":0},{"$f":"DINAMICA!E1159","v":0},{"$f":"DINAMICA!F1159","v":0},{"$f":"DINAMICA!G1159","v":0},{"$f":"DINAMICA!H1159","v":0},{"$f":"DINAMICA!I1159","v":0},{"$f":"DINAMICA!J1159","v":0},{"$f":"DINAMICA!K1159","v":0},{"$f":"VALUE(DINAMICA!$L1159)","v":0},{"$f":"VALUE(DINAMICA!$M1159)","v":0},{"$f":"VALUE(DINAMICA!$N1159)","v":0},{"$f":"VALUE(DINAMICA!$O1159)","v":0},{"$f":"VALUE(DINAMICA!$P1159)","v":0},{"$f":"VALUE(DINAMICA!$Q1159)","v":0},{"$f":"VALUE(DINAMICA!$R1159)","v":0}]
[{"$f":"VALUE(DINAMICA!$A1160)","v":0},{"$f":"VALUE(DINAMICA!$B1160)","v":"00:00:00"},{"$f":"VALUE(DINAMICA!$C1160)","v":0},{"$f":"DINAMICA!D1160","v":0},{"$f":"DINAMICA!E1160","v":0},{"$f":"DINAMICA!F1160","v":0},{"$f":"DINAMICA!G1160","v":0},{"$f":"DINAMICA!H1160","v":0},{"$f":"DINAMICA!I1160","v":0},{"$f":"DINAMICA!J1160","v":0},{"$f":"DINAMICA!K1160","v":0},{"$f":"VALUE(DINAMICA!$L1160)","v":0},{"$f":"VALUE(DINAMICA!$M1160)","v":0},{"$f":"VALUE(DINAMICA!$N1160)","v":0},{"$f":"VALUE(DINAMICA!$O1160)","v":0},{"$f":"VALUE(DINAMICA!$P1160)","v":0},{"$f":"VALUE(DINAMICA!$Q1160)","v":0},{"$f":"VALUE(DINAMICA!$R1160)","v":0}]
[{"$f":"VALUE(DINAMICA!$A1161)","v":0},{"$f":"VALUE(DINAMICA!$B1161)","v":"00:00:00"},{"$f":"VALUE(DINAMICA!$C1161)","v":0},{"$f":"DINAMICA!D1161","v":0},{"$f":"DINAMICA!E1161","v":0},{"$f":"DINAMICA!F1161","v":0},{"$f":"DINAMICA!G1161","v":0},{"$f":"DINAMICA!H1161","v":0},{"$f":"DINAMICA!I1161","v":0},{"$f":"DINAMICA!J1161","v":0},{"$f":"DINAMICA!K1161","v":0},{"$f":"VALUE(DINAMICA!$L1161)","v":0},{"$f":"VALUE(DINAMICA!$M1161)","v":0},{"$f":"VALUE(DINAMICA!$N1161)","v":0},{"$f":"VALUE(DINAMICA!$O1161)","v":0},{"$f":"VALUE(DINAMICA!$P1161)","v":0},{"$f":"VALUE(DINAMICA!$Q1161)","v":0},{"$f":"VALUE(DINAMICA!$R1161)","v":0}]
[{"$f":"VALUE(DINAMICA!$A1162)","v":0},{"$f":"VALUE(DINAMICA!$B1162)","v":"00:00:00"},{"$f":"VALUE(DINAMICA!$C1162)","v":0},{"$f":"DINAMICA!D1162","v":0},{"$f":"DINAMICA!E1162","v":0},{"$f":"DINAMICA!F1162","v":0},{"$f":"DINAMICA!G1162","v":0},{"$f":"DINAMICA!H1162","v":0},{"$f":"DINAMICA!I1162","v":0},{"$f":"DINAMICA!J1162","v":0},{"$f":"DINAMICA!K1162","v":0},{"$f":"VALUE(DINAMICA!$L1162)","v":0},{"$f":"VALUE(DINAMICA!$M1162)","v":0},{"$f":"VALUE(DINAMICA!$N1162)","v":0},{"$f":"VALUE(DINAMICA!$O1162)","v":0},{"$f":"VALUE(DINAMICA!$P1162)","v":0},{"$f":"VALUE(DINAMICA!$Q1162)","v":0},{"$f":"VALUE(DINAMICA!$R1162)","v":0}]
[{"$f":"VALUE(DINAMICA!$A1163)","v":0},{"$f":"VALUE(DINAMICA!$B1163)","v":"00:00:00"},{"$f":"VALUE(DINAMICA!$C1163)","v":0},{"$f":"DINAMICA!D1163","v":0},{"$f":"DINAMICA!E1163","v":0},{"$f":"DINAMICA!F1163","v":0},{"$f":"DINAMICA!G1163","v":0},{"$f":"DINAMICA!H1163","v":0},{"$f":"DINAMICA!I1163","v":0},{"$f":"DINAMICA!J1163","v":0},{"$f":"DINAMICA!K1163","v":0},{"$f":"VALUE(DINAMICA!$L1163)","v":0},{"$f":"VALUE(DINAMICA!$M1163)","v":0},{"$f":"VALUE(DINAMICA!$N1163)","v":0},{"$f":"VALUE(DINAMICA!$O1163)","v":0},{"$f":"VALUE(DINAMICA!$P1163)","v":0},{"$f":"VALUE(DINAMICA!$Q1163)","v":0},{"$f":"VALUE(DINAMICA!$R1163)","v":0}]
[{"$f":"VALUE(DINAMICA!$A1164)","v":0},{"$f":"VALUE(DINAMICA!$B1164)","v":"00:00:00"},{"$f":"VALUE(DINAMICA!$C1164)","v":0},{"$f":"DINAMICA!D1164","v":0},{"$f":"DINAMICA!E1164","v":0},{"$f":"DINAMICA!F1164","v":0},{"$f":"DINAMICA!G1164","v":0},{"$f":"DINAMICA!H1164","v":0},{"$f":"DINAMICA!I1164","v":0},{"$f":"DINAMICA!J1164","v":0},{"$f":"DINAMICA!K1164","v":0},{"$f":"VALUE(DINAMICA!$L1164)","v":0},{"$f":"VALUE(DINAMICA!$M1164)","v":0},{"$f":"VALUE(DINAMICA!$N1164)","v":0},{"$f":"VALUE(DINAMICA!$O1164)","v":0},{"$f":"VALUE(DINAMICA!$P1164)","v":0},{"$f":"VALUE(DINAMICA!$Q1164)","v":0},{"$f":"VALUE(DINAMICA!$R1164)","v":0}]
[{"$f":"VALUE(DINAMICA!$A1165)","v":0},{"$f":"VALUE(DINAMICA!$B1165)","v":"00:00:00"},{"$f":"VALUE(DINAMICA!$C1165)","v":0},{"$f":"DINAMICA!D1165","v":0},{"$f":"DINAMICA!E1165","v":0},{"$f":"DINAMICA!F1165","v":0},{"$f":"DINAMICA!G1165","v":0},{"$f":"DINAMICA!H1165","v":0},{"$f":"DINAMICA!I1165","v":0},{"$f":"DINAMICA!J1165","v":0},{"$f":"DINAMICA!K1165","v":0},{"$f":"VALUE(DINAMICA!$L1165)","v":0},{"$f":"VALUE(DINAMICA!$M1165)","v":0},{"$f":"VALUE(DINAMICA!$N1165)","v":0},{"$f":"VALUE(DINAMICA!$O1165)","v":0},{"$f":"VALUE(DINAMICA!$P1165)","v":0},{"$f":"VALUE(DINAMICA!$Q1165)","v":0},{"$f":"VALUE(DINAMICA!$R1165)","v":0}]
[{"$f":"VALUE(DINAMICA!$A1166)","v":0},{"$f":"VALUE(DINAMICA!$B1166)","v":"00:00:00"},{"$f":"VALUE(DINAMICA!$C1166)","v":0},{"$f":"DINAMICA!D1166","v":0},{"$f":"DINAMICA!E1166","v":0},{"$f":"DINAMICA!F1166","v":0},{"$f":"DINAMICA!G1166","v":0},{"$f":"DINAMICA!H1166","v":0},{"$f":"DINAMICA!I1166","v":0},{"$f":"DINAMICA!J1166","v":0},{"$f":"DINAMICA!K1166","v":0},{"$f":"VALUE(DINAMICA!$L1166)","v":0},{"$f":"VALUE(DINAMICA!$M1166)","v":0},{"$f":"VALUE(DINAMICA!$N1166)","v":0},{"$f":"VALUE(DINAMICA!$O1166)","v":0},{"$f":"VALUE(DINAMICA!$P1166)","v":0},{"$f":"VALUE(DINAMICA!$Q1166)","v":0},{"$f":"VALUE(DINAMICA!$R1166)","v":0}]
[{"$f":"VALUE(DINAMICA!$A1167)","v":0},{"$f":"VALUE(DINAMICA!$B1167)","v":"00:00:00"},{"$f":"VALUE(DINAMICA!$C1167)","v":0},{"$f":"DINAMICA!D1167","v":0},{"$f":"DINAMICA!E1167","v":0},{"$f":"DINAMICA!F1167","v":0},{"$f":"DINAMICA!G1167","v":0},{"$f":"DINAMICA!H1167","v":0},{"$f":"DINAMICA!I1167","v":0},{"$f":"DINAMICA!J1167","v":0},{"$f":"DINAMICA!K1167","v":0},{"$f":"VALUE(DINAMICA!$L1167)","v":0},{"$f":"VALUE(DINAMICA!$M1167)","v":0},{"$f":"VALUE(DINAMICA!$N1167)","v":0},{"$f":"VALUE(DINAMICA!$O1167)","v":0},{"$f":"VALUE(DINAMICA!$P1167)","v":0},{"$f":"VALUE(DINAMICA!$Q1167)","v":0},{"$f":"VALUE(DINAMICA!$R1167)","v":0}]
[{"$f":"VALUE(DINAMICA!$A1168)","v":0},{"$f":"VALUE(DINAMICA!$B1168)","v":"00:00:00"},{"$f":"VALUE(DINAMICA!$C1168)","v":0},{"$f":"DINAMICA!D1168","v":0},{"$f":"DINAMICA!E1168","v":0},{"$f":"DINAMICA!F1168","v":0},{"$f":"DINAMICA!G1168","v":0},{"$f":"DINAMICA!H1168","v":0},{"$f":"DINAMICA!I1168","v":0},{"$f":"DINAMICA!J1168","v":0},{"$f":"DINAMICA!K1168","v":0},{"$f":"VALUE(DINAMICA!$L1168)","v":0},{"$f":"VALUE(DINAMICA!$M1168)","v":0},{"$f":"VALUE(DINAMICA!$N1168)","v":0},{"$f":"VALUE(DINAMICA!$O1168)","v":0},{"$f":"VALUE(DINAMICA!$P1168)","v":0},{"$f":"VALUE(DINAMICA!$Q1168)","v":0},{"$f":"VALUE(DINAMICA!$R1168)","v":0}]
[{"$f":"VALUE(DINAMICA!$A1169)","v":0},{"$f":"VALUE(DINAMICA!$B1169)","v":"00:00:00"},{"$f":"VALUE(DINAMICA!$C1169)","v":0},{"$f":"DINAMICA!D1169","v":0},{"$f":"DINAMICA!E1169","v":0},{"$f":"DINAMICA!F1169","v":0},{"$f":"DINAMICA!G1169","v":0},{"$f":"DINAMICA!H1169","v":0},{"$f":"DINAMICA!I1169","v":0},{"$f":"DINAMICA!J1169","v":0},{"$f":"DINAMICA!K1169","v":0},{"$f":"VALUE(DINAMICA!$L1169)","v":0},{"$f":"VALUE(DINAMICA!$M1169)","v":0},{"$f":"VALUE(DINAMICA!$N1169)","v":0},{"$f":"VALUE(DINAMICA!$O1169)","v":0},{"$f":"VALUE(DINAMICA!$P1169)","v":0},{"$f":"VALUE(DINAMICA!$Q1169)","v":0},{"$f":"VALUE(DINAMICA!$R1169)","v":0}]
[{"$f":"VALUE(DINAMICA!$A1170)","v":0},{"$f":"VALUE(DINAMICA!$B1170)","v":"00:00:00"},{"$f":"VALUE(DINAMICA!$C1170)","v":0},{"$f":"DINAMICA!D1170","v":0},{"$f":"DINAMICA!E1170","v":0},{"$f":"DINAMICA!F1170","v":0},{"$f":"DINAMICA!G1170","v":0},{"$f":"DINAMICA!H1170","v":0},{"$f":"DINAMICA!I1170","v":0},{"$f":"DINAMICA!J1170","v":0},{"$f":"DINAMICA!K1170","v":0},{"$f":"VALUE(DINAMICA!$L1170)","v":0},{"$f":"VALUE(DINAMICA!$M1170)","v":0},{"$f":"VALUE(DINAMICA!$N1170)","v":0},{"$f":"VALUE(DINAMICA!$O1170)","v":0},{"$f":"VALUE(DINAMICA!$P1170)","v":0},{"$f":"VALUE(DINAMICA!$Q1170)","v":0},{"$f":"VALUE(DINAMICA!$R1170)","v":0}]
[{"$f":"VALUE(DINAMICA!$A1171)","v":0},{"$f":"VALUE(DINAMICA!$B1171)","v":"00:00:00"},{"$f":"VALUE(DINAMICA!$C1171)","v":0},{"$f":"DINAMICA!D1171","v":0},{"$f":"DINAMICA!E1171","v":0},{"$f":"DINAMICA!F1171","v":0},{"$f":"DINAMICA!G1171","v":0},{"$f":"DINAMICA!H1171","v":0},{"$f":"DINAMICA!I1171","v":0},{"$f":"DINAMICA!J1171","v":0},{"$f":"DINAMICA!K1171","v":0},{"$f":"VALUE(DINAMICA!$L1171)","v":0},{"$f":"VALUE(DINAMICA!$M1171)","v":0},{"$f":"VALUE(DINAMICA!$N1171)","v":0},{"$f":"VALUE(DINAMICA!$O1171)","v":0},{"$f":"VALUE(DINAMICA!$P1171)","v":0},{"$f":"VALUE(DINAMICA!$Q1171)","v":0},{"$f":"VALUE(DINAMICA!$R1171)","v":0}]
[{"$f":"VALUE(DINAMICA!$A1172)","v":0},{"$f":"VALUE(DINAMICA!$B1172)","v":"00:00:00"},{"$f":"VALUE(DINAMICA!$C1172)","v":0},{"$f":"DINAMICA!D1172","v":0},{"$f":"DINAMICA!E1172","v":0},{"$f":"DINAMICA!F1172","v":0},{"$f":"DINAMICA!G1172","v":0},{"$f":"DINAMICA!H1172","v":0},{"$f":"DINAMICA!I1172","v":0},{"$f":"DINAMICA!J1172","v":0},{"$f":"DINAMICA!K1172","v":0},{"$f":"VALUE(DINAMICA!$L1172)","v":0},{"$f":"VALUE(DINAMICA!$M1172)","v":0},{"$f":"VALUE(DINAMICA!$N1172)","v":0},{"$f":"VALUE(DINAMICA!$O1172)","v":0},{"$f":"VALUE(DINAMICA!$P1172)","v":0},{"$f":"VALUE(DINAMICA!$Q1172)","v":0},{"$f":"VALUE(DINAMICA!$R1172)","v":0}]
[{"$f":"VALUE(DINAMICA!$A1173)","v":0},{"$f":"VALUE(DINAMICA!$B1173)","v":"00:00:00"},{"$f":"VALUE(DINAMICA!$C1173)","v":0},{"$f":"DINAMICA!D1173","v":0},{"$f":"DINAMICA!E1173","v":0},{"$f":"DINAMICA!F1173","v":0},{"$f":"DINAMICA!G1173","v":0},{"$f":"DINAMICA!H1173","v":0},{"$f":"DINAMICA!I1173","v":0},{"$f":"DINAMICA!J1173","v":0},{"$f":"DINAMICA!K1173","v":0},{"$f":"VALUE(DINAMICA!$L1173)","v":0},{"$f":"VALUE(DINAMICA!$M1173)","v":0},{"$f":"VALUE(DINAMICA!$N1173)","v":0},{"$f":"VALUE(DINAMICA!$O1173)","v":0},{"$f":"VALUE(DINAMICA!$P1173)","v":0},{"$f":"VALUE(DINAMICA!$Q1173)","v":0},{"$f":"VALUE(DINAMICA!$R1173)","v":0}]
[{"$f":"VALUE(DINAMICA!$A1174)","v":0},{"$f":"VALUE(DINAMICA!$B1174)","v":"00:00:00"},{"$f":"VALUE(DINAMICA!$C1174)","v":0},{"$f":"DINAMICA!D1174","v":0},{"$f":"DINAMICA!E1174","v":0},{"$f":"DINAMICA!F1174","v":0},{"$f":"DINAMICA!G1174","v":0},{"$f":"DINAMICA!H1174","v":0},{"$f":"DINAMICA!I1174","v":0},{"$f":"DINAMICA!J1174","v":0},{"$f":"DINAMICA!K1174","v":0},{"$f":"VALUE(DINAMICA!$L1174)","v":0},{"$f":"VALUE(DINAMICA!$M1174)","v":0},{"$f":"VALUE(DINAMICA!$N1174)","v":0},{"$f":"VALUE(DINAMICA!$O1174)","v":0},{"$f":"VALUE(DINAMICA!$P1174)","v":0},{"$f":"VALUE(DINAMICA!$Q1174)","v":0},{"$f":"VALUE(DINAMICA!$R1174)","v":0}]
[{"$f":"VALUE(DINAMICA!$A1175)","v":0},{"$f":"VALUE(DINAMICA!$B1175)","v":"00:00:00"},{"$f":"VALUE(DINAMICA!$C1175)","v":0},{"$f":"DINAMICA!D1175","v":0},{"$f":"DINAMICA!E1175","v":0},{"$f":"DINAMICA!F1175","v":0},{"$f":"DINAMICA!G1175","v":0},{"$f":"DINAMICA!H1175","v":0},{"$f":"DINAMICA!I1175","v":0},{"$f":"DINAMICA!J1175","v":0},{"$f":"DINAMICA!K1175","v":0},{"$f":"VALUE(DINAMICA!$L1175)","v":0},{"$f":"VALUE(DINAMICA!$M1175)","v":0},{"$f":"VALUE(DINAMICA!$N1175)","v":0},{"$f":"VALUE(DINAMICA!$O1175)","v":0},{"$f":"VALUE(DINAMICA!$P1175)","v":0},{"$f":"VALUE(DINAMICA!$Q1175)","v":0},{"$f":"VALUE(DINAMICA!$R1175)","v":0}]
[{"$f":"VALUE(DINAMICA!$A1176)","v":0},{"$f":"VALUE(DINAMICA!$B1176)","v":"00:00:00"},{"$f":"VALUE(DINAMICA!$C1176)","v":0},{"$f":"DINAMICA!D1176","v":0},{"$f":"DINAMICA!E1176","v":0},{"$f":"DINAMICA!F1176","v":0},{"$f":"DINAMICA!G1176","v":0},{"$f":"DINAMICA!H1176","v":0},{"$f":"DINAMICA!I1176","v":0},{"$f":"DINAMICA!J1176","v":0},{"$f":"DINAMICA!K1176","v":0},{"$f":"VALUE(DINAMICA!$L1176)","v":0},{"$f":"VALUE(DINAMICA!$M1176)","v":0},{"$f":"VALUE(DINAMICA!$N1176)","v":0},{"$f":"VALUE(DINAMICA!$O1176)","v":0},{"$f":"VALUE(DINAMICA!$P1176)","v":0},{"$f":"VALUE(DINAMICA!$Q1176)","v":0},{"$f":"VALUE(DINAMICA!$R1176)","v":0}]
[{"$f":"VALUE(DINAMICA!$A1177)","v":0},{"$f":"VALUE(DINAMICA!$B1177)","v":"00:00:00"},{"$f":"VALUE(DINAMICA!$C1177)","v":0},{"$f":"DINAMICA!D1177","v":0},{"$f":"DINAMICA!E1177","v":0},{"$f":"DINAMICA!F1177","v":0},{"$f":"DINAMICA!G1177","v":0},{"$f":"DINAMICA!H1177","v":0},{"$f":"DINAMICA!I1177","v":0},{"$f":"DINAMICA!J1177","v":0},{"$f":"DINAMICA!K1177","v":0},{"$f":"VALUE(DINAMICA!$L1177)","v":0},{"$f":"VALUE(DINAMICA!$M1177)","v":0},{"$f":"VALUE(DINAMICA!$N1177)","v":0},{"$f":"VALUE(DINAMICA!$O1177)","v":0},{"$f":"VALUE(DINAMICA!$P1177)","v":0},{"$f":"VALUE(DINAMICA!$Q1177)","v":0},{"$f":"VALUE(DINAMICA!$R1177)","v":0}]
[{"$f":"VALUE(DINAMICA!$A1178)","v":0},{"$f":"VALUE(DINAMICA!$B1178)","v":"00:00:00"},{"$f":"VALUE(DINAMICA!$C1178)","v":0},{"$f":"DINAMICA!D1178","v":0},{"$f":"DINAMICA!E1178","v":0},{"$f":"DINAMICA!F1178","v":0},{"$f":"DINAMICA!G1178","v":0},{"$f":"DINAMICA!H1178","v":0},{"$f":"DINAMICA!I1178","v":0},{"$f":"DINAMICA!J1178","v":0},{"$f":"DINAMICA!K1178","v":0},{"$f":"VALUE(DINAMICA!$L1178)","v":0},{"$f":"VALUE(DINAMICA!$M1178)","v":0},{"$f":"VALUE(DINAMICA!$N1178)","v":0},{"$f":"VALUE(DINAMICA!$O1178)","v":0},{"$f":"VALUE(DINAMICA!$P1178)","v":0},{"$f":"VALUE(DINAMICA!$Q1178)","v":0},{"$f":"VALUE(DINAMICA!$R1178)","v":0}]
[{"$f":"VALUE(DINAMICA!$A1179)","v":0},{"$f":"VALUE(DINAMICA!$B1179)","v":"00:00:00"},{"$f":"VALUE(DINAMICA!$C1179)","v":0},{"$f":"DINAMICA!D1179","v":0},{"$f":"DINAMICA!E1179","v":0},{"$f":"DINAMICA!F1179","v":0},{"$f":"DINAMICA!G1179","v":0},{"$f":"DINAMICA!H1179","v":0},{"$f":"DINAMICA!I1179","v":0},{"$f":"DINAMICA!J1179","v":0},{"$f":"DINAMICA!K1179","v":0},{"$f":"VALUE(DINAMICA!$L1179)","v":0},{"$f":"VALUE(DINAMICA!$M1179)","v":0},{"$f":"VALUE(DINAMICA!$N1179)","v":0},{"$f":"VALUE(DINAMICA!$O1179)","v":0},{"$f":"VALUE(DINAMICA!$P1179)","v":0},{"$f":"VALUE(DINAMICA!$Q1179)","v":0},{"$f":"VALUE(DINAMICA!$R1179)","v":0}]
[{"$f":"VALUE(DINAMICA!$A1180)","v":0},{"$f":"VALUE(DINAMICA!$B1180)","v":"00:00:00"},{"$f":"VALUE(DINAMICA!$C1180)","v":0},{"$f":"DINAMICA!D1180","v":0},{"$f":"DINAMICA!E1180","v":0},{"$f":"DINAMICA!F1180","v":0},{"$f":"DINAMICA!G1180","v":0},{"$f":"DINAMICA!H1180","v":0},{"$f":"DINAMICA!I1180","v":0},{"$f":"DINAMICA!J1180","v":0},{"$f":"DINAMICA!K1180","v":0},{"$f":"VALUE(DINAMICA!$L1180)","v":0},{"$f":"VALUE(DINAMICA!$M1180)","v":0},{"$f":"VALUE(DINAMICA!$N1180)","v":0},{"$f":"VALUE(DINAMICA!$O1180)","v":0},{"$f":"VALUE(DINAMICA!$P1180)","v":0},{"$f":"VALUE(DINAMICA!$Q1180)","v":0},{"$f":"VALUE(DINAMICA!$R1180)","v":0}]
[{"$f":"VALUE(DINAMICA!$A1181)","v":0},{"$f":"VALUE(DINAMICA!$B1181)","v":"00:00:00"},{"$f":"VALUE(DINAMICA!$C1181)","v":0},{"$f":"DINAMICA!D1181","v":0},{"$f":"DINAMICA!E1181","v":0},{"$f":"DINAMICA!F1181","v":0},{"$f":"DINAMICA!G1181","v":0},{"$f":"DINAMICA!H1181","v":0},{"$f":"DINAMICA!I1181","v":0},{"$f":"DINAMICA!J1181","v":0},{"$f":"DINAMICA!K1181","v":0},{"$f":"VALUE(DINAMICA!$L1181)","v":0},{"$f":"VALUE(DINAMICA!$M1181)","v":0},{"$f":"VALUE(DINAMICA!$N1181)","v":0},{"$f":"VALUE(DINAMICA!$O1181)","v":0},{"$f":"VALUE(DINAMICA!$P1181)","v":0},{"$f":"VALUE(DINAMICA!$Q1181)","v":0},{"$f":"VALUE(DINAMICA!$R1181)","v":0}]
[{"$f":"VALUE(DINAMICA!$A1182)","v":0},{"$f":"VALUE(DINAMICA!$B1182)","v":"00:00:00"},{"$f":"VALUE(DINAMICA!$C1182)","v":0},{"$f":"DINAMICA!D1182","v":0},{"$f":"DINAMICA!E1182","v":0},{"$f":"DINAMICA!F1182","v":0},{"$f":"DINAMICA!G1182","v":0},{"$f":"DINAMICA!H1182","v":0},{"$f":"DINAMICA!I1182","v":0},{"$f":"DINAMICA!J1182","v":0},{"$f":"DINAMICA!K1182","v":0},{"$f":"VALUE(DINAMICA!$L1182)","v":0},{"$f":"VALUE(DINAMICA!$M1182)","v":0},{"$f":"VALUE(DINAMICA!$N1182)","v":0},{"$f":"VALUE(DINAMICA!$O1182)","v":0},{"$f":"VALUE(DINAMICA!$P1182)","v":0},{"$f":"VALUE(DINAMICA!$Q1182)","v":0},{"$f":"VALUE(DINAMICA!$R1182)","v":0}]
[{"$f":"VALUE(DINAMICA!$A1183)","v":0},{"$f":"VALUE(DINAMICA!$B1183)","v":"00:00:00"},{"$f":"VALUE(DINAMICA!$C1183)","v":0},{"$f":"DINAMICA!D1183","v":0},{"$f":"DINAMICA!E1183","v":0},{"$f":"DINAMICA!F1183","v":0},{"$f":"DINAMICA!G1183","v":0},{"$f":"DINAMICA!H1183","v":0},{"$f":"DINAMICA!I1183","v":0},{"$f":"DINAMICA!J1183","v":0},{"$f":"DINAMICA!K1183","v":0},{"$f":"VALUE(DINAMICA!$L1183)","v":0},{"$f":"VALUE(DINAMICA!$M1183)","v":0},{"$f":"VALUE(DINAMICA!$N1183)","v":0},{"$f":"VALUE(DINAMICA!$O1183)","v":0},{"$f":"VALUE(DINAMICA!$P1183)","v":0},{"$f":"VALUE(DINAMICA!$Q1183)","v":0},{"$f":"VALUE(DINAMICA!$R1183)","v":0}]
[{"$f":"VALUE(DINAMICA!$A1184)","v":0},{"$f":"VALUE(DINAMICA!$B1184)","v":"00:00:00"},{"$f":"VALUE(DINAMICA!$C1184)","v":0},{"$f":"DINAMICA!D1184","v":0},{"$f":"DINAMICA!E1184","v":0},{"$f":"DINAMICA!F1184","v":0},{"$f":"DINAMICA!G1184","v":0},{"$f":"DINAMICA!H1184","v":0},{"$f":"DINAMICA!I1184","v":0},{"$f":"DINAMICA!J1184","v":0},{"$f":"DINAMICA!K1184","v":0},{"$f":"VALUE(DINAMICA!$L1184)","v":0},{"$f":"VALUE(DINAMICA!$M1184)","v":0},{"$f":"VALUE(DINAMICA!$N1184)","v":0},{"$f":"VALUE(DINAMICA!$O1184)","v":0},{"$f":"VALUE(DINAMICA!$P1184)","v":0},{"$f":"VALUE(DINAMICA!$Q1184)","v":0},{"$f":"VALUE(DINAMICA!$R1184)","v":0}]
[{"$f":"VALUE(DINAMICA!$A1185)","v":0},{"$f":"VALUE(DINAMICA!$B1185)","v":"00:00:00"},{"$f":"VALUE(DINAMICA!$C1185)","v":0},{"$f":"DINAMICA!D1185","v":0},{"$f":"DINAMICA!E1185","v":0},{"$f":"DINAMICA!F1185","v":0},{"$f":"DINAMICA!G1185","v":0},{"$f":"DINAMICA!H1185","v":0},{"$f":"DINAMICA!I1185","v":0},{"$f":"DINAMICA!J1185","v":0},{"$f":"DINAMICA!K1185","v":0},{"$f":"VALUE(DINAMICA!$L1185)","v":0},{"$f":"VALUE(DINAMICA!$M1185)","v":0},{"$f":"VALUE(DINAMICA!$N1185)","v":0},{"$f":"VALUE(DINAMICA!$O1185)","v":0},{"$f":"VALUE(DINAMICA!$P1185)","v":0},{"$f":"VALUE(DINAMICA!$Q1185)","v":0},{"$f":"VALUE(DINAMICA!$R1185)","v":0}]
[{"$f":"VALUE(DINAMICA!$A1186)","v":0},{"$f":"VALUE(DINAMICA!$B1186)","v":"00:00:00"},{"$f":"VALUE(DINAMICA!$C1186)","v":0},{"$f":"DINAMICA!D1186","v":0},{"$f":"DINAMICA!E1186","v":0},{"$f":"DINAMICA!F1186","v":0},{"$f":"DINAMICA!G1186","v":0},{"$f":"DINAMICA!H1186","v":0},{"$f":"DINAMICA!I1186","v":0},{"$f":"DINAMICA!J1186","v":0},{"$f":"DINAMICA!K1186","v":0},{"$f":"VALUE(DINAMICA!$L1186)","v":0},{"$f":"VALUE(DINAMICA!$M1186)","v":0},{"$f":"VALUE(DINAMICA!$N1186)","v":0},{"$f":"VALUE(DINAMICA!$O1186)","v":0},{"$f":"VALUE(DINAMICA!$P1186)","v":0},{"$f":"VALUE(DINAMICA!$Q1186)","v":0},{"$f":"VALUE(DINAMICA!$R1186)","v":0}]
[{"$f":"VALUE(DINAMICA!$A1187)","v":0},{"$f":"VALUE(DINAMICA!$B1187)","v":"00:00:00"},{"$f":"VALUE(DINAMICA!$C1187)","v":0},{"$f":"DINAMICA!D1187","v":0},{"$f":"DINAMICA!E1187","v":0},{"$f":"DINAMICA!F1187","v":0},{"$f":"DINAMICA!G1187","v":0},{"$f":"DINAMICA!H1187","v":0},{"$f":"DINAMICA!I1187","v":0},{"$f":"DINAMICA!J1187","v":0},{"$f":"DINAMICA!K1187","v":0},{"$f":"VALUE(DINAMICA!$L1187)","v":0},{"$f":"VALUE(DINAMICA!$M1187)","v":0},{"$f":"VALUE(DINAMICA!$N1187)","v":0},{"$f":"VALUE(DINAMICA!$O1187)","v":0},{"$f":"VALUE(DINAMICA!$P1187)","v":0},{"$f":"VALUE(DINAMICA!$Q1187)","v":0},{"$f":"VALUE(DINAMICA!$R1187)","v":0}]
[{"$f":"VALUE(DINAMICA!$A1188)","v":0},{"$f":"VALUE(DINAMICA!$B1188)","v":"00:00:00"},{"$f":"VALUE(DINAMICA!$C1188)","v":0},{"$f":"DINAMICA!D1188","v":0},{"$f":"DINAMICA!E1188","v":0},{"$f":"DINAMICA!F1188","v":0},{"$f":"DINAMICA!G1188","v":0},{"$f":"DINAMICA!H1188","v":0},{"$f":"DINAMICA!I1188","v":0},{"$f":"DINAMICA!J1188","v":0},{"$f":"DINAMICA!K1188","v":0},{"$f":"VALUE(DINAMICA!$L1188)","v":0},{"$f":"VALUE(DINAMICA!$M1188)","v":0},{"$f":"VALUE(DINAMICA!$N1188)","v":0},{"$f":"VALUE(DINAMICA!$O1188)","v":0},{"$f":"VALUE(DINAMICA!$P1188)","v":0},{"$f":"VALUE(DINAMICA!$Q1188)","v":0},{"$f":"VALUE(DINAMICA!$R1188)","v":0}]
[{"$f":"VALUE(DINAMICA!$A1189)","v":0},{"$f":"VALUE(DINAMICA!$B1189)","v":"00:00:00"},{"$f":"VALUE(DINAMICA!$C1189)","v":0},{"$f":"DINAMICA!D1189","v":0},{"$f":"DINAMICA!E1189","v":0},{"$f":"DINAMICA!F1189","v":0},{"$f":"DINAMICA!G1189","v":0},{"$f":"DINAMICA!H1189","v":0},{"$f":"DINAMICA!I1189","v":0},{"$f":"DINAMICA!J1189","v":0},{"$f":"DINAMICA!K1189","v":0},{"$f":"VALUE(DINAMICA!$L1189)","v":0},{"$f":"VALUE(DINAMICA!$M1189)","v":0},{"$f":"VALUE(DINAMICA!$N1189)","v":0},{"$f":"VALUE(DINAMICA!$O1189)","v":0},{"$f":"VALUE(DINAMICA!$P1189)","v":0},{"$f":"VALUE(DINAMICA!$Q1189)","v":0},{"$f":"VALUE(DINAMICA!$R1189)","v":0}]
[{"$f":"VALUE(DINAMICA!$A1190)","v":0},{"$f":"VALUE(DINAMICA!$B1190)","v":"00:00:00"},{"$f":"VALUE(DINAMICA!$C1190)","v":0},{"$f":"DINAMICA!D1190","v":0},{"$f":"DINAMICA!E1190","v":0},{"$f":"DINAMICA!F1190","v":0},{"$f":"DINAMICA!G1190","v":0},{"$f":"DINAMICA!H1190","v":0},{"$f":"DINAMICA!I1190","v":0},{"$f":"DINAMICA!J1190","v":0},{"$f":"DINAMICA!K1190","v":0},{"$f":"VALUE(DINAMICA!$L1190)","v":0},{"$f":"VALUE(DINAMICA!$M1190)","v":0},{"$f":"VALUE(DINAMICA!$N1190)","v":0},{"$f":"VALUE(DINAMICA!$O1190)","v":0},{"$f":"VALUE(DINAMICA!$P1190)","v":0},{"$f":"VALUE(DINAMICA!$Q1190)","v":0},{"$f":"VALUE(DINAMICA!$R1190)","v":0}]
[{"$f":"VALUE(DINAMICA!$A1191)","v":0},{"$f":"VALUE(DINAMICA!$B1191)","v":"00:00:00"},{"$f":"VALUE(DINAMICA!$C1191)","v":0},{"$f":"DINAMICA!D1191","v":0},{"$f":"DINAMICA!E1191","v":0},{"$f":"DINAMICA!F1191","v":0},{"$f":"DINAMICA!G1191","v":0},{"$f":"DINAMICA!H1191","v":0},{"$f":"DINAMICA!I1191","v":0},{"$f":"DINAMICA!J1191","v":0},{"$f":"DINAMICA!K1191","v":0},{"$f":"VALUE(DINAMICA!$L1191)","v":0},{"$f":"VALUE(DINAMICA!$M1191)","v":0},{"$f":"VALUE(DINAMICA!$N1191)","v":0},{"$f":"VALUE(DINAMICA!$O1191)","v":0},{"$f":"VALUE(DINAMICA!$P1191)","v":0},{"$f":"VALUE(DINAMICA!$Q1191)","v":0},{"$f":"VALUE(DINAMICA!$R1191)","v":0}]
[{"$f":"VALUE(DINAMICA!$A1192)","v":0},{"$f":"VALUE(DINAMICA!$B1192)","v":"00:00:00"},{"$f":"VALUE(DINAMICA!$C1192)","v":0},{"$f":"DINAMICA!D1192","v":0},{"$f":"DINAMICA!E1192","v":0},{"$f":"DINAMICA!F1192","v":0},{"$f":"DINAMICA!G1192","v":0},{"$f":"DINAMICA!H1192","v":0},{"$f":"DINAMICA!I1192","v":0},{"$f":"DINAMICA!J1192","v":0},{"$f":"DINAMICA!K1192","v":0},{"$f":"VALUE(DINAMICA!$L1192)","v":0},{"$f":"VALUE(DINAMICA!$M1192)","v":0},{"$f":"VALUE(DINAMICA!$N1192)","v":0},{"$f":"VALUE(DINAMICA!$O1192)","v":0},{"$f":"VALUE(DINAMICA!$P1192)","v":0},{"$f":"VALUE(DINAMICA!$Q1192)","v":0},{"$f":"VALUE(DINAMICA!$R1192)","v":0}]
[{"$f":"VALUE(DINAMICA!$A1193)","v":0},{"$f":"VALUE(DINAMICA!$B1193)","v":"00:00:00"},{"$f":"VALUE(DINAMICA!$C1193)","v":0},{"$f":"DINAMICA!D1193","v":0},{"$f":"DINAMICA!E1193","v":0},{"$f":"DINAMICA!F1193","v":0},{"$f":"DINAMICA!G1193","v":0},{"$f":"DINAMICA!H1193","v":0},{"$f":"DINAMICA!I1193","v":0},{"$f":"DINAMICA!J1193","v":0},{"$f":"DINAMICA!K1193","v":0},{"$f":"VALUE(DINAMICA!$L1193)","v":0},{"$f":"VALUE(DINAMICA!$M1193)","v":0},{"$f":"VALUE(DINAMICA!$N1193)","v":0},{"$f":"VALUE(DINAMICA!$O1193)","v":0},{"$f":"VALUE(DINAMICA!$P1193)","v":0},{"$f":"VALUE(DINAMICA!$Q1193)","v":0},{"$f":"VALUE(DINAMICA!$R1193)","v":0}]
[{"$f":"VALUE(DINAMICA!$A1194)","v":0},{"$f":"VALUE(DINAMICA!$B1194)","v":"00:00:00"},{"$f":"VALUE(DINAMICA!$C1194)","v":0},{"$f":"DINAMICA!D1194","v":0},{"$f":"DINAMICA!E1194","v":0},{"$f":"DINAMICA!F1194","v":0},{"$f":"DINAMICA!G1194","v":0},{"$f":"DINAMICA!H1194","v":0},{"$f":"DINAMICA!I1194","v":0},{"$f":"DINAMICA!J1194","v":0},{"$f":"DINAMICA!K1194","v":0},{"$f":"VALUE(DINAMICA!$L1194)","v":0},{"$f":"VALUE(DINAMICA!$M1194)","v":0},{"$f":"VALUE(DINAMICA!$N1194)","v":0},{"$f":"VALUE(DINAMICA!$O1194)","v":0},{"$f":"VALUE(DINAMICA!$P1194)","v":0},{"$f":"VALUE(DINAMICA!$Q1194)","v":0},{"$f":"VALUE(DINAMICA!$R1194)","v":0}]
[{"$f":"VALUE(DINAMICA!$A1195)","v":0},{"$f":"VALUE(DINAMICA!$B1195)","v":"00:00:00"},{"$f":"VALUE(DINAMICA!$C1195)","v":0},{"$f":"DINAMICA!D1195","v":0},{"$f":"DINAMICA!E1195","v":0},{"$f":"DINAMICA!F1195","v":0},{"$f":"DINAMICA!G1195","v":0},{"$f":"DINAMICA!H1195","v":0},{"$f":"DINAMICA!I1195","v":0},{"$f":"DINAMICA!J1195","v":0},{"$f":"DINAMICA!K1195","v":0},{"$f":"VALUE(DINAMICA!$L1195)","v":0},{"$f":"VALUE(DINAMICA!$M1195)","v":0},{"$f":"VALUE(DINAMICA!$N1195)","v":0},{"$f":"VALUE(DINAMICA!$O1195)","v":0},{"$f":"VALUE(DINAMICA!$P1195)","v":0},{"$f":"VALUE(DINAMICA!$Q1195)","v":0},{"$f":"VALUE(DINAMICA!$R1195)","v":0}]
[{"$f":"VALUE(DINAMICA!$A1196)","v":0},{"$f":"VALUE(DINAMICA!$B1196)","v":"00:00:00"},{"$f":"VALUE(DINAMICA!$C1196)","v":0},{"$f":"DINAMICA!D1196","v":0},{"$f":"DINAMICA!E1196","v":0},{"$f":"DINAMICA!F1196","v":0},{"$f":"DINAMICA!G1196","v":0},{"$f":"DINAMICA!H1196","v":0},{"$f":"DINAMICA!I1196","v":0},{"$f":"DINAMICA!J1196","v":0},{"$f":"DINAMICA!K1196","v":0},{"$f":"VALUE(DINAMICA!$L1196)","v":0},{"$f":"VALUE(DINAMICA!$M1196)","v":0},{"$f":"VALUE(DINAMICA!$N1196)","v":0},{"$f":"VALUE(DINAMICA!$O1196)","v":0},{"$f":"VALUE(DINAMICA!$P1196)","v":0},{"$f":"VALUE(DINAMICA!$Q1196)","v":0},{"$f":"VALUE(DINAMICA!$R1196)","v":0}]
[{"$f":"VALUE(DINAMICA!$A1197)","v":0},{"$f":"VALUE(DINAMICA!$B1197)","v":"00:00:00"},{"$f":"VALUE(DINAMICA!$C1197)","v":0},{"$f":"DINAMICA!D1197","v":0},{"$f":"DINAMICA!E1197","v":0},{"$f":"DINAMICA!F1197","v":0},{"$f":"DINAMICA!G1197","v":0},{"$f":"DINAMICA!H1197","v":0},{"$f":"DINAMICA!I1197","v":0},{"$f":"DINAMICA!J1197","v":0},{"$f":"DINAMICA!K1197","v":0},{"$f":"VALUE(DINAMICA!$L1197)","v":0},{"$f":"VALUE(DINAMICA!$M1197)","v":0},{"$f":"VALUE(DINAMICA!$N1197)","v":0},{"$f":"VALUE(DINAMICA!$O1197)","v":0},{"$f":"VALUE(DINAMICA!$P1197)","v":0},{"$f":"VALUE(DINAMICA!$Q1197)","v":0},{"$f":"VALUE(DINAMICA!$R1197)","v":0}]
[{"$f":"VALUE(DINAMICA!$A1198)","v":0},{"$f":"VALUE(DINAMICA!$B1198)","v":"00:00:00"},{"$f":"VALUE(DINAMICA!$C1198)","v":0},{"$f":"DINAMICA!D1198","v":0},{"$f":"DINAMICA!E1198","v":0},{"$f":"DINAMICA!F1198","v":0},{"$f":"DINAMICA!G1198","v":0},{"$f":"DINAMICA!H1198","v":0},{"$f":"DINAMICA!I1198","v":0},{"$f":"DINAMICA!J1198","v":0},{"$f":"DINAMICA!K1198","v":0},{"$f":"VALUE(DINAMICA!$L1198)","v":0},{"$f":"VALUE(DINAMICA!$M1198)","v":0},{"$f":"VALUE(DINAMICA!$N1198)","v":0},{"$f":"VALUE(DINAMICA!$O1198)","v":0},{"$f":"VALUE(DINAMICA!$P1198)","v":0},{"$f":"VALUE(DINAMICA!$Q1198)","v":0},{"$f":"VALUE(DINAMICA!$R1198)","v":0}]
[{"$f":"VALUE(DINAMICA!$A1199)","v":0},{"$f":"VALUE(DINAMICA!$B1199)","v":"00:00:00"},{"$f":"VALUE(DINAMICA!$C1199)","v":0},{"$f":"DINAMICA!D1199","v":0},{"$f":"DINAMICA!E1199","v":0},{"$f":"DINAMICA!F1199","v":0},{"$f":"DINAMICA!G1199","v":0},{"$f":"DINAMICA!H1199","v":0},{"$f":"DINAMICA!I1199","v":0},{"$f":"DINAMICA!J1199","v":0},{"$f":"DINAMICA!K1199","v":0},{"$f":"VALUE(DINAMICA!$L1199)","v":0},{"$f":"VALUE(DINAMICA!$M1199)","v":0},{"$f":"VALUE(DINAMICA!$N1199)","v":0},{"$f":"VALUE(DINAMICA!$O1199)","v":0},{"$f":"VALUE(DINAMICA!$P1199)","v":0},{"$f":"VALUE(DINAMICA!$Q1199)","v":0},{"$f":"VALUE(DINAMICA!$R1199)","v":0}]
[{"$f":"VALUE(DINAMICA!$A1200)","v":0},{"$f":"VALUE(DINAMICA!$B1200)","v":"00:00:00"},{"$f":"VALUE(DINAMICA!$C1200)","v":0},{"$f":"DINAMICA!D1200","v":0},{"$f":"DINAMICA!E1200","v":0},{"$f":"DINAMICA!F1200","v":0},{"$f":"DINAMICA!G1200","v":0},{"$f":"DINAMICA!H1200","v":0},{"$f":"DINAMICA!I1200","v":0},{"$f":"DINAMICA!J1200","v":0},{"$f":"DINAMICA!K1200","v":0},{"$f":"VALUE(DINAMICA!$L1200)","v":0},{"$f":"VALUE(DINAMICA!$M1200)","v":0},{"$f":"VALUE(DINAMICA!$N1200)","v":0},{"$f":"VALUE(DINAMICA!$O1200)","v":0},{"$f":"VALUE(DINAMICA!$P1200)","v":0},{"$f":"VALUE(DINAMICA!$Q1200)","v":0},{"$f":"VALUE(DINAMICA!$R1200)","v":0}]
[{"$f":"VALUE(DINAMICA!$A1201)","v":0},{"$f":"VALUE(DINAMICA!$B1201)","v":"00:00:00"},{"$f":"VALUE(DINAMICA!$C1201)","v":0},{"$f":"DINAMICA!D1201","v":0},{"$f":"DINAMICA!E1201","v":0},{"$f":"DINAMICA!F1201","v":0},{"$f":"DINAMICA!G1201","v":0},{"$f":"DINAMICA!H1201","v":0},{"$f":"DINAMICA!I1201","v":0},{"$f":"DINAMICA!J1201","v":0},{"$f":"DINAMICA!K1201","v":0},{"$f":"VALUE(DINAMICA!$L1201)","v":0},{"$f":"VALUE(DINAMICA!$M1201)","v":0},{"$f":"VALUE(DINAMICA!$N1201)","v":0},{"$f":"VALUE(DINAMICA!$O1201)","v":0},{"$f":"VALUE(DINAMICA!$P1201)","v":0},{"$f":"VALUE(DINAMICA!$Q1201)","v":0},{"$f":"VALUE(DINAMICA!$R1201)","v":0}]
[{"$f":"VALUE(DINAMICA!$A1202)","v":0},{"$f":"VALUE(DINAMICA!$B1202)","v":"00:00:00"},{"$f":"VALUE(DINAMICA!$C1202)","v":0},{"$f":"DINAMICA!D1202","v":0},{"$f":"DINAMICA!E1202","v":0},{"$f":"DINAMICA!F1202","v":0},{"$f":"DINAMICA!G1202","v":0},{"$f":"DINAMICA!H1202","v":0},{"$f":"DINAMICA!I1202","v":0},{"$f":"DINAMICA!J1202","v":0},{"$f":"DINAMICA!K1202","v":0},{"$f":"VALUE(DINAMICA!$L1202)","v":0},{"$f":"VALUE(DINAMICA!$M1202)","v":0},{"$f":"VALUE(DINAMICA!$N1202)","v":0},{"$f":"VALUE(DINAMICA!$O1202)","v":0},{"$f":"VALUE(DINAMICA!$P1202)","v":0},{"$f":"VALUE(DINAMICA!$Q1202)","v":0},{"$f":"VALUE(DINAMICA!$R1202)","v":0}]
[{"$f":"VALUE(DINAMICA!$A1203)","v":0},{"$f":"VALUE(DINAMICA!$B1203)","v":"00:00:00"},{"$f":"VALUE(DINAMICA!$C1203)","v":0},{"$f":"DINAMICA!D1203","v":0},{"$f":"DINAMICA!E1203","v":0},{"$f":"DINAMICA!F1203","v":0},{"$f":"DINAMICA!G1203","v":0},{"$f":"DINAMICA!H1203","v":0},{"$f":"DINAMICA!I1203","v":0},{"$f":"DINAMICA!J1203","v":0},{"$f":"DINAMICA!K1203","v":0},{"$f":"VALUE(DINAMICA!$L1203)","v":0},{"$f":"VALUE(DINAMICA!$M1203)","v":0},{"$f":"VALUE(DINAMICA!$N1203)","v":0},{"$f":"VALUE(DINAMICA!$O1203)","v":0},{"$f":"VALUE(DINAMICA!$P1203)","v":0},{"$f":"VALUE(DINAMICA!$Q1203)","v":0},{"$f":"VALUE(DINAMICA!$R1203)","v":0}]
[{"$f":"VALUE(DINAMICA!$A1204)","v":0},{"$f":"VALUE(DINAMICA!$B1204)","v":"00:00:00"},{"$f":"VALUE(DINAMICA!$C1204)","v":0},{"$f":"DINAMICA!D1204","v":0},{"$f":"DINAMICA!E1204","v":0},{"$f":"DINAMICA!F1204","v":0},{"$f":"DINAMICA!G1204","v":0},{"$f":"DINAMICA!H1204","v":0},{"$f":"DINAMICA!I1204","v":0},{"$f":"DINAMICA!J1204","v":0},{"$f":"DINAMICA!K1204","v":0},{"$f":"VALUE(DINAMICA!$L1204)","v":0},{"$f":"VALUE(DINAMICA!$M1204)","v":0},{"$f":"VALUE(DINAMICA!$N1204)","v":0},{"$f":"VALUE(DINAMICA!$O1204)","v":0},{"$f":"VALUE(DINAMICA!$P1204)","v":0},{"$f":"VALUE(DINAMICA!$Q1204)","v":0},{"$f":"VALUE(DINAMICA!$R1204)","v":0}]
[{"$f":"VALUE(DINAMICA!$A1205)","v":0},{"$f":"VALUE(DINAMICA!$B1205)","v":"00:00:00"},{"$f":"VALUE(DINAMICA!$C1205)","v":0},{"$f":"DINAMICA!D1205","v":0},{"$f":"DINAMICA!E1205","v":0},{"$f":"DINAMICA!F1205","v":0},{"$f":"DINAMICA!G1205","v":0},{"$f":"DINAMICA!H1205","v":0},{"$f":"DINAMICA!I1205","v":0},{"$f":"DINAMICA!J1205","v":0},{"$f":"DINAMICA!K1205","v":0},{"$f":"VALUE(DINAMICA!$L1205)","v":0},{"$f":"VALUE(DINAMICA!$M1205)","v":0},{"$f":"VALUE(DINAMICA!$N1205)","v":0},{"$f":"VALUE(DINAMICA!$O1205)","v":0},{"$f":"VALUE(DINAMICA!$P1205)","v":0},{"$f":"VALUE(DINAMICA!$Q1205)","v":0},{"$f":"VALUE(DINAMICA!$R1205)","v":0}]
[{"$f":"VALUE(DINAMICA!$A1206)","v":0},{"$f":"VALUE(DINAMICA!$B1206)","v":"00:00:00"},{"$f":"VALUE(DINAMICA!$C1206)","v":0},{"$f":"DINAMICA!D1206","v":0},{"$f":"DINAMICA!E1206","v":0},{"$f":"DINAMICA!F1206","v":0},{"$f":"DINAMICA!G1206","v":0},{"$f":"DINAMICA!H1206","v":0},{"$f":"DINAMICA!I1206","v":0},{"$f":"DINAMICA!J1206","v":0},{"$f":"DINAMICA!K1206","v":0},{"$f":"VALUE(DINAMICA!$L1206)","v":0},{"$f":"VALUE(DINAMICA!$M1206)","v":0},{"$f":"VALUE(DINAMICA!$N1206)","v":0},{"$f":"VALUE(DINAMICA!$O1206)","v":0},{"$f":"VALUE(DINAMICA!$P1206)","v":0},{"$f":"VALUE(DINAMICA!$Q1206)","v":0},{"$f":"VALUE(DINAMICA!$R1206)","v":0}]
[{"$f":"VALUE(DINAMICA!$A1207)","v":0},{"$f":"VALUE(DINAMICA!$B1207)","v":"00:00:00"},{"$f":"VALUE(DINAMICA!$C1207)","v":0},{"$f":"DINAMICA!D1207","v":0},{"$f":"DINAMICA!E1207","v":0},{"$f":"DINAMICA!F1207","v":0},{"$f":"DINAMICA!G1207","v":0},{"$f":"DINAMICA!H1207","v":0},{"$f":"DINAMICA!I1207","v":0},{"$f":"DINAMICA!J1207","v":0},{"$f":"DINAMICA!K1207","v":0},{"$f":"VALUE(DINAMICA!$L1207)","v":0},{"$f":"VALUE(DINAMICA!$M1207)","v":0},{"$f":"VALUE(DINAMICA!$N1207)","v":0},{"$f":"VALUE(DINAMICA!$O1207)","v":0},{"$f":"VALUE(DINAMICA!$P1207)","v":0},{"$f":"VALUE(DINAMICA!$Q1207)","v":0},{"$f":"VALUE(DINAMICA!$R1207)","v":0}]
[{"$f":"VALUE(DINAMICA!$A1208)","v":0},{"$f":"VALUE(DINAMICA!$B1208)","v":"00:00:00"},{"$f":"VALUE(DINAMICA!$C1208)","v":0},{"$f":"DINAMICA!D1208","v":0},{"$f":"DINAMICA!E1208","v":0},{"$f":"DINAMICA!F1208","v":0},{"$f":"DINAMICA!G1208","v":0},{"$f":"DINAMICA!H1208","v":0},{"$f":"DINAMICA!I1208","v":0},{"$f":"DINAMICA!J1208","v":0},{"$f":"DINAMICA!K1208","v":0},{"$f":"VALUE(DINAMICA!$L1208)","v":0},{"$f":"VALUE(DINAMICA!$M1208)","v":0},{"$f":"VALUE(DINAMICA!$N1208)","v":0},{"$f":"VALUE(DINAMICA!$O1208)","v":0},{"$f":"VALUE(DINAMICA!$P1208)","v":0},{"$f":"VALUE(DINAMICA!$Q1208)","v":0},{"$f":"VALUE(DINAMICA!$R1208)","v":0}]
[{"$f":"VALUE(DINAMICA!$A1209)","v":0},{"$f":"VALUE(DINAMICA!$B1209)","v":"00:00:00"},{"$f":"VALUE(DINAMICA!$C1209)","v":0},{"$f":"DINAMICA!D1209","v":0},{"$f":"DINAMICA!E1209","v":0},{"$f":"DINAMICA!F1209","v":0},{"$f":"DINAMICA!G1209","v":0},{"$f":"DINAMICA!H1209","v":0},{"$f":"DINAMICA!I1209","v":0},{"$f":"DINAMICA!J1209","v":0},{"$f":"DINAMICA!K1209","v":0},{"$f":"VALUE(DINAMICA!$L1209)","v":0},{"$f":"VALUE(DINAMICA!$M1209)","v":0},{"$f":"VALUE(DINAMICA!$N1209)","v":0},{"$f":"VALUE(DINAMICA!$O1209)","v":0},{"$f":"VALUE(DINAMICA!$P1209)","v":0},{"$f":"VALUE(DINAMICA!$Q1209)","v":0},{"$f":"VALUE(DINAMICA!$R1209)","v":0}]
[{"$f":"VALUE(DINAMICA!$A1210)","v":0},{"$f":"VALUE(DINAMICA!$B1210)","v":"00:00:00"},{"$f":"VALUE(DINAMICA!$C1210)","v":0},{"$f":"DINAMICA!D1210","v":0},{"$f":"DINAMICA!E1210","v":0},{"$f":"DINAMICA!F1210","v":0},{"$f":"DINAMICA!G1210","v":0},{"$f":"DINAMICA!H1210","v":0},{"$f":"DINAMICA!I1210","v":0},{"$f":"DINAMICA!J1210","v":0},{"$f":"DINAMICA!K1210","v":0},{"$f":"VALUE(DINAMICA!$L1210)","v":0},{"$f":"VALUE(DINAMICA!$M1210)","v":0},{"$f":"VALUE(DINAMICA!$N1210)","v":0},{"$f":"VALUE(DINAMICA!$O1210)","v":0},{"$f":"VALUE(DINAMICA!$P1210)","v":0},{"$f":"VALUE(DINAMICA!$Q1210)","v":0},{"$f":"VALUE(DINAMICA!$R1210)","v":0}]
[{"$f":"VALUE(DINAMICA!$A1211)","v":0},{"$f":"VALUE(DINAMICA!$B1211)","v":"00:00:00"},{"$f":"VALUE(DINAMICA!$C1211)","v":0},{"$f":"DINAMICA!D1211","v":0},{"$f":"DINAMICA!E1211","v":0},{"$f":"DINAMICA!F1211","v":0},{"$f":"DINAMICA!G1211","v":0},{"$f":"DINAMICA!H1211","v":0},{"$f":"DINAMICA!I1211","v":0},{"$f":"DINAMICA!J1211","v":0},{"$f":"DINAMICA!K1211","v":0},{"$f":"VALUE(DINAMICA!$L1211)","v":0},{"$f":"VALUE(DINAMICA!$M1211)","v":0},{"$f":"VALUE(DINAMICA!$N1211)","v":0},{"$f":"VALUE(DINAMICA!$O1211)","v":0},{"$f":"VALUE(DINAMICA!$P1211)","v":0},{"$f":"VALUE(DINAMICA!$Q1211)","v":0},{"$f":"VALUE(DINAMICA!$R1211)","v":0}]
[{"$f":"VALUE(DINAMICA!$A1212)","v":0},{"$f":"VALUE(DINAMICA!$B1212)","v":"00:00:00"},{"$f":"VALUE(DINAMICA!$C1212)","v":0},{"$f":"DINAMICA!D1212","v":0},{"$f":"DINAMICA!E1212","v":0},{"$f":"DINAMICA!F1212","v":0},{"$f":"DINAMICA!G1212","v":0},{"$f":"DINAMICA!H1212","v":0},{"$f":"DINAMICA!I1212","v":0},{"$f":"DINAMICA!J1212","v":0},{"$f":"DINAMICA!K1212","v":0},{"$f":"VALUE(DINAMICA!$L1212)","v":0},{"$f":"VALUE(DINAMICA!$M1212)","v":0},{"$f":"VALUE(DINAMICA!$N1212)","v":0},{"$f":"VALUE(DINAMICA!$O1212)","v":0},{"$f":"VALUE(DINAMICA!$P1212)","v":0},{"$f":"VALUE(DINAMICA!$Q1212)","v":0},{"$f":"VALUE(DINAMICA!$R1212)","v":0}]
[{"$f":"VALUE(DINAMICA!$A1213)","v":0},{"$f":"VALUE(DINAMICA!$B1213)","v":"00:00:00"},{"$f":"VALUE(DINAMICA!$C1213)","v":0},{"$f":"DINAMICA!D1213","v":0},{"$f":"DINAMICA!E1213","v":0},{"$f":"DINAMICA!F1213","v":0},{"$f":"DINAMICA!G1213","v":0},{"$f":"DINAMICA!H1213","v":0},{"$f":"DINAMICA!I1213","v":0},{"$f":"DINAMICA!J1213","v":0},{"$f":"DINAMICA!K1213","v":0},{"$f":"VALUE(DINAMICA!$L1213)","v":0},{"$f":"VALUE(DINAMICA!$M1213)","v":0},{"$f":"VALUE(DINAMICA!$N1213)","v":0},{"$f":"VALUE(DINAMICA!$O1213)","v":0},{"$f":"VALUE(DINAMICA!$P1213)","v":0},{"$f":"VALUE(DINAMICA!$Q1213)","v":0},{"$f":"VALUE(DINAMICA!$R1213)","v":0}]
[{"$f":"VALUE(DINAMICA!$A1214)","v":0},{"$f":"VALUE(DINAMICA!$B1214)","v":"00:00:00"},{"$f":"VALUE(DINAMICA!$C1214)","v":0},{"$f":"DINAMICA!D1214","v":0},{"$f":"DINAMICA!E1214","v":0},{"$f":"DINAMICA!F1214","v":0},{"$f":"DINAMICA!G1214","v":0},{"$f":"DINAMICA!H1214","v":0},{"$f":"DINAMICA!I1214","v":0},{"$f":"DINAMICA!J1214","v":0},{"$f":"DINAMICA!K1214","v":0},{"$f":"VALUE(DINAMICA!$L1214)","v":0},{"$f":"VALUE(DINAMICA!$M1214)","v":0},{"$f":"VALUE(DINAMICA!$N1214)","v":0},{"$f":"VALUE(DINAMICA!$O1214)","v":0},{"$f":"VALUE(DINAMICA!$P1214)","v":0},{"$f":"VALUE(DINAMICA!$Q1214)","v":0},{"$f":"VALUE(DINAMICA!$R1214)","v":0}]
[{"$f":"VALUE(DINAMICA!$A1215)","v":0},{"$f":"VALUE(DINAMICA!$B1215)","v":"00:00:00"},{"$f":"VALUE(DINAMICA!$C1215)","v":0},{"$f":"DINAMICA!D1215","v":0},{"$f":"DINAMICA!E1215","v":0},{"$f":"DINAMICA!F1215","v":0},{"$f":"DINAMICA!G1215","v":0},{"$f":"DINAMICA!H1215","v":0},{"$f":"DINAMICA!I1215","v":0},{"$f":"DINAMICA!J1215","v":0},{"$f":"DINAMICA!K1215","v":0},{"$f":"VALUE(DINAMICA!$L1215)","v":0},{"$f":"VALUE(DINAMICA!$M1215)","v":0},{"$f":"VALUE(DINAMICA!$N1215)","v":0},{"$f":"VALUE(DINAMICA!$O1215)","v":0},{"$f":"VALUE(DINAMICA!$P1215)","v":0},{"$f":"VALUE(DINAMICA!$Q1215)","v":0},{"$f":"VALUE(DINAMICA!$R1215)","v":0}]
[{"$f":"VALUE(DINAMICA!$A1216)","v":0},{"$f":"VALUE(DINAMICA!$B1216)","v":"00:00:00"},{"$f":"VALUE(DINAMICA!$C1216)","v":0},{"$f":"DINAMICA!D1216","v":0},{"$f":"DINAMICA!E1216","v":0},{"$f":"DINAMICA!F1216","v":0},{"$f":"DINAMICA!G1216","v":0},{"$f":"DINAMICA!H1216","v":0},{"$f":"DINAMICA!I1216","v":0},{"$f":"DINAMICA!J1216","v":0},{"$f":"DINAMICA!K1216","v":0},{"$f":"VALUE(DINAMICA!$L1216)","v":0},{"$f":"VALUE(DINAMICA!$M1216)","v":0},{"$f":"VALUE(DINAMICA!$N1216)","v":0},{"$f":"VALUE(DINAMICA!$O1216)","v":0},{"$f":"VALUE(DINAMICA!$P1216)","v":0},{"$f":"VALUE(DINAMICA!$Q1216)","v":0},{"$f":"VALUE(DINAMICA!$R1216)","v":0}]
[{"$f":"VALUE(DINAMICA!$A1217)","v":0},{"$f":"VALUE(DINAMICA!$B1217)","v":"00:00:00"},{"$f":"VALUE(DINAMICA!$C1217)","v":0},{"$f":"DINAMICA!D1217","v":0},{"$f":"DINAMICA!E1217","v":0},{"$f":"DINAMICA!F1217","v":0},{"$f":"DINAMICA!G1217","v":0},{"$f":"DINAMICA!H1217","v":0},{"$f":"DINAMICA!I1217","v":0},{"$f":"DINAMICA!J1217","v":0},{"$f":"DINAMICA!K1217","v":0},{"$f":"VALUE(DINAMICA!$L1217)","v":0},{"$f":"VALUE(DINAMICA!$M1217)","v":0},{"$f":"VALUE(DINAMICA!$N1217)","v":0},{"$f":"VALUE(DINAMICA!$O1217)","v":0},{"$f":"VALUE(DINAMICA!$P1217)","v":0},{"$f":"VALUE(DINAMICA!$Q1217)","v":0},{"$f":"VALUE(DINAMICA!$R1217)","v":0}]
[{"$f":"VALUE(DINAMICA!$A1218)","v":0},{"$f":"VALUE(DINAMICA!$B1218)","v":"00:00:00"},{"$f":"VALUE(DINAMICA!$C1218)","v":0},{"$f":"DINAMICA!D1218","v":0},{"$f":"DINAMICA!E1218","v":0},{"$f":"DINAMICA!F1218","v":0},{"$f":"DINAMICA!G1218","v":0},{"$f":"DINAMICA!H1218","v":0},{"$f":"DINAMICA!I1218","v":0},{"$f":"DINAMICA!J1218","v":0},{"$f":"DINAMICA!K1218","v":0},{"$f":"VALUE(DINAMICA!$L1218)","v":0},{"$f":"VALUE(DINAMICA!$M1218)","v":0},{"$f":"VALUE(DINAMICA!$N1218)","v":0},{"$f":"VALUE(DINAMICA!$O1218)","v":0},{"$f":"VALUE(DINAMICA!$P1218)","v":0},{"$f":"VALUE(DINAMICA!$Q1218)","v":0},{"$f":"VALUE(DINAMICA!$R1218)","v":0}]
[{"$f":"VALUE(DINAMICA!$A1219)","v":0},{"$f":"VALUE(DINAMICA!$B1219)","v":"00:00:00"},{"$f":"VALUE(DINAMICA!$C1219)","v":0},{"$f":"DINAMICA!D1219","v":0},{"$f":"DINAMICA!E1219","v":0},{"$f":"DINAMICA!F1219","v":0},{"$f":"DINAMICA!G1219","v":0},{"$f":"DINAMICA!H1219","v":0},{"$f":"DINAMICA!I1219","v":0},{"$f":"DINAMICA!J1219","v":0},{"$f":"DINAMICA!K1219","v":0},{"$f":"VALUE(DINAMICA!$L1219)","v":0},{"$f":"VALUE(DINAMICA!$M1219)","v":0},{"$f":"VALUE(DINAMICA!$N1219)","v":0},{"$f":"VALUE(DINAMICA!$O1219)","v":0},{"$f":"VALUE(DINAMICA!$P1219)","v":0},{"$f":"VALUE(DINAMICA!$Q1219)","v":0},{"$f":"VALUE(DINAMICA!$R1219)","v":0}]
[{"$f":"VALUE(DINAMICA!$A1220)","v":0},{"$f":"VALUE(DINAMICA!$B1220)","v":"00:00:00"},{"$f":"VALUE(DINAMICA!$C1220)","v":0},{"$f":"DINAMICA!D1220","v":0},{"$f":"DINAMICA!E1220","v":0},{"$f":"DINAMICA!F1220","v":0},{"$f":"DINAMICA!G1220","v":0},{"$f":"DINAMICA!H1220","v":0},{"$f":"DINAMICA!I1220","v":0},{"$f":"DINAMICA!J1220","v":0},{"$f":"DINAMICA!K1220","v":0},{"$f":"VALUE(DINAMICA!$L1220)","v":0},{"$f":"VALUE(DINAMICA!$M1220)","v":0},{"$f":"VALUE(DINAMICA!$N1220)","v":0},{"$f":"VALUE(DINAMICA!$O1220)","v":0},{"$f":"VALUE(DINAMICA!$P1220)","v":0},{"$f":"VALUE(DINAMICA!$Q1220)","v":0},{"$f":"VALUE(DINAMICA!$R1220)","v":0}]
[{"$f":"VALUE(DINAMICA!$A1221)","v":0},{"$f":"VALUE(DINAMICA!$B1221)","v":"00:00:00"},{"$f":"VALUE(DINAMICA!$C1221)","v":0},{"$f":"DINAMICA!D1221","v":0},{"$f":"DINAMICA!E1221","v":0},{"$f":"DINAMICA!F1221","v":0},{"$f":"DINAMICA!G1221","v":0},{"$f":"DINAMICA!H1221","v":0},{"$f":"DINAMICA!I1221","v":0},{"$f":"DINAMICA!J1221","v":0},{"$f":"DINAMICA!K1221","v":0},{"$f":"VALUE(DINAMICA!$L1221)","v":0},{"$f":"VALUE(DINAMICA!$M1221)","v":0},{"$f":"VALUE(DINAMICA!$N1221)","v":0},{"$f":"VALUE(DINAMICA!$O1221)","v":0},{"$f":"VALUE(DINAMICA!$P1221)","v":0},{"$f":"VALUE(DINAMICA!$Q1221)","v":0},{"$f":"VALUE(DINAMICA!$R1221)","v":0}]
[{"$f":"VALUE(DINAMICA!$A1222)","v":0},{"$f":"VALUE(DINAMICA!$B1222)","v":"00:00:00"},{"$f":"VALUE(DINAMICA!$C1222)","v":0},{"$f":"DINAMICA!D1222","v":0},{"$f":"DINAMICA!E1222","v":0},{"$f":"DINAMICA!F1222","v":0},{"$f":"DINAMICA!G1222","v":0},{"$f":"DINAMICA!H1222","v":0},{"$f":"DINAMICA!I1222","v":0},{"$f":"DINAMICA!J1222","v":0},{"$f":"DINAMICA!K1222","v":0},{"$f":"VALUE(DINAMICA!$L1222)","v":0},{"$f":"VALUE(DINAMICA!$M1222)","v":0},{"$f":"VALUE(DINAMICA!$N1222)","v":0},{"$f":"VALUE(DINAMICA!$O1222)","v":0},{"$f":"VALUE(DINAMICA!$P1222)","v":0},{"$f":"VALUE(DINAMICA!$Q1222)","v":0},{"$f":"VALUE(DINAMICA!$R1222)","v":0}]
[{"$f":"VALUE(DINAMICA!$A1223)","v":0},{"$f":"VALUE(DINAMICA!$B1223)","v":"00:00:00"},{"$f":"VALUE(DINAMICA!$C1223)","v":0},{"$f":"DINAMICA!D1223","v":0},{"$f":"DINAMICA!E1223","v":0},{"$f":"DINAMICA!F1223","v":0},{"$f":"DINAMICA!G1223","v":0},{"$f":"DINAMICA!H1223","v":0},{"$f":"DINAMICA!I1223","v":0},{"$f":"DINAMICA!J1223","v":0},{"$f":"DINAMICA!K1223","v":0},{"$f":"VALUE(DINAMICA!$L1223)","v":0},{"$f":"VALUE(DINAMICA!$M1223)","v":0},{"$f":"VALUE(DINAMICA!$N1223)","v":0},{"$f":"VALUE(DINAMICA!$O1223)","v":0},{"$f":"VALUE(DINAMICA!$P1223)","v":0},{"$f":"VALUE(DINAMICA!$Q1223)","v":0},{"$f":"VALUE(DINAMICA!$R1223)","v":0}]
[{"$f":"VALUE(DINAMICA!$A1224)","v":0},{"$f":"VALUE(DINAMICA!$B1224)","v":"00:00:00"},{"$f":"VALUE(DINAMICA!$C1224)","v":0},{"$f":"DINAMICA!D1224","v":0},{"$f":"DINAMICA!E1224","v":0},{"$f":"DINAMICA!F1224","v":0},{"$f":"DINAMICA!G1224","v":0},{"$f":"DINAMICA!H1224","v":0},{"$f":"DINAMICA!I1224","v":0},{"$f":"DINAMICA!J1224","v":0},{"$f":"DINAMICA!K1224","v":0},{"$f":"VALUE(DINAMICA!$L1224)","v":0},{"$f":"VALUE(DINAMICA!$M1224)","v":0},{"$f":"VALUE(DINAMICA!$N1224)","v":0},{"$f":"VALUE(DINAMICA!$O1224)","v":0},{"$f":"VALUE(DINAMICA!$P1224)","v":0},{"$f":"VALUE(DINAMICA!$Q1224)","v":0},{"$f":"VALUE(DINAMICA!$R1224)","v":0}]
[{"$f":"VALUE(DINAMICA!$A1225)","v":0},{"$f":"VALUE(DINAMICA!$B1225)","v":"00:00:00"},{"$f":"VALUE(DINAMICA!$C1225)","v":0},{"$f":"DINAMICA!D1225","v":0},{"$f":"DINAMICA!E1225","v":0},{"$f":"DINAMICA!F1225","v":0},{"$f":"DINAMICA!G1225","v":0},{"$f":"DINAMICA!H1225","v":0},{"$f":"DINAMICA!I1225","v":0},{"$f":"DINAMICA!J1225","v":0},{"$f":"DINAMICA!K1225","v":0},{"$f":"VALUE(DINAMICA!$L1225)","v":0},{"$f":"VALUE(DINAMICA!$M1225)","v":0},{"$f":"VALUE(DINAMICA!$N1225)","v":0},{"$f":"VALUE(DINAMICA!$O1225)","v":0},{"$f":"VALUE(DINAMICA!$P1225)","v":0},{"$f":"VALUE(DINAMICA!$Q1225)","v":0},{"$f":"VALUE(DINAMICA!$R1225)","v":0}]
[{"$f":"VALUE(DINAMICA!$A1226)","v":0},{"$f":"VALUE(DINAMICA!$B1226)","v":"00:00:00"},{"$f":"VALUE(DINAMICA!$C1226)","v":0},{"$f":"DINAMICA!D1226","v":0},{"$f":"DINAMICA!E1226","v":0},{"$f":"DINAMICA!F1226","v":0},{"$f":"DINAMICA!G1226","v":0},{"$f":"DINAMICA!H1226","v":0},{"$f":"DINAMICA!I1226","v":0},{"$f":"DINAMICA!J1226","v":0},{"$f":"DINAMICA!K1226","v":0},{"$f":"VALUE(DINAMICA!$L1226)","v":0},{"$f":"VALUE(DINAMICA!$M1226)","v":0},{"$f":"VALUE(DINAMICA!$N1226)","v":0},{"$f":"VALUE(DINAMICA!$O1226)","v":0},{"$f":"VALUE(DINAMICA!$P1226)","v":0},{"$f":"VALUE(DINAMICA!$Q1226)","v":0},{"$f":"VALUE(DINAMICA!$R1226)","v":0}]
[{"$f":"VALUE(DINAMICA!$A1227)","v":0},{"$f":"VALUE(DINAMICA!$B1227)","v":"00:00:00"},{"$f":"VALUE(DINAMICA!$C1227)","v":0},{"$f":"DINAMICA!D1227","v":0},{"$f":"DINAMICA!E1227","v":0},{"$f":"DINAMICA!F1227","v":0},{"$f":"DINAMICA!G1227","v":0},{"$f":"DINAMICA!H1227","v":0},{"$f":"DINAMICA!I1227","v":0},{"$f":"DINAMICA!J1227","v":0},{"$f":"DINAMICA!K1227","v":0},{"$f":"VALUE(DINAMICA!$L1227)","v":0},{"$f":"VALUE(DINAMICA!$M1227)","v":0},{"$f":"VALUE(DINAMICA!$N1227)","v":0},{"$f":"VALUE(DINAMICA!$O1227)","v":0},{"$f":"VALUE(DINAMICA!$P1227)","v":0},{"$f":"VALUE(DINAMICA!$Q1227)","v":0},{"$f":"VALUE(DINAMICA!$R1227)","v":0}]
[{"$f":"VALUE(DINAMICA!$A1228)","v":0},{"$f":"VALUE(DINAMICA!$B1228)","v":"00:00:00"},{"$f":"VALUE(DINAMICA!$C1228)","v":0},{"$f":"DINAMICA!D1228","v":0},{"$f":"DINAMICA!E1228","v":0},{"$f":"DINAMICA!F1228","v":0},{"$f":"DINAMICA!G1228","v":0},{"$f":"DINAMICA!H1228","v":0},{"$f":"DINAMICA!I1228","v":0},{"$f":"DINAMICA!J1228","v":0},{"$f":"DINAMICA!K1228","v":0},{"$f":"VALUE(DINAMICA!$L1228)","v":0},{"$f":"VALUE(DINAMICA!$M1228)","v":0},{"$f":"VALUE(DINAMICA!$N1228)","v":0},{"$f":"VALUE(DINAMICA!$O1228)","v":0},{"$f":"VALUE(DINAMICA!$P1228)","v":0},{"$f":"VALUE(DINAMICA!$Q1228)","v":0},{"$f":"VALUE(DINAMICA!$R1228)","v":0}]
[{"$f":"VALUE(DINAMICA!$A1229)","v":0},{"$f":"VALUE(DINAMICA!$B1229)","v":"00:00:00"},{"$f":"VALUE(DINAMICA!$C1229)","v":0},{"$f":"DINAMICA!D1229","v":0},{"$f":"DINAMICA!E1229","v":0},{"$f":"DINAMICA!F1229","v":0},{"$f":"DINAMICA!G1229","v":0},{"$f":"DINAMICA!H1229","v":0},{"$f":"DINAMICA!I1229","v":0},{"$f":"DINAMICA!J1229","v":0},{"$f":"DINAMICA!K1229","v":0},{"$f":"VALUE(DINAMICA!$L1229)","v":0},{"$f":"VALUE(DINAMICA!$M1229)","v":0},{"$f":"VALUE(DINAMICA!$N1229)","v":0},{"$f":"VALUE(DINAMICA!$O1229)","v":0},{"$f":"VALUE(DINAMICA!$P1229)","v":0},{"$f":"VALUE(DINAMICA!$Q1229)","v":0},{"$f":"VALUE(DINAMICA!$R1229)","v":0}]
[{"$f":"VALUE(DINAMICA!$A1230)","v":0},{"$f":"VALUE(DINAMICA!$B1230)","v":"00:00:00"},{"$f":"VALUE(DINAMICA!$C1230)","v":0},{"$f":"DINAMICA!D1230","v":0},{"$f":"DINAMICA!E1230","v":0},{"$f":"DINAMICA!F1230","v":0},{"$f":"DINAMICA!G1230","v":0},{"$f":"DINAMICA!H1230","v":0},{"$f":"DINAMICA!I1230","v":0},{"$f":"DINAMICA!J1230","v":0},{"$f":"DINAMICA!K1230","v":0},{"$f":"VALUE(DINAMICA!$L1230)","v":0},{"$f":"VALUE(DINAMICA!$M1230)","v":0},{"$f":"VALUE(DINAMICA!$N1230)","v":0},{"$f":"VALUE(DINAMICA!$O1230)","v":0},{"$f":"VALUE(DINAMICA!$P1230)","v":0},{"$f":"VALUE(DINAMICA!$Q1230)","v":0},{"$f":"VALUE(DINAMICA!$R1230)","v":0}]
[{"$f":"VALUE(DINAMICA!$A1231)","v":0},{"$f":"VALUE(DINAMICA!$B1231)","v":"00:00:00"},{"$f":"VALUE(DINAMICA!$C1231)","v":0},{"$f":"DINAMICA!D1231","v":0},{"$f":"DINAMICA!E1231","v":0},{"$f":"DINAMICA!F1231","v":0},{"$f":"DINAMICA!G1231","v":0},{"$f":"DINAMICA!H1231","v":0},{"$f":"DINAMICA!I1231","v":0},{"$f":"DINAMICA!J1231","v":0},{"$f":"DINAMICA!K1231","v":0},{"$f":"VALUE(DINAMICA!$L1231)","v":0},{"$f":"VALUE(DINAMICA!$M1231)","v":0},{"$f":"VALUE(DINAMICA!$N1231)","v":0},{"$f":"VALUE(DINAMICA!$O1231)","v":0},{"$f":"VALUE(DINAMICA!$P1231)","v":0},{"$f":"VALUE(DINAMICA!$Q1231)","v":0},{"$f":"VALUE(DINAMICA!$R1231)","v":0}]
[{"$f":"VALUE(DINAMICA!$A1232)","v":0},{"$f":"VALUE(DINAMICA!$B1232)","v":"00:00:00"},{"$f":"VALUE(DINAMICA!$C1232)","v":0},{"$f":"DINAMICA!D1232","v":0},{"$f":"DINAMICA!E1232","v":0},{"$f":"DINAMICA!F1232","v":0},{"$f":"DINAMICA!G1232","v":0},{"$f":"DINAMICA!H1232","v":0},{"$f":"DINAMICA!I1232","v":0},{"$f":"DINAMICA!J1232","v":0},{"$f":"DINAMICA!K1232","v":0},{"$f":"VALUE(DINAMICA!$L1232)","v":0},{"$f":"VALUE(DINAMICA!$M1232)","v":0},{"$f":"VALUE(DINAMICA!$N1232)","v":0},{"$f":"VALUE(DINAMICA!$O1232)","v":0},{"$f":"VALUE(DINAMICA!$P1232)","v":0},{"$f":"VALUE(DINAMICA!$Q1232)","v":0},{"$f":"VALUE(DINAMICA!$R1232)","v":0}]
[{"$f":"VALUE(DINAMICA!$A1233)","v":0},{"$f":"VALUE(DINAMICA!$B1233)","v":"00:00:00"},{"$f":"VALUE(DINAMICA!$C1233)","v":0},{"$f":"DINAMICA!D1233","v":0},{"$f":"DINAMICA!E1233","v":0},{"$f":"DINAMICA!F1233","v":0},{"$f":"DINAMICA!G1233","v":0},{"$f":"DINAMICA!H1233","v":0},{"$f":"DINAMICA!I1233","v":0},{"$f":"DINAMICA!J1233","v":0},{"$f":"DINAMICA!K1233","v":0},{"$f":"VALUE(DINAMICA!$L1233)","v":0},{"$f":"VALUE(DINAMICA!$M1233)","v":0},{"$f":"VALUE(DINAMICA!$N1233)","v":0},{"$f":"VALUE(DINAMICA!$O1233)","v":0},{"$f":"VALUE(DINAMICA!$P1233)","v":0},{"$f":"VALUE(DINAMICA!$Q1233)","v":0},{"$f":"VALUE(DINAMICA!$R1233)","v":0}]
[{"$f":"VALUE(DINAMICA!$A1234)","v":0},{"$f":"VALUE(DINAMICA!$B1234)","v":"00:00:00"},{"$f":"VALUE(DINAMICA!$C1234)","v":0},{"$f":"DINAMICA!D1234","v":0},{"$f":"DINAMICA!E1234","v":0},{"$f":"DINAMICA!F1234","v":0},{"$f":"DINAMICA!G1234","v":0},{"$f":"DINAMICA!H1234","v":0},{"$f":"DINAMICA!I1234","v":0},{"$f":"DINAMICA!J1234","v":0},{"$f":"DINAMICA!K1234","v":0},{"$f":"VALUE(DINAMICA!$L1234)","v":0},{"$f":"VALUE(DINAMICA!$M1234)","v":0},{"$f":"VALUE(DINAMICA!$N1234)","v":0},{"$f":"VALUE(DINAMICA!$O1234)","v":0},{"$f":"VALUE(DINAMICA!$P1234)","v":0},{"$f":"VALUE(DINAMICA!$Q1234)","v":0},{"$f":"VALUE(DINAMICA!$R1234)","v":0}]
[{"$f":"VALUE(DINAMICA!$A1235)","v":0},{"$f":"VALUE(DINAMICA!$B1235)","v":"00:00:00"},{"$f":"VALUE(DINAMICA!$C1235)","v":0},{"$f":"DINAMICA!D1235","v":0},{"$f":"DINAMICA!E1235","v":0},{"$f":"DINAMICA!F1235","v":0},{"$f":"DINAMICA!G1235","v":0},{"$f":"DINAMICA!H1235","v":0},{"$f":"DINAMICA!I1235","v":0},{"$f":"DINAMICA!J1235","v":0},{"$f":"DINAMICA!K1235","v":0},{"$f":"VALUE(DINAMICA!$L1235)","v":0},{"$f":"VALUE(DINAMICA!$M1235)","v":0},{"$f":"VALUE(DINAMICA!$N1235)","v":0},{"$f":"VALUE(DINAMICA!$O1235)","v":0},{"$f":"VALUE(DINAMICA!$P1235)","v":0},{"$f":"VALUE(DINAMICA!$Q1235)","v":0},{"$f":"VALUE(DINAMICA!$R1235)","v":0}]
[{"$f":"VALUE(DINAMICA!$A1236)","v":0},{"$f":"VALUE(DINAMICA!$B1236)","v":"00:00:00"},{"$f":"VALUE(DINAMICA!$C1236)","v":0},{"$f":"DINAMICA!D1236","v":0},{"$f":"DINAMICA!E1236","v":0},{"$f":"DINAMICA!F1236","v":0},{"$f":"DINAMICA!G1236","v":0},{"$f":"DINAMICA!H1236","v":0},{"$f":"DINAMICA!I1236","v":0},{"$f":"DINAMICA!J1236","v":0},{"$f":"DINAMICA!K1236","v":0},{"$f":"VALUE(DINAMICA!$L1236)","v":0},{"$f":"VALUE(DINAMICA!$M1236)","v":0},{"$f":"VALUE(DINAMICA!$N1236)","v":0},{"$f":"VALUE(DINAMICA!$O1236)","v":0},{"$f":"VALUE(DINAMICA!$P1236)","v":0},{"$f":"VALUE(DINAMICA!$Q1236)","v":0},{"$f":"VALUE(DINAMICA!$R1236)","v":0}]
[{"$f":"VALUE(DINAMICA!$A1237)","v":0},{"$f":"VALUE(DINAMICA!$B1237)","v":"00:00:00"},{"$f":"VALUE(DINAMICA!$C1237)","v":0},{"$f":"DINAMICA!D1237","v":0},{"$f":"DINAMICA!E1237","v":0},{"$f":"DINAMICA!F1237","v":0},{"$f":"DINAMICA!G1237","v":0},{"$f":"DINAMICA!H1237","v":0},{"$f":"DINAMICA!I1237","v":0},{"$f":"DINAMICA!J1237","v":0},{"$f":"DINAMICA!K1237","v":0},{"$f":"VALUE(DINAMICA!$L1237)","v":0},{"$f":"VALUE(DINAMICA!$M1237)","v":0},{"$f":"VALUE(DINAMICA!$N1237)","v":0},{"$f":"VALUE(DINAMICA!$O1237)","v":0},{"$f":"VALUE(DINAMICA!$P1237)","v":0},{"$f":"VALUE(DINAMICA!$Q1237)","v":0},{"$f":"VALUE(DINAMICA!$R1237)","v":0}]
[{"$f":"VALUE(DINAMICA!$A1238)","v":0},{"$f":"VALUE(DINAMICA!$B1238)","v":"00:00:00"},{"$f":"VALUE(DINAMICA!$C1238)","v":0},{"$f":"DINAMICA!D1238","v":0},{"$f":"DINAMICA!E1238","v":0},{"$f":"DINAMICA!F1238","v":0},{"$f":"DINAMICA!G1238","v":0},{"$f":"DINAMICA!H1238","v":0},{"$f":"DINAMICA!I1238","v":0},{"$f":"DINAMICA!J1238","v":0},{"$f":"DINAMICA!K1238","v":0},{"$f":"VALUE(DINAMICA!$L1238)","v":0},{"$f":"VALUE(DINAMICA!$M1238)","v":0},{"$f":"VALUE(DINAMICA!$N1238)","v":0},{"$f":"VALUE(DINAMICA!$O1238)","v":0},{"$f":"VALUE(DINAMICA!$P1238)","v":0},{"$f":"VALUE(DINAMICA!$Q1238)","v":0},{"$f":"VALUE(DINAMICA!$R1238)","v":0}]
[{"$f":"VALUE(DINAMICA!$A1239)","v":0},{"$f":"VALUE(DINAMICA!$B1239)","v":"00:00:00"},{"$f":"VALUE(DINAMICA!$C1239)","v":0},{"$f":"DINAMICA!D1239","v":0},{"$f":"DINAMICA!E1239","v":0},{"$f":"DINAMICA!F1239","v":0},{"$f":"DINAMICA!G1239","v":0},{"$f":"DINAMICA!H1239","v":0},{"$f":"DINAMICA!I1239","v":0},{"$f":"DINAMICA!J1239","v":0},{"$f":"DINAMICA!K1239","v":0},{"$f":"VALUE(DINAMICA!$L1239)","v":0},{"$f":"VALUE(DINAMICA!$M1239)","v":0},{"$f":"VALUE(DINAMICA!$N1239)","v":0},{"$f":"VALUE(DINAMICA!$O1239)","v":0},{"$f":"VALUE(DINAMICA!$P1239)","v":0},{"$f":"VALUE(DINAMICA!$Q1239)","v":0},{"$f":"VALUE(DINAMICA!$R1239)","v":0}]
[{"$f":"VALUE(DINAMICA!$A1240)","v":0},{"$f":"VALUE(DINAMICA!$B1240)","v":"00:00:00"},{"$f":"VALUE(DINAMICA!$C1240)","v":0},{"$f":"DINAMICA!D1240","v":0},{"$f":"DINAMICA!E1240","v":0},{"$f":"DINAMICA!F1240","v":0},{"$f":"DINAMICA!G1240","v":0},{"$f":"DINAMICA!H1240","v":0},{"$f":"DINAMICA!I1240","v":0},{"$f":"DINAMICA!J1240","v":0},{"$f":"DINAMICA!K1240","v":0},{"$f":"VALUE(DINAMICA!$L1240)","v":0},{"$f":"VALUE(DINAMICA!$M1240)","v":0},{"$f":"VALUE(DINAMICA!$N1240)","v":0},{"$f":"VALUE(DINAMICA!$O1240)","v":0},{"$f":"VALUE(DINAMICA!$P1240)","v":0},{"$f":"VALUE(DINAMICA!$Q1240)","v":0},{"$f":"VALUE(DINAMICA!$R1240)","v":0}]
[{"$f":"VALUE(DINAMICA!$A1241)","v":0},{"$f":"VALUE(DINAMICA!$B1241)","v":"00:00:00"},{"$f":"VALUE(DINAMICA!$C1241)","v":0},{"$f":"DINAMICA!D1241","v":0},{"$f":"DINAMICA!E1241","v":0},{"$f":"DINAMICA!F1241","v":0},{"$f":"DINAMICA!G1241","v":0},{"$f":"DINAMICA!H1241","v":0},{"$f":"DINAMICA!I1241","v":0},{"$f":"DINAMICA!J1241","v":0},{"$f":"DINAMICA!K1241","v":0},{"$f":"VALUE(DINAMICA!$L1241)","v":0},{"$f":"VALUE(DINAMICA!$M1241)","v":0},{"$f":"VALUE(DINAMICA!$N1241)","v":0},{"$f":"VALUE(DINAMICA!$O1241)","v":0},{"$f":"VALUE(DINAMICA!$P1241)","v":0},{"$f":"VALUE(DINAMICA!$Q1241)","v":0},{"$f":"VALUE(DINAMICA!$R1241)","v":0}]
[{"$f":"VALUE(DINAMICA!$A1242)","v":0},{"$f":"VALUE(DINAMICA!$B1242)","v":"00:00:00"},{"$f":"VALUE(DINAMICA!$C1242)","v":0},{"$f":"DINAMICA!D1242","v":0},{"$f":"DINAMICA!E1242","v":0},{"$f":"DINAMICA!F1242","v":0},{"$f":"DINAMICA!G1242","v":0},{"$f":"DINAMICA!H1242","v":0},{"$f":"DINAMICA!I1242","v":0},{"$f":"DINAMICA!J1242","v":0},{"$f":"DINAMICA!K1242","v":0},{"$f":"VALUE(DINAMICA!$L1242)","v":0},{"$f":"VALUE(DINAMICA!$M1242)","v":0},{"$f":"VALUE(DINAMICA!$N1242)","v":0},{"$f":"VALUE(DINAMICA!$O1242)","v":0},{"$f":"VALUE(DINAMICA!$P1242)","v":0},{"$f":"VALUE(DINAMICA!$Q1242)","v":0},{"$f":"VALUE(DINAMICA!$R1242)","v":0}]
[{"$f":"VALUE(DINAMICA!$A1243)","v":0},{"$f":"VALUE(DINAMICA!$B1243)","v":"00:00:00"},{"$f":"VALUE(DINAMICA!$C1243)","v":0},{"$f":"DINAMICA!D1243","v":0},{"$f":"DINAMICA!E1243","v":0},{"$f":"DINAMICA!F1243","v":0},{"$f":"DINAMICA!G1243","v":0},{"$f":"DINAMICA!H1243","v":0},{"$f":"DINAMICA!I1243","v":0},{"$f":"DINAMICA!J1243","v":0},{"$f":"DINAMICA!K1243","v":0},{"$f":"VALUE(DINAMICA!$L1243)","v":0},{"$f":"VALUE(DINAMICA!$M1243)","v":0},{"$f":"VALUE(DINAMICA!$N1243)","v":0},{"$f":"VALUE(DINAMICA!$O1243)","v":0},{"$f":"VALUE(DINAMICA!$P1243)","v":0},{"$f":"VALUE(DINAMICA!$Q1243)","v":0},{"$f":"VALUE(DINAMICA!$R1243)","v":0}]
[{"$f":"VALUE(DINAMICA!$A1244)","v":0},{"$f":"VALUE(DINAMICA!$B1244)","v":"00:00:00"},{"$f":"VALUE(DINAMICA!$C1244)","v":0},{"$f":"DINAMICA!D1244","v":0},{"$f":"DINAMICA!E1244","v":0},{"$f":"DINAMICA!F1244","v":0},{"$f":"DINAMICA!G1244","v":0},{"$f":"DINAMICA!H1244","v":0},{"$f":"DINAMICA!I1244","v":0},{"$f":"DINAMICA!J1244","v":0},{"$f":"DINAMICA!K1244","v":0},{"$f":"VALUE(DINAMICA!$L1244)","v":0},{"$f":"VALUE(DINAMICA!$M1244)","v":0},{"$f":"VALUE(DINAMICA!$N1244)","v":0},{"$f":"VALUE(DINAMICA!$O1244)","v":0},{"$f":"VALUE(DINAMICA!$P1244)","v":0},{"$f":"VALUE(DINAMICA!$Q1244)","v":0},{"$f":"VALUE(DINAMICA!$R1244)","v":0}]
[{"$f":"VALUE(DINAMICA!$A1245)","v":0},{"$f":"VALUE(DINAMICA!$B1245)","v":"00:00:00"},{"$f":"VALUE(DINAMICA!$C1245)","v":0},{"$f":"DINAMICA!D1245","v":0},{"$f":"DINAMICA!E1245","v":0},{"$f":"DINAMICA!F1245","v":0},{"$f":"DINAMICA!G1245","v":0},{"$f":"DINAMICA!H1245","v":0},{"$f":"DINAMICA!I1245","v":0},{"$f":"DINAMICA!J1245","v":0},{"$f":"DINAMICA!K1245","v":0},{"$f":"VALUE(DINAMICA!$L1245)","v":0},{"$f":"VALUE(DINAMICA!$M1245)","v":0},{"$f":"VALUE(DINAMICA!$N1245)","v":0},{"$f":"VALUE(DINAMICA!$O1245)","v":0},{"$f":"VALUE(DINAMICA!$P1245)","v":0},{"$f":"VALUE(DINAMICA!$Q1245)","v":0},{"$f":"VALUE(DINAMICA!$R1245)","v":0}]
[{"$f":"VALUE(DINAMICA!$A1246)","v":0},{"$f":"VALUE(DINAMICA!$B1246)","v":"00:00:00"},{"$f":"VALUE(DINAMICA!$C1246)","v":0},{"$f":"DINAMICA!D1246","v":0},{"$f":"DINAMICA!E1246","v":0},{"$f":"DINAMICA!F1246","v":0},{"$f":"DINAMICA!G1246","v":0},{"$f":"DINAMICA!H1246","v":0},{"$f":"DINAMICA!I1246","v":0},{"$f":"DINAMICA!J1246","v":0},{"$f":"DINAMICA!K1246","v":0},{"$f":"VALUE(DINAMICA!$L1246)","v":0},{"$f":"VALUE(DINAMICA!$M1246)","v":0},{"$f":"VALUE(DINAMICA!$N1246)","v":0},{"$f":"VALUE(DINAMICA!$O1246)","v":0},{"$f":"VALUE(DINAMICA!$P1246)","v":0},{"$f":"VALUE(DINAMICA!$Q1246)","v":0},{"$f":"VALUE(DINAMICA!$R1246)","v":0}]
[{"$f":"VALUE(DINAMICA!$A1247)","v":0},{"$f":"VALUE(DINAMICA!$B1247)","v":"00:00:00"},{"$f":"VALUE(DINAMICA!$C1247)","v":0},{"$f":"DINAMICA!D1247","v":0},{"$f":"DINAMICA!E1247","v":0},{"$f":"DINAMICA!F1247","v":0},{"$f":"DINAMICA!G1247","v":0},{"$f":"DINAMICA!H1247","v":0},{"$f":"DINAMICA!I1247","v":0},{"$f":"DINAMICA!J1247","v":0},{"$f":"DINAMICA!K1247","v":0},{"$f":"VALUE(DINAMICA!$L1247)","v":0},{"$f":"VALUE(DINAMICA!$M1247)","v":0},{"$f":"VALUE(DINAMICA!$N1247)","v":0},{"$f":"VALUE(DINAMICA!$O1247)","v":0},{"$f":"VALUE(DINAMICA!$P1247)","v":0},{"$f":"VALUE(DINAMICA!$Q1247)","v":0},{"$f":"VALUE(DINAMICA!$R1247)","v":0}]
[{"$f":"VALUE(DINAMICA!$A1248)","v":0},{"$f":"VALUE(DINAMICA!$B1248)","v":"00:00:00"},{"$f":"VALUE(DINAMICA!$C1248)","v":0},{"$f":"DINAMICA!D1248","v":0},{"$f":"DINAMICA!E1248","v":0},{"$f":"DINAMICA!F1248","v":0},{"$f":"DINAMICA!G1248","v":0},{"$f":"DINAMICA!H1248","v":0},{"$f":"DINAMICA!I1248","v":0},{"$f":"DINAMICA!J1248","v":0},{"$f":"DINAMICA!K1248","v":0},{"$f":"VALUE(DINAMICA!$L1248)","v":0},{"$f":"VALUE(DINAMICA!$M1248)","v":0},{"$f":"VALUE(DINAMICA!$N1248)","v":0},{"$f":"VALUE(DINAMICA!$O1248)","v":0},{"$f":"VALUE(DINAMICA!$P1248)","v":0},{"$f":"VALUE(DINAMICA!$Q1248)","v":0},{"$f":"VALUE(DINAMICA!$R1248)","v":0}]
[{"$f":"VALUE(DINAMICA!$A1249)","v":0},{"$f":"VALUE(DINAMICA!$B1249)","v":"00:00:00"},{"$f":"VALUE(DINAMICA!$C1249)","v":0},{"$f":"DINAMICA!D1249","v":0},{"$f":"DINAMICA!E1249","v":0},{"$f":"DINAMICA!F1249","v":0},{"$f":"DINAMICA!G1249","v":0},{"$f":"DINAMICA!H1249","v":0},{"$f":"DINAMICA!I1249","v":0},{"$f":"DINAMICA!J1249","v":0},{"$f":"DINAMICA!K1249","v":0},{"$f":"VALUE(DINAMICA!$L1249)","v":0},{"$f":"VALUE(DINAMICA!$M1249)","v":0},{"$f":"VALUE(DINAMICA!$N1249)","v":0},{"$f":"VALUE(DINAMICA!$O1249)","v":0},{"$f":"VALUE(DINAMICA!$P1249)","v":0},{"$f":"VALUE(DINAMICA!$Q1249)","v":0},{"$f":"VALUE(DINAMICA!$R1249)","v":0}]
[{"$f":"VALUE(DINAMICA!$A1250)","v":0},{"$f":"VALUE(DINAMICA!$B1250)","v":"00:00:00"},{"$f":"VALUE(DINAMICA!$C1250)","v":0},{"$f":"DINAMICA!D1250","v":0},{"$f":"DINAMICA!E1250","v":0},{"$f":"DINAMICA!F1250","v":0},{"$f":"DINAMICA!G1250","v":0},{"$f":"DINAMICA!H1250","v":0},{"$f":"DINAMICA!I1250","v":0},{"$f":"DINAMICA!J1250","v":0},{"$f":"DINAMICA!K1250","v":0},{"$f":"VALUE(DINAMICA!$L1250)","v":0},{"$f":"VALUE(DINAMICA!$M1250)","v":0},{"$f":"VALUE(DINAMICA!$N1250)","v":0},{"$f":"VALUE(DINAMICA!$O1250)","v":0},{"$f":"VALUE(DINAMICA!$P1250)","v":0},{"$f":"VALUE(DINAMICA!$Q1250)","v":0},{"$f":"VALUE(DINAMICA!$R1250)","v":0}]
[{"$f":"VALUE(DINAMICA!$A1251)","v":0},{"$f":"VALUE(DINAMICA!$B1251)","v":"00:00:00"},{"$f":"VALUE(DINAMICA!$C1251)","v":0},{"$f":"DINAMICA!D1251","v":0},{"$f":"DINAMICA!E1251","v":0},{"$f":"DINAMICA!F1251","v":0},{"$f":"DINAMICA!G1251","v":0},{"$f":"DINAMICA!H1251","v":0},{"$f":"DINAMICA!I1251","v":0},{"$f":"DINAMICA!J1251","v":0},{"$f":"DINAMICA!K1251","v":0},{"$f":"VALUE(DINAMICA!$L1251)","v":0},{"$f":"VALUE(DINAMICA!$M1251)","v":0},{"$f":"VALUE(DINAMICA!$N1251)","v":0},{"$f":"VALUE(DINAMICA!$O1251)","v":0},{"$f":"VALUE(DINAMICA!$P1251)","v":0},{"$f":"VALUE(DINAMICA!$Q1251)","v":0},{"$f":"VALUE(DINAMICA!$R1251)","v":0}]
[{"$f":"VALUE(DINAMICA!$A1252)","v":0},{"$f":"VALUE(DINAMICA!$B1252)","v":"00:00:00"},{"$f":"VALUE(DINAMICA!$C1252)","v":0},{"$f":"DINAMICA!D1252","v":0},{"$f":"DINAMICA!E1252","v":0},{"$f":"DINAMICA!F1252","v":0},{"$f":"DINAMICA!G1252","v":0},{"$f":"DINAMICA!H1252","v":0},{"$f":"DINAMICA!I1252","v":0},{"$f":"DINAMICA!J1252","v":0},{"$f":"DINAMICA!K1252","v":0},{"$f":"VALUE(DINAMICA!$L1252)","v":0},{"$f":"VALUE(DINAMICA!$M1252)","v":0},{"$f":"VALUE(DINAMICA!$N1252)","v":0},{"$f":"VALUE(DINAMICA!$O1252)","v":0},{"$f":"VALUE(DINAMICA!$P1252)","v":0},{"$f":"VALUE(DINAMICA!$Q1252)","v":0},{"$f":"VALUE(DINAMICA!$R1252)","v":0}]
[{"$f":"VALUE(DINAMICA!$A1253)","v":0},{"$f":"VALUE(DINAMICA!$B1253)","v":"00:00:00"},{"$f":"VALUE(DINAMICA!$C1253)","v":0},{"$f":"DINAMICA!D1253","v":0},{"$f":"DINAMICA!E1253","v":0},{"$f":"DINAMICA!F1253","v":0},{"$f":"DINAMICA!G1253","v":0},{"$f":"DINAMICA!H1253","v":0},{"$f":"DINAMICA!I1253","v":0},{"$f":"DINAMICA!J1253","v":0},{"$f":"DINAMICA!K1253","v":0},{"$f":"VALUE(DINAMICA!$L1253)","v":0},{"$f":"VALUE(DINAMICA!$M1253)","v":0},{"$f":"VALUE(DINAMICA!$N1253)","v":0},{"$f":"VALUE(DINAMICA!$O1253)","v":0},{"$f":"VALUE(DINAMICA!$P1253)","v":0},{"$f":"VALUE(DINAMICA!$Q1253)","v":0},{"$f":"VALUE(DINAMICA!$R1253)","v":0}]
[{"$f":"VALUE(DINAMICA!$A1254)","v":0},{"$f":"VALUE(DINAMICA!$B1254)","v":"00:00:00"},{"$f":"VALUE(DINAMICA!$C1254)","v":0},{"$f":"DINAMICA!D1254","v":0},{"$f":"DINAMICA!E1254","v":0},{"$f":"DINAMICA!F1254","v":0},{"$f":"DINAMICA!G1254","v":0},{"$f":"DINAMICA!H1254","v":0},{"$f":"DINAMICA!I1254","v":0},{"$f":"DINAMICA!J1254","v":0},{"$f":"DINAMICA!K1254","v":0},{"$f":"VALUE(DINAMICA!$L1254)","v":0},{"$f":"VALUE(DINAMICA!$M1254)","v":0},{"$f":"VALUE(DINAMICA!$N1254)","v":0},{"$f":"VALUE(DINAMICA!$O1254)","v":0},{"$f":"VALUE(DINAMICA!$P1254)","v":0},{"$f":"VALUE(DINAMICA!$Q1254)","v":0},{"$f":"VALUE(DINAMICA!$R1254)","v":0}]
[{"$f":"VALUE(DINAMICA!$A1255)","v":0},{"$f":"VALUE(DINAMICA!$B1255)","v":"00:00:00"},{"$f":"VALUE(DINAMICA!$C1255)","v":0},{"$f":"DINAMICA!D1255","v":0},{"$f":"DINAMICA!E1255","v":0},{"$f":"DINAMICA!F1255","v":0},{"$f":"DINAMICA!G1255","v":0},{"$f":"DINAMICA!H1255","v":0},{"$f":"DINAMICA!I1255","v":0},{"$f":"DINAMICA!J1255","v":0},{"$f":"DINAMICA!K1255","v":0},{"$f":"VALUE(DINAMICA!$L1255)","v":0},{"$f":"VALUE(DINAMICA!$M1255)","v":0},{"$f":"VALUE(DINAMICA!$N1255)","v":0},{"$f":"VALUE(DINAMICA!$O1255)","v":0},{"$f":"VALUE(DINAMICA!$P1255)","v":0},{"$f":"VALUE(DINAMICA!$Q1255)","v":0},{"$f":"VALUE(DINAMICA!$R1255)","v":0}]
[{"$f":"VALUE(DINAMICA!$A1256)","v":0},{"$f":"VALUE(DINAMICA!$B1256)","v":"00:00:00"},{"$f":"VALUE(DINAMICA!$C1256)","v":0},{"$f":"DINAMICA!D1256","v":0},{"$f":"DINAMICA!E1256","v":0},{"$f":"DINAMICA!F1256","v":0},{"$f":"DINAMICA!G1256","v":0},{"$f":"DINAMICA!H1256","v":0},{"$f":"DINAMICA!I1256","v":0},{"$f":"DINAMICA!J1256","v":0},{"$f":"DINAMICA!K1256","v":0},{"$f":"VALUE(DINAMICA!$L1256)","v":0},{"$f":"VALUE(DINAMICA!$M1256)","v":0},{"$f":"VALUE(DINAMICA!$N1256)","v":0},{"$f":"VALUE(DINAMICA!$O1256)","v":0},{"$f":"VALUE(DINAMICA!$P1256)","v":0},{"$f":"VALUE(DINAMICA!$Q1256)","v":0},{"$f":"VALUE(DINAMICA!$R1256)","v":0}]
[{"$f":"VALUE(DINAMICA!$A1257)","v":0},{"$f":"VALUE(DINAMICA!$B1257)","v":"00:00:00"},{"$f":"VALUE(DINAMICA!$C1257)","v":0},{"$f":"DINAMICA!D1257","v":0},{"$f":"DINAMICA!E1257","v":0},{"$f":"DINAMICA!F1257","v":0},{"$f":"DINAMICA!G1257","v":0},{"$f":"DINAMICA!H1257","v":0},{"$f":"DINAMICA!I1257","v":0},{"$f":"DINAMICA!J1257","v":0},{"$f":"DINAMICA!K1257","v":0},{"$f":"VALUE(DINAMICA!$L1257)","v":0},{"$f":"VALUE(DINAMICA!$M1257)","v":0},{"$f":"VALUE(DINAMICA!$N1257)","v":0},{"$f":"VALUE(DINAMICA!$O1257)","v":0},{"$f":"VALUE(DINAMICA!$P1257)","v":0},{"$f":"VALUE(DINAMICA!$Q1257)","v":0},{"$f":"VALUE(DINAMICA!$R1257)","v":0}]
[{"$f":"VALUE(DINAMICA!$A1258)","v":0},{"$f":"VALUE(DINAMICA!$B1258)","v":"00:00:00"},{"$f":"VALUE(DINAMICA!$C1258)","v":0},{"$f":"DINAMICA!D1258","v":0},{"$f":"DINAMICA!E1258","v":0},{"$f":"DINAMICA!F1258","v":0},{"$f":"DINAMICA!G1258","v":0},{"$f":"DINAMICA!H1258","v":0},{"$f":"DINAMICA!I1258","v":0},{"$f":"DINAMICA!J1258","v":0},{"$f":"DINAMICA!K1258","v":0},{"$f":"VALUE(DINAMICA!$L1258)","v":0},{"$f":"VALUE(DINAMICA!$M1258)","v":0},{"$f":"VALUE(DINAMICA!$N1258)","v":0},{"$f":"VALUE(DINAMICA!$O1258)","v":0},{"$f":"VALUE(DINAMICA!$P1258)","v":0},{"$f":"VALUE(DINAMICA!$Q1258)","v":0},{"$f":"VALUE(DINAMICA!$R1258)","v":0}]
[{"$f":"VALUE(DINAMICA!$A1259)","v":0},{"$f":"VALUE(DINAMICA!$B1259)","v":"00:00:00"},{"$f":"VALUE(DINAMICA!$C1259)","v":0},{"$f":"DINAMICA!D1259","v":0},{"$f":"DINAMICA!E1259","v":0},{"$f":"DINAMICA!F1259","v":0},{"$f":"DINAMICA!G1259","v":0},{"$f":"DINAMICA!H1259","v":0},{"$f":"DINAMICA!I1259","v":0},{"$f":"DINAMICA!J1259","v":0},{"$f":"DINAMICA!K1259","v":0},{"$f":"VALUE(DINAMICA!$L1259)","v":0},{"$f":"VALUE(DINAMICA!$M1259)","v":0},{"$f":"VALUE(DINAMICA!$N1259)","v":0},{"$f":"VALUE(DINAMICA!$O1259)","v":0},{"$f":"VALUE(DINAMICA!$P1259)","v":0},{"$f":"VALUE(DINAMICA!$Q1259)","v":0},{"$f":"VALUE(DINAMICA!$R1259)","v":0}]
[{"$f":"VALUE(DINAMICA!$A1260)","v":0},{"$f":"VALUE(DINAMICA!$B1260)","v":"00:00:00"},{"$f":"VALUE(DINAMICA!$C1260)","v":0},{"$f":"DINAMICA!D1260","v":0},{"$f":"DINAMICA!E1260","v":0},{"$f":"DINAMICA!F1260","v":0},{"$f":"DINAMICA!G1260","v":0},{"$f":"DINAMICA!H1260","v":0},{"$f":"DINAMICA!I1260","v":0},{"$f":"DINAMICA!J1260","v":0},{"$f":"DINAMICA!K1260","v":0},{"$f":"VALUE(DINAMICA!$L1260)","v":0},{"$f":"VALUE(DINAMICA!$M1260)","v":0},{"$f":"VALUE(DINAMICA!$N1260)","v":0},{"$f":"VALUE(DINAMICA!$O1260)","v":0},{"$f":"VALUE(DINAMICA!$P1260)","v":0},{"$f":"VALUE(DINAMICA!$Q1260)","v":0},{"$f":"VALUE(DINAMICA!$R1260)","v":0}]
[{"$f":"VALUE(DINAMICA!$A1261)","v":0},{"$f":"VALUE(DINAMICA!$B1261)","v":"00:00:00"},{"$f":"VALUE(DINAMICA!$C1261)","v":0},{"$f":"DINAMICA!D1261","v":0},{"$f":"DINAMICA!E1261","v":0},{"$f":"DINAMICA!F1261","v":0},{"$f":"DINAMICA!G1261","v":0},{"$f":"DINAMICA!H1261","v":0},{"$f":"DINAMICA!I1261","v":0},{"$f":"DINAMICA!J1261","v":0},{"$f":"DINAMICA!K1261","v":0},{"$f":"VALUE(DINAMICA!$L1261)","v":0},{"$f":"VALUE(DINAMICA!$M1261)","v":0},{"$f":"VALUE(DINAMICA!$N1261)","v":0},{"$f":"VALUE(DINAMICA!$O1261)","v":0},{"$f":"VALUE(DINAMICA!$P1261)","v":0},{"$f":"VALUE(DINAMICA!$Q1261)","v":0},{"$f":"VALUE(DINAMICA!$R1261)","v":0}]
[{"$f":"VALUE(DINAMICA!$A1262)","v":0},{"$f":"VALUE(DINAMICA!$B1262)","v":"00:00:00"},{"$f":"VALUE(DINAMICA!$C1262)","v":0},{"$f":"DINAMICA!D1262","v":0},{"$f":"DINAMICA!E1262","v":0},{"$f":"DINAMICA!F1262","v":0},{"$f":"DINAMICA!G1262","v":0},{"$f":"DINAMICA!H1262","v":0},{"$f":"DINAMICA!I1262","v":0},{"$f":"DINAMICA!J1262","v":0},{"$f":"DINAMICA!K1262","v":0},{"$f":"VALUE(DINAMICA!$L1262)","v":0},{"$f":"VALUE(DINAMICA!$M1262)","v":0},{"$f":"VALUE(DINAMICA!$N1262)","v":0},{"$f":"VALUE(DINAMICA!$O1262)","v":0},{"$f":"VALUE(DINAMICA!$P1262)","v":0},{"$f":"VALUE(DINAMICA!$Q1262)","v":0},{"$f":"VALUE(DINAMICA!$R1262)","v":0}]
[{"$f":"VALUE(DINAMICA!$A1263)","v":0},{"$f":"VALUE(DINAMICA!$B1263)","v":"00:00:00"},{"$f":"VALUE(DINAMICA!$C1263)","v":0},{"$f":"DINAMICA!D1263","v":0},{"$f":"DINAMICA!E1263","v":0},{"$f":"DINAMICA!F1263","v":0},{"$f":"DINAMICA!G1263","v":0},{"$f":"DINAMICA!H1263","v":0},{"$f":"DINAMICA!I1263","v":0},{"$f":"DINAMICA!J1263","v":0},{"$f":"DINAMICA!K1263","v":0},{"$f":"VALUE(DINAMICA!$L1263)","v":0},{"$f":"VALUE(DINAMICA!$M1263)","v":0},{"$f":"VALUE(DINAMICA!$N1263)","v":0},{"$f":"VALUE(DINAMICA!$O1263)","v":0},{"$f":"VALUE(DINAMICA!$P1263)","v":0},{"$f":"VALUE(DINAMICA!$Q1263)","v":0},{"$f":"VALUE(DINAMICA!$R1263)","v":0}]
[{"$f":"VALUE(DINAMICA!$A1264)","v":0},{"$f":"VALUE(DINAMICA!$B1264)","v":"00:00:00"},{"$f":"VALUE(DINAMICA!$C1264)","v":0},{"$f":"DINAMICA!D1264","v":0},{"$f":"DINAMICA!E1264","v":0},{"$f":"DINAMICA!F1264","v":0},{"$f":"DINAMICA!G1264","v":0},{"$f":"DINAMICA!H1264","v":0},{"$f":"DINAMICA!I1264","v":0},{"$f":"DINAMICA!J1264","v":0},{"$f":"DINAMICA!K1264","v":0},{"$f":"VALUE(DINAMICA!$L1264)","v":0},{"$f":"VALUE(DINAMICA!$M1264)","v":0},{"$f":"VALUE(DINAMICA!$N1264)","v":0},{"$f":"VALUE(DINAMICA!$O1264)","v":0},{"$f":"VALUE(DINAMICA!$P1264)","v":0},{"$f":"VALUE(DINAMICA!$Q1264)","v":0},{"$f":"VALUE(DINAMICA!$R1264)","v":0}]
[{"$f":"VALUE(DINAMICA!$A1265)","v":0},{"$f":"VALUE(DINAMICA!$B1265)","v":"00:00:00"},{"$f":"VALUE(DINAMICA!$C1265)","v":0},{"$f":"DINAMICA!D1265","v":0},{"$f":"DINAMICA!E1265","v":0},{"$f":"DINAMICA!F1265","v":0},{"$f":"DINAMICA!G1265","v":0},{"$f":"DINAMICA!H1265","v":0},{"$f":"DINAMICA!I1265","v":0},{"$f":"DINAMICA!J1265","v":0},{"$f":"DINAMICA!K1265","v":0},{"$f":"VALUE(DINAMICA!$L1265)","v":0},{"$f":"VALUE(DINAMICA!$M1265)","v":0},{"$f":"VALUE(DINAMICA!$N1265)","v":0},{"$f":"VALUE(DINAMICA!$O1265)","v":0},{"$f":"VALUE(DINAMICA!$P1265)","v":0},{"$f":"VALUE(DINAMICA!$Q1265)","v":0},{"$f":"VALUE(DINAMICA!$R1265)","v":0}]
[{"$f":"VALUE(DINAMICA!$A1266)","v":0},{"$f":"VALUE(DINAMICA!$B1266)","v":"00:00:00"},{"$f":"VALUE(DINAMICA!$C1266)","v":0},{"$f":"DINAMICA!D1266","v":0},{"$f":"DINAMICA!E1266","v":0},{"$f":"DINAMICA!F1266","v":0},{"$f":"DINAMICA!G1266","v":0},{"$f":"DINAMICA!H1266","v":0},{"$f":"DINAMICA!I1266","v":0},{"$f":"DINAMICA!J1266","v":0},{"$f":"DINAMICA!K1266","v":0},{"$f":"VALUE(DINAMICA!$L1266)","v":0},{"$f":"VALUE(DINAMICA!$M1266)","v":0},{"$f":"VALUE(DINAMICA!$N1266)","v":0},{"$f":"VALUE(DINAMICA!$O1266)","v":0},{"$f":"VALUE(DINAMICA!$P1266)","v":0},{"$f":"VALUE(DINAMICA!$Q1266)","v":0},{"$f":"VALUE(DINAMICA!$R1266)","v":0}]
[{"$f":"VALUE(DINAMICA!$A1267)","v":0},{"$f":"VALUE(DINAMICA!$B1267)","v":"00:00:00"},{"$f":"VALUE(DINAMICA!$C1267)","v":0},{"$f":"DINAMICA!D1267","v":0},{"$f":"DINAMICA!E1267","v":0},{"$f":"DINAMICA!F1267","v":0},{"$f":"DINAMICA!G1267","v":0},{"$f":"DINAMICA!H1267","v":0},{"$f":"DINAMICA!I1267","v":0},{"$f":"DINAMICA!J1267","v":0},{"$f":"DINAMICA!K1267","v":0},{"$f":"VALUE(DINAMICA!$L1267)","v":0},{"$f":"VALUE(DINAMICA!$M1267)","v":0},{"$f":"VALUE(DINAMICA!$N1267)","v":0},{"$f":"VALUE(DINAMICA!$O1267)","v":0},{"$f":"VALUE(DINAMICA!$P1267)","v":0},{"$f":"VALUE(DINAMICA!$Q1267)","v":0},{"$f":"VALUE(DINAMICA!$R1267)","v":0}]
[{"$f":"VALUE(DINAMICA!$A1268)","v":0},{"$f":"VALUE(DINAMICA!$B1268)","v":"00:00:00"},{"$f":"VALUE(DINAMICA!$C1268)","v":0},{"$f":"DINAMICA!D1268","v":0},{"$f":"DINAMICA!E1268","v":0},{"$f":"DINAMICA!F1268","v":0},{"$f":"DINAMICA!G1268","v":0},{"$f":"DINAMICA!H1268","v":0},{"$f":"DINAMICA!I1268","v":0},{"$f":"DINAMICA!J1268","v":0},{"$f":"DINAMICA!K1268","v":0},{"$f":"VALUE(DINAMICA!$L1268)","v":0},{"$f":"VALUE(DINAMICA!$M1268)","v":0},{"$f":"VALUE(DINAMICA!$N1268)","v":0},{"$f":"VALUE(DINAMICA!$O1268)","v":0},{"$f":"VALUE(DINAMICA!$P1268)","v":0},{"$f":"VALUE(DINAMICA!$Q1268)","v":0},{"$f":"VALUE(DINAMICA!$R1268)","v":0}]
[{"$f":"VALUE(DINAMICA!$A1269)","v":0},{"$f":"VALUE(DINAMICA!$B1269)","v":"00:00:00"},{"$f":"VALUE(DINAMICA!$C1269)","v":0},{"$f":"DINAMICA!D1269","v":0},{"$f":"DINAMICA!E1269","v":0},{"$f":"DINAMICA!F1269","v":0},{"$f":"DINAMICA!G1269","v":0},{"$f":"DINAMICA!H1269","v":0},{"$f":"DINAMICA!I1269","v":0},{"$f":"DINAMICA!J1269","v":0},{"$f":"DINAMICA!K1269","v":0},{"$f":"VALUE(DINAMICA!$L1269)","v":0},{"$f":"VALUE(DINAMICA!$M1269)","v":0},{"$f":"VALUE(DINAMICA!$N1269)","v":0},{"$f":"VALUE(DINAMICA!$O1269)","v":0},{"$f":"VALUE(DINAMICA!$P1269)","v":0},{"$f":"VALUE(DINAMICA!$Q1269)","v":0},{"$f":"VALUE(DINAMICA!$R1269)","v":0}]
[{"$f":"VALUE(DINAMICA!$A1270)","v":0},{"$f":"VALUE(DINAMICA!$B1270)","v":"00:00:00"},{"$f":"VALUE(DINAMICA!$C1270)","v":0},{"$f":"DINAMICA!D1270","v":0},{"$f":"DINAMICA!E1270","v":0},{"$f":"DINAMICA!F1270","v":0},{"$f":"DINAMICA!G1270","v":0},{"$f":"DINAMICA!H1270","v":0},{"$f":"DINAMICA!I1270","v":0},{"$f":"DINAMICA!J1270","v":0},{"$f":"DINAMICA!K1270","v":0},{"$f":"VALUE(DINAMICA!$L1270)","v":0},{"$f":"VALUE(DINAMICA!$M1270)","v":0},{"$f":"VALUE(DINAMICA!$N1270)","v":0},{"$f":"VALUE(DINAMICA!$O1270)","v":0},{"$f":"VALUE(DINAMICA!$P1270)","v":0},{"$f":"VALUE(DINAMICA!$Q1270)","v":0},{"$f":"VALUE(DINAMICA!$R1270)","v":0}]
[{"$f":"VALUE(DINAMICA!$A1271)","v":0},{"$f":"VALUE(DINAMICA!$B1271)","v":"00:00:00"},{"$f":"VALUE(DINAMICA!$C1271)","v":0},{"$f":"DINAMICA!D1271","v":0},{"$f":"DINAMICA!E1271","v":0},{"$f":"DINAMICA!F1271","v":0},{"$f":"DINAMICA!G1271","v":0},{"$f":"DINAMICA!H1271","v":0},{"$f":"DINAMICA!I1271","v":0},{"$f":"DINAMICA!J1271","v":0},{"$f":"DINAMICA!K1271","v":0},{"$f":"VALUE(DINAMICA!$L1271)","v":0},{"$f":"VALUE(DINAMICA!$M1271)","v":0},{"$f":"VALUE(DINAMICA!$N1271)","v":0},{"$f":"VALUE(DINAMICA!$O1271)","v":0},{"$f":"VALUE(DINAMICA!$P1271)","v":0},{"$f":"VALUE(DINAMICA!$Q1271)","v":0},{"$f":"VALUE(DINAMICA!$R1271)","v":0}]
[{"$f":"VALUE(DINAMICA!$A1272)","v":0},{"$f":"VALUE(DINAMICA!$B1272)","v":"00:00:00"},{"$f":"VALUE(DINAMICA!$C1272)","v":0},{"$f":"DINAMICA!D1272","v":0},{"$f":"DINAMICA!E1272","v":0},{"$f":"DINAMICA!F1272","v":0},{"$f":"DINAMICA!G1272","v":0},{"$f":"DINAMICA!H1272","v":0},{"$f":"DINAMICA!I1272","v":0},{"$f":"DINAMICA!J1272","v":0},{"$f":"DINAMICA!K1272","v":0},{"$f":"VALUE(DINAMICA!$L1272)","v":0},{"$f":"VALUE(DINAMICA!$M1272)","v":0},{"$f":"VALUE(DINAMICA!$N1272)","v":0},{"$f":"VALUE(DINAMICA!$O1272)","v":0},{"$f":"VALUE(DINAMICA!$P1272)","v":0},{"$f":"VALUE(DINAMICA!$Q1272)","v":0},{"$f":"VALUE(DINAMICA!$R1272)","v":0}]
[{"$f":"VALUE(DINAMICA!$A1273)","v":0},{"$f":"VALUE(DINAMICA!$B1273)","v":"00:00:00"},{"$f":"VALUE(DINAMICA!$C1273)","v":0},{"$f":"DINAMICA!D1273","v":0},{"$f":"DINAMICA!E1273","v":0},{"$f":"DINAMICA!F1273","v":0},{"$f":"DINAMICA!G1273","v":0},{"$f":"DINAMICA!H1273","v":0},{"$f":"DINAMICA!I1273","v":0},{"$f":"DINAMICA!J1273","v":0},{"$f":"DINAMICA!K1273","v":0},{"$f":"VALUE(DINAMICA!$L1273)","v":0},{"$f":"VALUE(DINAMICA!$M1273)","v":0},{"$f":"VALUE(DINAMICA!$N1273)","v":0},{"$f":"VALUE(DINAMICA!$O1273)","v":0},{"$f":"VALUE(DINAMICA!$P1273)","v":0},{"$f":"VALUE(DINAMICA!$Q1273)","v":0},{"$f":"VALUE(DINAMICA!$R1273)","v":0}]
[{"$f":"VALUE(DINAMICA!$A1274)","v":0},{"$f":"VALUE(DINAMICA!$B1274)","v":"00:00:00"},{"$f":"VALUE(DINAMICA!$C1274)","v":0},{"$f":"DINAMICA!D1274","v":0},{"$f":"DINAMICA!E1274","v":0},{"$f":"DINAMICA!F1274","v":0},{"$f":"DINAMICA!G1274","v":0},{"$f":"DINAMICA!H1274","v":0},{"$f":"DINAMICA!I1274","v":0},{"$f":"DINAMICA!J1274","v":0},{"$f":"DINAMICA!K1274","v":0},{"$f":"VALUE(DINAMICA!$L1274)","v":0},{"$f":"VALUE(DINAMICA!$M1274)","v":0},{"$f":"VALUE(DINAMICA!$N1274)","v":0},{"$f":"VALUE(DINAMICA!$O1274)","v":0},{"$f":"VALUE(DINAMICA!$P1274)","v":0},{"$f":"VALUE(DINAMICA!$Q1274)","v":0},{"$f":"VALUE(DINAMICA!$R1274)","v":0}]
[{"$f":"VALUE(DINAMICA!$A1275)","v":0},{"$f":"VALUE(DINAMICA!$B1275)","v":"00:00:00"},{"$f":"VALUE(DINAMICA!$C1275)","v":0},{"$f":"DINAMICA!D1275","v":0},{"$f":"DINAMICA!E1275","v":0},{"$f":"DINAMICA!F1275","v":0},{"$f":"DINAMICA!G1275","v":0},{"$f":"DINAMICA!H1275","v":0},{"$f":"DINAMICA!I1275","v":0},{"$f":"DINAMICA!J1275","v":0},{"$f":"DINAMICA!K1275","v":0},{"$f":"VALUE(DINAMICA!$L1275)","v":0},{"$f":"VALUE(DINAMICA!$M1275)","v":0},{"$f":"VALUE(DINAMICA!$N1275)","v":0},{"$f":"VALUE(DINAMICA!$O1275)","v":0},{"$f":"VALUE(DINAMICA!$P1275)","v":0},{"$f":"VALUE(DINAMICA!$Q1275)","v":0},{"$f":"VALUE(DINAMICA!$R1275)","v":0}]
[{"$f":"VALUE(DINAMICA!$A1276)","v":0},{"$f":"VALUE(DINAMICA!$B1276)","v":"00:00:00"},{"$f":"VALUE(DINAMICA!$C1276)","v":0},{"$f":"DINAMICA!D1276","v":0},{"$f":"DINAMICA!E1276","v":0},{"$f":"DINAMICA!F1276","v":0},{"$f":"DINAMICA!G1276","v":0},{"$f":"DINAMICA!H1276","v":0},{"$f":"DINAMICA!I1276","v":0},{"$f":"DINAMICA!J1276","v":0},{"$f":"DINAMICA!K1276","v":0},{"$f":"VALUE(DINAMICA!$L1276)","v":0},{"$f":"VALUE(DINAMICA!$M1276)","v":0},{"$f":"VALUE(DINAMICA!$N1276)","v":0},{"$f":"VALUE(DINAMICA!$O1276)","v":0},{"$f":"VALUE(DINAMICA!$P1276)","v":0},{"$f":"VALUE(DINAMICA!$Q1276)","v":0},{"$f":"VALUE(DINAMICA!$R1276)","v":0}]
[{"$f":"VALUE(DINAMICA!$A1277)","v":0},{"$f":"VALUE(DINAMICA!$B1277)","v":"00:00:00"},{"$f":"VALUE(DINAMICA!$C1277)","v":0},{"$f":"DINAMICA!D1277","v":0},{"$f":"DINAMICA!E1277","v":0},{"$f":"DINAMICA!F1277","v":0},{"$f":"DINAMICA!G1277","v":0},{"$f":"DINAMICA!H1277","v":0},{"$f":"DINAMICA!I1277","v":0},{"$f":"DINAMICA!J1277","v":0},{"$f":"DINAMICA!K1277","v":0},{"$f":"VALUE(DINAMICA!$L1277)","v":0},{"$f":"VALUE(DINAMICA!$M1277)","v":0},{"$f":"VALUE(DINAMICA!$N1277)","v":0},{"$f":"VALUE(DINAMICA!$O1277)","v":0},{"$f":"VALUE(DINAMICA!$P1277)","v":0},{"$f":"VALUE(DINAMICA!$Q1277)","v":0},{"$f":"VALUE(DINAMICA!$R1277)","v":0}]
[{"$f":"VALUE(DINAMICA!$A1278)","v":0},{"$f":"VALUE(DINAMICA!$B1278)","v":"00:00:00"},{"$f":"VALUE(DINAMICA!$C1278)","v":0},{"$f":"DINAMICA!D1278","v":0},{"$f":"DINAMICA!E1278","v":0},{"$f":"DINAMICA!F1278","v":0},{"$f":"DINAMICA!G1278","v":0},{"$f":"DINAMICA!H1278","v":0},{"$f":"DINAMICA!I1278","v":0},{"$f":"DINAMICA!J1278","v":0},{"$f":"DINAMICA!K1278","v":0},{"$f":"VALUE(DINAMICA!$L1278)","v":0},{"$f":"VALUE(DINAMICA!$M1278)","v":0},{"$f":"VALUE(DINAMICA!$N1278)","v":0},{"$f":"VALUE(DINAMICA!$O1278)","v":0},{"$f":"VALUE(DINAMICA!$P1278)","v":0},{"$f":"VALUE(DINAMICA!$Q1278)","v":0},{"$f":"VALUE(DINAMICA!$R1278)","v":0}]
[{"$f":"VALUE(DINAMICA!$A1279)","v":0},{"$f":"VALUE(DINAMICA!$B1279)","v":"00:00:00"},{"$f":"VALUE(DINAMICA!$C1279)","v":0},{"$f":"DINAMICA!D1279","v":0},{"$f":"DINAMICA!E1279","v":0},{"$f":"DINAMICA!F1279","v":0},{"$f":"DINAMICA!G1279","v":0},{"$f":"DINAMICA!H1279","v":0},{"$f":"DINAMICA!I1279","v":0},{"$f":"DINAMICA!J1279","v":0},{"$f":"DINAMICA!K1279","v":0},{"$f":"VALUE(DINAMICA!$L1279)","v":0},{"$f":"VALUE(DINAMICA!$M1279)","v":0},{"$f":"VALUE(DINAMICA!$N1279)","v":0},{"$f":"VALUE(DINAMICA!$O1279)","v":0},{"$f":"VALUE(DINAMICA!$P1279)","v":0},{"$f":"VALUE(DINAMICA!$Q1279)","v":0},{"$f":"VALUE(DINAMICA!$R1279)","v":0}]
[{"$f":"VALUE(DINAMICA!$A1280)","v":0},{"$f":"VALUE(DINAMICA!$B1280)","v":"00:00:00"},{"$f":"VALUE(DINAMICA!$C1280)","v":0},{"$f":"DINAMICA!D1280","v":0},{"$f":"DINAMICA!E1280","v":0},{"$f":"DINAMICA!F1280","v":0},{"$f":"DINAMICA!G1280","v":0},{"$f":"DINAMICA!H1280","v":0},{"$f":"DINAMICA!I1280","v":0},{"$f":"DINAMICA!J1280","v":0},{"$f":"DINAMICA!K1280","v":0},{"$f":"VALUE(DINAMICA!$L1280)","v":0},{"$f":"VALUE(DINAMICA!$M1280)","v":0},{"$f":"VALUE(DINAMICA!$N1280)","v":0},{"$f":"VALUE(DINAMICA!$O1280)","v":0},{"$f":"VALUE(DINAMICA!$P1280)","v":0},{"$f":"VALUE(DINAMICA!$Q1280)","v":0},{"$f":"VALUE(DINAMICA!$R1280)","v":0}]
[{"$f":"VALUE(DINAMICA!$A1281)","v":0},{"$f":"VALUE(DINAMICA!$B1281)","v":"00:00:00"},{"$f":"VALUE(DINAMICA!$C1281)","v":0},{"$f":"DINAMICA!D1281","v":0},{"$f":"DINAMICA!E1281","v":0},{"$f":"DINAMICA!F1281","v":0},{"$f":"DINAMICA!G1281","v":0},{"$f":"DINAMICA!H1281","v":0},{"$f":"DINAMICA!I1281","v":0},{"$f":"DINAMICA!J1281","v":0},{"$f":"DINAMICA!K1281","v":0},{"$f":"VALUE(DINAMICA!$L1281)","v":0},{"$f":"VALUE(DINAMICA!$M1281)","v":0},{"$f":"VALUE(DINAMICA!$N1281)","v":0},{"$f":"VALUE(DINAMICA!$O1281)","v":0},{"$f":"VALUE(DINAMICA!$P1281)","v":0},{"$f":"VALUE(DINAMICA!$Q1281)","v":0},{"$f":"VALUE(DINAMICA!$R1281)","v":0}]
[{"$f":"VALUE(DINAMICA!$A1282)","v":0},{"$f":"VALUE(DINAMICA!$B1282)","v":"00:00:00"},{"$f":"VALUE(DINAMICA!$C1282)","v":0},{"$f":"DINAMICA!D1282","v":0},{"$f":"DINAMICA!E1282","v":0},{"$f":"DINAMICA!F1282","v":0},{"$f":"DINAMICA!G1282","v":0},{"$f":"DINAMICA!H1282","v":0},{"$f":"DINAMICA!I1282","v":0},{"$f":"DINAMICA!J1282","v":0},{"$f":"DINAMICA!K1282","v":0},{"$f":"VALUE(DINAMICA!$L1282)","v":0},{"$f":"VALUE(DINAMICA!$M1282)","v":0},{"$f":"VALUE(DINAMICA!$N1282)","v":0},{"$f":"VALUE(DINAMICA!$O1282)","v":0},{"$f":"VALUE(DINAMICA!$P1282)","v":0},{"$f":"VALUE(DINAMICA!$Q1282)","v":0},{"$f":"VALUE(DINAMICA!$R1282)","v":0}]
[{"$f":"VALUE(DINAMICA!$A1283)","v":0},{"$f":"VALUE(DINAMICA!$B1283)","v":"00:00:00"},{"$f":"VALUE(DINAMICA!$C1283)","v":0},{"$f":"DINAMICA!D1283","v":0},{"$f":"DINAMICA!E1283","v":0},{"$f":"DINAMICA!F1283","v":0},{"$f":"DINAMICA!G1283","v":0},{"$f":"DINAMICA!H1283","v":0},{"$f":"DINAMICA!I1283","v":0},{"$f":"DINAMICA!J1283","v":0},{"$f":"DINAMICA!K1283","v":0},{"$f":"VALUE(DINAMICA!$L1283)","v":0},{"$f":"VALUE(DINAMICA!$M1283)","v":0},{"$f":"VALUE(DINAMICA!$N1283)","v":0},{"$f":"VALUE(DINAMICA!$O1283)","v":0},{"$f":"VALUE(DINAMICA!$P1283)","v":0},{"$f":"VALUE(DINAMICA!$Q1283)","v":0},{"$f":"VALUE(DINAMICA!$R1283)","v":0}]
[{"$f":"VALUE(DINAMICA!$A1284)","v":0},{"$f":"VALUE(DINAMICA!$B1284)","v":"00:00:00"},{"$f":"VALUE(DINAMICA!$C1284)","v":0},{"$f":"DINAMICA!D1284","v":0},{"$f":"DINAMICA!E1284","v":0},{"$f":"DINAMICA!F1284","v":0},{"$f":"DINAMICA!G1284","v":0},{"$f":"DINAMICA!H1284","v":0},{"$f":"DINAMICA!I1284","v":0},{"$f":"DINAMICA!J1284","v":0},{"$f":"DINAMICA!K1284","v":0},{"$f":"VALUE(DINAMICA!$L1284)","v":0},{"$f":"VALUE(DINAMICA!$M1284)","v":0},{"$f":"VALUE(DINAMICA!$N1284)","v":0},{"$f":"VALUE(DINAMICA!$O1284)","v":0},{"$f":"VALUE(DINAMICA!$P1284)","v":0},{"$f":"VALUE(DINAMICA!$Q1284)","v":0},{"$f":"VALUE(DINAMICA!$R1284)","v":0}]
[{"$f":"VALUE(DINAMICA!$A1285)","v":0},{"$f":"VALUE(DINAMICA!$B1285)","v":"00:00:00"},{"$f":"VALUE(DINAMICA!$C1285)","v":0},{"$f":"DINAMICA!D1285","v":0},{"$f":"DINAMICA!E1285","v":0},{"$f":"DINAMICA!F1285","v":0},{"$f":"DINAMICA!G1285","v":0},{"$f":"DINAMICA!H1285","v":0},{"$f":"DINAMICA!I1285","v":0},{"$f":"DINAMICA!J1285","v":0},{"$f":"DINAMICA!K1285","v":0},{"$f":"VALUE(DINAMICA!$L1285)","v":0},{"$f":"VALUE(DINAMICA!$M1285)","v":0},{"$f":"VALUE(DINAMICA!$N1285)","v":0},{"$f":"VALUE(DINAMICA!$O1285)","v":0},{"$f":"VALUE(DINAMICA!$P1285)","v":0},{"$f":"VALUE(DINAMICA!$Q1285)","v":0},{"$f":"VALUE(DINAMICA!$R1285)","v":0}]
[{"$f":"VALUE(DINAMICA!$A1286)","v":0},{"$f":"VALUE(DINAMICA!$B1286)","v":"00:00:00"},{"$f":"VALUE(DINAMICA!$C1286)","v":0},{"$f":"DINAMICA!D1286","v":0},{"$f":"DINAMICA!E1286","v":0},{"$f":"DINAMICA!F1286","v":0},{"$f":"DINAMICA!G1286","v":0},{"$f":"DINAMICA!H1286","v":0},{"$f":"DINAMICA!I1286","v":0},{"$f":"DINAMICA!J1286","v":0},{"$f":"DINAMICA!K1286","v":0},{"$f":"VALUE(DINAMICA!$L1286)","v":0},{"$f":"VALUE(DINAMICA!$M1286)","v":0},{"$f":"VALUE(DINAMICA!$N1286)","v":0},{"$f":"VALUE(DINAMICA!$O1286)","v":0},{"$f":"VALUE(DINAMICA!$P1286)","v":0},{"$f":"VALUE(DINAMICA!$Q1286)","v":0},{"$f":"VALUE(DINAMICA!$R1286)","v":0}]
[{"$f":"VALUE(DINAMICA!$A1287)","v":0},{"$f":"VALUE(DINAMICA!$B1287)","v":"00:00:00"},{"$f":"VALUE(DINAMICA!$C1287)","v":0},{"$f":"DINAMICA!D1287","v":0},{"$f":"DINAMICA!E1287","v":0},{"$f":"DINAMICA!F1287","v":0},{"$f":"DINAMICA!G1287","v":0},{"$f":"DINAMICA!H1287","v":0},{"$f":"DINAMICA!I1287","v":0},{"$f":"DINAMICA!J1287","v":0},{"$f":"DINAMICA!K1287","v":0},{"$f":"VALUE(DINAMICA!$L1287)","v":0},{"$f":"VALUE(DINAMICA!$M1287)","v":0},{"$f":"VALUE(DINAMICA!$N1287)","v":0},{"$f":"VALUE(DINAMICA!$O1287)","v":0},{"$f":"VALUE(DINAMICA!$P1287)","v":0},{"$f":"VALUE(DINAMICA!$Q1287)","v":0},{"$f":"VALUE(DINAMICA!$R1287)","v":0}]
[{"$f":"VALUE(DINAMICA!$A1288)","v":0},{"$f":"VALUE(DINAMICA!$B1288)","v":"00:00:00"},{"$f":"VALUE(DINAMICA!$C1288)","v":0},{"$f":"DINAMICA!D1288","v":0},{"$f":"DINAMICA!E1288","v":0},{"$f":"DINAMICA!F1288","v":0},{"$f":"DINAMICA!G1288","v":0},{"$f":"DINAMICA!H1288","v":0},{"$f":"DINAMICA!I1288","v":0},{"$f":"DINAMICA!J1288","v":0},{"$f":"DINAMICA!K1288","v":0},{"$f":"VALUE(DINAMICA!$L1288)","v":0},{"$f":"VALUE(DINAMICA!$M1288)","v":0},{"$f":"VALUE(DINAMICA!$N1288)","v":0},{"$f":"VALUE(DINAMICA!$O1288)","v":0},{"$f":"VALUE(DINAMICA!$P1288)","v":0},{"$f":"VALUE(DINAMICA!$Q1288)","v":0},{"$f":"VALUE(DINAMICA!$R1288)","v":0}]
[{"$f":"VALUE(DINAMICA!$A1289)","v":0},{"$f":"VALUE(DINAMICA!$B1289)","v":"00:00:00"},{"$f":"VALUE(DINAMICA!$C1289)","v":0},{"$f":"DINAMICA!D1289","v":0},{"$f":"DINAMICA!E1289","v":0},{"$f":"DINAMICA!F1289","v":0},{"$f":"DINAMICA!G1289","v":0},{"$f":"DINAMICA!H1289","v":0},{"$f":"DINAMICA!I1289","v":0},{"$f":"DINAMICA!J1289","v":0},{"$f":"DINAMICA!K1289","v":0},{"$f":"VALUE(DINAMICA!$L1289)","v":0},{"$f":"VALUE(DINAMICA!$M1289)","v":0},{"$f":"VALUE(DINAMICA!$N1289)","v":0},{"$f":"VALUE(DINAMICA!$O1289)","v":0},{"$f":"VALUE(DINAMICA!$P1289)","v":0},{"$f":"VALUE(DINAMICA!$Q1289)","v":0},{"$f":"VALUE(DINAMICA!$R1289)","v":0}]
[{"$f":"VALUE(DINAMICA!$A1290)","v":0},{"$f":"VALUE(DINAMICA!$B1290)","v":"00:00:00"},{"$f":"VALUE(DINAMICA!$C1290)","v":0},{"$f":"DINAMICA!D1290","v":0},{"$f":"DINAMICA!E1290","v":0},{"$f":"DINAMICA!F1290","v":0},{"$f":"DINAMICA!G1290","v":0},{"$f":"DINAMICA!H1290","v":0},{"$f":"DINAMICA!I1290","v":0},{"$f":"DINAMICA!J1290","v":0},{"$f":"DINAMICA!K1290","v":0},{"$f":"VALUE(DINAMICA!$L1290)","v":0},{"$f":"VALUE(DINAMICA!$M1290)","v":0},{"$f":"VALUE(DINAMICA!$N1290)","v":0},{"$f":"VALUE(DINAMICA!$O1290)","v":0},{"$f":"VALUE(DINAMICA!$P1290)","v":0},{"$f":"VALUE(DINAMICA!$Q1290)","v":0},{"$f":"VALUE(DINAMICA!$R1290)","v":0}]
[{"$f":"VALUE(DINAMICA!$A1291)","v":0},{"$f":"VALUE(DINAMICA!$B1291)","v":"00:00:00"},{"$f":"VALUE(DINAMICA!$C1291)","v":0},{"$f":"DINAMICA!D1291","v":0},{"$f":"DINAMICA!E1291","v":0},{"$f":"DINAMICA!F1291","v":0},{"$f":"DINAMICA!G1291","v":0},{"$f":"DINAMICA!H1291","v":0},{"$f":"DINAMICA!I1291","v":0},{"$f":"DINAMICA!J1291","v":0},{"$f":"DINAMICA!K1291","v":0},{"$f":"VALUE(DINAMICA!$L1291)","v":0},{"$f":"VALUE(DINAMICA!$M1291)","v":0},{"$f":"VALUE(DINAMICA!$N1291)","v":0},{"$f":"VALUE(DINAMICA!$O1291)","v":0},{"$f":"VALUE(DINAMICA!$P1291)","v":0},{"$f":"VALUE(DINAMICA!$Q1291)","v":0},{"$f":"VALUE(DINAMICA!$R1291)","v":0}]
[{"$f":"VALUE(DINAMICA!$A1292)","v":0},{"$f":"VALUE(DINAMICA!$B1292)","v":"00:00:00"},{"$f":"VALUE(DINAMICA!$C1292)","v":0},{"$f":"DINAMICA!D1292","v":0},{"$f":"DINAMICA!E1292","v":0},{"$f":"DINAMICA!F1292","v":0},{"$f":"DINAMICA!G1292","v":0},{"$f":"DINAMICA!H1292","v":0},{"$f":"DINAMICA!I1292","v":0},{"$f":"DINAMICA!J1292","v":0},{"$f":"DINAMICA!K1292","v":0},{"$f":"VALUE(DINAMICA!$L1292)","v":0},{"$f":"VALUE(DINAMICA!$M1292)","v":0},{"$f":"VALUE(DINAMICA!$N1292)","v":0},{"$f":"VALUE(DINAMICA!$O1292)","v":0},{"$f":"VALUE(DINAMICA!$P1292)","v":0},{"$f":"VALUE(DINAMICA!$Q1292)","v":0},{"$f":"VALUE(DINAMICA!$R1292)","v":0}]
[{"$f":"VALUE(DINAMICA!$A1293)","v":0},{"$f":"VALUE(DINAMICA!$B1293)","v":"00:00:00"},{"$f":"VALUE(DINAMICA!$C1293)","v":0},{"$f":"DINAMICA!D1293","v":0},{"$f":"DINAMICA!E1293","v":0},{"$f":"DINAMICA!F1293","v":0},{"$f":"DINAMICA!G1293","v":0},{"$f":"DINAMICA!H1293","v":0},{"$f":"DINAMICA!I1293","v":0},{"$f":"DINAMICA!J1293","v":0},{"$f":"DINAMICA!K1293","v":0},{"$f":"VALUE(DINAMICA!$L1293)","v":0},{"$f":"VALUE(DINAMICA!$M1293)","v":0},{"$f":"VALUE(DINAMICA!$N1293)","v":0},{"$f":"VALUE(DINAMICA!$O1293)","v":0},{"$f":"VALUE(DINAMICA!$P1293)","v":0},{"$f":"VALUE(DINAMICA!$Q1293)","v":0},{"$f":"VALUE(DINAMICA!$R1293)","v":0}]
[{"$f":"VALUE(DINAMICA!$A1294)","v":0},{"$f":"VALUE(DINAMICA!$B1294)","v":"00:00:00"},{"$f":"VALUE(DINAMICA!$C1294)","v":0},{"$f":"DINAMICA!D1294","v":0},{"$f":"DINAMICA!E1294","v":0},{"$f":"DINAMICA!F1294","v":0},{"$f":"DINAMICA!G1294","v":0},{"$f":"DINAMICA!H1294","v":0},{"$f":"DINAMICA!I1294","v":0},{"$f":"DINAMICA!J1294","v":0},{"$f":"DINAMICA!K1294","v":0},{"$f":"VALUE(DINAMICA!$L1294)","v":0},{"$f":"VALUE(DINAMICA!$M1294)","v":0},{"$f":"VALUE(DINAMICA!$N1294)","v":0},{"$f":"VALUE(DINAMICA!$O1294)","v":0},{"$f":"VALUE(DINAMICA!$P1294)","v":0},{"$f":"VALUE(DINAMICA!$Q1294)","v":0},{"$f":"VALUE(DINAMICA!$R1294)","v":0}]
[{"$f":"VALUE(DINAMICA!$A1295)","v":0},{"$f":"VALUE(DINAMICA!$B1295)","v":"00:00:00"},{"$f":"VALUE(DINAMICA!$C1295)","v":0},{"$f":"DINAMICA!D1295","v":0},{"$f":"DINAMICA!E1295","v":0},{"$f":"DINAMICA!F1295","v":0},{"$f":"DINAMICA!G1295","v":0},{"$f":"DINAMICA!H1295","v":0},{"$f":"DINAMICA!I1295","v":0},{"$f":"DINAMICA!J1295","v":0},{"$f":"DINAMICA!K1295","v":0},{"$f":"VALUE(DINAMICA!$L1295)","v":0},{"$f":"VALUE(DINAMICA!$M1295)","v":0},{"$f":"VALUE(DINAMICA!$N1295)","v":0},{"$f":"VALUE(DINAMICA!$O1295)","v":0},{"$f":"VALUE(DINAMICA!$P1295)","v":0},{"$f":"VALUE(DINAMICA!$Q1295)","v":0},{"$f":"VALUE(DINAMICA!$R1295)","v":0}]
[{"$f":"VALUE(DINAMICA!$A1296)","v":0},{"$f":"VALUE(DINAMICA!$B1296)","v":"00:00:00"},{"$f":"VALUE(DINAMICA!$C1296)","v":0},{"$f":"DINAMICA!D1296","v":0},{"$f":"DINAMICA!E1296","v":0},{"$f":"DINAMICA!F1296","v":0},{"$f":"DINAMICA!G1296","v":0},{"$f":"DINAMICA!H1296","v":0},{"$f":"DINAMICA!I1296","v":0},{"$f":"DINAMICA!J1296","v":0},{"$f":"DINAMICA!K1296","v":0},{"$f":"VALUE(DINAMICA!$L1296)","v":0},{"$f":"VALUE(DINAMICA!$M1296)","v":0},{"$f":"VALUE(DINAMICA!$N1296)","v":0},{"$f":"VALUE(DINAMICA!$O1296)","v":0},{"$f":"VALUE(DINAMICA!$P1296)","v":0},{"$f":"VALUE(DINAMICA!$Q1296)","v":0},{"$f":"VALUE(DINAMICA!$R1296)","v":0}]
[{"$f":"VALUE(DINAMICA!$A1297)","v":0},{"$f":"VALUE(DINAMICA!$B1297)","v":"00:00:00"},{"$f":"VALUE(DINAMICA!$C1297)","v":0},{"$f":"DINAMICA!D1297","v":0},{"$f":"DINAMICA!E1297","v":0},{"$f":"DINAMICA!F1297","v":0},{"$f":"DINAMICA!G1297","v":0},{"$f":"DINAMICA!H1297","v":0},{"$f":"DINAMICA!I1297","v":0},{"$f":"DINAMICA!J1297","v":0},{"$f":"DINAMICA!K1297","v":0},{"$f":"VALUE(DINAMICA!$L1297)","v":0},{"$f":"VALUE(DINAMICA!$M1297)","v":0},{"$f":"VALUE(DINAMICA!$N1297)","v":0},{"$f":"VALUE(DINAMICA!$O1297)","v":0},{"$f":"VALUE(DINAMICA!$P1297)","v":0},{"$f":"VALUE(DINAMICA!$Q1297)","v":0},{"$f":"VALUE(DINAMICA!$R1297)","v":0}]
[{"$f":"VALUE(DINAMICA!$A1298)","v":0},{"$f":"VALUE(DINAMICA!$B1298)","v":"00:00:00"},{"$f":"VALUE(DINAMICA!$C1298)","v":0},{"$f":"DINAMICA!D1298","v":0},{"$f":"DINAMICA!E1298","v":0},{"$f":"DINAMICA!F1298","v":0},{"$f":"DINAMICA!G1298","v":0},{"$f":"DINAMICA!H1298","v":0},{"$f":"DINAMICA!I1298","v":0},{"$f":"DINAMICA!J1298","v":0},{"$f":"DINAMICA!K1298","v":0},{"$f":"VALUE(DINAMICA!$L1298)","v":0},{"$f":"VALUE(DINAMICA!$M1298)","v":0},{"$f":"VALUE(DINAMICA!$N1298)","v":0},{"$f":"VALUE(DINAMICA!$O1298)","v":0},{"$f":"VALUE(DINAMICA!$P1298)","v":0},{"$f":"VALUE(DINAMICA!$Q1298)","v":0},{"$f":"VALUE(DINAMICA!$R1298)","v":0}]
[{"$f":"VALUE(DINAMICA!$A1299)","v":0},{"$f":"VALUE(DINAMICA!$B1299)","v":"00:00:00"},{"$f":"VALUE(DINAMICA!$C1299)","v":0},{"$f":"DINAMICA!D1299","v":0},{"$f":"DINAMICA!E1299","v":0},{"$f":"DINAMICA!F1299","v":0},{"$f":"DINAMICA!G1299","v":0},{"$f":"DINAMICA!H1299","v":0},{"$f":"DINAMICA!I1299","v":0},{"$f":"DINAMICA!J1299","v":0},{"$f":"DINAMICA!K1299","v":0},{"$f":"VALUE(DINAMICA!$L1299)","v":0},{"$f":"VALUE(DINAMICA!$M1299)","v":0},{"$f":"VALUE(DINAMICA!$N1299)","v":0},{"$f":"VALUE(DINAMICA!$O1299)","v":0},{"$f":"VALUE(DINAMICA!$P1299)","v":0},{"$f":"VALUE(DINAMICA!$Q1299)","v":0},{"$f":"VALUE(DINAMICA!$R1299)","v":0}]
[{"$f":"VALUE(DINAMICA!$A1300)","v":0},{"$f":"VALUE(DINAMICA!$B1300)","v":"00:00:00"},{"$f":"VALUE(DINAMICA!$C1300)","v":0},{"$f":"DINAMICA!D1300","v":0},{"$f":"DINAMICA!E1300","v":0},{"$f":"DINAMICA!F1300","v":0},{"$f":"DINAMICA!G1300","v":0},{"$f":"DINAMICA!H1300","v":0},{"$f":"DINAMICA!I1300","v":0},{"$f":"DINAMICA!J1300","v":0},{"$f":"DINAMICA!K1300","v":0},{"$f":"VALUE(DINAMICA!$L1300)","v":0},{"$f":"VALUE(DINAMICA!$M1300)","v":0},{"$f":"VALUE(DINAMICA!$N1300)","v":0},{"$f":"VALUE(DINAMICA!$O1300)","v":0},{"$f":"VALUE(DINAMICA!$P1300)","v":0},{"$f":"VALUE(DINAMICA!$Q1300)","v":0},{"$f":"VALUE(DINAMICA!$R1300)","v":0}]
[{"$f":"VALUE(DINAMICA!$A1301)","v":0},{"$f":"VALUE(DINAMICA!$B1301)","v":"00:00:00"},{"$f":"VALUE(DINAMICA!$C1301)","v":0},{"$f":"DINAMICA!D1301","v":0},{"$f":"DINAMICA!E1301","v":0},{"$f":"DINAMICA!F1301","v":0},{"$f":"DINAMICA!G1301","v":0},{"$f":"DINAMICA!H1301","v":0},{"$f":"DINAMICA!I1301","v":0},{"$f":"DINAMICA!J1301","v":0},{"$f":"DINAMICA!K1301","v":0},{"$f":"VALUE(DINAMICA!$L1301)","v":0},{"$f":"VALUE(DINAMICA!$M1301)","v":0},{"$f":"VALUE(DINAMICA!$N1301)","v":0},{"$f":"VALUE(DINAMICA!$O1301)","v":0},{"$f":"VALUE(DINAMICA!$P1301)","v":0},{"$f":"VALUE(DINAMICA!$Q1301)","v":0},{"$f":"VALUE(DINAMICA!$R1301)","v":0}]
[{"$f":"VALUE(DINAMICA!$A1302)","v":0},{"$f":"VALUE(DINAMICA!$B1302)","v":"00:00:00"},{"$f":"VALUE(DINAMICA!$C1302)","v":0},{"$f":"DINAMICA!D1302","v":0},{"$f":"DINAMICA!E1302","v":0},{"$f":"DINAMICA!F1302","v":0},{"$f":"DINAMICA!G1302","v":0},{"$f":"DINAMICA!H1302","v":0},{"$f":"DINAMICA!I1302","v":0},{"$f":"DINAMICA!J1302","v":0},{"$f":"DINAMICA!K1302","v":0},{"$f":"VALUE(DINAMICA!$L1302)","v":0},{"$f":"VALUE(DINAMICA!$M1302)","v":0},{"$f":"VALUE(DINAMICA!$N1302)","v":0},{"$f":"VALUE(DINAMICA!$O1302)","v":0},{"$f":"VALUE(DINAMICA!$P1302)","v":0},{"$f":"VALUE(DINAMICA!$Q1302)","v":0},{"$f":"VALUE(DINAMICA!$R1302)","v":0}]
[{"$f":"VALUE(DINAMICA!$A1303)","v":0},{"$f":"VALUE(DINAMICA!$B1303)","v":"00:00:00"},{"$f":"VALUE(DINAMICA!$C1303)","v":0},{"$f":"DINAMICA!D1303","v":0},{"$f":"DINAMICA!E1303","v":0},{"$f":"DINAMICA!F1303","v":0},{"$f":"DINAMICA!G1303","v":0},{"$f":"DINAMICA!H1303","v":0},{"$f":"DINAMICA!I1303","v":0},{"$f":"DINAMICA!J1303","v":0},{"$f":"DINAMICA!K1303","v":0},{"$f":"VALUE(DINAMICA!$L1303)","v":0},{"$f":"VALUE(DINAMICA!$M1303)","v":0},{"$f":"VALUE(DINAMICA!$N1303)","v":0},{"$f":"VALUE(DINAMICA!$O1303)","v":0},{"$f":"VALUE(DINAMICA!$P1303)","v":0},{"$f":"VALUE(DINAMICA!$Q1303)","v":0},{"$f":"VALUE(DINAMICA!$R1303)","v":0}]
[{"$f":"VALUE(DINAMICA!$A1304)","v":0},{"$f":"VALUE(DINAMICA!$B1304)","v":"00:00:00"},{"$f":"VALUE(DINAMICA!$C1304)","v":0},{"$f":"DINAMICA!D1304","v":0},{"$f":"DINAMICA!E1304","v":0},{"$f":"DINAMICA!F1304","v":0},{"$f":"DINAMICA!G1304","v":0},{"$f":"DINAMICA!H1304","v":0},{"$f":"DINAMICA!I1304","v":0},{"$f":"DINAMICA!J1304","v":0},{"$f":"DINAMICA!K1304","v":0},{"$f":"VALUE(DINAMICA!$L1304)","v":0},{"$f":"VALUE(DINAMICA!$M1304)","v":0},{"$f":"VALUE(DINAMICA!$N1304)","v":0},{"$f":"VALUE(DINAMICA!$O1304)","v":0},{"$f":"VALUE(DINAMICA!$P1304)","v":0},{"$f":"VALUE(DINAMICA!$Q1304)","v":0},{"$f":"VALUE(DINAMICA!$R1304)","v":0}]
[{"$f":"VALUE(DINAMICA!$A1305)","v":0},{"$f":"VALUE(DINAMICA!$B1305)","v":"00:00:00"},{"$f":"VALUE(DINAMICA!$C1305)","v":0},{"$f":"DINAMICA!D1305","v":0},{"$f":"DINAMICA!E1305","v":0},{"$f":"DINAMICA!F1305","v":0},{"$f":"DINAMICA!G1305","v":0},{"$f":"DINAMICA!H1305","v":0},{"$f":"DINAMICA!I1305","v":0},{"$f":"DINAMICA!J1305","v":0},{"$f":"DINAMICA!K1305","v":0},{"$f":"VALUE(DINAMICA!$L1305)","v":0},{"$f":"VALUE(DINAMICA!$M1305)","v":0},{"$f":"VALUE(DINAMICA!$N1305)","v":0},{"$f":"VALUE(DINAMICA!$O1305)","v":0},{"$f":"VALUE(DINAMICA!$P1305)","v":0},{"$f":"VALUE(DINAMICA!$Q1305)","v":0},{"$f":"VALUE(DINAMICA!$R1305)","v":0}]
[{"$f":"VALUE(DINAMICA!$A1306)","v":0},{"$f":"VALUE(DINAMICA!$B1306)","v":"00:00:00"},{"$f":"VALUE(DINAMICA!$C1306)","v":0},{"$f":"DINAMICA!D1306","v":0},{"$f":"DINAMICA!E1306","v":0},{"$f":"DINAMICA!F1306","v":0},{"$f":"DINAMICA!G1306","v":0},{"$f":"DINAMICA!H1306","v":0},{"$f":"DINAMICA!I1306","v":0},{"$f":"DINAMICA!J1306","v":0},{"$f":"DINAMICA!K1306","v":0},{"$f":"VALUE(DINAMICA!$L1306)","v":0},{"$f":"VALUE(DINAMICA!$M1306)","v":0},{"$f":"VALUE(DINAMICA!$N1306)","v":0},{"$f":"VALUE(DINAMICA!$O1306)","v":0},{"$f":"VALUE(DINAMICA!$P1306)","v":0},{"$f":"VALUE(DINAMICA!$Q1306)","v":0},{"$f":"VALUE(DINAMICA!$R1306)","v":0}]
[{"$f":"VALUE(DINAMICA!$A1307)","v":0},{"$f":"VALUE(DINAMICA!$B1307)","v":"00:00:00"},{"$f":"VALUE(DINAMICA!$C1307)","v":0},{"$f":"DINAMICA!D1307","v":0},{"$f":"DINAMICA!E1307","v":0},{"$f":"DINAMICA!F1307","v":0},{"$f":"DINAMICA!G1307","v":0},{"$f":"DINAMICA!H1307","v":0},{"$f":"DINAMICA!I1307","v":0},{"$f":"DINAMICA!J1307","v":0},{"$f":"DINAMICA!K1307","v":0},{"$f":"VALUE(DINAMICA!$L1307)","v":0},{"$f":"VALUE(DINAMICA!$M1307)","v":0},{"$f":"VALUE(DINAMICA!$N1307)","v":0},{"$f":"VALUE(DINAMICA!$O1307)","v":0},{"$f":"VALUE(DINAMICA!$P1307)","v":0},{"$f":"VALUE(DINAMICA!$Q1307)","v":0},{"$f":"VALUE(DINAMICA!$R1307)","v":0}]
[{"$f":"VALUE(DINAMICA!$A1308)","v":0},{"$f":"VALUE(DINAMICA!$B1308)","v":"00:00:00"},{"$f":"VALUE(DINAMICA!$C1308)","v":0},{"$f":"DINAMICA!D1308","v":0},{"$f":"DINAMICA!E1308","v":0},{"$f":"DINAMICA!F1308","v":0},{"$f":"DINAMICA!G1308","v":0},{"$f":"DINAMICA!H1308","v":0},{"$f":"DINAMICA!I1308","v":0},{"$f":"DINAMICA!J1308","v":0},{"$f":"DINAMICA!K1308","v":0},{"$f":"VALUE(DINAMICA!$L1308)","v":0},{"$f":"VALUE(DINAMICA!$M1308)","v":0},{"$f":"VALUE(DINAMICA!$N1308)","v":0},{"$f":"VALUE(DINAMICA!$O1308)","v":0},{"$f":"VALUE(DINAMICA!$P1308)","v":0},{"$f":"VALUE(DINAMICA!$Q1308)","v":0},{"$f":"VALUE(DINAMICA!$R1308)","v":0}]
[{"$f":"VALUE(DINAMICA!$A1309)","v":0},{"$f":"VALUE(DINAMICA!$B1309)","v":"00:00:00"},{"$f":"VALUE(DINAMICA!$C1309)","v":0},{"$f":"DINAMICA!D1309","v":0},{"$f":"DINAMICA!E1309","v":0},{"$f":"DINAMICA!F1309","v":0},{"$f":"DINAMICA!G1309","v":0},{"$f":"DINAMICA!H1309","v":0},{"$f":"DINAMICA!I1309","v":0},{"$f":"DINAMICA!J1309","v":0},{"$f":"DINAMICA!K1309","v":0},{"$f":"VALUE(DINAMICA!$L1309)","v":0},{"$f":"VALUE(DINAMICA!$M1309)","v":0},{"$f":"VALUE(DINAMICA!$N1309)","v":0},{"$f":"VALUE(DINAMICA!$O1309)","v":0},{"$f":"VALUE(DINAMICA!$P1309)","v":0},{"$f":"VALUE(DINAMICA!$Q1309)","v":0},{"$f":"VALUE(DINAMICA!$R1309)","v":0}]
[{"$f":"VALUE(DINAMICA!$A1310)","v":0},{"$f":"VALUE(DINAMICA!$B1310)","v":"00:00:00"},{"$f":"VALUE(DINAMICA!$C1310)","v":0},{"$f":"DINAMICA!D1310","v":0},{"$f":"DINAMICA!E1310","v":0},{"$f":"DINAMICA!F1310","v":0},{"$f":"DINAMICA!G1310","v":0},{"$f":"DINAMICA!H1310","v":0},{"$f":"DINAMICA!I1310","v":0},{"$f":"DINAMICA!J1310","v":0},{"$f":"DINAMICA!K1310","v":0},{"$f":"VALUE(DINAMICA!$L1310)","v":0},{"$f":"VALUE(DINAMICA!$M1310)","v":0},{"$f":"VALUE(DINAMICA!$N1310)","v":0},{"$f":"VALUE(DINAMICA!$O1310)","v":0},{"$f":"VALUE(DINAMICA!$P1310)","v":0},{"$f":"VALUE(DINAMICA!$Q1310)","v":0},{"$f":"VALUE(DINAMICA!$R1310)","v":0}]
[{"$f":"VALUE(DINAMICA!$A1311)","v":0},{"$f":"VALUE(DINAMICA!$B1311)","v":"00:00:00"},{"$f":"VALUE(DINAMICA!$C1311)","v":0},{"$f":"DINAMICA!D1311","v":0},{"$f":"DINAMICA!E1311","v":0},{"$f":"DINAMICA!F1311","v":0},{"$f":"DINAMICA!G1311","v":0},{"$f":"DINAMICA!H1311","v":0},{"$f":"DINAMICA!I1311","v":0},{"$f":"DINAMICA!J1311","v":0},{"$f":"DINAMICA!K1311","v":0},{"$f":"VALUE(DINAMICA!$L1311)","v":0},{"$f":"VALUE(DINAMICA!$M1311)","v":0},{"$f":"VALUE(DINAMICA!$N1311)","v":0},{"$f":"VALUE(DINAMICA!$O1311)","v":0},{"$f":"VALUE(DINAMICA!$P1311)","v":0},{"$f":"VALUE(DINAMICA!$Q1311)","v":0},{"$f":"VALUE(DINAMICA!$R1311)","v":0}]
[{"$f":"VALUE(DINAMICA!$A1312)","v":0},{"$f":"VALUE(DINAMICA!$B1312)","v":"00:00:00"},{"$f":"VALUE(DINAMICA!$C1312)","v":0},{"$f":"DINAMICA!D1312","v":0},{"$f":"DINAMICA!E1312","v":0},{"$f":"DINAMICA!F1312","v":0},{"$f":"DINAMICA!G1312","v":0},{"$f":"DINAMICA!H1312","v":0},{"$f":"DINAMICA!I1312","v":0},{"$f":"DINAMICA!J1312","v":0},{"$f":"DINAMICA!K1312","v":0},{"$f":"VALUE(DINAMICA!$L1312)","v":0},{"$f":"VALUE(DINAMICA!$M1312)","v":0},{"$f":"VALUE(DINAMICA!$N1312)","v":0},{"$f":"VALUE(DINAMICA!$O1312)","v":0},{"$f":"VALUE(DINAMICA!$P1312)","v":0},{"$f":"VALUE(DINAMICA!$Q1312)","v":0},{"$f":"VALUE(DINAMICA!$R1312)","v":0}]
[{"$f":"VALUE(DINAMICA!$A1313)","v":0},{"$f":"VALUE(DINAMICA!$B1313)","v":"00:00:00"},{"$f":"VALUE(DINAMICA!$C1313)","v":0},{"$f":"DINAMICA!D1313","v":0},{"$f":"DINAMICA!E1313","v":0},{"$f":"DINAMICA!F1313","v":0},{"$f":"DINAMICA!G1313","v":0},{"$f":"DINAMICA!H1313","v":0},{"$f":"DINAMICA!I1313","v":0},{"$f":"DINAMICA!J1313","v":0},{"$f":"DINAMICA!K1313","v":0},{"$f":"VALUE(DINAMICA!$L1313)","v":0},{"$f":"VALUE(DINAMICA!$M1313)","v":0},{"$f":"VALUE(DINAMICA!$N1313)","v":0},{"$f":"VALUE(DINAMICA!$O1313)","v":0},{"$f":"VALUE(DINAMICA!$P1313)","v":0},{"$f":"VALUE(DINAMICA!$Q1313)","v":0},{"$f":"VALUE(DINAMICA!$R1313)","v":0}]
[{"$f":"VALUE(DINAMICA!$A1314)","v":0},{"$f":"VALUE(DINAMICA!$B1314)","v":"00:00:00"},{"$f":"VALUE(DINAMICA!$C1314)","v":0},{"$f":"DINAMICA!D1314","v":0},{"$f":"DINAMICA!E1314","v":0},{"$f":"DINAMICA!F1314","v":0},{"$f":"DINAMICA!G1314","v":0},{"$f":"DINAMICA!H1314","v":0},{"$f":"DINAMICA!I1314","v":0},{"$f":"DINAMICA!J1314","v":0},{"$f":"DINAMICA!K1314","v":0},{"$f":"VALUE(DINAMICA!$L1314)","v":0},{"$f":"VALUE(DINAMICA!$M1314)","v":0},{"$f":"VALUE(DINAMICA!$N1314)","v":0},{"$f":"VALUE(DINAMICA!$O1314)","v":0},{"$f":"VALUE(DINAMICA!$P1314)","v":0},{"$f":"VALUE(DINAMICA!$Q1314)","v":0},{"$f":"VALUE(DINAMICA!$R1314)","v":0}]
[{"$f":"VALUE(DINAMICA!$A1315)","v":0},{"$f":"VALUE(DINAMICA!$B1315)","v":"00:00:00"},{"$f":"VALUE(DINAMICA!$C1315)","v":0},{"$f":"DINAMICA!D1315","v":0},{"$f":"DINAMICA!E1315","v":0},{"$f":"DINAMICA!F1315","v":0},{"$f":"DINAMICA!G1315","v":0},{"$f":"DINAMICA!H1315","v":0},{"$f":"DINAMICA!I1315","v":0},{"$f":"DINAMICA!J1315","v":0},{"$f":"DINAMICA!K1315","v":0},{"$f":"VALUE(DINAMICA!$L1315)","v":0},{"$f":"VALUE(DINAMICA!$M1315)","v":0},{"$f":"VALUE(DINAMICA!$N1315)","v":0},{"$f":"VALUE(DINAMICA!$O1315)","v":0},{"$f":"VALUE(DINAMICA!$P1315)","v":0},{"$f":"VALUE(DINAMICA!$Q1315)","v":0},{"$f":"VALUE(DINAMICA!$R1315)","v":0}]
[{"$f":"VALUE(DINAMICA!$A1316)","v":0},{"$f":"VALUE(DINAMICA!$B1316)","v":"00:00:00"},{"$f":"VALUE(DINAMICA!$C1316)","v":0},{"$f":"DINAMICA!D1316","v":0},{"$f":"DINAMICA!E1316","v":0},{"$f":"DINAMICA!F1316","v":0},{"$f":"DINAMICA!G1316","v":0},{"$f":"DINAMICA!H1316","v":0},{"$f":"DINAMICA!I1316","v":0},{"$f":"DINAMICA!J1316","v":0},{"$f":"DINAMICA!K1316","v":0},{"$f":"VALUE(DINAMICA!$L1316)","v":0},{"$f":"VALUE(DINAMICA!$M1316)","v":0},{"$f":"VALUE(DINAMICA!$N1316)","v":0},{"$f":"VALUE(DINAMICA!$O1316)","v":0},{"$f":"VALUE(DINAMICA!$P1316)","v":0},{"$f":"VALUE(DINAMICA!$Q1316)","v":0},{"$f":"VALUE(DINAMICA!$R1316)","v":0}]
[{"$f":"VALUE(DINAMICA!$A1317)","v":0},{"$f":"VALUE(DINAMICA!$B1317)","v":"00:00:00"},{"$f":"VALUE(DINAMICA!$C1317)","v":0},{"$f":"DINAMICA!D1317","v":0},{"$f":"DINAMICA!E1317","v":0},{"$f":"DINAMICA!F1317","v":0},{"$f":"DINAMICA!G1317","v":0},{"$f":"DINAMICA!H1317","v":0},{"$f":"DINAMICA!I1317","v":0},{"$f":"DINAMICA!J1317","v":0},{"$f":"DINAMICA!K1317","v":0},{"$f":"VALUE(DINAMICA!$L1317)","v":0},{"$f":"VALUE(DINAMICA!$M1317)","v":0},{"$f":"VALUE(DINAMICA!$N1317)","v":0},{"$f":"VALUE(DINAMICA!$O1317)","v":0},{"$f":"VALUE(DINAMICA!$P1317)","v":0},{"$f":"VALUE(DINAMICA!$Q1317)","v":0},{"$f":"VALUE(DINAMICA!$R1317)","v":0}]
[{"$f":"VALUE(DINAMICA!$A1318)","v":0},{"$f":"VALUE(DINAMICA!$B1318)","v":"00:00:00"},{"$f":"VALUE(DINAMICA!$C1318)","v":0},{"$f":"DINAMICA!D1318","v":0},{"$f":"DINAMICA!E1318","v":0},{"$f":"DINAMICA!F1318","v":0},{"$f":"DINAMICA!G1318","v":0},{"$f":"DINAMICA!H1318","v":0},{"$f":"DINAMICA!I1318","v":0},{"$f":"DINAMICA!J1318","v":0},{"$f":"DINAMICA!K1318","v":0},{"$f":"VALUE(DINAMICA!$L1318)","v":0},{"$f":"VALUE(DINAMICA!$M1318)","v":0},{"$f":"VALUE(DINAMICA!$N1318)","v":0},{"$f":"VALUE(DINAMICA!$O1318)","v":0},{"$f":"VALUE(DINAMICA!$P1318)","v":0},{"$f":"VALUE(DINAMICA!$Q1318)","v":0},{"$f":"VALUE(DINAMICA!$R1318)","v":0}]
[{"$f":"VALUE(DINAMICA!$A1319)","v":0},{"$f":"VALUE(DINAMICA!$B1319)","v":"00:00:00"},{"$f":"VALUE(DINAMICA!$C1319)","v":0},{"$f":"DINAMICA!D1319","v":0},{"$f":"DINAMICA!E1319","v":0},{"$f":"DINAMICA!F1319","v":0},{"$f":"DINAMICA!G1319","v":0},{"$f":"DINAMICA!H1319","v":0},{"$f":"DINAMICA!I1319","v":0},{"$f":"DINAMICA!J1319","v":0},{"$f":"DINAMICA!K1319","v":0},{"$f":"VALUE(DINAMICA!$L1319)","v":0},{"$f":"VALUE(DINAMICA!$M1319)","v":0},{"$f":"VALUE(DINAMICA!$N1319)","v":0},{"$f":"VALUE(DINAMICA!$O1319)","v":0},{"$f":"VALUE(DINAMICA!$P1319)","v":0},{"$f":"VALUE(DINAMICA!$Q1319)","v":0},{"$f":"VALUE(DINAMICA!$R1319)","v":0}]
[{"$f":"VALUE(DINAMICA!$A1320)","v":0},{"$f":"VALUE(DINAMICA!$B1320)","v":"00:00:00"},{"$f":"VALUE(DINAMICA!$C1320)","v":0},{"$f":"DINAMICA!D1320","v":0},{"$f":"DINAMICA!E1320","v":0},{"$f":"DINAMICA!F1320","v":0},{"$f":"DINAMICA!G1320","v":0},{"$f":"DINAMICA!H1320","v":0},{"$f":"DINAMICA!I1320","v":0},{"$f":"DINAMICA!J1320","v":0},{"$f":"DINAMICA!K1320","v":0},{"$f":"VALUE(DINAMICA!$L1320)","v":0},{"$f":"VALUE(DINAMICA!$M1320)","v":0},{"$f":"VALUE(DINAMICA!$N1320)","v":0},{"$f":"VALUE(DINAMICA!$O1320)","v":0},{"$f":"VALUE(DINAMICA!$P1320)","v":0},{"$f":"VALUE(DINAMICA!$Q1320)","v":0},{"$f":"VALUE(DINAMICA!$R1320)","v":0}]
[{"$f":"VALUE(DINAMICA!$A1321)","v":0},{"$f":"VALUE(DINAMICA!$B1321)","v":"00:00:00"},{"$f":"VALUE(DINAMICA!$C1321)","v":0},{"$f":"DINAMICA!D1321","v":0},{"$f":"DINAMICA!E1321","v":0},{"$f":"DINAMICA!F1321","v":0},{"$f":"DINAMICA!G1321","v":0},{"$f":"DINAMICA!H1321","v":0},{"$f":"DINAMICA!I1321","v":0},{"$f":"DINAMICA!J1321","v":0},{"$f":"DINAMICA!K1321","v":0},{"$f":"VALUE(DINAMICA!$L1321)","v":0},{"$f":"VALUE(DINAMICA!$M1321)","v":0},{"$f":"VALUE(DINAMICA!$N1321)","v":0},{"$f":"VALUE(DINAMICA!$O1321)","v":0},{"$f":"VALUE(DINAMICA!$P1321)","v":0},{"$f":"VALUE(DINAMICA!$Q1321)","v":0},{"$f":"VALUE(DINAMICA!$R1321)","v":0}]
[{"$f":"VALUE(DINAMICA!$A1322)","v":0},{"$f":"VALUE(DINAMICA!$B1322)","v":"00:00:00"},{"$f":"VALUE(DINAMICA!$C1322)","v":0},{"$f":"DINAMICA!D1322","v":0},{"$f":"DINAMICA!E1322","v":0},{"$f":"DINAMICA!F1322","v":0},{"$f":"DINAMICA!G1322","v":0},{"$f":"DINAMICA!H1322","v":0},{"$f":"DINAMICA!I1322","v":0},{"$f":"DINAMICA!J1322","v":0},{"$f":"DINAMICA!K1322","v":0},{"$f":"VALUE(DINAMICA!$L1322)","v":0},{"$f":"VALUE(DINAMICA!$M1322)","v":0},{"$f":"VALUE(DINAMICA!$N1322)","v":0},{"$f":"VALUE(DINAMICA!$O1322)","v":0},{"$f":"VALUE(DINAMICA!$P1322)","v":0},{"$f":"VALUE(DINAMICA!$Q1322)","v":0},{"$f":"VALUE(DINAMICA!$R1322)","v":0}]
[{"$f":"VALUE(DINAMICA!$A1323)","v":0},{"$f":"VALUE(DINAMICA!$B1323)","v":"00:00:00"},{"$f":"VALUE(DINAMICA!$C1323)","v":0},{"$f":"DINAMICA!D1323","v":0},{"$f":"DINAMICA!E1323","v":0},{"$f":"DINAMICA!F1323","v":0},{"$f":"DINAMICA!G1323","v":0},{"$f":"DINAMICA!H1323","v":0},{"$f":"DINAMICA!I1323","v":0},{"$f":"DINAMICA!J1323","v":0},{"$f":"DINAMICA!K1323","v":0},{"$f":"VALUE(DINAMICA!$L1323)","v":0},{"$f":"VALUE(DINAMICA!$M1323)","v":0},{"$f":"VALUE(DINAMICA!$N1323)","v":0},{"$f":"VALUE(DINAMICA!$O1323)","v":0},{"$f":"VALUE(DINAMICA!$P1323)","v":0},{"$f":"VALUE(DINAMICA!$Q1323)","v":0},{"$f":"VALUE(DINAMICA!$R1323)","v":0}]
[{"$f":"VALUE(DINAMICA!$A1324)","v":0},{"$f":"VALUE(DINAMICA!$B1324)","v":"00:00:00"},{"$f":"VALUE(DINAMICA!$C1324)","v":0},{"$f":"DINAMICA!D1324","v":0},{"$f":"DINAMICA!E1324","v":0},{"$f":"DINAMICA!F1324","v":0},{"$f":"DINAMICA!G1324","v":0},{"$f":"DINAMICA!H1324","v":0},{"$f":"DINAMICA!I1324","v":0},{"$f":"DINAMICA!J1324","v":0},{"$f":"DINAMICA!K1324","v":0},{"$f":"VALUE(DINAMICA!$L1324)","v":0},{"$f":"VALUE(DINAMICA!$M1324)","v":0},{"$f":"VALUE(DINAMICA!$N1324)","v":0},{"$f":"VALUE(DINAMICA!$O1324)","v":0},{"$f":"VALUE(DINAMICA!$P1324)","v":0},{"$f":"VALUE(DINAMICA!$Q1324)","v":0},{"$f":"VALUE(DINAMICA!$R1324)","v":0}]
[{"$f":"VALUE(DINAMICA!$A1325)","v":0},{"$f":"VALUE(DINAMICA!$B1325)","v":"00:00:00"},{"$f":"VALUE(DINAMICA!$C1325)","v":0},{"$f":"DINAMICA!D1325","v":0},{"$f":"DINAMICA!E1325","v":0},{"$f":"DINAMICA!F1325","v":0},{"$f":"DINAMICA!G1325","v":0},{"$f":"DINAMICA!H1325","v":0},{"$f":"DINAMICA!I1325","v":0},{"$f":"DINAMICA!J1325","v":0},{"$f":"DINAMICA!K1325","v":0},{"$f":"VALUE(DINAMICA!$L1325)","v":0},{"$f":"VALUE(DINAMICA!$M1325)","v":0},{"$f":"VALUE(DINAMICA!$N1325)","v":0},{"$f":"VALUE(DINAMICA!$O1325)","v":0},{"$f":"VALUE(DINAMICA!$P1325)","v":0},{"$f":"VALUE(DINAMICA!$Q1325)","v":0},{"$f":"VALUE(DINAMICA!$R1325)","v":0}]
[{"$f":"VALUE(DINAMICA!$A1326)","v":0},{"$f":"VALUE(DINAMICA!$B1326)","v":"00:00:00"},{"$f":"VALUE(DINAMICA!$C1326)","v":0},{"$f":"DINAMICA!D1326","v":0},{"$f":"DINAMICA!E1326","v":0},{"$f":"DINAMICA!F1326","v":0},{"$f":"DINAMICA!G1326","v":0},{"$f":"DINAMICA!H1326","v":0},{"$f":"DINAMICA!I1326","v":0},{"$f":"DINAMICA!J1326","v":0},{"$f":"DINAMICA!K1326","v":0},{"$f":"VALUE(DINAMICA!$L1326)","v":0},{"$f":"VALUE(DINAMICA!$M1326)","v":0},{"$f":"VALUE(DINAMICA!$N1326)","v":0},{"$f":"VALUE(DINAMICA!$O1326)","v":0},{"$f":"VALUE(DINAMICA!$P1326)","v":0},{"$f":"VALUE(DINAMICA!$Q1326)","v":0},{"$f":"VALUE(DINAMICA!$R1326)","v":0}]
[{"$f":"VALUE(DINAMICA!$A1327)","v":0},{"$f":"VALUE(DINAMICA!$B1327)","v":"00:00:00"},{"$f":"VALUE(DINAMICA!$C1327)","v":0},{"$f":"DINAMICA!D1327","v":0},{"$f":"DINAMICA!E1327","v":0},{"$f":"DINAMICA!F1327","v":0},{"$f":"DINAMICA!G1327","v":0},{"$f":"DINAMICA!H1327","v":0},{"$f":"DINAMICA!I1327","v":0},{"$f":"DINAMICA!J1327","v":0},{"$f":"DINAMICA!K1327","v":0},{"$f":"VALUE(DINAMICA!$L1327)","v":0},{"$f":"VALUE(DINAMICA!$M1327)","v":0},{"$f":"VALUE(DINAMICA!$N1327)","v":0},{"$f":"VALUE(DINAMICA!$O1327)","v":0},{"$f":"VALUE(DINAMICA!$P1327)","v":0},{"$f":"VALUE(DINAMICA!$Q1327)","v":0},{"$f":"VALUE(DINAMICA!$R1327)","v":0}]
[{"$f":"VALUE(DINAMICA!$A1328)","v":0},{"$f":"VALUE(DINAMICA!$B1328)","v":"00:00:00"},{"$f":"VALUE(DINAMICA!$C1328)","v":0},{"$f":"DINAMICA!D1328","v":0},{"$f":"DINAMICA!E1328","v":0},{"$f":"DINAMICA!F1328","v":0},{"$f":"DINAMICA!G1328","v":0},{"$f":"DINAMICA!H1328","v":0},{"$f":"DINAMICA!I1328","v":0},{"$f":"DINAMICA!J1328","v":0},{"$f":"DINAMICA!K1328","v":0},{"$f":"VALUE(DINAMICA!$L1328)","v":0},{"$f":"VALUE(DINAMICA!$M1328)","v":0},{"$f":"VALUE(DINAMICA!$N1328)","v":0},{"$f":"VALUE(DINAMICA!$O1328)","v":0},{"$f":"VALUE(DINAMICA!$P1328)","v":0},{"$f":"VALUE(DINAMICA!$Q1328)","v":0},{"$f":"VALUE(DINAMICA!$R1328)","v":0}]
[{"$f":"VALUE(DINAMICA!$A1329)","v":0},{"$f":"VALUE(DINAMICA!$B1329)","v":"00:00:00"},{"$f":"VALUE(DINAMICA!$C1329)","v":0},{"$f":"DINAMICA!D1329","v":0},{"$f":"DINAMICA!E1329","v":0},{"$f":"DINAMICA!F1329","v":0},{"$f":"DINAMICA!G1329","v":0},{"$f":"DINAMICA!H1329","v":0},{"$f":"DINAMICA!I1329","v":0},{"$f":"DINAMICA!J1329","v":0},{"$f":"DINAMICA!K1329","v":0},{"$f":"VALUE(DINAMICA!$L1329)","v":0},{"$f":"VALUE(DINAMICA!$M1329)","v":0},{"$f":"VALUE(DINAMICA!$N1329)","v":0},{"$f":"VALUE(DINAMICA!$O1329)","v":0},{"$f":"VALUE(DINAMICA!$P1329)","v":0},{"$f":"VALUE(DINAMICA!$Q1329)","v":0},{"$f":"VALUE(DINAMICA!$R1329)","v":0}]
[{"$f":"VALUE(DINAMICA!$A1330)","v":0},{"$f":"VALUE(DINAMICA!$B1330)","v":"00:00:00"},{"$f":"VALUE(DINAMICA!$C1330)","v":0},{"$f":"DINAMICA!D1330","v":0},{"$f":"DINAMICA!E1330","v":0},{"$f":"DINAMICA!F1330","v":0},{"$f":"DINAMICA!G1330","v":0},{"$f":"DINAMICA!H1330","v":0},{"$f":"DINAMICA!I1330","v":0},{"$f":"DINAMICA!J1330","v":0},{"$f":"DINAMICA!K1330","v":0},{"$f":"VALUE(DINAMICA!$L1330)","v":0},{"$f":"VALUE(DINAMICA!$M1330)","v":0},{"$f":"VALUE(DINAMICA!$N1330)","v":0},{"$f":"VALUE(DINAMICA!$O1330)","v":0},{"$f":"VALUE(DINAMICA!$P1330)","v":0},{"$f":"VALUE(DINAMICA!$Q1330)","v":0},{"$f":"VALUE(DINAMICA!$R1330)","v":0}]
[{"$f":"VALUE(DINAMICA!$A1331)","v":0},{"$f":"VALUE(DINAMICA!$B1331)","v":"00:00:00"},{"$f":"VALUE(DINAMICA!$C1331)","v":0},{"$f":"DINAMICA!D1331","v":0},{"$f":"DINAMICA!E1331","v":0},{"$f":"DINAMICA!F1331","v":0},{"$f":"DINAMICA!G1331","v":0},{"$f":"DINAMICA!H1331","v":0},{"$f":"DINAMICA!I1331","v":0},{"$f":"DINAMICA!J1331","v":0},{"$f":"DINAMICA!K1331","v":0},{"$f":"VALUE(DINAMICA!$L1331)","v":0},{"$f":"VALUE(DINAMICA!$M1331)","v":0},{"$f":"VALUE(DINAMICA!$N1331)","v":0},{"$f":"VALUE(DINAMICA!$O1331)","v":0},{"$f":"VALUE(DINAMICA!$P1331)","v":0},{"$f":"VALUE(DINAMICA!$Q1331)","v":0},{"$f":"VALUE(DINAMICA!$R1331)","v":0}]
[{"$f":"VALUE(DINAMICA!$A1332)","v":0},{"$f":"VALUE(DINAMICA!$B1332)","v":"00:00:00"},{"$f":"VALUE(DINAMICA!$C1332)","v":0},{"$f":"DINAMICA!D1332","v":0},{"$f":"DINAMICA!E1332","v":0},{"$f":"DINAMICA!F1332","v":0},{"$f":"DINAMICA!G1332","v":0},{"$f":"DINAMICA!H1332","v":0},{"$f":"DINAMICA!I1332","v":0},{"$f":"DINAMICA!J1332","v":0},{"$f":"DINAMICA!K1332","v":0},{"$f":"VALUE(DINAMICA!$L1332)","v":0},{"$f":"VALUE(DINAMICA!$M1332)","v":0},{"$f":"VALUE(DINAMICA!$N1332)","v":0},{"$f":"VALUE(DINAMICA!$O1332)","v":0},{"$f":"VALUE(DINAMICA!$P1332)","v":0},{"$f":"VALUE(DINAMICA!$Q1332)","v":0},{"$f":"VALUE(DINAMICA!$R1332)","v":0}]
[{"$f":"VALUE(DINAMICA!$A1333)","v":0},{"$f":"VALUE(DINAMICA!$B1333)","v":"00:00:00"},{"$f":"VALUE(DINAMICA!$C1333)","v":0},{"$f":"DINAMICA!D1333","v":0},{"$f":"DINAMICA!E1333","v":0},{"$f":"DINAMICA!F1333","v":0},{"$f":"DINAMICA!G1333","v":0},{"$f":"DINAMICA!H1333","v":0},{"$f":"DINAMICA!I1333","v":0},{"$f":"DINAMICA!J1333","v":0},{"$f":"DINAMICA!K1333","v":0},{"$f":"VALUE(DINAMICA!$L1333)","v":0},{"$f":"VALUE(DINAMICA!$M1333)","v":0},{"$f":"VALUE(DINAMICA!$N1333)","v":0},{"$f":"VALUE(DINAMICA!$O1333)","v":0},{"$f":"VALUE(DINAMICA!$P1333)","v":0},{"$f":"VALUE(DINAMICA!$Q1333)","v":0},{"$f":"VALUE(DINAMICA!$R1333)","v":0}]
[{"$f":"VALUE(DINAMICA!$A1334)","v":0},{"$f":"VALUE(DINAMICA!$B1334)","v":"00:00:00"},{"$f":"VALUE(DINAMICA!$C1334)","v":0},{"$f":"DINAMICA!D1334","v":0},{"$f":"DINAMICA!E1334","v":0},{"$f":"DINAMICA!F1334","v":0},{"$f":"DINAMICA!G1334","v":0},{"$f":"DINAMICA!H1334","v":0},{"$f":"DINAMICA!I1334","v":0},{"$f":"DINAMICA!J1334","v":0},{"$f":"DINAMICA!K1334","v":0},{"$f":"VALUE(DINAMICA!$L1334)","v":0},{"$f":"VALUE(DINAMICA!$M1334)","v":0},{"$f":"VALUE(DINAMICA!$N1334)","v":0},{"$f":"VALUE(DINAMICA!$O1334)","v":0},{"$f":"VALUE(DINAMICA!$P1334)","v":0},{"$f":"VALUE(DINAMICA!$Q1334)","v":0},{"$f":"VALUE(DINAMICA!$R1334)","v":0}]
[{"$f":"VALUE(DINAMICA!$A1335)","v":0},{"$f":"VALUE(DINAMICA!$B1335)","v":"00:00:00"},{"$f":"VALUE(DINAMICA!$C1335)","v":0},{"$f":"DINAMICA!D1335","v":0},{"$f":"DINAMICA!E1335","v":0},{"$f":"DINAMICA!F1335","v":0},{"$f":"DINAMICA!G1335","v":0},{"$f":"DINAMICA!H1335","v":0},{"$f":"DINAMICA!I1335","v":0},{"$f":"DINAMICA!J1335","v":0},{"$f":"DINAMICA!K1335","v":0},{"$f":"VALUE(DINAMICA!$L1335)","v":0},{"$f":"VALUE(DINAMICA!$M1335)","v":0},{"$f":"VALUE(DINAMICA!$N1335)","v":0},{"$f":"VALUE(DINAMICA!$O1335)","v":0},{"$f":"VALUE(DINAMICA!$P1335)","v":0},{"$f":"VALUE(DINAMICA!$Q1335)","v":0},{"$f":"VALUE(DINAMICA!$R1335)","v":0}]
[{"$f":"VALUE(DINAMICA!$A1336)","v":0},{"$f":"VALUE(DINAMICA!$B1336)","v":"00:00:00"},{"$f":"VALUE(DINAMICA!$C1336)","v":0},{"$f":"DINAMICA!D1336","v":0},{"$f":"DINAMICA!E1336","v":0},{"$f":"DINAMICA!F1336","v":0},{"$f":"DINAMICA!G1336","v":0},{"$f":"DINAMICA!H1336","v":0},{"$f":"DINAMICA!I1336","v":0},{"$f":"DINAMICA!J1336","v":0},{"$f":"DINAMICA!K1336","v":0},{"$f":"VALUE(DINAMICA!$L1336)","v":0},{"$f":"VALUE(DINAMICA!$M1336)","v":0},{"$f":"VALUE(DINAMICA!$N1336)","v":0},{"$f":"VALUE(DINAMICA!$O1336)","v":0},{"$f":"VALUE(DINAMICA!$P1336)","v":0},{"$f":"VALUE(DINAMICA!$Q1336)","v":0},{"$f":"VALUE(DINAMICA!$R1336)","v":0}]
[{"$f":"VALUE(DINAMICA!$A1337)","v":0},{"$f":"VALUE(DINAMICA!$B1337)","v":"00:00:00"},{"$f":"VALUE(DINAMICA!$C1337)","v":0},{"$f":"DINAMICA!D1337","v":0},{"$f":"DINAMICA!E1337","v":0},{"$f":"DINAMICA!F1337","v":0},{"$f":"DINAMICA!G1337","v":0},{"$f":"DINAMICA!H1337","v":0},{"$f":"DINAMICA!I1337","v":0},{"$f":"DINAMICA!J1337","v":0},{"$f":"DINAMICA!K1337","v":0},{"$f":"VALUE(DINAMICA!$L1337)","v":0},{"$f":"VALUE(DINAMICA!$M1337)","v":0},{"$f":"VALUE(DINAMICA!$N1337)","v":0},{"$f":"VALUE(DINAMICA!$O1337)","v":0},{"$f":"VALUE(DINAMICA!$P1337)","v":0},{"$f":"VALUE(DINAMICA!$Q1337)","v":0},{"$f":"VALUE(DINAMICA!$R1337)","v":0}]
[{"$f":"VALUE(DINAMICA!$A1338)","v":0},{"$f":"VALUE(DINAMICA!$B1338)","v":"00:00:00"},{"$f":"VALUE(DINAMICA!$C1338)","v":0},{"$f":"DINAMICA!D1338","v":0},{"$f":"DINAMICA!E1338","v":0},{"$f":"DINAMICA!F1338","v":0},{"$f":"DINAMICA!G1338","v":0},{"$f":"DINAMICA!H1338","v":0},{"$f":"DINAMICA!I1338","v":0},{"$f":"DINAMICA!J1338","v":0},{"$f":"DINAMICA!K1338","v":0},{"$f":"VALUE(DINAMICA!$L1338)","v":0},{"$f":"VALUE(DINAMICA!$M1338)","v":0},{"$f":"VALUE(DINAMICA!$N1338)","v":0},{"$f":"VALUE(DINAMICA!$O1338)","v":0},{"$f":"VALUE(DINAMICA!$P1338)","v":0},{"$f":"VALUE(DINAMICA!$Q1338)","v":0},{"$f":"VALUE(DINAMICA!$R1338)","v":0}]
[{"$f":"VALUE(DINAMICA!$A1339)","v":0},{"$f":"VALUE(DINAMICA!$B1339)","v":"00:00:00"},{"$f":"VALUE(DINAMICA!$C1339)","v":0},{"$f":"DINAMICA!D1339","v":0},{"$f":"DINAMICA!E1339","v":0},{"$f":"DINAMICA!F1339","v":0},{"$f":"DINAMICA!G1339","v":0},{"$f":"DINAMICA!H1339","v":0},{"$f":"DINAMICA!I1339","v":0},{"$f":"DINAMICA!J1339","v":0},{"$f":"DINAMICA!K1339","v":0},{"$f":"VALUE(DINAMICA!$L1339)","v":0},{"$f":"VALUE(DINAMICA!$M1339)","v":0},{"$f":"VALUE(DINAMICA!$N1339)","v":0},{"$f":"VALUE(DINAMICA!$O1339)","v":0},{"$f":"VALUE(DINAMICA!$P1339)","v":0},{"$f":"VALUE(DINAMICA!$Q1339)","v":0},{"$f":"VALUE(DINAMICA!$R1339)","v":0}]
[{"$f":"VALUE(DINAMICA!$A1340)","v":0},{"$f":"VALUE(DINAMICA!$B1340)","v":"00:00:00"},{"$f":"VALUE(DINAMICA!$C1340)","v":0},{"$f":"DINAMICA!D1340","v":0},{"$f":"DINAMICA!E1340","v":0},{"$f":"DINAMICA!F1340","v":0},{"$f":"DINAMICA!G1340","v":0},{"$f":"DINAMICA!H1340","v":0},{"$f":"DINAMICA!I1340","v":0},{"$f":"DINAMICA!J1340","v":0},{"$f":"DINAMICA!K1340","v":0},{"$f":"VALUE(DINAMICA!$L1340)","v":0},{"$f":"VALUE(DINAMICA!$M1340)","v":0},{"$f":"VALUE(DINAMICA!$N1340)","v":0},{"$f":"VALUE(DINAMICA!$O1340)","v":0},{"$f":"VALUE(DINAMICA!$P1340)","v":0},{"$f":"VALUE(DINAMICA!$Q1340)","v":0},{"$f":"VALUE(DINAMICA!$R1340)","v":0}]
[{"$f":"VALUE(DINAMICA!$A1341)","v":0},{"$f":"VALUE(DINAMICA!$B1341)","v":"00:00:00"},{"$f":"VALUE(DINAMICA!$C1341)","v":0},{"$f":"DINAMICA!D1341","v":0},{"$f":"DINAMICA!E1341","v":0},{"$f":"DINAMICA!F1341","v":0},{"$f":"DINAMICA!G1341","v":0},{"$f":"DINAMICA!H1341","v":0},{"$f":"DINAMICA!I1341","v":0},{"$f":"DINAMICA!J1341","v":0},{"$f":"DINAMICA!K1341","v":0},{"$f":"VALUE(DINAMICA!$L1341)","v":0},{"$f":"VALUE(DINAMICA!$M1341)","v":0},{"$f":"VALUE(DINAMICA!$N1341)","v":0},{"$f":"VALUE(DINAMICA!$O1341)","v":0},{"$f":"VALUE(DINAMICA!$P1341)","v":0},{"$f":"VALUE(DINAMICA!$Q1341)","v":0},{"$f":"VALUE(DINAMICA!$R1341)","v":0}]
[{"$f":"VALUE(DINAMICA!$A1342)","v":0},{"$f":"VALUE(DINAMICA!$B1342)","v":"00:00:00"},{"$f":"VALUE(DINAMICA!$C1342)","v":0},{"$f":"DINAMICA!D1342","v":0},{"$f":"DINAMICA!E1342","v":0},{"$f":"DINAMICA!F1342","v":0},{"$f":"DINAMICA!G1342","v":0},{"$f":"DINAMICA!H1342","v":0},{"$f":"DINAMICA!I1342","v":0},{"$f":"DINAMICA!J1342","v":0},{"$f":"DINAMICA!K1342","v":0},{"$f":"VALUE(DINAMICA!$L1342)","v":0},{"$f":"VALUE(DINAMICA!$M1342)","v":0},{"$f":"VALUE(DINAMICA!$N1342)","v":0},{"$f":"VALUE(DINAMICA!$O1342)","v":0},{"$f":"VALUE(DINAMICA!$P1342)","v":0},{"$f":"VALUE(DINAMICA!$Q1342)","v":0},{"$f":"VALUE(DINAMICA!$R1342)","v":0}]
[{"$f":"VALUE(DINAMICA!$A1343)","v":0},{"$f":"VALUE(DINAMICA!$B1343)","v":"00:00:00"},{"$f":"VALUE(DINAMICA!$C1343)","v":0},{"$f":"DINAMICA!D1343","v":0},{"$f":"DINAMICA!E1343","v":0},{"$f":"DINAMICA!F1343","v":0},{"$f":"DINAMICA!G1343","v":0},{"$f":"DINAMICA!H1343","v":0},{"$f":"DINAMICA!I1343","v":0},{"$f":"DINAMICA!J1343","v":0},{"$f":"DINAMICA!K1343","v":0},{"$f":"VALUE(DINAMICA!$L1343)","v":0},{"$f":"VALUE(DINAMICA!$M1343)","v":0},{"$f":"VALUE(DINAMICA!$N1343)","v":0},{"$f":"VALUE(DINAMICA!$O1343)","v":0},{"$f":"VALUE(DINAMICA!$P1343)","v":0},{"$f":"VALUE(DINAMICA!$Q1343)","v":0},{"$f":"VALUE(DINAMICA!$R1343)","v":0}]
[{"$f":"VALUE(DINAMICA!$A1344)","v":0},{"$f":"VALUE(DINAMICA!$B1344)","v":"00:00:00"},{"$f":"VALUE(DINAMICA!$C1344)","v":0},{"$f":"DINAMICA!D1344","v":0},{"$f":"DINAMICA!E1344","v":0},{"$f":"DINAMICA!F1344","v":0},{"$f":"DINAMICA!G1344","v":0},{"$f":"DINAMICA!H1344","v":0},{"$f":"DINAMICA!I1344","v":0},{"$f":"DINAMICA!J1344","v":0},{"$f":"DINAMICA!K1344","v":0},{"$f":"VALUE(DINAMICA!$L1344)","v":0},{"$f":"VALUE(DINAMICA!$M1344)","v":0},{"$f":"VALUE(DINAMICA!$N1344)","v":0},{"$f":"VALUE(DINAMICA!$O1344)","v":0},{"$f":"VALUE(DINAMICA!$P1344)","v":0},{"$f":"VALUE(DINAMICA!$Q1344)","v":0},{"$f":"VALUE(DINAMICA!$R1344)","v":0}]
[{"$f":"VALUE(DINAMICA!$A1345)","v":0},{"$f":"VALUE(DINAMICA!$B1345)","v":"00:00:00"},{"$f":"VALUE(DINAMICA!$C1345)","v":0},{"$f":"DINAMICA!D1345","v":0},{"$f":"DINAMICA!E1345","v":0},{"$f":"DINAMICA!F1345","v":0},{"$f":"DINAMICA!G1345","v":0},{"$f":"DINAMICA!H1345","v":0},{"$f":"DINAMICA!I1345","v":0},{"$f":"DINAMICA!J1345","v":0},{"$f":"DINAMICA!K1345","v":0},{"$f":"VALUE(DINAMICA!$L1345)","v":0},{"$f":"VALUE(DINAMICA!$M1345)","v":0},{"$f":"VALUE(DINAMICA!$N1345)","v":0},{"$f":"VALUE(DINAMICA!$O1345)","v":0},{"$f":"VALUE(DINAMICA!$P1345)","v":0},{"$f":"VALUE(DINAMICA!$Q1345)","v":0},{"$f":"VALUE(DINAMICA!$R1345)","v":0}]
[{"$f":"VALUE(DINAMICA!$A1346)","v":0},{"$f":"VALUE(DINAMICA!$B1346)","v":"00:00:00"},{"$f":"VALUE(DINAMICA!$C1346)","v":0},{"$f":"DINAMICA!D1346","v":0},{"$f":"DINAMICA!E1346","v":0},{"$f":"DINAMICA!F1346","v":0},{"$f":"DINAMICA!G1346","v":0},{"$f":"DINAMICA!H1346","v":0},{"$f":"DINAMICA!I1346","v":0},{"$f":"DINAMICA!J1346","v":0},{"$f":"DINAMICA!K1346","v":0},{"$f":"VALUE(DINAMICA!$L1346)","v":0},{"$f":"VALUE(DINAMICA!$M1346)","v":0},{"$f":"VALUE(DINAMICA!$N1346)","v":0},{"$f":"VALUE(DINAMICA!$O1346)","v":0},{"$f":"VALUE(DINAMICA!$P1346)","v":0},{"$f":"VALUE(DINAMICA!$Q1346)","v":0},{"$f":"VALUE(DINAMICA!$R1346)","v":0}]
[{"$f":"VALUE(DINAMICA!$A1347)","v":0},{"$f":"VALUE(DINAMICA!$B1347)","v":"00:00:00"},{"$f":"VALUE(DINAMICA!$C1347)","v":0},{"$f":"DINAMICA!D1347","v":0},{"$f":"DINAMICA!E1347","v":0},{"$f":"DINAMICA!F1347","v":0},{"$f":"DINAMICA!G1347","v":0},{"$f":"DINAMICA!H1347","v":0},{"$f":"DINAMICA!I1347","v":0},{"$f":"DINAMICA!J1347","v":0},{"$f":"DINAMICA!K1347","v":0},{"$f":"VALUE(DINAMICA!$L1347)","v":0},{"$f":"VALUE(DINAMICA!$M1347)","v":0},{"$f":"VALUE(DINAMICA!$N1347)","v":0},{"$f":"VALUE(DINAMICA!$O1347)","v":0},{"$f":"VALUE(DINAMICA!$P1347)","v":0},{"$f":"VALUE(DINAMICA!$Q1347)","v":0},{"$f":"VALUE(DINAMICA!$R1347)","v":0}]
[{"$f":"VALUE(DINAMICA!$A1348)","v":0},{"$f":"VALUE(DINAMICA!$B1348)","v":"00:00:00"},{"$f":"VALUE(DINAMICA!$C1348)","v":0},{"$f":"DINAMICA!D1348","v":0},{"$f":"DINAMICA!E1348","v":0},{"$f":"DINAMICA!F1348","v":0},{"$f":"DINAMICA!G1348","v":0},{"$f":"DINAMICA!H1348","v":0},{"$f":"DINAMICA!I1348","v":0},{"$f":"DINAMICA!J1348","v":0},{"$f":"DINAMICA!K1348","v":0},{"$f":"VALUE(DINAMICA!$L1348)","v":0},{"$f":"VALUE(DINAMICA!$M1348)","v":0},{"$f":"VALUE(DINAMICA!$N1348)","v":0},{"$f":"VALUE(DINAMICA!$O1348)","v":0},{"$f":"VALUE(DINAMICA!$P1348)","v":0},{"$f":"VALUE(DINAMICA!$Q1348)","v":0},{"$f":"VALUE(DINAMICA!$R1348)","v":0}]
[{"$f":"VALUE(DINAMICA!$A1349)","v":0},{"$f":"VALUE(DINAMICA!$B1349)","v":"00:00:00"},{"$f":"VALUE(DINAMICA!$C1349)","v":0},{"$f":"DINAMICA!D1349","v":0},{"$f":"DINAMICA!E1349","v":0},{"$f":"DINAMICA!F1349","v":0},{"$f":"DINAMICA!G1349","v":0},{"$f":"DINAMICA!H1349","v":0},{"$f":"DINAMICA!I1349","v":0},{"$f":"DINAMICA!J1349","v":0},{"$f":"DINAMICA!K1349","v":0},{"$f":"VALUE(DINAMICA!$L1349)","v":0},{"$f":"VALUE(DINAMICA!$M1349)","v":0},{"$f":"VALUE(DINAMICA!$N1349)","v":0},{"$f":"VALUE(DINAMICA!$O1349)","v":0},{"$f":"VALUE(DINAMICA!$P1349)","v":0},{"$f":"VALUE(DINAMICA!$Q1349)","v":0},{"$f":"VALUE(DINAMICA!$R1349)","v":0}]
[{"$f":"VALUE(DINAMICA!$A1350)","v":0},{"$f":"VALUE(DINAMICA!$B1350)","v":"00:00:00"},{"$f":"VALUE(DINAMICA!$C1350)","v":0},{"$f":"DINAMICA!D1350","v":0},{"$f":"DINAMICA!E1350","v":0},{"$f":"DINAMICA!F1350","v":0},{"$f":"DINAMICA!G1350","v":0},{"$f":"DINAMICA!H1350","v":0},{"$f":"DINAMICA!I1350","v":0},{"$f":"DINAMICA!J1350","v":0},{"$f":"DINAMICA!K1350","v":0},{"$f":"VALUE(DINAMICA!$L1350)","v":0},{"$f":"VALUE(DINAMICA!$M1350)","v":0},{"$f":"VALUE(DINAMICA!$N1350)","v":0},{"$f":"VALUE(DINAMICA!$O1350)","v":0},{"$f":"VALUE(DINAMICA!$P1350)","v":0},{"$f":"VALUE(DINAMICA!$Q1350)","v":0},{"$f":"VALUE(DINAMICA!$R1350)","v":0}]
[{"$f":"VALUE(DINAMICA!$A1351)","v":0},{"$f":"VALUE(DINAMICA!$B1351)","v":"00:00:00"},{"$f":"VALUE(DINAMICA!$C1351)","v":0},{"$f":"DINAMICA!D1351","v":0},{"$f":"DINAMICA!E1351","v":0},{"$f":"DINAMICA!F1351","v":0},{"$f":"DINAMICA!G1351","v":0},{"$f":"DINAMICA!H1351","v":0},{"$f":"DINAMICA!I1351","v":0},{"$f":"DINAMICA!J1351","v":0},{"$f":"DINAMICA!K1351","v":0},{"$f":"VALUE(DINAMICA!$L1351)","v":0},{"$f":"VALUE(DINAMICA!$M1351)","v":0},{"$f":"VALUE(DINAMICA!$N1351)","v":0},{"$f":"VALUE(DINAMICA!$O1351)","v":0},{"$f":"VALUE(DINAMICA!$P1351)","v":0},{"$f":"VALUE(DINAMICA!$Q1351)","v":0},{"$f":"VALUE(DINAMICA!$R1351)","v":0}]
[{"$f":"VALUE(DINAMICA!$A1352)","v":0},{"$f":"VALUE(DINAMICA!$B1352)","v":"00:00:00"},{"$f":"VALUE(DINAMICA!$C1352)","v":0},{"$f":"DINAMICA!D1352","v":0},{"$f":"DINAMICA!E1352","v":0},{"$f":"DINAMICA!F1352","v":0},{"$f":"DINAMICA!G1352","v":0},{"$f":"DINAMICA!H1352","v":0},{"$f":"DINAMICA!I1352","v":0},{"$f":"DINAMICA!J1352","v":0},{"$f":"DINAMICA!K1352","v":0},{"$f":"VALUE(DINAMICA!$L1352)","v":0},{"$f":"VALUE(DINAMICA!$M1352)","v":0},{"$f":"VALUE(DINAMICA!$N1352)","v":0},{"$f":"VALUE(DINAMICA!$O1352)","v":0},{"$f":"VALUE(DINAMICA!$P1352)","v":0},{"$f":"VALUE(DINAMICA!$Q1352)","v":0},{"$f":"VALUE(DINAMICA!$R1352)","v":0}]
[{"$f":"VALUE(DINAMICA!$A1353)","v":0},{"$f":"VALUE(DINAMICA!$B1353)","v":"00:00:00"},{"$f":"VALUE(DINAMICA!$C1353)","v":0},{"$f":"DINAMICA!D1353","v":0},{"$f":"DINAMICA!E1353","v":0},{"$f":"DINAMICA!F1353","v":0},{"$f":"DINAMICA!G1353","v":0},{"$f":"DINAMICA!H1353","v":0},{"$f":"DINAMICA!I1353","v":0},{"$f":"DINAMICA!J1353","v":0},{"$f":"DINAMICA!K1353","v":0},{"$f":"VALUE(DINAMICA!$L1353)","v":0},{"$f":"VALUE(DINAMICA!$M1353)","v":0},{"$f":"VALUE(DINAMICA!$N1353)","v":0},{"$f":"VALUE(DINAMICA!$O1353)","v":0},{"$f":"VALUE(DINAMICA!$P1353)","v":0},{"$f":"VALUE(DINAMICA!$Q1353)","v":0},{"$f":"VALUE(DINAMICA!$R1353)","v":0}]
[{"$f":"VALUE(DINAMICA!$A1354)","v":0},{"$f":"VALUE(DINAMICA!$B1354)","v":"00:00:00"},{"$f":"VALUE(DINAMICA!$C1354)","v":0},{"$f":"DINAMICA!D1354","v":0},{"$f":"DINAMICA!E1354","v":0},{"$f":"DINAMICA!F1354","v":0},{"$f":"DINAMICA!G1354","v":0},{"$f":"DINAMICA!H1354","v":0},{"$f":"DINAMICA!I1354","v":0},{"$f":"DINAMICA!J1354","v":0},{"$f":"DINAMICA!K1354","v":0},{"$f":"VALUE(DINAMICA!$L1354)","v":0},{"$f":"VALUE(DINAMICA!$M1354)","v":0},{"$f":"VALUE(DINAMICA!$N1354)","v":0},{"$f":"VALUE(DINAMICA!$O1354)","v":0},{"$f":"VALUE(DINAMICA!$P1354)","v":0},{"$f":"VALUE(DINAMICA!$Q1354)","v":0},{"$f":"VALUE(DINAMICA!$R1354)","v":0}]
[{"$f":"VALUE(DINAMICA!$A1355)","v":0},{"$f":"VALUE(DINAMICA!$B1355)","v":"00:00:00"},{"$f":"VALUE(DINAMICA!$C1355)","v":0},{"$f":"DINAMICA!D1355","v":0},{"$f":"DINAMICA!E1355","v":0},{"$f":"DINAMICA!F1355","v":0},{"$f":"DINAMICA!G1355","v":0},{"$f":"DINAMICA!H1355","v":0},{"$f":"DINAMICA!I1355","v":0},{"$f":"DINAMICA!J1355","v":0},{"$f":"DINAMICA!K1355","v":0},{"$f":"VALUE(DINAMICA!$L1355)","v":0},{"$f":"VALUE(DINAMICA!$M1355)","v":0},{"$f":"VALUE(DINAMICA!$N1355)","v":0},{"$f":"VALUE(DINAMICA!$O1355)","v":0},{"$f":"VALUE(DINAMICA!$P1355)","v":0},{"$f":"VALUE(DINAMICA!$Q1355)","v":0},{"$f":"VALUE(DINAMICA!$R1355)","v":0}]
[{"$f":"VALUE(DINAMICA!$A1356)","v":0},{"$f":"VALUE(DINAMICA!$B1356)","v":"00:00:00"},{"$f":"VALUE(DINAMICA!$C1356)","v":0},{"$f":"DINAMICA!D1356","v":0},{"$f":"DINAMICA!E1356","v":0},{"$f":"DINAMICA!F1356","v":0},{"$f":"DINAMICA!G1356","v":0},{"$f":"DINAMICA!H1356","v":0},{"$f":"DINAMICA!I1356","v":0},{"$f":"DINAMICA!J1356","v":0},{"$f":"DINAMICA!K1356","v":0},{"$f":"VALUE(DINAMICA!$L1356)","v":0},{"$f":"VALUE(DINAMICA!$M1356)","v":0},{"$f":"VALUE(DINAMICA!$N1356)","v":0},{"$f":"VALUE(DINAMICA!$O1356)","v":0},{"$f":"VALUE(DINAMICA!$P1356)","v":0},{"$f":"VALUE(DINAMICA!$Q1356)","v":0},{"$f":"VALUE(DINAMICA!$R1356)","v":0}]
[{"$f":"VALUE(DINAMICA!$A1357)","v":0},{"$f":"VALUE(DINAMICA!$B1357)","v":"00:00:00"},{"$f":"VALUE(DINAMICA!$C1357)","v":0},{"$f":"DINAMICA!D1357","v":0},{"$f":"DINAMICA!E1357","v":0},{"$f":"DINAMICA!F1357","v":0},{"$f":"DINAMICA!G1357","v":0},{"$f":"DINAMICA!H1357","v":0},{"$f":"DINAMICA!I1357","v":0},{"$f":"DINAMICA!J1357","v":0},{"$f":"DINAMICA!K1357","v":0},{"$f":"VALUE(DINAMICA!$L1357)","v":0},{"$f":"VALUE(DINAMICA!$M1357)","v":0},{"$f":"VALUE(DINAMICA!$N1357)","v":0},{"$f":"VALUE(DINAMICA!$O1357)","v":0},{"$f":"VALUE(DINAMICA!$P1357)","v":0},{"$f":"VALUE(DINAMICA!$Q1357)","v":0},{"$f":"VALUE(DINAMICA!$R1357)","v":0}]
[{"$f":"VALUE(DINAMICA!$A1358)","v":0},{"$f":"VALUE(DINAMICA!$B1358)","v":"00:00:00"},{"$f":"VALUE(DINAMICA!$C1358)","v":0},{"$f":"DINAMICA!D1358","v":0},{"$f":"DINAMICA!E1358","v":0},{"$f":"DINAMICA!F1358","v":0},{"$f":"DINAMICA!G1358","v":0},{"$f":"DINAMICA!H1358","v":0},{"$f":"DINAMICA!I1358","v":0},{"$f":"DINAMICA!J1358","v":0},{"$f":"DINAMICA!K1358","v":0},{"$f":"VALUE(DINAMICA!$L1358)","v":0},{"$f":"VALUE(DINAMICA!$M1358)","v":0},{"$f":"VALUE(DINAMICA!$N1358)","v":0},{"$f":"VALUE(DINAMICA!$O1358)","v":0},{"$f":"VALUE(DINAMICA!$P1358)","v":0},{"$f":"VALUE(DINAMICA!$Q1358)","v":0},{"$f":"VALUE(DINAMICA!$R1358)","v":0}]
[{"$f":"VALUE(DINAMICA!$A1359)","v":0},{"$f":"VALUE(DINAMICA!$B1359)","v":"00:00:00"},{"$f":"VALUE(DINAMICA!$C1359)","v":0},{"$f":"DINAMICA!D1359","v":0},{"$f":"DINAMICA!E1359","v":0},{"$f":"DINAMICA!F1359","v":0},{"$f":"DINAMICA!G1359","v":0},{"$f":"DINAMICA!H1359","v":0},{"$f":"DINAMICA!I1359","v":0},{"$f":"DINAMICA!J1359","v":0},{"$f":"DINAMICA!K1359","v":0},{"$f":"VALUE(DINAMICA!$L1359)","v":0},{"$f":"VALUE(DINAMICA!$M1359)","v":0},{"$f":"VALUE(DINAMICA!$N1359)","v":0},{"$f":"VALUE(DINAMICA!$O1359)","v":0},{"$f":"VALUE(DINAMICA!$P1359)","v":0},{"$f":"VALUE(DINAMICA!$Q1359)","v":0},{"$f":"VALUE(DINAMICA!$R1359)","v":0}]
[{"$f":"VALUE(DINAMICA!$A1360)","v":0},{"$f":"VALUE(DINAMICA!$B1360)","v":"00:00:00"},{"$f":"VALUE(DINAMICA!$C1360)","v":0},{"$f":"DINAMICA!D1360","v":0},{"$f":"DINAMICA!E1360","v":0},{"$f":"DINAMICA!F1360","v":0},{"$f":"DINAMICA!G1360","v":0},{"$f":"DINAMICA!H1360","v":0},{"$f":"DINAMICA!I1360","v":0},{"$f":"DINAMICA!J1360","v":0},{"$f":"DINAMICA!K1360","v":0},{"$f":"VALUE(DINAMICA!$L1360)","v":0},{"$f":"VALUE(DINAMICA!$M1360)","v":0},{"$f":"VALUE(DINAMICA!$N1360)","v":0},{"$f":"VALUE(DINAMICA!$O1360)","v":0},{"$f":"VALUE(DINAMICA!$P1360)","v":0},{"$f":"VALUE(DINAMICA!$Q1360)","v":0},{"$f":"VALUE(DINAMICA!$R1360)","v":0}]
[{"$f":"VALUE(DINAMICA!$A1361)","v":0},{"$f":"VALUE(DINAMICA!$B1361)","v":"00:00:00"},{"$f":"VALUE(DINAMICA!$C1361)","v":0},{"$f":"DINAMICA!D1361","v":0},{"$f":"DINAMICA!E1361","v":0},{"$f":"DINAMICA!F1361","v":0},{"$f":"DINAMICA!G1361","v":0},{"$f":"DINAMICA!H1361","v":0},{"$f":"DINAMICA!I1361","v":0},{"$f":"DINAMICA!J1361","v":0},{"$f":"DINAMICA!K1361","v":0},{"$f":"VALUE(DINAMICA!$L1361)","v":0},{"$f":"VALUE(DINAMICA!$M1361)","v":0},{"$f":"VALUE(DINAMICA!$N1361)","v":0},{"$f":"VALUE(DINAMICA!$O1361)","v":0},{"$f":"VALUE(DINAMICA!$P1361)","v":0},{"$f":"VALUE(DINAMICA!$Q1361)","v":0},{"$f":"VALUE(DINAMICA!$R1361)","v":0}]
[{"$f":"VALUE(DINAMICA!$A1362)","v":0},{"$f":"VALUE(DINAMICA!$B1362)","v":"00:00:00"},{"$f":"VALUE(DINAMICA!$C1362)","v":0},{"$f":"DINAMICA!D1362","v":0},{"$f":"DINAMICA!E1362","v":0},{"$f":"DINAMICA!F1362","v":0},{"$f":"DINAMICA!G1362","v":0},{"$f":"DINAMICA!H1362","v":0},{"$f":"DINAMICA!I1362","v":0},{"$f":"DINAMICA!J1362","v":0},{"$f":"DINAMICA!K1362","v":0},{"$f":"VALUE(DINAMICA!$L1362)","v":0},{"$f":"VALUE(DINAMICA!$M1362)","v":0},{"$f":"VALUE(DINAMICA!$N1362)","v":0},{"$f":"VALUE(DINAMICA!$O1362)","v":0},{"$f":"VALUE(DINAMICA!$P1362)","v":0},{"$f":"VALUE(DINAMICA!$Q1362)","v":0},{"$f":"VALUE(DINAMICA!$R1362)","v":0}]
[{"$f":"VALUE(DINAMICA!$A1363)","v":0},{"$f":"VALUE(DINAMICA!$B1363)","v":"00:00:00"},{"$f":"VALUE(DINAMICA!$C1363)","v":0},{"$f":"DINAMICA!D1363","v":0},{"$f":"DINAMICA!E1363","v":0},{"$f":"DINAMICA!F1363","v":0},{"$f":"DINAMICA!G1363","v":0},{"$f":"DINAMICA!H1363","v":0},{"$f":"DINAMICA!I1363","v":0},{"$f":"DINAMICA!J1363","v":0},{"$f":"DINAMICA!K1363","v":0},{"$f":"VALUE(DINAMICA!$L1363)","v":0},{"$f":"VALUE(DINAMICA!$M1363)","v":0},{"$f":"VALUE(DINAMICA!$N1363)","v":0},{"$f":"VALUE(DINAMICA!$O1363)","v":0},{"$f":"VALUE(DINAMICA!$P1363)","v":0},{"$f":"VALUE(DINAMICA!$Q1363)","v":0},{"$f":"VALUE(DINAMICA!$R1363)","v":0}]
[{"$f":"VALUE(DINAMICA!$A1364)","v":0},{"$f":"VALUE(DINAMICA!$B1364)","v":"00:00:00"},{"$f":"VALUE(DINAMICA!$C1364)","v":0},{"$f":"DINAMICA!D1364","v":0},{"$f":"DINAMICA!E1364","v":0},{"$f":"DINAMICA!F1364","v":0},{"$f":"DINAMICA!G1364","v":0},{"$f":"DINAMICA!H1364","v":0},{"$f":"DINAMICA!I1364","v":0},{"$f":"DINAMICA!J1364","v":0},{"$f":"DINAMICA!K1364","v":0},{"$f":"VALUE(DINAMICA!$L1364)","v":0},{"$f":"VALUE(DINAMICA!$M1364)","v":0},{"$f":"VALUE(DINAMICA!$N1364)","v":0},{"$f":"VALUE(DINAMICA!$O1364)","v":0},{"$f":"VALUE(DINAMICA!$P1364)","v":0},{"$f":"VALUE(DINAMICA!$Q1364)","v":0},{"$f":"VALUE(DINAMICA!$R1364)","v":0}]
[{"$f":"VALUE(DINAMICA!$A1365)","v":0},{"$f":"VALUE(DINAMICA!$B1365)","v":"00:00:00"},{"$f":"VALUE(DINAMICA!$C1365)","v":0},{"$f":"DINAMICA!D1365","v":0},{"$f":"DINAMICA!E1365","v":0},{"$f":"DINAMICA!F1365","v":0},{"$f":"DINAMICA!G1365","v":0},{"$f":"DINAMICA!H1365","v":0},{"$f":"DINAMICA!I1365","v":0},{"$f":"DINAMICA!J1365","v":0},{"$f":"DINAMICA!K1365","v":0},{"$f":"VALUE(DINAMICA!$L1365)","v":0},{"$f":"VALUE(DINAMICA!$M1365)","v":0},{"$f":"VALUE(DINAMICA!$N1365)","v":0},{"$f":"VALUE(DINAMICA!$O1365)","v":0},{"$f":"VALUE(DINAMICA!$P1365)","v":0},{"$f":"VALUE(DINAMICA!$Q1365)","v":0},{"$f":"VALUE(DINAMICA!$R1365)","v":0}]
[{"$f":"VALUE(DINAMICA!$A1366)","v":0},{"$f":"VALUE(DINAMICA!$B1366)","v":"00:00:00"},{"$f":"VALUE(DINAMICA!$C1366)","v":0},{"$f":"DINAMICA!D1366","v":0},{"$f":"DINAMICA!E1366","v":0},{"$f":"DINAMICA!F1366","v":0},{"$f":"DINAMICA!G1366","v":0},{"$f":"DINAMICA!H1366","v":0},{"$f":"DINAMICA!I1366","v":0},{"$f":"DINAMICA!J1366","v":0},{"$f":"DINAMICA!K1366","v":0},{"$f":"VALUE(DINAMICA!$L1366)","v":0},{"$f":"VALUE(DINAMICA!$M1366)","v":0},{"$f":"VALUE(DINAMICA!$N1366)","v":0},{"$f":"VALUE(DINAMICA!$O1366)","v":0},{"$f":"VALUE(DINAMICA!$P1366)","v":0},{"$f":"VALUE(DINAMICA!$Q1366)","v":0},{"$f":"VALUE(DINAMICA!$R1366)","v":0}]
[{"$f":"VALUE(DINAMICA!$A1367)","v":0},{"$f":"VALUE(DINAMICA!$B1367)","v":"00:00:00"},{"$f":"VALUE(DINAMICA!$C1367)","v":0},{"$f":"DINAMICA!D1367","v":0},{"$f":"DINAMICA!E1367","v":0},{"$f":"DINAMICA!F1367","v":0},{"$f":"DINAMICA!G1367","v":0},{"$f":"DINAMICA!H1367","v":0},{"$f":"DINAMICA!I1367","v":0},{"$f":"DINAMICA!J1367","v":0},{"$f":"DINAMICA!K1367","v":0},{"$f":"VALUE(DINAMICA!$L1367)","v":0},{"$f":"VALUE(DINAMICA!$M1367)","v":0},{"$f":"VALUE(DINAMICA!$N1367)","v":0},{"$f":"VALUE(DINAMICA!$O1367)","v":0},{"$f":"VALUE(DINAMICA!$P1367)","v":0},{"$f":"VALUE(DINAMICA!$Q1367)","v":0},{"$f":"VALUE(DINAMICA!$R1367)","v":0}]
[{"$f":"VALUE(DINAMICA!$A1368)","v":0},{"$f":"VALUE(DINAMICA!$B1368)","v":"00:00:00"},{"$f":"VALUE(DINAMICA!$C1368)","v":0},{"$f":"DINAMICA!D1368","v":0},{"$f":"DINAMICA!E1368","v":0},{"$f":"DINAMICA!F1368","v":0},{"$f":"DINAMICA!G1368","v":0},{"$f":"DINAMICA!H1368","v":0},{"$f":"DINAMICA!I1368","v":0},{"$f":"DINAMICA!J1368","v":0},{"$f":"DINAMICA!K1368","v":0},{"$f":"VALUE(DINAMICA!$L1368)","v":0},{"$f":"VALUE(DINAMICA!$M1368)","v":0},{"$f":"VALUE(DINAMICA!$N1368)","v":0},{"$f":"VALUE(DINAMICA!$O1368)","v":0},{"$f":"VALUE(DINAMICA!$P1368)","v":0},{"$f":"VALUE(DINAMICA!$Q1368)","v":0},{"$f":"VALUE(DINAMICA!$R1368)","v":0}]
[{"$f":"VALUE(DINAMICA!$A1369)","v":0},{"$f":"VALUE(DINAMICA!$B1369)","v":"00:00:00"},{"$f":"VALUE(DINAMICA!$C1369)","v":0},{"$f":"DINAMICA!D1369","v":0},{"$f":"DINAMICA!E1369","v":0},{"$f":"DINAMICA!F1369","v":0},{"$f":"DINAMICA!G1369","v":0},{"$f":"DINAMICA!H1369","v":0},{"$f":"DINAMICA!I1369","v":0},{"$f":"DINAMICA!J1369","v":0},{"$f":"DINAMICA!K1369","v":0},{"$f":"VALUE(DINAMICA!$L1369)","v":0},{"$f":"VALUE(DINAMICA!$M1369)","v":0},{"$f":"VALUE(DINAMICA!$N1369)","v":0},{"$f":"VALUE(DINAMICA!$O1369)","v":0},{"$f":"VALUE(DINAMICA!$P1369)","v":0},{"$f":"VALUE(DINAMICA!$Q1369)","v":0},{"$f":"VALUE(DINAMICA!$R1369)","v":0}]
[{"$f":"VALUE(DINAMICA!$A1370)","v":0},{"$f":"VALUE(DINAMICA!$B1370)","v":"00:00:00"},{"$f":"VALUE(DINAMICA!$C1370)","v":0},{"$f":"DINAMICA!D1370","v":0},{"$f":"DINAMICA!E1370","v":0},{"$f":"DINAMICA!F1370","v":0},{"$f":"DINAMICA!G1370","v":0},{"$f":"DINAMICA!H1370","v":0},{"$f":"DINAMICA!I1370","v":0},{"$f":"DINAMICA!J1370","v":0},{"$f":"DINAMICA!K1370","v":0},{"$f":"VALUE(DINAMICA!$L1370)","v":0},{"$f":"VALUE(DINAMICA!$M1370)","v":0},{"$f":"VALUE(DINAMICA!$N1370)","v":0},{"$f":"VALUE(DINAMICA!$O1370)","v":0},{"$f":"VALUE(DINAMICA!$P1370)","v":0},{"$f":"VALUE(DINAMICA!$Q1370)","v":0},{"$f":"VALUE(DINAMICA!$R1370)","v":0}]
[{"$f":"VALUE(DINAMICA!$A1371)","v":0},{"$f":"VALUE(DINAMICA!$B1371)","v":"00:00:00"},{"$f":"VALUE(DINAMICA!$C1371)","v":0},{"$f":"DINAMICA!D1371","v":0},{"$f":"DINAMICA!E1371","v":0},{"$f":"DINAMICA!F1371","v":0},{"$f":"DINAMICA!G1371","v":0},{"$f":"DINAMICA!H1371","v":0},{"$f":"DINAMICA!I1371","v":0},{"$f":"DINAMICA!J1371","v":0},{"$f":"DINAMICA!K1371","v":0},{"$f":"VALUE(DINAMICA!$L1371)","v":0},{"$f":"VALUE(DINAMICA!$M1371)","v":0},{"$f":"VALUE(DINAMICA!$N1371)","v":0},{"$f":"VALUE(DINAMICA!$O1371)","v":0},{"$f":"VALUE(DINAMICA!$P1371)","v":0},{"$f":"VALUE(DINAMICA!$Q1371)","v":0},{"$f":"VALUE(DINAMICA!$R1371)","v":0}]
[{"$f":"VALUE(DINAMICA!$A1372)","v":0},{"$f":"VALUE(DINAMICA!$B1372)","v":"00:00:00"},{"$f":"VALUE(DINAMICA!$C1372)","v":0},{"$f":"DINAMICA!D1372","v":0},{"$f":"DINAMICA!E1372","v":0},{"$f":"DINAMICA!F1372","v":0},{"$f":"DINAMICA!G1372","v":0},{"$f":"DINAMICA!H1372","v":0},{"$f":"DINAMICA!I1372","v":0},{"$f":"DINAMICA!J1372","v":0},{"$f":"DINAMICA!K1372","v":0},{"$f":"VALUE(DINAMICA!$L1372)","v":0},{"$f":"VALUE(DINAMICA!$M1372)","v":0},{"$f":"VALUE(DINAMICA!$N1372)","v":0},{"$f":"VALUE(DINAMICA!$O1372)","v":0},{"$f":"VALUE(DINAMICA!$P1372)","v":0},{"$f":"VALUE(DINAMICA!$Q1372)","v":0},{"$f":"VALUE(DINAMICA!$R1372)","v":0}]
[{"$f":"VALUE(DINAMICA!$A1373)","v":0},{"$f":"VALUE(DINAMICA!$B1373)","v":"00:00:00"},{"$f":"VALUE(DINAMICA!$C1373)","v":0},{"$f":"DINAMICA!D1373","v":0},{"$f":"DINAMICA!E1373","v":0},{"$f":"DINAMICA!F1373","v":0},{"$f":"DINAMICA!G1373","v":0},{"$f":"DINAMICA!H1373","v":0},{"$f":"DINAMICA!I1373","v":0},{"$f":"DINAMICA!J1373","v":0},{"$f":"DINAMICA!K1373","v":0},{"$f":"VALUE(DINAMICA!$L1373)","v":0},{"$f":"VALUE(DINAMICA!$M1373)","v":0},{"$f":"VALUE(DINAMICA!$N1373)","v":0},{"$f":"VALUE(DINAMICA!$O1373)","v":0},{"$f":"VALUE(DINAMICA!$P1373)","v":0},{"$f":"VALUE(DINAMICA!$Q1373)","v":0},{"$f":"VALUE(DINAMICA!$R1373)","v":0}]
[{"$f":"VALUE(DINAMICA!$A1374)","v":0},{"$f":"VALUE(DINAMICA!$B1374)","v":"00:00:00"},{"$f":"VALUE(DINAMICA!$C1374)","v":0},{"$f":"DINAMICA!D1374","v":0},{"$f":"DINAMICA!E1374","v":0},{"$f":"DINAMICA!F1374","v":0},{"$f":"DINAMICA!G1374","v":0},{"$f":"DINAMICA!H1374","v":0},{"$f":"DINAMICA!I1374","v":0},{"$f":"DINAMICA!J1374","v":0},{"$f":"DINAMICA!K1374","v":0},{"$f":"VALUE(DINAMICA!$L1374)","v":0},{"$f":"VALUE(DINAMICA!$M1374)","v":0},{"$f":"VALUE(DINAMICA!$N1374)","v":0},{"$f":"VALUE(DINAMICA!$O1374)","v":0},{"$f":"VALUE(DINAMICA!$P1374)","v":0},{"$f":"VALUE(DINAMICA!$Q1374)","v":0},{"$f":"VALUE(DINAMICA!$R1374)","v":0}]
[{"$f":"VALUE(DINAMICA!$A1375)","v":0},{"$f":"VALUE(DINAMICA!$B1375)","v":"00:00:00"},{"$f":"VALUE(DINAMICA!$C1375)","v":0},{"$f":"DINAMICA!D1375","v":0},{"$f":"DINAMICA!E1375","v":0},{"$f":"DINAMICA!F1375","v":0},{"$f":"DINAMICA!G1375","v":0},{"$f":"DINAMICA!H1375","v":0},{"$f":"DINAMICA!I1375","v":0},{"$f":"DINAMICA!J1375","v":0},{"$f":"DINAMICA!K1375","v":0},{"$f":"VALUE(DINAMICA!$L1375)","v":0},{"$f":"VALUE(DINAMICA!$M1375)","v":0},{"$f":"VALUE(DINAMICA!$N1375)","v":0},{"$f":"VALUE(DINAMICA!$O1375)","v":0},{"$f":"VALUE(DINAMICA!$P1375)","v":0},{"$f":"VALUE(DINAMICA!$Q1375)","v":0},{"$f":"VALUE(DINAMICA!$R1375)","v":0}]
[{"$f":"VALUE(DINAMICA!$A1376)","v":0},{"$f":"VALUE(DINAMICA!$B1376)","v":"00:00:00"},{"$f":"VALUE(DINAMICA!$C1376)","v":0},{"$f":"DINAMICA!D1376","v":0},{"$f":"DINAMICA!E1376","v":0},{"$f":"DINAMICA!F1376","v":0},{"$f":"DINAMICA!G1376","v":0},{"$f":"DINAMICA!H1376","v":0},{"$f":"DINAMICA!I1376","v":0},{"$f":"DINAMICA!J1376","v":0},{"$f":"DINAMICA!K1376","v":0},{"$f":"VALUE(DINAMICA!$L1376)","v":0},{"$f":"VALUE(DINAMICA!$M1376)","v":0},{"$f":"VALUE(DINAMICA!$N1376)","v":0},{"$f":"VALUE(DINAMICA!$O1376)","v":0},{"$f":"VALUE(DINAMICA!$P1376)","v":0},{"$f":"VALUE(DINAMICA!$Q1376)","v":0},{"$f":"VALUE(DINAMICA!$R1376)","v":0}]
[{"$f":"VALUE(DINAMICA!$A1377)","v":0},{"$f":"VALUE(DINAMICA!$B1377)","v":"00:00:00"},{"$f":"VALUE(DINAMICA!$C1377)","v":0},{"$f":"DINAMICA!D1377","v":0},{"$f":"DINAMICA!E1377","v":0},{"$f":"DINAMICA!F1377","v":0},{"$f":"DINAMICA!G1377","v":0},{"$f":"DINAMICA!H1377","v":0},{"$f":"DINAMICA!I1377","v":0},{"$f":"DINAMICA!J1377","v":0},{"$f":"DINAMICA!K1377","v":0},{"$f":"VALUE(DINAMICA!$L1377)","v":0},{"$f":"VALUE(DINAMICA!$M1377)","v":0},{"$f":"VALUE(DINAMICA!$N1377)","v":0},{"$f":"VALUE(DINAMICA!$O1377)","v":0},{"$f":"VALUE(DINAMICA!$P1377)","v":0},{"$f":"VALUE(DINAMICA!$Q1377)","v":0},{"$f":"VALUE(DINAMICA!$R1377)","v":0}]
[{"$f":"VALUE(DINAMICA!$A1378)","v":0},{"$f":"VALUE(DINAMICA!$B1378)","v":"00:00:00"},{"$f":"VALUE(DINAMICA!$C1378)","v":0},{"$f":"DINAMICA!D1378","v":0},{"$f":"DINAMICA!E1378","v":0},{"$f":"DINAMICA!F1378","v":0},{"$f":"DINAMICA!G1378","v":0},{"$f":"DINAMICA!H1378","v":0},{"$f":"DINAMICA!I1378","v":0},{"$f":"DINAMICA!J1378","v":0},{"$f":"DINAMICA!K1378","v":0},{"$f":"VALUE(DINAMICA!$L1378)","v":0},{"$f":"VALUE(DINAMICA!$M1378)","v":0},{"$f":"VALUE(DINAMICA!$N1378)","v":0},{"$f":"VALUE(DINAMICA!$O1378)","v":0},{"$f":"VALUE(DINAMICA!$P1378)","v":0},{"$f":"VALUE(DINAMICA!$Q1378)","v":0},{"$f":"VALUE(DINAMICA!$R1378)","v":0}]
[{"$f":"VALUE(DINAMICA!$A1379)","v":0},{"$f":"VALUE(DINAMICA!$B1379)","v":"00:00:00"},{"$f":"VALUE(DINAMICA!$C1379)","v":0},{"$f":"DINAMICA!D1379","v":0},{"$f":"DINAMICA!E1379","v":0},{"$f":"DINAMICA!F1379","v":0},{"$f":"DINAMICA!G1379","v":0},{"$f":"DINAMICA!H1379","v":0},{"$f":"DINAMICA!I1379","v":0},{"$f":"DINAMICA!J1379","v":0},{"$f":"DINAMICA!K1379","v":0},{"$f":"VALUE(DINAMICA!$L1379)","v":0},{"$f":"VALUE(DINAMICA!$M1379)","v":0},{"$f":"VALUE(DINAMICA!$N1379)","v":0},{"$f":"VALUE(DINAMICA!$O1379)","v":0},{"$f":"VALUE(DINAMICA!$P1379)","v":0},{"$f":"VALUE(DINAMICA!$Q1379)","v":0},{"$f":"VALUE(DINAMICA!$R1379)","v":0}]
[{"$f":"VALUE(DINAMICA!$A1380)","v":0},{"$f":"VALUE(DINAMICA!$B1380)","v":"00:00:00"},{"$f":"VALUE(DINAMICA!$C1380)","v":0},{"$f":"DINAMICA!D1380","v":0},{"$f":"DINAMICA!E1380","v":0},{"$f":"DINAMICA!F1380","v":0},{"$f":"DINAMICA!G1380","v":0},{"$f":"DINAMICA!H1380","v":0},{"$f":"DINAMICA!I1380","v":0},{"$f":"DINAMICA!J1380","v":0},{"$f":"DINAMICA!K1380","v":0},{"$f":"VALUE(DINAMICA!$L1380)","v":0},{"$f":"VALUE(DINAMICA!$M1380)","v":0},{"$f":"VALUE(DINAMICA!$N1380)","v":0},{"$f":"VALUE(DINAMICA!$O1380)","v":0},{"$f":"VALUE(DINAMICA!$P1380)","v":0},{"$f":"VALUE(DINAMICA!$Q1380)","v":0},{"$f":"VALUE(DINAMICA!$R1380)","v":0}]
[{"$f":"VALUE(DINAMICA!$A1381)","v":0},{"$f":"VALUE(DINAMICA!$B1381)","v":"00:00:00"},{"$f":"VALUE(DINAMICA!$C1381)","v":0},{"$f":"DINAMICA!D1381","v":0},{"$f":"DINAMICA!E1381","v":0},{"$f":"DINAMICA!F1381","v":0},{"$f":"DINAMICA!G1381","v":0},{"$f":"DINAMICA!H1381","v":0},{"$f":"DINAMICA!I1381","v":0},{"$f":"DINAMICA!J1381","v":0},{"$f":"DINAMICA!K1381","v":0},{"$f":"VALUE(DINAMICA!$L1381)","v":0},{"$f":"VALUE(DINAMICA!$M1381)","v":0},{"$f":"VALUE(DINAMICA!$N1381)","v":0},{"$f":"VALUE(DINAMICA!$O1381)","v":0},{"$f":"VALUE(DINAMICA!$P1381)","v":0},{"$f":"VALUE(DINAMICA!$Q1381)","v":0},{"$f":"VALUE(DINAMICA!$R1381)","v":0}]
[{"$f":"VALUE(DINAMICA!$A1382)","v":0},{"$f":"VALUE(DINAMICA!$B1382)","v":"00:00:00"},{"$f":"VALUE(DINAMICA!$C1382)","v":0},{"$f":"DINAMICA!D1382","v":0},{"$f":"DINAMICA!E1382","v":0},{"$f":"DINAMICA!F1382","v":0},{"$f":"DINAMICA!G1382","v":0},{"$f":"DINAMICA!H1382","v":0},{"$f":"DINAMICA!I1382","v":0},{"$f":"DINAMICA!J1382","v":0},{"$f":"DINAMICA!K1382","v":0},{"$f":"VALUE(DINAMICA!$L1382)","v":0},{"$f":"VALUE(DINAMICA!$M1382)","v":0},{"$f":"VALUE(DINAMICA!$N1382)","v":0},{"$f":"VALUE(DINAMICA!$O1382)","v":0},{"$f":"VALUE(DINAMICA!$P1382)","v":0},{"$f":"VALUE(DINAMICA!$Q1382)","v":0},{"$f":"VALUE(DINAMICA!$R1382)","v":0}]
[{"$f":"VALUE(DINAMICA!$A1383)","v":0},{"$f":"VALUE(DINAMICA!$B1383)","v":"00:00:00"},{"$f":"VALUE(DINAMICA!$C1383)","v":0},{"$f":"DINAMICA!D1383","v":0},{"$f":"DINAMICA!E1383","v":0},{"$f":"DINAMICA!F1383","v":0},{"$f":"DINAMICA!G1383","v":0},{"$f":"DINAMICA!H1383","v":0},{"$f":"DINAMICA!I1383","v":0},{"$f":"DINAMICA!J1383","v":0},{"$f":"DINAMICA!K1383","v":0},{"$f":"VALUE(DINAMICA!$L1383)","v":0},{"$f":"VALUE(DINAMICA!$M1383)","v":0},{"$f":"VALUE(DINAMICA!$N1383)","v":0},{"$f":"VALUE(DINAMICA!$O1383)","v":0},{"$f":"VALUE(DINAMICA!$P1383)","v":0},{"$f":"VALUE(DINAMICA!$Q1383)","v":0},{"$f":"VALUE(DINAMICA!$R1383)","v":0}]
[{"$f":"VALUE(DINAMICA!$A1384)","v":0},{"$f":"VALUE(DINAMICA!$B1384)","v":"00:00:00"},{"$f":"VALUE(DINAMICA!$C1384)","v":0},{"$f":"DINAMICA!D1384","v":0},{"$f":"DINAMICA!E1384","v":0},{"$f":"DINAMICA!F1384","v":0},{"$f":"DINAMICA!G1384","v":0},{"$f":"DINAMICA!H1384","v":0},{"$f":"DINAMICA!I1384","v":0},{"$f":"DINAMICA!J1384","v":0},{"$f":"DINAMICA!K1384","v":0},{"$f":"VALUE(DINAMICA!$L1384)","v":0},{"$f":"VALUE(DINAMICA!$M1384)","v":0},{"$f":"VALUE(DINAMICA!$N1384)","v":0},{"$f":"VALUE(DINAMICA!$O1384)","v":0},{"$f":"VALUE(DINAMICA!$P1384)","v":0},{"$f":"VALUE(DINAMICA!$Q1384)","v":0},{"$f":"VALUE(DINAMICA!$R1384)","v":0}]
[{"$f":"VALUE(DINAMICA!$A1385)","v":0},{"$f":"VALUE(DINAMICA!$B1385)","v":"00:00:00"},{"$f":"VALUE(DINAMICA!$C1385)","v":0},{"$f":"DINAMICA!D1385","v":0},{"$f":"DINAMICA!E1385","v":0},{"$f":"DINAMICA!F1385","v":0},{"$f":"DINAMICA!G1385","v":0},{"$f":"DINAMICA!H1385","v":0},{"$f":"DINAMICA!I1385","v":0},{"$f":"DINAMICA!J1385","v":0},{"$f":"DINAMICA!K1385","v":0},{"$f":"VALUE(DINAMICA!$L1385)","v":0},{"$f":"VALUE(DINAMICA!$M1385)","v":0},{"$f":"VALUE(DINAMICA!$N1385)","v":0},{"$f":"VALUE(DINAMICA!$O1385)","v":0},{"$f":"VALUE(DINAMICA!$P1385)","v":0},{"$f":"VALUE(DINAMICA!$Q1385)","v":0},{"$f":"VALUE(DINAMICA!$R1385)","v":0}]
[{"$f":"VALUE(DINAMICA!$A1386)","v":0},{"$f":"VALUE(DINAMICA!$B1386)","v":"00:00:00"},{"$f":"VALUE(DINAMICA!$C1386)","v":0},{"$f":"DINAMICA!D1386","v":0},{"$f":"DINAMICA!E1386","v":0},{"$f":"DINAMICA!F1386","v":0},{"$f":"DINAMICA!G1386","v":0},{"$f":"DINAMICA!H1386","v":0},{"$f":"DINAMICA!I1386","v":0},{"$f":"DINAMICA!J1386","v":0},{"$f":"DINAMICA!K1386","v":0},{"$f":"VALUE(DINAMICA!$L1386)","v":0},{"$f":"VALUE(DINAMICA!$M1386)","v":0},{"$f":"VALUE(DINAMICA!$N1386)","v":0},{"$f":"VALUE(DINAMICA!$O1386)","v":0},{"$f":"VALUE(DINAMICA!$P1386)","v":0},{"$f":"VALUE(DINAMICA!$Q1386)","v":0},{"$f":"VALUE(DINAMICA!$R1386)","v":0}]
[{"$f":"VALUE(DINAMICA!$A1387)","v":0},{"$f":"VALUE(DINAMICA!$B1387)","v":"00:00:00"},{"$f":"VALUE(DINAMICA!$C1387)","v":0},{"$f":"DINAMICA!D1387","v":0},{"$f":"DINAMICA!E1387","v":0},{"$f":"DINAMICA!F1387","v":0},{"$f":"DINAMICA!G1387","v":0},{"$f":"DINAMICA!H1387","v":0},{"$f":"DINAMICA!I1387","v":0},{"$f":"DINAMICA!J1387","v":0},{"$f":"DINAMICA!K1387","v":0},{"$f":"VALUE(DINAMICA!$L1387)","v":0},{"$f":"VALUE(DINAMICA!$M1387)","v":0},{"$f":"VALUE(DINAMICA!$N1387)","v":0},{"$f":"VALUE(DINAMICA!$O1387)","v":0},{"$f":"VALUE(DINAMICA!$P1387)","v":0},{"$f":"VALUE(DINAMICA!$Q1387)","v":0},{"$f":"VALUE(DINAMICA!$R1387)","v":0}]
[{"$f":"VALUE(DINAMICA!$A1388)","v":0},{"$f":"VALUE(DINAMICA!$B1388)","v":"00:00:00"},{"$f":"VALUE(DINAMICA!$C1388)","v":0},{"$f":"DINAMICA!D1388","v":0},{"$f":"DINAMICA!E1388","v":0},{"$f":"DINAMICA!F1388","v":0},{"$f":"DINAMICA!G1388","v":0},{"$f":"DINAMICA!H1388","v":0},{"$f":"DINAMICA!I1388","v":0},{"$f":"DINAMICA!J1388","v":0},{"$f":"DINAMICA!K1388","v":0},{"$f":"VALUE(DINAMICA!$L1388)","v":0},{"$f":"VALUE(DINAMICA!$M1388)","v":0},{"$f":"VALUE(DINAMICA!$N1388)","v":0},{"$f":"VALUE(DINAMICA!$O1388)","v":0},{"$f":"VALUE(DINAMICA!$P1388)","v":0},{"$f":"VALUE(DINAMICA!$Q1388)","v":0},{"$f":"VALUE(DINAMICA!$R1388)","v":0}]
[{"$f":"VALUE(DINAMICA!$A1389)","v":0},{"$f":"VALUE(DINAMICA!$B1389)","v":"00:00:00"},{"$f":"VALUE(DINAMICA!$C1389)","v":0},{"$f":"DINAMICA!D1389","v":0},{"$f":"DINAMICA!E1389","v":0},{"$f":"DINAMICA!F1389","v":0},{"$f":"DINAMICA!G1389","v":0},{"$f":"DINAMICA!H1389","v":0},{"$f":"DINAMICA!I1389","v":0},{"$f":"DINAMICA!J1389","v":0},{"$f":"DINAMICA!K1389","v":0},{"$f":"VALUE(DINAMICA!$L1389)","v":0},{"$f":"VALUE(DINAMICA!$M1389)","v":0},{"$f":"VALUE(DINAMICA!$N1389)","v":0},{"$f":"VALUE(DINAMICA!$O1389)","v":0},{"$f":"VALUE(DINAMICA!$P1389)","v":0},{"$f":"VALUE(DINAMICA!$Q1389)","v":0},{"$f":"VALUE(DINAMICA!$R1389)","v":0}]
[{"$f":"VALUE(DINAMICA!$A1390)","v":0},{"$f":"VALUE(DINAMICA!$B1390)","v":"00:00:00"},{"$f":"VALUE(DINAMICA!$C1390)","v":0},{"$f":"DINAMICA!D1390","v":0},{"$f":"DINAMICA!E1390","v":0},{"$f":"DINAMICA!F1390","v":0},{"$f":"DINAMICA!G1390","v":0},{"$f":"DINAMICA!H1390","v":0},{"$f":"DINAMICA!I1390","v":0},{"$f":"DINAMICA!J1390","v":0},{"$f":"DINAMICA!K1390","v":0},{"$f":"VALUE(DINAMICA!$L1390)","v":0},{"$f":"VALUE(DINAMICA!$M1390)","v":0},{"$f":"VALUE(DINAMICA!$N1390)","v":0},{"$f":"VALUE(DINAMICA!$O1390)","v":0},{"$f":"VALUE(DINAMICA!$P1390)","v":0},{"$f":"VALUE(DINAMICA!$Q1390)","v":0},{"$f":"VALUE(DINAMICA!$R1390)","v":0}]
[{"$f":"VALUE(DINAMICA!$A1391)","v":0},{"$f":"VALUE(DINAMICA!$B1391)","v":"00:00:00"},{"$f":"VALUE(DINAMICA!$C1391)","v":0},{"$f":"DINAMICA!D1391","v":0},{"$f":"DINAMICA!E1391","v":0},{"$f":"DINAMICA!F1391","v":0},{"$f":"DINAMICA!G1391","v":0},{"$f":"DINAMICA!H1391","v":0},{"$f":"DINAMICA!I1391","v":0},{"$f":"DINAMICA!J1391","v":0},{"$f":"DINAMICA!K1391","v":0},{"$f":"VALUE(DINAMICA!$L1391)","v":0},{"$f":"VALUE(DINAMICA!$M1391)","v":0},{"$f":"VALUE(DINAMICA!$N1391)","v":0},{"$f":"VALUE(DINAMICA!$O1391)","v":0},{"$f":"VALUE(DINAMICA!$P1391)","v":0},{"$f":"VALUE(DINAMICA!$Q1391)","v":0},{"$f":"VALUE(DINAMICA!$R1391)","v":0}]
[{"$f":"VALUE(DINAMICA!$A1392)","v":0},{"$f":"VALUE(DINAMICA!$B1392)","v":"00:00:00"},{"$f":"VALUE(DINAMICA!$C1392)","v":0},{"$f":"DINAMICA!D1392","v":0},{"$f":"DINAMICA!E1392","v":0},{"$f":"DINAMICA!F1392","v":0},{"$f":"DINAMICA!G1392","v":0},{"$f":"DINAMICA!H1392","v":0},{"$f":"DINAMICA!I1392","v":0},{"$f":"DINAMICA!J1392","v":0},{"$f":"DINAMICA!K1392","v":0},{"$f":"VALUE(DINAMICA!$L1392)","v":0},{"$f":"VALUE(DINAMICA!$M1392)","v":0},{"$f":"VALUE(DINAMICA!$N1392)","v":0},{"$f":"VALUE(DINAMICA!$O1392)","v":0},{"$f":"VALUE(DINAMICA!$P1392)","v":0},{"$f":"VALUE(DINAMICA!$Q1392)","v":0},{"$f":"VALUE(DINAMICA!$R1392)","v":0}]
[{"$f":"VALUE(DINAMICA!$A1393)","v":0},{"$f":"VALUE(DINAMICA!$B1393)","v":"00:00:00"},{"$f":"VALUE(DINAMICA!$C1393)","v":0},{"$f":"DINAMICA!D1393","v":0},{"$f":"DINAMICA!E1393","v":0},{"$f":"DINAMICA!F1393","v":0},{"$f":"DINAMICA!G1393","v":0},{"$f":"DINAMICA!H1393","v":0},{"$f":"DINAMICA!I1393","v":0},{"$f":"DINAMICA!J1393","v":0},{"$f":"DINAMICA!K1393","v":0},{"$f":"VALUE(DINAMICA!$L1393)","v":0},{"$f":"VALUE(DINAMICA!$M1393)","v":0},{"$f":"VALUE(DINAMICA!$N1393)","v":0},{"$f":"VALUE(DINAMICA!$O1393)","v":0},{"$f":"VALUE(DINAMICA!$P1393)","v":0},{"$f":"VALUE(DINAMICA!$Q1393)","v":0},{"$f":"VALUE(DINAMICA!$R1393)","v":0}]
[{"$f":"VALUE(DINAMICA!$A1394)","v":0},{"$f":"VALUE(DINAMICA!$B1394)","v":"00:00:00"},{"$f":"VALUE(DINAMICA!$C1394)","v":0},{"$f":"DINAMICA!D1394","v":0},{"$f":"DINAMICA!E1394","v":0},{"$f":"DINAMICA!F1394","v":0},{"$f":"DINAMICA!G1394","v":0},{"$f":"DINAMICA!H1394","v":0},{"$f":"DINAMICA!I1394","v":0},{"$f":"DINAMICA!J1394","v":0},{"$f":"DINAMICA!K1394","v":0},{"$f":"VALUE(DINAMICA!$L1394)","v":0},{"$f":"VALUE(DINAMICA!$M1394)","v":0},{"$f":"VALUE(DINAMICA!$N1394)","v":0},{"$f":"VALUE(DINAMICA!$O1394)","v":0},{"$f":"VALUE(DINAMICA!$P1394)","v":0},{"$f":"VALUE(DINAMICA!$Q1394)","v":0},{"$f":"VALUE(DINAMICA!$R1394)","v":0}]
[{"$f":"VALUE(DINAMICA!$A1395)","v":0},{"$f":"VALUE(DINAMICA!$B1395)","v":"00:00:00"},{"$f":"VALUE(DINAMICA!$C1395)","v":0},{"$f":"DINAMICA!D1395","v":0},{"$f":"DINAMICA!E1395","v":0},{"$f":"DINAMICA!F1395","v":0},{"$f":"DINAMICA!G1395","v":0},{"$f":"DINAMICA!H1395","v":0},{"$f":"DINAMICA!I1395","v":0},{"$f":"DINAMICA!J1395","v":0},{"$f":"DINAMICA!K1395","v":0},{"$f":"VALUE(DINAMICA!$L1395)","v":0},{"$f":"VALUE(DINAMICA!$M1395)","v":0},{"$f":"VALUE(DINAMICA!$N1395)","v":0},{"$f":"VALUE(DINAMICA!$O1395)","v":0},{"$f":"VALUE(DINAMICA!$P1395)","v":0},{"$f":"VALUE(DINAMICA!$Q1395)","v":0},{"$f":"VALUE(DINAMICA!$R1395)","v":0}]
[{"$f":"VALUE(DINAMICA!$A1396)","v":0},{"$f":"VALUE(DINAMICA!$B1396)","v":"00:00:00"},{"$f":"VALUE(DINAMICA!$C1396)","v":0},{"$f":"DINAMICA!D1396","v":0},{"$f":"DINAMICA!E1396","v":0},{"$f":"DINAMICA!F1396","v":0},{"$f":"DINAMICA!G1396","v":0},{"$f":"DINAMICA!H1396","v":0},{"$f":"DINAMICA!I1396","v":0},{"$f":"DINAMICA!J1396","v":0},{"$f":"DINAMICA!K1396","v":0},{"$f":"VALUE(DINAMICA!$L1396)","v":0},{"$f":"VALUE(DINAMICA!$M1396)","v":0},{"$f":"VALUE(DINAMICA!$N1396)","v":0},{"$f":"VALUE(DINAMICA!$O1396)","v":0},{"$f":"VALUE(DINAMICA!$P1396)","v":0},{"$f":"VALUE(DINAMICA!$Q1396)","v":0},{"$f":"VALUE(DINAMICA!$R1396)","v":0}]
[{"$f":"VALUE(DINAMICA!$A1397)","v":0},{"$f":"VALUE(DINAMICA!$B1397)","v":"00:00:00"},{"$f":"VALUE(DINAMICA!$C1397)","v":0},{"$f":"DINAMICA!D1397","v":0},{"$f":"DINAMICA!E1397","v":0},{"$f":"DINAMICA!F1397","v":0},{"$f":"DINAMICA!G1397","v":0},{"$f":"DINAMICA!H1397","v":0},{"$f":"DINAMICA!I1397","v":0},{"$f":"DINAMICA!J1397","v":0},{"$f":"DINAMICA!K1397","v":0},{"$f":"VALUE(DINAMICA!$L1397)","v":0},{"$f":"VALUE(DINAMICA!$M1397)","v":0},{"$f":"VALUE(DINAMICA!$N1397)","v":0},{"$f":"VALUE(DINAMICA!$O1397)","v":0},{"$f":"VALUE(DINAMICA!$P1397)","v":0},{"$f":"VALUE(DINAMICA!$Q1397)","v":0},{"$f":"VALUE(DINAMICA!$R1397)","v":0}]
[{"$f":"VALUE(DINAMICA!$A1398)","v":0},{"$f":"VALUE(DINAMICA!$B1398)","v":"00:00:00"},{"$f":"VALUE(DINAMICA!$C1398)","v":0},{"$f":"DINAMICA!D1398","v":0},{"$f":"DINAMICA!E1398","v":0},{"$f":"DINAMICA!F1398","v":0},{"$f":"DINAMICA!G1398","v":0},{"$f":"DINAMICA!H1398","v":0},{"$f":"DINAMICA!I1398","v":0},{"$f":"DINAMICA!J1398","v":0},{"$f":"DINAMICA!K1398","v":0},{"$f":"VALUE(DINAMICA!$L1398)","v":0},{"$f":"VALUE(DINAMICA!$M1398)","v":0},{"$f":"VALUE(DINAMICA!$N1398)","v":0},{"$f":"VALUE(DINAMICA!$O1398)","v":0},{"$f":"VALUE(DINAMICA!$P1398)","v":0},{"$f":"VALUE(DINAMICA!$Q1398)","v":0},{"$f":"VALUE(DINAMICA!$R1398)","v":0}]
[{"$f":"VALUE(DINAMICA!$A1399)","v":0},{"$f":"VALUE(DINAMICA!$B1399)","v":"00:00:00"},{"$f":"VALUE(DINAMICA!$C1399)","v":0},{"$f":"DINAMICA!D1399","v":0},{"$f":"DINAMICA!E1399","v":0},{"$f":"DINAMICA!F1399","v":0},{"$f":"DINAMICA!G1399","v":0},{"$f":"DINAMICA!H1399","v":0},{"$f":"DINAMICA!I1399","v":0},{"$f":"DINAMICA!J1399","v":0},{"$f":"DINAMICA!K1399","v":0},{"$f":"VALUE(DINAMICA!$L1399)","v":0},{"$f":"VALUE(DINAMICA!$M1399)","v":0},{"$f":"VALUE(DINAMICA!$N1399)","v":0},{"$f":"VALUE(DINAMICA!$O1399)","v":0},{"$f":"VALUE(DINAMICA!$P1399)","v":0},{"$f":"VALUE(DINAMICA!$Q1399)","v":0},{"$f":"VALUE(DINAMICA!$R1399)","v":0}]
[{"$f":"VALUE(DINAMICA!$A1400)","v":0},{"$f":"VALUE(DINAMICA!$B1400)","v":"00:00:00"},{"$f":"VALUE(DINAMICA!$C1400)","v":0},{"$f":"DINAMICA!D1400","v":0},{"$f":"DINAMICA!E1400","v":0},{"$f":"DINAMICA!F1400","v":0},{"$f":"DINAMICA!G1400","v":0},{"$f":"DINAMICA!H1400","v":0},{"$f":"DINAMICA!I1400","v":0},{"$f":"DINAMICA!J1400","v":0},{"$f":"DINAMICA!K1400","v":0},{"$f":"VALUE(DINAMICA!$L1400)","v":0},{"$f":"VALUE(DINAMICA!$M1400)","v":0},{"$f":"VALUE(DINAMICA!$N1400)","v":0},{"$f":"VALUE(DINAMICA!$O1400)","v":0},{"$f":"VALUE(DINAMICA!$P1400)","v":0},{"$f":"VALUE(DINAMICA!$Q1400)","v":0},{"$f":"VALUE(DINAMICA!$R1400)","v":0}]
[{"$f":"VALUE(DINAMICA!$A1401)","v":0},{"$f":"VALUE(DINAMICA!$B1401)","v":"00:00:00"},{"$f":"VALUE(DINAMICA!$C1401)","v":0},{"$f":"DINAMICA!D1401","v":0},{"$f":"DINAMICA!E1401","v":0},{"$f":"DINAMICA!F1401","v":0},{"$f":"DINAMICA!G1401","v":0},{"$f":"DINAMICA!H1401","v":0},{"$f":"DINAMICA!I1401","v":0},{"$f":"DINAMICA!J1401","v":0},{"$f":"DINAMICA!K1401","v":0},{"$f":"VALUE(DINAMICA!$L1401)","v":0},{"$f":"VALUE(DINAMICA!$M1401)","v":0},{"$f":"VALUE(DINAMICA!$N1401)","v":0},{"$f":"VALUE(DINAMICA!$O1401)","v":0},{"$f":"VALUE(DINAMICA!$P1401)","v":0},{"$f":"VALUE(DINAMICA!$Q1401)","v":0},{"$f":"VALUE(DINAMICA!$R1401)","v":0}]
[{"$f":"VALUE(DINAMICA!$A1402)","v":0},{"$f":"VALUE(DINAMICA!$B1402)","v":"00:00:00"},{"$f":"VALUE(DINAMICA!$C1402)","v":0},{"$f":"DINAMICA!D1402","v":0},{"$f":"DINAMICA!E1402","v":0},{"$f":"DINAMICA!F1402","v":0},{"$f":"DINAMICA!G1402","v":0},{"$f":"DINAMICA!H1402","v":0},{"$f":"DINAMICA!I1402","v":0},{"$f":"DINAMICA!J1402","v":0},{"$f":"DINAMICA!K1402","v":0},{"$f":"VALUE(DINAMICA!$L1402)","v":0},{"$f":"VALUE(DINAMICA!$M1402)","v":0},{"$f":"VALUE(DINAMICA!$N1402)","v":0},{"$f":"VALUE(DINAMICA!$O1402)","v":0},{"$f":"VALUE(DINAMICA!$P1402)","v":0},{"$f":"VALUE(DINAMICA!$Q1402)","v":0},{"$f":"VALUE(DINAMICA!$R1402)","v":0}]
[{"$f":"VALUE(DINAMICA!$A1403)","v":0},{"$f":"VALUE(DINAMICA!$B1403)","v":"00:00:00"},{"$f":"VALUE(DINAMICA!$C1403)","v":0},{"$f":"DINAMICA!D1403","v":0},{"$f":"DINAMICA!E1403","v":0},{"$f":"DINAMICA!F1403","v":0},{"$f":"DINAMICA!G1403","v":0},{"$f":"DINAMICA!H1403","v":0},{"$f":"DINAMICA!I1403","v":0},{"$f":"DINAMICA!J1403","v":0},{"$f":"DINAMICA!K1403","v":0},{"$f":"VALUE(DINAMICA!$L1403)","v":0},{"$f":"VALUE(DINAMICA!$M1403)","v":0},{"$f":"VALUE(DINAMICA!$N1403)","v":0},{"$f":"VALUE(DINAMICA!$O1403)","v":0},{"$f":"VALUE(DINAMICA!$P1403)","v":0},{"$f":"VALUE(DINAMICA!$Q1403)","v":0},{"$f":"VALUE(DINAMICA!$R1403)","v":0}]
[{"$f":"VALUE(DINAMICA!$A1404)","v":0},{"$f":"VALUE(DINAMICA!$B1404)","v":"00:00:00"},{"$f":"VALUE(DINAMICA!$C1404)","v":0},{"$f":"DINAMICA!D1404","v":0},{"$f":"DINAMICA!E1404","v":0},{"$f":"DINAMICA!F1404","v":0},{"$f":"DINAMICA!G1404","v":0},{"$f":"DINAMICA!H1404","v":0},{"$f":"DINAMICA!I1404","v":0},{"$f":"DINAMICA!J1404","v":0},{"$f":"DINAMICA!K1404","v":0},{"$f":"VALUE(DINAMICA!$L1404)","v":0},{"$f":"VALUE(DINAMICA!$M1404)","v":0},{"$f":"VALUE(DINAMICA!$N1404)","v":0},{"$f":"VALUE(DINAMICA!$O1404)","v":0},{"$f":"VALUE(DINAMICA!$P1404)","v":0},{"$f":"VALUE(DINAMICA!$Q1404)","v":0},{"$f":"VALUE(DINAMICA!$R1404)","v":0}]
[{"$f":"VALUE(DINAMICA!$A1405)","v":0},{"$f":"VALUE(DINAMICA!$B1405)","v":"00:00:00"},{"$f":"VALUE(DINAMICA!$C1405)","v":0},{"$f":"DINAMICA!D1405","v":0},{"$f":"DINAMICA!E1405","v":0},{"$f":"DINAMICA!F1405","v":0},{"$f":"DINAMICA!G1405","v":0},{"$f":"DINAMICA!H1405","v":0},{"$f":"DINAMICA!I1405","v":0},{"$f":"DINAMICA!J1405","v":0},{"$f":"DINAMICA!K1405","v":0},{"$f":"VALUE(DINAMICA!$L1405)","v":0},{"$f":"VALUE(DINAMICA!$M1405)","v":0},{"$f":"VALUE(DINAMICA!$N1405)","v":0},{"$f":"VALUE(DINAMICA!$O1405)","v":0},{"$f":"VALUE(DINAMICA!$P1405)","v":0},{"$f":"VALUE(DINAMICA!$Q1405)","v":0},{"$f":"VALUE(DINAMICA!$R1405)","v":0}]
[{"$f":"VALUE(DINAMICA!$A1406)","v":0},{"$f":"VALUE(DINAMICA!$B1406)","v":"00:00:00"},{"$f":"VALUE(DINAMICA!$C1406)","v":0},{"$f":"DINAMICA!D1406","v":0},{"$f":"DINAMICA!E1406","v":0},{"$f":"DINAMICA!F1406","v":0},{"$f":"DINAMICA!G1406","v":0},{"$f":"DINAMICA!H1406","v":0},{"$f":"DINAMICA!I1406","v":0},{"$f":"DINAMICA!J1406","v":0},{"$f":"DINAMICA!K1406","v":0},{"$f":"VALUE(DINAMICA!$L1406)","v":0},{"$f":"VALUE(DINAMICA!$M1406)","v":0},{"$f":"VALUE(DINAMICA!$N1406)","v":0},{"$f":"VALUE(DINAMICA!$O1406)","v":0},{"$f":"VALUE(DINAMICA!$P1406)","v":0},{"$f":"VALUE(DINAMICA!$Q1406)","v":0},{"$f":"VALUE(DINAMICA!$R1406)","v":0}]
[{"$f":"VALUE(DINAMICA!$A1407)","v":0},{"$f":"VALUE(DINAMICA!$B1407)","v":"00:00:00"},{"$f":"VALUE(DINAMICA!$C1407)","v":0},{"$f":"DINAMICA!D1407","v":0},{"$f":"DINAMICA!E1407","v":0},{"$f":"DINAMICA!F1407","v":0},{"$f":"DINAMICA!G1407","v":0},{"$f":"DINAMICA!H1407","v":0},{"$f":"DINAMICA!I1407","v":0},{"$f":"DINAMICA!J1407","v":0},{"$f":"DINAMICA!K1407","v":0},{"$f":"VALUE(DINAMICA!$L1407)","v":0},{"$f":"VALUE(DINAMICA!$M1407)","v":0},{"$f":"VALUE(DINAMICA!$N1407)","v":0},{"$f":"VALUE(DINAMICA!$O1407)","v":0},{"$f":"VALUE(DINAMICA!$P1407)","v":0},{"$f":"VALUE(DINAMICA!$Q1407)","v":0},{"$f":"VALUE(DINAMICA!$R1407)","v":0}]
[{"$f":"VALUE(DINAMICA!$A1408)","v":0},{"$f":"VALUE(DINAMICA!$B1408)","v":"00:00:00"},{"$f":"VALUE(DINAMICA!$C1408)","v":0},{"$f":"DINAMICA!D1408","v":0},{"$f":"DINAMICA!E1408","v":0},{"$f":"DINAMICA!F1408","v":0},{"$f":"DINAMICA!G1408","v":0},{"$f":"DINAMICA!H1408","v":0},{"$f":"DINAMICA!I1408","v":0},{"$f":"DINAMICA!J1408","v":0},{"$f":"DINAMICA!K1408","v":0},{"$f":"VALUE(DINAMICA!$L1408)","v":0},{"$f":"VALUE(DINAMICA!$M1408)","v":0},{"$f":"VALUE(DINAMICA!$N1408)","v":0},{"$f":"VALUE(DINAMICA!$O1408)","v":0},{"$f":"VALUE(DINAMICA!$P1408)","v":0},{"$f":"VALUE(DINAMICA!$Q1408)","v":0},{"$f":"VALUE(DINAMICA!$R1408)","v":0}]
[{"$f":"VALUE(DINAMICA!$A1409)","v":0},{"$f":"VALUE(DINAMICA!$B1409)","v":"00:00:00"},{"$f":"VALUE(DINAMICA!$C1409)","v":0},{"$f":"DINAMICA!D1409","v":0},{"$f":"DINAMICA!E1409","v":0},{"$f":"DINAMICA!F1409","v":0},{"$f":"DINAMICA!G1409","v":0},{"$f":"DINAMICA!H1409","v":0},{"$f":"DINAMICA!I1409","v":0},{"$f":"DINAMICA!J1409","v":0},{"$f":"DINAMICA!K1409","v":0},{"$f":"VALUE(DINAMICA!$L1409)","v":0},{"$f":"VALUE(DINAMICA!$M1409)","v":0},{"$f":"VALUE(DINAMICA!$N1409)","v":0},{"$f":"VALUE(DINAMICA!$O1409)","v":0},{"$f":"VALUE(DINAMICA!$P1409)","v":0},{"$f":"VALUE(DINAMICA!$Q1409)","v":0},{"$f":"VALUE(DINAMICA!$R1409)","v":0}]
[{"$f":"VALUE(DINAMICA!$A1410)","v":0},{"$f":"VALUE(DINAMICA!$B1410)","v":"00:00:00"},{"$f":"VALUE(DINAMICA!$C1410)","v":0},{"$f":"DINAMICA!D1410","v":0},{"$f":"DINAMICA!E1410","v":0},{"$f":"DINAMICA!F1410","v":0},{"$f":"DINAMICA!G1410","v":0},{"$f":"DINAMICA!H1410","v":0},{"$f":"DINAMICA!I1410","v":0},{"$f":"DINAMICA!J1410","v":0},{"$f":"DINAMICA!K1410","v":0},{"$f":"VALUE(DINAMICA!$L1410)","v":0},{"$f":"VALUE(DINAMICA!$M1410)","v":0},{"$f":"VALUE(DINAMICA!$N1410)","v":0},{"$f":"VALUE(DINAMICA!$O1410)","v":0},{"$f":"VALUE(DINAMICA!$P1410)","v":0},{"$f":"VALUE(DINAMICA!$Q1410)","v":0},{"$f":"VALUE(DINAMICA!$R1410)","v":0}]
[{"$f":"VALUE(DINAMICA!$A1411)","v":0},{"$f":"VALUE(DINAMICA!$B1411)","v":"00:00:00"},{"$f":"VALUE(DINAMICA!$C1411)","v":0},{"$f":"DINAMICA!D1411","v":0},{"$f":"DINAMICA!E1411","v":0},{"$f":"DINAMICA!F1411","v":0},{"$f":"DINAMICA!G1411","v":0},{"$f":"DINAMICA!H1411","v":0},{"$f":"DINAMICA!I1411","v":0},{"$f":"DINAMICA!J1411","v":0},{"$f":"DINAMICA!K1411","v":0},{"$f":"VALUE(DINAMICA!$L1411)","v":0},{"$f":"VALUE(DINAMICA!$M1411)","v":0},{"$f":"VALUE(DINAMICA!$N1411)","v":0},{"$f":"VALUE(DINAMICA!$O1411)","v":0},{"$f":"VALUE(DINAMICA!$P1411)","v":0},{"$f":"VALUE(DINAMICA!$Q1411)","v":0},{"$f":"VALUE(DINAMICA!$R1411)","v":0}]
[{"$f":"VALUE(DINAMICA!$A1412)","v":0},{"$f":"VALUE(DINAMICA!$B1412)","v":"00:00:00"},{"$f":"VALUE(DINAMICA!$C1412)","v":0},{"$f":"DINAMICA!D1412","v":0},{"$f":"DINAMICA!E1412","v":0},{"$f":"DINAMICA!F1412","v":0},{"$f":"DINAMICA!G1412","v":0},{"$f":"DINAMICA!H1412","v":0},{"$f":"DINAMICA!I1412","v":0},{"$f":"DINAMICA!J1412","v":0},{"$f":"DINAMICA!K1412","v":0},{"$f":"VALUE(DINAMICA!$L1412)","v":0},{"$f":"VALUE(DINAMICA!$M1412)","v":0},{"$f":"VALUE(DINAMICA!$N1412)","v":0},{"$f":"VALUE(DINAMICA!$O1412)","v":0},{"$f":"VALUE(DINAMICA!$P1412)","v":0},{"$f":"VALUE(DINAMICA!$Q1412)","v":0},{"$f":"VALUE(DINAMICA!$R1412)","v":0}]
[{"$f":"VALUE(DINAMICA!$A1413)","v":0},{"$f":"VALUE(DINAMICA!$B1413)","v":"00:00:00"},{"$f":"VALUE(DINAMICA!$C1413)","v":0},{"$f":"DINAMICA!D1413","v":0},{"$f":"DINAMICA!E1413","v":0},{"$f":"DINAMICA!F1413","v":0},{"$f":"DINAMICA!G1413","v":0},{"$f":"DINAMICA!H1413","v":0},{"$f":"DINAMICA!I1413","v":0},{"$f":"DINAMICA!J1413","v":0},{"$f":"DINAMICA!K1413","v":0},{"$f":"VALUE(DINAMICA!$L1413)","v":0},{"$f":"VALUE(DINAMICA!$M1413)","v":0},{"$f":"VALUE(DINAMICA!$N1413)","v":0},{"$f":"VALUE(DINAMICA!$O1413)","v":0},{"$f":"VALUE(DINAMICA!$P1413)","v":0},{"$f":"VALUE(DINAMICA!$Q1413)","v":0},{"$f":"VALUE(DINAMICA!$R1413)","v":0}]
[{"$f":"VALUE(DINAMICA!$A1414)","v":0},{"$f":"VALUE(DINAMICA!$B1414)","v":"00:00:00"},{"$f":"VALUE(DINAMICA!$C1414)","v":0},{"$f":"DINAMICA!D1414","v":0},{"$f":"DINAMICA!E1414","v":0},{"$f":"DINAMICA!F1414","v":0},{"$f":"DINAMICA!G1414","v":0},{"$f":"DINAMICA!H1414","v":0},{"$f":"DINAMICA!I1414","v":0},{"$f":"DINAMICA!J1414","v":0},{"$f":"DINAMICA!K1414","v":0},{"$f":"VALUE(DINAMICA!$L1414)","v":0},{"$f":"VALUE(DINAMICA!$M1414)","v":0},{"$f":"VALUE(DINAMICA!$N1414)","v":0},{"$f":"VALUE(DINAMICA!$O1414)","v":0},{"$f":"VALUE(DINAMICA!$P1414)","v":0},{"$f":"VALUE(DINAMICA!$Q1414)","v":0},{"$f":"VALUE(DINAMICA!$R1414)","v":0}]
[{"$f":"VALUE(DINAMICA!$A1415)","v":0},{"$f":"VALUE(DINAMICA!$B1415)","v":"00:00:00"},{"$f":"VALUE(DINAMICA!$C1415)","v":0},{"$f":"DINAMICA!D1415","v":0},{"$f":"DINAMICA!E1415","v":0},{"$f":"DINAMICA!F1415","v":0},{"$f":"DINAMICA!G1415","v":0},{"$f":"DINAMICA!H1415","v":0},{"$f":"DINAMICA!I1415","v":0},{"$f":"DINAMICA!J1415","v":0},{"$f":"DINAMICA!K1415","v":0},{"$f":"VALUE(DINAMICA!$L1415)","v":0},{"$f":"VALUE(DINAMICA!$M1415)","v":0},{"$f":"VALUE(DINAMICA!$N1415)","v":0},{"$f":"VALUE(DINAMICA!$O1415)","v":0},{"$f":"VALUE(DINAMICA!$P1415)","v":0},{"$f":"VALUE(DINAMICA!$Q1415)","v":0},{"$f":"VALUE(DINAMICA!$R1415)","v":0}]
[{"$f":"VALUE(DINAMICA!$A1416)","v":0},{"$f":"VALUE(DINAMICA!$B1416)","v":"00:00:00"},{"$f":"VALUE(DINAMICA!$C1416)","v":0},{"$f":"DINAMICA!D1416","v":0},{"$f":"DINAMICA!E1416","v":0},{"$f":"DINAMICA!F1416","v":0},{"$f":"DINAMICA!G1416","v":0},{"$f":"DINAMICA!H1416","v":0},{"$f":"DINAMICA!I1416","v":0},{"$f":"DINAMICA!J1416","v":0},{"$f":"DINAMICA!K1416","v":0},{"$f":"VALUE(DINAMICA!$L1416)","v":0},{"$f":"VALUE(DINAMICA!$M1416)","v":0},{"$f":"VALUE(DINAMICA!$N1416)","v":0},{"$f":"VALUE(DINAMICA!$O1416)","v":0},{"$f":"VALUE(DINAMICA!$P1416)","v":0},{"$f":"VALUE(DINAMICA!$Q1416)","v":0},{"$f":"VALUE(DINAMICA!$R1416)","v":0}]
[{"$f":"VALUE(DINAMICA!$A1417)","v":0},{"$f":"VALUE(DINAMICA!$B1417)","v":"00:00:00"},{"$f":"VALUE(DINAMICA!$C1417)","v":0},{"$f":"DINAMICA!D1417","v":0},{"$f":"DINAMICA!E1417","v":0},{"$f":"DINAMICA!F1417","v":0},{"$f":"DINAMICA!G1417","v":0},{"$f":"DINAMICA!H1417","v":0},{"$f":"DINAMICA!I1417","v":0},{"$f":"DINAMICA!J1417","v":0},{"$f":"DINAMICA!K1417","v":0},{"$f":"VALUE(DINAMICA!$L1417)","v":0},{"$f":"VALUE(DINAMICA!$M1417)","v":0},{"$f":"VALUE(DINAMICA!$N1417)","v":0},{"$f":"VALUE(DINAMICA!$O1417)","v":0},{"$f":"VALUE(DINAMICA!$P1417)","v":0},{"$f":"VALUE(DINAMICA!$Q1417)","v":0},{"$f":"VALUE(DINAMICA!$R1417)","v":0}]
[{"$f":"VALUE(DINAMICA!$A1418)","v":0},{"$f":"VALUE(DINAMICA!$B1418)","v":"00:00:00"},{"$f":"VALUE(DINAMICA!$C1418)","v":0},{"$f":"DINAMICA!D1418","v":0},{"$f":"DINAMICA!E1418","v":0},{"$f":"DINAMICA!F1418","v":0},{"$f":"DINAMICA!G1418","v":0},{"$f":"DINAMICA!H1418","v":0},{"$f":"DINAMICA!I1418","v":0},{"$f":"DINAMICA!J1418","v":0},{"$f":"DINAMICA!K1418","v":0},{"$f":"VALUE(DINAMICA!$L1418)","v":0},{"$f":"VALUE(DINAMICA!$M1418)","v":0},{"$f":"VALUE(DINAMICA!$N1418)","v":0},{"$f":"VALUE(DINAMICA!$O1418)","v":0},{"$f":"VALUE(DINAMICA!$P1418)","v":0},{"$f":"VALUE(DINAMICA!$Q1418)","v":0},{"$f":"VALUE(DINAMICA!$R1418)","v":0}]
[{"$f":"VALUE(DINAMICA!$A1419)","v":0},{"$f":"VALUE(DINAMICA!$B1419)","v":"00:00:00"},{"$f":"VALUE(DINAMICA!$C1419)","v":0},{"$f":"DINAMICA!D1419","v":0},{"$f":"DINAMICA!E1419","v":0},{"$f":"DINAMICA!F1419","v":0},{"$f":"DINAMICA!G1419","v":0},{"$f":"DINAMICA!H1419","v":0},{"$f":"DINAMICA!I1419","v":0},{"$f":"DINAMICA!J1419","v":0},{"$f":"DINAMICA!K1419","v":0},{"$f":"VALUE(DINAMICA!$L1419)","v":0},{"$f":"VALUE(DINAMICA!$M1419)","v":0},{"$f":"VALUE(DINAMICA!$N1419)","v":0},{"$f":"VALUE(DINAMICA!$O1419)","v":0},{"$f":"VALUE(DINAMICA!$P1419)","v":0},{"$f":"VALUE(DINAMICA!$Q1419)","v":0},{"$f":"VALUE(DINAMICA!$R1419)","v":0}]
[{"$f":"VALUE(DINAMICA!$A1420)","v":0},{"$f":"VALUE(DINAMICA!$B1420)","v":"00:00:00"},{"$f":"VALUE(DINAMICA!$C1420)","v":0},{"$f":"DINAMICA!D1420","v":0},{"$f":"DINAMICA!E1420","v":0},{"$f":"DINAMICA!F1420","v":0},{"$f":"DINAMICA!G1420","v":0},{"$f":"DINAMICA!H1420","v":0},{"$f":"DINAMICA!I1420","v":0},{"$f":"DINAMICA!J1420","v":0},{"$f":"DINAMICA!K1420","v":0},{"$f":"VALUE(DINAMICA!$L1420)","v":0},{"$f":"VALUE(DINAMICA!$M1420)","v":0},{"$f":"VALUE(DINAMICA!$N1420)","v":0},{"$f":"VALUE(DINAMICA!$O1420)","v":0},{"$f":"VALUE(DINAMICA!$P1420)","v":0},{"$f":"VALUE(DINAMICA!$Q1420)","v":0},{"$f":"VALUE(DINAMICA!$R1420)","v":0}]
[{"$f":"VALUE(DINAMICA!$A1421)","v":0},{"$f":"VALUE(DINAMICA!$B1421)","v":"00:00:00"},{"$f":"VALUE(DINAMICA!$C1421)","v":0},{"$f":"DINAMICA!D1421","v":0},{"$f":"DINAMICA!E1421","v":0},{"$f":"DINAMICA!F1421","v":0},{"$f":"DINAMICA!G1421","v":0},{"$f":"DINAMICA!H1421","v":0},{"$f":"DINAMICA!I1421","v":0},{"$f":"DINAMICA!J1421","v":0},{"$f":"DINAMICA!K1421","v":0},{"$f":"VALUE(DINAMICA!$L1421)","v":0},{"$f":"VALUE(DINAMICA!$M1421)","v":0},{"$f":"VALUE(DINAMICA!$N1421)","v":0},{"$f":"VALUE(DINAMICA!$O1421)","v":0},{"$f":"VALUE(DINAMICA!$P1421)","v":0},{"$f":"VALUE(DINAMICA!$Q1421)","v":0},{"$f":"VALUE(DINAMICA!$R1421)","v":0}]
[{"$f":"VALUE(DINAMICA!$A1422)","v":0},{"$f":"VALUE(DINAMICA!$B1422)","v":"00:00:00"},{"$f":"VALUE(DINAMICA!$C1422)","v":0},{"$f":"DINAMICA!D1422","v":0},{"$f":"DINAMICA!E1422","v":0},{"$f":"DINAMICA!F1422","v":0},{"$f":"DINAMICA!G1422","v":0},{"$f":"DINAMICA!H1422","v":0},{"$f":"DINAMICA!I1422","v":0},{"$f":"DINAMICA!J1422","v":0},{"$f":"DINAMICA!K1422","v":0},{"$f":"VALUE(DINAMICA!$L1422)","v":0},{"$f":"VALUE(DINAMICA!$M1422)","v":0},{"$f":"VALUE(DINAMICA!$N1422)","v":0},{"$f":"VALUE(DINAMICA!$O1422)","v":0},{"$f":"VALUE(DINAMICA!$P1422)","v":0},{"$f":"VALUE(DINAMICA!$Q1422)","v":0},{"$f":"VALUE(DINAMICA!$R1422)","v":0}]
[{"$f":"VALUE(DINAMICA!$A1423)","v":0},{"$f":"VALUE(DINAMICA!$B1423)","v":"00:00:00"},{"$f":"VALUE(DINAMICA!$C1423)","v":0},{"$f":"DINAMICA!D1423","v":0},{"$f":"DINAMICA!E1423","v":0},{"$f":"DINAMICA!F1423","v":0},{"$f":"DINAMICA!G1423","v":0},{"$f":"DINAMICA!H1423","v":0},{"$f":"DINAMICA!I1423","v":0},{"$f":"DINAMICA!J1423","v":0},{"$f":"DINAMICA!K1423","v":0},{"$f":"VALUE(DINAMICA!$L1423)","v":0},{"$f":"VALUE(DINAMICA!$M1423)","v":0},{"$f":"VALUE(DINAMICA!$N1423)","v":0},{"$f":"VALUE(DINAMICA!$O1423)","v":0},{"$f":"VALUE(DINAMICA!$P1423)","v":0},{"$f":"VALUE(DINAMICA!$Q1423)","v":0},{"$f":"VALUE(DINAMICA!$R1423)","v":0}]
[{"$f":"VALUE(DINAMICA!$A1424)","v":0},{"$f":"VALUE(DINAMICA!$B1424)","v":"00:00:00"},{"$f":"VALUE(DINAMICA!$C1424)","v":0},{"$f":"DINAMICA!D1424","v":0},{"$f":"DINAMICA!E1424","v":0},{"$f":"DINAMICA!F1424","v":0},{"$f":"DINAMICA!G1424","v":0},{"$f":"DINAMICA!H1424","v":0},{"$f":"DINAMICA!I1424","v":0},{"$f":"DINAMICA!J1424","v":0},{"$f":"DINAMICA!K1424","v":0},{"$f":"VALUE(DINAMICA!$L1424)","v":0},{"$f":"VALUE(DINAMICA!$M1424)","v":0},{"$f":"VALUE(DINAMICA!$N1424)","v":0},{"$f":"VALUE(DINAMICA!$O1424)","v":0},{"$f":"VALUE(DINAMICA!$P1424)","v":0},{"$f":"VALUE(DINAMICA!$Q1424)","v":0},{"$f":"VALUE(DINAMICA!$R1424)","v":0}]
[{"$f":"VALUE(DINAMICA!$A1425)","v":0},{"$f":"VALUE(DINAMICA!$B1425)","v":"00:00:00"},{"$f":"VALUE(DINAMICA!$C1425)","v":0},{"$f":"DINAMICA!D1425","v":0},{"$f":"DINAMICA!E1425","v":0},{"$f":"DINAMICA!F1425","v":0},{"$f":"DINAMICA!G1425","v":0},{"$f":"DINAMICA!H1425","v":0},{"$f":"DINAMICA!I1425","v":0},{"$f":"DINAMICA!J1425","v":0},{"$f":"DINAMICA!K1425","v":0},{"$f":"VALUE(DINAMICA!$L1425)","v":0},{"$f":"VALUE(DINAMICA!$M1425)","v":0},{"$f":"VALUE(DINAMICA!$N1425)","v":0},{"$f":"VALUE(DINAMICA!$O1425)","v":0},{"$f":"VALUE(DINAMICA!$P1425)","v":0},{"$f":"VALUE(DINAMICA!$Q1425)","v":0},{"$f":"VALUE(DINAMICA!$R1425)","v":0}]
[{"$f":"VALUE(DINAMICA!$A1426)","v":0},{"$f":"VALUE(DINAMICA!$B1426)","v":"00:00:00"},{"$f":"VALUE(DINAMICA!$C1426)","v":0},{"$f":"DINAMICA!D1426","v":0},{"$f":"DINAMICA!E1426","v":0},{"$f":"DINAMICA!F1426","v":0},{"$f":"DINAMICA!G1426","v":0},{"$f":"DINAMICA!H1426","v":0},{"$f":"DINAMICA!I1426","v":0},{"$f":"DINAMICA!J1426","v":0},{"$f":"DINAMICA!K1426","v":0},{"$f":"VALUE(DINAMICA!$L1426)","v":0},{"$f":"VALUE(DINAMICA!$M1426)","v":0},{"$f":"VALUE(DINAMICA!$N1426)","v":0},{"$f":"VALUE(DINAMICA!$O1426)","v":0},{"$f":"VALUE(DINAMICA!$P1426)","v":0},{"$f":"VALUE(DINAMICA!$Q1426)","v":0},{"$f":"VALUE(DINAMICA!$R1426)","v":0}]
[{"$f":"VALUE(DINAMICA!$A1427)","v":0},{"$f":"VALUE(DINAMICA!$B1427)","v":"00:00:00"},{"$f":"VALUE(DINAMICA!$C1427)","v":0},{"$f":"DINAMICA!D1427","v":0},{"$f":"DINAMICA!E1427","v":0},{"$f":"DINAMICA!F1427","v":0},{"$f":"DINAMICA!G1427","v":0},{"$f":"DINAMICA!H1427","v":0},{"$f":"DINAMICA!I1427","v":0},{"$f":"DINAMICA!J1427","v":0},{"$f":"DINAMICA!K1427","v":0},{"$f":"VALUE(DINAMICA!$L1427)","v":0},{"$f":"VALUE(DINAMICA!$M1427)","v":0},{"$f":"VALUE(DINAMICA!$N1427)","v":0},{"$f":"VALUE(DINAMICA!$O1427)","v":0},{"$f":"VALUE(DINAMICA!$P1427)","v":0},{"$f":"VALUE(DINAMICA!$Q1427)","v":0},{"$f":"VALUE(DINAMICA!$R1427)","v":0}]
[{"$f":"VALUE(DINAMICA!$A1428)","v":0},{"$f":"VALUE(DINAMICA!$B1428)","v":"00:00:00"},{"$f":"VALUE(DINAMICA!$C1428)","v":0},{"$f":"DINAMICA!D1428","v":0},{"$f":"DINAMICA!E1428","v":0},{"$f":"DINAMICA!F1428","v":0},{"$f":"DINAMICA!G1428","v":0},{"$f":"DINAMICA!H1428","v":0},{"$f":"DINAMICA!I1428","v":0},{"$f":"DINAMICA!J1428","v":0},{"$f":"DINAMICA!K1428","v":0},{"$f":"VALUE(DINAMICA!$L1428)","v":0},{"$f":"VALUE(DINAMICA!$M1428)","v":0},{"$f":"VALUE(DINAMICA!$N1428)","v":0},{"$f":"VALUE(DINAMICA!$O1428)","v":0},{"$f":"VALUE(DINAMICA!$P1428)","v":0},{"$f":"VALUE(DINAMICA!$Q1428)","v":0},{"$f":"VALUE(DINAMICA!$R1428)","v":0}]
[{"$f":"VALUE(DINAMICA!$A1429)","v":0},{"$f":"VALUE(DINAMICA!$B1429)","v":"00:00:00"},{"$f":"VALUE(DINAMICA!$C1429)","v":0},{"$f":"DINAMICA!D1429","v":0},{"$f":"DINAMICA!E1429","v":0},{"$f":"DINAMICA!F1429","v":0},{"$f":"DINAMICA!G1429","v":0},{"$f":"DINAMICA!H1429","v":0},{"$f":"DINAMICA!I1429","v":0},{"$f":"DINAMICA!J1429","v":0},{"$f":"DINAMICA!K1429","v":0},{"$f":"VALUE(DINAMICA!$L1429)","v":0},{"$f":"VALUE(DINAMICA!$M1429)","v":0},{"$f":"VALUE(DINAMICA!$N1429)","v":0},{"$f":"VALUE(DINAMICA!$O1429)","v":0},{"$f":"VALUE(DINAMICA!$P1429)","v":0},{"$f":"VALUE(DINAMICA!$Q1429)","v":0},{"$f":"VALUE(DINAMICA!$R1429)","v":0}]
[{"$f":"VALUE(DINAMICA!$A1430)","v":0},{"$f":"VALUE(DINAMICA!$B1430)","v":"00:00:00"},{"$f":"VALUE(DINAMICA!$C1430)","v":0},{"$f":"DINAMICA!D1430","v":0},{"$f":"DINAMICA!E1430","v":0},{"$f":"DINAMICA!F1430","v":0},{"$f":"DINAMICA!G1430","v":0},{"$f":"DINAMICA!H1430","v":0},{"$f":"DINAMICA!I1430","v":0},{"$f":"DINAMICA!J1430","v":0},{"$f":"DINAMICA!K1430","v":0},{"$f":"VALUE(DINAMICA!$L1430)","v":0},{"$f":"VALUE(DINAMICA!$M1430)","v":0},{"$f":"VALUE(DINAMICA!$N1430)","v":0},{"$f":"VALUE(DINAMICA!$O1430)","v":0},{"$f":"VALUE(DINAMICA!$P1430)","v":0},{"$f":"VALUE(DINAMICA!$Q1430)","v":0},{"$f":"VALUE(DINAMICA!$R1430)","v":0}]
[{"$f":"VALUE(DINAMICA!$A1431)","v":0},{"$f":"VALUE(DINAMICA!$B1431)","v":"00:00:00"},{"$f":"VALUE(DINAMICA!$C1431)","v":0},{"$f":"DINAMICA!D1431","v":0},{"$f":"DINAMICA!E1431","v":0},{"$f":"DINAMICA!F1431","v":0},{"$f":"DINAMICA!G1431","v":0},{"$f":"DINAMICA!H1431","v":0},{"$f":"DINAMICA!I1431","v":0},{"$f":"DINAMICA!J1431","v":0},{"$f":"DINAMICA!K1431","v":0},{"$f":"VALUE(DINAMICA!$L1431)","v":0},{"$f":"VALUE(DINAMICA!$M1431)","v":0},{"$f":"VALUE(DINAMICA!$N1431)","v":0},{"$f":"VALUE(DINAMICA!$O1431)","v":0},{"$f":"VALUE(DINAMICA!$P1431)","v":0},{"$f":"VALUE(DINAMICA!$Q1431)","v":0},{"$f":"VALUE(DINAMICA!$R1431)","v":0}]
[{"$f":"VALUE(DINAMICA!$A1432)","v":0},{"$f":"VALUE(DINAMICA!$B1432)","v":"00:00:00"},{"$f":"VALUE(DINAMICA!$C1432)","v":0},{"$f":"DINAMICA!D1432","v":0},{"$f":"DINAMICA!E1432","v":0},{"$f":"DINAMICA!F1432","v":0},{"$f":"DINAMICA!G1432","v":0},{"$f":"DINAMICA!H1432","v":0},{"$f":"DINAMICA!I1432","v":0},{"$f":"DINAMICA!J1432","v":0},{"$f":"DINAMICA!K1432","v":0},{"$f":"VALUE(DINAMICA!$L1432)","v":0},{"$f":"VALUE(DINAMICA!$M1432)","v":0},{"$f":"VALUE(DINAMICA!$N1432)","v":0},{"$f":"VALUE(DINAMICA!$O1432)","v":0},{"$f":"VALUE(DINAMICA!$P1432)","v":0},{"$f":"VALUE(DINAMICA!$Q1432)","v":0},{"$f":"VALUE(DINAMICA!$R1432)","v":0}]
[{"$f":"VALUE(DINAMICA!$A1433)","v":0},{"$f":"VALUE(DINAMICA!$B1433)","v":"00:00:00"},{"$f":"VALUE(DINAMICA!$C1433)","v":0},{"$f":"DINAMICA!D1433","v":0},{"$f":"DINAMICA!E1433","v":0},{"$f":"DINAMICA!F1433","v":0},{"$f":"DINAMICA!G1433","v":0},{"$f":"DINAMICA!H1433","v":0},{"$f":"DINAMICA!I1433","v":0},{"$f":"DINAMICA!J1433","v":0},{"$f":"DINAMICA!K1433","v":0},{"$f":"VALUE(DINAMICA!$L1433)","v":0},{"$f":"VALUE(DINAMICA!$M1433)","v":0},{"$f":"VALUE(DINAMICA!$N1433)","v":0},{"$f":"VALUE(DINAMICA!$O1433)","v":0},{"$f":"VALUE(DINAMICA!$P1433)","v":0},{"$f":"VALUE(DINAMICA!$Q1433)","v":0},{"$f":"VALUE(DINAMICA!$R1433)","v":0}]
[{"$f":"VALUE(DINAMICA!$A1434)","v":0},{"$f":"VALUE(DINAMICA!$B1434)","v":"00:00:00"},{"$f":"VALUE(DINAMICA!$C1434)","v":0},{"$f":"DINAMICA!D1434","v":0},{"$f":"DINAMICA!E1434","v":0},{"$f":"DINAMICA!F1434","v":0},{"$f":"DINAMICA!G1434","v":0},{"$f":"DINAMICA!H1434","v":0},{"$f":"DINAMICA!I1434","v":0},{"$f":"DINAMICA!J1434","v":0},{"$f":"DINAMICA!K1434","v":0},{"$f":"VALUE(DINAMICA!$L1434)","v":0},{"$f":"VALUE(DINAMICA!$M1434)","v":0},{"$f":"VALUE(DINAMICA!$N1434)","v":0},{"$f":"VALUE(DINAMICA!$O1434)","v":0},{"$f":"VALUE(DINAMICA!$P1434)","v":0},{"$f":"VALUE(DINAMICA!$Q1434)","v":0},{"$f":"VALUE(DINAMICA!$R1434)","v":0}]
[{"$f":"VALUE(DINAMICA!$A1435)","v":0},{"$f":"VALUE(DINAMICA!$B1435)","v":"00:00:00"},{"$f":"VALUE(DINAMICA!$C1435)","v":0},{"$f":"DINAMICA!D1435","v":0},{"$f":"DINAMICA!E1435","v":0},{"$f":"DINAMICA!F1435","v":0},{"$f":"DINAMICA!G1435","v":0},{"$f":"DINAMICA!H1435","v":0},{"$f":"DINAMICA!I1435","v":0},{"$f":"DINAMICA!J1435","v":0},{"$f":"DINAMICA!K1435","v":0},{"$f":"VALUE(DINAMICA!$L1435)","v":0},{"$f":"VALUE(DINAMICA!$M1435)","v":0},{"$f":"VALUE(DINAMICA!$N1435)","v":0},{"$f":"VALUE(DINAMICA!$O1435)","v":0},{"$f":"VALUE(DINAMICA!$P1435)","v":0},{"$f":"VALUE(DINAMICA!$Q1435)","v":0},{"$f":"VALUE(DINAMICA!$R1435)","v":0}]
[{"$f":"VALUE(DINAMICA!$A1436)","v":0},{"$f":"VALUE(DINAMICA!$B1436)","v":"00:00:00"},{"$f":"VALUE(DINAMICA!$C1436)","v":0},{"$f":"DINAMICA!D1436","v":0},{"$f":"DINAMICA!E1436","v":0},{"$f":"DINAMICA!F1436","v":0},{"$f":"DINAMICA!G1436","v":0},{"$f":"DINAMICA!H1436","v":0},{"$f":"DINAMICA!I1436","v":0},{"$f":"DINAMICA!J1436","v":0},{"$f":"DINAMICA!K1436","v":0},{"$f":"VALUE(DINAMICA!$L1436)","v":0},{"$f":"VALUE(DINAMICA!$M1436)","v":0},{"$f":"VALUE(DINAMICA!$N1436)","v":0},{"$f":"VALUE(DINAMICA!$O1436)","v":0},{"$f":"VALUE(DINAMICA!$P1436)","v":0},{"$f":"VALUE(DINAMICA!$Q1436)","v":0},{"$f":"VALUE(DINAMICA!$R1436)","v":0}]
[{"$f":"VALUE(DINAMICA!$A1437)","v":0},{"$f":"VALUE(DINAMICA!$B1437)","v":"00:00:00"},{"$f":"VALUE(DINAMICA!$C1437)","v":0},{"$f":"DINAMICA!D1437","v":0},{"$f":"DINAMICA!E1437","v":0},{"$f":"DINAMICA!F1437","v":0},{"$f":"DINAMICA!G1437","v":0},{"$f":"DINAMICA!H1437","v":0},{"$f":"DINAMICA!I1437","v":0},{"$f":"DINAMICA!J1437","v":0},{"$f":"DINAMICA!K1437","v":0},{"$f":"VALUE(DINAMICA!$L1437)","v":0},{"$f":"VALUE(DINAMICA!$M1437)","v":0},{"$f":"VALUE(DINAMICA!$N1437)","v":0},{"$f":"VALUE(DINAMICA!$O1437)","v":0},{"$f":"VALUE(DINAMICA!$P1437)","v":0},{"$f":"VALUE(DINAMICA!$Q1437)","v":0},{"$f":"VALUE(DINAMICA!$R1437)","v":0}]
[{"$f":"VALUE(DINAMICA!$A1438)","v":0},{"$f":"VALUE(DINAMICA!$B1438)","v":"00:00:00"},{"$f":"VALUE(DINAMICA!$C1438)","v":0},{"$f":"DINAMICA!D1438","v":0},{"$f":"DINAMICA!E1438","v":0},{"$f":"DINAMICA!F1438","v":0},{"$f":"DINAMICA!G1438","v":0},{"$f":"DINAMICA!H1438","v":0},{"$f":"DINAMICA!I1438","v":0},{"$f":"DINAMICA!J1438","v":0},{"$f":"DINAMICA!K1438","v":0},{"$f":"VALUE(DINAMICA!$L1438)","v":0},{"$f":"VALUE(DINAMICA!$M1438)","v":0},{"$f":"VALUE(DINAMICA!$N1438)","v":0},{"$f":"VALUE(DINAMICA!$O1438)","v":0},{"$f":"VALUE(DINAMICA!$P1438)","v":0},{"$f":"VALUE(DINAMICA!$Q1438)","v":0},{"$f":"VALUE(DINAMICA!$R1438)","v":0}]
[{"$f":"VALUE(DINAMICA!$A1439)","v":0},{"$f":"VALUE(DINAMICA!$B1439)","v":"00:00:00"},{"$f":"VALUE(DINAMICA!$C1439)","v":0},{"$f":"DINAMICA!D1439","v":0},{"$f":"DINAMICA!E1439","v":0},{"$f":"DINAMICA!F1439","v":0},{"$f":"DINAMICA!G1439","v":0},{"$f":"DINAMICA!H1439","v":0},{"$f":"DINAMICA!I1439","v":0},{"$f":"DINAMICA!J1439","v":0},{"$f":"DINAMICA!K1439","v":0},{"$f":"VALUE(DINAMICA!$L1439)","v":0},{"$f":"VALUE(DINAMICA!$M1439)","v":0},{"$f":"VALUE(DINAMICA!$N1439)","v":0},{"$f":"VALUE(DINAMICA!$O1439)","v":0},{"$f":"VALUE(DINAMICA!$P1439)","v":0},{"$f":"VALUE(DINAMICA!$Q1439)","v":0},{"$f":"VALUE(DINAMICA!$R1439)","v":0}]
[{"$f":"VALUE(DINAMICA!$A1440)","v":0},{"$f":"VALUE(DINAMICA!$B1440)","v":"00:00:00"},{"$f":"VALUE(DINAMICA!$C1440)","v":0},{"$f":"DINAMICA!D1440","v":0},{"$f":"DINAMICA!E1440","v":0},{"$f":"DINAMICA!F1440","v":0},{"$f":"DINAMICA!G1440","v":0},{"$f":"DINAMICA!H1440","v":0},{"$f":"DINAMICA!I1440","v":0},{"$f":"DINAMICA!J1440","v":0},{"$f":"DINAMICA!K1440","v":0},{"$f":"VALUE(DINAMICA!$L1440)","v":0},{"$f":"VALUE(DINAMICA!$M1440)","v":0},{"$f":"VALUE(DINAMICA!$N1440)","v":0},{"$f":"VALUE(DINAMICA!$O1440)","v":0},{"$f":"VALUE(DINAMICA!$P1440)","v":0},{"$f":"VALUE(DINAMICA!$Q1440)","v":0},{"$f":"VALUE(DINAMICA!$R1440)","v":0}]
[{"$f":"VALUE(DINAMICA!$A1441)","v":0},{"$f":"VALUE(DINAMICA!$B1441)","v":"00:00:00"},{"$f":"VALUE(DINAMICA!$C1441)","v":0},{"$f":"DINAMICA!D1441","v":0},{"$f":"DINAMICA!E1441","v":0},{"$f":"DINAMICA!F1441","v":0},{"$f":"DINAMICA!G1441","v":0},{"$f":"DINAMICA!H1441","v":0},{"$f":"DINAMICA!I1441","v":0},{"$f":"DINAMICA!J1441","v":0},{"$f":"DINAMICA!K1441","v":0},{"$f":"VALUE(DINAMICA!$L1441)","v":0},{"$f":"VALUE(DINAMICA!$M1441)","v":0},{"$f":"VALUE(DINAMICA!$N1441)","v":0},{"$f":"VALUE(DINAMICA!$O1441)","v":0},{"$f":"VALUE(DINAMICA!$P1441)","v":0},{"$f":"VALUE(DINAMICA!$Q1441)","v":0},{"$f":"VALUE(DINAMICA!$R1441)","v":0}]
[{"$f":"VALUE(DINAMICA!$A1442)","v":0},{"$f":"VALUE(DINAMICA!$B1442)","v":"00:00:00"},{"$f":"VALUE(DINAMICA!$C1442)","v":0},{"$f":"DINAMICA!D1442","v":0},{"$f":"DINAMICA!E1442","v":0},{"$f":"DINAMICA!F1442","v":0},{"$f":"DINAMICA!G1442","v":0},{"$f":"DINAMICA!H1442","v":0},{"$f":"DINAMICA!I1442","v":0},{"$f":"DINAMICA!J1442","v":0},{"$f":"DINAMICA!K1442","v":0},{"$f":"VALUE(DINAMICA!$L1442)","v":0},{"$f":"VALUE(DINAMICA!$M1442)","v":0},{"$f":"VALUE(DINAMICA!$N1442)","v":0},{"$f":"VALUE(DINAMICA!$O1442)","v":0},{"$f":"VALUE(DINAMICA!$P1442)","v":0},{"$f":"VALUE(DINAMICA!$Q1442)","v":0},{"$f":"VALUE(DINAMICA!$R1442)","v":0}]
[{"$f":"VALUE(DINAMICA!$A1443)","v":0},{"$f":"VALUE(DINAMICA!$B1443)","v":"00:00:00"},{"$f":"VALUE(DINAMICA!$C1443)","v":0},{"$f":"DINAMICA!D1443","v":0},{"$f":"DINAMICA!E1443","v":0},{"$f":"DINAMICA!F1443","v":0},{"$f":"DINAMICA!G1443","v":0},{"$f":"DINAMICA!H1443","v":0},{"$f":"DINAMICA!I1443","v":0},{"$f":"DINAMICA!J1443","v":0},{"$f":"DINAMICA!K1443","v":0},{"$f":"VALUE(DINAMICA!$L1443)","v":0},{"$f":"VALUE(DINAMICA!$M1443)","v":0},{"$f":"VALUE(DINAMICA!$N1443)","v":0},{"$f":"VALUE(DINAMICA!$O1443)","v":0},{"$f":"VALUE(DINAMICA!$P1443)","v":0},{"$f":"VALUE(DINAMICA!$Q1443)","v":0},{"$f":"VALUE(DINAMICA!$R1443)","v":0}]
[{"$f":"VALUE(DINAMICA!$A1444)","v":0},{"$f":"VALUE(DINAMICA!$B1444)","v":"00:00:00"},{"$f":"VALUE(DINAMICA!$C1444)","v":0},{"$f":"DINAMICA!D1444","v":0},{"$f":"DINAMICA!E1444","v":0},{"$f":"DINAMICA!F1444","v":0},{"$f":"DINAMICA!G1444","v":0},{"$f":"DINAMICA!H1444","v":0},{"$f":"DINAMICA!I1444","v":0},{"$f":"DINAMICA!J1444","v":0},{"$f":"DINAMICA!K1444","v":0},{"$f":"VALUE(DINAMICA!$L1444)","v":0},{"$f":"VALUE(DINAMICA!$M1444)","v":0},{"$f":"VALUE(DINAMICA!$N1444)","v":0},{"$f":"VALUE(DINAMICA!$O1444)","v":0},{"$f":"VALUE(DINAMICA!$P1444)","v":0},{"$f":"VALUE(DINAMICA!$Q1444)","v":0},{"$f":"VALUE(DINAMICA!$R1444)","v":0}]
[{"$f":"VALUE(DINAMICA!$A1445)","v":0},{"$f":"VALUE(DINAMICA!$B1445)","v":"00:00:00"},{"$f":"VALUE(DINAMICA!$C1445)","v":0},{"$f":"DINAMICA!D1445","v":0},{"$f":"DINAMICA!E1445","v":0},{"$f":"DINAMICA!F1445","v":0},{"$f":"DINAMICA!G1445","v":0},{"$f":"DINAMICA!H1445","v":0},{"$f":"DINAMICA!I1445","v":0},{"$f":"DINAMICA!J1445","v":0},{"$f":"DINAMICA!K1445","v":0},{"$f":"VALUE(DINAMICA!$L1445)","v":0},{"$f":"VALUE(DINAMICA!$M1445)","v":0},{"$f":"VALUE(DINAMICA!$N1445)","v":0},{"$f":"VALUE(DINAMICA!$O1445)","v":0},{"$f":"VALUE(DINAMICA!$P1445)","v":0},{"$f":"VALUE(DINAMICA!$Q1445)","v":0},{"$f":"VALUE(DINAMICA!$R1445)","v":0}]
[{"$f":"VALUE(DINAMICA!$A1446)","v":0},{"$f":"VALUE(DINAMICA!$B1446)","v":"00:00:00"},{"$f":"VALUE(DINAMICA!$C1446)","v":0},{"$f":"DINAMICA!D1446","v":0},{"$f":"DINAMICA!E1446","v":0},{"$f":"DINAMICA!F1446","v":0},{"$f":"DINAMICA!G1446","v":0},{"$f":"DINAMICA!H1446","v":0},{"$f":"DINAMICA!I1446","v":0},{"$f":"DINAMICA!J1446","v":0},{"$f":"DINAMICA!K1446","v":0},{"$f":"VALUE(DINAMICA!$L1446)","v":0},{"$f":"VALUE(DINAMICA!$M1446)","v":0},{"$f":"VALUE(DINAMICA!$N1446)","v":0},{"$f":"VALUE(DINAMICA!$O1446)","v":0},{"$f":"VALUE(DINAMICA!$P1446)","v":0},{"$f":"VALUE(DINAMICA!$Q1446)","v":0},{"$f":"VALUE(DINAMICA!$R1446)","v":0}]
[{"$f":"VALUE(DINAMICA!$A1447)","v":0},{"$f":"VALUE(DINAMICA!$B1447)","v":"00:00:00"},{"$f":"VALUE(DINAMICA!$C1447)","v":0},{"$f":"DINAMICA!D1447","v":0},{"$f":"DINAMICA!E1447","v":0},{"$f":"DINAMICA!F1447","v":0},{"$f":"DINAMICA!G1447","v":0},{"$f":"DINAMICA!H1447","v":0},{"$f":"DINAMICA!I1447","v":0},{"$f":"DINAMICA!J1447","v":0},{"$f":"DINAMICA!K1447","v":0},{"$f":"VALUE(DINAMICA!$L1447)","v":0},{"$f":"VALUE(DINAMICA!$M1447)","v":0},{"$f":"VALUE(DINAMICA!$N1447)","v":0},{"$f":"VALUE(DINAMICA!$O1447)","v":0},{"$f":"VALUE(DINAMICA!$P1447)","v":0},{"$f":"VALUE(DINAMICA!$Q1447)","v":0},{"$f":"VALUE(DINAMICA!$R1447)","v":0}]
[{"$f":"VALUE(DINAMICA!$A1448)","v":0},{"$f":"VALUE(DINAMICA!$B1448)","v":"00:00:00"},{"$f":"VALUE(DINAMICA!$C1448)","v":0},{"$f":"DINAMICA!D1448","v":0},{"$f":"DINAMICA!E1448","v":0},{"$f":"DINAMICA!F1448","v":0},{"$f":"DINAMICA!G1448","v":0},{"$f":"DINAMICA!H1448","v":0},{"$f":"DINAMICA!I1448","v":0},{"$f":"DINAMICA!J1448","v":0},{"$f":"DINAMICA!K1448","v":0},{"$f":"VALUE(DINAMICA!$L1448)","v":0},{"$f":"VALUE(DINAMICA!$M1448)","v":0},{"$f":"VALUE(DINAMICA!$N1448)","v":0},{"$f":"VALUE(DINAMICA!$O1448)","v":0},{"$f":"VALUE(DINAMICA!$P1448)","v":0},{"$f":"VALUE(DINAMICA!$Q1448)","v":0},{"$f":"VALUE(DINAMICA!$R1448)","v":0}]
[{"$f":"VALUE(DINAMICA!$A1449)","v":0},{"$f":"VALUE(DINAMICA!$B1449)","v":"00:00:00"},{"$f":"VALUE(DINAMICA!$C1449)","v":0},{"$f":"DINAMICA!D1449","v":0},{"$f":"DINAMICA!E1449","v":0},{"$f":"DINAMICA!F1449","v":0},{"$f":"DINAMICA!G1449","v":0},{"$f":"DINAMICA!H1449","v":0},{"$f":"DINAMICA!I1449","v":0},{"$f":"DINAMICA!J1449","v":0},{"$f":"DINAMICA!K1449","v":0},{"$f":"VALUE(DINAMICA!$L1449)","v":0},{"$f":"VALUE(DINAMICA!$M1449)","v":0},{"$f":"VALUE(DINAMICA!$N1449)","v":0},{"$f":"VALUE(DINAMICA!$O1449)","v":0},{"$f":"VALUE(DINAMICA!$P1449)","v":0},{"$f":"VALUE(DINAMICA!$Q1449)","v":0},{"$f":"VALUE(DINAMICA!$R1449)","v":0}]
[{"$f":"VALUE(DINAMICA!$A1450)","v":0},{"$f":"VALUE(DINAMICA!$B1450)","v":"00:00:00"},{"$f":"VALUE(DINAMICA!$C1450)","v":0},{"$f":"DINAMICA!D1450","v":0},{"$f":"DINAMICA!E1450","v":0},{"$f":"DINAMICA!F1450","v":0},{"$f":"DINAMICA!G1450","v":0},{"$f":"DINAMICA!H1450","v":0},{"$f":"DINAMICA!I1450","v":0},{"$f":"DINAMICA!J1450","v":0},{"$f":"DINAMICA!K1450","v":0},{"$f":"VALUE(DINAMICA!$L1450)","v":0},{"$f":"VALUE(DINAMICA!$M1450)","v":0},{"$f":"VALUE(DINAMICA!$N1450)","v":0},{"$f":"VALUE(DINAMICA!$O1450)","v":0},{"$f":"VALUE(DINAMICA!$P1450)","v":0},{"$f":"VALUE(DINAMICA!$Q1450)","v":0},{"$f":"VALUE(DINAMICA!$R1450)","v":0}]
[{"$f":"VALUE(DINAMICA!$A1451)","v":0},{"$f":"VALUE(DINAMICA!$B1451)","v":"00:00:00"},{"$f":"VALUE(DINAMICA!$C1451)","v":0},{"$f":"DINAMICA!D1451","v":0},{"$f":"DINAMICA!E1451","v":0},{"$f":"DINAMICA!F1451","v":0},{"$f":"DINAMICA!G1451","v":0},{"$f":"DINAMICA!H1451","v":0},{"$f":"DINAMICA!I1451","v":0},{"$f":"DINAMICA!J1451","v":0},{"$f":"DINAMICA!K1451","v":0},{"$f":"VALUE(DINAMICA!$L1451)","v":0},{"$f":"VALUE(DINAMICA!$M1451)","v":0},{"$f":"VALUE(DINAMICA!$N1451)","v":0},{"$f":"VALUE(DINAMICA!$O1451)","v":0},{"$f":"VALUE(DINAMICA!$P1451)","v":0},{"$f":"VALUE(DINAMICA!$Q1451)","v":0},{"$f":"VALUE(DINAMICA!$R1451)","v":0}]
[{"$f":"VALUE(DINAMICA!$A1452)","v":0},{"$f":"VALUE(DINAMICA!$B1452)","v":"00:00:00"},{"$f":"VALUE(DINAMICA!$C1452)","v":0},{"$f":"DINAMICA!D1452","v":0},{"$f":"DINAMICA!E1452","v":0},{"$f":"DINAMICA!F1452","v":0},{"$f":"DINAMICA!G1452","v":0},{"$f":"DINAMICA!H1452","v":0},{"$f":"DINAMICA!I1452","v":0},{"$f":"DINAMICA!J1452","v":0},{"$f":"DINAMICA!K1452","v":0},{"$f":"VALUE(DINAMICA!$L1452)","v":0},{"$f":"VALUE(DINAMICA!$M1452)","v":0},{"$f":"VALUE(DINAMICA!$N1452)","v":0},{"$f":"VALUE(DINAMICA!$O1452)","v":0},{"$f":"VALUE(DINAMICA!$P1452)","v":0},{"$f":"VALUE(DINAMICA!$Q1452)","v":0},{"$f":"VALUE(DINAMICA!$R1452)","v":0}]
[{"$f":"VALUE(DINAMICA!$A1453)","v":0},{"$f":"VALUE(DINAMICA!$B1453)","v":"00:00:00"},{"$f":"VALUE(DINAMICA!$C1453)","v":0},{"$f":"DINAMICA!D1453","v":0},{"$f":"DINAMICA!E1453","v":0},{"$f":"DINAMICA!F1453","v":0},{"$f":"DINAMICA!G1453","v":0},{"$f":"DINAMICA!H1453","v":0},{"$f":"DINAMICA!I1453","v":0},{"$f":"DINAMICA!J1453","v":0},{"$f":"DINAMICA!K1453","v":0},{"$f":"VALUE(DINAMICA!$L1453)","v":0},{"$f":"VALUE(DINAMICA!$M1453)","v":0},{"$f":"VALUE(DINAMICA!$N1453)","v":0},{"$f":"VALUE(DINAMICA!$O1453)","v":0},{"$f":"VALUE(DINAMICA!$P1453)","v":0},{"$f":"VALUE(DINAMICA!$Q1453)","v":0},{"$f":"VALUE(DINAMICA!$R1453)","v":0}]
[{"$f":"VALUE(DINAMICA!$A1454)","v":0},{"$f":"VALUE(DINAMICA!$B1454)","v":"00:00:00"},{"$f":"VALUE(DINAMICA!$C1454)","v":0},{"$f":"DINAMICA!D1454","v":0},{"$f":"DINAMICA!E1454","v":0},{"$f":"DINAMICA!F1454","v":0},{"$f":"DINAMICA!G1454","v":0},{"$f":"DINAMICA!H1454","v":0},{"$f":"DINAMICA!I1454","v":0},{"$f":"DINAMICA!J1454","v":0},{"$f":"DINAMICA!K1454","v":0},{"$f":"VALUE(DINAMICA!$L1454)","v":0},{"$f":"VALUE(DINAMICA!$M1454)","v":0},{"$f":"VALUE(DINAMICA!$N1454)","v":0},{"$f":"VALUE(DINAMICA!$O1454)","v":0},{"$f":"VALUE(DINAMICA!$P1454)","v":0},{"$f":"VALUE(DINAMICA!$Q1454)","v":0},{"$f":"VALUE(DINAMICA!$R1454)","v":0}]
[{"$f":"VALUE(DINAMICA!$A1455)","v":0},{"$f":"VALUE(DINAMICA!$B1455)","v":"00:00:00"},{"$f":"VALUE(DINAMICA!$C1455)","v":0},{"$f":"DINAMICA!D1455","v":0},{"$f":"DINAMICA!E1455","v":0},{"$f":"DINAMICA!F1455","v":0},{"$f":"DINAMICA!G1455","v":0},{"$f":"DINAMICA!H1455","v":0},{"$f":"DINAMICA!I1455","v":0},{"$f":"DINAMICA!J1455","v":0},{"$f":"DINAMICA!K1455","v":0},{"$f":"VALUE(DINAMICA!$L1455)","v":0},{"$f":"VALUE(DINAMICA!$M1455)","v":0},{"$f":"VALUE(DINAMICA!$N1455)","v":0},{"$f":"VALUE(DINAMICA!$O1455)","v":0},{"$f":"VALUE(DINAMICA!$P1455)","v":0},{"$f":"VALUE(DINAMICA!$Q1455)","v":0},{"$f":"VALUE(DINAMICA!$R1455)","v":0}]
[{"$f":"VALUE(DINAMICA!$A1456)","v":0},{"$f":"VALUE(DINAMICA!$B1456)","v":"00:00:00"},{"$f":"VALUE(DINAMICA!$C1456)","v":0},{"$f":"DINAMICA!D1456","v":0},{"$f":"DINAMICA!E1456","v":0},{"$f":"DINAMICA!F1456","v":0},{"$f":"DINAMICA!G1456","v":0},{"$f":"DINAMICA!H1456","v":0},{"$f":"DINAMICA!I1456","v":0},{"$f":"DINAMICA!J1456","v":0},{"$f":"DINAMICA!K1456","v":0},{"$f":"VALUE(DINAMICA!$L1456)","v":0},{"$f":"VALUE(DINAMICA!$M1456)","v":0},{"$f":"VALUE(DINAMICA!$N1456)","v":0},{"$f":"VALUE(DINAMICA!$O1456)","v":0},{"$f":"VALUE(DINAMICA!$P1456)","v":0},{"$f":"VALUE(DINAMICA!$Q1456)","v":0},{"$f":"VALUE(DINAMICA!$R1456)","v":0}]
[{"$f":"VALUE(DINAMICA!$A1457)","v":0},{"$f":"VALUE(DINAMICA!$B1457)","v":"00:00:00"},{"$f":"VALUE(DINAMICA!$C1457)","v":0},{"$f":"DINAMICA!D1457","v":0},{"$f":"DINAMICA!E1457","v":0},{"$f":"DINAMICA!F1457","v":0},{"$f":"DINAMICA!G1457","v":0},{"$f":"DINAMICA!H1457","v":0},{"$f":"DINAMICA!I1457","v":0},{"$f":"DINAMICA!J1457","v":0},{"$f":"DINAMICA!K1457","v":0},{"$f":"VALUE(DINAMICA!$L1457)","v":0},{"$f":"VALUE(DINAMICA!$M1457)","v":0},{"$f":"VALUE(DINAMICA!$N1457)","v":0},{"$f":"VALUE(DINAMICA!$O1457)","v":0},{"$f":"VALUE(DINAMICA!$P1457)","v":0},{"$f":"VALUE(DINAMICA!$Q1457)","v":0},{"$f":"VALUE(DINAMICA!$R1457)","v":0}]
[{"$f":"VALUE(DINAMICA!$A1458)","v":0},{"$f":"VALUE(DINAMICA!$B1458)","v":"00:00:00"},{"$f":"VALUE(DINAMICA!$C1458)","v":0},{"$f":"DINAMICA!D1458","v":0},{"$f":"DINAMICA!E1458","v":0},{"$f":"DINAMICA!F1458","v":0},{"$f":"DINAMICA!G1458","v":0},{"$f":"DINAMICA!H1458","v":0},{"$f":"DINAMICA!I1458","v":0},{"$f":"DINAMICA!J1458","v":0},{"$f":"DINAMICA!K1458","v":0},{"$f":"VALUE(DINAMICA!$L1458)","v":0},{"$f":"VALUE(DINAMICA!$M1458)","v":0},{"$f":"VALUE(DINAMICA!$N1458)","v":0},{"$f":"VALUE(DINAMICA!$O1458)","v":0},{"$f":"VALUE(DINAMICA!$P1458)","v":0},{"$f":"VALUE(DINAMICA!$Q1458)","v":0},{"$f":"VALUE(DINAMICA!$R1458)","v":0}]
[{"$f":"VALUE(DINAMICA!$A1459)","v":0},{"$f":"VALUE(DINAMICA!$B1459)","v":"00:00:00"},{"$f":"VALUE(DINAMICA!$C1459)","v":0},{"$f":"DINAMICA!D1459","v":0},{"$f":"DINAMICA!E1459","v":0},{"$f":"DINAMICA!F1459","v":0},{"$f":"DINAMICA!G1459","v":0},{"$f":"DINAMICA!H1459","v":0},{"$f":"DINAMICA!I1459","v":0},{"$f":"DINAMICA!J1459","v":0},{"$f":"DINAMICA!K1459","v":0},{"$f":"VALUE(DINAMICA!$L1459)","v":0},{"$f":"VALUE(DINAMICA!$M1459)","v":0},{"$f":"VALUE(DINAMICA!$N1459)","v":0},{"$f":"VALUE(DINAMICA!$O1459)","v":0},{"$f":"VALUE(DINAMICA!$P1459)","v":0},{"$f":"VALUE(DINAMICA!$Q1459)","v":0},{"$f":"VALUE(DINAMICA!$R1459)","v":0}]
[{"$f":"VALUE(DINAMICA!$A1460)","v":0},{"$f":"VALUE(DINAMICA!$B1460)","v":"00:00:00"},{"$f":"VALUE(DINAMICA!$C1460)","v":0},{"$f":"DINAMICA!D1460","v":0},{"$f":"DINAMICA!E1460","v":0},{"$f":"DINAMICA!F1460","v":0},{"$f":"DINAMICA!G1460","v":0},{"$f":"DINAMICA!H1460","v":0},{"$f":"DINAMICA!I1460","v":0},{"$f":"DINAMICA!J1460","v":0},{"$f":"DINAMICA!K1460","v":0},{"$f":"VALUE(DINAMICA!$L1460)","v":0},{"$f":"VALUE(DINAMICA!$M1460)","v":0},{"$f":"VALUE(DINAMICA!$N1460)","v":0},{"$f":"VALUE(DINAMICA!$O1460)","v":0},{"$f":"VALUE(DINAMICA!$P1460)","v":0},{"$f":"VALUE(DINAMICA!$Q1460)","v":0},{"$f":"VALUE(DINAMICA!$R1460)","v":0}]
[{"$f":"VALUE(DINAMICA!$A1461)","v":0},{"$f":"VALUE(DINAMICA!$B1461)","v":"00:00:00"},{"$f":"VALUE(DINAMICA!$C1461)","v":0},{"$f":"DINAMICA!D1461","v":0},{"$f":"DINAMICA!E1461","v":0},{"$f":"DINAMICA!F1461","v":0},{"$f":"DINAMICA!G1461","v":0},{"$f":"DINAMICA!H1461","v":0},{"$f":"DINAMICA!I1461","v":0},{"$f":"DINAMICA!J1461","v":0},{"$f":"DINAMICA!K1461","v":0},{"$f":"VALUE(DINAMICA!$L1461)","v":0},{"$f":"VALUE(DINAMICA!$M1461)","v":0},{"$f":"VALUE(DINAMICA!$N1461)","v":0},{"$f":"VALUE(DINAMICA!$O1461)","v":0},{"$f":"VALUE(DINAMICA!$P1461)","v":0},{"$f":"VALUE(DINAMICA!$Q1461)","v":0},{"$f":"VALUE(DINAMICA!$R1461)","v":0}]
[{"$f":"VALUE(DINAMICA!$A1462)","v":0},{"$f":"VALUE(DINAMICA!$B1462)","v":"00:00:00"},{"$f":"VALUE(DINAMICA!$C1462)","v":0},{"$f":"DINAMICA!D1462","v":0},{"$f":"DINAMICA!E1462","v":0},{"$f":"DINAMICA!F1462","v":0},{"$f":"DINAMICA!G1462","v":0},{"$f":"DINAMICA!H1462","v":0},{"$f":"DINAMICA!I1462","v":0},{"$f":"DINAMICA!J1462","v":0},{"$f":"DINAMICA!K1462","v":0},{"$f":"VALUE(DINAMICA!$L1462)","v":0},{"$f":"VALUE(DINAMICA!$M1462)","v":0},{"$f":"VALUE(DINAMICA!$N1462)","v":0},{"$f":"VALUE(DINAMICA!$O1462)","v":0},{"$f":"VALUE(DINAMICA!$P1462)","v":0},{"$f":"VALUE(DINAMICA!$Q1462)","v":0},{"$f":"VALUE(DINAMICA!$R1462)","v":0}]
[{"$f":"VALUE(DINAMICA!$A1463)","v":0},{"$f":"VALUE(DINAMICA!$B1463)","v":"00:00:00"},{"$f":"VALUE(DINAMICA!$C1463)","v":0},{"$f":"DINAMICA!D1463","v":0},{"$f":"DINAMICA!E1463","v":0},{"$f":"DINAMICA!F1463","v":0},{"$f":"DINAMICA!G1463","v":0},{"$f":"DINAMICA!H1463","v":0},{"$f":"DINAMICA!I1463","v":0},{"$f":"DINAMICA!J1463","v":0},{"$f":"DINAMICA!K1463","v":0},{"$f":"VALUE(DINAMICA!$L1463)","v":0},{"$f":"VALUE(DINAMICA!$M1463)","v":0},{"$f":"VALUE(DINAMICA!$N1463)","v":0},{"$f":"VALUE(DINAMICA!$O1463)","v":0},{"$f":"VALUE(DINAMICA!$P1463)","v":0},{"$f":"VALUE(DINAMICA!$Q1463)","v":0},{"$f":"VALUE(DINAMICA!$R1463)","v":0}]
[{"$f":"VALUE(DINAMICA!$A1464)","v":0},{"$f":"VALUE(DINAMICA!$B1464)","v":"00:00:00"},{"$f":"VALUE(DINAMICA!$C1464)","v":0},{"$f":"DINAMICA!D1464","v":0},{"$f":"DINAMICA!E1464","v":0},{"$f":"DINAMICA!F1464","v":0},{"$f":"DINAMICA!G1464","v":0},{"$f":"DINAMICA!H1464","v":0},{"$f":"DINAMICA!I1464","v":0},{"$f":"DINAMICA!J1464","v":0},{"$f":"DINAMICA!K1464","v":0},{"$f":"VALUE(DINAMICA!$L1464)","v":0},{"$f":"VALUE(DINAMICA!$M1464)","v":0},{"$f":"VALUE(DINAMICA!$N1464)","v":0},{"$f":"VALUE(DINAMICA!$O1464)","v":0},{"$f":"VALUE(DINAMICA!$P1464)","v":0},{"$f":"VALUE(DINAMICA!$Q1464)","v":0},{"$f":"VALUE(DINAMICA!$R1464)","v":0}]
[{"$f":"VALUE(DINAMICA!$A1465)","v":0},{"$f":"VALUE(DINAMICA!$B1465)","v":"00:00:00"},{"$f":"VALUE(DINAMICA!$C1465)","v":0},{"$f":"DINAMICA!D1465","v":0},{"$f":"DINAMICA!E1465","v":0},{"$f":"DINAMICA!F1465","v":0},{"$f":"DINAMICA!G1465","v":0},{"$f":"DINAMICA!H1465","v":0},{"$f":"DINAMICA!I1465","v":0},{"$f":"DINAMICA!J1465","v":0},{"$f":"DINAMICA!K1465","v":0},{"$f":"VALUE(DINAMICA!$L1465)","v":0},{"$f":"VALUE(DINAMICA!$M1465)","v":0},{"$f":"VALUE(DINAMICA!$N1465)","v":0},{"$f":"VALUE(DINAMICA!$O1465)","v":0},{"$f":"VALUE(DINAMICA!$P1465)","v":0},{"$f":"VALUE(DINAMICA!$Q1465)","v":0},{"$f":"VALUE(DINAMICA!$R1465)","v":0}]
[{"$f":"VALUE(DINAMICA!$A1466)","v":0},{"$f":"VALUE(DINAMICA!$B1466)","v":"00:00:00"},{"$f":"VALUE(DINAMICA!$C1466)","v":0},{"$f":"DINAMICA!D1466","v":0},{"$f":"DINAMICA!E1466","v":0},{"$f":"DINAMICA!F1466","v":0},{"$f":"DINAMICA!G1466","v":0},{"$f":"DINAMICA!H1466","v":0},{"$f":"DINAMICA!I1466","v":0},{"$f":"DINAMICA!J1466","v":0},{"$f":"DINAMICA!K1466","v":0},{"$f":"VALUE(DINAMICA!$L1466)","v":0},{"$f":"VALUE(DINAMICA!$M1466)","v":0},{"$f":"VALUE(DINAMICA!$N1466)","v":0},{"$f":"VALUE(DINAMICA!$O1466)","v":0},{"$f":"VALUE(DINAMICA!$P1466)","v":0},{"$f":"VALUE(DINAMICA!$Q1466)","v":0},{"$f":"VALUE(DINAMICA!$R1466)","v":0}]
[{"$f":"VALUE(DINAMICA!$A1467)","v":0},{"$f":"VALUE(DINAMICA!$B1467)","v":"00:00:00"},{"$f":"VALUE(DINAMICA!$C1467)","v":0},{"$f":"DINAMICA!D1467","v":0},{"$f":"DINAMICA!E1467","v":0},{"$f":"DINAMICA!F1467","v":0},{"$f":"DINAMICA!G1467","v":0},{"$f":"DINAMICA!H1467","v":0},{"$f":"DINAMICA!I1467","v":0},{"$f":"DINAMICA!J1467","v":0},{"$f":"DINAMICA!K1467","v":0},{"$f":"VALUE(DINAMICA!$L1467)","v":0},{"$f":"VALUE(DINAMICA!$M1467)","v":0},{"$f":"VALUE(DINAMICA!$N1467)","v":0},{"$f":"VALUE(DINAMICA!$O1467)","v":0},{"$f":"VALUE(DINAMICA!$P1467)","v":0},{"$f":"VALUE(DINAMICA!$Q1467)","v":0},{"$f":"VALUE(DINAMICA!$R1467)","v":0}]
[{"$f":"VALUE(DINAMICA!$A1468)","v":0},{"$f":"VALUE(DINAMICA!$B1468)","v":"00:00:00"},{"$f":"VALUE(DINAMICA!$C1468)","v":0},{"$f":"DINAMICA!D1468","v":0},{"$f":"DINAMICA!E1468","v":0},{"$f":"DINAMICA!F1468","v":0},{"$f":"DINAMICA!G1468","v":0},{"$f":"DINAMICA!H1468","v":0},{"$f":"DINAMICA!I1468","v":0},{"$f":"DINAMICA!J1468","v":0},{"$f":"DINAMICA!K1468","v":0},{"$f":"VALUE(DINAMICA!$L1468)","v":0},{"$f":"VALUE(DINAMICA!$M1468)","v":0},{"$f":"VALUE(DINAMICA!$N1468)","v":0},{"$f":"VALUE(DINAMICA!$O1468)","v":0},{"$f":"VALUE(DINAMICA!$P1468)","v":0},{"$f":"VALUE(DINAMICA!$Q1468)","v":0},{"$f":"VALUE(DINAMICA!$R1468)","v":0}]
[{"$f":"VALUE(DINAMICA!$A1469)","v":0},{"$f":"VALUE(DINAMICA!$B1469)","v":"00:00:00"},{"$f":"VALUE(DINAMICA!$C1469)","v":0},{"$f":"DINAMICA!D1469","v":0},{"$f":"DINAMICA!E1469","v":0},{"$f":"DINAMICA!F1469","v":0},{"$f":"DINAMICA!G1469","v":0},{"$f":"DINAMICA!H1469","v":0},{"$f":"DINAMICA!I1469","v":0},{"$f":"DINAMICA!J1469","v":0},{"$f":"DINAMICA!K1469","v":0},{"$f":"VALUE(DINAMICA!$L1469)","v":0},{"$f":"VALUE(DINAMICA!$M1469)","v":0},{"$f":"VALUE(DINAMICA!$N1469)","v":0},{"$f":"VALUE(DINAMICA!$O1469)","v":0},{"$f":"VALUE(DINAMICA!$P1469)","v":0},{"$f":"VALUE(DINAMICA!$Q1469)","v":0},{"$f":"VALUE(DINAMICA!$R1469)","v":0}]
[{"$f":"VALUE(DINAMICA!$A1470)","v":0},{"$f":"VALUE(DINAMICA!$B1470)","v":"00:00:00"},{"$f":"VALUE(DINAMICA!$C1470)","v":0},{"$f":"DINAMICA!D1470","v":0},{"$f":"DINAMICA!E1470","v":0},{"$f":"DINAMICA!F1470","v":0},{"$f":"DINAMICA!G1470","v":0},{"$f":"DINAMICA!H1470","v":0},{"$f":"DINAMICA!I1470","v":0},{"$f":"DINAMICA!J1470","v":0},{"$f":"DINAMICA!K1470","v":0},{"$f":"VALUE(DINAMICA!$L1470)","v":0},{"$f":"VALUE(DINAMICA!$M1470)","v":0},{"$f":"VALUE(DINAMICA!$N1470)","v":0},{"$f":"VALUE(DINAMICA!$O1470)","v":0},{"$f":"VALUE(DINAMICA!$P1470)","v":0},{"$f":"VALUE(DINAMICA!$Q1470)","v":0},{"$f":"VALUE(DINAMICA!$R1470)","v":0}]
[{"$f":"VALUE(DINAMICA!$A1471)","v":0},{"$f":"VALUE(DINAMICA!$B1471)","v":"00:00:00"},{"$f":"VALUE(DINAMICA!$C1471)","v":0},{"$f":"DINAMICA!D1471","v":0},{"$f":"DINAMICA!E1471","v":0},{"$f":"DINAMICA!F1471","v":0},{"$f":"DINAMICA!G1471","v":0},{"$f":"DINAMICA!H1471","v":0},{"$f":"DINAMICA!I1471","v":0},{"$f":"DINAMICA!J1471","v":0},{"$f":"DINAMICA!K1471","v":0},{"$f":"VALUE(DINAMICA!$L1471)","v":0},{"$f":"VALUE(DINAMICA!$M1471)","v":0},{"$f":"VALUE(DINAMICA!$N1471)","v":0},{"$f":"VALUE(DINAMICA!$O1471)","v":0},{"$f":"VALUE(DINAMICA!$P1471)","v":0},{"$f":"VALUE(DINAMICA!$Q1471)","v":0},{"$f":"VALUE(DINAMICA!$R1471)","v":0}]
[{"$f":"VALUE(DINAMICA!$A1472)","v":0},{"$f":"VALUE(DINAMICA!$B1472)","v":"00:00:00"},{"$f":"VALUE(DINAMICA!$C1472)","v":0},{"$f":"DINAMICA!D1472","v":0},{"$f":"DINAMICA!E1472","v":0},{"$f":"DINAMICA!F1472","v":0},{"$f":"DINAMICA!G1472","v":0},{"$f":"DINAMICA!H1472","v":0},{"$f":"DINAMICA!I1472","v":0},{"$f":"DINAMICA!J1472","v":0},{"$f":"DINAMICA!K1472","v":0},{"$f":"VALUE(DINAMICA!$L1472)","v":0},{"$f":"VALUE(DINAMICA!$M1472)","v":0},{"$f":"VALUE(DINAMICA!$N1472)","v":0},{"$f":"VALUE(DINAMICA!$O1472)","v":0},{"$f":"VALUE(DINAMICA!$P1472)","v":0},{"$f":"VALUE(DINAMICA!$Q1472)","v":0},{"$f":"VALUE(DINAMICA!$R1472)","v":0}]
[{"$f":"VALUE(DINAMICA!$A1473)","v":0},{"$f":"VALUE(DINAMICA!$B1473)","v":"00:00:00"},{"$f":"VALUE(DINAMICA!$C1473)","v":0},{"$f":"DINAMICA!D1473","v":0},{"$f":"DINAMICA!E1473","v":0},{"$f":"DINAMICA!F1473","v":0},{"$f":"DINAMICA!G1473","v":0},{"$f":"DINAMICA!H1473","v":0},{"$f":"DINAMICA!I1473","v":0},{"$f":"DINAMICA!J1473","v":0},{"$f":"DINAMICA!K1473","v":0},{"$f":"VALUE(DINAMICA!$L1473)","v":0},{"$f":"VALUE(DINAMICA!$M1473)","v":0},{"$f":"VALUE(DINAMICA!$N1473)","v":0},{"$f":"VALUE(DINAMICA!$O1473)","v":0},{"$f":"VALUE(DINAMICA!$P1473)","v":0},{"$f":"VALUE(DINAMICA!$Q1473)","v":0},{"$f":"VALUE(DINAMICA!$R1473)","v":0}]
[{"$f":"VALUE(DINAMICA!$A1474)","v":0},{"$f":"VALUE(DINAMICA!$B1474)","v":"00:00:00"},{"$f":"VALUE(DINAMICA!$C1474)","v":0},{"$f":"DINAMICA!D1474","v":0},{"$f":"DINAMICA!E1474","v":0},{"$f":"DINAMICA!F1474","v":0},{"$f":"DINAMICA!G1474","v":0},{"$f":"DINAMICA!H1474","v":0},{"$f":"DINAMICA!I1474","v":0},{"$f":"DINAMICA!J1474","v":0},{"$f":"DINAMICA!K1474","v":0},{"$f":"VALUE(DINAMICA!$L1474)","v":0},{"$f":"VALUE(DINAMICA!$M1474)","v":0},{"$f":"VALUE(DINAMICA!$N1474)","v":0},{"$f":"VALUE(DINAMICA!$O1474)","v":0},{"$f":"VALUE(DINAMICA!$P1474)","v":0},{"$f":"VALUE(DINAMICA!$Q1474)","v":0},{"$f":"VALUE(DINAMICA!$R1474)","v":0}]
[{"$f":"VALUE(DINAMICA!$A1475)","v":0},{"$f":"VALUE(DINAMICA!$B1475)","v":"00:00:00"},{"$f":"VALUE(DINAMICA!$C1475)","v":0},{"$f":"DINAMICA!D1475","v":0},{"$f":"DINAMICA!E1475","v":0},{"$f":"DINAMICA!F1475","v":0},{"$f":"DINAMICA!G1475","v":0},{"$f":"DINAMICA!H1475","v":0},{"$f":"DINAMICA!I1475","v":0},{"$f":"DINAMICA!J1475","v":0},{"$f":"DINAMICA!K1475","v":0},{"$f":"VALUE(DINAMICA!$L1475)","v":0},{"$f":"VALUE(DINAMICA!$M1475)","v":0},{"$f":"VALUE(DINAMICA!$N1475)","v":0},{"$f":"VALUE(DINAMICA!$O1475)","v":0},{"$f":"VALUE(DINAMICA!$P1475)","v":0},{"$f":"VALUE(DINAMICA!$Q1475)","v":0},{"$f":"VALUE(DINAMICA!$R1475)","v":0}]
[{"$f":"VALUE(DINAMICA!$A1476)","v":0},{"$f":"VALUE(DINAMICA!$B1476)","v":"00:00:00"},{"$f":"VALUE(DINAMICA!$C1476)","v":0},{"$f":"DINAMICA!D1476","v":0},{"$f":"DINAMICA!E1476","v":0},{"$f":"DINAMICA!F1476","v":0},{"$f":"DINAMICA!G1476","v":0},{"$f":"DINAMICA!H1476","v":0},{"$f":"DINAMICA!I1476","v":0},{"$f":"DINAMICA!J1476","v":0},{"$f":"DINAMICA!K1476","v":0},{"$f":"VALUE(DINAMICA!$L1476)","v":0},{"$f":"VALUE(DINAMICA!$M1476)","v":0},{"$f":"VALUE(DINAMICA!$N1476)","v":0},{"$f":"VALUE(DINAMICA!$O1476)","v":0},{"$f":"VALUE(DINAMICA!$P1476)","v":0},{"$f":"VALUE(DINAMICA!$Q1476)","v":0},{"$f":"VALUE(DINAMICA!$R1476)","v":0}]
[{"$f":"VALUE(DINAMICA!$A1477)","v":0},{"$f":"VALUE(DINAMICA!$B1477)","v":"00:00:00"},{"$f":"VALUE(DINAMICA!$C1477)","v":0},{"$f":"DINAMICA!D1477","v":0},{"$f":"DINAMICA!E1477","v":0},{"$f":"DINAMICA!F1477","v":0},{"$f":"DINAMICA!G1477","v":0},{"$f":"DINAMICA!H1477","v":0},{"$f":"DINAMICA!I1477","v":0},{"$f":"DINAMICA!J1477","v":0},{"$f":"DINAMICA!K1477","v":0},{"$f":"VALUE(DINAMICA!$L1477)","v":0},{"$f":"VALUE(DINAMICA!$M1477)","v":0},{"$f":"VALUE(DINAMICA!$N1477)","v":0},{"$f":"VALUE(DINAMICA!$O1477)","v":0},{"$f":"VALUE(DINAMICA!$P1477)","v":0},{"$f":"VALUE(DINAMICA!$Q1477)","v":0},{"$f":"VALUE(DINAMICA!$R1477)","v":0}]
[{"$f":"VALUE(DINAMICA!$A1478)","v":0},{"$f":"VALUE(DINAMICA!$B1478)","v":"00:00:00"},{"$f":"VALUE(DINAMICA!$C1478)","v":0},{"$f":"DINAMICA!D1478","v":0},{"$f":"DINAMICA!E1478","v":0},{"$f":"DINAMICA!F1478","v":0},{"$f":"DINAMICA!G1478","v":0},{"$f":"DINAMICA!H1478","v":0},{"$f":"DINAMICA!I1478","v":0},{"$f":"DINAMICA!J1478","v":0},{"$f":"DINAMICA!K1478","v":0},{"$f":"VALUE(DINAMICA!$L1478)","v":0},{"$f":"VALUE(DINAMICA!$M1478)","v":0},{"$f":"VALUE(DINAMICA!$N1478)","v":0},{"$f":"VALUE(DINAMICA!$O1478)","v":0},{"$f":"VALUE(DINAMICA!$P1478)","v":0},{"$f":"VALUE(DINAMICA!$Q1478)","v":0},{"$f":"VALUE(DINAMICA!$R1478)","v":0}]
[{"$f":"VALUE(DINAMICA!$A1479)","v":0},{"$f":"VALUE(DINAMICA!$B1479)","v":"00:00:00"},{"$f":"VALUE(DINAMICA!$C1479)","v":0},{"$f":"DINAMICA!D1479","v":0},{"$f":"DINAMICA!E1479","v":0},{"$f":"DINAMICA!F1479","v":0},{"$f":"DINAMICA!G1479","v":0},{"$f":"DINAMICA!H1479","v":0},{"$f":"DINAMICA!I1479","v":0},{"$f":"DINAMICA!J1479","v":0},{"$f":"DINAMICA!K1479","v":0},{"$f":"VALUE(DINAMICA!$L1479)","v":0},{"$f":"VALUE(DINAMICA!$M1479)","v":0},{"$f":"VALUE(DINAMICA!$N1479)","v":0},{"$f":"VALUE(DINAMICA!$O1479)","v":0},{"$f":"VALUE(DINAMICA!$P1479)","v":0},{"$f":"VALUE(DINAMICA!$Q1479)","v":0},{"$f":"VALUE(DINAMICA!$R1479)","v":0}]
[{"$f":"VALUE(DINAMICA!$A1480)","v":0},{"$f":"VALUE(DINAMICA!$B1480)","v":"00:00:00"},{"$f":"VALUE(DINAMICA!$C1480)","v":0},{"$f":"DINAMICA!D1480","v":0},{"$f":"DINAMICA!E1480","v":0},{"$f":"DINAMICA!F1480","v":0},{"$f":"DINAMICA!G1480","v":0},{"$f":"DINAMICA!H1480","v":0},{"$f":"DINAMICA!I1480","v":0},{"$f":"DINAMICA!J1480","v":0},{"$f":"DINAMICA!K1480","v":0},{"$f":"VALUE(DINAMICA!$L1480)","v":0},{"$f":"VALUE(DINAMICA!$M1480)","v":0},{"$f":"VALUE(DINAMICA!$N1480)","v":0},{"$f":"VALUE(DINAMICA!$O1480)","v":0},{"$f":"VALUE(DINAMICA!$P1480)","v":0},{"$f":"VALUE(DINAMICA!$Q1480)","v":0},{"$f":"VALUE(DINAMICA!$R1480)","v":0}]
[{"$f":"VALUE(DINAMICA!$A1481)","v":0},{"$f":"VALUE(DINAMICA!$B1481)","v":"00:00:00"},{"$f":"VALUE(DINAMICA!$C1481)","v":0},{"$f":"DINAMICA!D1481","v":0},{"$f":"DINAMICA!E1481","v":0},{"$f":"DINAMICA!F1481","v":0},{"$f":"DINAMICA!G1481","v":0},{"$f":"DINAMICA!H1481","v":0},{"$f":"DINAMICA!I1481","v":0},{"$f":"DINAMICA!J1481","v":0},{"$f":"DINAMICA!K1481","v":0},{"$f":"VALUE(DINAMICA!$L1481)","v":0},{"$f":"VALUE(DINAMICA!$M1481)","v":0},{"$f":"VALUE(DINAMICA!$N1481)","v":0},{"$f":"VALUE(DINAMICA!$O1481)","v":0},{"$f":"VALUE(DINAMICA!$P1481)","v":0},{"$f":"VALUE(DINAMICA!$Q1481)","v":0},{"$f":"VALUE(DINAMICA!$R1481)","v":0}]
[{"$f":"VALUE(DINAMICA!$A1482)","v":0},{"$f":"VALUE(DINAMICA!$B1482)","v":"00:00:00"},{"$f":"VALUE(DINAMICA!$C1482)","v":0},{"$f":"DINAMICA!D1482","v":0},{"$f":"DINAMICA!E1482","v":0},{"$f":"DINAMICA!F1482","v":0},{"$f":"DINAMICA!G1482","v":0},{"$f":"DINAMICA!H1482","v":0},{"$f":"DINAMICA!I1482","v":0},{"$f":"DINAMICA!J1482","v":0},{"$f":"DINAMICA!K1482","v":0},{"$f":"VALUE(DINAMICA!$L1482)","v":0},{"$f":"VALUE(DINAMICA!$M1482)","v":0},{"$f":"VALUE(DINAMICA!$N1482)","v":0},{"$f":"VALUE(DINAMICA!$O1482)","v":0},{"$f":"VALUE(DINAMICA!$P1482)","v":0},{"$f":"VALUE(DINAMICA!$Q1482)","v":0},{"$f":"VALUE(DINAMICA!$R1482)","v":0}]
[{"$f":"VALUE(DINAMICA!$A1483)","v":0},{"$f":"VALUE(DINAMICA!$B1483)","v":"00:00:00"},{"$f":"VALUE(DINAMICA!$C1483)","v":0},{"$f":"DINAMICA!D1483","v":0},{"$f":"DINAMICA!E1483","v":0},{"$f":"DINAMICA!F1483","v":0},{"$f":"DINAMICA!G1483","v":0},{"$f":"DINAMICA!H1483","v":0},{"$f":"DINAMICA!I1483","v":0},{"$f":"DINAMICA!J1483","v":0},{"$f":"DINAMICA!K1483","v":0},{"$f":"VALUE(DINAMICA!$L1483)","v":0},{"$f":"VALUE(DINAMICA!$M1483)","v":0},{"$f":"VALUE(DINAMICA!$N1483)","v":0},{"$f":"VALUE(DINAMICA!$O1483)","v":0},{"$f":"VALUE(DINAMICA!$P1483)","v":0},{"$f":"VALUE(DINAMICA!$Q1483)","v":0},{"$f":"VALUE(DINAMICA!$R1483)","v":0}]
[{"$f":"VALUE(DINAMICA!$A1484)","v":0},{"$f":"VALUE(DINAMICA!$B1484)","v":"00:00:00"},{"$f":"VALUE(DINAMICA!$C1484)","v":0},{"$f":"DINAMICA!D1484","v":0},{"$f":"DINAMICA!E1484","v":0},{"$f":"DINAMICA!F1484","v":0},{"$f":"DINAMICA!G1484","v":0},{"$f":"DINAMICA!H1484","v":0},{"$f":"DINAMICA!I1484","v":0},{"$f":"DINAMICA!J1484","v":0},{"$f":"DINAMICA!K1484","v":0},{"$f":"VALUE(DINAMICA!$L1484)","v":0},{"$f":"VALUE(DINAMICA!$M1484)","v":0},{"$f":"VALUE(DINAMICA!$N1484)","v":0},{"$f":"VALUE(DINAMICA!$O1484)","v":0},{"$f":"VALUE(DINAMICA!$P1484)","v":0},{"$f":"VALUE(DINAMICA!$Q1484)","v":0},{"$f":"VALUE(DINAMICA!$R1484)","v":0}]
[{"$f":"VALUE(DINAMICA!$A1485)","v":0},{"$f":"VALUE(DINAMICA!$B1485)","v":"00:00:00"},{"$f":"VALUE(DINAMICA!$C1485)","v":0},{"$f":"DINAMICA!D1485","v":0},{"$f":"DINAMICA!E1485","v":0},{"$f":"DINAMICA!F1485","v":0},{"$f":"DINAMICA!G1485","v":0},{"$f":"DINAMICA!H1485","v":0},{"$f":"DINAMICA!I1485","v":0},{"$f":"DINAMICA!J1485","v":0},{"$f":"DINAMICA!K1485","v":0},{"$f":"VALUE(DINAMICA!$L1485)","v":0},{"$f":"VALUE(DINAMICA!$M1485)","v":0},{"$f":"VALUE(DINAMICA!$N1485)","v":0},{"$f":"VALUE(DINAMICA!$O1485)","v":0},{"$f":"VALUE(DINAMICA!$P1485)","v":0},{"$f":"VALUE(DINAMICA!$Q1485)","v":0},{"$f":"VALUE(DINAMICA!$R1485)","v":0}]
[{"$f":"VALUE(DINAMICA!$A1486)","v":0},{"$f":"VALUE(DINAMICA!$B1486)","v":"00:00:00"},{"$f":"VALUE(DINAMICA!$C1486)","v":0},{"$f":"DINAMICA!D1486","v":0},{"$f":"DINAMICA!E1486","v":0},{"$f":"DINAMICA!F1486","v":0},{"$f":"DINAMICA!G1486","v":0},{"$f":"DINAMICA!H1486","v":0},{"$f":"DINAMICA!I1486","v":0},{"$f":"DINAMICA!J1486","v":0},{"$f":"DINAMICA!K1486","v":0},{"$f":"VALUE(DINAMICA!$L1486)","v":0},{"$f":"VALUE(DINAMICA!$M1486)","v":0},{"$f":"VALUE(DINAMICA!$N1486)","v":0},{"$f":"VALUE(DINAMICA!$O1486)","v":0},{"$f":"VALUE(DINAMICA!$P1486)","v":0},{"$f":"VALUE(DINAMICA!$Q1486)","v":0},{"$f":"VALUE(DINAMICA!$R1486)","v":0}]
[{"$f":"VALUE(DINAMICA!$A1487)","v":0},{"$f":"VALUE(DINAMICA!$B1487)","v":"00:00:00"},{"$f":"VALUE(DINAMICA!$C1487)","v":0},{"$f":"DINAMICA!D1487","v":0},{"$f":"DINAMICA!E1487","v":0},{"$f":"DINAMICA!F1487","v":0},{"$f":"DINAMICA!G1487","v":0},{"$f":"DINAMICA!H1487","v":0},{"$f":"DINAMICA!I1487","v":0},{"$f":"DINAMICA!J1487","v":0},{"$f":"DINAMICA!K1487","v":0},{"$f":"VALUE(DINAMICA!$L1487)","v":0},{"$f":"VALUE(DINAMICA!$M1487)","v":0},{"$f":"VALUE(DINAMICA!$N1487)","v":0},{"$f":"VALUE(DINAMICA!$O1487)","v":0},{"$f":"VALUE(DINAMICA!$P1487)","v":0},{"$f":"VALUE(DINAMICA!$Q1487)","v":0},{"$f":"VALUE(DINAMICA!$R1487)","v":0}]
[{"$f":"VALUE(DINAMICA!$A1488)","v":0},{"$f":"VALUE(DINAMICA!$B1488)","v":"00:00:00"},{"$f":"VALUE(DINAMICA!$C1488)","v":0},{"$f":"DINAMICA!D1488","v":0},{"$f":"DINAMICA!E1488","v":0},{"$f":"DINAMICA!F1488","v":0},{"$f":"DINAMICA!G1488","v":0},{"$f":"DINAMICA!H1488","v":0},{"$f":"DINAMICA!I1488","v":0},{"$f":"DINAMICA!J1488","v":0},{"$f":"DINAMICA!K1488","v":0},{"$f":"VALUE(DINAMICA!$L1488)","v":0},{"$f":"VALUE(DINAMICA!$M1488)","v":0},{"$f":"VALUE(DINAMICA!$N1488)","v":0},{"$f":"VALUE(DINAMICA!$O1488)","v":0},{"$f":"VALUE(DINAMICA!$P1488)","v":0},{"$f":"VALUE(DINAMICA!$Q1488)","v":0},{"$f":"VALUE(DINAMICA!$R1488)","v":0}]
[{"$f":"VALUE(DINAMICA!$A1489)","v":0},{"$f":"VALUE(DINAMICA!$B1489)","v":"00:00:00"},{"$f":"VALUE(DINAMICA!$C1489)","v":0},{"$f":"DINAMICA!D1489","v":0},{"$f":"DINAMICA!E1489","v":0},{"$f":"DINAMICA!F1489","v":0},{"$f":"DINAMICA!G1489","v":0},{"$f":"DINAMICA!H1489","v":0},{"$f":"DINAMICA!I1489","v":0},{"$f":"DINAMICA!J1489","v":0},{"$f":"DINAMICA!K1489","v":0},{"$f":"VALUE(DINAMICA!$L1489)","v":0},{"$f":"VALUE(DINAMICA!$M1489)","v":0},{"$f":"VALUE(DINAMICA!$N1489)","v":0},{"$f":"VALUE(DINAMICA!$O1489)","v":0},{"$f":"VALUE(DINAMICA!$P1489)","v":0},{"$f":"VALUE(DINAMICA!$Q1489)","v":0},{"$f":"VALUE(DINAMICA!$R1489)","v":0}]
[{"$f":"VALUE(DINAMICA!$A1490)","v":0},{"$f":"VALUE(DINAMICA!$B1490)","v":"00:00:00"},{"$f":"VALUE(DINAMICA!$C1490)","v":0},{"$f":"DINAMICA!D1490","v":0},{"$f":"DINAMICA!E1490","v":0},{"$f":"DINAMICA!F1490","v":0},{"$f":"DINAMICA!G1490","v":0},{"$f":"DINAMICA!H1490","v":0},{"$f":"DINAMICA!I1490","v":0},{"$f":"DINAMICA!J1490","v":0},{"$f":"DINAMICA!K1490","v":0},{"$f":"VALUE(DINAMICA!$L1490)","v":0},{"$f":"VALUE(DINAMICA!$M1490)","v":0},{"$f":"VALUE(DINAMICA!$N1490)","v":0},{"$f":"VALUE(DINAMICA!$O1490)","v":0},{"$f":"VALUE(DINAMICA!$P1490)","v":0},{"$f":"VALUE(DINAMICA!$Q1490)","v":0},{"$f":"VALUE(DINAMICA!$R1490)","v":0}]
[{"$f":"VALUE(DINAMICA!$A1491)","v":0},{"$f":"VALUE(DINAMICA!$B1491)","v":"00:00:00"},{"$f":"VALUE(DINAMICA!$C1491)","v":0},{"$f":"DINAMICA!D1491","v":0},{"$f":"DINAMICA!E1491","v":0},{"$f":"DINAMICA!F1491","v":0},{"$f":"DINAMICA!G1491","v":0},{"$f":"DINAMICA!H1491","v":0},{"$f":"DINAMICA!I1491","v":0},{"$f":"DINAMICA!J1491","v":0},{"$f":"DINAMICA!K1491","v":0},{"$f":"VALUE(DINAMICA!$L1491)","v":0},{"$f":"VALUE(DINAMICA!$M1491)","v":0},{"$f":"VALUE(DINAMICA!$N1491)","v":0},{"$f":"VALUE(DINAMICA!$O1491)","v":0},{"$f":"VALUE(DINAMICA!$P1491)","v":0},{"$f":"VALUE(DINAMICA!$Q1491)","v":0},{"$f":"VALUE(DINAMICA!$R1491)","v":0}]
[{"$f":"VALUE(DINAMICA!$A1492)","v":0},{"$f":"VALUE(DINAMICA!$B1492)","v":"00:00:00"},{"$f":"VALUE(DINAMICA!$C1492)","v":0},{"$f":"DINAMICA!D1492","v":0},{"$f":"DINAMICA!E1492","v":0},{"$f":"DINAMICA!F1492","v":0},{"$f":"DINAMICA!G1492","v":0},{"$f":"DINAMICA!H1492","v":0},{"$f":"DINAMICA!I1492","v":0},{"$f":"DINAMICA!J1492","v":0},{"$f":"DINAMICA!K1492","v":0},{"$f":"VALUE(DINAMICA!$L1492)","v":0},{"$f":"VALUE(DINAMICA!$M1492)","v":0},{"$f":"VALUE(DINAMICA!$N1492)","v":0},{"$f":"VALUE(DINAMICA!$O1492)","v":0},{"$f":"VALUE(DINAMICA!$P1492)","v":0},{"$f":"VALUE(DINAMICA!$Q1492)","v":0},{"$f":"VALUE(DINAMICA!$R1492)","v":0}]
[{"$f":"VALUE(DINAMICA!$A1493)","v":0},{"$f":"VALUE(DINAMICA!$B1493)","v":"00:00:00"},{"$f":"VALUE(DINAMICA!$C1493)","v":0},{"$f":"DINAMICA!D1493","v":0},{"$f":"DINAMICA!E1493","v":0},{"$f":"DINAMICA!F1493","v":0},{"$f":"DINAMICA!G1493","v":0},{"$f":"DINAMICA!H1493","v":0},{"$f":"DINAMICA!I1493","v":0},{"$f":"DINAMICA!J1493","v":0},{"$f":"DINAMICA!K1493","v":0},{"$f":"VALUE(DINAMICA!$L1493)","v":0},{"$f":"VALUE(DINAMICA!$M1493)","v":0},{"$f":"VALUE(DINAMICA!$N1493)","v":0},{"$f":"VALUE(DINAMICA!$O1493)","v":0},{"$f":"VALUE(DINAMICA!$P1493)","v":0},{"$f":"VALUE(DINAMICA!$Q1493)","v":0},{"$f":"VALUE(DINAMICA!$R1493)","v":0}]
[{"$f":"VALUE(DINAMICA!$A1494)","v":0},{"$f":"VALUE(DINAMICA!$B1494)","v":"00:00:00"},{"$f":"VALUE(DINAMICA!$C1494)","v":0},{"$f":"DINAMICA!D1494","v":0},{"$f":"DINAMICA!E1494","v":0},{"$f":"DINAMICA!F1494","v":0},{"$f":"DINAMICA!G1494","v":0},{"$f":"DINAMICA!H1494","v":0},{"$f":"DINAMICA!I1494","v":0},{"$f":"DINAMICA!J1494","v":0},{"$f":"DINAMICA!K1494","v":0},{"$f":"VALUE(DINAMICA!$L1494)","v":0},{"$f":"VALUE(DINAMICA!$M1494)","v":0},{"$f":"VALUE(DINAMICA!$N1494)","v":0},{"$f":"VALUE(DINAMICA!$O1494)","v":0},{"$f":"VALUE(DINAMICA!$P1494)","v":0},{"$f":"VALUE(DINAMICA!$Q1494)","v":0},{"$f":"VALUE(DINAMICA!$R1494)","v":0}]
[{"$f":"VALUE(DINAMICA!$A1495)","v":0},{"$f":"VALUE(DINAMICA!$B1495)","v":"00:00:00"},{"$f":"VALUE(DINAMICA!$C1495)","v":0},{"$f":"DINAMICA!D1495","v":0},{"$f":"DINAMICA!E1495","v":0},{"$f":"DINAMICA!F1495","v":0},{"$f":"DINAMICA!G1495","v":0},{"$f":"DINAMICA!H1495","v":0},{"$f":"DINAMICA!I1495","v":0},{"$f":"DINAMICA!J1495","v":0},{"$f":"DINAMICA!K1495","v":0},{"$f":"VALUE(DINAMICA!$L1495)","v":0},{"$f":"VALUE(DINAMICA!$M1495)","v":0},{"$f":"VALUE(DINAMICA!$N1495)","v":0},{"$f":"VALUE(DINAMICA!$O1495)","v":0},{"$f":"VALUE(DINAMICA!$P1495)","v":0},{"$f":"VALUE(DINAMICA!$Q1495)","v":0},{"$f":"VALUE(DINAMICA!$R1495)","v":0}]
[{"$f":"VALUE(DINAMICA!$A1496)","v":0},{"$f":"VALUE(DINAMICA!$B1496)","v":"00:00:00"},{"$f":"VALUE(DINAMICA!$C1496)","v":0},{"$f":"DINAMICA!D1496","v":0},{"$f":"DINAMICA!E1496","v":0},{"$f":"DINAMICA!F1496","v":0},{"$f":"DINAMICA!G1496","v":0},{"$f":"DINAMICA!H1496","v":0},{"$f":"DINAMICA!I1496","v":0},{"$f":"DINAMICA!J1496","v":0},{"$f":"DINAMICA!K1496","v":0},{"$f":"VALUE(DINAMICA!$L1496)","v":0},{"$f":"VALUE(DINAMICA!$M1496)","v":0},{"$f":"VALUE(DINAMICA!$N1496)","v":0},{"$f":"VALUE(DINAMICA!$O1496)","v":0},{"$f":"VALUE(DINAMICA!$P1496)","v":0},{"$f":"VALUE(DINAMICA!$Q1496)","v":0},{"$f":"VALUE(DINAMICA!$R1496)","v":0}]
[{"$f":"VALUE(DINAMICA!$A1497)","v":0},{"$f":"VALUE(DINAMICA!$B1497)","v":"00:00:00"},{"$f":"VALUE(DINAMICA!$C1497)","v":0},{"$f":"DINAMICA!D1497","v":0},{"$f":"DINAMICA!E1497","v":0},{"$f":"DINAMICA!F1497","v":0},{"$f":"DINAMICA!G1497","v":0},{"$f":"DINAMICA!H1497","v":0},{"$f":"DINAMICA!I1497","v":0},{"$f":"DINAMICA!J1497","v":0},{"$f":"DINAMICA!K1497","v":0},{"$f":"VALUE(DINAMICA!$L1497)","v":0},{"$f":"VALUE(DINAMICA!$M1497)","v":0},{"$f":"VALUE(DINAMICA!$N1497)","v":0},{"$f":"VALUE(DINAMICA!$O1497)","v":0},{"$f":"VALUE(DINAMICA!$P1497)","v":0},{"$f":"VALUE(DINAMICA!$Q1497)","v":0},{"$f":"VALUE(DINAMICA!$R1497)","v":0}]
[{"$f":"VALUE(DINAMICA!$A1498)","v":0},{"$f":"VALUE(DINAMICA!$B1498)","v":"00:00:00"},{"$f":"VALUE(DINAMICA!$C1498)","v":0},{"$f":"DINAMICA!D1498","v":0},{"$f":"DINAMICA!E1498","v":0},{"$f":"DINAMICA!F1498","v":0},{"$f":"DINAMICA!G1498","v":0},{"$f":"DINAMICA!H1498","v":0},{"$f":"DINAMICA!I1498","v":0},{"$f":"DINAMICA!J1498","v":0},{"$f":"DINAMICA!K1498","v":0},{"$f":"VALUE(DINAMICA!$L1498)","v":0},{"$f":"VALUE(DINAMICA!$M1498)","v":0},{"$f":"VALUE(DINAMICA!$N1498)","v":0},{"$f":"VALUE(DINAMICA!$O1498)","v":0},{"$f":"VALUE(DINAMICA!$P1498)","v":0},{"$f":"VALUE(DINAMICA!$Q1498)","v":0},{"$f":"VALUE(DINAMICA!$R1498)","v":0}]
[{"$f":"VALUE(DINAMICA!$A1499)","v":0},{"$f":"VALUE(DINAMICA!$B1499)","v":"00:00:00"},{"$f":"VALUE(DINAMICA!$C1499)","v":0},{"$f":"DINAMICA!D1499","v":0},{"$f":"DINAMICA!E1499","v":0},{"$f":"DINAMICA!F1499","v":0},{"$f":"DINAMICA!G1499","v":0},{"$f":"DINAMICA!H1499","v":0},{"$f":"DINAMICA!I1499","v":0},{"$f":"DINAMICA!J1499","v":0},{"$f":"DINAMICA!K1499","v":0},{"$f":"VALUE(DINAMICA!$L1499)","v":0},{"$f":"VALUE(DINAMICA!$M1499)","v":0},{"$f":"VALUE(DINAMICA!$N1499)","v":0},{"$f":"VALUE(DINAMICA!$O1499)","v":0},{"$f":"VALUE(DINAMICA!$P1499)","v":0},{"$f":"VALUE(DINAMICA!$Q1499)","v":0},{"$f":"VALUE(DINAMICA!$R1499)","v":0}]
[{"$f":"VALUE(DINAMICA!$A1500)","v":0},{"$f":"VALUE(DINAMICA!$B1500)","v":"00:00:00"},{"$f":"VALUE(DINAMICA!$C1500)","v":0},{"$f":"DINAMICA!D1500","v":0},{"$f":"DINAMICA!E1500","v":0},{"$f":"DINAMICA!F1500","v":0},{"$f":"DINAMICA!G1500","v":0},{"$f":"DINAMICA!H1500","v":0},{"$f":"DINAMICA!I1500","v":0},{"$f":"DINAMICA!J1500","v":0},{"$f":"DINAMICA!K1500","v":0},{"$f":"VALUE(DINAMICA!$L1500)","v":0},{"$f":"VALUE(DINAMICA!$M1500)","v":0},{"$f":"VALUE(DINAMICA!$N1500)","v":0},{"$f":"VALUE(DINAMICA!$O1500)","v":0},{"$f":"VALUE(DINAMICA!$P1500)","v":0},{"$f":"VALUE(DINAMICA!$Q1500)","v":0},{"$f":"VALUE(DINAMICA!$R1500)","v":0}]
[{"$f":"VALUE(DINAMICA!$A1501)","v":0},{"$f":"VALUE(DINAMICA!$B1501)","v":"00:00:00"},{"$f":"VALUE(DINAMICA!$C1501)","v":0},{"$f":"DINAMICA!D1501","v":0},{"$f":"DINAMICA!E1501","v":0},{"$f":"DINAMICA!F1501","v":0},{"$f":"DINAMICA!G1501","v":0},{"$f":"DINAMICA!H1501","v":0},{"$f":"DINAMICA!I1501","v":0},{"$f":"DINAMICA!J1501","v":0},{"$f":"DINAMICA!K1501","v":0},{"$f":"VALUE(DINAMICA!$L1501)","v":0},{"$f":"VALUE(DINAMICA!$M1501)","v":0},{"$f":"VALUE(DINAMICA!$N1501)","v":0},{"$f":"VALUE(DINAMICA!$O1501)","v":0},{"$f":"VALUE(DINAMICA!$P1501)","v":0},{"$f":"VALUE(DINAMICA!$Q1501)","v":0},{"$f":"VALUE(DINAMICA!$R1501)","v":0}]
[{"$f":"VALUE(DINAMICA!$A1502)","v":0},{"$f":"VALUE(DINAMICA!$B1502)","v":"00:00:00"},{"$f":"VALUE(DINAMICA!$C1502)","v":0},{"$f":"DINAMICA!D1502","v":0},{"$f":"DINAMICA!E1502","v":0},{"$f":"DINAMICA!F1502","v":0},{"$f":"DINAMICA!G1502","v":0},{"$f":"DINAMICA!H1502","v":0},{"$f":"DINAMICA!I1502","v":0},{"$f":"DINAMICA!J1502","v":0},{"$f":"DINAMICA!K1502","v":0},{"$f":"VALUE(DINAMICA!$L1502)","v":0},{"$f":"VALUE(DINAMICA!$M1502)","v":0},{"$f":"VALUE(DINAMICA!$N1502)","v":0},{"$f":"VALUE(DINAMICA!$O1502)","v":0},{"$f":"VALUE(DINAMICA!$P1502)","v":0},{"$f":"VALUE(DINAMICA!$Q1502)","v":0},{"$f":"VALUE(DINAMICA!$R1502)","v":0}]
[{"$f":"VALUE(DINAMICA!$A1503)","v":0},{"$f":"VALUE(DINAMICA!$B1503)","v":"00:00:00"},{"$f":"VALUE(DINAMICA!$C1503)","v":0},{"$f":"DINAMICA!D1503","v":0},{"$f":"DINAMICA!E1503","v":0},{"$f":"DINAMICA!F1503","v":0},{"$f":"DINAMICA!G1503","v":0},{"$f":"DINAMICA!H1503","v":0},{"$f":"DINAMICA!I1503","v":0},{"$f":"DINAMICA!J1503","v":0},{"$f":"DINAMICA!K1503","v":0},{"$f":"VALUE(DINAMICA!$L1503)","v":0},{"$f":"VALUE(DINAMICA!$M1503)","v":0},{"$f":"VALUE(DINAMICA!$N1503)","v":0},{"$f":"VALUE(DINAMICA!$O1503)","v":0},{"$f":"VALUE(DINAMICA!$P1503)","v":0},{"$f":"VALUE(DINAMICA!$Q1503)","v":0},{"$f":"VALUE(DINAMICA!$R1503)","v":0}]
[{"$f":"VALUE(DINAMICA!$A1504)","v":0},{"$f":"VALUE(DINAMICA!$B1504)","v":"00:00:00"},{"$f":"VALUE(DINAMICA!$C1504)","v":0},{"$f":"DINAMICA!D1504","v":0},{"$f":"DINAMICA!E1504","v":0},{"$f":"DINAMICA!F1504","v":0},{"$f":"DINAMICA!G1504","v":0},{"$f":"DINAMICA!H1504","v":0},{"$f":"DINAMICA!I1504","v":0},{"$f":"DINAMICA!J1504","v":0},{"$f":"DINAMICA!K1504","v":0},{"$f":"VALUE(DINAMICA!$L1504)","v":0},{"$f":"VALUE(DINAMICA!$M1504)","v":0},{"$f":"VALUE(DINAMICA!$N1504)","v":0},{"$f":"VALUE(DINAMICA!$O1504)","v":0},{"$f":"VALUE(DINAMICA!$P1504)","v":0},{"$f":"VALUE(DINAMICA!$Q1504)","v":0},{"$f":"VALUE(DINAMICA!$R1504)","v":0}]
[{"$f":"VALUE(DINAMICA!$A1505)","v":0},{"$f":"VALUE(DINAMICA!$B1505)","v":"00:00:00"},{"$f":"VALUE(DINAMICA!$C1505)","v":0},{"$f":"DINAMICA!D1505","v":0},{"$f":"DINAMICA!E1505","v":0},{"$f":"DINAMICA!F1505","v":0},{"$f":"DINAMICA!G1505","v":0},{"$f":"DINAMICA!H1505","v":0},{"$f":"DINAMICA!I1505","v":0},{"$f":"DINAMICA!J1505","v":0},{"$f":"DINAMICA!K1505","v":0},{"$f":"VALUE(DINAMICA!$L1505)","v":0},{"$f":"VALUE(DINAMICA!$M1505)","v":0},{"$f":"VALUE(DINAMICA!$N1505)","v":0},{"$f":"VALUE(DINAMICA!$O1505)","v":0},{"$f":"VALUE(DINAMICA!$P1505)","v":0},{"$f":"VALUE(DINAMICA!$Q1505)","v":0},{"$f":"VALUE(DINAMICA!$R1505)","v":0}]
[{"$f":"VALUE(DINAMICA!$A1506)","v":0},{"$f":"VALUE(DINAMICA!$B1506)","v":"00:00:00"},{"$f":"VALUE(DINAMICA!$C1506)","v":0},{"$f":"DINAMICA!D1506","v":0},{"$f":"DINAMICA!E1506","v":0},{"$f":"DINAMICA!F1506","v":0},{"$f":"DINAMICA!G1506","v":0},{"$f":"DINAMICA!H1506","v":0},{"$f":"DINAMICA!I1506","v":0},{"$f":"DINAMICA!J1506","v":0},{"$f":"DINAMICA!K1506","v":0},{"$f":"VALUE(DINAMICA!$L1506)","v":0},{"$f":"VALUE(DINAMICA!$M1506)","v":0},{"$f":"VALUE(DINAMICA!$N1506)","v":0},{"$f":"VALUE(DINAMICA!$O1506)","v":0},{"$f":"VALUE(DINAMICA!$P1506)","v":0},{"$f":"VALUE(DINAMICA!$Q1506)","v":0},{"$f":"VALUE(DINAMICA!$R1506)","v":0}]
[{"$f":"VALUE(DINAMICA!$A1507)","v":0},{"$f":"VALUE(DINAMICA!$B1507)","v":"00:00:00"},{"$f":"VALUE(DINAMICA!$C1507)","v":0},{"$f":"DINAMICA!D1507","v":0},{"$f":"DINAMICA!E1507","v":0},{"$f":"DINAMICA!F1507","v":0},{"$f":"DINAMICA!G1507","v":0},{"$f":"DINAMICA!H1507","v":0},{"$f":"DINAMICA!I1507","v":0},{"$f":"DINAMICA!J1507","v":0},{"$f":"DINAMICA!K1507","v":0},{"$f":"VALUE(DINAMICA!$L1507)","v":0},{"$f":"VALUE(DINAMICA!$M1507)","v":0},{"$f":"VALUE(DINAMICA!$N1507)","v":0},{"$f":"VALUE(DINAMICA!$O1507)","v":0},{"$f":"VALUE(DINAMICA!$P1507)","v":0},{"$f":"VALUE(DINAMICA!$Q1507)","v":0},{"$f":"VALUE(DINAMICA!$R1507)","v":0}]
[{"$f":"VALUE(DINAMICA!$A1508)","v":0},{"$f":"VALUE(DINAMICA!$B1508)","v":"00:00:00"},{"$f":"VALUE(DINAMICA!$C1508)","v":0},{"$f":"DINAMICA!D1508","v":0},{"$f":"DINAMICA!E1508","v":0},{"$f":"DINAMICA!F1508","v":0},{"$f":"DINAMICA!G1508","v":0},{"$f":"DINAMICA!H1508","v":0},{"$f":"DINAMICA!I1508","v":0},{"$f":"DINAMICA!J1508","v":0},{"$f":"DINAMICA!K1508","v":0},{"$f":"VALUE(DINAMICA!$L1508)","v":0},{"$f":"VALUE(DINAMICA!$M1508)","v":0},{"$f":"VALUE(DINAMICA!$N1508)","v":0},{"$f":"VALUE(DINAMICA!$O1508)","v":0},{"$f":"VALUE(DINAMICA!$P1508)","v":0},{"$f":"VALUE(DINAMICA!$Q1508)","v":0},{"$f":"VALUE(DINAMICA!$R1508)","v":0}]
[{"$f":"VALUE(DINAMICA!$A1509)","v":0},{"$f":"VALUE(DINAMICA!$B1509)","v":"00:00:00"},{"$f":"VALUE(DINAMICA!$C1509)","v":0},{"$f":"DINAMICA!D1509","v":0},{"$f":"DINAMICA!E1509","v":0},{"$f":"DINAMICA!F1509","v":0},{"$f":"DINAMICA!G1509","v":0},{"$f":"DINAMICA!H1509","v":0},{"$f":"DINAMICA!I1509","v":0},{"$f":"DINAMICA!J1509","v":0},{"$f":"DINAMICA!K1509","v":0},{"$f":"VALUE(DINAMICA!$L1509)","v":0},{"$f":"VALUE(DINAMICA!$M1509)","v":0},{"$f":"VALUE(DINAMICA!$N1509)","v":0},{"$f":"VALUE(DINAMICA!$O1509)","v":0},{"$f":"VALUE(DINAMICA!$P1509)","v":0},{"$f":"VALUE(DINAMICA!$Q1509)","v":0},{"$f":"VALUE(DINAMICA!$R1509)","v":0}]
[{"$f":"VALUE(DINAMICA!$A1510)","v":0},{"$f":"VALUE(DINAMICA!$B1510)","v":"00:00:00"},{"$f":"VALUE(DINAMICA!$C1510)","v":0},{"$f":"DINAMICA!D1510","v":0},{"$f":"DINAMICA!E1510","v":0},{"$f":"DINAMICA!F1510","v":0},{"$f":"DINAMICA!G1510","v":0},{"$f":"DINAMICA!H1510","v":0},{"$f":"DINAMICA!I1510","v":0},{"$f":"DINAMICA!J1510","v":0},{"$f":"DINAMICA!K1510","v":0},{"$f":"VALUE(DINAMICA!$L1510)","v":0},{"$f":"VALUE(DINAMICA!$M1510)","v":0},{"$f":"VALUE(DINAMICA!$N1510)","v":0},{"$f":"VALUE(DINAMICA!$O1510)","v":0},{"$f":"VALUE(DINAMICA!$P1510)","v":0},{"$f":"VALUE(DINAMICA!$Q1510)","v":0},{"$f":"VALUE(DINAMICA!$R1510)","v":0}]
[{"$f":"VALUE(DINAMICA!$A1511)","v":0},{"$f":"VALUE(DINAMICA!$B1511)","v":"00:00:00"},{"$f":"VALUE(DINAMICA!$C1511)","v":0},{"$f":"DINAMICA!D1511","v":0},{"$f":"DINAMICA!E1511","v":0},{"$f":"DINAMICA!F1511","v":0},{"$f":"DINAMICA!G1511","v":0},{"$f":"DINAMICA!H1511","v":0},{"$f":"DINAMICA!I1511","v":0},{"$f":"DINAMICA!J1511","v":0},{"$f":"DINAMICA!K1511","v":0},{"$f":"VALUE(DINAMICA!$L1511)","v":0},{"$f":"VALUE(DINAMICA!$M1511)","v":0},{"$f":"VALUE(DINAMICA!$N1511)","v":0},{"$f":"VALUE(DINAMICA!$O1511)","v":0},{"$f":"VALUE(DINAMICA!$P1511)","v":0},{"$f":"VALUE(DINAMICA!$Q1511)","v":0},{"$f":"VALUE(DINAMICA!$R1511)","v":0}]
[{"$f":"VALUE(DINAMICA!$A1512)","v":0},{"$f":"VALUE(DINAMICA!$B1512)","v":"00:00:00"},{"$f":"VALUE(DINAMICA!$C1512)","v":0},{"$f":"DINAMICA!D1512","v":0},{"$f":"DINAMICA!E1512","v":0},{"$f":"DINAMICA!F1512","v":0},{"$f":"DINAMICA!G1512","v":0},{"$f":"DINAMICA!H1512","v":0},{"$f":"DINAMICA!I1512","v":0},{"$f":"DINAMICA!J1512","v":0},{"$f":"DINAMICA!K1512","v":0},{"$f":"VALUE(DINAMICA!$L1512)","v":0},{"$f":"VALUE(DINAMICA!$M1512)","v":0},{"$f":"VALUE(DINAMICA!$N1512)","v":0},{"$f":"VALUE(DINAMICA!$O1512)","v":0},{"$f":"VALUE(DINAMICA!$P1512)","v":0},{"$f":"VALUE(DINAMICA!$Q1512)","v":0},{"$f":"VALUE(DINAMICA!$R1512)","v":0}]
[{"$f":"VALUE(DINAMICA!$A1513)","v":0},{"$f":"VALUE(DINAMICA!$B1513)","v":"00:00:00"},{"$f":"VALUE(DINAMICA!$C1513)","v":0},{"$f":"DINAMICA!D1513","v":0},{"$f":"DINAMICA!E1513","v":0},{"$f":"DINAMICA!F1513","v":0},{"$f":"DINAMICA!G1513","v":0},{"$f":"DINAMICA!H1513","v":0},{"$f":"DINAMICA!I1513","v":0},{"$f":"DINAMICA!J1513","v":0},{"$f":"DINAMICA!K1513","v":0},{"$f":"VALUE(DINAMICA!$L1513)","v":0},{"$f":"VALUE(DINAMICA!$M1513)","v":0},{"$f":"VALUE(DINAMICA!$N1513)","v":0},{"$f":"VALUE(DINAMICA!$O1513)","v":0},{"$f":"VALUE(DINAMICA!$P1513)","v":0},{"$f":"VALUE(DINAMICA!$Q1513)","v":0},{"$f":"VALUE(DINAMICA!$R1513)","v":0}]
[{"$f":"VALUE(DINAMICA!$A1514)","v":0},{"$f":"VALUE(DINAMICA!$B1514)","v":"00:00:00"},{"$f":"VALUE(DINAMICA!$C1514)","v":0},{"$f":"DINAMICA!D1514","v":0},{"$f":"DINAMICA!E1514","v":0},{"$f":"DINAMICA!F1514","v":0},{"$f":"DINAMICA!G1514","v":0},{"$f":"DINAMICA!H1514","v":0},{"$f":"DINAMICA!I1514","v":0},{"$f":"DINAMICA!J1514","v":0},{"$f":"DINAMICA!K1514","v":0},{"$f":"VALUE(DINAMICA!$L1514)","v":0},{"$f":"VALUE(DINAMICA!$M1514)","v":0},{"$f":"VALUE(DINAMICA!$N1514)","v":0},{"$f":"VALUE(DINAMICA!$O1514)","v":0},{"$f":"VALUE(DINAMICA!$P1514)","v":0},{"$f":"VALUE(DINAMICA!$Q1514)","v":0},{"$f":"VALUE(DINAMICA!$R1514)","v":0}]
[{"$f":"VALUE(DINAMICA!$A1515)","v":0},{"$f":"VALUE(DINAMICA!$B1515)","v":"00:00:00"},{"$f":"VALUE(DINAMICA!$C1515)","v":0},{"$f":"DINAMICA!D1515","v":0},{"$f":"DINAMICA!E1515","v":0},{"$f":"DINAMICA!F1515","v":0},{"$f":"DINAMICA!G1515","v":0},{"$f":"DINAMICA!H1515","v":0},{"$f":"DINAMICA!I1515","v":0},{"$f":"DINAMICA!J1515","v":0},{"$f":"DINAMICA!K1515","v":0},{"$f":"VALUE(DINAMICA!$L1515)","v":0},{"$f":"VALUE(DINAMICA!$M1515)","v":0},{"$f":"VALUE(DINAMICA!$N1515)","v":0},{"$f":"VALUE(DINAMICA!$O1515)","v":0},{"$f":"VALUE(DINAMICA!$P1515)","v":0},{"$f":"VALUE(DINAMICA!$Q1515)","v":0},{"$f":"VALUE(DINAMICA!$R1515)","v":0}]
[{"$f":"VALUE(DINAMICA!$A1516)","v":0},{"$f":"VALUE(DINAMICA!$B1516)","v":"00:00:00"},{"$f":"VALUE(DINAMICA!$C1516)","v":0},{"$f":"DINAMICA!D1516","v":0},{"$f":"DINAMICA!E1516","v":0},{"$f":"DINAMICA!F1516","v":0},{"$f":"DINAMICA!G1516","v":0},{"$f":"DINAMICA!H1516","v":0},{"$f":"DINAMICA!I1516","v":0},{"$f":"DINAMICA!J1516","v":0},{"$f":"DINAMICA!K1516","v":0},{"$f":"VALUE(DINAMICA!$L1516)","v":0},{"$f":"VALUE(DINAMICA!$M1516)","v":0},{"$f":"VALUE(DINAMICA!$N1516)","v":0},{"$f":"VALUE(DINAMICA!$O1516)","v":0},{"$f":"VALUE(DINAMICA!$P1516)","v":0},{"$f":"VALUE(DINAMICA!$Q1516)","v":0},{"$f":"VALUE(DINAMICA!$R1516)","v":0}]
[{"$f":"VALUE(DINAMICA!$A1517)","v":0},{"$f":"VALUE(DINAMICA!$B1517)","v":"00:00:00"},{"$f":"VALUE(DINAMICA!$C1517)","v":0},{"$f":"DINAMICA!D1517","v":0},{"$f":"DINAMICA!E1517","v":0},{"$f":"DINAMICA!F1517","v":0},{"$f":"DINAMICA!G1517","v":0},{"$f":"DINAMICA!H1517","v":0},{"$f":"DINAMICA!I1517","v":0},{"$f":"DINAMICA!J1517","v":0},{"$f":"DINAMICA!K1517","v":0},{"$f":"VALUE(DINAMICA!$L1517)","v":0},{"$f":"VALUE(DINAMICA!$M1517)","v":0},{"$f":"VALUE(DINAMICA!$N1517)","v":0},{"$f":"VALUE(DINAMICA!$O1517)","v":0},{"$f":"VALUE(DINAMICA!$P1517)","v":0},{"$f":"VALUE(DINAMICA!$Q1517)","v":0},{"$f":"VALUE(DINAMICA!$R1517)","v":0}]
[{"$f":"VALUE(DINAMICA!$A1518)","v":0},{"$f":"VALUE(DINAMICA!$B1518)","v":"00:00:00"},{"$f":"VALUE(DINAMICA!$C1518)","v":0},{"$f":"DINAMICA!D1518","v":0},{"$f":"DINAMICA!E1518","v":0},{"$f":"DINAMICA!F1518","v":0},{"$f":"DINAMICA!G1518","v":0},{"$f":"DINAMICA!H1518","v":0},{"$f":"DINAMICA!I1518","v":0},{"$f":"DINAMICA!J1518","v":0},{"$f":"DINAMICA!K1518","v":0},{"$f":"VALUE(DINAMICA!$L1518)","v":0},{"$f":"VALUE(DINAMICA!$M1518)","v":0},{"$f":"VALUE(DINAMICA!$N1518)","v":0},{"$f":"VALUE(DINAMICA!$O1518)","v":0},{"$f":"VALUE(DINAMICA!$P1518)","v":0},{"$f":"VALUE(DINAMICA!$Q1518)","v":0},{"$f":"VALUE(DINAMICA!$R1518)","v":0}]
[{"$f":"VALUE(DINAMICA!$A1519)","v":0},{"$f":"VALUE(DINAMICA!$B1519)","v":"00:00:00"},{"$f":"VALUE(DINAMICA!$C1519)","v":0},{"$f":"DINAMICA!D1519","v":0},{"$f":"DINAMICA!E1519","v":0},{"$f":"DINAMICA!F1519","v":0},{"$f":"DINAMICA!G1519","v":0},{"$f":"DINAMICA!H1519","v":0},{"$f":"DINAMICA!I1519","v":0},{"$f":"DINAMICA!J1519","v":0},{"$f":"DINAMICA!K1519","v":0},{"$f":"VALUE(DINAMICA!$L1519)","v":0},{"$f":"VALUE(DINAMICA!$M1519)","v":0},{"$f":"VALUE(DINAMICA!$N1519)","v":0},{"$f":"VALUE(DINAMICA!$O1519)","v":0},{"$f":"VALUE(DINAMICA!$P1519)","v":0},{"$f":"VALUE(DINAMICA!$Q1519)","v":0},{"$f":"VALUE(DINAMICA!$R1519)","v":0}]
[{"$f":"VALUE(DINAMICA!$A1520)","v":0},{"$f":"VALUE(DINAMICA!$B1520)","v":"00:00:00"},{"$f":"VALUE(DINAMICA!$C1520)","v":0},{"$f":"DINAMICA!D1520","v":0},{"$f":"DINAMICA!E1520","v":0},{"$f":"DINAMICA!F1520","v":0},{"$f":"DINAMICA!G1520","v":0},{"$f":"DINAMICA!H1520","v":0},{"$f":"DINAMICA!I1520","v":0},{"$f":"DINAMICA!J1520","v":0},{"$f":"DINAMICA!K1520","v":0},{"$f":"VALUE(DINAMICA!$L1520)","v":0},{"$f":"VALUE(DINAMICA!$M1520)","v":0},{"$f":"VALUE(DINAMICA!$N1520)","v":0},{"$f":"VALUE(DINAMICA!$O1520)","v":0},{"$f":"VALUE(DINAMICA!$P1520)","v":0},{"$f":"VALUE(DINAMICA!$Q1520)","v":0},{"$f":"VALUE(DINAMICA!$R1520)","v":0}]
[{"$f":"VALUE(DINAMICA!$A1521)","v":0},{"$f":"VALUE(DINAMICA!$B1521)","v":"00:00:00"},{"$f":"VALUE(DINAMICA!$C1521)","v":0},{"$f":"DINAMICA!D1521","v":0},{"$f":"DINAMICA!E1521","v":0},{"$f":"DINAMICA!F1521","v":0},{"$f":"DINAMICA!G1521","v":0},{"$f":"DINAMICA!H1521","v":0},{"$f":"DINAMICA!I1521","v":0},{"$f":"DINAMICA!J1521","v":0},{"$f":"DINAMICA!K1521","v":0},{"$f":"VALUE(DINAMICA!$L1521)","v":0},{"$f":"VALUE(DINAMICA!$M1521)","v":0},{"$f":"VALUE(DINAMICA!$N1521)","v":0},{"$f":"VALUE(DINAMICA!$O1521)","v":0},{"$f":"VALUE(DINAMICA!$P1521)","v":0},{"$f":"VALUE(DINAMICA!$Q1521)","v":0},{"$f":"VALUE(DINAMICA!$R1521)","v":0}]
[{"$f":"VALUE(DINAMICA!$A1522)","v":0},{"$f":"VALUE(DINAMICA!$B1522)","v":"00:00:00"},{"$f":"VALUE(DINAMICA!$C1522)","v":0},{"$f":"DINAMICA!D1522","v":0},{"$f":"DINAMICA!E1522","v":0},{"$f":"DINAMICA!F1522","v":0},{"$f":"DINAMICA!G1522","v":0},{"$f":"DINAMICA!H1522","v":0},{"$f":"DINAMICA!I1522","v":0},{"$f":"DINAMICA!J1522","v":0},{"$f":"DINAMICA!K1522","v":0},{"$f":"VALUE(DINAMICA!$L1522)","v":0},{"$f":"VALUE(DINAMICA!$M1522)","v":0},{"$f":"VALUE(DINAMICA!$N1522)","v":0},{"$f":"VALUE(DINAMICA!$O1522)","v":0},{"$f":"VALUE(DINAMICA!$P1522)","v":0},{"$f":"VALUE(DINAMICA!$Q1522)","v":0},{"$f":"VALUE(DINAMICA!$R1522)","v":0}]
[{"$f":"VALUE(DINAMICA!$A1523)","v":0},{"$f":"VALUE(DINAMICA!$B1523)","v":"00:00:00"},{"$f":"VALUE(DINAMICA!$C1523)","v":0},{"$f":"DINAMICA!D1523","v":0},{"$f":"DINAMICA!E1523","v":0},{"$f":"DINAMICA!F1523","v":0},{"$f":"DINAMICA!G1523","v":0},{"$f":"DINAMICA!H1523","v":0},{"$f":"DINAMICA!I1523","v":0},{"$f":"DINAMICA!J1523","v":0},{"$f":"DINAMICA!K1523","v":0},{"$f":"VALUE(DINAMICA!$L1523)","v":0},{"$f":"VALUE(DINAMICA!$M1523)","v":0},{"$f":"VALUE(DINAMICA!$N1523)","v":0},{"$f":"VALUE(DINAMICA!$O1523)","v":0},{"$f":"VALUE(DINAMICA!$P1523)","v":0},{"$f":"VALUE(DINAMICA!$Q1523)","v":0},{"$f":"VALUE(DINAMICA!$R1523)","v":0}]
[{"$f":"VALUE(DINAMICA!$A1524)","v":0},{"$f":"VALUE(DINAMICA!$B1524)","v":"00:00:00"},{"$f":"VALUE(DINAMICA!$C1524)","v":0},{"$f":"DINAMICA!D1524","v":0},{"$f":"DINAMICA!E1524","v":0},{"$f":"DINAMICA!F1524","v":0},{"$f":"DINAMICA!G1524","v":0},{"$f":"DINAMICA!H1524","v":0},{"$f":"DINAMICA!I1524","v":0},{"$f":"DINAMICA!J1524","v":0},{"$f":"DINAMICA!K1524","v":0},{"$f":"VALUE(DINAMICA!$L1524)","v":0},{"$f":"VALUE(DINAMICA!$M1524)","v":0},{"$f":"VALUE(DINAMICA!$N1524)","v":0},{"$f":"VALUE(DINAMICA!$O1524)","v":0},{"$f":"VALUE(DINAMICA!$P1524)","v":0},{"$f":"VALUE(DINAMICA!$Q1524)","v":0},{"$f":"VALUE(DINAMICA!$R1524)","v":0}]
[{"$f":"VALUE(DINAMICA!$A1525)","v":0},{"$f":"VALUE(DINAMICA!$B1525)","v":"00:00:00"},{"$f":"VALUE(DINAMICA!$C1525)","v":0},{"$f":"DINAMICA!D1525","v":0},{"$f":"DINAMICA!E1525","v":0},{"$f":"DINAMICA!F1525","v":0},{"$f":"DINAMICA!G1525","v":0},{"$f":"DINAMICA!H1525","v":0},{"$f":"DINAMICA!I1525","v":0},{"$f":"DINAMICA!J1525","v":0},{"$f":"DINAMICA!K1525","v":0},{"$f":"VALUE(DINAMICA!$L1525)","v":0},{"$f":"VALUE(DINAMICA!$M1525)","v":0},{"$f":"VALUE(DINAMICA!$N1525)","v":0},{"$f":"VALUE(DINAMICA!$O1525)","v":0},{"$f":"VALUE(DINAMICA!$P1525)","v":0},{"$f":"VALUE(DINAMICA!$Q1525)","v":0},{"$f":"VALUE(DINAMICA!$R1525)","v":0}]
[{"$f":"VALUE(DINAMICA!$A1526)","v":0},{"$f":"VALUE(DINAMICA!$B1526)","v":"00:00:00"},{"$f":"VALUE(DINAMICA!$C1526)","v":0},{"$f":"DINAMICA!D1526","v":0},{"$f":"DINAMICA!E1526","v":0},{"$f":"DINAMICA!F1526","v":0},{"$f":"DINAMICA!G1526","v":0},{"$f":"DINAMICA!H1526","v":0},{"$f":"DINAMICA!I1526","v":0},{"$f":"DINAMICA!J1526","v":0},{"$f":"DINAMICA!K1526","v":0},{"$f":"VALUE(DINAMICA!$L1526)","v":0},{"$f":"VALUE(DINAMICA!$M1526)","v":0},{"$f":"VALUE(DINAMICA!$N1526)","v":0},{"$f":"VALUE(DINAMICA!$O1526)","v":0},{"$f":"VALUE(DINAMICA!$P1526)","v":0},{"$f":"VALUE(DINAMICA!$Q1526)","v":0},{"$f":"VALUE(DINAMICA!$R1526)","v":0}]
[{"$f":"VALUE(DINAMICA!$A1527)","v":0},{"$f":"VALUE(DINAMICA!$B1527)","v":"00:00:00"},{"$f":"VALUE(DINAMICA!$C1527)","v":0},{"$f":"DINAMICA!D1527","v":0},{"$f":"DINAMICA!E1527","v":0},{"$f":"DINAMICA!F1527","v":0},{"$f":"DINAMICA!G1527","v":0},{"$f":"DINAMICA!H1527","v":0},{"$f":"DINAMICA!I1527","v":0},{"$f":"DINAMICA!J1527","v":0},{"$f":"DINAMICA!K1527","v":0},{"$f":"VALUE(DINAMICA!$L1527)","v":0},{"$f":"VALUE(DINAMICA!$M1527)","v":0},{"$f":"VALUE(DINAMICA!$N1527)","v":0},{"$f":"VALUE(DINAMICA!$O1527)","v":0},{"$f":"VALUE(DINAMICA!$P1527)","v":0},{"$f":"VALUE(DINAMICA!$Q1527)","v":0},{"$f":"VALUE(DINAMICA!$R1527)","v":0}]
[{"$f":"VALUE(DINAMICA!$A1528)","v":0},{"$f":"VALUE(DINAMICA!$B1528)","v":"00:00:00"},{"$f":"VALUE(DINAMICA!$C1528)","v":0},{"$f":"DINAMICA!D1528","v":0},{"$f":"DINAMICA!E1528","v":0},{"$f":"DINAMICA!F1528","v":0},{"$f":"DINAMICA!G1528","v":0},{"$f":"DINAMICA!H1528","v":0},{"$f":"DINAMICA!I1528","v":0},{"$f":"DINAMICA!J1528","v":0},{"$f":"DINAMICA!K1528","v":0},{"$f":"VALUE(DINAMICA!$L1528)","v":0},{"$f":"VALUE(DINAMICA!$M1528)","v":0},{"$f":"VALUE(DINAMICA!$N1528)","v":0},{"$f":"VALUE(DINAMICA!$O1528)","v":0},{"$f":"VALUE(DINAMICA!$P1528)","v":0},{"$f":"VALUE(DINAMICA!$Q1528)","v":0},{"$f":"VALUE(DINAMICA!$R1528)","v":0}]
[{"$f":"VALUE(DINAMICA!$A1529)","v":0},{"$f":"VALUE(DINAMICA!$B1529)","v":"00:00:00"},{"$f":"VALUE(DINAMICA!$C1529)","v":0},{"$f":"DINAMICA!D1529","v":0},{"$f":"DINAMICA!E1529","v":0},{"$f":"DINAMICA!F1529","v":0},{"$f":"DINAMICA!G1529","v":0},{"$f":"DINAMICA!H1529","v":0},{"$f":"DINAMICA!I1529","v":0},{"$f":"DINAMICA!J1529","v":0},{"$f":"DINAMICA!K1529","v":0},{"$f":"VALUE(DINAMICA!$L1529)","v":0},{"$f":"VALUE(DINAMICA!$M1529)","v":0},{"$f":"VALUE(DINAMICA!$N1529)","v":0},{"$f":"VALUE(DINAMICA!$O1529)","v":0},{"$f":"VALUE(DINAMICA!$P1529)","v":0},{"$f":"VALUE(DINAMICA!$Q1529)","v":0},{"$f":"VALUE(DINAMICA!$R1529)","v":0}]
[{"$f":"VALUE(DINAMICA!$A1530)","v":0},{"$f":"VALUE(DINAMICA!$B1530)","v":"00:00:00"},{"$f":"VALUE(DINAMICA!$C1530)","v":0},{"$f":"DINAMICA!D1530","v":0},{"$f":"DINAMICA!E1530","v":0},{"$f":"DINAMICA!F1530","v":0},{"$f":"DINAMICA!G1530","v":0},{"$f":"DINAMICA!H1530","v":0},{"$f":"DINAMICA!I1530","v":0},{"$f":"DINAMICA!J1530","v":0},{"$f":"DINAMICA!K1530","v":0},{"$f":"VALUE(DINAMICA!$L1530)","v":0},{"$f":"VALUE(DINAMICA!$M1530)","v":0},{"$f":"VALUE(DINAMICA!$N1530)","v":0},{"$f":"VALUE(DINAMICA!$O1530)","v":0},{"$f":"VALUE(DINAMICA!$P1530)","v":0},{"$f":"VALUE(DINAMICA!$Q1530)","v":0},{"$f":"VALUE(DINAMICA!$R1530)","v":0}]
[{"$f":"VALUE(DINAMICA!$A1531)","v":0},{"$f":"VALUE(DINAMICA!$B1531)","v":"00:00:00"},{"$f":"VALUE(DINAMICA!$C1531)","v":0},{"$f":"DINAMICA!D1531","v":0},{"$f":"DINAMICA!E1531","v":0},{"$f":"DINAMICA!F1531","v":0},{"$f":"DINAMICA!G1531","v":0},{"$f":"DINAMICA!H1531","v":0},{"$f":"DINAMICA!I1531","v":0},{"$f":"DINAMICA!J1531","v":0},{"$f":"DINAMICA!K1531","v":0},{"$f":"VALUE(DINAMICA!$L1531)","v":0},{"$f":"VALUE(DINAMICA!$M1531)","v":0},{"$f":"VALUE(DINAMICA!$N1531)","v":0},{"$f":"VALUE(DINAMICA!$O1531)","v":0},{"$f":"VALUE(DINAMICA!$P1531)","v":0},{"$f":"VALUE(DINAMICA!$Q1531)","v":0},{"$f":"VALUE(DINAMICA!$R1531)","v":0}]
[{"$f":"VALUE(DINAMICA!$A1532)","v":0},{"$f":"VALUE(DINAMICA!$B1532)","v":"00:00:00"},{"$f":"VALUE(DINAMICA!$C1532)","v":0},{"$f":"DINAMICA!D1532","v":0},{"$f":"DINAMICA!E1532","v":0},{"$f":"DINAMICA!F1532","v":0},{"$f":"DINAMICA!G1532","v":0},{"$f":"DINAMICA!H1532","v":0},{"$f":"DINAMICA!I1532","v":0},{"$f":"DINAMICA!J1532","v":0},{"$f":"DINAMICA!K1532","v":0},{"$f":"VALUE(DINAMICA!$L1532)","v":0},{"$f":"VALUE(DINAMICA!$M1532)","v":0},{"$f":"VALUE(DINAMICA!$N1532)","v":0},{"$f":"VALUE(DINAMICA!$O1532)","v":0},{"$f":"VALUE(DINAMICA!$P1532)","v":0},{"$f":"VALUE(DINAMICA!$Q1532)","v":0},{"$f":"VALUE(DINAMICA!$R1532)","v":0}]
[{"$f":"VALUE(DINAMICA!$A1533)","v":0},{"$f":"VALUE(DINAMICA!$B1533)","v":"00:00:00"},{"$f":"VALUE(DINAMICA!$C1533)","v":0},{"$f":"DINAMICA!D1533","v":0},{"$f":"DINAMICA!E1533","v":0},{"$f":"DINAMICA!F1533","v":0},{"$f":"DINAMICA!G1533","v":0},{"$f":"DINAMICA!H1533","v":0},{"$f":"DINAMICA!I1533","v":0},{"$f":"DINAMICA!J1533","v":0},{"$f":"DINAMICA!K1533","v":0},{"$f":"VALUE(DINAMICA!$L1533)","v":0},{"$f":"VALUE(DINAMICA!$M1533)","v":0},{"$f":"VALUE(DINAMICA!$N1533)","v":0},{"$f":"VALUE(DINAMICA!$O1533)","v":0},{"$f":"VALUE(DINAMICA!$P1533)","v":0},{"$f":"VALUE(DINAMICA!$Q1533)","v":0},{"$f":"VALUE(DINAMICA!$R1533)","v":0}]
[{"$f":"VALUE(DINAMICA!$A1534)","v":0},{"$f":"VALUE(DINAMICA!$B1534)","v":"00:00:00"},{"$f":"VALUE(DINAMICA!$C1534)","v":0},{"$f":"DINAMICA!D1534","v":0},{"$f":"DINAMICA!E1534","v":0},{"$f":"DINAMICA!F1534","v":0},{"$f":"DINAMICA!G1534","v":0},{"$f":"DINAMICA!H1534","v":0},{"$f":"DINAMICA!I1534","v":0},{"$f":"DINAMICA!J1534","v":0},{"$f":"DINAMICA!K1534","v":0},{"$f":"VALUE(DINAMICA!$L1534)","v":0},{"$f":"VALUE(DINAMICA!$M1534)","v":0},{"$f":"VALUE(DINAMICA!$N1534)","v":0},{"$f":"VALUE(DINAMICA!$O1534)","v":0},{"$f":"VALUE(DINAMICA!$P1534)","v":0},{"$f":"VALUE(DINAMICA!$Q1534)","v":0},{"$f":"VALUE(DINAMICA!$R1534)","v":0}]
[{"$f":"VALUE(DINAMICA!$A1535)","v":0},{"$f":"VALUE(DINAMICA!$B1535)","v":"00:00:00"},{"$f":"VALUE(DINAMICA!$C1535)","v":0},{"$f":"DINAMICA!D1535","v":0},{"$f":"DINAMICA!E1535","v":0},{"$f":"DINAMICA!F1535","v":0},{"$f":"DINAMICA!G1535","v":0},{"$f":"DINAMICA!H1535","v":0},{"$f":"DINAMICA!I1535","v":0},{"$f":"DINAMICA!J1535","v":0},{"$f":"DINAMICA!K1535","v":0},{"$f":"VALUE(DINAMICA!$L1535)","v":0},{"$f":"VALUE(DINAMICA!$M1535)","v":0},{"$f":"VALUE(DINAMICA!$N1535)","v":0},{"$f":"VALUE(DINAMICA!$O1535)","v":0},{"$f":"VALUE(DINAMICA!$P1535)","v":0},{"$f":"VALUE(DINAMICA!$Q1535)","v":0},{"$f":"VALUE(DINAMICA!$R1535)","v":0}]
[{"$f":"VALUE(DINAMICA!$A1536)","v":0},{"$f":"VALUE(DINAMICA!$B1536)","v":"00:00:00"},{"$f":"VALUE(DINAMICA!$C1536)","v":0},{"$f":"DINAMICA!D1536","v":0},{"$f":"DINAMICA!E1536","v":0},{"$f":"DINAMICA!F1536","v":0},{"$f":"DINAMICA!G1536","v":0},{"$f":"DINAMICA!H1536","v":0},{"$f":"DINAMICA!I1536","v":0},{"$f":"DINAMICA!J1536","v":0},{"$f":"DINAMICA!K1536","v":0},{"$f":"VALUE(DINAMICA!$L1536)","v":0},{"$f":"VALUE(DINAMICA!$M1536)","v":0},{"$f":"VALUE(DINAMICA!$N1536)","v":0},{"$f":"VALUE(DINAMICA!$O1536)","v":0},{"$f":"VALUE(DINAMICA!$P1536)","v":0},{"$f":"VALUE(DINAMICA!$Q1536)","v":0},{"$f":"VALUE(DINAMICA!$R1536)","v":0}]
[{"$f":"VALUE(DINAMICA!$A1537)","v":0},{"$f":"VALUE(DINAMICA!$B1537)","v":"00:00:00"},{"$f":"VALUE(DINAMICA!$C1537)","v":0},{"$f":"DINAMICA!D1537","v":0},{"$f":"DINAMICA!E1537","v":0},{"$f":"DINAMICA!F1537","v":0},{"$f":"DINAMICA!G1537","v":0},{"$f":"DINAMICA!H1537","v":0},{"$f":"DINAMICA!I1537","v":0},{"$f":"DINAMICA!J1537","v":0},{"$f":"DINAMICA!K1537","v":0},{"$f":"VALUE(DINAMICA!$L1537)","v":0},{"$f":"VALUE(DINAMICA!$M1537)","v":0},{"$f":"VALUE(DINAMICA!$N1537)","v":0},{"$f":"VALUE(DINAMICA!$O1537)","v":0},{"$f":"VALUE(DINAMICA!$P1537)","v":0},{"$f":"VALUE(DINAMICA!$Q1537)","v":0},{"$f":"VALUE(DINAMICA!$R1537)","v":0}]
[{"$f":"VALUE(DINAMICA!$A1538)","v":0},{"$f":"VALUE(DINAMICA!$B1538)","v":"00:00:00"},{"$f":"VALUE(DINAMICA!$C1538)","v":0},{"$f":"DINAMICA!D1538","v":0},{"$f":"DINAMICA!E1538","v":0},{"$f":"DINAMICA!F1538","v":0},{"$f":"DINAMICA!G1538","v":0},{"$f":"DINAMICA!H1538","v":0},{"$f":"DINAMICA!I1538","v":0},{"$f":"DINAMICA!J1538","v":0},{"$f":"DINAMICA!K1538","v":0},{"$f":"VALUE(DINAMICA!$L1538)","v":0},{"$f":"VALUE(DINAMICA!$M1538)","v":0},{"$f":"VALUE(DINAMICA!$N1538)","v":0},{"$f":"VALUE(DINAMICA!$O1538)","v":0},{"$f":"VALUE(DINAMICA!$P1538)","v":0},{"$f":"VALUE(DINAMICA!$Q1538)","v":0},{"$f":"VALUE(DINAMICA!$R1538)","v":0}]
[{"$f":"VALUE(DINAMICA!$A1539)","v":0},{"$f":"VALUE(DINAMICA!$B1539)","v":"00:00:00"},{"$f":"VALUE(DINAMICA!$C1539)","v":0},{"$f":"DINAMICA!D1539","v":0},{"$f":"DINAMICA!E1539","v":0},{"$f":"DINAMICA!F1539","v":0},{"$f":"DINAMICA!G1539","v":0},{"$f":"DINAMICA!H1539","v":0},{"$f":"DINAMICA!I1539","v":0},{"$f":"DINAMICA!J1539","v":0},{"$f":"DINAMICA!K1539","v":0},{"$f":"VALUE(DINAMICA!$L1539)","v":0},{"$f":"VALUE(DINAMICA!$M1539)","v":0},{"$f":"VALUE(DINAMICA!$N1539)","v":0},{"$f":"VALUE(DINAMICA!$O1539)","v":0},{"$f":"VALUE(DINAMICA!$P1539)","v":0},{"$f":"VALUE(DINAMICA!$Q1539)","v":0},{"$f":"VALUE(DINAMICA!$R1539)","v":0}]
[{"$f":"VALUE(DINAMICA!$A1540)","v":0},{"$f":"VALUE(DINAMICA!$B1540)","v":"00:00:00"},{"$f":"VALUE(DINAMICA!$C1540)","v":0},{"$f":"DINAMICA!D1540","v":0},{"$f":"DINAMICA!E1540","v":0},{"$f":"DINAMICA!F1540","v":0},{"$f":"DINAMICA!G1540","v":0},{"$f":"DINAMICA!H1540","v":0},{"$f":"DINAMICA!I1540","v":0},{"$f":"DINAMICA!J1540","v":0},{"$f":"DINAMICA!K1540","v":0},{"$f":"VALUE(DINAMICA!$L1540)","v":0},{"$f":"VALUE(DINAMICA!$M1540)","v":0},{"$f":"VALUE(DINAMICA!$N1540)","v":0},{"$f":"VALUE(DINAMICA!$O1540)","v":0},{"$f":"VALUE(DINAMICA!$P1540)","v":0},{"$f":"VALUE(DINAMICA!$Q1540)","v":0},{"$f":"VALUE(DINAMICA!$R1540)","v":0}]
[{"$f":"VALUE(DINAMICA!$A1541)","v":0},{"$f":"VALUE(DINAMICA!$B1541)","v":"00:00:00"},{"$f":"VALUE(DINAMICA!$C1541)","v":0},{"$f":"DINAMICA!D1541","v":0},{"$f":"DINAMICA!E1541","v":0},{"$f":"DINAMICA!F1541","v":0},{"$f":"DINAMICA!G1541","v":0},{"$f":"DINAMICA!H1541","v":0},{"$f":"DINAMICA!I1541","v":0},{"$f":"DINAMICA!J1541","v":0},{"$f":"DINAMICA!K1541","v":0},{"$f":"VALUE(DINAMICA!$L1541)","v":0},{"$f":"VALUE(DINAMICA!$M1541)","v":0},{"$f":"VALUE(DINAMICA!$N1541)","v":0},{"$f":"VALUE(DINAMICA!$O1541)","v":0},{"$f":"VALUE(DINAMICA!$P1541)","v":0},{"$f":"VALUE(DINAMICA!$Q1541)","v":0},{"$f":"VALUE(DINAMICA!$R1541)","v":0}]
[{"$f":"VALUE(DINAMICA!$A1542)","v":0},{"$f":"VALUE(DINAMICA!$B1542)","v":"00:00:00"},{"$f":"VALUE(DINAMICA!$C1542)","v":0},{"$f":"DINAMICA!D1542","v":0},{"$f":"DINAMICA!E1542","v":0},{"$f":"DINAMICA!F1542","v":0},{"$f":"DINAMICA!G1542","v":0},{"$f":"DINAMICA!H1542","v":0},{"$f":"DINAMICA!I1542","v":0},{"$f":"DINAMICA!J1542","v":0},{"$f":"DINAMICA!K1542","v":0},{"$f":"VALUE(DINAMICA!$L1542)","v":0},{"$f":"VALUE(DINAMICA!$M1542)","v":0},{"$f":"VALUE(DINAMICA!$N1542)","v":0},{"$f":"VALUE(DINAMICA!$O1542)","v":0},{"$f":"VALUE(DINAMICA!$P1542)","v":0},{"$f":"VALUE(DINAMICA!$Q1542)","v":0},{"$f":"VALUE(DINAMICA!$R1542)","v":0}]
[{"$f":"VALUE(DINAMICA!$A1543)","v":0},{"$f":"VALUE(DINAMICA!$B1543)","v":"00:00:00"},{"$f":"VALUE(DINAMICA!$C1543)","v":0},{"$f":"DINAMICA!D1543","v":0},{"$f":"DINAMICA!E1543","v":0},{"$f":"DINAMICA!F1543","v":0},{"$f":"DINAMICA!G1543","v":0},{"$f":"DINAMICA!H1543","v":0},{"$f":"DINAMICA!I1543","v":0},{"$f":"DINAMICA!J1543","v":0},{"$f":"DINAMICA!K1543","v":0},{"$f":"VALUE(DINAMICA!$L1543)","v":0},{"$f":"VALUE(DINAMICA!$M1543)","v":0},{"$f":"VALUE(DINAMICA!$N1543)","v":0},{"$f":"VALUE(DINAMICA!$O1543)","v":0},{"$f":"VALUE(DINAMICA!$P1543)","v":0},{"$f":"VALUE(DINAMICA!$Q1543)","v":0},{"$f":"VALUE(DINAMICA!$R1543)","v":0}]
[{"$f":"VALUE(DINAMICA!$A1544)","v":0},{"$f":"VALUE(DINAMICA!$B1544)","v":"00:00:00"},{"$f":"VALUE(DINAMICA!$C1544)","v":0},{"$f":"DINAMICA!D1544","v":0},{"$f":"DINAMICA!E1544","v":0},{"$f":"DINAMICA!F1544","v":0},{"$f":"DINAMICA!G1544","v":0},{"$f":"DINAMICA!H1544","v":0},{"$f":"DINAMICA!I1544","v":0},{"$f":"DINAMICA!J1544","v":0},{"$f":"DINAMICA!K1544","v":0},{"$f":"VALUE(DINAMICA!$L1544)","v":0},{"$f":"VALUE(DINAMICA!$M1544)","v":0},{"$f":"VALUE(DINAMICA!$N1544)","v":0},{"$f":"VALUE(DINAMICA!$O1544)","v":0},{"$f":"VALUE(DINAMICA!$P1544)","v":0},{"$f":"VALUE(DINAMICA!$Q1544)","v":0},{"$f":"VALUE(DINAMICA!$R1544)","v":0}]
[{"$f":"VALUE(DINAMICA!$A1545)","v":0},{"$f":"VALUE(DINAMICA!$B1545)","v":"00:00:00"},{"$f":"VALUE(DINAMICA!$C1545)","v":0},{"$f":"DINAMICA!D1545","v":0},{"$f":"DINAMICA!E1545","v":0},{"$f":"DINAMICA!F1545","v":0},{"$f":"DINAMICA!G1545","v":0},{"$f":"DINAMICA!H1545","v":0},{"$f":"DINAMICA!I1545","v":0},{"$f":"DINAMICA!J1545","v":0},{"$f":"DINAMICA!K1545","v":0},{"$f":"VALUE(DINAMICA!$L1545)","v":0},{"$f":"VALUE(DINAMICA!$M1545)","v":0},{"$f":"VALUE(DINAMICA!$N1545)","v":0},{"$f":"VALUE(DINAMICA!$O1545)","v":0},{"$f":"VALUE(DINAMICA!$P1545)","v":0},{"$f":"VALUE(DINAMICA!$Q1545)","v":0},{"$f":"VALUE(DINAMICA!$R1545)","v":0}]
[{"$f":"VALUE(DINAMICA!$A1546)","v":0},{"$f":"VALUE(DINAMICA!$B1546)","v":"00:00:00"},{"$f":"VALUE(DINAMICA!$C1546)","v":0},{"$f":"DINAMICA!D1546","v":0},{"$f":"DINAMICA!E1546","v":0},{"$f":"DINAMICA!F1546","v":0},{"$f":"DINAMICA!G1546","v":0},{"$f":"DINAMICA!H1546","v":0},{"$f":"DINAMICA!I1546","v":0},{"$f":"DINAMICA!J1546","v":0},{"$f":"DINAMICA!K1546","v":0},{"$f":"VALUE(DINAMICA!$L1546)","v":0},{"$f":"VALUE(DINAMICA!$M1546)","v":0},{"$f":"VALUE(DINAMICA!$N1546)","v":0},{"$f":"VALUE(DINAMICA!$O1546)","v":0},{"$f":"VALUE(DINAMICA!$P1546)","v":0},{"$f":"VALUE(DINAMICA!$Q1546)","v":0},{"$f":"VALUE(DINAMICA!$R1546)","v":0}]
[{"$f":"VALUE(DINAMICA!$A1547)","v":0},{"$f":"VALUE(DINAMICA!$B1547)","v":"00:00:00"},{"$f":"VALUE(DINAMICA!$C1547)","v":0},{"$f":"DINAMICA!D1547","v":0},{"$f":"DINAMICA!E1547","v":0},{"$f":"DINAMICA!F1547","v":0},{"$f":"DINAMICA!G1547","v":0},{"$f":"DINAMICA!H1547","v":0},{"$f":"DINAMICA!I1547","v":0},{"$f":"DINAMICA!J1547","v":0},{"$f":"DINAMICA!K1547","v":0},{"$f":"VALUE(DINAMICA!$L1547)","v":0},{"$f":"VALUE(DINAMICA!$M1547)","v":0},{"$f":"VALUE(DINAMICA!$N1547)","v":0},{"$f":"VALUE(DINAMICA!$O1547)","v":0},{"$f":"VALUE(DINAMICA!$P1547)","v":0},{"$f":"VALUE(DINAMICA!$Q1547)","v":0},{"$f":"VALUE(DINAMICA!$R1547)","v":0}]
[{"$f":"VALUE(DINAMICA!$A1548)","v":0},{"$f":"VALUE(DINAMICA!$B1548)","v":"00:00:00"},{"$f":"VALUE(DINAMICA!$C1548)","v":0},{"$f":"DINAMICA!D1548","v":0},{"$f":"DINAMICA!E1548","v":0},{"$f":"DINAMICA!F1548","v":0},{"$f":"DINAMICA!G1548","v":0},{"$f":"DINAMICA!H1548","v":0},{"$f":"DINAMICA!I1548","v":0},{"$f":"DINAMICA!J1548","v":0},{"$f":"DINAMICA!K1548","v":0},{"$f":"VALUE(DINAMICA!$L1548)","v":0},{"$f":"VALUE(DINAMICA!$M1548)","v":0},{"$f":"VALUE(DINAMICA!$N1548)","v":0},{"$f":"VALUE(DINAMICA!$O1548)","v":0},{"$f":"VALUE(DINAMICA!$P1548)","v":0},{"$f":"VALUE(DINAMICA!$Q1548)","v":0},{"$f":"VALUE(DINAMICA!$R1548)","v":0}]
[{"$f":"VALUE(DINAMICA!$A1549)","v":0},{"$f":"VALUE(DINAMICA!$B1549)","v":"00:00:00"},{"$f":"VALUE(DINAMICA!$C1549)","v":0},{"$f":"DINAMICA!D1549","v":0},{"$f":"DINAMICA!E1549","v":0},{"$f":"DINAMICA!F1549","v":0},{"$f":"DINAMICA!G1549","v":0},{"$f":"DINAMICA!H1549","v":0},{"$f":"DINAMICA!I1549","v":0},{"$f":"DINAMICA!J1549","v":0},{"$f":"DINAMICA!K1549","v":0},{"$f":"VALUE(DINAMICA!$L1549)","v":0},{"$f":"VALUE(DINAMICA!$M1549)","v":0},{"$f":"VALUE(DINAMICA!$N1549)","v":0},{"$f":"VALUE(DINAMICA!$O1549)","v":0},{"$f":"VALUE(DINAMICA!$P1549)","v":0},{"$f":"VALUE(DINAMICA!$Q1549)","v":0},{"$f":"VALUE(DINAMICA!$R1549)","v":0}]
[{"$f":"VALUE(DINAMICA!$A1550)","v":0},{"$f":"VALUE(DINAMICA!$B1550)","v":"00:00:00"},{"$f":"VALUE(DINAMICA!$C1550)","v":0},{"$f":"DINAMICA!D1550","v":0},{"$f":"DINAMICA!E1550","v":0},{"$f":"DINAMICA!F1550","v":0},{"$f":"DINAMICA!G1550","v":0},{"$f":"DINAMICA!H1550","v":0},{"$f":"DINAMICA!I1550","v":0},{"$f":"DINAMICA!J1550","v":0},{"$f":"DINAMICA!K1550","v":0},{"$f":"VALUE(DINAMICA!$L1550)","v":0},{"$f":"VALUE(DINAMICA!$M1550)","v":0},{"$f":"VALUE(DINAMICA!$N1550)","v":0},{"$f":"VALUE(DINAMICA!$O1550)","v":0},{"$f":"VALUE(DINAMICA!$P1550)","v":0},{"$f":"VALUE(DINAMICA!$Q1550)","v":0},{"$f":"VALUE(DINAMICA!$R1550)","v":0}]
[{"$f":"VALUE(DINAMICA!$A1551)","v":0},{"$f":"VALUE(DINAMICA!$B1551)","v":"00:00:00"},{"$f":"VALUE(DINAMICA!$C1551)","v":0},{"$f":"DINAMICA!D1551","v":0},{"$f":"DINAMICA!E1551","v":0},{"$f":"DINAMICA!F1551","v":0},{"$f":"DINAMICA!G1551","v":0},{"$f":"DINAMICA!H1551","v":0},{"$f":"DINAMICA!I1551","v":0},{"$f":"DINAMICA!J1551","v":0},{"$f":"DINAMICA!K1551","v":0},{"$f":"VALUE(DINAMICA!$L1551)","v":0},{"$f":"VALUE(DINAMICA!$M1551)","v":0},{"$f":"VALUE(DINAMICA!$N1551)","v":0},{"$f":"VALUE(DINAMICA!$O1551)","v":0},{"$f":"VALUE(DINAMICA!$P1551)","v":0},{"$f":"VALUE(DINAMICA!$Q1551)","v":0},{"$f":"VALUE(DINAMICA!$R1551)","v":0}]
[{"$f":"VALUE(DINAMICA!$A1552)","v":0},{"$f":"VALUE(DINAMICA!$B1552)","v":"00:00:00"},{"$f":"VALUE(DINAMICA!$C1552)","v":0},{"$f":"DINAMICA!D1552","v":0},{"$f":"DINAMICA!E1552","v":0},{"$f":"DINAMICA!F1552","v":0},{"$f":"DINAMICA!G1552","v":0},{"$f":"DINAMICA!H1552","v":0},{"$f":"DINAMICA!I1552","v":0},{"$f":"DINAMICA!J1552","v":0},{"$f":"DINAMICA!K1552","v":0},{"$f":"VALUE(DINAMICA!$L1552)","v":0},{"$f":"VALUE(DINAMICA!$M1552)","v":0},{"$f":"VALUE(DINAMICA!$N1552)","v":0},{"$f":"VALUE(DINAMICA!$O1552)","v":0},{"$f":"VALUE(DINAMICA!$P1552)","v":0},{"$f":"VALUE(DINAMICA!$Q1552)","v":0},{"$f":"VALUE(DINAMICA!$R1552)","v":0}]
[{"$f":"VALUE(DINAMICA!$A1553)","v":0},{"$f":"VALUE(DINAMICA!$B1553)","v":"00:00:00"},{"$f":"VALUE(DINAMICA!$C1553)","v":0},{"$f":"DINAMICA!D1553","v":0},{"$f":"DINAMICA!E1553","v":0},{"$f":"DINAMICA!F1553","v":0},{"$f":"DINAMICA!G1553","v":0},{"$f":"DINAMICA!H1553","v":0},{"$f":"DINAMICA!I1553","v":0},{"$f":"DINAMICA!J1553","v":0},{"$f":"DINAMICA!K1553","v":0},{"$f":"VALUE(DINAMICA!$L1553)","v":0},{"$f":"VALUE(DINAMICA!$M1553)","v":0},{"$f":"VALUE(DINAMICA!$N1553)","v":0},{"$f":"VALUE(DINAMICA!$O1553)","v":0},{"$f":"VALUE(DINAMICA!$P1553)","v":0},{"$f":"VALUE(DINAMICA!$Q1553)","v":0},{"$f":"VALUE(DINAMICA!$R1553)","v":0}]
[{"$f":"VALUE(DINAMICA!$A1554)","v":0},{"$f":"VALUE(DINAMICA!$B1554)","v":"00:00:00"},{"$f":"VALUE(DINAMICA!$C1554)","v":0},{"$f":"DINAMICA!D1554","v":0},{"$f":"DINAMICA!E1554","v":0},{"$f":"DINAMICA!F1554","v":0},{"$f":"DINAMICA!G1554","v":0},{"$f":"DINAMICA!H1554","v":0},{"$f":"DINAMICA!I1554","v":0},{"$f":"DINAMICA!J1554","v":0},{"$f":"DINAMICA!K1554","v":0},{"$f":"VALUE(DINAMICA!$L1554)","v":0},{"$f":"VALUE(DINAMICA!$M1554)","v":0},{"$f":"VALUE(DINAMICA!$N1554)","v":0},{"$f":"VALUE(DINAMICA!$O1554)","v":0},{"$f":"VALUE(DINAMICA!$P1554)","v":0},{"$f":"VALUE(DINAMICA!$Q1554)","v":0},{"$f":"VALUE(DINAMICA!$R1554)","v":0}]
[{"$f":"VALUE(DINAMICA!$A1555)","v":0},{"$f":"VALUE(DINAMICA!$B1555)","v":"00:00:00"},{"$f":"VALUE(DINAMICA!$C1555)","v":0},{"$f":"DINAMICA!D1555","v":0},{"$f":"DINAMICA!E1555","v":0},{"$f":"DINAMICA!F1555","v":0},{"$f":"DINAMICA!G1555","v":0},{"$f":"DINAMICA!H1555","v":0},{"$f":"DINAMICA!I1555","v":0},{"$f":"DINAMICA!J1555","v":0},{"$f":"DINAMICA!K1555","v":0},{"$f":"VALUE(DINAMICA!$L1555)","v":0},{"$f":"VALUE(DINAMICA!$M1555)","v":0},{"$f":"VALUE(DINAMICA!$N1555)","v":0},{"$f":"VALUE(DINAMICA!$O1555)","v":0},{"$f":"VALUE(DINAMICA!$P1555)","v":0},{"$f":"VALUE(DINAMICA!$Q1555)","v":0},{"$f":"VALUE(DINAMICA!$R1555)","v":0}]
[{"$f":"VALUE(DINAMICA!$A1556)","v":0},{"$f":"VALUE(DINAMICA!$B1556)","v":"00:00:00"},{"$f":"VALUE(DINAMICA!$C1556)","v":0},{"$f":"DINAMICA!D1556","v":0},{"$f":"DINAMICA!E1556","v":0},{"$f":"DINAMICA!F1556","v":0},{"$f":"DINAMICA!G1556","v":0},{"$f":"DINAMICA!H1556","v":0},{"$f":"DINAMICA!I1556","v":0},{"$f":"DINAMICA!J1556","v":0},{"$f":"DINAMICA!K1556","v":0},{"$f":"VALUE(DINAMICA!$L1556)","v":0},{"$f":"VALUE(DINAMICA!$M1556)","v":0},{"$f":"VALUE(DINAMICA!$N1556)","v":0},{"$f":"VALUE(DINAMICA!$O1556)","v":0},{"$f":"VALUE(DINAMICA!$P1556)","v":0},{"$f":"VALUE(DINAMICA!$Q1556)","v":0},{"$f":"VALUE(DINAMICA!$R1556)","v":0}]
[{"$f":"VALUE(DINAMICA!$A1557)","v":0},{"$f":"VALUE(DINAMICA!$B1557)","v":"00:00:00"},{"$f":"VALUE(DINAMICA!$C1557)","v":0},{"$f":"DINAMICA!D1557","v":0},{"$f":"DINAMICA!E1557","v":0},{"$f":"DINAMICA!F1557","v":0},{"$f":"DINAMICA!G1557","v":0},{"$f":"DINAMICA!H1557","v":0},{"$f":"DINAMICA!I1557","v":0},{"$f":"DINAMICA!J1557","v":0},{"$f":"DINAMICA!K1557","v":0},{"$f":"VALUE(DINAMICA!$L1557)","v":0},{"$f":"VALUE(DINAMICA!$M1557)","v":0},{"$f":"VALUE(DINAMICA!$N1557)","v":0},{"$f":"VALUE(DINAMICA!$O1557)","v":0},{"$f":"VALUE(DINAMICA!$P1557)","v":0},{"$f":"VALUE(DINAMICA!$Q1557)","v":0},{"$f":"VALUE(DINAMICA!$R1557)","v":0}]
[{"$f":"VALUE(DINAMICA!$A1558)","v":0},{"$f":"VALUE(DINAMICA!$B1558)","v":"00:00:00"},{"$f":"VALUE(DINAMICA!$C1558)","v":0},{"$f":"DINAMICA!D1558","v":0},{"$f":"DINAMICA!E1558","v":0},{"$f":"DINAMICA!F1558","v":0},{"$f":"DINAMICA!G1558","v":0},{"$f":"DINAMICA!H1558","v":0},{"$f":"DINAMICA!I1558","v":0},{"$f":"DINAMICA!J1558","v":0},{"$f":"DINAMICA!K1558","v":0},{"$f":"VALUE(DINAMICA!$L1558)","v":0},{"$f":"VALUE(DINAMICA!$M1558)","v":0},{"$f":"VALUE(DINAMICA!$N1558)","v":0},{"$f":"VALUE(DINAMICA!$O1558)","v":0},{"$f":"VALUE(DINAMICA!$P1558)","v":0},{"$f":"VALUE(DINAMICA!$Q1558)","v":0},{"$f":"VALUE(DINAMICA!$R1558)","v":0}]
[{"$f":"VALUE(DINAMICA!$A1559)","v":0},{"$f":"VALUE(DINAMICA!$B1559)","v":"00:00:00"},{"$f":"VALUE(DINAMICA!$C1559)","v":0},{"$f":"DINAMICA!D1559","v":0},{"$f":"DINAMICA!E1559","v":0},{"$f":"DINAMICA!F1559","v":0},{"$f":"DINAMICA!G1559","v":0},{"$f":"DINAMICA!H1559","v":0},{"$f":"DINAMICA!I1559","v":0},{"$f":"DINAMICA!J1559","v":0},{"$f":"DINAMICA!K1559","v":0},{"$f":"VALUE(DINAMICA!$L1559)","v":0},{"$f":"VALUE(DINAMICA!$M1559)","v":0},{"$f":"VALUE(DINAMICA!$N1559)","v":0},{"$f":"VALUE(DINAMICA!$O1559)","v":0},{"$f":"VALUE(DINAMICA!$P1559)","v":0},{"$f":"VALUE(DINAMICA!$Q1559)","v":0},{"$f":"VALUE(DINAMICA!$R1559)","v":0}]
[{"$f":"VALUE(DINAMICA!$A1560)","v":0},{"$f":"VALUE(DINAMICA!$B1560)","v":"00:00:00"},{"$f":"VALUE(DINAMICA!$C1560)","v":0},{"$f":"DINAMICA!D1560","v":0},{"$f":"DINAMICA!E1560","v":0},{"$f":"DINAMICA!F1560","v":0},{"$f":"DINAMICA!G1560","v":0},{"$f":"DINAMICA!H1560","v":0},{"$f":"DINAMICA!I1560","v":0},{"$f":"DINAMICA!J1560","v":0},{"$f":"DINAMICA!K1560","v":0},{"$f":"VALUE(DINAMICA!$L1560)","v":0},{"$f":"VALUE(DINAMICA!$M1560)","v":0},{"$f":"VALUE(DINAMICA!$N1560)","v":0},{"$f":"VALUE(DINAMICA!$O1560)","v":0},{"$f":"VALUE(DINAMICA!$P1560)","v":0},{"$f":"VALUE(DINAMICA!$Q1560)","v":0},{"$f":"VALUE(DINAMICA!$R1560)","v":0}]
[{"$f":"VALUE(DINAMICA!$A1561)","v":0},{"$f":"VALUE(DINAMICA!$B1561)","v":"00:00:00"},{"$f":"VALUE(DINAMICA!$C1561)","v":0},{"$f":"DINAMICA!D1561","v":0},{"$f":"DINAMICA!E1561","v":0},{"$f":"DINAMICA!F1561","v":0},{"$f":"DINAMICA!G1561","v":0},{"$f":"DINAMICA!H1561","v":0},{"$f":"DINAMICA!I1561","v":0},{"$f":"DINAMICA!J1561","v":0},{"$f":"DINAMICA!K1561","v":0},{"$f":"VALUE(DINAMICA!$L1561)","v":0},{"$f":"VALUE(DINAMICA!$M1561)","v":0},{"$f":"VALUE(DINAMICA!$N1561)","v":0},{"$f":"VALUE(DINAMICA!$O1561)","v":0},{"$f":"VALUE(DINAMICA!$P1561)","v":0},{"$f":"VALUE(DINAMICA!$Q1561)","v":0},{"$f":"VALUE(DINAMICA!$R1561)","v":0}]
[{"$f":"VALUE(DINAMICA!$A1562)","v":0},{"$f":"VALUE(DINAMICA!$B1562)","v":"00:00:00"},{"$f":"VALUE(DINAMICA!$C1562)","v":0},{"$f":"DINAMICA!D1562","v":0},{"$f":"DINAMICA!E1562","v":0},{"$f":"DINAMICA!F1562","v":0},{"$f":"DINAMICA!G1562","v":0},{"$f":"DINAMICA!H1562","v":0},{"$f":"DINAMICA!I1562","v":0},{"$f":"DINAMICA!J1562","v":0},{"$f":"DINAMICA!K1562","v":0},{"$f":"VALUE(DINAMICA!$L1562)","v":0},{"$f":"VALUE(DINAMICA!$M1562)","v":0},{"$f":"VALUE(DINAMICA!$N1562)","v":0},{"$f":"VALUE(DINAMICA!$O1562)","v":0},{"$f":"VALUE(DINAMICA!$P1562)","v":0},{"$f":"VALUE(DINAMICA!$Q1562)","v":0},{"$f":"VALUE(DINAMICA!$R1562)","v":0}]
[{"$f":"VALUE(DINAMICA!$A1563)","v":0},{"$f":"VALUE(DINAMICA!$B1563)","v":"00:00:00"},{"$f":"VALUE(DINAMICA!$C1563)","v":0},{"$f":"DINAMICA!D1563","v":0},{"$f":"DINAMICA!E1563","v":0},{"$f":"DINAMICA!F1563","v":0},{"$f":"DINAMICA!G1563","v":0},{"$f":"DINAMICA!H1563","v":0},{"$f":"DINAMICA!I1563","v":0},{"$f":"DINAMICA!J1563","v":0},{"$f":"DINAMICA!K1563","v":0},{"$f":"VALUE(DINAMICA!$L1563)","v":0},{"$f":"VALUE(DINAMICA!$M1563)","v":0},{"$f":"VALUE(DINAMICA!$N1563)","v":0},{"$f":"VALUE(DINAMICA!$O1563)","v":0},{"$f":"VALUE(DINAMICA!$P1563)","v":0},{"$f":"VALUE(DINAMICA!$Q1563)","v":0},{"$f":"VALUE(DINAMICA!$R1563)","v":0}]
[{"$f":"VALUE(DINAMICA!$A1564)","v":0},{"$f":"VALUE(DINAMICA!$B1564)","v":"00:00:00"},{"$f":"VALUE(DINAMICA!$C1564)","v":0},{"$f":"DINAMICA!D1564","v":0},{"$f":"DINAMICA!E1564","v":0},{"$f":"DINAMICA!F1564","v":0},{"$f":"DINAMICA!G1564","v":0},{"$f":"DINAMICA!H1564","v":0},{"$f":"DINAMICA!I1564","v":0},{"$f":"DINAMICA!J1564","v":0},{"$f":"DINAMICA!K1564","v":0},{"$f":"VALUE(DINAMICA!$L1564)","v":0},{"$f":"VALUE(DINAMICA!$M1564)","v":0},{"$f":"VALUE(DINAMICA!$N1564)","v":0},{"$f":"VALUE(DINAMICA!$O1564)","v":0},{"$f":"VALUE(DINAMICA!$P1564)","v":0},{"$f":"VALUE(DINAMICA!$Q1564)","v":0},{"$f":"VALUE(DINAMICA!$R1564)","v":0}]
[{"$f":"VALUE(DINAMICA!$A1565)","v":0},{"$f":"VALUE(DINAMICA!$B1565)","v":"00:00:00"},{"$f":"VALUE(DINAMICA!$C1565)","v":0},{"$f":"DINAMICA!D1565","v":0},{"$f":"DINAMICA!E1565","v":0},{"$f":"DINAMICA!F1565","v":0},{"$f":"DINAMICA!G1565","v":0},{"$f":"DINAMICA!H1565","v":0},{"$f":"DINAMICA!I1565","v":0},{"$f":"DINAMICA!J1565","v":0},{"$f":"DINAMICA!K1565","v":0},{"$f":"VALUE(DINAMICA!$L1565)","v":0},{"$f":"VALUE(DINAMICA!$M1565)","v":0},{"$f":"VALUE(DINAMICA!$N1565)","v":0},{"$f":"VALUE(DINAMICA!$O1565)","v":0},{"$f":"VALUE(DINAMICA!$P1565)","v":0},{"$f":"VALUE(DINAMICA!$Q1565)","v":0},{"$f":"VALUE(DINAMICA!$R1565)","v":0}]
[{"$f":"VALUE(DINAMICA!$A1566)","v":0},{"$f":"VALUE(DINAMICA!$B1566)","v":"00:00:00"},{"$f":"VALUE(DINAMICA!$C1566)","v":0},{"$f":"DINAMICA!D1566","v":0},{"$f":"DINAMICA!E1566","v":0},{"$f":"DINAMICA!F1566","v":0},{"$f":"DINAMICA!G1566","v":0},{"$f":"DINAMICA!H1566","v":0},{"$f":"DINAMICA!I1566","v":0},{"$f":"DINAMICA!J1566","v":0},{"$f":"DINAMICA!K1566","v":0},{"$f":"VALUE(DINAMICA!$L1566)","v":0},{"$f":"VALUE(DINAMICA!$M1566)","v":0},{"$f":"VALUE(DINAMICA!$N1566)","v":0},{"$f":"VALUE(DINAMICA!$O1566)","v":0},{"$f":"VALUE(DINAMICA!$P1566)","v":0},{"$f":"VALUE(DINAMICA!$Q1566)","v":0},{"$f":"VALUE(DINAMICA!$R1566)","v":0}]
[{"$f":"VALUE(DINAMICA!$A1567)","v":0},{"$f":"VALUE(DINAMICA!$B1567)","v":"00:00:00"},{"$f":"VALUE(DINAMICA!$C1567)","v":0},{"$f":"DINAMICA!D1567","v":0},{"$f":"DINAMICA!E1567","v":0},{"$f":"DINAMICA!F1567","v":0},{"$f":"DINAMICA!G1567","v":0},{"$f":"DINAMICA!H1567","v":0},{"$f":"DINAMICA!I1567","v":0},{"$f":"DINAMICA!J1567","v":0},{"$f":"DINAMICA!K1567","v":0},{"$f":"VALUE(DINAMICA!$L1567)","v":0},{"$f":"VALUE(DINAMICA!$M1567)","v":0},{"$f":"VALUE(DINAMICA!$N1567)","v":0},{"$f":"VALUE(DINAMICA!$O1567)","v":0},{"$f":"VALUE(DINAMICA!$P1567)","v":0},{"$f":"VALUE(DINAMICA!$Q1567)","v":0},{"$f":"VALUE(DINAMICA!$R1567)","v":0}]
[{"$f":"VALUE(DINAMICA!$A1568)","v":0},{"$f":"VALUE(DINAMICA!$B1568)","v":"00:00:00"},{"$f":"VALUE(DINAMICA!$C1568)","v":0},{"$f":"DINAMICA!D1568","v":0},{"$f":"DINAMICA!E1568","v":0},{"$f":"DINAMICA!F1568","v":0},{"$f":"DINAMICA!G1568","v":0},{"$f":"DINAMICA!H1568","v":0},{"$f":"DINAMICA!I1568","v":0},{"$f":"DINAMICA!J1568","v":0},{"$f":"DINAMICA!K1568","v":0},{"$f":"VALUE(DINAMICA!$L1568)","v":0},{"$f":"VALUE(DINAMICA!$M1568)","v":0},{"$f":"VALUE(DINAMICA!$N1568)","v":0},{"$f":"VALUE(DINAMICA!$O1568)","v":0},{"$f":"VALUE(DINAMICA!$P1568)","v":0},{"$f":"VALUE(DINAMICA!$Q1568)","v":0},{"$f":"VALUE(DINAMICA!$R1568)","v":0}]
[{"$f":"VALUE(DINAMICA!$A1569)","v":0},{"$f":"VALUE(DINAMICA!$B1569)","v":"00:00:00"},{"$f":"VALUE(DINAMICA!$C1569)","v":0},{"$f":"DINAMICA!D1569","v":0},{"$f":"DINAMICA!E1569","v":0},{"$f":"DINAMICA!F1569","v":0},{"$f":"DINAMICA!G1569","v":0},{"$f":"DINAMICA!H1569","v":0},{"$f":"DINAMICA!I1569","v":0},{"$f":"DINAMICA!J1569","v":0},{"$f":"DINAMICA!K1569","v":0},{"$f":"VALUE(DINAMICA!$L1569)","v":0},{"$f":"VALUE(DINAMICA!$M1569)","v":0},{"$f":"VALUE(DINAMICA!$N1569)","v":0},{"$f":"VALUE(DINAMICA!$O1569)","v":0},{"$f":"VALUE(DINAMICA!$P1569)","v":0},{"$f":"VALUE(DINAMICA!$Q1569)","v":0},{"$f":"VALUE(DINAMICA!$R1569)","v":0}]
[{"$f":"VALUE(DINAMICA!$A1570)","v":0},{"$f":"VALUE(DINAMICA!$B1570)","v":"00:00:00"},{"$f":"VALUE(DINAMICA!$C1570)","v":0},{"$f":"DINAMICA!D1570","v":0},{"$f":"DINAMICA!E1570","v":0},{"$f":"DINAMICA!F1570","v":0},{"$f":"DINAMICA!G1570","v":0},{"$f":"DINAMICA!H1570","v":0},{"$f":"DINAMICA!I1570","v":0},{"$f":"DINAMICA!J1570","v":0},{"$f":"DINAMICA!K1570","v":0},{"$f":"VALUE(DINAMICA!$L1570)","v":0},{"$f":"VALUE(DINAMICA!$M1570)","v":0},{"$f":"VALUE(DINAMICA!$N1570)","v":0},{"$f":"VALUE(DINAMICA!$O1570)","v":0},{"$f":"VALUE(DINAMICA!$P1570)","v":0},{"$f":"VALUE(DINAMICA!$Q1570)","v":0},{"$f":"VALUE(DINAMICA!$R1570)","v":0}]
[{"$f":"VALUE(DINAMICA!$A1571)","v":0},{"$f":"VALUE(DINAMICA!$B1571)","v":"00:00:00"},{"$f":"VALUE(DINAMICA!$C1571)","v":0},{"$f":"DINAMICA!D1571","v":0},{"$f":"DINAMICA!E1571","v":0},{"$f":"DINAMICA!F1571","v":0},{"$f":"DINAMICA!G1571","v":0},{"$f":"DINAMICA!H1571","v":0},{"$f":"DINAMICA!I1571","v":0},{"$f":"DINAMICA!J1571","v":0},{"$f":"DINAMICA!K1571","v":0},{"$f":"VALUE(DINAMICA!$L1571)","v":0},{"$f":"VALUE(DINAMICA!$M1571)","v":0},{"$f":"VALUE(DINAMICA!$N1571)","v":0},{"$f":"VALUE(DINAMICA!$O1571)","v":0},{"$f":"VALUE(DINAMICA!$P1571)","v":0},{"$f":"VALUE(DINAMICA!$Q1571)","v":0},{"$f":"VALUE(DINAMICA!$R1571)","v":0}]
[{"$f":"VALUE(DINAMICA!$A1572)","v":0},{"$f":"VALUE(DINAMICA!$B1572)","v":"00:00:00"},{"$f":"VALUE(DINAMICA!$C1572)","v":0},{"$f":"DINAMICA!D1572","v":0},{"$f":"DINAMICA!E1572","v":0},{"$f":"DINAMICA!F1572","v":0},{"$f":"DINAMICA!G1572","v":0},{"$f":"DINAMICA!H1572","v":0},{"$f":"DINAMICA!I1572","v":0},{"$f":"DINAMICA!J1572","v":0},{"$f":"DINAMICA!K1572","v":0},{"$f":"VALUE(DINAMICA!$L1572)","v":0},{"$f":"VALUE(DINAMICA!$M1572)","v":0},{"$f":"VALUE(DINAMICA!$N1572)","v":0},{"$f":"VALUE(DINAMICA!$O1572)","v":0},{"$f":"VALUE(DINAMICA!$P1572)","v":0},{"$f":"VALUE(DINAMICA!$Q1572)","v":0},{"$f":"VALUE(DINAMICA!$R1572)","v":0}]
[{"$f":"VALUE(DINAMICA!$A1573)","v":0},{"$f":"VALUE(DINAMICA!$B1573)","v":"00:00:00"},{"$f":"VALUE(DINAMICA!$C1573)","v":0},{"$f":"DINAMICA!D1573","v":0},{"$f":"DINAMICA!E1573","v":0},{"$f":"DINAMICA!F1573","v":0},{"$f":"DINAMICA!G1573","v":0},{"$f":"DINAMICA!H1573","v":0},{"$f":"DINAMICA!I1573","v":0},{"$f":"DINAMICA!J1573","v":0},{"$f":"DINAMICA!K1573","v":0},{"$f":"VALUE(DINAMICA!$L1573)","v":0},{"$f":"VALUE(DINAMICA!$M1573)","v":0},{"$f":"VALUE(DINAMICA!$N1573)","v":0},{"$f":"VALUE(DINAMICA!$O1573)","v":0},{"$f":"VALUE(DINAMICA!$P1573)","v":0},{"$f":"VALUE(DINAMICA!$Q1573)","v":0},{"$f":"VALUE(DINAMICA!$R1573)","v":0}]
[{"$f":"VALUE(DINAMICA!$A1574)","v":0},{"$f":"VALUE(DINAMICA!$B1574)","v":"00:00:00"},{"$f":"VALUE(DINAMICA!$C1574)","v":0},{"$f":"DINAMICA!D1574","v":0},{"$f":"DINAMICA!E1574","v":0},{"$f":"DINAMICA!F1574","v":0},{"$f":"DINAMICA!G1574","v":0},{"$f":"DINAMICA!H1574","v":0},{"$f":"DINAMICA!I1574","v":0},{"$f":"DINAMICA!J1574","v":0},{"$f":"DINAMICA!K1574","v":0},{"$f":"VALUE(DINAMICA!$L1574)","v":0},{"$f":"VALUE(DINAMICA!$M1574)","v":0},{"$f":"VALUE(DINAMICA!$N1574)","v":0},{"$f":"VALUE(DINAMICA!$O1574)","v":0},{"$f":"VALUE(DINAMICA!$P1574)","v":0},{"$f":"VALUE(DINAMICA!$Q1574)","v":0},{"$f":"VALUE(DINAMICA!$R1574)","v":0}]
[{"$f":"VALUE(DINAMICA!$A1575)","v":0},{"$f":"VALUE(DINAMICA!$B1575)","v":"00:00:00"},{"$f":"VALUE(DINAMICA!$C1575)","v":0},{"$f":"DINAMICA!D1575","v":0},{"$f":"DINAMICA!E1575","v":0},{"$f":"DINAMICA!F1575","v":0},{"$f":"DINAMICA!G1575","v":0},{"$f":"DINAMICA!H1575","v":0},{"$f":"DINAMICA!I1575","v":0},{"$f":"DINAMICA!J1575","v":0},{"$f":"DINAMICA!K1575","v":0},{"$f":"VALUE(DINAMICA!$L1575)","v":0},{"$f":"VALUE(DINAMICA!$M1575)","v":0},{"$f":"VALUE(DINAMICA!$N1575)","v":0},{"$f":"VALUE(DINAMICA!$O1575)","v":0},{"$f":"VALUE(DINAMICA!$P1575)","v":0},{"$f":"VALUE(DINAMICA!$Q1575)","v":0},{"$f":"VALUE(DINAMICA!$R1575)","v":0}]
[{"$f":"VALUE(DINAMICA!$A1576)","v":0},{"$f":"VALUE(DINAMICA!$B1576)","v":"00:00:00"},{"$f":"VALUE(DINAMICA!$C1576)","v":0},{"$f":"DINAMICA!D1576","v":0},{"$f":"DINAMICA!E1576","v":0},{"$f":"DINAMICA!F1576","v":0},{"$f":"DINAMICA!G1576","v":0},{"$f":"DINAMICA!H1576","v":0},{"$f":"DINAMICA!I1576","v":0},{"$f":"DINAMICA!J1576","v":0},{"$f":"DINAMICA!K1576","v":0},{"$f":"VALUE(DINAMICA!$L1576)","v":0},{"$f":"VALUE(DINAMICA!$M1576)","v":0},{"$f":"VALUE(DINAMICA!$N1576)","v":0},{"$f":"VALUE(DINAMICA!$O1576)","v":0},{"$f":"VALUE(DINAMICA!$P1576)","v":0},{"$f":"VALUE(DINAMICA!$Q1576)","v":0},{"$f":"VALUE(DINAMICA!$R1576)","v":0}]
[{"$f":"VALUE(DINAMICA!$A1577)","v":0},{"$f":"VALUE(DINAMICA!$B1577)","v":"00:00:00"},{"$f":"VALUE(DINAMICA!$C1577)","v":0},{"$f":"DINAMICA!D1577","v":0},{"$f":"DINAMICA!E1577","v":0},{"$f":"DINAMICA!F1577","v":0},{"$f":"DINAMICA!G1577","v":0},{"$f":"DINAMICA!H1577","v":0},{"$f":"DINAMICA!I1577","v":0},{"$f":"DINAMICA!J1577","v":0},{"$f":"DINAMICA!K1577","v":0},{"$f":"VALUE(DINAMICA!$L1577)","v":0},{"$f":"VALUE(DINAMICA!$M1577)","v":0},{"$f":"VALUE(DINAMICA!$N1577)","v":0},{"$f":"VALUE(DINAMICA!$O1577)","v":0},{"$f":"VALUE(DINAMICA!$P1577)","v":0},{"$f":"VALUE(DINAMICA!$Q1577)","v":0},{"$f":"VALUE(DINAMICA!$R1577)","v":0}]
[{"$f":"VALUE(DINAMICA!$A1578)","v":0},{"$f":"VALUE(DINAMICA!$B1578)","v":"00:00:00"},{"$f":"VALUE(DINAMICA!$C1578)","v":0},{"$f":"DINAMICA!D1578","v":0},{"$f":"DINAMICA!E1578","v":0},{"$f":"DINAMICA!F1578","v":0},{"$f":"DINAMICA!G1578","v":0},{"$f":"DINAMICA!H1578","v":0},{"$f":"DINAMICA!I1578","v":0},{"$f":"DINAMICA!J1578","v":0},{"$f":"DINAMICA!K1578","v":0},{"$f":"VALUE(DINAMICA!$L1578)","v":0},{"$f":"VALUE(DINAMICA!$M1578)","v":0},{"$f":"VALUE(DINAMICA!$N1578)","v":0},{"$f":"VALUE(DINAMICA!$O1578)","v":0},{"$f":"VALUE(DINAMICA!$P1578)","v":0},{"$f":"VALUE(DINAMICA!$Q1578)","v":0},{"$f":"VALUE(DINAMICA!$R1578)","v":0}]
[{"$f":"VALUE(DINAMICA!$A1579)","v":0},{"$f":"VALUE(DINAMICA!$B1579)","v":"00:00:00"},{"$f":"VALUE(DINAMICA!$C1579)","v":0},{"$f":"DINAMICA!D1579","v":0},{"$f":"DINAMICA!E1579","v":0},{"$f":"DINAMICA!F1579","v":0},{"$f":"DINAMICA!G1579","v":0},{"$f":"DINAMICA!H1579","v":0},{"$f":"DINAMICA!I1579","v":0},{"$f":"DINAMICA!J1579","v":0},{"$f":"DINAMICA!K1579","v":0},{"$f":"VALUE(DINAMICA!$L1579)","v":0},{"$f":"VALUE(DINAMICA!$M1579)","v":0},{"$f":"VALUE(DINAMICA!$N1579)","v":0},{"$f":"VALUE(DINAMICA!$O1579)","v":0},{"$f":"VALUE(DINAMICA!$P1579)","v":0},{"$f":"VALUE(DINAMICA!$Q1579)","v":0},{"$f":"VALUE(DINAMICA!$R1579)","v":0}]
[{"$f":"VALUE(DINAMICA!$A1580)","v":0},{"$f":"VALUE(DINAMICA!$B1580)","v":"00:00:00"},{"$f":"VALUE(DINAMICA!$C1580)","v":0},{"$f":"DINAMICA!D1580","v":0},{"$f":"DINAMICA!E1580","v":0},{"$f":"DINAMICA!F1580","v":0},{"$f":"DINAMICA!G1580","v":0},{"$f":"DINAMICA!H1580","v":0},{"$f":"DINAMICA!I1580","v":0},{"$f":"DINAMICA!J1580","v":0},{"$f":"DINAMICA!K1580","v":0},{"$f":"VALUE(DINAMICA!$L1580)","v":0},{"$f":"VALUE(DINAMICA!$M1580)","v":0},{"$f":"VALUE(DINAMICA!$N1580)","v":0},{"$f":"VALUE(DINAMICA!$O1580)","v":0},{"$f":"VALUE(DINAMICA!$P1580)","v":0},{"$f":"VALUE(DINAMICA!$Q1580)","v":0},{"$f":"VALUE(DINAMICA!$R1580)","v":0}]
[{"$f":"VALUE(DINAMICA!$A1581)","v":0},{"$f":"VALUE(DINAMICA!$B1581)","v":"00:00:00"},{"$f":"VALUE(DINAMICA!$C1581)","v":0},{"$f":"DINAMICA!D1581","v":0},{"$f":"DINAMICA!E1581","v":0},{"$f":"DINAMICA!F1581","v":0},{"$f":"DINAMICA!G1581","v":0},{"$f":"DINAMICA!H1581","v":0},{"$f":"DINAMICA!I1581","v":0},{"$f":"DINAMICA!J1581","v":0},{"$f":"DINAMICA!K1581","v":0},{"$f":"VALUE(DINAMICA!$L1581)","v":0},{"$f":"VALUE(DINAMICA!$M1581)","v":0},{"$f":"VALUE(DINAMICA!$N1581)","v":0},{"$f":"VALUE(DINAMICA!$O1581)","v":0},{"$f":"VALUE(DINAMICA!$P1581)","v":0},{"$f":"VALUE(DINAMICA!$Q1581)","v":0},{"$f":"VALUE(DINAMICA!$R1581)","v":0}]
[{"$f":"VALUE(DINAMICA!$A1582)","v":0},{"$f":"VALUE(DINAMICA!$B1582)","v":"00:00:00"},{"$f":"VALUE(DINAMICA!$C1582)","v":0},{"$f":"DINAMICA!D1582","v":0},{"$f":"DINAMICA!E1582","v":0},{"$f":"DINAMICA!F1582","v":0},{"$f":"DINAMICA!G1582","v":0},{"$f":"DINAMICA!H1582","v":0},{"$f":"DINAMICA!I1582","v":0},{"$f":"DINAMICA!J1582","v":0},{"$f":"DINAMICA!K1582","v":0},{"$f":"VALUE(DINAMICA!$L1582)","v":0},{"$f":"VALUE(DINAMICA!$M1582)","v":0},{"$f":"VALUE(DINAMICA!$N1582)","v":0},{"$f":"VALUE(DINAMICA!$O1582)","v":0},{"$f":"VALUE(DINAMICA!$P1582)","v":0},{"$f":"VALUE(DINAMICA!$Q1582)","v":0},{"$f":"VALUE(DINAMICA!$R1582)","v":0}]
[{"$f":"VALUE(DINAMICA!$A1583)","v":0},{"$f":"VALUE(DINAMICA!$B1583)","v":"00:00:00"},{"$f":"VALUE(DINAMICA!$C1583)","v":0},{"$f":"DINAMICA!D1583","v":0},{"$f":"DINAMICA!E1583","v":0},{"$f":"DINAMICA!F1583","v":0},{"$f":"DINAMICA!G1583","v":0},{"$f":"DINAMICA!H1583","v":0},{"$f":"DINAMICA!I1583","v":0},{"$f":"DINAMICA!J1583","v":0},{"$f":"DINAMICA!K1583","v":0},{"$f":"VALUE(DINAMICA!$L1583)","v":0},{"$f":"VALUE(DINAMICA!$M1583)","v":0},{"$f":"VALUE(DINAMICA!$N1583)","v":0},{"$f":"VALUE(DINAMICA!$O1583)","v":0},{"$f":"VALUE(DINAMICA!$P1583)","v":0},{"$f":"VALUE(DINAMICA!$Q1583)","v":0},{"$f":"VALUE(DINAMICA!$R1583)","v":0}]
[{"$f":"VALUE(DINAMICA!$A1584)","v":0},{"$f":"VALUE(DINAMICA!$B1584)","v":"00:00:00"},{"$f":"VALUE(DINAMICA!$C1584)","v":0},{"$f":"DINAMICA!D1584","v":0},{"$f":"DINAMICA!E1584","v":0},{"$f":"DINAMICA!F1584","v":0},{"$f":"DINAMICA!G1584","v":0},{"$f":"DINAMICA!H1584","v":0},{"$f":"DINAMICA!I1584","v":0},{"$f":"DINAMICA!J1584","v":0},{"$f":"DINAMICA!K1584","v":0},{"$f":"VALUE(DINAMICA!$L1584)","v":0},{"$f":"VALUE(DINAMICA!$M1584)","v":0},{"$f":"VALUE(DINAMICA!$N1584)","v":0},{"$f":"VALUE(DINAMICA!$O1584)","v":0},{"$f":"VALUE(DINAMICA!$P1584)","v":0},{"$f":"VALUE(DINAMICA!$Q1584)","v":0},{"$f":"VALUE(DINAMICA!$R1584)","v":0}]
[{"$f":"VALUE(DINAMICA!$A1585)","v":0},{"$f":"VALUE(DINAMICA!$B1585)","v":"00:00:00"},{"$f":"VALUE(DINAMICA!$C1585)","v":0},{"$f":"DINAMICA!D1585","v":0},{"$f":"DINAMICA!E1585","v":0},{"$f":"DINAMICA!F1585","v":0},{"$f":"DINAMICA!G1585","v":0},{"$f":"DINAMICA!H1585","v":0},{"$f":"DINAMICA!I1585","v":0},{"$f":"DINAMICA!J1585","v":0},{"$f":"DINAMICA!K1585","v":0},{"$f":"VALUE(DINAMICA!$L1585)","v":0},{"$f":"VALUE(DINAMICA!$M1585)","v":0},{"$f":"VALUE(DINAMICA!$N1585)","v":0},{"$f":"VALUE(DINAMICA!$O1585)","v":0},{"$f":"VALUE(DINAMICA!$P1585)","v":0},{"$f":"VALUE(DINAMICA!$Q1585)","v":0},{"$f":"VALUE(DINAMICA!$R1585)","v":0}]
[{"$f":"VALUE(DINAMICA!$A1586)","v":0},{"$f":"VALUE(DINAMICA!$B1586)","v":"00:00:00"},{"$f":"VALUE(DINAMICA!$C1586)","v":0},{"$f":"DINAMICA!D1586","v":0},{"$f":"DINAMICA!E1586","v":0},{"$f":"DINAMICA!F1586","v":0},{"$f":"DINAMICA!G1586","v":0},{"$f":"DINAMICA!H1586","v":0},{"$f":"DINAMICA!I1586","v":0},{"$f":"DINAMICA!J1586","v":0},{"$f":"DINAMICA!K1586","v":0},{"$f":"VALUE(DINAMICA!$L1586)","v":0},{"$f":"VALUE(DINAMICA!$M1586)","v":0},{"$f":"VALUE(DINAMICA!$N1586)","v":0},{"$f":"VALUE(DINAMICA!$O1586)","v":0},{"$f":"VALUE(DINAMICA!$P1586)","v":0},{"$f":"VALUE(DINAMICA!$Q1586)","v":0},{"$f":"VALUE(DINAMICA!$R1586)","v":0}]
[{"$f":"VALUE(DINAMICA!$A1587)","v":0},{"$f":"VALUE(DINAMICA!$B1587)","v":"00:00:00"},{"$f":"VALUE(DINAMICA!$C1587)","v":0},{"$f":"DINAMICA!D1587","v":0},{"$f":"DINAMICA!E1587","v":0},{"$f":"DINAMICA!F1587","v":0},{"$f":"DINAMICA!G1587","v":0},{"$f":"DINAMICA!H1587","v":0},{"$f":"DINAMICA!I1587","v":0},{"$f":"DINAMICA!J1587","v":0},{"$f":"DINAMICA!K1587","v":0},{"$f":"VALUE(DINAMICA!$L1587)","v":0},{"$f":"VALUE(DINAMICA!$M1587)","v":0},{"$f":"VALUE(DINAMICA!$N1587)","v":0},{"$f":"VALUE(DINAMICA!$O1587)","v":0},{"$f":"VALUE(DINAMICA!$P1587)","v":0},{"$f":"VALUE(DINAMICA!$Q1587)","v":0},{"$f":"VALUE(DINAMICA!$R1587)","v":0}]
[{"$f":"VALUE(DINAMICA!$A1588)","v":0},{"$f":"VALUE(DINAMICA!$B1588)","v":"00:00:00"},{"$f":"VALUE(DINAMICA!$C1588)","v":0},{"$f":"DINAMICA!D1588","v":0},{"$f":"DINAMICA!E1588","v":0},{"$f":"DINAMICA!F1588","v":0},{"$f":"DINAMICA!G1588","v":0},{"$f":"DINAMICA!H1588","v":0},{"$f":"DINAMICA!I1588","v":0},{"$f":"DINAMICA!J1588","v":0},{"$f":"DINAMICA!K1588","v":0},{"$f":"VALUE(DINAMICA!$L1588)","v":0},{"$f":"VALUE(DINAMICA!$M1588)","v":0},{"$f":"VALUE(DINAMICA!$N1588)","v":0},{"$f":"VALUE(DINAMICA!$O1588)","v":0},{"$f":"VALUE(DINAMICA!$P1588)","v":0},{"$f":"VALUE(DINAMICA!$Q1588)","v":0},{"$f":"VALUE(DINAMICA!$R1588)","v":0}]
[{"$f":"VALUE(DINAMICA!$A1589)","v":0},{"$f":"VALUE(DINAMICA!$B1589)","v":"00:00:00"},{"$f":"VALUE(DINAMICA!$C1589)","v":0},{"$f":"DINAMICA!D1589","v":0},{"$f":"DINAMICA!E1589","v":0},{"$f":"DINAMICA!F1589","v":0},{"$f":"DINAMICA!G1589","v":0},{"$f":"DINAMICA!H1589","v":0},{"$f":"DINAMICA!I1589","v":0},{"$f":"DINAMICA!J1589","v":0},{"$f":"DINAMICA!K1589","v":0},{"$f":"VALUE(DINAMICA!$L1589)","v":0},{"$f":"VALUE(DINAMICA!$M1589)","v":0},{"$f":"VALUE(DINAMICA!$N1589)","v":0},{"$f":"VALUE(DINAMICA!$O1589)","v":0},{"$f":"VALUE(DINAMICA!$P1589)","v":0},{"$f":"VALUE(DINAMICA!$Q1589)","v":0},{"$f":"VALUE(DINAMICA!$R1589)","v":0}]
[{"$f":"VALUE(DINAMICA!$A1590)","v":0},{"$f":"VALUE(DINAMICA!$B1590)","v":"00:00:00"},{"$f":"VALUE(DINAMICA!$C1590)","v":0},{"$f":"DINAMICA!D1590","v":0},{"$f":"DINAMICA!E1590","v":0},{"$f":"DINAMICA!F1590","v":0},{"$f":"DINAMICA!G1590","v":0},{"$f":"DINAMICA!H1590","v":0},{"$f":"DINAMICA!I1590","v":0},{"$f":"DINAMICA!J1590","v":0},{"$f":"DINAMICA!K1590","v":0},{"$f":"VALUE(DINAMICA!$L1590)","v":0},{"$f":"VALUE(DINAMICA!$M1590)","v":0},{"$f":"VALUE(DINAMICA!$N1590)","v":0},{"$f":"VALUE(DINAMICA!$O1590)","v":0},{"$f":"VALUE(DINAMICA!$P1590)","v":0},{"$f":"VALUE(DINAMICA!$Q1590)","v":0},{"$f":"VALUE(DINAMICA!$R1590)","v":0}]
[{"$f":"VALUE(DINAMICA!$A1591)","v":0},{"$f":"VALUE(DINAMICA!$B1591)","v":"00:00:00"},{"$f":"VALUE(DINAMICA!$C1591)","v":0},{"$f":"DINAMICA!D1591","v":0},{"$f":"DINAMICA!E1591","v":0},{"$f":"DINAMICA!F1591","v":0},{"$f":"DINAMICA!G1591","v":0},{"$f":"DINAMICA!H1591","v":0},{"$f":"DINAMICA!I1591","v":0},{"$f":"DINAMICA!J1591","v":0},{"$f":"DINAMICA!K1591","v":0},{"$f":"VALUE(DINAMICA!$L1591)","v":0},{"$f":"VALUE(DINAMICA!$M1591)","v":0},{"$f":"VALUE(DINAMICA!$N1591)","v":0},{"$f":"VALUE(DINAMICA!$O1591)","v":0},{"$f":"VALUE(DINAMICA!$P1591)","v":0},{"$f":"VALUE(DINAMICA!$Q1591)","v":0},{"$f":"VALUE(DINAMICA!$R1591)","v":0}]
[{"$f":"VALUE(DINAMICA!$A1592)","v":0},{"$f":"VALUE(DINAMICA!$B1592)","v":"00:00:00"},{"$f":"VALUE(DINAMICA!$C1592)","v":0},{"$f":"DINAMICA!D1592","v":0},{"$f":"DINAMICA!E1592","v":0},{"$f":"DINAMICA!F1592","v":0},{"$f":"DINAMICA!G1592","v":0},{"$f":"DINAMICA!H1592","v":0},{"$f":"DINAMICA!I1592","v":0},{"$f":"DINAMICA!J1592","v":0},{"$f":"DINAMICA!K1592","v":0},{"$f":"VALUE(DINAMICA!$L1592)","v":0},{"$f":"VALUE(DINAMICA!$M1592)","v":0},{"$f":"VALUE(DINAMICA!$N1592)","v":0},{"$f":"VALUE(DINAMICA!$O1592)","v":0},{"$f":"VALUE(DINAMICA!$P1592)","v":0},{"$f":"VALUE(DINAMICA!$Q1592)","v":0},{"$f":"VALUE(DINAMICA!$R1592)","v":0}]
[{"$f":"VALUE(DINAMICA!$A1593)","v":0},{"$f":"VALUE(DINAMICA!$B1593)","v":"00:00:00"},{"$f":"VALUE(DINAMICA!$C1593)","v":0},{"$f":"DINAMICA!D1593","v":0},{"$f":"DINAMICA!E1593","v":0},{"$f":"DINAMICA!F1593","v":0},{"$f":"DINAMICA!G1593","v":0},{"$f":"DINAMICA!H1593","v":0},{"$f":"DINAMICA!I1593","v":0},{"$f":"DINAMICA!J1593","v":0},{"$f":"DINAMICA!K1593","v":0},{"$f":"VALUE(DINAMICA!$L1593)","v":0},{"$f":"VALUE(DINAMICA!$M1593)","v":0},{"$f":"VALUE(DINAMICA!$N1593)","v":0},{"$f":"VALUE(DINAMICA!$O1593)","v":0},{"$f":"VALUE(DINAMICA!$P1593)","v":0},{"$f":"VALUE(DINAMICA!$Q1593)","v":0},{"$f":"VALUE(DINAMICA!$R1593)","v":0}]
[{"$f":"VALUE(DINAMICA!$A1594)","v":0},{"$f":"VALUE(DINAMICA!$B1594)","v":"00:00:00"},{"$f":"VALUE(DINAMICA!$C1594)","v":0},{"$f":"DINAMICA!D1594","v":0},{"$f":"DINAMICA!E1594","v":0},{"$f":"DINAMICA!F1594","v":0},{"$f":"DINAMICA!G1594","v":0},{"$f":"DINAMICA!H1594","v":0},{"$f":"DINAMICA!I1594","v":0},{"$f":"DINAMICA!J1594","v":0},{"$f":"DINAMICA!K1594","v":0},{"$f":"VALUE(DINAMICA!$L1594)","v":0},{"$f":"VALUE(DINAMICA!$M1594)","v":0},{"$f":"VALUE(DINAMICA!$N1594)","v":0},{"$f":"VALUE(DINAMICA!$O1594)","v":0},{"$f":"VALUE(DINAMICA!$P1594)","v":0},{"$f":"VALUE(DINAMICA!$Q1594)","v":0},{"$f":"VALUE(DINAMICA!$R1594)","v":0}]
[{"$f":"VALUE(DINAMICA!$A1595)","v":0},{"$f":"VALUE(DINAMICA!$B1595)","v":"00:00:00"},{"$f":"VALUE(DINAMICA!$C1595)","v":0},{"$f":"DINAMICA!D1595","v":0},{"$f":"DINAMICA!E1595","v":0},{"$f":"DINAMICA!F1595","v":0},{"$f":"DINAMICA!G1595","v":0},{"$f":"DINAMICA!H1595","v":0},{"$f":"DINAMICA!I1595","v":0},{"$f":"DINAMICA!J1595","v":0},{"$f":"DINAMICA!K1595","v":0},{"$f":"VALUE(DINAMICA!$L1595)","v":0},{"$f":"VALUE(DINAMICA!$M1595)","v":0},{"$f":"VALUE(DINAMICA!$N1595)","v":0},{"$f":"VALUE(DINAMICA!$O1595)","v":0},{"$f":"VALUE(DINAMICA!$P1595)","v":0},{"$f":"VALUE(DINAMICA!$Q1595)","v":0},{"$f":"VALUE(DINAMICA!$R1595)","v":0}]
[{"$f":"VALUE(DINAMICA!$A1596)","v":0},{"$f":"VALUE(DINAMICA!$B1596)","v":"00:00:00"},{"$f":"VALUE(DINAMICA!$C1596)","v":0},{"$f":"DINAMICA!D1596","v":0},{"$f":"DINAMICA!E1596","v":0},{"$f":"DINAMICA!F1596","v":0},{"$f":"DINAMICA!G1596","v":0},{"$f":"DINAMICA!H1596","v":0},{"$f":"DINAMICA!I1596","v":0},{"$f":"DINAMICA!J1596","v":0},{"$f":"DINAMICA!K1596","v":0},{"$f":"VALUE(DINAMICA!$L1596)","v":0},{"$f":"VALUE(DINAMICA!$M1596)","v":0},{"$f":"VALUE(DINAMICA!$N1596)","v":0},{"$f":"VALUE(DINAMICA!$O1596)","v":0},{"$f":"VALUE(DINAMICA!$P1596)","v":0},{"$f":"VALUE(DINAMICA!$Q1596)","v":0},{"$f":"VALUE(DINAMICA!$R1596)","v":0}]
[{"$f":"VALUE(DINAMICA!$A1597)","v":0},{"$f":"VALUE(DINAMICA!$B1597)","v":"00:00:00"},{"$f":"VALUE(DINAMICA!$C1597)","v":0},{"$f":"DINAMICA!D1597","v":0},{"$f":"DINAMICA!E1597","v":0},{"$f":"DINAMICA!F1597","v":0},{"$f":"DINAMICA!G1597","v":0},{"$f":"DINAMICA!H1597","v":0},{"$f":"DINAMICA!I1597","v":0},{"$f":"DINAMICA!J1597","v":0},{"$f":"DINAMICA!K1597","v":0},{"$f":"VALUE(DINAMICA!$L1597)","v":0},{"$f":"VALUE(DINAMICA!$M1597)","v":0},{"$f":"VALUE(DINAMICA!$N1597)","v":0},{"$f":"VALUE(DINAMICA!$O1597)","v":0},{"$f":"VALUE(DINAMICA!$P1597)","v":0},{"$f":"VALUE(DINAMICA!$Q1597)","v":0},{"$f":"VALUE(DINAMICA!$R1597)","v":0}]
[{"$f":"VALUE(DINAMICA!$A1598)","v":0},{"$f":"VALUE(DINAMICA!$B1598)","v":"00:00:00"},{"$f":"VALUE(DINAMICA!$C1598)","v":0},{"$f":"DINAMICA!D1598","v":0},{"$f":"DINAMICA!E1598","v":0},{"$f":"DINAMICA!F1598","v":0},{"$f":"DINAMICA!G1598","v":0},{"$f":"DINAMICA!H1598","v":0},{"$f":"DINAMICA!I1598","v":0},{"$f":"DINAMICA!J1598","v":0},{"$f":"DINAMICA!K1598","v":0},{"$f":"VALUE(DINAMICA!$L1598)","v":0},{"$f":"VALUE(DINAMICA!$M1598)","v":0},{"$f":"VALUE(DINAMICA!$N1598)","v":0},{"$f":"VALUE(DINAMICA!$O1598)","v":0},{"$f":"VALUE(DINAMICA!$P1598)","v":0},{"$f":"VALUE(DINAMICA!$Q1598)","v":0},{"$f":"VALUE(DINAMICA!$R1598)","v":0}]
[{"$f":"VALUE(DINAMICA!$A1599)","v":0},{"$f":"VALUE(DINAMICA!$B1599)","v":"00:00:00"},{"$f":"VALUE(DINAMICA!$C1599)","v":0},{"$f":"DINAMICA!D1599","v":0},{"$f":"DINAMICA!E1599","v":0},{"$f":"DINAMICA!F1599","v":0},{"$f":"DINAMICA!G1599","v":0},{"$f":"DINAMICA!H1599","v":0},{"$f":"DINAMICA!I1599","v":0},{"$f":"DINAMICA!J1599","v":0},{"$f":"DINAMICA!K1599","v":0},{"$f":"VALUE(DINAMICA!$L1599)","v":0},{"$f":"VALUE(DINAMICA!$M1599)","v":0},{"$f":"VALUE(DINAMICA!$N1599)","v":0},{"$f":"VALUE(DINAMICA!$O1599)","v":0},{"$f":"VALUE(DINAMICA!$P1599)","v":0},{"$f":"VALUE(DINAMICA!$Q1599)","v":0},{"$f":"VALUE(DINAMICA!$R1599)","v":0}]
[{"$f":"VALUE(DINAMICA!$A1600)","v":0},{"$f":"VALUE(DINAMICA!$B1600)","v":"00:00:00"},{"$f":"VALUE(DINAMICA!$C1600)","v":0},{"$f":"DINAMICA!D1600","v":0},{"$f":"DINAMICA!E1600","v":0},{"$f":"DINAMICA!F1600","v":0},{"$f":"DINAMICA!G1600","v":0},{"$f":"DINAMICA!H1600","v":0},{"$f":"DINAMICA!I1600","v":0},{"$f":"DINAMICA!J1600","v":0},{"$f":"DINAMICA!K1600","v":0},{"$f":"VALUE(DINAMICA!$L1600)","v":0},{"$f":"VALUE(DINAMICA!$M1600)","v":0},{"$f":"VALUE(DINAMICA!$N1600)","v":0},{"$f":"VALUE(DINAMICA!$O1600)","v":0},{"$f":"VALUE(DINAMICA!$P1600)","v":0},{"$f":"VALUE(DINAMICA!$Q1600)","v":0},{"$f":"VALUE(DINAMICA!$R1600)","v":0}]
[{"$f":"VALUE(DINAMICA!$A1601)","v":0},{"$f":"VALUE(DINAMICA!$B1601)","v":"00:00:00"},{"$f":"VALUE(DINAMICA!$C1601)","v":0},{"$f":"DINAMICA!D1601","v":0},{"$f":"DINAMICA!E1601","v":0},{"$f":"DINAMICA!F1601","v":0},{"$f":"DINAMICA!G1601","v":0},{"$f":"DINAMICA!H1601","v":0},{"$f":"DINAMICA!I1601","v":0},{"$f":"DINAMICA!J1601","v":0},{"$f":"DINAMICA!K1601","v":0},{"$f":"VALUE(DINAMICA!$L1601)","v":0},{"$f":"VALUE(DINAMICA!$M1601)","v":0},{"$f":"VALUE(DINAMICA!$N1601)","v":0},{"$f":"VALUE(DINAMICA!$O1601)","v":0},{"$f":"VALUE(DINAMICA!$P1601)","v":0},{"$f":"VALUE(DINAMICA!$Q1601)","v":0},{"$f":"VALUE(DINAMICA!$R1601)","v":0}]
[{"$f":"VALUE(DINAMICA!$A1602)","v":0},{"$f":"VALUE(DINAMICA!$B1602)","v":"00:00:00"},{"$f":"VALUE(DINAMICA!$C1602)","v":0},{"$f":"DINAMICA!D1602","v":0},{"$f":"DINAMICA!E1602","v":0},{"$f":"DINAMICA!F1602","v":0},{"$f":"DINAMICA!G1602","v":0},{"$f":"DINAMICA!H1602","v":0},{"$f":"DINAMICA!I1602","v":0},{"$f":"DINAMICA!J1602","v":0},{"$f":"DINAMICA!K1602","v":0},{"$f":"VALUE(DINAMICA!$L1602)","v":0},{"$f":"VALUE(DINAMICA!$M1602)","v":0},{"$f":"VALUE(DINAMICA!$N1602)","v":0},{"$f":"VALUE(DINAMICA!$O1602)","v":0},{"$f":"VALUE(DINAMICA!$P1602)","v":0},{"$f":"VALUE(DINAMICA!$Q1602)","v":0},{"$f":"VALUE(DINAMICA!$R1602)","v":0}]
[{"$f":"VALUE(DINAMICA!$A1603)","v":0},{"$f":"VALUE(DINAMICA!$B1603)","v":"00:00:00"},{"$f":"VALUE(DINAMICA!$C1603)","v":0},{"$f":"DINAMICA!D1603","v":0},{"$f":"DINAMICA!E1603","v":0},{"$f":"DINAMICA!F1603","v":0},{"$f":"DINAMICA!G1603","v":0},{"$f":"DINAMICA!H1603","v":0},{"$f":"DINAMICA!I1603","v":0},{"$f":"DINAMICA!J1603","v":0},{"$f":"DINAMICA!K1603","v":0},{"$f":"VALUE(DINAMICA!$L1603)","v":0},{"$f":"VALUE(DINAMICA!$M1603)","v":0},{"$f":"VALUE(DINAMICA!$N1603)","v":0},{"$f":"VALUE(DINAMICA!$O1603)","v":0},{"$f":"VALUE(DINAMICA!$P1603)","v":0},{"$f":"VALUE(DINAMICA!$Q1603)","v":0},{"$f":"VALUE(DINAMICA!$R1603)","v":0}]
[{"$f":"VALUE(DINAMICA!$A1604)","v":0},{"$f":"VALUE(DINAMICA!$B1604)","v":"00:00:00"},{"$f":"VALUE(DINAMICA!$C1604)","v":0},{"$f":"DINAMICA!D1604","v":0},{"$f":"DINAMICA!E1604","v":0},{"$f":"DINAMICA!F1604","v":0},{"$f":"DINAMICA!G1604","v":0},{"$f":"DINAMICA!H1604","v":0},{"$f":"DINAMICA!I1604","v":0},{"$f":"DINAMICA!J1604","v":0},{"$f":"DINAMICA!K1604","v":0},{"$f":"VALUE(DINAMICA!$L1604)","v":0},{"$f":"VALUE(DINAMICA!$M1604)","v":0},{"$f":"VALUE(DINAMICA!$N1604)","v":0},{"$f":"VALUE(DINAMICA!$O1604)","v":0},{"$f":"VALUE(DINAMICA!$P1604)","v":0},{"$f":"VALUE(DINAMICA!$Q1604)","v":0},{"$f":"VALUE(DINAMICA!$R1604)","v":0}]
[{"$f":"VALUE(DINAMICA!$A1605)","v":0},{"$f":"VALUE(DINAMICA!$B1605)","v":"00:00:00"},{"$f":"VALUE(DINAMICA!$C1605)","v":0},{"$f":"DINAMICA!D1605","v":0},{"$f":"DINAMICA!E1605","v":0},{"$f":"DINAMICA!F1605","v":0},{"$f":"DINAMICA!G1605","v":0},{"$f":"DINAMICA!H1605","v":0},{"$f":"DINAMICA!I1605","v":0},{"$f":"DINAMICA!J1605","v":0},{"$f":"DINAMICA!K1605","v":0},{"$f":"VALUE(DINAMICA!$L1605)","v":0},{"$f":"VALUE(DINAMICA!$M1605)","v":0},{"$f":"VALUE(DINAMICA!$N1605)","v":0},{"$f":"VALUE(DINAMICA!$O1605)","v":0},{"$f":"VALUE(DINAMICA!$P1605)","v":0},{"$f":"VALUE(DINAMICA!$Q1605)","v":0},{"$f":"VALUE(DINAMICA!$R1605)","v":0}]
[{"$f":"VALUE(DINAMICA!$A1606)","v":0},{"$f":"VALUE(DINAMICA!$B1606)","v":"00:00:00"},{"$f":"VALUE(DINAMICA!$C1606)","v":0},{"$f":"DINAMICA!D1606","v":0},{"$f":"DINAMICA!E1606","v":0},{"$f":"DINAMICA!F1606","v":0},{"$f":"DINAMICA!G1606","v":0},{"$f":"DINAMICA!H1606","v":0},{"$f":"DINAMICA!I1606","v":0},{"$f":"DINAMICA!J1606","v":0},{"$f":"DINAMICA!K1606","v":0},{"$f":"VALUE(DINAMICA!$L1606)","v":0},{"$f":"VALUE(DINAMICA!$M1606)","v":0},{"$f":"VALUE(DINAMICA!$N1606)","v":0},{"$f":"VALUE(DINAMICA!$O1606)","v":0},{"$f":"VALUE(DINAMICA!$P1606)","v":0},{"$f":"VALUE(DINAMICA!$Q1606)","v":0},{"$f":"VALUE(DINAMICA!$R1606)","v":0}]
[{"$f":"VALUE(DINAMICA!$A1607)","v":0},{"$f":"VALUE(DINAMICA!$B1607)","v":"00:00:00"},{"$f":"VALUE(DINAMICA!$C1607)","v":0},{"$f":"DINAMICA!D1607","v":0},{"$f":"DINAMICA!E1607","v":0},{"$f":"DINAMICA!F1607","v":0},{"$f":"DINAMICA!G1607","v":0},{"$f":"DINAMICA!H1607","v":0},{"$f":"DINAMICA!I1607","v":0},{"$f":"DINAMICA!J1607","v":0},{"$f":"DINAMICA!K1607","v":0},{"$f":"VALUE(DINAMICA!$L1607)","v":0},{"$f":"VALUE(DINAMICA!$M1607)","v":0},{"$f":"VALUE(DINAMICA!$N1607)","v":0},{"$f":"VALUE(DINAMICA!$O1607)","v":0},{"$f":"VALUE(DINAMICA!$P1607)","v":0},{"$f":"VALUE(DINAMICA!$Q1607)","v":0},{"$f":"VALUE(DINAMICA!$R1607)","v":0}]
[{"$f":"VALUE(DINAMICA!$A1608)","v":0},{"$f":"VALUE(DINAMICA!$B1608)","v":"00:00:00"},{"$f":"VALUE(DINAMICA!$C1608)","v":0},{"$f":"DINAMICA!D1608","v":0},{"$f":"DINAMICA!E1608","v":0},{"$f":"DINAMICA!F1608","v":0},{"$f":"DINAMICA!G1608","v":0},{"$f":"DINAMICA!H1608","v":0},{"$f":"DINAMICA!I1608","v":0},{"$f":"DINAMICA!J1608","v":0},{"$f":"DINAMICA!K1608","v":0},{"$f":"VALUE(DINAMICA!$L1608)","v":0},{"$f":"VALUE(DINAMICA!$M1608)","v":0},{"$f":"VALUE(DINAMICA!$N1608)","v":0},{"$f":"VALUE(DINAMICA!$O1608)","v":0},{"$f":"VALUE(DINAMICA!$P1608)","v":0},{"$f":"VALUE(DINAMICA!$Q1608)","v":0},{"$f":"VALUE(DINAMICA!$R1608)","v":0}]
[{"$f":"VALUE(DINAMICA!$A1609)","v":0},{"$f":"VALUE(DINAMICA!$B1609)","v":"00:00:00"},{"$f":"VALUE(DINAMICA!$C1609)","v":0},{"$f":"DINAMICA!D1609","v":0},{"$f":"DINAMICA!E1609","v":0},{"$f":"DINAMICA!F1609","v":0},{"$f":"DINAMICA!G1609","v":0},{"$f":"DINAMICA!H1609","v":0},{"$f":"DINAMICA!I1609","v":0},{"$f":"DINAMICA!J1609","v":0},{"$f":"DINAMICA!K1609","v":0},{"$f":"VALUE(DINAMICA!$L1609)","v":0},{"$f":"VALUE(DINAMICA!$M1609)","v":0},{"$f":"VALUE(DINAMICA!$N1609)","v":0},{"$f":"VALUE(DINAMICA!$O1609)","v":0},{"$f":"VALUE(DINAMICA!$P1609)","v":0},{"$f":"VALUE(DINAMICA!$Q1609)","v":0},{"$f":"VALUE(DINAMICA!$R1609)","v":0}]
[{"$f":"VALUE(DINAMICA!$A1610)","v":0},{"$f":"VALUE(DINAMICA!$B1610)","v":"00:00:00"},{"$f":"VALUE(DINAMICA!$C1610)","v":0},{"$f":"DINAMICA!D1610","v":0},{"$f":"DINAMICA!E1610","v":0},{"$f":"DINAMICA!F1610","v":0},{"$f":"DINAMICA!G1610","v":0},{"$f":"DINAMICA!H1610","v":0},{"$f":"DINAMICA!I1610","v":0},{"$f":"DINAMICA!J1610","v":0},{"$f":"DINAMICA!K1610","v":0},{"$f":"VALUE(DINAMICA!$L1610)","v":0},{"$f":"VALUE(DINAMICA!$M1610)","v":0},{"$f":"VALUE(DINAMICA!$N1610)","v":0},{"$f":"VALUE(DINAMICA!$O1610)","v":0},{"$f":"VALUE(DINAMICA!$P1610)","v":0},{"$f":"VALUE(DINAMICA!$Q1610)","v":0},{"$f":"VALUE(DINAMICA!$R1610)","v":0}]
[{"$f":"VALUE(DINAMICA!$A1611)","v":0},{"$f":"VALUE(DINAMICA!$B1611)","v":"00:00:00"},{"$f":"VALUE(DINAMICA!$C1611)","v":0},{"$f":"DINAMICA!D1611","v":0},{"$f":"DINAMICA!E1611","v":0},{"$f":"DINAMICA!F1611","v":0},{"$f":"DINAMICA!G1611","v":0},{"$f":"DINAMICA!H1611","v":0},{"$f":"DINAMICA!I1611","v":0},{"$f":"DINAMICA!J1611","v":0},{"$f":"DINAMICA!K1611","v":0},{"$f":"VALUE(DINAMICA!$L1611)","v":0},{"$f":"VALUE(DINAMICA!$M1611)","v":0},{"$f":"VALUE(DINAMICA!$N1611)","v":0},{"$f":"VALUE(DINAMICA!$O1611)","v":0},{"$f":"VALUE(DINAMICA!$P1611)","v":0},{"$f":"VALUE(DINAMICA!$Q1611)","v":0},{"$f":"VALUE(DINAMICA!$R1611)","v":0}]
[{"$f":"VALUE(DINAMICA!$A1612)","v":0},{"$f":"VALUE(DINAMICA!$B1612)","v":"00:00:00"},{"$f":"VALUE(DINAMICA!$C1612)","v":0},{"$f":"DINAMICA!D1612","v":0},{"$f":"DINAMICA!E1612","v":0},{"$f":"DINAMICA!F1612","v":0},{"$f":"DINAMICA!G1612","v":0},{"$f":"DINAMICA!H1612","v":0},{"$f":"DINAMICA!I1612","v":0},{"$f":"DINAMICA!J1612","v":0},{"$f":"DINAMICA!K1612","v":0},{"$f":"VALUE(DINAMICA!$L1612)","v":0},{"$f":"VALUE(DINAMICA!$M1612)","v":0},{"$f":"VALUE(DINAMICA!$N1612)","v":0},{"$f":"VALUE(DINAMICA!$O1612)","v":0},{"$f":"VALUE(DINAMICA!$P1612)","v":0},{"$f":"VALUE(DINAMICA!$Q1612)","v":0},{"$f":"VALUE(DINAMICA!$R1612)","v":0}]
[{"$f":"VALUE(DINAMICA!$A1613)","v":0},{"$f":"VALUE(DINAMICA!$B1613)","v":"00:00:00"},{"$f":"VALUE(DINAMICA!$C1613)","v":0},{"$f":"DINAMICA!D1613","v":0},{"$f":"DINAMICA!E1613","v":0},{"$f":"DINAMICA!F1613","v":0},{"$f":"DINAMICA!G1613","v":0},{"$f":"DINAMICA!H1613","v":0},{"$f":"DINAMICA!I1613","v":0},{"$f":"DINAMICA!J1613","v":0},{"$f":"DINAMICA!K1613","v":0},{"$f":"VALUE(DINAMICA!$L1613)","v":0},{"$f":"VALUE(DINAMICA!$M1613)","v":0},{"$f":"VALUE(DINAMICA!$N1613)","v":0},{"$f":"VALUE(DINAMICA!$O1613)","v":0},{"$f":"VALUE(DINAMICA!$P1613)","v":0},{"$f":"VALUE(DINAMICA!$Q1613)","v":0},{"$f":"VALUE(DINAMICA!$R1613)","v":0}]
[{"$f":"VALUE(DINAMICA!$A1614)","v":0},{"$f":"VALUE(DINAMICA!$B1614)","v":"00:00:00"},{"$f":"VALUE(DINAMICA!$C1614)","v":0},{"$f":"DINAMICA!D1614","v":0},{"$f":"DINAMICA!E1614","v":0},{"$f":"DINAMICA!F1614","v":0},{"$f":"DINAMICA!G1614","v":0},{"$f":"DINAMICA!H1614","v":0},{"$f":"DINAMICA!I1614","v":0},{"$f":"DINAMICA!J1614","v":0},{"$f":"DINAMICA!K1614","v":0},{"$f":"VALUE(DINAMICA!$L1614)","v":0},{"$f":"VALUE(DINAMICA!$M1614)","v":0},{"$f":"VALUE(DINAMICA!$N1614)","v":0},{"$f":"VALUE(DINAMICA!$O1614)","v":0},{"$f":"VALUE(DINAMICA!$P1614)","v":0},{"$f":"VALUE(DINAMICA!$Q1614)","v":0},{"$f":"VALUE(DINAMICA!$R1614)","v":0}]
[{"$f":"VALUE(DINAMICA!$A1615)","v":0},{"$f":"VALUE(DINAMICA!$B1615)","v":"00:00:00"},{"$f":"VALUE(DINAMICA!$C1615)","v":0},{"$f":"DINAMICA!D1615","v":0},{"$f":"DINAMICA!E1615","v":0},{"$f":"DINAMICA!F1615","v":0},{"$f":"DINAMICA!G1615","v":0},{"$f":"DINAMICA!H1615","v":0},{"$f":"DINAMICA!I1615","v":0},{"$f":"DINAMICA!J1615","v":0},{"$f":"DINAMICA!K1615","v":0},{"$f":"VALUE(DINAMICA!$L1615)","v":0},{"$f":"VALUE(DINAMICA!$M1615)","v":0},{"$f":"VALUE(DINAMICA!$N1615)","v":0},{"$f":"VALUE(DINAMICA!$O1615)","v":0},{"$f":"VALUE(DINAMICA!$P1615)","v":0},{"$f":"VALUE(DINAMICA!$Q1615)","v":0},{"$f":"VALUE(DINAMICA!$R1615)","v":0}]
[{"$f":"VALUE(DINAMICA!$A1616)","v":0},{"$f":"VALUE(DINAMICA!$B1616)","v":"00:00:00"},{"$f":"VALUE(DINAMICA!$C1616)","v":0},{"$f":"DINAMICA!D1616","v":0},{"$f":"DINAMICA!E1616","v":0},{"$f":"DINAMICA!F1616","v":0},{"$f":"DINAMICA!G1616","v":0},{"$f":"DINAMICA!H1616","v":0},{"$f":"DINAMICA!I1616","v":0},{"$f":"DINAMICA!J1616","v":0},{"$f":"DINAMICA!K1616","v":0},{"$f":"VALUE(DINAMICA!$L1616)","v":0},{"$f":"VALUE(DINAMICA!$M1616)","v":0},{"$f":"VALUE(DINAMICA!$N1616)","v":0},{"$f":"VALUE(DINAMICA!$O1616)","v":0},{"$f":"VALUE(DINAMICA!$P1616)","v":0},{"$f":"VALUE(DINAMICA!$Q1616)","v":0},{"$f":"VALUE(DINAMICA!$R1616)","v":0}]
[{"$f":"VALUE(DINAMICA!$A1617)","v":0},{"$f":"VALUE(DINAMICA!$B1617)","v":"00:00:00"},{"$f":"VALUE(DINAMICA!$C1617)","v":0},{"$f":"DINAMICA!D1617","v":0},{"$f":"DINAMICA!E1617","v":0},{"$f":"DINAMICA!F1617","v":0},{"$f":"DINAMICA!G1617","v":0},{"$f":"DINAMICA!H1617","v":0},{"$f":"DINAMICA!I1617","v":0},{"$f":"DINAMICA!J1617","v":0},{"$f":"DINAMICA!K1617","v":0},{"$f":"VALUE(DINAMICA!$L1617)","v":0},{"$f":"VALUE(DINAMICA!$M1617)","v":0},{"$f":"VALUE(DINAMICA!$N1617)","v":0},{"$f":"VALUE(DINAMICA!$O1617)","v":0},{"$f":"VALUE(DINAMICA!$P1617)","v":0},{"$f":"VALUE(DINAMICA!$Q1617)","v":0},{"$f":"VALUE(DINAMICA!$R1617)","v":0}]
[{"$f":"VALUE(DINAMICA!$A1618)","v":0},{"$f":"VALUE(DINAMICA!$B1618)","v":"00:00:00"},{"$f":"VALUE(DINAMICA!$C1618)","v":0},{"$f":"DINAMICA!D1618","v":0},{"$f":"DINAMICA!E1618","v":0},{"$f":"DINAMICA!F1618","v":0},{"$f":"DINAMICA!G1618","v":0},{"$f":"DINAMICA!H1618","v":0},{"$f":"DINAMICA!I1618","v":0},{"$f":"DINAMICA!J1618","v":0},{"$f":"DINAMICA!K1618","v":0},{"$f":"VALUE(DINAMICA!$L1618)","v":0},{"$f":"VALUE(DINAMICA!$M1618)","v":0},{"$f":"VALUE(DINAMICA!$N1618)","v":0},{"$f":"VALUE(DINAMICA!$O1618)","v":0},{"$f":"VALUE(DINAMICA!$P1618)","v":0},{"$f":"VALUE(DINAMICA!$Q1618)","v":0},{"$f":"VALUE(DINAMICA!$R1618)","v":0}]
[{"$f":"VALUE(DINAMICA!$A1619)","v":0},{"$f":"VALUE(DINAMICA!$B1619)","v":"00:00:00"},{"$f":"VALUE(DINAMICA!$C1619)","v":0},{"$f":"DINAMICA!D1619","v":0},{"$f":"DINAMICA!E1619","v":0},{"$f":"DINAMICA!F1619","v":0},{"$f":"DINAMICA!G1619","v":0},{"$f":"DINAMICA!H1619","v":0},{"$f":"DINAMICA!I1619","v":0},{"$f":"DINAMICA!J1619","v":0},{"$f":"DINAMICA!K1619","v":0},{"$f":"VALUE(DINAMICA!$L1619)","v":0},{"$f":"VALUE(DINAMICA!$M1619)","v":0},{"$f":"VALUE(DINAMICA!$N1619)","v":0},{"$f":"VALUE(DINAMICA!$O1619)","v":0},{"$f":"VALUE(DINAMICA!$P1619)","v":0},{"$f":"VALUE(DINAMICA!$Q1619)","v":0},{"$f":"VALUE(DINAMICA!$R1619)","v":0}]
[{"$f":"VALUE(DINAMICA!$A1620)","v":0},{"$f":"VALUE(DINAMICA!$B1620)","v":"00:00:00"},{"$f":"VALUE(DINAMICA!$C1620)","v":0},{"$f":"DINAMICA!D1620","v":0},{"$f":"DINAMICA!E1620","v":0},{"$f":"DINAMICA!F1620","v":0},{"$f":"DINAMICA!G1620","v":0},{"$f":"DINAMICA!H1620","v":0},{"$f":"DINAMICA!I1620","v":0},{"$f":"DINAMICA!J1620","v":0},{"$f":"DINAMICA!K1620","v":0},{"$f":"VALUE(DINAMICA!$L1620)","v":0},{"$f":"VALUE(DINAMICA!$M1620)","v":0},{"$f":"VALUE(DINAMICA!$N1620)","v":0},{"$f":"VALUE(DINAMICA!$O1620)","v":0},{"$f":"VALUE(DINAMICA!$P1620)","v":0},{"$f":"VALUE(DINAMICA!$Q1620)","v":0},{"$f":"VALUE(DINAMICA!$R1620)","v":0}]
[{"$f":"VALUE(DINAMICA!$A1621)","v":0},{"$f":"VALUE(DINAMICA!$B1621)","v":"00:00:00"},{"$f":"VALUE(DINAMICA!$C1621)","v":0},{"$f":"DINAMICA!D1621","v":0},{"$f":"DINAMICA!E1621","v":0},{"$f":"DINAMICA!F1621","v":0},{"$f":"DINAMICA!G1621","v":0},{"$f":"DINAMICA!H1621","v":0},{"$f":"DINAMICA!I1621","v":0},{"$f":"DINAMICA!J1621","v":0},{"$f":"DINAMICA!K1621","v":0},{"$f":"VALUE(DINAMICA!$L1621)","v":0},{"$f":"VALUE(DINAMICA!$M1621)","v":0},{"$f":"VALUE(DINAMICA!$N1621)","v":0},{"$f":"VALUE(DINAMICA!$O1621)","v":0},{"$f":"VALUE(DINAMICA!$P1621)","v":0},{"$f":"VALUE(DINAMICA!$Q1621)","v":0},{"$f":"VALUE(DINAMICA!$R1621)","v":0}]
[{"$f":"VALUE(DINAMICA!$A1622)","v":0},{"$f":"VALUE(DINAMICA!$B1622)","v":"00:00:00"},{"$f":"VALUE(DINAMICA!$C1622)","v":0},{"$f":"DINAMICA!D1622","v":0},{"$f":"DINAMICA!E1622","v":0},{"$f":"DINAMICA!F1622","v":0},{"$f":"DINAMICA!G1622","v":0},{"$f":"DINAMICA!H1622","v":0},{"$f":"DINAMICA!I1622","v":0},{"$f":"DINAMICA!J1622","v":0},{"$f":"DINAMICA!K1622","v":0},{"$f":"VALUE(DINAMICA!$L1622)","v":0},{"$f":"VALUE(DINAMICA!$M1622)","v":0},{"$f":"VALUE(DINAMICA!$N1622)","v":0},{"$f":"VALUE(DINAMICA!$O1622)","v":0},{"$f":"VALUE(DINAMICA!$P1622)","v":0},{"$f":"VALUE(DINAMICA!$Q1622)","v":0},{"$f":"VALUE(DINAMICA!$R1622)","v":0}]
[{"$f":"VALUE(DINAMICA!$A1623)","v":0},{"$f":"VALUE(DINAMICA!$B1623)","v":"00:00:00"},{"$f":"VALUE(DINAMICA!$C1623)","v":0},{"$f":"DINAMICA!D1623","v":0},{"$f":"DINAMICA!E1623","v":0},{"$f":"DINAMICA!F1623","v":0},{"$f":"DINAMICA!G1623","v":0},{"$f":"DINAMICA!H1623","v":0},{"$f":"DINAMICA!I1623","v":0},{"$f":"DINAMICA!J1623","v":0},{"$f":"DINAMICA!K1623","v":0},{"$f":"VALUE(DINAMICA!$L1623)","v":0},{"$f":"VALUE(DINAMICA!$M1623)","v":0},{"$f":"VALUE(DINAMICA!$N1623)","v":0},{"$f":"VALUE(DINAMICA!$O1623)","v":0},{"$f":"VALUE(DINAMICA!$P1623)","v":0},{"$f":"VALUE(DINAMICA!$Q1623)","v":0},{"$f":"VALUE(DINAMICA!$R1623)","v":0}]
[{"$f":"VALUE(DINAMICA!$A1624)","v":0},{"$f":"VALUE(DINAMICA!$B1624)","v":"00:00:00"},{"$f":"VALUE(DINAMICA!$C1624)","v":0},{"$f":"DINAMICA!D1624","v":0},{"$f":"DINAMICA!E1624","v":0},{"$f":"DINAMICA!F1624","v":0},{"$f":"DINAMICA!G1624","v":0},{"$f":"DINAMICA!H1624","v":0},{"$f":"DINAMICA!I1624","v":0},{"$f":"DINAMICA!J1624","v":0},{"$f":"DINAMICA!K1624","v":0},{"$f":"VALUE(DINAMICA!$L1624)","v":0},{"$f":"VALUE(DINAMICA!$M1624)","v":0},{"$f":"VALUE(DINAMICA!$N1624)","v":0},{"$f":"VALUE(DINAMICA!$O1624)","v":0},{"$f":"VALUE(DINAMICA!$P1624)","v":0},{"$f":"VALUE(DINAMICA!$Q1624)","v":0},{"$f":"VALUE(DINAMICA!$R1624)","v":0}]
[{"$f":"VALUE(DINAMICA!$A1625)","v":0},{"$f":"VALUE(DINAMICA!$B1625)","v":"00:00:00"},{"$f":"VALUE(DINAMICA!$C1625)","v":0},{"$f":"DINAMICA!D1625","v":0},{"$f":"DINAMICA!E1625","v":0},{"$f":"DINAMICA!F1625","v":0},{"$f":"DINAMICA!G1625","v":0},{"$f":"DINAMICA!H1625","v":0},{"$f":"DINAMICA!I1625","v":0},{"$f":"DINAMICA!J1625","v":0},{"$f":"DINAMICA!K1625","v":0},{"$f":"VALUE(DINAMICA!$L1625)","v":0},{"$f":"VALUE(DINAMICA!$M1625)","v":0},{"$f":"VALUE(DINAMICA!$N1625)","v":0},{"$f":"VALUE(DINAMICA!$O1625)","v":0},{"$f":"VALUE(DINAMICA!$P1625)","v":0},{"$f":"VALUE(DINAMICA!$Q1625)","v":0},{"$f":"VALUE(DINAMICA!$R1625)","v":0}]
[{"$f":"VALUE(DINAMICA!$A1626)","v":0},{"$f":"VALUE(DINAMICA!$B1626)","v":"00:00:00"},{"$f":"VALUE(DINAMICA!$C1626)","v":0},{"$f":"DINAMICA!D1626","v":0},{"$f":"DINAMICA!E1626","v":0},{"$f":"DINAMICA!F1626","v":0},{"$f":"DINAMICA!G1626","v":0},{"$f":"DINAMICA!H1626","v":0},{"$f":"DINAMICA!I1626","v":0},{"$f":"DINAMICA!J1626","v":0},{"$f":"DINAMICA!K1626","v":0},{"$f":"VALUE(DINAMICA!$L1626)","v":0},{"$f":"VALUE(DINAMICA!$M1626)","v":0},{"$f":"VALUE(DINAMICA!$N1626)","v":0},{"$f":"VALUE(DINAMICA!$O1626)","v":0},{"$f":"VALUE(DINAMICA!$P1626)","v":0},{"$f":"VALUE(DINAMICA!$Q1626)","v":0},{"$f":"VALUE(DINAMICA!$R1626)","v":0}]
[{"$f":"VALUE(DINAMICA!$A1627)","v":0},{"$f":"VALUE(DINAMICA!$B1627)","v":"00:00:00"},{"$f":"VALUE(DINAMICA!$C1627)","v":0},{"$f":"DINAMICA!D1627","v":0},{"$f":"DINAMICA!E1627","v":0},{"$f":"DINAMICA!F1627","v":0},{"$f":"DINAMICA!G1627","v":0},{"$f":"DINAMICA!H1627","v":0},{"$f":"DINAMICA!I1627","v":0},{"$f":"DINAMICA!J1627","v":0},{"$f":"DINAMICA!K1627","v":0},{"$f":"VALUE(DINAMICA!$L1627)","v":0},{"$f":"VALUE(DINAMICA!$M1627)","v":0},{"$f":"VALUE(DINAMICA!$N1627)","v":0},{"$f":"VALUE(DINAMICA!$O1627)","v":0},{"$f":"VALUE(DINAMICA!$P1627)","v":0},{"$f":"VALUE(DINAMICA!$Q1627)","v":0},{"$f":"VALUE(DINAMICA!$R1627)","v":0}]
[{"$f":"VALUE(DINAMICA!$A1628)","v":0},{"$f":"VALUE(DINAMICA!$B1628)","v":"00:00:00"},{"$f":"VALUE(DINAMICA!$C1628)","v":0},{"$f":"DINAMICA!D1628","v":0},{"$f":"DINAMICA!E1628","v":0},{"$f":"DINAMICA!F1628","v":0},{"$f":"DINAMICA!G1628","v":0},{"$f":"DINAMICA!H1628","v":0},{"$f":"DINAMICA!I1628","v":0},{"$f":"DINAMICA!J1628","v":0},{"$f":"DINAMICA!K1628","v":0},{"$f":"VALUE(DINAMICA!$L1628)","v":0},{"$f":"VALUE(DINAMICA!$M1628)","v":0},{"$f":"VALUE(DINAMICA!$N1628)","v":0},{"$f":"VALUE(DINAMICA!$O1628)","v":0},{"$f":"VALUE(DINAMICA!$P1628)","v":0},{"$f":"VALUE(DINAMICA!$Q1628)","v":0},{"$f":"VALUE(DINAMICA!$R1628)","v":0}]
[{"$f":"VALUE(DINAMICA!$A1629)","v":0},{"$f":"VALUE(DINAMICA!$B1629)","v":"00:00:00"},{"$f":"VALUE(DINAMICA!$C1629)","v":0},{"$f":"DINAMICA!D1629","v":0},{"$f":"DINAMICA!E1629","v":0},{"$f":"DINAMICA!F1629","v":0},{"$f":"DINAMICA!G1629","v":0},{"$f":"DINAMICA!H1629","v":0},{"$f":"DINAMICA!I1629","v":0},{"$f":"DINAMICA!J1629","v":0},{"$f":"DINAMICA!K1629","v":0},{"$f":"VALUE(DINAMICA!$L1629)","v":0},{"$f":"VALUE(DINAMICA!$M1629)","v":0},{"$f":"VALUE(DINAMICA!$N1629)","v":0},{"$f":"VALUE(DINAMICA!$O1629)","v":0},{"$f":"VALUE(DINAMICA!$P1629)","v":0},{"$f":"VALUE(DINAMICA!$Q1629)","v":0},{"$f":"VALUE(DINAMICA!$R1629)","v":0}]
[{"$f":"VALUE(DINAMICA!$A1630)","v":0},{"$f":"VALUE(DINAMICA!$B1630)","v":"00:00:00"},{"$f":"VALUE(DINAMICA!$C1630)","v":0},{"$f":"DINAMICA!D1630","v":0},{"$f":"DINAMICA!E1630","v":0},{"$f":"DINAMICA!F1630","v":0},{"$f":"DINAMICA!G1630","v":0},{"$f":"DINAMICA!H1630","v":0},{"$f":"DINAMICA!I1630","v":0},{"$f":"DINAMICA!J1630","v":0},{"$f":"DINAMICA!K1630","v":0},{"$f":"VALUE(DINAMICA!$L1630)","v":0},{"$f":"VALUE(DINAMICA!$M1630)","v":0},{"$f":"VALUE(DINAMICA!$N1630)","v":0},{"$f":"VALUE(DINAMICA!$O1630)","v":0},{"$f":"VALUE(DINAMICA!$P1630)","v":0},{"$f":"VALUE(DINAMICA!$Q1630)","v":0},{"$f":"VALUE(DINAMICA!$R1630)","v":0}]
[{"$f":"VALUE(DINAMICA!$A1631)","v":0},{"$f":"VALUE(DINAMICA!$B1631)","v":"00:00:00"},{"$f":"VALUE(DINAMICA!$C1631)","v":0},{"$f":"DINAMICA!D1631","v":0},{"$f":"DINAMICA!E1631","v":0},{"$f":"DINAMICA!F1631","v":0},{"$f":"DINAMICA!G1631","v":0},{"$f":"DINAMICA!H1631","v":0},{"$f":"DINAMICA!I1631","v":0},{"$f":"DINAMICA!J1631","v":0},{"$f":"DINAMICA!K1631","v":0},{"$f":"VALUE(DINAMICA!$L1631)","v":0},{"$f":"VALUE(DINAMICA!$M1631)","v":0},{"$f":"VALUE(DINAMICA!$N1631)","v":0},{"$f":"VALUE(DINAMICA!$O1631)","v":0},{"$f":"VALUE(DINAMICA!$P1631)","v":0},{"$f":"VALUE(DINAMICA!$Q1631)","v":0},{"$f":"VALUE(DINAMICA!$R1631)","v":0}]
[{"$f":"VALUE(DINAMICA!$A1632)","v":0},{"$f":"VALUE(DINAMICA!$B1632)","v":"00:00:00"},{"$f":"VALUE(DINAMICA!$C1632)","v":0},{"$f":"DINAMICA!D1632","v":0},{"$f":"DINAMICA!E1632","v":0},{"$f":"DINAMICA!F1632","v":0},{"$f":"DINAMICA!G1632","v":0},{"$f":"DINAMICA!H1632","v":0},{"$f":"DINAMICA!I1632","v":0},{"$f":"DINAMICA!J1632","v":0},{"$f":"DINAMICA!K1632","v":0},{"$f":"VALUE(DINAMICA!$L1632)","v":0},{"$f":"VALUE(DINAMICA!$M1632)","v":0},{"$f":"VALUE(DINAMICA!$N1632)","v":0},{"$f":"VALUE(DINAMICA!$O1632)","v":0},{"$f":"VALUE(DINAMICA!$P1632)","v":0},{"$f":"VALUE(DINAMICA!$Q1632)","v":0},{"$f":"VALUE(DINAMICA!$R1632)","v":0}]
[{"$f":"VALUE(DINAMICA!$A1633)","v":0},{"$f":"VALUE(DINAMICA!$B1633)","v":"00:00:00"},{"$f":"VALUE(DINAMICA!$C1633)","v":0},{"$f":"DINAMICA!D1633","v":0},{"$f":"DINAMICA!E1633","v":0},{"$f":"DINAMICA!F1633","v":0},{"$f":"DINAMICA!G1633","v":0},{"$f":"DINAMICA!H1633","v":0},{"$f":"DINAMICA!I1633","v":0},{"$f":"DINAMICA!J1633","v":0},{"$f":"DINAMICA!K1633","v":0},{"$f":"VALUE(DINAMICA!$L1633)","v":0},{"$f":"VALUE(DINAMICA!$M1633)","v":0},{"$f":"VALUE(DINAMICA!$N1633)","v":0},{"$f":"VALUE(DINAMICA!$O1633)","v":0},{"$f":"VALUE(DINAMICA!$P1633)","v":0},{"$f":"VALUE(DINAMICA!$Q1633)","v":0},{"$f":"VALUE(DINAMICA!$R1633)","v":0}]
[{"$f":"VALUE(DINAMICA!$A1634)","v":0},{"$f":"VALUE(DINAMICA!$B1634)","v":"00:00:00"},{"$f":"VALUE(DINAMICA!$C1634)","v":0},{"$f":"DINAMICA!D1634","v":0},{"$f":"DINAMICA!E1634","v":0},{"$f":"DINAMICA!F1634","v":0},{"$f":"DINAMICA!G1634","v":0},{"$f":"DINAMICA!H1634","v":0},{"$f":"DINAMICA!I1634","v":0},{"$f":"DINAMICA!J1634","v":0},{"$f":"DINAMICA!K1634","v":0},{"$f":"VALUE(DINAMICA!$L1634)","v":0},{"$f":"VALUE(DINAMICA!$M1634)","v":0},{"$f":"VALUE(DINAMICA!$N1634)","v":0},{"$f":"VALUE(DINAMICA!$O1634)","v":0},{"$f":"VALUE(DINAMICA!$P1634)","v":0},{"$f":"VALUE(DINAMICA!$Q1634)","v":0},{"$f":"VALUE(DINAMICA!$R1634)","v":0}]
[{"$f":"VALUE(DINAMICA!$A1635)","v":0},{"$f":"VALUE(DINAMICA!$B1635)","v":"00:00:00"},{"$f":"VALUE(DINAMICA!$C1635)","v":0},{"$f":"DINAMICA!D1635","v":0},{"$f":"DINAMICA!E1635","v":0},{"$f":"DINAMICA!F1635","v":0},{"$f":"DINAMICA!G1635","v":0},{"$f":"DINAMICA!H1635","v":0},{"$f":"DINAMICA!I1635","v":0},{"$f":"DINAMICA!J1635","v":0},{"$f":"DINAMICA!K1635","v":0},{"$f":"VALUE(DINAMICA!$L1635)","v":0},{"$f":"VALUE(DINAMICA!$M1635)","v":0},{"$f":"VALUE(DINAMICA!$N1635)","v":0},{"$f":"VALUE(DINAMICA!$O1635)","v":0},{"$f":"VALUE(DINAMICA!$P1635)","v":0},{"$f":"VALUE(DINAMICA!$Q1635)","v":0},{"$f":"VALUE(DINAMICA!$R1635)","v":0}]
[{"$f":"VALUE(DINAMICA!$A1636)","v":0},{"$f":"VALUE(DINAMICA!$B1636)","v":"00:00:00"},{"$f":"VALUE(DINAMICA!$C1636)","v":0},{"$f":"DINAMICA!D1636","v":0},{"$f":"DINAMICA!E1636","v":0},{"$f":"DINAMICA!F1636","v":0},{"$f":"DINAMICA!G1636","v":0},{"$f":"DINAMICA!H1636","v":0},{"$f":"DINAMICA!I1636","v":0},{"$f":"DINAMICA!J1636","v":0},{"$f":"DINAMICA!K1636","v":0},{"$f":"VALUE(DINAMICA!$L1636)","v":0},{"$f":"VALUE(DINAMICA!$M1636)","v":0},{"$f":"VALUE(DINAMICA!$N1636)","v":0},{"$f":"VALUE(DINAMICA!$O1636)","v":0},{"$f":"VALUE(DINAMICA!$P1636)","v":0},{"$f":"VALUE(DINAMICA!$Q1636)","v":0},{"$f":"VALUE(DINAMICA!$R1636)","v":0}]
[{"$f":"VALUE(DINAMICA!$A1637)","v":0},{"$f":"VALUE(DINAMICA!$B1637)","v":"00:00:00"},{"$f":"VALUE(DINAMICA!$C1637)","v":0},{"$f":"DINAMICA!D1637","v":0},{"$f":"DINAMICA!E1637","v":0},{"$f":"DINAMICA!F1637","v":0},{"$f":"DINAMICA!G1637","v":0},{"$f":"DINAMICA!H1637","v":0},{"$f":"DINAMICA!I1637","v":0},{"$f":"DINAMICA!J1637","v":0},{"$f":"DINAMICA!K1637","v":0},{"$f":"VALUE(DINAMICA!$L1637)","v":0},{"$f":"VALUE(DINAMICA!$M1637)","v":0},{"$f":"VALUE(DINAMICA!$N1637)","v":0},{"$f":"VALUE(DINAMICA!$O1637)","v":0},{"$f":"VALUE(DINAMICA!$P1637)","v":0},{"$f":"VALUE(DINAMICA!$Q1637)","v":0},{"$f":"VALUE(DINAMICA!$R1637)","v":0}]
[{"$f":"VALUE(DINAMICA!$A1638)","v":0},{"$f":"VALUE(DINAMICA!$B1638)","v":"00:00:00"},{"$f":"VALUE(DINAMICA!$C1638)","v":0},{"$f":"DINAMICA!D1638","v":0},{"$f":"DINAMICA!E1638","v":0},{"$f":"DINAMICA!F1638","v":0},{"$f":"DINAMICA!G1638","v":0},{"$f":"DINAMICA!H1638","v":0},{"$f":"DINAMICA!I1638","v":0},{"$f":"DINAMICA!J1638","v":0},{"$f":"DINAMICA!K1638","v":0},{"$f":"VALUE(DINAMICA!$L1638)","v":0},{"$f":"VALUE(DINAMICA!$M1638)","v":0},{"$f":"VALUE(DINAMICA!$N1638)","v":0},{"$f":"VALUE(DINAMICA!$O1638)","v":0},{"$f":"VALUE(DINAMICA!$P1638)","v":0},{"$f":"VALUE(DINAMICA!$Q1638)","v":0},{"$f":"VALUE(DINAMICA!$R1638)","v":0}]
[{"$f":"VALUE(DINAMICA!$A1639)","v":0},{"$f":"VALUE(DINAMICA!$B1639)","v":"00:00:00"},{"$f":"VALUE(DINAMICA!$C1639)","v":0},{"$f":"DINAMICA!D1639","v":0},{"$f":"DINAMICA!E1639","v":0},{"$f":"DINAMICA!F1639","v":0},{"$f":"DINAMICA!G1639","v":0},{"$f":"DINAMICA!H1639","v":0},{"$f":"DINAMICA!I1639","v":0},{"$f":"DINAMICA!J1639","v":0},{"$f":"DINAMICA!K1639","v":0},{"$f":"VALUE(DINAMICA!$L1639)","v":0},{"$f":"VALUE(DINAMICA!$M1639)","v":0},{"$f":"VALUE(DINAMICA!$N1639)","v":0},{"$f":"VALUE(DINAMICA!$O1639)","v":0},{"$f":"VALUE(DINAMICA!$P1639)","v":0},{"$f":"VALUE(DINAMICA!$Q1639)","v":0},{"$f":"VALUE(DINAMICA!$R1639)","v":0}]
[{"$f":"VALUE(DINAMICA!$A1640)","v":0},{"$f":"VALUE(DINAMICA!$B1640)","v":"00:00:00"},{"$f":"VALUE(DINAMICA!$C1640)","v":0},{"$f":"DINAMICA!D1640","v":0},{"$f":"DINAMICA!E1640","v":0},{"$f":"DINAMICA!F1640","v":0},{"$f":"DINAMICA!G1640","v":0},{"$f":"DINAMICA!H1640","v":0},{"$f":"DINAMICA!I1640","v":0},{"$f":"DINAMICA!J1640","v":0},{"$f":"DINAMICA!K1640","v":0},{"$f":"VALUE(DINAMICA!$L1640)","v":0},{"$f":"VALUE(DINAMICA!$M1640)","v":0},{"$f":"VALUE(DINAMICA!$N1640)","v":0},{"$f":"VALUE(DINAMICA!$O1640)","v":0},{"$f":"VALUE(DINAMICA!$P1640)","v":0},{"$f":"VALUE(DINAMICA!$Q1640)","v":0},{"$f":"VALUE(DINAMICA!$R1640)","v":0}]
[{"$f":"VALUE(DINAMICA!$A1641)","v":0},{"$f":"VALUE(DINAMICA!$B1641)","v":"00:00:00"},{"$f":"VALUE(DINAMICA!$C1641)","v":0},{"$f":"DINAMICA!D1641","v":0},{"$f":"DINAMICA!E1641","v":0},{"$f":"DINAMICA!F1641","v":0},{"$f":"DINAMICA!G1641","v":0},{"$f":"DINAMICA!H1641","v":0},{"$f":"DINAMICA!I1641","v":0},{"$f":"DINAMICA!J1641","v":0},{"$f":"DINAMICA!K1641","v":0},{"$f":"VALUE(DINAMICA!$L1641)","v":0},{"$f":"VALUE(DINAMICA!$M1641)","v":0},{"$f":"VALUE(DINAMICA!$N1641)","v":0},{"$f":"VALUE(DINAMICA!$O1641)","v":0},{"$f":"VALUE(DINAMICA!$P1641)","v":0},{"$f":"VALUE(DINAMICA!$Q1641)","v":0},{"$f":"VALUE(DINAMICA!$R1641)","v":0}]
[{"$f":"VALUE(DINAMICA!$A1642)","v":0},{"$f":"VALUE(DINAMICA!$B1642)","v":"00:00:00"},{"$f":"VALUE(DINAMICA!$C1642)","v":0},{"$f":"DINAMICA!D1642","v":0},{"$f":"DINAMICA!E1642","v":0},{"$f":"DINAMICA!F1642","v":0},{"$f":"DINAMICA!G1642","v":0},{"$f":"DINAMICA!H1642","v":0},{"$f":"DINAMICA!I1642","v":0},{"$f":"DINAMICA!J1642","v":0},{"$f":"DINAMICA!K1642","v":0},{"$f":"VALUE(DINAMICA!$L1642)","v":0},{"$f":"VALUE(DINAMICA!$M1642)","v":0},{"$f":"VALUE(DINAMICA!$N1642)","v":0},{"$f":"VALUE(DINAMICA!$O1642)","v":0},{"$f":"VALUE(DINAMICA!$P1642)","v":0},{"$f":"VALUE(DINAMICA!$Q1642)","v":0},{"$f":"VALUE(DINAMICA!$R1642)","v":0}]
[{"$f":"VALUE(DINAMICA!$A1643)","v":0},{"$f":"VALUE(DINAMICA!$B1643)","v":"00:00:00"},{"$f":"VALUE(DINAMICA!$C1643)","v":0},{"$f":"DINAMICA!D1643","v":0},{"$f":"DINAMICA!E1643","v":0},{"$f":"DINAMICA!F1643","v":0},{"$f":"DINAMICA!G1643","v":0},{"$f":"DINAMICA!H1643","v":0},{"$f":"DINAMICA!I1643","v":0},{"$f":"DINAMICA!J1643","v":0},{"$f":"DINAMICA!K1643","v":0},{"$f":"VALUE(DINAMICA!$L1643)","v":0},{"$f":"VALUE(DINAMICA!$M1643)","v":0},{"$f":"VALUE(DINAMICA!$N1643)","v":0},{"$f":"VALUE(DINAMICA!$O1643)","v":0},{"$f":"VALUE(DINAMICA!$P1643)","v":0},{"$f":"VALUE(DINAMICA!$Q1643)","v":0},{"$f":"VALUE(DINAMICA!$R1643)","v":0}]
[{"$f":"VALUE(DINAMICA!$A1644)","v":0},{"$f":"VALUE(DINAMICA!$B1644)","v":"00:00:00"},{"$f":"VALUE(DINAMICA!$C1644)","v":0},{"$f":"DINAMICA!D1644","v":0},{"$f":"DINAMICA!E1644","v":0},{"$f":"DINAMICA!F1644","v":0},{"$f":"DINAMICA!G1644","v":0},{"$f":"DINAMICA!H1644","v":0},{"$f":"DINAMICA!I1644","v":0},{"$f":"DINAMICA!J1644","v":0},{"$f":"DINAMICA!K1644","v":0},{"$f":"VALUE(DINAMICA!$L1644)","v":0},{"$f":"VALUE(DINAMICA!$M1644)","v":0},{"$f":"VALUE(DINAMICA!$N1644)","v":0},{"$f":"VALUE(DINAMICA!$O1644)","v":0},{"$f":"VALUE(DINAMICA!$P1644)","v":0},{"$f":"VALUE(DINAMICA!$Q1644)","v":0},{"$f":"VALUE(DINAMICA!$R1644)","v":0}]
[{"$f":"VALUE(DINAMICA!$A1645)","v":0},{"$f":"VALUE(DINAMICA!$B1645)","v":"00:00:00"},{"$f":"VALUE(DINAMICA!$C1645)","v":0},{"$f":"DINAMICA!D1645","v":0},{"$f":"DINAMICA!E1645","v":0},{"$f":"DINAMICA!F1645","v":0},{"$f":"DINAMICA!G1645","v":0},{"$f":"DINAMICA!H1645","v":0},{"$f":"DINAMICA!I1645","v":0},{"$f":"DINAMICA!J1645","v":0},{"$f":"DINAMICA!K1645","v":0},{"$f":"VALUE(DINAMICA!$L1645)","v":0},{"$f":"VALUE(DINAMICA!$M1645)","v":0},{"$f":"VALUE(DINAMICA!$N1645)","v":0},{"$f":"VALUE(DINAMICA!$O1645)","v":0},{"$f":"VALUE(DINAMICA!$P1645)","v":0},{"$f":"VALUE(DINAMICA!$Q1645)","v":0},{"$f":"VALUE(DINAMICA!$R1645)","v":0}]
[{"$f":"VALUE(DINAMICA!$A1646)","v":0},{"$f":"VALUE(DINAMICA!$B1646)","v":"00:00:00"},{"$f":"VALUE(DINAMICA!$C1646)","v":0},{"$f":"DINAMICA!D1646","v":0},{"$f":"DINAMICA!E1646","v":0},{"$f":"DINAMICA!F1646","v":0},{"$f":"DINAMICA!G1646","v":0},{"$f":"DINAMICA!H1646","v":0},{"$f":"DINAMICA!I1646","v":0},{"$f":"DINAMICA!J1646","v":0},{"$f":"DINAMICA!K1646","v":0},{"$f":"VALUE(DINAMICA!$L1646)","v":0},{"$f":"VALUE(DINAMICA!$M1646)","v":0},{"$f":"VALUE(DINAMICA!$N1646)","v":0},{"$f":"VALUE(DINAMICA!$O1646)","v":0},{"$f":"VALUE(DINAMICA!$P1646)","v":0},{"$f":"VALUE(DINAMICA!$Q1646)","v":0},{"$f":"VALUE(DINAMICA!$R1646)","v":0}]
[{"$f":"VALUE(DINAMICA!$A1647)","v":0},{"$f":"VALUE(DINAMICA!$B1647)","v":"00:00:00"},{"$f":"VALUE(DINAMICA!$C1647)","v":0},{"$f":"DINAMICA!D1647","v":0},{"$f":"DINAMICA!E1647","v":0},{"$f":"DINAMICA!F1647","v":0},{"$f":"DINAMICA!G1647","v":0},{"$f":"DINAMICA!H1647","v":0},{"$f":"DINAMICA!I1647","v":0},{"$f":"DINAMICA!J1647","v":0},{"$f":"DINAMICA!K1647","v":0},{"$f":"VALUE(DINAMICA!$L1647)","v":0},{"$f":"VALUE(DINAMICA!$M1647)","v":0},{"$f":"VALUE(DINAMICA!$N1647)","v":0},{"$f":"VALUE(DINAMICA!$O1647)","v":0},{"$f":"VALUE(DINAMICA!$P1647)","v":0},{"$f":"VALUE(DINAMICA!$Q1647)","v":0},{"$f":"VALUE(DINAMICA!$R1647)","v":0}]
[{"$f":"VALUE(DINAMICA!$A1648)","v":0},{"$f":"VALUE(DINAMICA!$B1648)","v":"00:00:00"},{"$f":"VALUE(DINAMICA!$C1648)","v":0},{"$f":"DINAMICA!D1648","v":0},{"$f":"DINAMICA!E1648","v":0},{"$f":"DINAMICA!F1648","v":0},{"$f":"DINAMICA!G1648","v":0},{"$f":"DINAMICA!H1648","v":0},{"$f":"DINAMICA!I1648","v":0},{"$f":"DINAMICA!J1648","v":0},{"$f":"DINAMICA!K1648","v":0},{"$f":"VALUE(DINAMICA!$L1648)","v":0},{"$f":"VALUE(DINAMICA!$M1648)","v":0},{"$f":"VALUE(DINAMICA!$N1648)","v":0},{"$f":"VALUE(DINAMICA!$O1648)","v":0},{"$f":"VALUE(DINAMICA!$P1648)","v":0},{"$f":"VALUE(DINAMICA!$Q1648)","v":0},{"$f":"VALUE(DINAMICA!$R1648)","v":0}]
[{"$f":"VALUE(DINAMICA!$A1649)","v":0},{"$f":"VALUE(DINAMICA!$B1649)","v":"00:00:00"},{"$f":"VALUE(DINAMICA!$C1649)","v":0},{"$f":"DINAMICA!D1649","v":0},{"$f":"DINAMICA!E1649","v":0},{"$f":"DINAMICA!F1649","v":0},{"$f":"DINAMICA!G1649","v":0},{"$f":"DINAMICA!H1649","v":0},{"$f":"DINAMICA!I1649","v":0},{"$f":"DINAMICA!J1649","v":0},{"$f":"DINAMICA!K1649","v":0},{"$f":"VALUE(DINAMICA!$L1649)","v":0},{"$f":"VALUE(DINAMICA!$M1649)","v":0},{"$f":"VALUE(DINAMICA!$N1649)","v":0},{"$f":"VALUE(DINAMICA!$O1649)","v":0},{"$f":"VALUE(DINAMICA!$P1649)","v":0},{"$f":"VALUE(DINAMICA!$Q1649)","v":0},{"$f":"VALUE(DINAMICA!$R1649)","v":0}]
[{"$f":"VALUE(DINAMICA!$A1650)","v":0},{"$f":"VALUE(DINAMICA!$B1650)","v":"00:00:00"},{"$f":"VALUE(DINAMICA!$C1650)","v":0},{"$f":"DINAMICA!D1650","v":0},{"$f":"DINAMICA!E1650","v":0},{"$f":"DINAMICA!F1650","v":0},{"$f":"DINAMICA!G1650","v":0},{"$f":"DINAMICA!H1650","v":0},{"$f":"DINAMICA!I1650","v":0},{"$f":"DINAMICA!J1650","v":0},{"$f":"DINAMICA!K1650","v":0},{"$f":"VALUE(DINAMICA!$L1650)","v":0},{"$f":"VALUE(DINAMICA!$M1650)","v":0},{"$f":"VALUE(DINAMICA!$N1650)","v":0},{"$f":"VALUE(DINAMICA!$O1650)","v":0},{"$f":"VALUE(DINAMICA!$P1650)","v":0},{"$f":"VALUE(DINAMICA!$Q1650)","v":0},{"$f":"VALUE(DINAMICA!$R1650)","v":0}]
[{"$f":"VALUE(DINAMICA!$A1651)","v":0},{"$f":"VALUE(DINAMICA!$B1651)","v":"00:00:00"},{"$f":"VALUE(DINAMICA!$C1651)","v":0},{"$f":"DINAMICA!D1651","v":0},{"$f":"DINAMICA!E1651","v":0},{"$f":"DINAMICA!F1651","v":0},{"$f":"DINAMICA!G1651","v":0},{"$f":"DINAMICA!H1651","v":0},{"$f":"DINAMICA!I1651","v":0},{"$f":"DINAMICA!J1651","v":0},{"$f":"DINAMICA!K1651","v":0},{"$f":"VALUE(DINAMICA!$L1651)","v":0},{"$f":"VALUE(DINAMICA!$M1651)","v":0},{"$f":"VALUE(DINAMICA!$N1651)","v":0},{"$f":"VALUE(DINAMICA!$O1651)","v":0},{"$f":"VALUE(DINAMICA!$P1651)","v":0},{"$f":"VALUE(DINAMICA!$Q1651)","v":0},{"$f":"VALUE(DINAMICA!$R1651)","v":0}]
[{"$f":"VALUE(DINAMICA!$A1652)","v":0},{"$f":"VALUE(DINAMICA!$B1652)","v":"00:00:00"},{"$f":"VALUE(DINAMICA!$C1652)","v":0},{"$f":"DINAMICA!D1652","v":0},{"$f":"DINAMICA!E1652","v":0},{"$f":"DINAMICA!F1652","v":0},{"$f":"DINAMICA!G1652","v":0},{"$f":"DINAMICA!H1652","v":0},{"$f":"DINAMICA!I1652","v":0},{"$f":"DINAMICA!J1652","v":0},{"$f":"DINAMICA!K1652","v":0},{"$f":"VALUE(DINAMICA!$L1652)","v":0},{"$f":"VALUE(DINAMICA!$M1652)","v":0},{"$f":"VALUE(DINAMICA!$N1652)","v":0},{"$f":"VALUE(DINAMICA!$O1652)","v":0},{"$f":"VALUE(DINAMICA!$P1652)","v":0},{"$f":"VALUE(DINAMICA!$Q1652)","v":0},{"$f":"VALUE(DINAMICA!$R1652)","v":0}]
[{"$f":"VALUE(DINAMICA!$A1653)","v":0},{"$f":"VALUE(DINAMICA!$B1653)","v":"00:00:00"},{"$f":"VALUE(DINAMICA!$C1653)","v":0},{"$f":"DINAMICA!D1653","v":0},{"$f":"DINAMICA!E1653","v":0},{"$f":"DINAMICA!F1653","v":0},{"$f":"DINAMICA!G1653","v":0},{"$f":"DINAMICA!H1653","v":0},{"$f":"DINAMICA!I1653","v":0},{"$f":"DINAMICA!J1653","v":0},{"$f":"DINAMICA!K1653","v":0},{"$f":"VALUE(DINAMICA!$L1653)","v":0},{"$f":"VALUE(DINAMICA!$M1653)","v":0},{"$f":"VALUE(DINAMICA!$N1653)","v":0},{"$f":"VALUE(DINAMICA!$O1653)","v":0},{"$f":"VALUE(DINAMICA!$P1653)","v":0},{"$f":"VALUE(DINAMICA!$Q1653)","v":0},{"$f":"VALUE(DINAMICA!$R1653)","v":0}]
[{"$f":"VALUE(DINAMICA!$A1654)","v":0},{"$f":"VALUE(DINAMICA!$B1654)","v":"00:00:00"},{"$f":"VALUE(DINAMICA!$C1654)","v":0},{"$f":"DINAMICA!D1654","v":0},{"$f":"DINAMICA!E1654","v":0},{"$f":"DINAMICA!F1654","v":0},{"$f":"DINAMICA!G1654","v":0},{"$f":"DINAMICA!H1654","v":0},{"$f":"DINAMICA!I1654","v":0},{"$f":"DINAMICA!J1654","v":0},{"$f":"DINAMICA!K1654","v":0},{"$f":"VALUE(DINAMICA!$L1654)","v":0},{"$f":"VALUE(DINAMICA!$M1654)","v":0},{"$f":"VALUE(DINAMICA!$N1654)","v":0},{"$f":"VALUE(DINAMICA!$O1654)","v":0},{"$f":"VALUE(DINAMICA!$P1654)","v":0},{"$f":"VALUE(DINAMICA!$Q1654)","v":0},{"$f":"VALUE(DINAMICA!$R1654)","v":0}]
[{"$f":"VALUE(DINAMICA!$A1655)","v":0},{"$f":"VALUE(DINAMICA!$B1655)","v":"00:00:00"},{"$f":"VALUE(DINAMICA!$C1655)","v":0},{"$f":"DINAMICA!D1655","v":0},{"$f":"DINAMICA!E1655","v":0},{"$f":"DINAMICA!F1655","v":0},{"$f":"DINAMICA!G1655","v":0},{"$f":"DINAMICA!H1655","v":0},{"$f":"DINAMICA!I1655","v":0},{"$f":"DINAMICA!J1655","v":0},{"$f":"DINAMICA!K1655","v":0},{"$f":"VALUE(DINAMICA!$L1655)","v":0},{"$f":"VALUE(DINAMICA!$M1655)","v":0},{"$f":"VALUE(DINAMICA!$N1655)","v":0},{"$f":"VALUE(DINAMICA!$O1655)","v":0},{"$f":"VALUE(DINAMICA!$P1655)","v":0},{"$f":"VALUE(DINAMICA!$Q1655)","v":0},{"$f":"VALUE(DINAMICA!$R1655)","v":0}]
[{"$f":"VALUE(DINAMICA!$A1656)","v":0},{"$f":"VALUE(DINAMICA!$B1656)","v":"00:00:00"},{"$f":"VALUE(DINAMICA!$C1656)","v":0},{"$f":"DINAMICA!D1656","v":0},{"$f":"DINAMICA!E1656","v":0},{"$f":"DINAMICA!F1656","v":0},{"$f":"DINAMICA!G1656","v":0},{"$f":"DINAMICA!H1656","v":0},{"$f":"DINAMICA!I1656","v":0},{"$f":"DINAMICA!J1656","v":0},{"$f":"DINAMICA!K1656","v":0},{"$f":"VALUE(DINAMICA!$L1656)","v":0},{"$f":"VALUE(DINAMICA!$M1656)","v":0},{"$f":"VALUE(DINAMICA!$N1656)","v":0},{"$f":"VALUE(DINAMICA!$O1656)","v":0},{"$f":"VALUE(DINAMICA!$P1656)","v":0},{"$f":"VALUE(DINAMICA!$Q1656)","v":0},{"$f":"VALUE(DINAMICA!$R1656)","v":0}]
[{"$f":"VALUE(DINAMICA!$A1657)","v":0},{"$f":"VALUE(DINAMICA!$B1657)","v":"00:00:00"},{"$f":"VALUE(DINAMICA!$C1657)","v":0},{"$f":"DINAMICA!D1657","v":0},{"$f":"DINAMICA!E1657","v":0},{"$f":"DINAMICA!F1657","v":0},{"$f":"DINAMICA!G1657","v":0},{"$f":"DINAMICA!H1657","v":0},{"$f":"DINAMICA!I1657","v":0},{"$f":"DINAMICA!J1657","v":0},{"$f":"DINAMICA!K1657","v":0},{"$f":"VALUE(DINAMICA!$L1657)","v":0},{"$f":"VALUE(DINAMICA!$M1657)","v":0},{"$f":"VALUE(DINAMICA!$N1657)","v":0},{"$f":"VALUE(DINAMICA!$O1657)","v":0},{"$f":"VALUE(DINAMICA!$P1657)","v":0},{"$f":"VALUE(DINAMICA!$Q1657)","v":0},{"$f":"VALUE(DINAMICA!$R1657)","v":0}]
[{"$f":"VALUE(DINAMICA!$A1658)","v":0},{"$f":"VALUE(DINAMICA!$B1658)","v":"00:00:00"},{"$f":"VALUE(DINAMICA!$C1658)","v":0},{"$f":"DINAMICA!D1658","v":0},{"$f":"DINAMICA!E1658","v":0},{"$f":"DINAMICA!F1658","v":0},{"$f":"DINAMICA!G1658","v":0},{"$f":"DINAMICA!H1658","v":0},{"$f":"DINAMICA!I1658","v":0},{"$f":"DINAMICA!J1658","v":0},{"$f":"DINAMICA!K1658","v":0},{"$f":"VALUE(DINAMICA!$L1658)","v":0},{"$f":"VALUE(DINAMICA!$M1658)","v":0},{"$f":"VALUE(DINAMICA!$N1658)","v":0},{"$f":"VALUE(DINAMICA!$O1658)","v":0},{"$f":"VALUE(DINAMICA!$P1658)","v":0},{"$f":"VALUE(DINAMICA!$Q1658)","v":0},{"$f":"VALUE(DINAMICA!$R1658)","v":0}]
[{"$f":"VALUE(DINAMICA!$A1659)","v":0},{"$f":"VALUE(DINAMICA!$B1659)","v":"00:00:00"},{"$f":"VALUE(DINAMICA!$C1659)","v":0},{"$f":"DINAMICA!D1659","v":0},{"$f":"DINAMICA!E1659","v":0},{"$f":"DINAMICA!F1659","v":0},{"$f":"DINAMICA!G1659","v":0},{"$f":"DINAMICA!H1659","v":0},{"$f":"DINAMICA!I1659","v":0},{"$f":"DINAMICA!J1659","v":0},{"$f":"DINAMICA!K1659","v":0},{"$f":"VALUE(DINAMICA!$L1659)","v":0},{"$f":"VALUE(DINAMICA!$M1659)","v":0},{"$f":"VALUE(DINAMICA!$N1659)","v":0},{"$f":"VALUE(DINAMICA!$O1659)","v":0},{"$f":"VALUE(DINAMICA!$P1659)","v":0},{"$f":"VALUE(DINAMICA!$Q1659)","v":0},{"$f":"VALUE(DINAMICA!$R1659)","v":0}]
[{"$f":"VALUE(DINAMICA!$A1660)","v":0},{"$f":"VALUE(DINAMICA!$B1660)","v":"00:00:00"},{"$f":"VALUE(DINAMICA!$C1660)","v":0},{"$f":"DINAMICA!D1660","v":0},{"$f":"DINAMICA!E1660","v":0},{"$f":"DINAMICA!F1660","v":0},{"$f":"DINAMICA!G1660","v":0},{"$f":"DINAMICA!H1660","v":0},{"$f":"DINAMICA!I1660","v":0},{"$f":"DINAMICA!J1660","v":0},{"$f":"DINAMICA!K1660","v":0},{"$f":"VALUE(DINAMICA!$L1660)","v":0},{"$f":"VALUE(DINAMICA!$M1660)","v":0},{"$f":"VALUE(DINAMICA!$N1660)","v":0},{"$f":"VALUE(DINAMICA!$O1660)","v":0},{"$f":"VALUE(DINAMICA!$P1660)","v":0},{"$f":"VALUE(DINAMICA!$Q1660)","v":0},{"$f":"VALUE(DINAMICA!$R1660)","v":0}]
[{"$f":"VALUE(DINAMICA!$A1661)","v":0},{"$f":"VALUE(DINAMICA!$B1661)","v":"00:00:00"},{"$f":"VALUE(DINAMICA!$C1661)","v":0},{"$f":"DINAMICA!D1661","v":0},{"$f":"DINAMICA!E1661","v":0},{"$f":"DINAMICA!F1661","v":0},{"$f":"DINAMICA!G1661","v":0},{"$f":"DINAMICA!H1661","v":0},{"$f":"DINAMICA!I1661","v":0},{"$f":"DINAMICA!J1661","v":0},{"$f":"DINAMICA!K1661","v":0},{"$f":"VALUE(DINAMICA!$L1661)","v":0},{"$f":"VALUE(DINAMICA!$M1661)","v":0},{"$f":"VALUE(DINAMICA!$N1661)","v":0},{"$f":"VALUE(DINAMICA!$O1661)","v":0},{"$f":"VALUE(DINAMICA!$P1661)","v":0},{"$f":"VALUE(DINAMICA!$Q1661)","v":0},{"$f":"VALUE(DINAMICA!$R1661)","v":0}]
[{"$f":"VALUE(DINAMICA!$A1662)","v":0},{"$f":"VALUE(DINAMICA!$B1662)","v":"00:00:00"},{"$f":"VALUE(DINAMICA!$C1662)","v":0},{"$f":"DINAMICA!D1662","v":0},{"$f":"DINAMICA!E1662","v":0},{"$f":"DINAMICA!F1662","v":0},{"$f":"DINAMICA!G1662","v":0},{"$f":"DINAMICA!H1662","v":0},{"$f":"DINAMICA!I1662","v":0},{"$f":"DINAMICA!J1662","v":0},{"$f":"DINAMICA!K1662","v":0},{"$f":"VALUE(DINAMICA!$L1662)","v":0},{"$f":"VALUE(DINAMICA!$M1662)","v":0},{"$f":"VALUE(DINAMICA!$N1662)","v":0},{"$f":"VALUE(DINAMICA!$O1662)","v":0},{"$f":"VALUE(DINAMICA!$P1662)","v":0},{"$f":"VALUE(DINAMICA!$Q1662)","v":0},{"$f":"VALUE(DINAMICA!$R1662)","v":0}]
[{"$f":"VALUE(DINAMICA!$A1663)","v":0},{"$f":"VALUE(DINAMICA!$B1663)","v":"00:00:00"},{"$f":"VALUE(DINAMICA!$C1663)","v":0},{"$f":"DINAMICA!D1663","v":0},{"$f":"DINAMICA!E1663","v":0},{"$f":"DINAMICA!F1663","v":0},{"$f":"DINAMICA!G1663","v":0},{"$f":"DINAMICA!H1663","v":0},{"$f":"DINAMICA!I1663","v":0},{"$f":"DINAMICA!J1663","v":0},{"$f":"DINAMICA!K1663","v":0},{"$f":"VALUE(DINAMICA!$L1663)","v":0},{"$f":"VALUE(DINAMICA!$M1663)","v":0},{"$f":"VALUE(DINAMICA!$N1663)","v":0},{"$f":"VALUE(DINAMICA!$O1663)","v":0},{"$f":"VALUE(DINAMICA!$P1663)","v":0},{"$f":"VALUE(DINAMICA!$Q1663)","v":0},{"$f":"VALUE(DINAMICA!$R1663)","v":0}]
[{"$f":"VALUE(DINAMICA!$A1664)","v":0},{"$f":"VALUE(DINAMICA!$B1664)","v":"00:00:00"},{"$f":"VALUE(DINAMICA!$C1664)","v":0},{"$f":"DINAMICA!D1664","v":0},{"$f":"DINAMICA!E1664","v":0},{"$f":"DINAMICA!F1664","v":0},{"$f":"DINAMICA!G1664","v":0},{"$f":"DINAMICA!H1664","v":0},{"$f":"DINAMICA!I1664","v":0},{"$f":"DINAMICA!J1664","v":0},{"$f":"DINAMICA!K1664","v":0},{"$f":"VALUE(DINAMICA!$L1664)","v":0},{"$f":"VALUE(DINAMICA!$M1664)","v":0},{"$f":"VALUE(DINAMICA!$N1664)","v":0},{"$f":"VALUE(DINAMICA!$O1664)","v":0},{"$f":"VALUE(DINAMICA!$P1664)","v":0},{"$f":"VALUE(DINAMICA!$Q1664)","v":0},{"$f":"VALUE(DINAMICA!$R1664)","v":0}]
[{"$f":"VALUE(DINAMICA!$A1665)","v":0},{"$f":"VALUE(DINAMICA!$B1665)","v":"00:00:00"},{"$f":"VALUE(DINAMICA!$C1665)","v":0},{"$f":"DINAMICA!D1665","v":0},{"$f":"DINAMICA!E1665","v":0},{"$f":"DINAMICA!F1665","v":0},{"$f":"DINAMICA!G1665","v":0},{"$f":"DINAMICA!H1665","v":0},{"$f":"DINAMICA!I1665","v":0},{"$f":"DINAMICA!J1665","v":0},{"$f":"DINAMICA!K1665","v":0},{"$f":"VALUE(DINAMICA!$L1665)","v":0},{"$f":"VALUE(DINAMICA!$M1665)","v":0},{"$f":"VALUE(DINAMICA!$N1665)","v":0},{"$f":"VALUE(DINAMICA!$O1665)","v":0},{"$f":"VALUE(DINAMICA!$P1665)","v":0},{"$f":"VALUE(DINAMICA!$Q1665)","v":0},{"$f":"VALUE(DINAMICA!$R1665)","v":0}]
[{"$f":"VALUE(DINAMICA!$A1666)","v":0},{"$f":"VALUE(DINAMICA!$B1666)","v":"00:00:00"},{"$f":"VALUE(DINAMICA!$C1666)","v":0},{"$f":"DINAMICA!D1666","v":0},{"$f":"DINAMICA!E1666","v":0},{"$f":"DINAMICA!F1666","v":0},{"$f":"DINAMICA!G1666","v":0},{"$f":"DINAMICA!H1666","v":0},{"$f":"DINAMICA!I1666","v":0},{"$f":"DINAMICA!J1666","v":0},{"$f":"DINAMICA!K1666","v":0},{"$f":"VALUE(DINAMICA!$L1666)","v":0},{"$f":"VALUE(DINAMICA!$M1666)","v":0},{"$f":"VALUE(DINAMICA!$N1666)","v":0},{"$f":"VALUE(DINAMICA!$O1666)","v":0},{"$f":"VALUE(DINAMICA!$P1666)","v":0},{"$f":"VALUE(DINAMICA!$Q1666)","v":0},{"$f":"VALUE(DINAMICA!$R1666)","v":0}]
[{"$f":"VALUE(DINAMICA!$A1667)","v":0},{"$f":"VALUE(DINAMICA!$B1667)","v":"00:00:00"},{"$f":"VALUE(DINAMICA!$C1667)","v":0},{"$f":"DINAMICA!D1667","v":0},{"$f":"DINAMICA!E1667","v":0},{"$f":"DINAMICA!F1667","v":0},{"$f":"DINAMICA!G1667","v":0},{"$f":"DINAMICA!H1667","v":0},{"$f":"DINAMICA!I1667","v":0},{"$f":"DINAMICA!J1667","v":0},{"$f":"DINAMICA!K1667","v":0},{"$f":"VALUE(DINAMICA!$L1667)","v":0},{"$f":"VALUE(DINAMICA!$M1667)","v":0},{"$f":"VALUE(DINAMICA!$N1667)","v":0},{"$f":"VALUE(DINAMICA!$O1667)","v":0},{"$f":"VALUE(DINAMICA!$P1667)","v":0},{"$f":"VALUE(DINAMICA!$Q1667)","v":0},{"$f":"VALUE(DINAMICA!$R1667)","v":0}]
[{"$f":"VALUE(DINAMICA!$A1668)","v":0},{"$f":"VALUE(DINAMICA!$B1668)","v":"00:00:00"},{"$f":"VALUE(DINAMICA!$C1668)","v":0},{"$f":"DINAMICA!D1668","v":0},{"$f":"DINAMICA!E1668","v":0},{"$f":"DINAMICA!F1668","v":0},{"$f":"DINAMICA!G1668","v":0},{"$f":"DINAMICA!H1668","v":0},{"$f":"DINAMICA!I1668","v":0},{"$f":"DINAMICA!J1668","v":0},{"$f":"DINAMICA!K1668","v":0},{"$f":"VALUE(DINAMICA!$L1668)","v":0},{"$f":"VALUE(DINAMICA!$M1668)","v":0},{"$f":"VALUE(DINAMICA!$N1668)","v":0},{"$f":"VALUE(DINAMICA!$O1668)","v":0},{"$f":"VALUE(DINAMICA!$P1668)","v":0},{"$f":"VALUE(DINAMICA!$Q1668)","v":0},{"$f":"VALUE(DINAMICA!$R1668)","v":0}]
[{"$f":"VALUE(DINAMICA!$A1669)","v":0},{"$f":"VALUE(DINAMICA!$B1669)","v":"00:00:00"},{"$f":"VALUE(DINAMICA!$C1669)","v":0},{"$f":"DINAMICA!D1669","v":0},{"$f":"DINAMICA!E1669","v":0},{"$f":"DINAMICA!F1669","v":0},{"$f":"DINAMICA!G1669","v":0},{"$f":"DINAMICA!H1669","v":0},{"$f":"DINAMICA!I1669","v":0},{"$f":"DINAMICA!J1669","v":0},{"$f":"DINAMICA!K1669","v":0},{"$f":"VALUE(DINAMICA!$L1669)","v":0},{"$f":"VALUE(DINAMICA!$M1669)","v":0},{"$f":"VALUE(DINAMICA!$N1669)","v":0},{"$f":"VALUE(DINAMICA!$O1669)","v":0},{"$f":"VALUE(DINAMICA!$P1669)","v":0},{"$f":"VALUE(DINAMICA!$Q1669)","v":0},{"$f":"VALUE(DINAMICA!$R1669)","v":0}]
[{"$f":"VALUE(DINAMICA!$A1670)","v":0},{"$f":"VALUE(DINAMICA!$B1670)","v":"00:00:00"},{"$f":"VALUE(DINAMICA!$C1670)","v":0},{"$f":"DINAMICA!D1670","v":0},{"$f":"DINAMICA!E1670","v":0},{"$f":"DINAMICA!F1670","v":0},{"$f":"DINAMICA!G1670","v":0},{"$f":"DINAMICA!H1670","v":0},{"$f":"DINAMICA!I1670","v":0},{"$f":"DINAMICA!J1670","v":0},{"$f":"DINAMICA!K1670","v":0},{"$f":"VALUE(DINAMICA!$L1670)","v":0},{"$f":"VALUE(DINAMICA!$M1670)","v":0},{"$f":"VALUE(DINAMICA!$N1670)","v":0},{"$f":"VALUE(DINAMICA!$O1670)","v":0},{"$f":"VALUE(DINAMICA!$P1670)","v":0},{"$f":"VALUE(DINAMICA!$Q1670)","v":0},{"$f":"VALUE(DINAMICA!$R1670)","v":0}]
[{"$f":"VALUE(DINAMICA!$A1671)","v":0},{"$f":"VALUE(DINAMICA!$B1671)","v":"00:00:00"},{"$f":"VALUE(DINAMICA!$C1671)","v":0},{"$f":"DINAMICA!D1671","v":0},{"$f":"DINAMICA!E1671","v":0},{"$f":"DINAMICA!F1671","v":0},{"$f":"DINAMICA!G1671","v":0},{"$f":"DINAMICA!H1671","v":0},{"$f":"DINAMICA!I1671","v":0},{"$f":"DINAMICA!J1671","v":0},{"$f":"DINAMICA!K1671","v":0},{"$f":"VALUE(DINAMICA!$L1671)","v":0},{"$f":"VALUE(DINAMICA!$M1671)","v":0},{"$f":"VALUE(DINAMICA!$N1671)","v":0},{"$f":"VALUE(DINAMICA!$O1671)","v":0},{"$f":"VALUE(DINAMICA!$P1671)","v":0},{"$f":"VALUE(DINAMICA!$Q1671)","v":0},{"$f":"VALUE(DINAMICA!$R1671)","v":0}]
[{"$f":"VALUE(DINAMICA!$A1672)","v":0},{"$f":"VALUE(DINAMICA!$B1672)","v":"00:00:00"},{"$f":"VALUE(DINAMICA!$C1672)","v":0},{"$f":"DINAMICA!D1672","v":0},{"$f":"DINAMICA!E1672","v":0},{"$f":"DINAMICA!F1672","v":0},{"$f":"DINAMICA!G1672","v":0},{"$f":"DINAMICA!H1672","v":0},{"$f":"DINAMICA!I1672","v":0},{"$f":"DINAMICA!J1672","v":0},{"$f":"DINAMICA!K1672","v":0},{"$f":"VALUE(DINAMICA!$L1672)","v":0},{"$f":"VALUE(DINAMICA!$M1672)","v":0},{"$f":"VALUE(DINAMICA!$N1672)","v":0},{"$f":"VALUE(DINAMICA!$O1672)","v":0},{"$f":"VALUE(DINAMICA!$P1672)","v":0},{"$f":"VALUE(DINAMICA!$Q1672)","v":0},{"$f":"VALUE(DINAMICA!$R1672)","v":0}]
[{"$f":"VALUE(DINAMICA!$A1673)","v":0},{"$f":"VALUE(DINAMICA!$B1673)","v":"00:00:00"},{"$f":"VALUE(DINAMICA!$C1673)","v":0},{"$f":"DINAMICA!D1673","v":0},{"$f":"DINAMICA!E1673","v":0},{"$f":"DINAMICA!F1673","v":0},{"$f":"DINAMICA!G1673","v":0},{"$f":"DINAMICA!H1673","v":0},{"$f":"DINAMICA!I1673","v":0},{"$f":"DINAMICA!J1673","v":0},{"$f":"DINAMICA!K1673","v":0},{"$f":"VALUE(DINAMICA!$L1673)","v":0},{"$f":"VALUE(DINAMICA!$M1673)","v":0},{"$f":"VALUE(DINAMICA!$N1673)","v":0},{"$f":"VALUE(DINAMICA!$O1673)","v":0},{"$f":"VALUE(DINAMICA!$P1673)","v":0},{"$f":"VALUE(DINAMICA!$Q1673)","v":0},{"$f":"VALUE(DINAMICA!$R1673)","v":0}]
[{"$f":"VALUE(DINAMICA!$A1674)","v":0},{"$f":"VALUE(DINAMICA!$B1674)","v":"00:00:00"},{"$f":"VALUE(DINAMICA!$C1674)","v":0},{"$f":"DINAMICA!D1674","v":0},{"$f":"DINAMICA!E1674","v":0},{"$f":"DINAMICA!F1674","v":0},{"$f":"DINAMICA!G1674","v":0},{"$f":"DINAMICA!H1674","v":0},{"$f":"DINAMICA!I1674","v":0},{"$f":"DINAMICA!J1674","v":0},{"$f":"DINAMICA!K1674","v":0},{"$f":"VALUE(DINAMICA!$L1674)","v":0},{"$f":"VALUE(DINAMICA!$M1674)","v":0},{"$f":"VALUE(DINAMICA!$N1674)","v":0},{"$f":"VALUE(DINAMICA!$O1674)","v":0},{"$f":"VALUE(DINAMICA!$P1674)","v":0},{"$f":"VALUE(DINAMICA!$Q1674)","v":0},{"$f":"VALUE(DINAMICA!$R1674)","v":0}]
[{"$f":"VALUE(DINAMICA!$A1675)","v":0},{"$f":"VALUE(DINAMICA!$B1675)","v":"00:00:00"},{"$f":"VALUE(DINAMICA!$C1675)","v":0},{"$f":"DINAMICA!D1675","v":0},{"$f":"DINAMICA!E1675","v":0},{"$f":"DINAMICA!F1675","v":0},{"$f":"DINAMICA!G1675","v":0},{"$f":"DINAMICA!H1675","v":0},{"$f":"DINAMICA!I1675","v":0},{"$f":"DINAMICA!J1675","v":0},{"$f":"DINAMICA!K1675","v":0},{"$f":"VALUE(DINAMICA!$L1675)","v":0},{"$f":"VALUE(DINAMICA!$M1675)","v":0},{"$f":"VALUE(DINAMICA!$N1675)","v":0},{"$f":"VALUE(DINAMICA!$O1675)","v":0},{"$f":"VALUE(DINAMICA!$P1675)","v":0},{"$f":"VALUE(DINAMICA!$Q1675)","v":0},{"$f":"VALUE(DINAMICA!$R1675)","v":0}]
[{"$f":"VALUE(DINAMICA!$A1676)","v":0},{"$f":"VALUE(DINAMICA!$B1676)","v":"00:00:00"},{"$f":"VALUE(DINAMICA!$C1676)","v":0},{"$f":"DINAMICA!D1676","v":0},{"$f":"DINAMICA!E1676","v":0},{"$f":"DINAMICA!F1676","v":0},{"$f":"DINAMICA!G1676","v":0},{"$f":"DINAMICA!H1676","v":0},{"$f":"DINAMICA!I1676","v":0},{"$f":"DINAMICA!J1676","v":0},{"$f":"DINAMICA!K1676","v":0},{"$f":"VALUE(DINAMICA!$L1676)","v":0},{"$f":"VALUE(DINAMICA!$M1676)","v":0},{"$f":"VALUE(DINAMICA!$N1676)","v":0},{"$f":"VALUE(DINAMICA!$O1676)","v":0},{"$f":"VALUE(DINAMICA!$P1676)","v":0},{"$f":"VALUE(DINAMICA!$Q1676)","v":0},{"$f":"VALUE(DINAMICA!$R1676)","v":0}]
[{"$f":"VALUE(DINAMICA!$A1677)","v":0},{"$f":"VALUE(DINAMICA!$B1677)","v":"00:00:00"},{"$f":"VALUE(DINAMICA!$C1677)","v":0},{"$f":"DINAMICA!D1677","v":0},{"$f":"DINAMICA!E1677","v":0},{"$f":"DINAMICA!F1677","v":0},{"$f":"DINAMICA!G1677","v":0},{"$f":"DINAMICA!H1677","v":0},{"$f":"DINAMICA!I1677","v":0},{"$f":"DINAMICA!J1677","v":0},{"$f":"DINAMICA!K1677","v":0},{"$f":"VALUE(DINAMICA!$L1677)","v":0},{"$f":"VALUE(DINAMICA!$M1677)","v":0},{"$f":"VALUE(DINAMICA!$N1677)","v":0},{"$f":"VALUE(DINAMICA!$O1677)","v":0},{"$f":"VALUE(DINAMICA!$P1677)","v":0},{"$f":"VALUE(DINAMICA!$Q1677)","v":0},{"$f":"VALUE(DINAMICA!$R1677)","v":0}]
[{"$f":"VALUE(DINAMICA!$A1678)","v":0},{"$f":"VALUE(DINAMICA!$B1678)","v":"00:00:00"},{"$f":"VALUE(DINAMICA!$C1678)","v":0},{"$f":"DINAMICA!D1678","v":0},{"$f":"DINAMICA!E1678","v":0},{"$f":"DINAMICA!F1678","v":0},{"$f":"DINAMICA!G1678","v":0},{"$f":"DINAMICA!H1678","v":0},{"$f":"DINAMICA!I1678","v":0},{"$f":"DINAMICA!J1678","v":0},{"$f":"DINAMICA!K1678","v":0},{"$f":"VALUE(DINAMICA!$L1678)","v":0},{"$f":"VALUE(DINAMICA!$M1678)","v":0},{"$f":"VALUE(DINAMICA!$N1678)","v":0},{"$f":"VALUE(DINAMICA!$O1678)","v":0},{"$f":"VALUE(DINAMICA!$P1678)","v":0},{"$f":"VALUE(DINAMICA!$Q1678)","v":0},{"$f":"VALUE(DINAMICA!$R1678)","v":0}]
[{"$f":"VALUE(DINAMICA!$A1679)","v":0},{"$f":"VALUE(DINAMICA!$B1679)","v":"00:00:00"},{"$f":"VALUE(DINAMICA!$C1679)","v":0},{"$f":"DINAMICA!D1679","v":0},{"$f":"DINAMICA!E1679","v":0},{"$f":"DINAMICA!F1679","v":0},{"$f":"DINAMICA!G1679","v":0},{"$f":"DINAMICA!H1679","v":0},{"$f":"DINAMICA!I1679","v":0},{"$f":"DINAMICA!J1679","v":0},{"$f":"DINAMICA!K1679","v":0},{"$f":"VALUE(DINAMICA!$L1679)","v":0},{"$f":"VALUE(DINAMICA!$M1679)","v":0},{"$f":"VALUE(DINAMICA!$N1679)","v":0},{"$f":"VALUE(DINAMICA!$O1679)","v":0},{"$f":"VALUE(DINAMICA!$P1679)","v":0},{"$f":"VALUE(DINAMICA!$Q1679)","v":0},{"$f":"VALUE(DINAMICA!$R1679)","v":0}]
[{"$f":"VALUE(DINAMICA!$A1680)","v":0},{"$f":"VALUE(DINAMICA!$B1680)","v":"00:00:00"},{"$f":"VALUE(DINAMICA!$C1680)","v":0},{"$f":"DINAMICA!D1680","v":0},{"$f":"DINAMICA!E1680","v":0},{"$f":"DINAMICA!F1680","v":0},{"$f":"DINAMICA!G1680","v":0},{"$f":"DINAMICA!H1680","v":0},{"$f":"DINAMICA!I1680","v":0},{"$f":"DINAMICA!J1680","v":0},{"$f":"DINAMICA!K1680","v":0},{"$f":"VALUE(DINAMICA!$L1680)","v":0},{"$f":"VALUE(DINAMICA!$M1680)","v":0},{"$f":"VALUE(DINAMICA!$N1680)","v":0},{"$f":"VALUE(DINAMICA!$O1680)","v":0},{"$f":"VALUE(DINAMICA!$P1680)","v":0},{"$f":"VALUE(DINAMICA!$Q1680)","v":0},{"$f":"VALUE(DINAMICA!$R1680)","v":0}]
[{"$f":"VALUE(DINAMICA!$A1681)","v":0},{"$f":"VALUE(DINAMICA!$B1681)","v":"00:00:00"},{"$f":"VALUE(DINAMICA!$C1681)","v":0},{"$f":"DINAMICA!D1681","v":0},{"$f":"DINAMICA!E1681","v":0},{"$f":"DINAMICA!F1681","v":0},{"$f":"DINAMICA!G1681","v":0},{"$f":"DINAMICA!H1681","v":0},{"$f":"DINAMICA!I1681","v":0},{"$f":"DINAMICA!J1681","v":0},{"$f":"DINAMICA!K1681","v":0},{"$f":"VALUE(DINAMICA!$L1681)","v":0},{"$f":"VALUE(DINAMICA!$M1681)","v":0},{"$f":"VALUE(DINAMICA!$N1681)","v":0},{"$f":"VALUE(DINAMICA!$O1681)","v":0},{"$f":"VALUE(DINAMICA!$P1681)","v":0},{"$f":"VALUE(DINAMICA!$Q1681)","v":0},{"$f":"VALUE(DINAMICA!$R1681)","v":0}]
[{"$f":"VALUE(DINAMICA!$A1682)","v":0},{"$f":"VALUE(DINAMICA!$B1682)","v":"00:00:00"},{"$f":"VALUE(DINAMICA!$C1682)","v":0},{"$f":"DINAMICA!D1682","v":0},{"$f":"DINAMICA!E1682","v":0},{"$f":"DINAMICA!F1682","v":0},{"$f":"DINAMICA!G1682","v":0},{"$f":"DINAMICA!H1682","v":0},{"$f":"DINAMICA!I1682","v":0},{"$f":"DINAMICA!J1682","v":0},{"$f":"DINAMICA!K1682","v":0},{"$f":"VALUE(DINAMICA!$L1682)","v":0},{"$f":"VALUE(DINAMICA!$M1682)","v":0},{"$f":"VALUE(DINAMICA!$N1682)","v":0},{"$f":"VALUE(DINAMICA!$O1682)","v":0},{"$f":"VALUE(DINAMICA!$P1682)","v":0},{"$f":"VALUE(DINAMICA!$Q1682)","v":0},{"$f":"VALUE(DINAMICA!$R1682)","v":0}]
[{"$f":"VALUE(DINAMICA!$A1683)","v":0},{"$f":"VALUE(DINAMICA!$B1683)","v":"00:00:00"},{"$f":"VALUE(DINAMICA!$C1683)","v":0},{"$f":"DINAMICA!D1683","v":0},{"$f":"DINAMICA!E1683","v":0},{"$f":"DINAMICA!F1683","v":0},{"$f":"DINAMICA!G1683","v":0},{"$f":"DINAMICA!H1683","v":0},{"$f":"DINAMICA!I1683","v":0},{"$f":"DINAMICA!J1683","v":0},{"$f":"DINAMICA!K1683","v":0},{"$f":"VALUE(DINAMICA!$L1683)","v":0},{"$f":"VALUE(DINAMICA!$M1683)","v":0},{"$f":"VALUE(DINAMICA!$N1683)","v":0},{"$f":"VALUE(DINAMICA!$O1683)","v":0},{"$f":"VALUE(DINAMICA!$P1683)","v":0},{"$f":"VALUE(DINAMICA!$Q1683)","v":0},{"$f":"VALUE(DINAMICA!$R1683)","v":0}]
[{"$f":"VALUE(DINAMICA!$A1684)","v":0},{"$f":"VALUE(DINAMICA!$B1684)","v":"00:00:00"},{"$f":"VALUE(DINAMICA!$C1684)","v":0},{"$f":"DINAMICA!D1684","v":0},{"$f":"DINAMICA!E1684","v":0},{"$f":"DINAMICA!F1684","v":0},{"$f":"DINAMICA!G1684","v":0},{"$f":"DINAMICA!H1684","v":0},{"$f":"DINAMICA!I1684","v":0},{"$f":"DINAMICA!J1684","v":0},{"$f":"DINAMICA!K1684","v":0},{"$f":"VALUE(DINAMICA!$L1684)","v":0},{"$f":"VALUE(DINAMICA!$M1684)","v":0},{"$f":"VALUE(DINAMICA!$N1684)","v":0},{"$f":"VALUE(DINAMICA!$O1684)","v":0},{"$f":"VALUE(DINAMICA!$P1684)","v":0},{"$f":"VALUE(DINAMICA!$Q1684)","v":0},{"$f":"VALUE(DINAMICA!$R1684)","v":0}]
[{"$f":"VALUE(DINAMICA!$A1685)","v":0},{"$f":"VALUE(DINAMICA!$B1685)","v":"00:00:00"},{"$f":"VALUE(DINAMICA!$C1685)","v":0},{"$f":"DINAMICA!D1685","v":0},{"$f":"DINAMICA!E1685","v":0},{"$f":"DINAMICA!F1685","v":0},{"$f":"DINAMICA!G1685","v":0},{"$f":"DINAMICA!H1685","v":0},{"$f":"DINAMICA!I1685","v":0},{"$f":"DINAMICA!J1685","v":0},{"$f":"DINAMICA!K1685","v":0},{"$f":"VALUE(DINAMICA!$L1685)","v":0},{"$f":"VALUE(DINAMICA!$M1685)","v":0},{"$f":"VALUE(DINAMICA!$N1685)","v":0},{"$f":"VALUE(DINAMICA!$O1685)","v":0},{"$f":"VALUE(DINAMICA!$P1685)","v":0},{"$f":"VALUE(DINAMICA!$Q1685)","v":0},{"$f":"VALUE(DINAMICA!$R1685)","v":0}]
[{"$f":"VALUE(DINAMICA!$A1686)","v":0},{"$f":"VALUE(DINAMICA!$B1686)","v":"00:00:00"},{"$f":"VALUE(DINAMICA!$C1686)","v":0},{"$f":"DINAMICA!D1686","v":0},{"$f":"DINAMICA!E1686","v":0},{"$f":"DINAMICA!F1686","v":0},{"$f":"DINAMICA!G1686","v":0},{"$f":"DINAMICA!H1686","v":0},{"$f":"DINAMICA!I1686","v":0},{"$f":"DINAMICA!J1686","v":0},{"$f":"DINAMICA!K1686","v":0},{"$f":"VALUE(DINAMICA!$L1686)","v":0},{"$f":"VALUE(DINAMICA!$M1686)","v":0},{"$f":"VALUE(DINAMICA!$N1686)","v":0},{"$f":"VALUE(DINAMICA!$O1686)","v":0},{"$f":"VALUE(DINAMICA!$P1686)","v":0},{"$f":"VALUE(DINAMICA!$Q1686)","v":0},{"$f":"VALUE(DINAMICA!$R1686)","v":0}]
[{"$f":"VALUE(DINAMICA!$A1687)","v":0},{"$f":"VALUE(DINAMICA!$B1687)","v":"00:00:00"},{"$f":"VALUE(DINAMICA!$C1687)","v":0},{"$f":"DINAMICA!D1687","v":0},{"$f":"DINAMICA!E1687","v":0},{"$f":"DINAMICA!F1687","v":0},{"$f":"DINAMICA!G1687","v":0},{"$f":"DINAMICA!H1687","v":0},{"$f":"DINAMICA!I1687","v":0},{"$f":"DINAMICA!J1687","v":0},{"$f":"DINAMICA!K1687","v":0},{"$f":"VALUE(DINAMICA!$L1687)","v":0},{"$f":"VALUE(DINAMICA!$M1687)","v":0},{"$f":"VALUE(DINAMICA!$N1687)","v":0},{"$f":"VALUE(DINAMICA!$O1687)","v":0},{"$f":"VALUE(DINAMICA!$P1687)","v":0},{"$f":"VALUE(DINAMICA!$Q1687)","v":0},{"$f":"VALUE(DINAMICA!$R1687)","v":0}]
[{"$f":"VALUE(DINAMICA!$A1688)","v":0},{"$f":"VALUE(DINAMICA!$B1688)","v":"00:00:00"},{"$f":"VALUE(DINAMICA!$C1688)","v":0},{"$f":"DINAMICA!D1688","v":0},{"$f":"DINAMICA!E1688","v":0},{"$f":"DINAMICA!F1688","v":0},{"$f":"DINAMICA!G1688","v":0},{"$f":"DINAMICA!H1688","v":0},{"$f":"DINAMICA!I1688","v":0},{"$f":"DINAMICA!J1688","v":0},{"$f":"DINAMICA!K1688","v":0},{"$f":"VALUE(DINAMICA!$L1688)","v":0},{"$f":"VALUE(DINAMICA!$M1688)","v":0},{"$f":"VALUE(DINAMICA!$N1688)","v":0},{"$f":"VALUE(DINAMICA!$O1688)","v":0},{"$f":"VALUE(DINAMICA!$P1688)","v":0},{"$f":"VALUE(DINAMICA!$Q1688)","v":0},{"$f":"VALUE(DINAMICA!$R1688)","v":0}]
[{"$f":"VALUE(DINAMICA!$A1689)","v":0},{"$f":"VALUE(DINAMICA!$B1689)","v":"00:00:00"},{"$f":"VALUE(DINAMICA!$C1689)","v":0},{"$f":"DINAMICA!D1689","v":0},{"$f":"DINAMICA!E1689","v":0},{"$f":"DINAMICA!F1689","v":0},{"$f":"DINAMICA!G1689","v":0},{"$f":"DINAMICA!H1689","v":0},{"$f":"DINAMICA!I1689","v":0},{"$f":"DINAMICA!J1689","v":0},{"$f":"DINAMICA!K1689","v":0},{"$f":"VALUE(DINAMICA!$L1689)","v":0},{"$f":"VALUE(DINAMICA!$M1689)","v":0},{"$f":"VALUE(DINAMICA!$N1689)","v":0},{"$f":"VALUE(DINAMICA!$O1689)","v":0},{"$f":"VALUE(DINAMICA!$P1689)","v":0},{"$f":"VALUE(DINAMICA!$Q1689)","v":0},{"$f":"VALUE(DINAMICA!$R1689)","v":0}]
[{"$f":"VALUE(DINAMICA!$A1690)","v":0},{"$f":"VALUE(DINAMICA!$B1690)","v":"00:00:00"},{"$f":"VALUE(DINAMICA!$C1690)","v":0},{"$f":"DINAMICA!D1690","v":0},{"$f":"DINAMICA!E1690","v":0},{"$f":"DINAMICA!F1690","v":0},{"$f":"DINAMICA!G1690","v":0},{"$f":"DINAMICA!H1690","v":0},{"$f":"DINAMICA!I1690","v":0},{"$f":"DINAMICA!J1690","v":0},{"$f":"DINAMICA!K1690","v":0},{"$f":"VALUE(DINAMICA!$L1690)","v":0},{"$f":"VALUE(DINAMICA!$M1690)","v":0},{"$f":"VALUE(DINAMICA!$N1690)","v":0},{"$f":"VALUE(DINAMICA!$O1690)","v":0},{"$f":"VALUE(DINAMICA!$P1690)","v":0},{"$f":"VALUE(DINAMICA!$Q1690)","v":0},{"$f":"VALUE(DINAMICA!$R1690)","v":0}]
[{"$f":"VALUE(DINAMICA!$A1691)","v":0},{"$f":"VALUE(DINAMICA!$B1691)","v":"00:00:00"},{"$f":"VALUE(DINAMICA!$C1691)","v":0},{"$f":"DINAMICA!D1691","v":0},{"$f":"DINAMICA!E1691","v":0},{"$f":"DINAMICA!F1691","v":0},{"$f":"DINAMICA!G1691","v":0},{"$f":"DINAMICA!H1691","v":0},{"$f":"DINAMICA!I1691","v":0},{"$f":"DINAMICA!J1691","v":0},{"$f":"DINAMICA!K1691","v":0},{"$f":"VALUE(DINAMICA!$L1691)","v":0},{"$f":"VALUE(DINAMICA!$M1691)","v":0},{"$f":"VALUE(DINAMICA!$N1691)","v":0},{"$f":"VALUE(DINAMICA!$O1691)","v":0},{"$f":"VALUE(DINAMICA!$P1691)","v":0},{"$f":"VALUE(DINAMICA!$Q1691)","v":0},{"$f":"VALUE(DINAMICA!$R1691)","v":0}]
[{"$f":"VALUE(DINAMICA!$A1692)","v":0},{"$f":"VALUE(DINAMICA!$B1692)","v":"00:00:00"},{"$f":"VALUE(DINAMICA!$C1692)","v":0},{"$f":"DINAMICA!D1692","v":0},{"$f":"DINAMICA!E1692","v":0},{"$f":"DINAMICA!F1692","v":0},{"$f":"DINAMICA!G1692","v":0},{"$f":"DINAMICA!H1692","v":0},{"$f":"DINAMICA!I1692","v":0},{"$f":"DINAMICA!J1692","v":0},{"$f":"DINAMICA!K1692","v":0},{"$f":"VALUE(DINAMICA!$L1692)","v":0},{"$f":"VALUE(DINAMICA!$M1692)","v":0},{"$f":"VALUE(DINAMICA!$N1692)","v":0},{"$f":"VALUE(DINAMICA!$O1692)","v":0},{"$f":"VALUE(DINAMICA!$P1692)","v":0},{"$f":"VALUE(DINAMICA!$Q1692)","v":0},{"$f":"VALUE(DINAMICA!$R1692)","v":0}]
[{"$f":"VALUE(DINAMICA!$A1693)","v":0},{"$f":"VALUE(DINAMICA!$B1693)","v":"00:00:00"},{"$f":"VALUE(DINAMICA!$C1693)","v":0},{"$f":"DINAMICA!D1693","v":0},{"$f":"DINAMICA!E1693","v":0},{"$f":"DINAMICA!F1693","v":0},{"$f":"DINAMICA!G1693","v":0},{"$f":"DINAMICA!H1693","v":0},{"$f":"DINAMICA!I1693","v":0},{"$f":"DINAMICA!J1693","v":0},{"$f":"DINAMICA!K1693","v":0},{"$f":"VALUE(DINAMICA!$L1693)","v":0},{"$f":"VALUE(DINAMICA!$M1693)","v":0},{"$f":"VALUE(DINAMICA!$N1693)","v":0},{"$f":"VALUE(DINAMICA!$O1693)","v":0},{"$f":"VALUE(DINAMICA!$P1693)","v":0},{"$f":"VALUE(DINAMICA!$Q1693)","v":0},{"$f":"VALUE(DINAMICA!$R1693)","v":0}]
[{"$f":"VALUE(DINAMICA!$A1694)","v":0},{"$f":"VALUE(DINAMICA!$B1694)","v":"00:00:00"},{"$f":"VALUE(DINAMICA!$C1694)","v":0},{"$f":"DINAMICA!D1694","v":0},{"$f":"DINAMICA!E1694","v":0},{"$f":"DINAMICA!F1694","v":0},{"$f":"DINAMICA!G1694","v":0},{"$f":"DINAMICA!H1694","v":0},{"$f":"DINAMICA!I1694","v":0},{"$f":"DINAMICA!J1694","v":0},{"$f":"DINAMICA!K1694","v":0},{"$f":"VALUE(DINAMICA!$L1694)","v":0},{"$f":"VALUE(DINAMICA!$M1694)","v":0},{"$f":"VALUE(DINAMICA!$N1694)","v":0},{"$f":"VALUE(DINAMICA!$O1694)","v":0},{"$f":"VALUE(DINAMICA!$P1694)","v":0},{"$f":"VALUE(DINAMICA!$Q1694)","v":0},{"$f":"VALUE(DINAMICA!$R1694)","v":0}]
[{"$f":"VALUE(DINAMICA!$A1695)","v":0},{"$f":"VALUE(DINAMICA!$B1695)","v":"00:00:00"},{"$f":"VALUE(DINAMICA!$C1695)","v":0},{"$f":"DINAMICA!D1695","v":0},{"$f":"DINAMICA!E1695","v":0},{"$f":"DINAMICA!F1695","v":0},{"$f":"DINAMICA!G1695","v":0},{"$f":"DINAMICA!H1695","v":0},{"$f":"DINAMICA!I1695","v":0},{"$f":"DINAMICA!J1695","v":0},{"$f":"DINAMICA!K1695","v":0},{"$f":"VALUE(DINAMICA!$L1695)","v":0},{"$f":"VALUE(DINAMICA!$M1695)","v":0},{"$f":"VALUE(DINAMICA!$N1695)","v":0},{"$f":"VALUE(DINAMICA!$O1695)","v":0},{"$f":"VALUE(DINAMICA!$P1695)","v":0},{"$f":"VALUE(DINAMICA!$Q1695)","v":0},{"$f":"VALUE(DINAMICA!$R1695)","v":0}]
[{"$f":"VALUE(DINAMICA!$A1696)","v":0},{"$f":"VALUE(DINAMICA!$B1696)","v":"00:00:00"},{"$f":"VALUE(DINAMICA!$C1696)","v":0},{"$f":"DINAMICA!D1696","v":0},{"$f":"DINAMICA!E1696","v":0},{"$f":"DINAMICA!F1696","v":0},{"$f":"DINAMICA!G1696","v":0},{"$f":"DINAMICA!H1696","v":0},{"$f":"DINAMICA!I1696","v":0},{"$f":"DINAMICA!J1696","v":0},{"$f":"DINAMICA!K1696","v":0},{"$f":"VALUE(DINAMICA!$L1696)","v":0},{"$f":"VALUE(DINAMICA!$M1696)","v":0},{"$f":"VALUE(DINAMICA!$N1696)","v":0},{"$f":"VALUE(DINAMICA!$O1696)","v":0},{"$f":"VALUE(DINAMICA!$P1696)","v":0},{"$f":"VALUE(DINAMICA!$Q1696)","v":0},{"$f":"VALUE(DINAMICA!$R1696)","v":0}]
[{"$f":"VALUE(DINAMICA!$A1697)","v":0},{"$f":"VALUE(DINAMICA!$B1697)","v":"00:00:00"},{"$f":"VALUE(DINAMICA!$C1697)","v":0},{"$f":"DINAMICA!D1697","v":0},{"$f":"DINAMICA!E1697","v":0},{"$f":"DINAMICA!F1697","v":0},{"$f":"DINAMICA!G1697","v":0},{"$f":"DINAMICA!H1697","v":0},{"$f":"DINAMICA!I1697","v":0},{"$f":"DINAMICA!J1697","v":0},{"$f":"DINAMICA!K1697","v":0},{"$f":"VALUE(DINAMICA!$L1697)","v":0},{"$f":"VALUE(DINAMICA!$M1697)","v":0},{"$f":"VALUE(DINAMICA!$N1697)","v":0},{"$f":"VALUE(DINAMICA!$O1697)","v":0},{"$f":"VALUE(DINAMICA!$P1697)","v":0},{"$f":"VALUE(DINAMICA!$Q1697)","v":0},{"$f":"VALUE(DINAMICA!$R1697)","v":0}]
[{"$f":"VALUE(DINAMICA!$A1698)","v":0},{"$f":"VALUE(DINAMICA!$B1698)","v":"00:00:00"},{"$f":"VALUE(DINAMICA!$C1698)","v":0},{"$f":"DINAMICA!D1698","v":0},{"$f":"DINAMICA!E1698","v":0},{"$f":"DINAMICA!F1698","v":0},{"$f":"DINAMICA!G1698","v":0},{"$f":"DINAMICA!H1698","v":0},{"$f":"DINAMICA!I1698","v":0},{"$f":"DINAMICA!J1698","v":0},{"$f":"DINAMICA!K1698","v":0},{"$f":"VALUE(DINAMICA!$L1698)","v":0},{"$f":"VALUE(DINAMICA!$M1698)","v":0},{"$f":"VALUE(DINAMICA!$N1698)","v":0},{"$f":"VALUE(DINAMICA!$O1698)","v":0},{"$f":"VALUE(DINAMICA!$P1698)","v":0},{"$f":"VALUE(DINAMICA!$Q1698)","v":0},{"$f":"VALUE(DINAMICA!$R1698)","v":0}]
[{"$f":"VALUE(DINAMICA!$A1699)","v":0},{"$f":"VALUE(DINAMICA!$B1699)","v":"00:00:00"},{"$f":"VALUE(DINAMICA!$C1699)","v":0},{"$f":"DINAMICA!D1699","v":0},{"$f":"DINAMICA!E1699","v":0},{"$f":"DINAMICA!F1699","v":0},{"$f":"DINAMICA!G1699","v":0},{"$f":"DINAMICA!H1699","v":0},{"$f":"DINAMICA!I1699","v":0},{"$f":"DINAMICA!J1699","v":0},{"$f":"DINAMICA!K1699","v":0},{"$f":"VALUE(DINAMICA!$L1699)","v":0},{"$f":"VALUE(DINAMICA!$M1699)","v":0},{"$f":"VALUE(DINAMICA!$N1699)","v":0},{"$f":"VALUE(DINAMICA!$O1699)","v":0},{"$f":"VALUE(DINAMICA!$P1699)","v":0},{"$f":"VALUE(DINAMICA!$Q1699)","v":0},{"$f":"VALUE(DINAMICA!$R1699)","v":0}]
[{"$f":"VALUE(DINAMICA!$A1700)","v":0},{"$f":"VALUE(DINAMICA!$B1700)","v":"00:00:00"},{"$f":"VALUE(DINAMICA!$C1700)","v":0},{"$f":"DINAMICA!D1700","v":0},{"$f":"DINAMICA!E1700","v":0},{"$f":"DINAMICA!F1700","v":0},{"$f":"DINAMICA!G1700","v":0},{"$f":"DINAMICA!H1700","v":0},{"$f":"DINAMICA!I1700","v":0},{"$f":"DINAMICA!J1700","v":0},{"$f":"DINAMICA!K1700","v":0},{"$f":"VALUE(DINAMICA!$L1700)","v":0},{"$f":"VALUE(DINAMICA!$M1700)","v":0},{"$f":"VALUE(DINAMICA!$N1700)","v":0},{"$f":"VALUE(DINAMICA!$O1700)","v":0},{"$f":"VALUE(DINAMICA!$P1700)","v":0},{"$f":"VALUE(DINAMICA!$Q1700)","v":0},{"$f":"VALUE(DINAMICA!$R1700)","v":0}]
[{"$f":"VALUE(DINAMICA!$A1701)","v":0},{"$f":"VALUE(DINAMICA!$B1701)","v":"00:00:00"},{"$f":"VALUE(DINAMICA!$C1701)","v":0},{"$f":"DINAMICA!D1701","v":0},{"$f":"DINAMICA!E1701","v":0},{"$f":"DINAMICA!F1701","v":0},{"$f":"DINAMICA!G1701","v":0},{"$f":"DINAMICA!H1701","v":0},{"$f":"DINAMICA!I1701","v":0},{"$f":"DINAMICA!J1701","v":0},{"$f":"DINAMICA!K1701","v":0},{"$f":"VALUE(DINAMICA!$L1701)","v":0},{"$f":"VALUE(DINAMICA!$M1701)","v":0},{"$f":"VALUE(DINAMICA!$N1701)","v":0},{"$f":"VALUE(DINAMICA!$O1701)","v":0},{"$f":"VALUE(DINAMICA!$P1701)","v":0},{"$f":"VALUE(DINAMICA!$Q1701)","v":0},{"$f":"VALUE(DINAMICA!$R1701)","v":0}]
[{"$f":"VALUE(DINAMICA!$A1702)","v":0},{"$f":"VALUE(DINAMICA!$B1702)","v":"00:00:00"},{"$f":"VALUE(DINAMICA!$C1702)","v":0},{"$f":"DINAMICA!D1702","v":0},{"$f":"DINAMICA!E1702","v":0},{"$f":"DINAMICA!F1702","v":0},{"$f":"DINAMICA!G1702","v":0},{"$f":"DINAMICA!H1702","v":0},{"$f":"DINAMICA!I1702","v":0},{"$f":"DINAMICA!J1702","v":0},{"$f":"DINAMICA!K1702","v":0},{"$f":"VALUE(DINAMICA!$L1702)","v":0},{"$f":"VALUE(DINAMICA!$M1702)","v":0},{"$f":"VALUE(DINAMICA!$N1702)","v":0},{"$f":"VALUE(DINAMICA!$O1702)","v":0},{"$f":"VALUE(DINAMICA!$P1702)","v":0},{"$f":"VALUE(DINAMICA!$Q1702)","v":0},{"$f":"VALUE(DINAMICA!$R1702)","v":0}]
[{"$f":"VALUE(DINAMICA!$A1703)","v":0},{"$f":"VALUE(DINAMICA!$B1703)","v":"00:00:00"},{"$f":"VALUE(DINAMICA!$C1703)","v":0},{"$f":"DINAMICA!D1703","v":0},{"$f":"DINAMICA!E1703","v":0},{"$f":"DINAMICA!F1703","v":0},{"$f":"DINAMICA!G1703","v":0},{"$f":"DINAMICA!H1703","v":0},{"$f":"DINAMICA!I1703","v":0},{"$f":"DINAMICA!J1703","v":0},{"$f":"DINAMICA!K1703","v":0},{"$f":"VALUE(DINAMICA!$L1703)","v":0},{"$f":"VALUE(DINAMICA!$M1703)","v":0},{"$f":"VALUE(DINAMICA!$N1703)","v":0},{"$f":"VALUE(DINAMICA!$O1703)","v":0},{"$f":"VALUE(DINAMICA!$P1703)","v":0},{"$f":"VALUE(DINAMICA!$Q1703)","v":0},{"$f":"VALUE(DINAMICA!$R1703)","v":0}]
[{"$f":"VALUE(DINAMICA!$A1704)","v":0},{"$f":"VALUE(DINAMICA!$B1704)","v":"00:00:00"},{"$f":"VALUE(DINAMICA!$C1704)","v":0},{"$f":"DINAMICA!D1704","v":0},{"$f":"DINAMICA!E1704","v":0},{"$f":"DINAMICA!F1704","v":0},{"$f":"DINAMICA!G1704","v":0},{"$f":"DINAMICA!H1704","v":0},{"$f":"DINAMICA!I1704","v":0},{"$f":"DINAMICA!J1704","v":0},{"$f":"DINAMICA!K1704","v":0},{"$f":"VALUE(DINAMICA!$L1704)","v":0},{"$f":"VALUE(DINAMICA!$M1704)","v":0},{"$f":"VALUE(DINAMICA!$N1704)","v":0},{"$f":"VALUE(DINAMICA!$O1704)","v":0},{"$f":"VALUE(DINAMICA!$P1704)","v":0},{"$f":"VALUE(DINAMICA!$Q1704)","v":0},{"$f":"VALUE(DINAMICA!$R1704)","v":0}]
[{"$f":"VALUE(DINAMICA!$A1705)","v":0},{"$f":"VALUE(DINAMICA!$B1705)","v":"00:00:00"},{"$f":"VALUE(DINAMICA!$C1705)","v":0},{"$f":"DINAMICA!D1705","v":0},{"$f":"DINAMICA!E1705","v":0},{"$f":"DINAMICA!F1705","v":0},{"$f":"DINAMICA!G1705","v":0},{"$f":"DINAMICA!H1705","v":0},{"$f":"DINAMICA!I1705","v":0},{"$f":"DINAMICA!J1705","v":0},{"$f":"DINAMICA!K1705","v":0},{"$f":"VALUE(DINAMICA!$L1705)","v":0},{"$f":"VALUE(DINAMICA!$M1705)","v":0},{"$f":"VALUE(DINAMICA!$N1705)","v":0},{"$f":"VALUE(DINAMICA!$O1705)","v":0},{"$f":"VALUE(DINAMICA!$P1705)","v":0},{"$f":"VALUE(DINAMICA!$Q1705)","v":0},{"$f":"VALUE(DINAMICA!$R1705)","v":0}]
[{"$f":"VALUE(DINAMICA!$A1706)","v":0},{"$f":"VALUE(DINAMICA!$B1706)","v":"00:00:00"},{"$f":"VALUE(DINAMICA!$C1706)","v":0},{"$f":"DINAMICA!D1706","v":0},{"$f":"DINAMICA!E1706","v":0},{"$f":"DINAMICA!F1706","v":0},{"$f":"DINAMICA!G1706","v":0},{"$f":"DINAMICA!H1706","v":0},{"$f":"DINAMICA!I1706","v":0},{"$f":"DINAMICA!J1706","v":0},{"$f":"DINAMICA!K1706","v":0},{"$f":"VALUE(DINAMICA!$L1706)","v":0},{"$f":"VALUE(DINAMICA!$M1706)","v":0},{"$f":"VALUE(DINAMICA!$N1706)","v":0},{"$f":"VALUE(DINAMICA!$O1706)","v":0},{"$f":"VALUE(DINAMICA!$P1706)","v":0},{"$f":"VALUE(DINAMICA!$Q1706)","v":0},{"$f":"VALUE(DINAMICA!$R1706)","v":0}]
[{"$f":"VALUE(DINAMICA!$A1707)","v":0},{"$f":"VALUE(DINAMICA!$B1707)","v":"00:00:00"},{"$f":"VALUE(DINAMICA!$C1707)","v":0},{"$f":"DINAMICA!D1707","v":0},{"$f":"DINAMICA!E1707","v":0},{"$f":"DINAMICA!F1707","v":0},{"$f":"DINAMICA!G1707","v":0},{"$f":"DINAMICA!H1707","v":0},{"$f":"DINAMICA!I1707","v":0},{"$f":"DINAMICA!J1707","v":0},{"$f":"DINAMICA!K1707","v":0},{"$f":"VALUE(DINAMICA!$L1707)","v":0},{"$f":"VALUE(DINAMICA!$M1707)","v":0},{"$f":"VALUE(DINAMICA!$N1707)","v":0},{"$f":"VALUE(DINAMICA!$O1707)","v":0},{"$f":"VALUE(DINAMICA!$P1707)","v":0},{"$f":"VALUE(DINAMICA!$Q1707)","v":0},{"$f":"VALUE(DINAMICA!$R1707)","v":0}]
[{"$f":"VALUE(DINAMICA!$A1708)","v":0},{"$f":"VALUE(DINAMICA!$B1708)","v":"00:00:00"},{"$f":"VALUE(DINAMICA!$C1708)","v":0},{"$f":"DINAMICA!D1708","v":0},{"$f":"DINAMICA!E1708","v":0},{"$f":"DINAMICA!F1708","v":0},{"$f":"DINAMICA!G1708","v":0},{"$f":"DINAMICA!H1708","v":0},{"$f":"DINAMICA!I1708","v":0},{"$f":"DINAMICA!J1708","v":0},{"$f":"DINAMICA!K1708","v":0},{"$f":"VALUE(DINAMICA!$L1708)","v":0},{"$f":"VALUE(DINAMICA!$M1708)","v":0},{"$f":"VALUE(DINAMICA!$N1708)","v":0},{"$f":"VALUE(DINAMICA!$O1708)","v":0},{"$f":"VALUE(DINAMICA!$P1708)","v":0},{"$f":"VALUE(DINAMICA!$Q1708)","v":0},{"$f":"VALUE(DINAMICA!$R1708)","v":0}]
[{"$f":"VALUE(DINAMICA!$A1709)","v":0},{"$f":"VALUE(DINAMICA!$B1709)","v":"00:00:00"},{"$f":"VALUE(DINAMICA!$C1709)","v":0},{"$f":"DINAMICA!D1709","v":0},{"$f":"DINAMICA!E1709","v":0},{"$f":"DINAMICA!F1709","v":0},{"$f":"DINAMICA!G1709","v":0},{"$f":"DINAMICA!H1709","v":0},{"$f":"DINAMICA!I1709","v":0},{"$f":"DINAMICA!J1709","v":0},{"$f":"DINAMICA!K1709","v":0},{"$f":"VALUE(DINAMICA!$L1709)","v":0},{"$f":"VALUE(DINAMICA!$M1709)","v":0},{"$f":"VALUE(DINAMICA!$N1709)","v":0},{"$f":"VALUE(DINAMICA!$O1709)","v":0},{"$f":"VALUE(DINAMICA!$P1709)","v":0},{"$f":"VALUE(DINAMICA!$Q1709)","v":0},{"$f":"VALUE(DINAMICA!$R1709)","v":0}]
[{"$f":"VALUE(DINAMICA!$A1710)","v":0},{"$f":"VALUE(DINAMICA!$B1710)","v":"00:00:00"},{"$f":"VALUE(DINAMICA!$C1710)","v":0},{"$f":"DINAMICA!D1710","v":0},{"$f":"DINAMICA!E1710","v":0},{"$f":"DINAMICA!F1710","v":0},{"$f":"DINAMICA!G1710","v":0},{"$f":"DINAMICA!H1710","v":0},{"$f":"DINAMICA!I1710","v":0},{"$f":"DINAMICA!J1710","v":0},{"$f":"DINAMICA!K1710","v":0},{"$f":"VALUE(DINAMICA!$L1710)","v":0},{"$f":"VALUE(DINAMICA!$M1710)","v":0},{"$f":"VALUE(DINAMICA!$N1710)","v":0},{"$f":"VALUE(DINAMICA!$O1710)","v":0},{"$f":"VALUE(DINAMICA!$P1710)","v":0},{"$f":"VALUE(DINAMICA!$Q1710)","v":0},{"$f":"VALUE(DINAMICA!$R1710)","v":0}]
[{"$f":"VALUE(DINAMICA!$A1711)","v":0},{"$f":"VALUE(DINAMICA!$B1711)","v":"00:00:00"},{"$f":"VALUE(DINAMICA!$C1711)","v":0},{"$f":"DINAMICA!D1711","v":0},{"$f":"DINAMICA!E1711","v":0},{"$f":"DINAMICA!F1711","v":0},{"$f":"DINAMICA!G1711","v":0},{"$f":"DINAMICA!H1711","v":0},{"$f":"DINAMICA!I1711","v":0},{"$f":"DINAMICA!J1711","v":0},{"$f":"DINAMICA!K1711","v":0},{"$f":"VALUE(DINAMICA!$L1711)","v":0},{"$f":"VALUE(DINAMICA!$M1711)","v":0},{"$f":"VALUE(DINAMICA!$N1711)","v":0},{"$f":"VALUE(DINAMICA!$O1711)","v":0},{"$f":"VALUE(DINAMICA!$P1711)","v":0},{"$f":"VALUE(DINAMICA!$Q1711)","v":0},{"$f":"VALUE(DINAMICA!$R1711)","v":0}]
[{"$f":"VALUE(DINAMICA!$A1712)","v":0},{"$f":"VALUE(DINAMICA!$B1712)","v":"00:00:00"},{"$f":"VALUE(DINAMICA!$C1712)","v":0},{"$f":"DINAMICA!D1712","v":0},{"$f":"DINAMICA!E1712","v":0},{"$f":"DINAMICA!F1712","v":0},{"$f":"DINAMICA!G1712","v":0},{"$f":"DINAMICA!H1712","v":0},{"$f":"DINAMICA!I1712","v":0},{"$f":"DINAMICA!J1712","v":0},{"$f":"DINAMICA!K1712","v":0},{"$f":"VALUE(DINAMICA!$L1712)","v":0},{"$f":"VALUE(DINAMICA!$M1712)","v":0},{"$f":"VALUE(DINAMICA!$N1712)","v":0},{"$f":"VALUE(DINAMICA!$O1712)","v":0},{"$f":"VALUE(DINAMICA!$P1712)","v":0},{"$f":"VALUE(DINAMICA!$Q1712)","v":0},{"$f":"VALUE(DINAMICA!$R1712)","v":0}]
[{"$f":"VALUE(DINAMICA!$A1713)","v":0},{"$f":"VALUE(DINAMICA!$B1713)","v":"00:00:00"},{"$f":"VALUE(DINAMICA!$C1713)","v":0},{"$f":"DINAMICA!D1713","v":0},{"$f":"DINAMICA!E1713","v":0},{"$f":"DINAMICA!F1713","v":0},{"$f":"DINAMICA!G1713","v":0},{"$f":"DINAMICA!H1713","v":0},{"$f":"DINAMICA!I1713","v":0},{"$f":"DINAMICA!J1713","v":0},{"$f":"DINAMICA!K1713","v":0},{"$f":"VALUE(DINAMICA!$L1713)","v":0},{"$f":"VALUE(DINAMICA!$M1713)","v":0},{"$f":"VALUE(DINAMICA!$N1713)","v":0},{"$f":"VALUE(DINAMICA!$O1713)","v":0},{"$f":"VALUE(DINAMICA!$P1713)","v":0},{"$f":"VALUE(DINAMICA!$Q1713)","v":0},{"$f":"VALUE(DINAMICA!$R1713)","v":0}]
[{"$f":"VALUE(DINAMICA!$A1714)","v":0},{"$f":"VALUE(DINAMICA!$B1714)","v":"00:00:00"},{"$f":"VALUE(DINAMICA!$C1714)","v":0},{"$f":"DINAMICA!D1714","v":0},{"$f":"DINAMICA!E1714","v":0},{"$f":"DINAMICA!F1714","v":0},{"$f":"DINAMICA!G1714","v":0},{"$f":"DINAMICA!H1714","v":0},{"$f":"DINAMICA!I1714","v":0},{"$f":"DINAMICA!J1714","v":0},{"$f":"DINAMICA!K1714","v":0},{"$f":"VALUE(DINAMICA!$L1714)","v":0},{"$f":"VALUE(DINAMICA!$M1714)","v":0},{"$f":"VALUE(DINAMICA!$N1714)","v":0},{"$f":"VALUE(DINAMICA!$O1714)","v":0},{"$f":"VALUE(DINAMICA!$P1714)","v":0},{"$f":"VALUE(DINAMICA!$Q1714)","v":0},{"$f":"VALUE(DINAMICA!$R1714)","v":0}]
[{"$f":"VALUE(DINAMICA!$A1715)","v":0},{"$f":"VALUE(DINAMICA!$B1715)","v":"00:00:00"},{"$f":"VALUE(DINAMICA!$C1715)","v":0},{"$f":"DINAMICA!D1715","v":0},{"$f":"DINAMICA!E1715","v":0},{"$f":"DINAMICA!F1715","v":0},{"$f":"DINAMICA!G1715","v":0},{"$f":"DINAMICA!H1715","v":0},{"$f":"DINAMICA!I1715","v":0},{"$f":"DINAMICA!J1715","v":0},{"$f":"DINAMICA!K1715","v":0},{"$f":"VALUE(DINAMICA!$L1715)","v":0},{"$f":"VALUE(DINAMICA!$M1715)","v":0},{"$f":"VALUE(DINAMICA!$N1715)","v":0},{"$f":"VALUE(DINAMICA!$O1715)","v":0},{"$f":"VALUE(DINAMICA!$P1715)","v":0},{"$f":"VALUE(DINAMICA!$Q1715)","v":0},{"$f":"VALUE(DINAMICA!$R1715)","v":0}]
[{"$f":"VALUE(DINAMICA!$A1716)","v":0},{"$f":"VALUE(DINAMICA!$B1716)","v":"00:00:00"},{"$f":"VALUE(DINAMICA!$C1716)","v":0},{"$f":"DINAMICA!D1716","v":0},{"$f":"DINAMICA!E1716","v":0},{"$f":"DINAMICA!F1716","v":0},{"$f":"DINAMICA!G1716","v":0},{"$f":"DINAMICA!H1716","v":0},{"$f":"DINAMICA!I1716","v":0},{"$f":"DINAMICA!J1716","v":0},{"$f":"DINAMICA!K1716","v":0},{"$f":"VALUE(DINAMICA!$L1716)","v":0},{"$f":"VALUE(DINAMICA!$M1716)","v":0},{"$f":"VALUE(DINAMICA!$N1716)","v":0},{"$f":"VALUE(DINAMICA!$O1716)","v":0},{"$f":"VALUE(DINAMICA!$P1716)","v":0},{"$f":"VALUE(DINAMICA!$Q1716)","v":0},{"$f":"VALUE(DINAMICA!$R1716)","v":0}]
[{"$f":"VALUE(DINAMICA!$A1717)","v":0},{"$f":"VALUE(DINAMICA!$B1717)","v":"00:00:00"},{"$f":"VALUE(DINAMICA!$C1717)","v":0},{"$f":"DINAMICA!D1717","v":0},{"$f":"DINAMICA!E1717","v":0},{"$f":"DINAMICA!F1717","v":0},{"$f":"DINAMICA!G1717","v":0},{"$f":"DINAMICA!H1717","v":0},{"$f":"DINAMICA!I1717","v":0},{"$f":"DINAMICA!J1717","v":0},{"$f":"DINAMICA!K1717","v":0},{"$f":"VALUE(DINAMICA!$L1717)","v":0},{"$f":"VALUE(DINAMICA!$M1717)","v":0},{"$f":"VALUE(DINAMICA!$N1717)","v":0},{"$f":"VALUE(DINAMICA!$O1717)","v":0},{"$f":"VALUE(DINAMICA!$P1717)","v":0},{"$f":"VALUE(DINAMICA!$Q1717)","v":0},{"$f":"VALUE(DINAMICA!$R1717)","v":0}]
[{"$f":"VALUE(DINAMICA!$A1718)","v":0},{"$f":"VALUE(DINAMICA!$B1718)","v":"00:00:00"},{"$f":"VALUE(DINAMICA!$C1718)","v":0},{"$f":"DINAMICA!D1718","v":0},{"$f":"DINAMICA!E1718","v":0},{"$f":"DINAMICA!F1718","v":0},{"$f":"DINAMICA!G1718","v":0},{"$f":"DINAMICA!H1718","v":0},{"$f":"DINAMICA!I1718","v":0},{"$f":"DINAMICA!J1718","v":0},{"$f":"DINAMICA!K1718","v":0},{"$f":"VALUE(DINAMICA!$L1718)","v":0},{"$f":"VALUE(DINAMICA!$M1718)","v":0},{"$f":"VALUE(DINAMICA!$N1718)","v":0},{"$f":"VALUE(DINAMICA!$O1718)","v":0},{"$f":"VALUE(DINAMICA!$P1718)","v":0},{"$f":"VALUE(DINAMICA!$Q1718)","v":0},{"$f":"VALUE(DINAMICA!$R1718)","v":0}]
[{"$f":"VALUE(DINAMICA!$A1719)","v":0},{"$f":"VALUE(DINAMICA!$B1719)","v":"00:00:00"},{"$f":"VALUE(DINAMICA!$C1719)","v":0},{"$f":"DINAMICA!D1719","v":0},{"$f":"DINAMICA!E1719","v":0},{"$f":"DINAMICA!F1719","v":0},{"$f":"DINAMICA!G1719","v":0},{"$f":"DINAMICA!H1719","v":0},{"$f":"DINAMICA!I1719","v":0},{"$f":"DINAMICA!J1719","v":0},{"$f":"DINAMICA!K1719","v":0},{"$f":"VALUE(DINAMICA!$L1719)","v":0},{"$f":"VALUE(DINAMICA!$M1719)","v":0},{"$f":"VALUE(DINAMICA!$N1719)","v":0},{"$f":"VALUE(DINAMICA!$O1719)","v":0},{"$f":"VALUE(DINAMICA!$P1719)","v":0},{"$f":"VALUE(DINAMICA!$Q1719)","v":0},{"$f":"VALUE(DINAMICA!$R1719)","v":0}]
[{"$f":"VALUE(DINAMICA!$A1720)","v":0},{"$f":"VALUE(DINAMICA!$B1720)","v":"00:00:00"},{"$f":"VALUE(DINAMICA!$C1720)","v":0},{"$f":"DINAMICA!D1720","v":0},{"$f":"DINAMICA!E1720","v":0},{"$f":"DINAMICA!F1720","v":0},{"$f":"DINAMICA!G1720","v":0},{"$f":"DINAMICA!H1720","v":0},{"$f":"DINAMICA!I1720","v":0},{"$f":"DINAMICA!J1720","v":0},{"$f":"DINAMICA!K1720","v":0},{"$f":"VALUE(DINAMICA!$L1720)","v":0},{"$f":"VALUE(DINAMICA!$M1720)","v":0},{"$f":"VALUE(DINAMICA!$N1720)","v":0},{"$f":"VALUE(DINAMICA!$O1720)","v":0},{"$f":"VALUE(DINAMICA!$P1720)","v":0},{"$f":"VALUE(DINAMICA!$Q1720)","v":0},{"$f":"VALUE(DINAMICA!$R1720)","v":0}]
[{"$f":"VALUE(DINAMICA!$A1721)","v":0},{"$f":"VALUE(DINAMICA!$B1721)","v":"00:00:00"},{"$f":"VALUE(DINAMICA!$C1721)","v":0},{"$f":"DINAMICA!D1721","v":0},{"$f":"DINAMICA!E1721","v":0},{"$f":"DINAMICA!F1721","v":0},{"$f":"DINAMICA!G1721","v":0},{"$f":"DINAMICA!H1721","v":0},{"$f":"DINAMICA!I1721","v":0},{"$f":"DINAMICA!J1721","v":0},{"$f":"DINAMICA!K1721","v":0},{"$f":"VALUE(DINAMICA!$L1721)","v":0},{"$f":"VALUE(DINAMICA!$M1721)","v":0},{"$f":"VALUE(DINAMICA!$N1721)","v":0},{"$f":"VALUE(DINAMICA!$O1721)","v":0},{"$f":"VALUE(DINAMICA!$P1721)","v":0},{"$f":"VALUE(DINAMICA!$Q1721)","v":0},{"$f":"VALUE(DINAMICA!$R1721)","v":0}]
[{"$f":"VALUE(DINAMICA!$A1722)","v":0},{"$f":"VALUE(DINAMICA!$B1722)","v":"00:00:00"},{"$f":"VALUE(DINAMICA!$C1722)","v":0},{"$f":"DINAMICA!D1722","v":0},{"$f":"DINAMICA!E1722","v":0},{"$f":"DINAMICA!F1722","v":0},{"$f":"DINAMICA!G1722","v":0},{"$f":"DINAMICA!H1722","v":0},{"$f":"DINAMICA!I1722","v":0},{"$f":"DINAMICA!J1722","v":0},{"$f":"DINAMICA!K1722","v":0},{"$f":"VALUE(DINAMICA!$L1722)","v":0},{"$f":"VALUE(DINAMICA!$M1722)","v":0},{"$f":"VALUE(DINAMICA!$N1722)","v":0},{"$f":"VALUE(DINAMICA!$O1722)","v":0},{"$f":"VALUE(DINAMICA!$P1722)","v":0},{"$f":"VALUE(DINAMICA!$Q1722)","v":0},{"$f":"VALUE(DINAMICA!$R1722)","v":0}]
[{"$f":"VALUE(DINAMICA!$A1723)","v":0},{"$f":"VALUE(DINAMICA!$B1723)","v":"00:00:00"},{"$f":"VALUE(DINAMICA!$C1723)","v":0},{"$f":"DINAMICA!D1723","v":0},{"$f":"DINAMICA!E1723","v":0},{"$f":"DINAMICA!F1723","v":0},{"$f":"DINAMICA!G1723","v":0},{"$f":"DINAMICA!H1723","v":0},{"$f":"DINAMICA!I1723","v":0},{"$f":"DINAMICA!J1723","v":0},{"$f":"DINAMICA!K1723","v":0},{"$f":"VALUE(DINAMICA!$L1723)","v":0},{"$f":"VALUE(DINAMICA!$M1723)","v":0},{"$f":"VALUE(DINAMICA!$N1723)","v":0},{"$f":"VALUE(DINAMICA!$O1723)","v":0},{"$f":"VALUE(DINAMICA!$P1723)","v":0},{"$f":"VALUE(DINAMICA!$Q1723)","v":0},{"$f":"VALUE(DINAMICA!$R1723)","v":0}]
[{"$f":"VALUE(DINAMICA!$A1724)","v":0},{"$f":"VALUE(DINAMICA!$B1724)","v":"00:00:00"},{"$f":"VALUE(DINAMICA!$C1724)","v":0},{"$f":"DINAMICA!D1724","v":0},{"$f":"DINAMICA!E1724","v":0},{"$f":"DINAMICA!F1724","v":0},{"$f":"DINAMICA!G1724","v":0},{"$f":"DINAMICA!H1724","v":0},{"$f":"DINAMICA!I1724","v":0},{"$f":"DINAMICA!J1724","v":0},{"$f":"DINAMICA!K1724","v":0},{"$f":"VALUE(DINAMICA!$L1724)","v":0},{"$f":"VALUE(DINAMICA!$M1724)","v":0},{"$f":"VALUE(DINAMICA!$N1724)","v":0},{"$f":"VALUE(DINAMICA!$O1724)","v":0},{"$f":"VALUE(DINAMICA!$P1724)","v":0},{"$f":"VALUE(DINAMICA!$Q1724)","v":0},{"$f":"VALUE(DINAMICA!$R1724)","v":0}]
[{"$f":"VALUE(DINAMICA!$A1725)","v":0},{"$f":"VALUE(DINAMICA!$B1725)","v":"00:00:00"},{"$f":"VALUE(DINAMICA!$C1725)","v":0},{"$f":"DINAMICA!D1725","v":0},{"$f":"DINAMICA!E1725","v":0},{"$f":"DINAMICA!F1725","v":0},{"$f":"DINAMICA!G1725","v":0},{"$f":"DINAMICA!H1725","v":0},{"$f":"DINAMICA!I1725","v":0},{"$f":"DINAMICA!J1725","v":0},{"$f":"DINAMICA!K1725","v":0},{"$f":"VALUE(DINAMICA!$L1725)","v":0},{"$f":"VALUE(DINAMICA!$M1725)","v":0},{"$f":"VALUE(DINAMICA!$N1725)","v":0},{"$f":"VALUE(DINAMICA!$O1725)","v":0},{"$f":"VALUE(DINAMICA!$P1725)","v":0},{"$f":"VALUE(DINAMICA!$Q1725)","v":0},{"$f":"VALUE(DINAMICA!$R1725)","v":0}]
[{"$f":"VALUE(DINAMICA!$A1726)","v":0},{"$f":"VALUE(DINAMICA!$B1726)","v":"00:00:00"},{"$f":"VALUE(DINAMICA!$C1726)","v":0},{"$f":"DINAMICA!D1726","v":0},{"$f":"DINAMICA!E1726","v":0},{"$f":"DINAMICA!F1726","v":0},{"$f":"DINAMICA!G1726","v":0},{"$f":"DINAMICA!H1726","v":0},{"$f":"DINAMICA!I1726","v":0},{"$f":"DINAMICA!J1726","v":0},{"$f":"DINAMICA!K1726","v":0},{"$f":"VALUE(DINAMICA!$L1726)","v":0},{"$f":"VALUE(DINAMICA!$M1726)","v":0},{"$f":"VALUE(DINAMICA!$N1726)","v":0},{"$f":"VALUE(DINAMICA!$O1726)","v":0},{"$f":"VALUE(DINAMICA!$P1726)","v":0},{"$f":"VALUE(DINAMICA!$Q1726)","v":0},{"$f":"VALUE(DINAMICA!$R1726)","v":0}]
[{"$f":"VALUE(DINAMICA!$A1727)","v":0},{"$f":"VALUE(DINAMICA!$B1727)","v":"00:00:00"},{"$f":"VALUE(DINAMICA!$C1727)","v":0},{"$f":"DINAMICA!D1727","v":0},{"$f":"DINAMICA!E1727","v":0},{"$f":"DINAMICA!F1727","v":0},{"$f":"DINAMICA!G1727","v":0},{"$f":"DINAMICA!H1727","v":0},{"$f":"DINAMICA!I1727","v":0},{"$f":"DINAMICA!J1727","v":0},{"$f":"DINAMICA!K1727","v":0},{"$f":"VALUE(DINAMICA!$L1727)","v":0},{"$f":"VALUE(DINAMICA!$M1727)","v":0},{"$f":"VALUE(DINAMICA!$N1727)","v":0},{"$f":"VALUE(DINAMICA!$O1727)","v":0},{"$f":"VALUE(DINAMICA!$P1727)","v":0},{"$f":"VALUE(DINAMICA!$Q1727)","v":0},{"$f":"VALUE(DINAMICA!$R1727)","v":0}]
[{"$f":"VALUE(DINAMICA!$A1728)","v":0},{"$f":"VALUE(DINAMICA!$B1728)","v":"00:00:00"},{"$f":"VALUE(DINAMICA!$C1728)","v":0},{"$f":"DINAMICA!D1728","v":0},{"$f":"DINAMICA!E1728","v":0},{"$f":"DINAMICA!F1728","v":0},{"$f":"DINAMICA!G1728","v":0},{"$f":"DINAMICA!H1728","v":0},{"$f":"DINAMICA!I1728","v":0},{"$f":"DINAMICA!J1728","v":0},{"$f":"DINAMICA!K1728","v":0},{"$f":"VALUE(DINAMICA!$L1728)","v":0},{"$f":"VALUE(DINAMICA!$M1728)","v":0},{"$f":"VALUE(DINAMICA!$N1728)","v":0},{"$f":"VALUE(DINAMICA!$O1728)","v":0},{"$f":"VALUE(DINAMICA!$P1728)","v":0},{"$f":"VALUE(DINAMICA!$Q1728)","v":0},{"$f":"VALUE(DINAMICA!$R1728)","v":0}]
[{"$f":"VALUE(DINAMICA!$A1729)","v":0},{"$f":"VALUE(DINAMICA!$B1729)","v":"00:00:00"},{"$f":"VALUE(DINAMICA!$C1729)","v":0},{"$f":"DINAMICA!D1729","v":0},{"$f":"DINAMICA!E1729","v":0},{"$f":"DINAMICA!F1729","v":0},{"$f":"DINAMICA!G1729","v":0},{"$f":"DINAMICA!H1729","v":0},{"$f":"DINAMICA!I1729","v":0},{"$f":"DINAMICA!J1729","v":0},{"$f":"DINAMICA!K1729","v":0},{"$f":"VALUE(DINAMICA!$L1729)","v":0},{"$f":"VALUE(DINAMICA!$M1729)","v":0},{"$f":"VALUE(DINAMICA!$N1729)","v":0},{"$f":"VALUE(DINAMICA!$O1729)","v":0},{"$f":"VALUE(DINAMICA!$P1729)","v":0},{"$f":"VALUE(DINAMICA!$Q1729)","v":0},{"$f":"VALUE(DINAMICA!$R1729)","v":0}]
[{"$f":"VALUE(DINAMICA!$A1730)","v":0},{"$f":"VALUE(DINAMICA!$B1730)","v":"00:00:00"},{"$f":"VALUE(DINAMICA!$C1730)","v":0},{"$f":"DINAMICA!D1730","v":0},{"$f":"DINAMICA!E1730","v":0},{"$f":"DINAMICA!F1730","v":0},{"$f":"DINAMICA!G1730","v":0},{"$f":"DINAMICA!H1730","v":0},{"$f":"DINAMICA!I1730","v":0},{"$f":"DINAMICA!J1730","v":0},{"$f":"DINAMICA!K1730","v":0},{"$f":"VALUE(DINAMICA!$L1730)","v":0},{"$f":"VALUE(DINAMICA!$M1730)","v":0},{"$f":"VALUE(DINAMICA!$N1730)","v":0},{"$f":"VALUE(DINAMICA!$O1730)","v":0},{"$f":"VALUE(DINAMICA!$P1730)","v":0},{"$f":"VALUE(DINAMICA!$Q1730)","v":0},{"$f":"VALUE(DINAMICA!$R1730)","v":0}]
[{"$f":"VALUE(DINAMICA!$A1731)","v":0},{"$f":"VALUE(DINAMICA!$B1731)","v":"00:00:00"},{"$f":"VALUE(DINAMICA!$C1731)","v":0},{"$f":"DINAMICA!D1731","v":0},{"$f":"DINAMICA!E1731","v":0},{"$f":"DINAMICA!F1731","v":0},{"$f":"DINAMICA!G1731","v":0},{"$f":"DINAMICA!H1731","v":0},{"$f":"DINAMICA!I1731","v":0},{"$f":"DINAMICA!J1731","v":0},{"$f":"DINAMICA!K1731","v":0},{"$f":"VALUE(DINAMICA!$L1731)","v":0},{"$f":"VALUE(DINAMICA!$M1731)","v":0},{"$f":"VALUE(DINAMICA!$N1731)","v":0},{"$f":"VALUE(DINAMICA!$O1731)","v":0},{"$f":"VALUE(DINAMICA!$P1731)","v":0},{"$f":"VALUE(DINAMICA!$Q1731)","v":0},{"$f":"VALUE(DINAMICA!$R1731)","v":0}]
[{"$f":"VALUE(DINAMICA!$A1732)","v":0},{"$f":"VALUE(DINAMICA!$B1732)","v":"00:00:00"},{"$f":"VALUE(DINAMICA!$C1732)","v":0},{"$f":"DINAMICA!D1732","v":0},{"$f":"DINAMICA!E1732","v":0},{"$f":"DINAMICA!F1732","v":0},{"$f":"DINAMICA!G1732","v":0},{"$f":"DINAMICA!H1732","v":0},{"$f":"DINAMICA!I1732","v":0},{"$f":"DINAMICA!J1732","v":0},{"$f":"DINAMICA!K1732","v":0},{"$f":"VALUE(DINAMICA!$L1732)","v":0},{"$f":"VALUE(DINAMICA!$M1732)","v":0},{"$f":"VALUE(DINAMICA!$N1732)","v":0},{"$f":"VALUE(DINAMICA!$O1732)","v":0},{"$f":"VALUE(DINAMICA!$P1732)","v":0},{"$f":"VALUE(DINAMICA!$Q1732)","v":0},{"$f":"VALUE(DINAMICA!$R1732)","v":0}]
[{"$f":"VALUE(DINAMICA!$A1733)","v":0},{"$f":"VALUE(DINAMICA!$B1733)","v":"00:00:00"},{"$f":"VALUE(DINAMICA!$C1733)","v":0},{"$f":"DINAMICA!D1733","v":0},{"$f":"DINAMICA!E1733","v":0},{"$f":"DINAMICA!F1733","v":0},{"$f":"DINAMICA!G1733","v":0},{"$f":"DINAMICA!H1733","v":0},{"$f":"DINAMICA!I1733","v":0},{"$f":"DINAMICA!J1733","v":0},{"$f":"DINAMICA!K1733","v":0},{"$f":"VALUE(DINAMICA!$L1733)","v":0},{"$f":"VALUE(DINAMICA!$M1733)","v":0},{"$f":"VALUE(DINAMICA!$N1733)","v":0},{"$f":"VALUE(DINAMICA!$O1733)","v":0},{"$f":"VALUE(DINAMICA!$P1733)","v":0},{"$f":"VALUE(DINAMICA!$Q1733)","v":0},{"$f":"VALUE(DINAMICA!$R1733)","v":0}]
[{"$f":"VALUE(DINAMICA!$A1734)","v":0},{"$f":"VALUE(DINAMICA!$B1734)","v":"00:00:00"},{"$f":"VALUE(DINAMICA!$C1734)","v":0},{"$f":"DINAMICA!D1734","v":0},{"$f":"DINAMICA!E1734","v":0},{"$f":"DINAMICA!F1734","v":0},{"$f":"DINAMICA!G1734","v":0},{"$f":"DINAMICA!H1734","v":0},{"$f":"DINAMICA!I1734","v":0},{"$f":"DINAMICA!J1734","v":0},{"$f":"DINAMICA!K1734","v":0},{"$f":"VALUE(DINAMICA!$L1734)","v":0},{"$f":"VALUE(DINAMICA!$M1734)","v":0},{"$f":"VALUE(DINAMICA!$N1734)","v":0},{"$f":"VALUE(DINAMICA!$O1734)","v":0},{"$f":"VALUE(DINAMICA!$P1734)","v":0},{"$f":"VALUE(DINAMICA!$Q1734)","v":0},{"$f":"VALUE(DINAMICA!$R1734)","v":0}]
[{"$f":"VALUE(DINAMICA!$A1735)","v":0},{"$f":"VALUE(DINAMICA!$B1735)","v":"00:00:00"},{"$f":"VALUE(DINAMICA!$C1735)","v":0},{"$f":"DINAMICA!D1735","v":0},{"$f":"DINAMICA!E1735","v":0},{"$f":"DINAMICA!F1735","v":0},{"$f":"DINAMICA!G1735","v":0},{"$f":"DINAMICA!H1735","v":0},{"$f":"DINAMICA!I1735","v":0},{"$f":"DINAMICA!J1735","v":0},{"$f":"DINAMICA!K1735","v":0},{"$f":"VALUE(DINAMICA!$L1735)","v":0},{"$f":"VALUE(DINAMICA!$M1735)","v":0},{"$f":"VALUE(DINAMICA!$N1735)","v":0},{"$f":"VALUE(DINAMICA!$O1735)","v":0},{"$f":"VALUE(DINAMICA!$P1735)","v":0},{"$f":"VALUE(DINAMICA!$Q1735)","v":0},{"$f":"VALUE(DINAMICA!$R1735)","v":0}]
[{"$f":"VALUE(DINAMICA!$A1736)","v":0},{"$f":"VALUE(DINAMICA!$B1736)","v":"00:00:00"},{"$f":"VALUE(DINAMICA!$C1736)","v":0},{"$f":"DINAMICA!D1736","v":0},{"$f":"DINAMICA!E1736","v":0},{"$f":"DINAMICA!F1736","v":0},{"$f":"DINAMICA!G1736","v":0},{"$f":"DINAMICA!H1736","v":0},{"$f":"DINAMICA!I1736","v":0},{"$f":"DINAMICA!J1736","v":0},{"$f":"DINAMICA!K1736","v":0},{"$f":"VALUE(DINAMICA!$L1736)","v":0},{"$f":"VALUE(DINAMICA!$M1736)","v":0},{"$f":"VALUE(DINAMICA!$N1736)","v":0},{"$f":"VALUE(DINAMICA!$O1736)","v":0},{"$f":"VALUE(DINAMICA!$P1736)","v":0},{"$f":"VALUE(DINAMICA!$Q1736)","v":0},{"$f":"VALUE(DINAMICA!$R1736)","v":0}]
[{"$f":"VALUE(DINAMICA!$A1737)","v":0},{"$f":"VALUE(DINAMICA!$B1737)","v":"00:00:00"},{"$f":"VALUE(DINAMICA!$C1737)","v":0},{"$f":"DINAMICA!D1737","v":0},{"$f":"DINAMICA!E1737","v":0},{"$f":"DINAMICA!F1737","v":0},{"$f":"DINAMICA!G1737","v":0},{"$f":"DINAMICA!H1737","v":0},{"$f":"DINAMICA!I1737","v":0},{"$f":"DINAMICA!J1737","v":0},{"$f":"DINAMICA!K1737","v":0},{"$f":"VALUE(DINAMICA!$L1737)","v":0},{"$f":"VALUE(DINAMICA!$M1737)","v":0},{"$f":"VALUE(DINAMICA!$N1737)","v":0},{"$f":"VALUE(DINAMICA!$O1737)","v":0},{"$f":"VALUE(DINAMICA!$P1737)","v":0},{"$f":"VALUE(DINAMICA!$Q1737)","v":0},{"$f":"VALUE(DINAMICA!$R1737)","v":0}]
[{"$f":"VALUE(DINAMICA!$A1738)","v":0},{"$f":"VALUE(DINAMICA!$B1738)","v":"00:00:00"},{"$f":"VALUE(DINAMICA!$C1738)","v":0},{"$f":"DINAMICA!D1738","v":0},{"$f":"DINAMICA!E1738","v":0},{"$f":"DINAMICA!F1738","v":0},{"$f":"DINAMICA!G1738","v":0},{"$f":"DINAMICA!H1738","v":0},{"$f":"DINAMICA!I1738","v":0},{"$f":"DINAMICA!J1738","v":0},{"$f":"DINAMICA!K1738","v":0},{"$f":"VALUE(DINAMICA!$L1738)","v":0},{"$f":"VALUE(DINAMICA!$M1738)","v":0},{"$f":"VALUE(DINAMICA!$N1738)","v":0},{"$f":"VALUE(DINAMICA!$O1738)","v":0},{"$f":"VALUE(DINAMICA!$P1738)","v":0},{"$f":"VALUE(DINAMICA!$Q1738)","v":0},{"$f":"VALUE(DINAMICA!$R1738)","v":0}]
[{"$f":"VALUE(DINAMICA!$A1739)","v":0},{"$f":"VALUE(DINAMICA!$B1739)","v":"00:00:00"},{"$f":"VALUE(DINAMICA!$C1739)","v":0},{"$f":"DINAMICA!D1739","v":0},{"$f":"DINAMICA!E1739","v":0},{"$f":"DINAMICA!F1739","v":0},{"$f":"DINAMICA!G1739","v":0},{"$f":"DINAMICA!H1739","v":0},{"$f":"DINAMICA!I1739","v":0},{"$f":"DINAMICA!J1739","v":0},{"$f":"DINAMICA!K1739","v":0},{"$f":"VALUE(DINAMICA!$L1739)","v":0},{"$f":"VALUE(DINAMICA!$M1739)","v":0},{"$f":"VALUE(DINAMICA!$N1739)","v":0},{"$f":"VALUE(DINAMICA!$O1739)","v":0},{"$f":"VALUE(DINAMICA!$P1739)","v":0},{"$f":"VALUE(DINAMICA!$Q1739)","v":0},{"$f":"VALUE(DINAMICA!$R1739)","v":0}]
[{"$f":"VALUE(DINAMICA!$A1740)","v":0},{"$f":"VALUE(DINAMICA!$B1740)","v":"00:00:00"},{"$f":"VALUE(DINAMICA!$C1740)","v":0},{"$f":"DINAMICA!D1740","v":0},{"$f":"DINAMICA!E1740","v":0},{"$f":"DINAMICA!F1740","v":0},{"$f":"DINAMICA!G1740","v":0},{"$f":"DINAMICA!H1740","v":0},{"$f":"DINAMICA!I1740","v":0},{"$f":"DINAMICA!J1740","v":0},{"$f":"DINAMICA!K1740","v":0},{"$f":"VALUE(DINAMICA!$L1740)","v":0},{"$f":"VALUE(DINAMICA!$M1740)","v":0},{"$f":"VALUE(DINAMICA!$N1740)","v":0},{"$f":"VALUE(DINAMICA!$O1740)","v":0},{"$f":"VALUE(DINAMICA!$P1740)","v":0},{"$f":"VALUE(DINAMICA!$Q1740)","v":0},{"$f":"VALUE(DINAMICA!$R1740)","v":0}]
[{"$f":"VALUE(DINAMICA!$A1741)","v":0},{"$f":"VALUE(DINAMICA!$B1741)","v":"00:00:00"},{"$f":"VALUE(DINAMICA!$C1741)","v":0},{"$f":"DINAMICA!D1741","v":0},{"$f":"DINAMICA!E1741","v":0},{"$f":"DINAMICA!F1741","v":0},{"$f":"DINAMICA!G1741","v":0},{"$f":"DINAMICA!H1741","v":0},{"$f":"DINAMICA!I1741","v":0},{"$f":"DINAMICA!J1741","v":0},{"$f":"DINAMICA!K1741","v":0},{"$f":"VALUE(DINAMICA!$L1741)","v":0},{"$f":"VALUE(DINAMICA!$M1741)","v":0},{"$f":"VALUE(DINAMICA!$N1741)","v":0},{"$f":"VALUE(DINAMICA!$O1741)","v":0},{"$f":"VALUE(DINAMICA!$P1741)","v":0},{"$f":"VALUE(DINAMICA!$Q1741)","v":0},{"$f":"VALUE(DINAMICA!$R1741)","v":0}]
[{"$f":"VALUE(DINAMICA!$A1742)","v":0},{"$f":"VALUE(DINAMICA!$B1742)","v":"00:00:00"},{"$f":"VALUE(DINAMICA!$C1742)","v":0},{"$f":"DINAMICA!D1742","v":0},{"$f":"DINAMICA!E1742","v":0},{"$f":"DINAMICA!F1742","v":0},{"$f":"DINAMICA!G1742","v":0},{"$f":"DINAMICA!H1742","v":0},{"$f":"DINAMICA!I1742","v":0},{"$f":"DINAMICA!J1742","v":0},{"$f":"DINAMICA!K1742","v":0},{"$f":"VALUE(DINAMICA!$L1742)","v":0},{"$f":"VALUE(DINAMICA!$M1742)","v":0},{"$f":"VALUE(DINAMICA!$N1742)","v":0},{"$f":"VALUE(DINAMICA!$O1742)","v":0},{"$f":"VALUE(DINAMICA!$P1742)","v":0},{"$f":"VALUE(DINAMICA!$Q1742)","v":0},{"$f":"VALUE(DINAMICA!$R1742)","v":0}]
[{"$f":"VALUE(DINAMICA!$A1743)","v":0},{"$f":"VALUE(DINAMICA!$B1743)","v":"00:00:00"},{"$f":"VALUE(DINAMICA!$C1743)","v":0},{"$f":"DINAMICA!D1743","v":0},{"$f":"DINAMICA!E1743","v":0},{"$f":"DINAMICA!F1743","v":0},{"$f":"DINAMICA!G1743","v":0},{"$f":"DINAMICA!H1743","v":0},{"$f":"DINAMICA!I1743","v":0},{"$f":"DINAMICA!J1743","v":0},{"$f":"DINAMICA!K1743","v":0},{"$f":"VALUE(DINAMICA!$L1743)","v":0},{"$f":"VALUE(DINAMICA!$M1743)","v":0},{"$f":"VALUE(DINAMICA!$N1743)","v":0},{"$f":"VALUE(DINAMICA!$O1743)","v":0},{"$f":"VALUE(DINAMICA!$P1743)","v":0},{"$f":"VALUE(DINAMICA!$Q1743)","v":0},{"$f":"VALUE(DINAMICA!$R1743)","v":0}]
[{"$f":"VALUE(DINAMICA!$A1744)","v":0},{"$f":"VALUE(DINAMICA!$B1744)","v":"00:00:00"},{"$f":"VALUE(DINAMICA!$C1744)","v":0},{"$f":"DINAMICA!D1744","v":0},{"$f":"DINAMICA!E1744","v":0},{"$f":"DINAMICA!F1744","v":0},{"$f":"DINAMICA!G1744","v":0},{"$f":"DINAMICA!H1744","v":0},{"$f":"DINAMICA!I1744","v":0},{"$f":"DINAMICA!J1744","v":0},{"$f":"DINAMICA!K1744","v":0},{"$f":"VALUE(DINAMICA!$L1744)","v":0},{"$f":"VALUE(DINAMICA!$M1744)","v":0},{"$f":"VALUE(DINAMICA!$N1744)","v":0},{"$f":"VALUE(DINAMICA!$O1744)","v":0},{"$f":"VALUE(DINAMICA!$P1744)","v":0},{"$f":"VALUE(DINAMICA!$Q1744)","v":0},{"$f":"VALUE(DINAMICA!$R1744)","v":0}]
[{"$f":"VALUE(DINAMICA!$A1745)","v":0},{"$f":"VALUE(DINAMICA!$B1745)","v":"00:00:00"},{"$f":"VALUE(DINAMICA!$C1745)","v":0},{"$f":"DINAMICA!D1745","v":0},{"$f":"DINAMICA!E1745","v":0},{"$f":"DINAMICA!F1745","v":0},{"$f":"DINAMICA!G1745","v":0},{"$f":"DINAMICA!H1745","v":0},{"$f":"DINAMICA!I1745","v":0},{"$f":"DINAMICA!J1745","v":0},{"$f":"DINAMICA!K1745","v":0},{"$f":"VALUE(DINAMICA!$L1745)","v":0},{"$f":"VALUE(DINAMICA!$M1745)","v":0},{"$f":"VALUE(DINAMICA!$N1745)","v":0},{"$f":"VALUE(DINAMICA!$O1745)","v":0},{"$f":"VALUE(DINAMICA!$P1745)","v":0},{"$f":"VALUE(DINAMICA!$Q1745)","v":0},{"$f":"VALUE(DINAMICA!$R1745)","v":0}]
[{"$f":"VALUE(DINAMICA!$A1746)","v":0},{"$f":"VALUE(DINAMICA!$B1746)","v":"00:00:00"},{"$f":"VALUE(DINAMICA!$C1746)","v":0},{"$f":"DINAMICA!D1746","v":0},{"$f":"DINAMICA!E1746","v":0},{"$f":"DINAMICA!F1746","v":0},{"$f":"DINAMICA!G1746","v":0},{"$f":"DINAMICA!H1746","v":0},{"$f":"DINAMICA!I1746","v":0},{"$f":"DINAMICA!J1746","v":0},{"$f":"DINAMICA!K1746","v":0},{"$f":"VALUE(DINAMICA!$L1746)","v":0},{"$f":"VALUE(DINAMICA!$M1746)","v":0},{"$f":"VALUE(DINAMICA!$N1746)","v":0},{"$f":"VALUE(DINAMICA!$O1746)","v":0},{"$f":"VALUE(DINAMICA!$P1746)","v":0},{"$f":"VALUE(DINAMICA!$Q1746)","v":0},{"$f":"VALUE(DINAMICA!$R1746)","v":0}]
[{"$f":"VALUE(DINAMICA!$A1747)","v":0},{"$f":"VALUE(DINAMICA!$B1747)","v":"00:00:00"},{"$f":"VALUE(DINAMICA!$C1747)","v":0},{"$f":"DINAMICA!D1747","v":0},{"$f":"DINAMICA!E1747","v":0},{"$f":"DINAMICA!F1747","v":0},{"$f":"DINAMICA!G1747","v":0},{"$f":"DINAMICA!H1747","v":0},{"$f":"DINAMICA!I1747","v":0},{"$f":"DINAMICA!J1747","v":0},{"$f":"DINAMICA!K1747","v":0},{"$f":"VALUE(DINAMICA!$L1747)","v":0},{"$f":"VALUE(DINAMICA!$M1747)","v":0},{"$f":"VALUE(DINAMICA!$N1747)","v":0},{"$f":"VALUE(DINAMICA!$O1747)","v":0},{"$f":"VALUE(DINAMICA!$P1747)","v":0},{"$f":"VALUE(DINAMICA!$Q1747)","v":0},{"$f":"VALUE(DINAMICA!$R1747)","v":0}]
[{"$f":"VALUE(DINAMICA!$A1748)","v":0},{"$f":"VALUE(DINAMICA!$B1748)","v":"00:00:00"},{"$f":"VALUE(DINAMICA!$C1748)","v":0},{"$f":"DINAMICA!D1748","v":0},{"$f":"DINAMICA!E1748","v":0},{"$f":"DINAMICA!F1748","v":0},{"$f":"DINAMICA!G1748","v":0},{"$f":"DINAMICA!H1748","v":0},{"$f":"DINAMICA!I1748","v":0},{"$f":"DINAMICA!J1748","v":0},{"$f":"DINAMICA!K1748","v":0},{"$f":"VALUE(DINAMICA!$L1748)","v":0},{"$f":"VALUE(DINAMICA!$M1748)","v":0},{"$f":"VALUE(DINAMICA!$N1748)","v":0},{"$f":"VALUE(DINAMICA!$O1748)","v":0},{"$f":"VALUE(DINAMICA!$P1748)","v":0},{"$f":"VALUE(DINAMICA!$Q1748)","v":0},{"$f":"VALUE(DINAMICA!$R1748)","v":0}]
[{"$f":"VALUE(DINAMICA!$A1749)","v":0},{"$f":"VALUE(DINAMICA!$B1749)","v":"00:00:00"},{"$f":"VALUE(DINAMICA!$C1749)","v":0},{"$f":"DINAMICA!D1749","v":0},{"$f":"DINAMICA!E1749","v":0},{"$f":"DINAMICA!F1749","v":0},{"$f":"DINAMICA!G1749","v":0},{"$f":"DINAMICA!H1749","v":0},{"$f":"DINAMICA!I1749","v":0},{"$f":"DINAMICA!J1749","v":0},{"$f":"DINAMICA!K1749","v":0},{"$f":"VALUE(DINAMICA!$L1749)","v":0},{"$f":"VALUE(DINAMICA!$M1749)","v":0},{"$f":"VALUE(DINAMICA!$N1749)","v":0},{"$f":"VALUE(DINAMICA!$O1749)","v":0},{"$f":"VALUE(DINAMICA!$P1749)","v":0},{"$f":"VALUE(DINAMICA!$Q1749)","v":0},{"$f":"VALUE(DINAMICA!$R1749)","v":0}]
[{"$f":"VALUE(DINAMICA!$A1750)","v":0},{"$f":"VALUE(DINAMICA!$B1750)","v":"00:00:00"},{"$f":"VALUE(DINAMICA!$C1750)","v":0},{"$f":"DINAMICA!D1750","v":0},{"$f":"DINAMICA!E1750","v":0},{"$f":"DINAMICA!F1750","v":0},{"$f":"DINAMICA!G1750","v":0},{"$f":"DINAMICA!H1750","v":0},{"$f":"DINAMICA!I1750","v":0},{"$f":"DINAMICA!J1750","v":0},{"$f":"DINAMICA!K1750","v":0},{"$f":"VALUE(DINAMICA!$L1750)","v":0},{"$f":"VALUE(DINAMICA!$M1750)","v":0},{"$f":"VALUE(DINAMICA!$N1750)","v":0},{"$f":"VALUE(DINAMICA!$O1750)","v":0},{"$f":"VALUE(DINAMICA!$P1750)","v":0},{"$f":"VALUE(DINAMICA!$Q1750)","v":0},{"$f":"VALUE(DINAMICA!$R1750)","v":0}]
[{"$f":"VALUE(DINAMICA!$A1751)","v":0},{"$f":"VALUE(DINAMICA!$B1751)","v":"00:00:00"},{"$f":"VALUE(DINAMICA!$C1751)","v":0},{"$f":"DINAMICA!D1751","v":0},{"$f":"DINAMICA!E1751","v":0},{"$f":"DINAMICA!F1751","v":0},{"$f":"DINAMICA!G1751","v":0},{"$f":"DINAMICA!H1751","v":0},{"$f":"DINAMICA!I1751","v":0},{"$f":"DINAMICA!J1751","v":0},{"$f":"DINAMICA!K1751","v":0},{"$f":"VALUE(DINAMICA!$L1751)","v":0},{"$f":"VALUE(DINAMICA!$M1751)","v":0},{"$f":"VALUE(DINAMICA!$N1751)","v":0},{"$f":"VALUE(DINAMICA!$O1751)","v":0},{"$f":"VALUE(DINAMICA!$P1751)","v":0},{"$f":"VALUE(DINAMICA!$Q1751)","v":0},{"$f":"VALUE(DINAMICA!$R1751)","v":0}]
[{"$f":"VALUE(DINAMICA!$A1752)","v":0},{"$f":"VALUE(DINAMICA!$B1752)","v":"00:00:00"},{"$f":"VALUE(DINAMICA!$C1752)","v":0},{"$f":"DINAMICA!D1752","v":0},{"$f":"DINAMICA!E1752","v":0},{"$f":"DINAMICA!F1752","v":0},{"$f":"DINAMICA!G1752","v":0},{"$f":"DINAMICA!H1752","v":0},{"$f":"DINAMICA!I1752","v":0},{"$f":"DINAMICA!J1752","v":0},{"$f":"DINAMICA!K1752","v":0},{"$f":"VALUE(DINAMICA!$L1752)","v":0},{"$f":"VALUE(DINAMICA!$M1752)","v":0},{"$f":"VALUE(DINAMICA!$N1752)","v":0},{"$f":"VALUE(DINAMICA!$O1752)","v":0},{"$f":"VALUE(DINAMICA!$P1752)","v":0},{"$f":"VALUE(DINAMICA!$Q1752)","v":0},{"$f":"VALUE(DINAMICA!$R1752)","v":0}]
[{"$f":"VALUE(DINAMICA!$A1753)","v":0},{"$f":"VALUE(DINAMICA!$B1753)","v":"00:00:00"},{"$f":"VALUE(DINAMICA!$C1753)","v":0},{"$f":"DINAMICA!D1753","v":0},{"$f":"DINAMICA!E1753","v":0},{"$f":"DINAMICA!F1753","v":0},{"$f":"DINAMICA!G1753","v":0},{"$f":"DINAMICA!H1753","v":0},{"$f":"DINAMICA!I1753","v":0},{"$f":"DINAMICA!J1753","v":0},{"$f":"DINAMICA!K1753","v":0},{"$f":"VALUE(DINAMICA!$L1753)","v":0},{"$f":"VALUE(DINAMICA!$M1753)","v":0},{"$f":"VALUE(DINAMICA!$N1753)","v":0},{"$f":"VALUE(DINAMICA!$O1753)","v":0},{"$f":"VALUE(DINAMICA!$P1753)","v":0},{"$f":"VALUE(DINAMICA!$Q1753)","v":0},{"$f":"VALUE(DINAMICA!$R1753)","v":0}]
[{"$f":"VALUE(DINAMICA!$A1754)","v":0},{"$f":"VALUE(DINAMICA!$B1754)","v":"00:00:00"},{"$f":"VALUE(DINAMICA!$C1754)","v":0},{"$f":"DINAMICA!D1754","v":0},{"$f":"DINAMICA!E1754","v":0},{"$f":"DINAMICA!F1754","v":0},{"$f":"DINAMICA!G1754","v":0},{"$f":"DINAMICA!H1754","v":0},{"$f":"DINAMICA!I1754","v":0},{"$f":"DINAMICA!J1754","v":0},{"$f":"DINAMICA!K1754","v":0},{"$f":"VALUE(DINAMICA!$L1754)","v":0},{"$f":"VALUE(DINAMICA!$M1754)","v":0},{"$f":"VALUE(DINAMICA!$N1754)","v":0},{"$f":"VALUE(DINAMICA!$O1754)","v":0},{"$f":"VALUE(DINAMICA!$P1754)","v":0},{"$f":"VALUE(DINAMICA!$Q1754)","v":0},{"$f":"VALUE(DINAMICA!$R1754)","v":0}]
[{"$f":"VALUE(DINAMICA!$A1755)","v":0},{"$f":"VALUE(DINAMICA!$B1755)","v":"00:00:00"},{"$f":"VALUE(DINAMICA!$C1755)","v":0},{"$f":"DINAMICA!D1755","v":0},{"$f":"DINAMICA!E1755","v":0},{"$f":"DINAMICA!F1755","v":0},{"$f":"DINAMICA!G1755","v":0},{"$f":"DINAMICA!H1755","v":0},{"$f":"DINAMICA!I1755","v":0},{"$f":"DINAMICA!J1755","v":0},{"$f":"DINAMICA!K1755","v":0},{"$f":"VALUE(DINAMICA!$L1755)","v":0},{"$f":"VALUE(DINAMICA!$M1755)","v":0},{"$f":"VALUE(DINAMICA!$N1755)","v":0},{"$f":"VALUE(DINAMICA!$O1755)","v":0},{"$f":"VALUE(DINAMICA!$P1755)","v":0},{"$f":"VALUE(DINAMICA!$Q1755)","v":0},{"$f":"VALUE(DINAMICA!$R1755)","v":0}]
[{"$f":"VALUE(DINAMICA!$A1756)","v":0},{"$f":"VALUE(DINAMICA!$B1756)","v":"00:00:00"},{"$f":"VALUE(DINAMICA!$C1756)","v":0},{"$f":"DINAMICA!D1756","v":0},{"$f":"DINAMICA!E1756","v":0},{"$f":"DINAMICA!F1756","v":0},{"$f":"DINAMICA!G1756","v":0},{"$f":"DINAMICA!H1756","v":0},{"$f":"DINAMICA!I1756","v":0},{"$f":"DINAMICA!J1756","v":0},{"$f":"DINAMICA!K1756","v":0},{"$f":"VALUE(DINAMICA!$L1756)","v":0},{"$f":"VALUE(DINAMICA!$M1756)","v":0},{"$f":"VALUE(DINAMICA!$N1756)","v":0},{"$f":"VALUE(DINAMICA!$O1756)","v":0},{"$f":"VALUE(DINAMICA!$P1756)","v":0},{"$f":"VALUE(DINAMICA!$Q1756)","v":0},{"$f":"VALUE(DINAMICA!$R1756)","v":0}]
[{"$f":"VALUE(DINAMICA!$A1757)","v":0},{"$f":"VALUE(DINAMICA!$B1757)","v":"00:00:00"},{"$f":"VALUE(DINAMICA!$C1757)","v":0},{"$f":"DINAMICA!D1757","v":0},{"$f":"DINAMICA!E1757","v":0},{"$f":"DINAMICA!F1757","v":0},{"$f":"DINAMICA!G1757","v":0},{"$f":"DINAMICA!H1757","v":0},{"$f":"DINAMICA!I1757","v":0},{"$f":"DINAMICA!J1757","v":0},{"$f":"DINAMICA!K1757","v":0},{"$f":"VALUE(DINAMICA!$L1757)","v":0},{"$f":"VALUE(DINAMICA!$M1757)","v":0},{"$f":"VALUE(DINAMICA!$N1757)","v":0},{"$f":"VALUE(DINAMICA!$O1757)","v":0},{"$f":"VALUE(DINAMICA!$P1757)","v":0},{"$f":"VALUE(DINAMICA!$Q1757)","v":0},{"$f":"VALUE(DINAMICA!$R1757)","v":0}]
[{"$f":"VALUE(DINAMICA!$A1758)","v":0},{"$f":"VALUE(DINAMICA!$B1758)","v":"00:00:00"},{"$f":"VALUE(DINAMICA!$C1758)","v":0},{"$f":"DINAMICA!D1758","v":0},{"$f":"DINAMICA!E1758","v":0},{"$f":"DINAMICA!F1758","v":0},{"$f":"DINAMICA!G1758","v":0},{"$f":"DINAMICA!H1758","v":0},{"$f":"DINAMICA!I1758","v":0},{"$f":"DINAMICA!J1758","v":0},{"$f":"DINAMICA!K1758","v":0},{"$f":"VALUE(DINAMICA!$L1758)","v":0},{"$f":"VALUE(DINAMICA!$M1758)","v":0},{"$f":"VALUE(DINAMICA!$N1758)","v":0},{"$f":"VALUE(DINAMICA!$O1758)","v":0},{"$f":"VALUE(DINAMICA!$P1758)","v":0},{"$f":"VALUE(DINAMICA!$Q1758)","v":0},{"$f":"VALUE(DINAMICA!$R1758)","v":0}]
[{"$f":"VALUE(DINAMICA!$A1759)","v":0},{"$f":"VALUE(DINAMICA!$B1759)","v":"00:00:00"},{"$f":"VALUE(DINAMICA!$C1759)","v":0},{"$f":"DINAMICA!D1759","v":0},{"$f":"DINAMICA!E1759","v":0},{"$f":"DINAMICA!F1759","v":0},{"$f":"DINAMICA!G1759","v":0},{"$f":"DINAMICA!H1759","v":0},{"$f":"DINAMICA!I1759","v":0},{"$f":"DINAMICA!J1759","v":0},{"$f":"DINAMICA!K1759","v":0},{"$f":"VALUE(DINAMICA!$L1759)","v":0},{"$f":"VALUE(DINAMICA!$M1759)","v":0},{"$f":"VALUE(DINAMICA!$N1759)","v":0},{"$f":"VALUE(DINAMICA!$O1759)","v":0},{"$f":"VALUE(DINAMICA!$P1759)","v":0},{"$f":"VALUE(DINAMICA!$Q1759)","v":0},{"$f":"VALUE(DINAMICA!$R1759)","v":0}]
[{"$f":"VALUE(DINAMICA!$A1760)","v":0},{"$f":"VALUE(DINAMICA!$B1760)","v":"00:00:00"},{"$f":"VALUE(DINAMICA!$C1760)","v":0},{"$f":"DINAMICA!D1760","v":0},{"$f":"DINAMICA!E1760","v":0},{"$f":"DINAMICA!F1760","v":0},{"$f":"DINAMICA!G1760","v":0},{"$f":"DINAMICA!H1760","v":0},{"$f":"DINAMICA!I1760","v":0},{"$f":"DINAMICA!J1760","v":0},{"$f":"DINAMICA!K1760","v":0},{"$f":"VALUE(DINAMICA!$L1760)","v":0},{"$f":"VALUE(DINAMICA!$M1760)","v":0},{"$f":"VALUE(DINAMICA!$N1760)","v":0},{"$f":"VALUE(DINAMICA!$O1760)","v":0},{"$f":"VALUE(DINAMICA!$P1760)","v":0},{"$f":"VALUE(DINAMICA!$Q1760)","v":0},{"$f":"VALUE(DINAMICA!$R1760)","v":0}]
[{"$f":"VALUE(DINAMICA!$A1761)","v":0},{"$f":"VALUE(DINAMICA!$B1761)","v":"00:00:00"},{"$f":"VALUE(DINAMICA!$C1761)","v":0},{"$f":"DINAMICA!D1761","v":0},{"$f":"DINAMICA!E1761","v":0},{"$f":"DINAMICA!F1761","v":0},{"$f":"DINAMICA!G1761","v":0},{"$f":"DINAMICA!H1761","v":0},{"$f":"DINAMICA!I1761","v":0},{"$f":"DINAMICA!J1761","v":0},{"$f":"DINAMICA!K1761","v":0},{"$f":"VALUE(DINAMICA!$L1761)","v":0},{"$f":"VALUE(DINAMICA!$M1761)","v":0},{"$f":"VALUE(DINAMICA!$N1761)","v":0},{"$f":"VALUE(DINAMICA!$O1761)","v":0},{"$f":"VALUE(DINAMICA!$P1761)","v":0},{"$f":"VALUE(DINAMICA!$Q1761)","v":0},{"$f":"VALUE(DINAMICA!$R1761)","v":0}]
[{"$f":"VALUE(DINAMICA!$A1762)","v":0},{"$f":"VALUE(DINAMICA!$B1762)","v":"00:00:00"},{"$f":"VALUE(DINAMICA!$C1762)","v":0},{"$f":"DINAMICA!D1762","v":0},{"$f":"DINAMICA!E1762","v":0},{"$f":"DINAMICA!F1762","v":0},{"$f":"DINAMICA!G1762","v":0},{"$f":"DINAMICA!H1762","v":0},{"$f":"DINAMICA!I1762","v":0},{"$f":"DINAMICA!J1762","v":0},{"$f":"DINAMICA!K1762","v":0},{"$f":"VALUE(DINAMICA!$L1762)","v":0},{"$f":"VALUE(DINAMICA!$M1762)","v":0},{"$f":"VALUE(DINAMICA!$N1762)","v":0},{"$f":"VALUE(DINAMICA!$O1762)","v":0},{"$f":"VALUE(DINAMICA!$P1762)","v":0},{"$f":"VALUE(DINAMICA!$Q1762)","v":0},{"$f":"VALUE(DINAMICA!$R1762)","v":0}]
[{"$f":"VALUE(DINAMICA!$A1763)","v":0},{"$f":"VALUE(DINAMICA!$B1763)","v":"00:00:00"},{"$f":"VALUE(DINAMICA!$C1763)","v":0},{"$f":"DINAMICA!D1763","v":0},{"$f":"DINAMICA!E1763","v":0},{"$f":"DINAMICA!F1763","v":0},{"$f":"DINAMICA!G1763","v":0},{"$f":"DINAMICA!H1763","v":0},{"$f":"DINAMICA!I1763","v":0},{"$f":"DINAMICA!J1763","v":0},{"$f":"DINAMICA!K1763","v":0},{"$f":"VALUE(DINAMICA!$L1763)","v":0},{"$f":"VALUE(DINAMICA!$M1763)","v":0},{"$f":"VALUE(DINAMICA!$N1763)","v":0},{"$f":"VALUE(DINAMICA!$O1763)","v":0},{"$f":"VALUE(DINAMICA!$P1763)","v":0},{"$f":"VALUE(DINAMICA!$Q1763)","v":0},{"$f":"VALUE(DINAMICA!$R1763)","v":0}]
[{"$f":"VALUE(DINAMICA!$A1764)","v":0},{"$f":"VALUE(DINAMICA!$B1764)","v":"00:00:00"},{"$f":"VALUE(DINAMICA!$C1764)","v":0},{"$f":"DINAMICA!D1764","v":0},{"$f":"DINAMICA!E1764","v":0},{"$f":"DINAMICA!F1764","v":0},{"$f":"DINAMICA!G1764","v":0},{"$f":"DINAMICA!H1764","v":0},{"$f":"DINAMICA!I1764","v":0},{"$f":"DINAMICA!J1764","v":0},{"$f":"DINAMICA!K1764","v":0},{"$f":"VALUE(DINAMICA!$L1764)","v":0},{"$f":"VALUE(DINAMICA!$M1764)","v":0},{"$f":"VALUE(DINAMICA!$N1764)","v":0},{"$f":"VALUE(DINAMICA!$O1764)","v":0},{"$f":"VALUE(DINAMICA!$P1764)","v":0},{"$f":"VALUE(DINAMICA!$Q1764)","v":0},{"$f":"VALUE(DINAMICA!$R1764)","v":0}]
[{"$f":"VALUE(DINAMICA!$A1765)","v":0},{"$f":"VALUE(DINAMICA!$B1765)","v":"00:00:00"},{"$f":"VALUE(DINAMICA!$C1765)","v":0},{"$f":"DINAMICA!D1765","v":0},{"$f":"DINAMICA!E1765","v":0},{"$f":"DINAMICA!F1765","v":0},{"$f":"DINAMICA!G1765","v":0},{"$f":"DINAMICA!H1765","v":0},{"$f":"DINAMICA!I1765","v":0},{"$f":"DINAMICA!J1765","v":0},{"$f":"DINAMICA!K1765","v":0},{"$f":"VALUE(DINAMICA!$L1765)","v":0},{"$f":"VALUE(DINAMICA!$M1765)","v":0},{"$f":"VALUE(DINAMICA!$N1765)","v":0},{"$f":"VALUE(DINAMICA!$O1765)","v":0},{"$f":"VALUE(DINAMICA!$P1765)","v":0},{"$f":"VALUE(DINAMICA!$Q1765)","v":0},{"$f":"VALUE(DINAMICA!$R1765)","v":0}]
[{"$f":"VALUE(DINAMICA!$A1766)","v":0},{"$f":"VALUE(DINAMICA!$B1766)","v":"00:00:00"},{"$f":"VALUE(DINAMICA!$C1766)","v":0},{"$f":"DINAMICA!D1766","v":0},{"$f":"DINAMICA!E1766","v":0},{"$f":"DINAMICA!F1766","v":0},{"$f":"DINAMICA!G1766","v":0},{"$f":"DINAMICA!H1766","v":0},{"$f":"DINAMICA!I1766","v":0},{"$f":"DINAMICA!J1766","v":0},{"$f":"DINAMICA!K1766","v":0},{"$f":"VALUE(DINAMICA!$L1766)","v":0},{"$f":"VALUE(DINAMICA!$M1766)","v":0},{"$f":"VALUE(DINAMICA!$N1766)","v":0},{"$f":"VALUE(DINAMICA!$O1766)","v":0},{"$f":"VALUE(DINAMICA!$P1766)","v":0},{"$f":"VALUE(DINAMICA!$Q1766)","v":0},{"$f":"VALUE(DINAMICA!$R1766)","v":0}]
[{"$f":"VALUE(DINAMICA!$A1767)","v":0},{"$f":"VALUE(DINAMICA!$B1767)","v":"00:00:00"},{"$f":"VALUE(DINAMICA!$C1767)","v":0},{"$f":"DINAMICA!D1767","v":0},{"$f":"DINAMICA!E1767","v":0},{"$f":"DINAMICA!F1767","v":0},{"$f":"DINAMICA!G1767","v":0},{"$f":"DINAMICA!H1767","v":0},{"$f":"DINAMICA!I1767","v":0},{"$f":"DINAMICA!J1767","v":0},{"$f":"DINAMICA!K1767","v":0},{"$f":"VALUE(DINAMICA!$L1767)","v":0},{"$f":"VALUE(DINAMICA!$M1767)","v":0},{"$f":"VALUE(DINAMICA!$N1767)","v":0},{"$f":"VALUE(DINAMICA!$O1767)","v":0},{"$f":"VALUE(DINAMICA!$P1767)","v":0},{"$f":"VALUE(DINAMICA!$Q1767)","v":0},{"$f":"VALUE(DINAMICA!$R1767)","v":0}]
[{"$f":"VALUE(DINAMICA!$A1768)","v":0},{"$f":"VALUE(DINAMICA!$B1768)","v":"00:00:00"},{"$f":"VALUE(DINAMICA!$C1768)","v":0},{"$f":"DINAMICA!D1768","v":0},{"$f":"DINAMICA!E1768","v":0},{"$f":"DINAMICA!F1768","v":0},{"$f":"DINAMICA!G1768","v":0},{"$f":"DINAMICA!H1768","v":0},{"$f":"DINAMICA!I1768","v":0},{"$f":"DINAMICA!J1768","v":0},{"$f":"DINAMICA!K1768","v":0},{"$f":"VALUE(DINAMICA!$L1768)","v":0},{"$f":"VALUE(DINAMICA!$M1768)","v":0},{"$f":"VALUE(DINAMICA!$N1768)","v":0},{"$f":"VALUE(DINAMICA!$O1768)","v":0},{"$f":"VALUE(DINAMICA!$P1768)","v":0},{"$f":"VALUE(DINAMICA!$Q1768)","v":0},{"$f":"VALUE(DINAMICA!$R1768)","v":0}]
[{"$f":"VALUE(DINAMICA!$A1769)","v":0},{"$f":"VALUE(DINAMICA!$B1769)","v":"00:00:00"},{"$f":"VALUE(DINAMICA!$C1769)","v":0},{"$f":"DINAMICA!D1769","v":0},{"$f":"DINAMICA!E1769","v":0},{"$f":"DINAMICA!F1769","v":0},{"$f":"DINAMICA!G1769","v":0},{"$f":"DINAMICA!H1769","v":0},{"$f":"DINAMICA!I1769","v":0},{"$f":"DINAMICA!J1769","v":0},{"$f":"DINAMICA!K1769","v":0},{"$f":"VALUE(DINAMICA!$L1769)","v":0},{"$f":"VALUE(DINAMICA!$M1769)","v":0},{"$f":"VALUE(DINAMICA!$N1769)","v":0},{"$f":"VALUE(DINAMICA!$O1769)","v":0},{"$f":"VALUE(DINAMICA!$P1769)","v":0},{"$f":"VALUE(DINAMICA!$Q1769)","v":0},{"$f":"VALUE(DINAMICA!$R1769)","v":0}]
[{"$f":"VALUE(DINAMICA!$A1770)","v":0},{"$f":"VALUE(DINAMICA!$B1770)","v":"00:00:00"},{"$f":"VALUE(DINAMICA!$C1770)","v":0},{"$f":"DINAMICA!D1770","v":0},{"$f":"DINAMICA!E1770","v":0},{"$f":"DINAMICA!F1770","v":0},{"$f":"DINAMICA!G1770","v":0},{"$f":"DINAMICA!H1770","v":0},{"$f":"DINAMICA!I1770","v":0},{"$f":"DINAMICA!J1770","v":0},{"$f":"DINAMICA!K1770","v":0},{"$f":"VALUE(DINAMICA!$L1770)","v":0},{"$f":"VALUE(DINAMICA!$M1770)","v":0},{"$f":"VALUE(DINAMICA!$N1770)","v":0},{"$f":"VALUE(DINAMICA!$O1770)","v":0},{"$f":"VALUE(DINAMICA!$P1770)","v":0},{"$f":"VALUE(DINAMICA!$Q1770)","v":0},{"$f":"VALUE(DINAMICA!$R1770)","v":0}]
[{"$f":"VALUE(DINAMICA!$A1771)","v":0},{"$f":"VALUE(DINAMICA!$B1771)","v":"00:00:00"},{"$f":"VALUE(DINAMICA!$C1771)","v":0},{"$f":"DINAMICA!D1771","v":0},{"$f":"DINAMICA!E1771","v":0},{"$f":"DINAMICA!F1771","v":0},{"$f":"DINAMICA!G1771","v":0},{"$f":"DINAMICA!H1771","v":0},{"$f":"DINAMICA!I1771","v":0},{"$f":"DINAMICA!J1771","v":0},{"$f":"DINAMICA!K1771","v":0},{"$f":"VALUE(DINAMICA!$L1771)","v":0},{"$f":"VALUE(DINAMICA!$M1771)","v":0},{"$f":"VALUE(DINAMICA!$N1771)","v":0},{"$f":"VALUE(DINAMICA!$O1771)","v":0},{"$f":"VALUE(DINAMICA!$P1771)","v":0},{"$f":"VALUE(DINAMICA!$Q1771)","v":0},{"$f":"VALUE(DINAMICA!$R1771)","v":0}]
[{"$f":"VALUE(DINAMICA!$A1772)","v":0},{"$f":"VALUE(DINAMICA!$B1772)","v":"00:00:00"},{"$f":"VALUE(DINAMICA!$C1772)","v":0},{"$f":"DINAMICA!D1772","v":0},{"$f":"DINAMICA!E1772","v":0},{"$f":"DINAMICA!F1772","v":0},{"$f":"DINAMICA!G1772","v":0},{"$f":"DINAMICA!H1772","v":0},{"$f":"DINAMICA!I1772","v":0},{"$f":"DINAMICA!J1772","v":0},{"$f":"DINAMICA!K1772","v":0},{"$f":"VALUE(DINAMICA!$L1772)","v":0},{"$f":"VALUE(DINAMICA!$M1772)","v":0},{"$f":"VALUE(DINAMICA!$N1772)","v":0},{"$f":"VALUE(DINAMICA!$O1772)","v":0},{"$f":"VALUE(DINAMICA!$P1772)","v":0},{"$f":"VALUE(DINAMICA!$Q1772)","v":0},{"$f":"VALUE(DINAMICA!$R1772)","v":0}]
[{"$f":"VALUE(DINAMICA!$A1773)","v":0},{"$f":"VALUE(DINAMICA!$B1773)","v":"00:00:00"},{"$f":"VALUE(DINAMICA!$C1773)","v":0},{"$f":"DINAMICA!D1773","v":0},{"$f":"DINAMICA!E1773","v":0},{"$f":"DINAMICA!F1773","v":0},{"$f":"DINAMICA!G1773","v":0},{"$f":"DINAMICA!H1773","v":0},{"$f":"DINAMICA!I1773","v":0},{"$f":"DINAMICA!J1773","v":0},{"$f":"DINAMICA!K1773","v":0},{"$f":"VALUE(DINAMICA!$L1773)","v":0},{"$f":"VALUE(DINAMICA!$M1773)","v":0},{"$f":"VALUE(DINAMICA!$N1773)","v":0},{"$f":"VALUE(DINAMICA!$O1773)","v":0},{"$f":"VALUE(DINAMICA!$P1773)","v":0},{"$f":"VALUE(DINAMICA!$Q1773)","v":0},{"$f":"VALUE(DINAMICA!$R1773)","v":0}]
[{"$f":"VALUE(DINAMICA!$A1774)","v":0},{"$f":"VALUE(DINAMICA!$B1774)","v":"00:00:00"},{"$f":"VALUE(DINAMICA!$C1774)","v":0},{"$f":"DINAMICA!D1774","v":0},{"$f":"DINAMICA!E1774","v":0},{"$f":"DINAMICA!F1774","v":0},{"$f":"DINAMICA!G1774","v":0},{"$f":"DINAMICA!H1774","v":0},{"$f":"DINAMICA!I1774","v":0},{"$f":"DINAMICA!J1774","v":0},{"$f":"DINAMICA!K1774","v":0},{"$f":"VALUE(DINAMICA!$L1774)","v":0},{"$f":"VALUE(DINAMICA!$M1774)","v":0},{"$f":"VALUE(DINAMICA!$N1774)","v":0},{"$f":"VALUE(DINAMICA!$O1774)","v":0},{"$f":"VALUE(DINAMICA!$P1774)","v":0},{"$f":"VALUE(DINAMICA!$Q1774)","v":0},{"$f":"VALUE(DINAMICA!$R1774)","v":0}]
[{"$f":"VALUE(DINAMICA!$A1775)","v":0},{"$f":"VALUE(DINAMICA!$B1775)","v":"00:00:00"},{"$f":"VALUE(DINAMICA!$C1775)","v":0},{"$f":"DINAMICA!D1775","v":0},{"$f":"DINAMICA!E1775","v":0},{"$f":"DINAMICA!F1775","v":0},{"$f":"DINAMICA!G1775","v":0},{"$f":"DINAMICA!H1775","v":0},{"$f":"DINAMICA!I1775","v":0},{"$f":"DINAMICA!J1775","v":0},{"$f":"DINAMICA!K1775","v":0},{"$f":"VALUE(DINAMICA!$L1775)","v":0},{"$f":"VALUE(DINAMICA!$M1775)","v":0},{"$f":"VALUE(DINAMICA!$N1775)","v":0},{"$f":"VALUE(DINAMICA!$O1775)","v":0},{"$f":"VALUE(DINAMICA!$P1775)","v":0},{"$f":"VALUE(DINAMICA!$Q1775)","v":0},{"$f":"VALUE(DINAMICA!$R1775)","v":0}]
[{"$f":"VALUE(DINAMICA!$A1776)","v":0},{"$f":"VALUE(DINAMICA!$B1776)","v":"00:00:00"},{"$f":"VALUE(DINAMICA!$C1776)","v":0},{"$f":"DINAMICA!D1776","v":0},{"$f":"DINAMICA!E1776","v":0},{"$f":"DINAMICA!F1776","v":0},{"$f":"DINAMICA!G1776","v":0},{"$f":"DINAMICA!H1776","v":0},{"$f":"DINAMICA!I1776","v":0},{"$f":"DINAMICA!J1776","v":0},{"$f":"DINAMICA!K1776","v":0},{"$f":"VALUE(DINAMICA!$L1776)","v":0},{"$f":"VALUE(DINAMICA!$M1776)","v":0},{"$f":"VALUE(DINAMICA!$N1776)","v":0},{"$f":"VALUE(DINAMICA!$O1776)","v":0},{"$f":"VALUE(DINAMICA!$P1776)","v":0},{"$f":"VALUE(DINAMICA!$Q1776)","v":0},{"$f":"VALUE(DINAMICA!$R1776)","v":0}]
[{"$f":"VALUE(DINAMICA!$A1777)","v":0},{"$f":"VALUE(DINAMICA!$B1777)","v":"00:00:00"},{"$f":"VALUE(DINAMICA!$C1777)","v":0},{"$f":"DINAMICA!D1777","v":0},{"$f":"DINAMICA!E1777","v":0},{"$f":"DINAMICA!F1777","v":0},{"$f":"DINAMICA!G1777","v":0},{"$f":"DINAMICA!H1777","v":0},{"$f":"DINAMICA!I1777","v":0},{"$f":"DINAMICA!J1777","v":0},{"$f":"DINAMICA!K1777","v":0},{"$f":"VALUE(DINAMICA!$L1777)","v":0},{"$f":"VALUE(DINAMICA!$M1777)","v":0},{"$f":"VALUE(DINAMICA!$N1777)","v":0},{"$f":"VALUE(DINAMICA!$O1777)","v":0},{"$f":"VALUE(DINAMICA!$P1777)","v":0},{"$f":"VALUE(DINAMICA!$Q1777)","v":0},{"$f":"VALUE(DINAMICA!$R1777)","v":0}]
[{"$f":"VALUE(DINAMICA!$A1778)","v":0},{"$f":"VALUE(DINAMICA!$B1778)","v":"00:00:00"},{"$f":"VALUE(DINAMICA!$C1778)","v":0},{"$f":"DINAMICA!D1778","v":0},{"$f":"DINAMICA!E1778","v":0},{"$f":"DINAMICA!F1778","v":0},{"$f":"DINAMICA!G1778","v":0},{"$f":"DINAMICA!H1778","v":0},{"$f":"DINAMICA!I1778","v":0},{"$f":"DINAMICA!J1778","v":0},{"$f":"DINAMICA!K1778","v":0},{"$f":"VALUE(DINAMICA!$L1778)","v":0},{"$f":"VALUE(DINAMICA!$M1778)","v":0},{"$f":"VALUE(DINAMICA!$N1778)","v":0},{"$f":"VALUE(DINAMICA!$O1778)","v":0},{"$f":"VALUE(DINAMICA!$P1778)","v":0},{"$f":"VALUE(DINAMICA!$Q1778)","v":0},{"$f":"VALUE(DINAMICA!$R1778)","v":0}]
[{"$f":"VALUE(DINAMICA!$A1779)","v":0},{"$f":"VALUE(DINAMICA!$B1779)","v":"00:00:00"},{"$f":"VALUE(DINAMICA!$C1779)","v":0},{"$f":"DINAMICA!D1779","v":0},{"$f":"DINAMICA!E1779","v":0},{"$f":"DINAMICA!F1779","v":0},{"$f":"DINAMICA!G1779","v":0},{"$f":"DINAMICA!H1779","v":0},{"$f":"DINAMICA!I1779","v":0},{"$f":"DINAMICA!J1779","v":0},{"$f":"DINAMICA!K1779","v":0},{"$f":"VALUE(DINAMICA!$L1779)","v":0},{"$f":"VALUE(DINAMICA!$M1779)","v":0},{"$f":"VALUE(DINAMICA!$N1779)","v":0},{"$f":"VALUE(DINAMICA!$O1779)","v":0},{"$f":"VALUE(DINAMICA!$P1779)","v":0},{"$f":"VALUE(DINAMICA!$Q1779)","v":0},{"$f":"VALUE(DINAMICA!$R1779)","v":0}]
[{"$f":"VALUE(DINAMICA!$A1780)","v":0},{"$f":"VALUE(DINAMICA!$B1780)","v":"00:00:00"},{"$f":"VALUE(DINAMICA!$C1780)","v":0},{"$f":"DINAMICA!D1780","v":0},{"$f":"DINAMICA!E1780","v":0},{"$f":"DINAMICA!F1780","v":0},{"$f":"DINAMICA!G1780","v":0},{"$f":"DINAMICA!H1780","v":0},{"$f":"DINAMICA!I1780","v":0},{"$f":"DINAMICA!J1780","v":0},{"$f":"DINAMICA!K1780","v":0},{"$f":"VALUE(DINAMICA!$L1780)","v":0},{"$f":"VALUE(DINAMICA!$M1780)","v":0},{"$f":"VALUE(DINAMICA!$N1780)","v":0},{"$f":"VALUE(DINAMICA!$O1780)","v":0},{"$f":"VALUE(DINAMICA!$P1780)","v":0},{"$f":"VALUE(DINAMICA!$Q1780)","v":0},{"$f":"VALUE(DINAMICA!$R1780)","v":0}]
[{"$f":"VALUE(DINAMICA!$A1781)","v":0},{"$f":"VALUE(DINAMICA!$B1781)","v":"00:00:00"},{"$f":"VALUE(DINAMICA!$C1781)","v":0},{"$f":"DINAMICA!D1781","v":0},{"$f":"DINAMICA!E1781","v":0},{"$f":"DINAMICA!F1781","v":0},{"$f":"DINAMICA!G1781","v":0},{"$f":"DINAMICA!H1781","v":0},{"$f":"DINAMICA!I1781","v":0},{"$f":"DINAMICA!J1781","v":0},{"$f":"DINAMICA!K1781","v":0},{"$f":"VALUE(DINAMICA!$L1781)","v":0},{"$f":"VALUE(DINAMICA!$M1781)","v":0},{"$f":"VALUE(DINAMICA!$N1781)","v":0},{"$f":"VALUE(DINAMICA!$O1781)","v":0},{"$f":"VALUE(DINAMICA!$P1781)","v":0},{"$f":"VALUE(DINAMICA!$Q1781)","v":0},{"$f":"VALUE(DINAMICA!$R1781)","v":0}]
[{"$f":"VALUE(DINAMICA!$A1782)","v":0},{"$f":"VALUE(DINAMICA!$B1782)","v":"00:00:00"},{"$f":"VALUE(DINAMICA!$C1782)","v":0},{"$f":"DINAMICA!D1782","v":0},{"$f":"DINAMICA!E1782","v":0},{"$f":"DINAMICA!F1782","v":0},{"$f":"DINAMICA!G1782","v":0},{"$f":"DINAMICA!H1782","v":0},{"$f":"DINAMICA!I1782","v":0},{"$f":"DINAMICA!J1782","v":0},{"$f":"DINAMICA!K1782","v":0},{"$f":"VALUE(DINAMICA!$L1782)","v":0},{"$f":"VALUE(DINAMICA!$M1782)","v":0},{"$f":"VALUE(DINAMICA!$N1782)","v":0},{"$f":"VALUE(DINAMICA!$O1782)","v":0},{"$f":"VALUE(DINAMICA!$P1782)","v":0},{"$f":"VALUE(DINAMICA!$Q1782)","v":0},{"$f":"VALUE(DINAMICA!$R1782)","v":0}]
[{"$f":"VALUE(DINAMICA!$A1783)","v":0},{"$f":"VALUE(DINAMICA!$B1783)","v":"00:00:00"},{"$f":"VALUE(DINAMICA!$C1783)","v":0},{"$f":"DINAMICA!D1783","v":0},{"$f":"DINAMICA!E1783","v":0},{"$f":"DINAMICA!F1783","v":0},{"$f":"DINAMICA!G1783","v":0},{"$f":"DINAMICA!H1783","v":0},{"$f":"DINAMICA!I1783","v":0},{"$f":"DINAMICA!J1783","v":0},{"$f":"DINAMICA!K1783","v":0},{"$f":"VALUE(DINAMICA!$L1783)","v":0},{"$f":"VALUE(DINAMICA!$M1783)","v":0},{"$f":"VALUE(DINAMICA!$N1783)","v":0},{"$f":"VALUE(DINAMICA!$O1783)","v":0},{"$f":"VALUE(DINAMICA!$P1783)","v":0},{"$f":"VALUE(DINAMICA!$Q1783)","v":0},{"$f":"VALUE(DINAMICA!$R1783)","v":0}]
[{"$f":"VALUE(DINAMICA!$A1784)","v":0},{"$f":"VALUE(DINAMICA!$B1784)","v":"00:00:00"},{"$f":"VALUE(DINAMICA!$C1784)","v":0},{"$f":"DINAMICA!D1784","v":0},{"$f":"DINAMICA!E1784","v":0},{"$f":"DINAMICA!F1784","v":0},{"$f":"DINAMICA!G1784","v":0},{"$f":"DINAMICA!H1784","v":0},{"$f":"DINAMICA!I1784","v":0},{"$f":"DINAMICA!J1784","v":0},{"$f":"DINAMICA!K1784","v":0},{"$f":"VALUE(DINAMICA!$L1784)","v":0},{"$f":"VALUE(DINAMICA!$M1784)","v":0},{"$f":"VALUE(DINAMICA!$N1784)","v":0},{"$f":"VALUE(DINAMICA!$O1784)","v":0},{"$f":"VALUE(DINAMICA!$P1784)","v":0},{"$f":"VALUE(DINAMICA!$Q1784)","v":0},{"$f":"VALUE(DINAMICA!$R1784)","v":0}]
[{"$f":"VALUE(DINAMICA!$A1785)","v":0},{"$f":"VALUE(DINAMICA!$B1785)","v":"00:00:00"},{"$f":"VALUE(DINAMICA!$C1785)","v":0},{"$f":"DINAMICA!D1785","v":0},{"$f":"DINAMICA!E1785","v":0},{"$f":"DINAMICA!F1785","v":0},{"$f":"DINAMICA!G1785","v":0},{"$f":"DINAMICA!H1785","v":0},{"$f":"DINAMICA!I1785","v":0},{"$f":"DINAMICA!J1785","v":0},{"$f":"DINAMICA!K1785","v":0},{"$f":"VALUE(DINAMICA!$L1785)","v":0},{"$f":"VALUE(DINAMICA!$M1785)","v":0},{"$f":"VALUE(DINAMICA!$N1785)","v":0},{"$f":"VALUE(DINAMICA!$O1785)","v":0},{"$f":"VALUE(DINAMICA!$P1785)","v":0},{"$f":"VALUE(DINAMICA!$Q1785)","v":0},{"$f":"VALUE(DINAMICA!$R1785)","v":0}]
[{"$f":"VALUE(DINAMICA!$A1786)","v":0},{"$f":"VALUE(DINAMICA!$B1786)","v":"00:00:00"},{"$f":"VALUE(DINAMICA!$C1786)","v":0},{"$f":"DINAMICA!D1786","v":0},{"$f":"DINAMICA!E1786","v":0},{"$f":"DINAMICA!F1786","v":0},{"$f":"DINAMICA!G1786","v":0},{"$f":"DINAMICA!H1786","v":0},{"$f":"DINAMICA!I1786","v":0},{"$f":"DINAMICA!J1786","v":0},{"$f":"DINAMICA!K1786","v":0},{"$f":"VALUE(DINAMICA!$L1786)","v":0},{"$f":"VALUE(DINAMICA!$M1786)","v":0},{"$f":"VALUE(DINAMICA!$N1786)","v":0},{"$f":"VALUE(DINAMICA!$O1786)","v":0},{"$f":"VALUE(DINAMICA!$P1786)","v":0},{"$f":"VALUE(DINAMICA!$Q1786)","v":0},{"$f":"VALUE(DINAMICA!$R1786)","v":0}]
[{"$f":"VALUE(DINAMICA!$A1787)","v":0},{"$f":"VALUE(DINAMICA!$B1787)","v":"00:00:00"},{"$f":"VALUE(DINAMICA!$C1787)","v":0},{"$f":"DINAMICA!D1787","v":0},{"$f":"DINAMICA!E1787","v":0},{"$f":"DINAMICA!F1787","v":0},{"$f":"DINAMICA!G1787","v":0},{"$f":"DINAMICA!H1787","v":0},{"$f":"DINAMICA!I1787","v":0},{"$f":"DINAMICA!J1787","v":0},{"$f":"DINAMICA!K1787","v":0},{"$f":"VALUE(DINAMICA!$L1787)","v":0},{"$f":"VALUE(DINAMICA!$M1787)","v":0},{"$f":"VALUE(DINAMICA!$N1787)","v":0},{"$f":"VALUE(DINAMICA!$O1787)","v":0},{"$f":"VALUE(DINAMICA!$P1787)","v":0},{"$f":"VALUE(DINAMICA!$Q1787)","v":0},{"$f":"VALUE(DINAMICA!$R1787)","v":0}]
[{"$f":"VALUE(DINAMICA!$A1788)","v":0},{"$f":"VALUE(DINAMICA!$B1788)","v":"00:00:00"},{"$f":"VALUE(DINAMICA!$C1788)","v":0},{"$f":"DINAMICA!D1788","v":0},{"$f":"DINAMICA!E1788","v":0},{"$f":"DINAMICA!F1788","v":0},{"$f":"DINAMICA!G1788","v":0},{"$f":"DINAMICA!H1788","v":0},{"$f":"DINAMICA!I1788","v":0},{"$f":"DINAMICA!J1788","v":0},{"$f":"DINAMICA!K1788","v":0},{"$f":"VALUE(DINAMICA!$L1788)","v":0},{"$f":"VALUE(DINAMICA!$M1788)","v":0},{"$f":"VALUE(DINAMICA!$N1788)","v":0},{"$f":"VALUE(DINAMICA!$O1788)","v":0},{"$f":"VALUE(DINAMICA!$P1788)","v":0},{"$f":"VALUE(DINAMICA!$Q1788)","v":0},{"$f":"VALUE(DINAMICA!$R1788)","v":0}]
[{"$f":"VALUE(DINAMICA!$A1789)","v":0},{"$f":"VALUE(DINAMICA!$B1789)","v":"00:00:00"},{"$f":"VALUE(DINAMICA!$C1789)","v":0},{"$f":"DINAMICA!D1789","v":0},{"$f":"DINAMICA!E1789","v":0},{"$f":"DINAMICA!F1789","v":0},{"$f":"DINAMICA!G1789","v":0},{"$f":"DINAMICA!H1789","v":0},{"$f":"DINAMICA!I1789","v":0},{"$f":"DINAMICA!J1789","v":0},{"$f":"DINAMICA!K1789","v":0},{"$f":"VALUE(DINAMICA!$L1789)","v":0},{"$f":"VALUE(DINAMICA!$M1789)","v":0},{"$f":"VALUE(DINAMICA!$N1789)","v":0},{"$f":"VALUE(DINAMICA!$O1789)","v":0},{"$f":"VALUE(DINAMICA!$P1789)","v":0},{"$f":"VALUE(DINAMICA!$Q1789)","v":0},{"$f":"VALUE(DINAMICA!$R1789)","v":0}]
[{"$f":"VALUE(DINAMICA!$A1790)","v":0},{"$f":"VALUE(DINAMICA!$B1790)","v":"00:00:00"},{"$f":"VALUE(DINAMICA!$C1790)","v":0},{"$f":"DINAMICA!D1790","v":0},{"$f":"DINAMICA!E1790","v":0},{"$f":"DINAMICA!F1790","v":0},{"$f":"DINAMICA!G1790","v":0},{"$f":"DINAMICA!H1790","v":0},{"$f":"DINAMICA!I1790","v":0},{"$f":"DINAMICA!J1790","v":0},{"$f":"DINAMICA!K1790","v":0},{"$f":"VALUE(DINAMICA!$L1790)","v":0},{"$f":"VALUE(DINAMICA!$M1790)","v":0},{"$f":"VALUE(DINAMICA!$N1790)","v":0},{"$f":"VALUE(DINAMICA!$O1790)","v":0},{"$f":"VALUE(DINAMICA!$P1790)","v":0},{"$f":"VALUE(DINAMICA!$Q1790)","v":0},{"$f":"VALUE(DINAMICA!$R1790)","v":0}]
[{"$f":"VALUE(DINAMICA!$A1791)","v":0},{"$f":"VALUE(DINAMICA!$B1791)","v":"00:00:00"},{"$f":"VALUE(DINAMICA!$C1791)","v":0},{"$f":"DINAMICA!D1791","v":0},{"$f":"DINAMICA!E1791","v":0},{"$f":"DINAMICA!F1791","v":0},{"$f":"DINAMICA!G1791","v":0},{"$f":"DINAMICA!H1791","v":0},{"$f":"DINAMICA!I1791","v":0},{"$f":"DINAMICA!J1791","v":0},{"$f":"DINAMICA!K1791","v":0},{"$f":"VALUE(DINAMICA!$L1791)","v":0},{"$f":"VALUE(DINAMICA!$M1791)","v":0},{"$f":"VALUE(DINAMICA!$N1791)","v":0},{"$f":"VALUE(DINAMICA!$O1791)","v":0},{"$f":"VALUE(DINAMICA!$P1791)","v":0},{"$f":"VALUE(DINAMICA!$Q1791)","v":0},{"$f":"VALUE(DINAMICA!$R1791)","v":0}]
[{"$f":"VALUE(DINAMICA!$A1792)","v":0},{"$f":"VALUE(DINAMICA!$B1792)","v":"00:00:00"},{"$f":"VALUE(DINAMICA!$C1792)","v":0},{"$f":"DINAMICA!D1792","v":0},{"$f":"DINAMICA!E1792","v":0},{"$f":"DINAMICA!F1792","v":0},{"$f":"DINAMICA!G1792","v":0},{"$f":"DINAMICA!H1792","v":0},{"$f":"DINAMICA!I1792","v":0},{"$f":"DINAMICA!J1792","v":0},{"$f":"DINAMICA!K1792","v":0},{"$f":"VALUE(DINAMICA!$L1792)","v":0},{"$f":"VALUE(DINAMICA!$M1792)","v":0},{"$f":"VALUE(DINAMICA!$N1792)","v":0},{"$f":"VALUE(DINAMICA!$O1792)","v":0},{"$f":"VALUE(DINAMICA!$P1792)","v":0},{"$f":"VALUE(DINAMICA!$Q1792)","v":0},{"$f":"VALUE(DINAMICA!$R1792)","v":0}]
[{"$f":"VALUE(DINAMICA!$A1793)","v":0},{"$f":"VALUE(DINAMICA!$B1793)","v":"00:00:00"},{"$f":"VALUE(DINAMICA!$C1793)","v":0},{"$f":"DINAMICA!D1793","v":0},{"$f":"DINAMICA!E1793","v":0},{"$f":"DINAMICA!F1793","v":0},{"$f":"DINAMICA!G1793","v":0},{"$f":"DINAMICA!H1793","v":0},{"$f":"DINAMICA!I1793","v":0},{"$f":"DINAMICA!J1793","v":0},{"$f":"DINAMICA!K1793","v":0},{"$f":"VALUE(DINAMICA!$L1793)","v":0},{"$f":"VALUE(DINAMICA!$M1793)","v":0},{"$f":"VALUE(DINAMICA!$N1793)","v":0},{"$f":"VALUE(DINAMICA!$O1793)","v":0},{"$f":"VALUE(DINAMICA!$P1793)","v":0},{"$f":"VALUE(DINAMICA!$Q1793)","v":0},{"$f":"VALUE(DINAMICA!$R1793)","v":0}]
[{"$f":"VALUE(DINAMICA!$A1794)","v":0},{"$f":"VALUE(DINAMICA!$B1794)","v":"00:00:00"},{"$f":"VALUE(DINAMICA!$C1794)","v":0},{"$f":"DINAMICA!D1794","v":0},{"$f":"DINAMICA!E1794","v":0},{"$f":"DINAMICA!F1794","v":0},{"$f":"DINAMICA!G1794","v":0},{"$f":"DINAMICA!H1794","v":0},{"$f":"DINAMICA!I1794","v":0},{"$f":"DINAMICA!J1794","v":0},{"$f":"DINAMICA!K1794","v":0},{"$f":"VALUE(DINAMICA!$L1794)","v":0},{"$f":"VALUE(DINAMICA!$M1794)","v":0},{"$f":"VALUE(DINAMICA!$N1794)","v":0},{"$f":"VALUE(DINAMICA!$O1794)","v":0},{"$f":"VALUE(DINAMICA!$P1794)","v":0},{"$f":"VALUE(DINAMICA!$Q1794)","v":0},{"$f":"VALUE(DINAMICA!$R1794)","v":0}]
[{"$f":"VALUE(DINAMICA!$A1795)","v":0},{"$f":"VALUE(DINAMICA!$B1795)","v":"00:00:00"},{"$f":"VALUE(DINAMICA!$C1795)","v":0},{"$f":"DINAMICA!D1795","v":0},{"$f":"DINAMICA!E1795","v":0},{"$f":"DINAMICA!F1795","v":0},{"$f":"DINAMICA!G1795","v":0},{"$f":"DINAMICA!H1795","v":0},{"$f":"DINAMICA!I1795","v":0},{"$f":"DINAMICA!J1795","v":0},{"$f":"DINAMICA!K1795","v":0},{"$f":"VALUE(DINAMICA!$L1795)","v":0},{"$f":"VALUE(DINAMICA!$M1795)","v":0},{"$f":"VALUE(DINAMICA!$N1795)","v":0},{"$f":"VALUE(DINAMICA!$O1795)","v":0},{"$f":"VALUE(DINAMICA!$P1795)","v":0},{"$f":"VALUE(DINAMICA!$Q1795)","v":0},{"$f":"VALUE(DINAMICA!$R1795)","v":0}]
[{"$f":"VALUE(DINAMICA!$A1796)","v":0},{"$f":"VALUE(DINAMICA!$B1796)","v":"00:00:00"},{"$f":"VALUE(DINAMICA!$C1796)","v":0},{"$f":"DINAMICA!D1796","v":0},{"$f":"DINAMICA!E1796","v":0},{"$f":"DINAMICA!F1796","v":0},{"$f":"DINAMICA!G1796","v":0},{"$f":"DINAMICA!H1796","v":0},{"$f":"DINAMICA!I1796","v":0},{"$f":"DINAMICA!J1796","v":0},{"$f":"DINAMICA!K1796","v":0},{"$f":"VALUE(DINAMICA!$L1796)","v":0},{"$f":"VALUE(DINAMICA!$M1796)","v":0},{"$f":"VALUE(DINAMICA!$N1796)","v":0},{"$f":"VALUE(DINAMICA!$O1796)","v":0},{"$f":"VALUE(DINAMICA!$P1796)","v":0},{"$f":"VALUE(DINAMICA!$Q1796)","v":0},{"$f":"VALUE(DINAMICA!$R1796)","v":0}]
[{"$f":"VALUE(DINAMICA!$A1797)","v":0},{"$f":"VALUE(DINAMICA!$B1797)","v":"00:00:00"},{"$f":"VALUE(DINAMICA!$C1797)","v":0},{"$f":"DINAMICA!D1797","v":0},{"$f":"DINAMICA!E1797","v":0},{"$f":"DINAMICA!F1797","v":0},{"$f":"DINAMICA!G1797","v":0},{"$f":"DINAMICA!H1797","v":0},{"$f":"DINAMICA!I1797","v":0},{"$f":"DINAMICA!J1797","v":0},{"$f":"DINAMICA!K1797","v":0},{"$f":"VALUE(DINAMICA!$L1797)","v":0},{"$f":"VALUE(DINAMICA!$M1797)","v":0},{"$f":"VALUE(DINAMICA!$N1797)","v":0},{"$f":"VALUE(DINAMICA!$O1797)","v":0},{"$f":"VALUE(DINAMICA!$P1797)","v":0},{"$f":"VALUE(DINAMICA!$Q1797)","v":0},{"$f":"VALUE(DINAMICA!$R1797)","v":0}]
[{"$f":"VALUE(DINAMICA!$A1798)","v":0},{"$f":"VALUE(DINAMICA!$B1798)","v":"00:00:00"},{"$f":"VALUE(DINAMICA!$C1798)","v":0},{"$f":"DINAMICA!D1798","v":0},{"$f":"DINAMICA!E1798","v":0},{"$f":"DINAMICA!F1798","v":0},{"$f":"DINAMICA!G1798","v":0},{"$f":"DINAMICA!H1798","v":0},{"$f":"DINAMICA!I1798","v":0},{"$f":"DINAMICA!J1798","v":0},{"$f":"DINAMICA!K1798","v":0},{"$f":"VALUE(DINAMICA!$L1798)","v":0},{"$f":"VALUE(DINAMICA!$M1798)","v":0},{"$f":"VALUE(DINAMICA!$N1798)","v":0},{"$f":"VALUE(DINAMICA!$O1798)","v":0},{"$f":"VALUE(DINAMICA!$P1798)","v":0},{"$f":"VALUE(DINAMICA!$Q1798)","v":0},{"$f":"VALUE(DINAMICA!$R1798)","v":0}]
[{"$f":"VALUE(DINAMICA!$A1799)","v":0},{"$f":"VALUE(DINAMICA!$B1799)","v":"00:00:00"},{"$f":"VALUE(DINAMICA!$C1799)","v":0},{"$f":"DINAMICA!D1799","v":0},{"$f":"DINAMICA!E1799","v":0},{"$f":"DINAMICA!F1799","v":0},{"$f":"DINAMICA!G1799","v":0},{"$f":"DINAMICA!H1799","v":0},{"$f":"DINAMICA!I1799","v":0},{"$f":"DINAMICA!J1799","v":0},{"$f":"DINAMICA!K1799","v":0},{"$f":"VALUE(DINAMICA!$L1799)","v":0},{"$f":"VALUE(DINAMICA!$M1799)","v":0},{"$f":"VALUE(DINAMICA!$N1799)","v":0},{"$f":"VALUE(DINAMICA!$O1799)","v":0},{"$f":"VALUE(DINAMICA!$P1799)","v":0},{"$f":"VALUE(DINAMICA!$Q1799)","v":0},{"$f":"VALUE(DINAMICA!$R1799)","v":0}]
[{"$f":"VALUE(DINAMICA!$A1800)","v":0},{"$f":"VALUE(DINAMICA!$B1800)","v":"00:00:00"},{"$f":"VALUE(DINAMICA!$C1800)","v":0},{"$f":"DINAMICA!D1800","v":0},{"$f":"DINAMICA!E1800","v":0},{"$f":"DINAMICA!F1800","v":0},{"$f":"DINAMICA!G1800","v":0},{"$f":"DINAMICA!H1800","v":0},{"$f":"DINAMICA!I1800","v":0},{"$f":"DINAMICA!J1800","v":0},{"$f":"DINAMICA!K1800","v":0},{"$f":"VALUE(DINAMICA!$L1800)","v":0},{"$f":"VALUE(DINAMICA!$M1800)","v":0},{"$f":"VALUE(DINAMICA!$N1800)","v":0},{"$f":"VALUE(DINAMICA!$O1800)","v":0},{"$f":"VALUE(DINAMICA!$P1800)","v":0},{"$f":"VALUE(DINAMICA!$Q1800)","v":0},{"$f":"VALUE(DINAMICA!$R1800)","v":0}]
[{"$f":"VALUE(DINAMICA!$A1801)","v":0},{"$f":"VALUE(DINAMICA!$B1801)","v":"00:00:00"},{"$f":"VALUE(DINAMICA!$C1801)","v":0},{"$f":"DINAMICA!D1801","v":0},{"$f":"DINAMICA!E1801","v":0},{"$f":"DINAMICA!F1801","v":0},{"$f":"DINAMICA!G1801","v":0},{"$f":"DINAMICA!H1801","v":0},{"$f":"DINAMICA!I1801","v":0},{"$f":"DINAMICA!J1801","v":0},{"$f":"DINAMICA!K1801","v":0},{"$f":"VALUE(DINAMICA!$L1801)","v":0},{"$f":"VALUE(DINAMICA!$M1801)","v":0},{"$f":"VALUE(DINAMICA!$N1801)","v":0},{"$f":"VALUE(DINAMICA!$O1801)","v":0},{"$f":"VALUE(DINAMICA!$P1801)","v":0},{"$f":"VALUE(DINAMICA!$Q1801)","v":0},{"$f":"VALUE(DINAMICA!$R1801)","v":0}]
[{"$f":"VALUE(DINAMICA!$A1802)","v":0},{"$f":"VALUE(DINAMICA!$B1802)","v":"00:00:00"},{"$f":"VALUE(DINAMICA!$C1802)","v":0},{"$f":"DINAMICA!D1802","v":0},{"$f":"DINAMICA!E1802","v":0},{"$f":"DINAMICA!F1802","v":0},{"$f":"DINAMICA!G1802","v":0},{"$f":"DINAMICA!H1802","v":0},{"$f":"DINAMICA!I1802","v":0},{"$f":"DINAMICA!J1802","v":0},{"$f":"DINAMICA!K1802","v":0},{"$f":"VALUE(DINAMICA!$L1802)","v":0},{"$f":"VALUE(DINAMICA!$M1802)","v":0},{"$f":"VALUE(DINAMICA!$N1802)","v":0},{"$f":"VALUE(DINAMICA!$O1802)","v":0},{"$f":"VALUE(DINAMICA!$P1802)","v":0},{"$f":"VALUE(DINAMICA!$Q1802)","v":0},{"$f":"VALUE(DINAMICA!$R1802)","v":0}]
[{"$f":"VALUE(DINAMICA!$A1803)","v":0},{"$f":"VALUE(DINAMICA!$B1803)","v":"00:00:00"},{"$f":"VALUE(DINAMICA!$C1803)","v":0},{"$f":"DINAMICA!D1803","v":0},{"$f":"DINAMICA!E1803","v":0},{"$f":"DINAMICA!F1803","v":0},{"$f":"DINAMICA!G1803","v":0},{"$f":"DINAMICA!H1803","v":0},{"$f":"DINAMICA!I1803","v":0},{"$f":"DINAMICA!J1803","v":0},{"$f":"DINAMICA!K1803","v":0},{"$f":"VALUE(DINAMICA!$L1803)","v":0},{"$f":"VALUE(DINAMICA!$M1803)","v":0},{"$f":"VALUE(DINAMICA!$N1803)","v":0},{"$f":"VALUE(DINAMICA!$O1803)","v":0},{"$f":"VALUE(DINAMICA!$P1803)","v":0},{"$f":"VALUE(DINAMICA!$Q1803)","v":0},{"$f":"VALUE(DINAMICA!$R1803)","v":0}]
[{"$f":"VALUE(DINAMICA!$A1804)","v":0},{"$f":"VALUE(DINAMICA!$B1804)","v":"00:00:00"},{"$f":"VALUE(DINAMICA!$C1804)","v":0},{"$f":"DINAMICA!D1804","v":0},{"$f":"DINAMICA!E1804","v":0},{"$f":"DINAMICA!F1804","v":0},{"$f":"DINAMICA!G1804","v":0},{"$f":"DINAMICA!H1804","v":0},{"$f":"DINAMICA!I1804","v":0},{"$f":"DINAMICA!J1804","v":0},{"$f":"DINAMICA!K1804","v":0},{"$f":"VALUE(DINAMICA!$L1804)","v":0},{"$f":"VALUE(DINAMICA!$M1804)","v":0},{"$f":"VALUE(DINAMICA!$N1804)","v":0},{"$f":"VALUE(DINAMICA!$O1804)","v":0},{"$f":"VALUE(DINAMICA!$P1804)","v":0},{"$f":"VALUE(DINAMICA!$Q1804)","v":0},{"$f":"VALUE(DINAMICA!$R1804)","v":0}]
[{"$f":"VALUE(DINAMICA!$A1805)","v":0},{"$f":"VALUE(DINAMICA!$B1805)","v":"00:00:00"},{"$f":"VALUE(DINAMICA!$C1805)","v":0},{"$f":"DINAMICA!D1805","v":0},{"$f":"DINAMICA!E1805","v":0},{"$f":"DINAMICA!F1805","v":0},{"$f":"DINAMICA!G1805","v":0},{"$f":"DINAMICA!H1805","v":0},{"$f":"DINAMICA!I1805","v":0},{"$f":"DINAMICA!J1805","v":0},{"$f":"DINAMICA!K1805","v":0},{"$f":"VALUE(DINAMICA!$L1805)","v":0},{"$f":"VALUE(DINAMICA!$M1805)","v":0},{"$f":"VALUE(DINAMICA!$N1805)","v":0},{"$f":"VALUE(DINAMICA!$O1805)","v":0},{"$f":"VALUE(DINAMICA!$P1805)","v":0},{"$f":"VALUE(DINAMICA!$Q1805)","v":0},{"$f":"VALUE(DINAMICA!$R1805)","v":0}]
[{"$f":"VALUE(DINAMICA!$A1806)","v":0},{"$f":"VALUE(DINAMICA!$B1806)","v":"00:00:00"},{"$f":"VALUE(DINAMICA!$C1806)","v":0},{"$f":"DINAMICA!D1806","v":0},{"$f":"DINAMICA!E1806","v":0},{"$f":"DINAMICA!F1806","v":0},{"$f":"DINAMICA!G1806","v":0},{"$f":"DINAMICA!H1806","v":0},{"$f":"DINAMICA!I1806","v":0},{"$f":"DINAMICA!J1806","v":0},{"$f":"DINAMICA!K1806","v":0},{"$f":"VALUE(DINAMICA!$L1806)","v":0},{"$f":"VALUE(DINAMICA!$M1806)","v":0},{"$f":"VALUE(DINAMICA!$N1806)","v":0},{"$f":"VALUE(DINAMICA!$O1806)","v":0},{"$f":"VALUE(DINAMICA!$P1806)","v":0},{"$f":"VALUE(DINAMICA!$Q1806)","v":0},{"$f":"VALUE(DINAMICA!$R1806)","v":0}]
[{"$f":"VALUE(DINAMICA!$A1807)","v":0},{"$f":"VALUE(DINAMICA!$B1807)","v":"00:00:00"},{"$f":"VALUE(DINAMICA!$C1807)","v":0},{"$f":"DINAMICA!D1807","v":0},{"$f":"DINAMICA!E1807","v":0},{"$f":"DINAMICA!F1807","v":0},{"$f":"DINAMICA!G1807","v":0},{"$f":"DINAMICA!H1807","v":0},{"$f":"DINAMICA!I1807","v":0},{"$f":"DINAMICA!J1807","v":0},{"$f":"DINAMICA!K1807","v":0},{"$f":"VALUE(DINAMICA!$L1807)","v":0},{"$f":"VALUE(DINAMICA!$M1807)","v":0},{"$f":"VALUE(DINAMICA!$N1807)","v":0},{"$f":"VALUE(DINAMICA!$O1807)","v":0},{"$f":"VALUE(DINAMICA!$P1807)","v":0},{"$f":"VALUE(DINAMICA!$Q1807)","v":0},{"$f":"VALUE(DINAMICA!$R1807)","v":0}]
[{"$f":"VALUE(DINAMICA!$A1808)","v":0},{"$f":"VALUE(DINAMICA!$B1808)","v":"00:00:00"},{"$f":"VALUE(DINAMICA!$C1808)","v":0},{"$f":"DINAMICA!D1808","v":0},{"$f":"DINAMICA!E1808","v":0},{"$f":"DINAMICA!F1808","v":0},{"$f":"DINAMICA!G1808","v":0},{"$f":"DINAMICA!H1808","v":0},{"$f":"DINAMICA!I1808","v":0},{"$f":"DINAMICA!J1808","v":0},{"$f":"DINAMICA!K1808","v":0},{"$f":"VALUE(DINAMICA!$L1808)","v":0},{"$f":"VALUE(DINAMICA!$M1808)","v":0},{"$f":"VALUE(DINAMICA!$N1808)","v":0},{"$f":"VALUE(DINAMICA!$O1808)","v":0},{"$f":"VALUE(DINAMICA!$P1808)","v":0},{"$f":"VALUE(DINAMICA!$Q1808)","v":0},{"$f":"VALUE(DINAMICA!$R1808)","v":0}]
[{"$f":"VALUE(DINAMICA!$A1809)","v":0},{"$f":"VALUE(DINAMICA!$B1809)","v":"00:00:00"},{"$f":"VALUE(DINAMICA!$C1809)","v":0},{"$f":"DINAMICA!D1809","v":0},{"$f":"DINAMICA!E1809","v":0},{"$f":"DINAMICA!F1809","v":0},{"$f":"DINAMICA!G1809","v":0},{"$f":"DINAMICA!H1809","v":0},{"$f":"DINAMICA!I1809","v":0},{"$f":"DINAMICA!J1809","v":0},{"$f":"DINAMICA!K1809","v":0},{"$f":"VALUE(DINAMICA!$L1809)","v":0},{"$f":"VALUE(DINAMICA!$M1809)","v":0},{"$f":"VALUE(DINAMICA!$N1809)","v":0},{"$f":"VALUE(DINAMICA!$O1809)","v":0},{"$f":"VALUE(DINAMICA!$P1809)","v":0},{"$f":"VALUE(DINAMICA!$Q1809)","v":0},{"$f":"VALUE(DINAMICA!$R1809)","v":0}]
[{"$f":"VALUE(DINAMICA!$A1810)","v":0},{"$f":"VALUE(DINAMICA!$B1810)","v":"00:00:00"},{"$f":"VALUE(DINAMICA!$C1810)","v":0},{"$f":"DINAMICA!D1810","v":0},{"$f":"DINAMICA!E1810","v":0},{"$f":"DINAMICA!F1810","v":0},{"$f":"DINAMICA!G1810","v":0},{"$f":"DINAMICA!H1810","v":0},{"$f":"DINAMICA!I1810","v":0},{"$f":"DINAMICA!J1810","v":0},{"$f":"DINAMICA!K1810","v":0},{"$f":"VALUE(DINAMICA!$L1810)","v":0},{"$f":"VALUE(DINAMICA!$M1810)","v":0},{"$f":"VALUE(DINAMICA!$N1810)","v":0},{"$f":"VALUE(DINAMICA!$O1810)","v":0},{"$f":"VALUE(DINAMICA!$P1810)","v":0},{"$f":"VALUE(DINAMICA!$Q1810)","v":0},{"$f":"VALUE(DINAMICA!$R1810)","v":0}]
[{"$f":"VALUE(DINAMICA!$A1811)","v":0},{"$f":"VALUE(DINAMICA!$B1811)","v":"00:00:00"},{"$f":"VALUE(DINAMICA!$C1811)","v":0},{"$f":"DINAMICA!D1811","v":0},{"$f":"DINAMICA!E1811","v":0},{"$f":"DINAMICA!F1811","v":0},{"$f":"DINAMICA!G1811","v":0},{"$f":"DINAMICA!H1811","v":0},{"$f":"DINAMICA!I1811","v":0},{"$f":"DINAMICA!J1811","v":0},{"$f":"DINAMICA!K1811","v":0},{"$f":"VALUE(DINAMICA!$L1811)","v":0},{"$f":"VALUE(DINAMICA!$M1811)","v":0},{"$f":"VALUE(DINAMICA!$N1811)","v":0},{"$f":"VALUE(DINAMICA!$O1811)","v":0},{"$f":"VALUE(DINAMICA!$P1811)","v":0},{"$f":"VALUE(DINAMICA!$Q1811)","v":0},{"$f":"VALUE(DINAMICA!$R1811)","v":0}]
[{"$f":"VALUE(DINAMICA!$A1812)","v":0},{"$f":"VALUE(DINAMICA!$B1812)","v":"00:00:00"},{"$f":"VALUE(DINAMICA!$C1812)","v":0},{"$f":"DINAMICA!D1812","v":0},{"$f":"DINAMICA!E1812","v":0},{"$f":"DINAMICA!F1812","v":0},{"$f":"DINAMICA!G1812","v":0},{"$f":"DINAMICA!H1812","v":0},{"$f":"DINAMICA!I1812","v":0},{"$f":"DINAMICA!J1812","v":0},{"$f":"DINAMICA!K1812","v":0},{"$f":"VALUE(DINAMICA!$L1812)","v":0},{"$f":"VALUE(DINAMICA!$M1812)","v":0},{"$f":"VALUE(DINAMICA!$N1812)","v":0},{"$f":"VALUE(DINAMICA!$O1812)","v":0},{"$f":"VALUE(DINAMICA!$P1812)","v":0},{"$f":"VALUE(DINAMICA!$Q1812)","v":0},{"$f":"VALUE(DINAMICA!$R1812)","v":0}]
[{"$f":"VALUE(DINAMICA!$A1813)","v":0},{"$f":"VALUE(DINAMICA!$B1813)","v":"00:00:00"},{"$f":"VALUE(DINAMICA!$C1813)","v":0},{"$f":"DINAMICA!D1813","v":0},{"$f":"DINAMICA!E1813","v":0},{"$f":"DINAMICA!F1813","v":0},{"$f":"DINAMICA!G1813","v":0},{"$f":"DINAMICA!H1813","v":0},{"$f":"DINAMICA!I1813","v":0},{"$f":"DINAMICA!J1813","v":0},{"$f":"DINAMICA!K1813","v":0},{"$f":"VALUE(DINAMICA!$L1813)","v":0},{"$f":"VALUE(DINAMICA!$M1813)","v":0},{"$f":"VALUE(DINAMICA!$N1813)","v":0},{"$f":"VALUE(DINAMICA!$O1813)","v":0},{"$f":"VALUE(DINAMICA!$P1813)","v":0},{"$f":"VALUE(DINAMICA!$Q1813)","v":0},{"$f":"VALUE(DINAMICA!$R1813)","v":0}]
[{"$f":"VALUE(DINAMICA!$A1814)","v":0},{"$f":"VALUE(DINAMICA!$B1814)","v":"00:00:00"},{"$f":"VALUE(DINAMICA!$C1814)","v":0},{"$f":"DINAMICA!D1814","v":0},{"$f":"DINAMICA!E1814","v":0},{"$f":"DINAMICA!F1814","v":0},{"$f":"DINAMICA!G1814","v":0},{"$f":"DINAMICA!H1814","v":0},{"$f":"DINAMICA!I1814","v":0},{"$f":"DINAMICA!J1814","v":0},{"$f":"DINAMICA!K1814","v":0},{"$f":"VALUE(DINAMICA!$L1814)","v":0},{"$f":"VALUE(DINAMICA!$M1814)","v":0},{"$f":"VALUE(DINAMICA!$N1814)","v":0},{"$f":"VALUE(DINAMICA!$O1814)","v":0},{"$f":"VALUE(DINAMICA!$P1814)","v":0},{"$f":"VALUE(DINAMICA!$Q1814)","v":0},{"$f":"VALUE(DINAMICA!$R1814)","v":0}]
[{"$f":"VALUE(DINAMICA!$A1815)","v":0},{"$f":"VALUE(DINAMICA!$B1815)","v":"00:00:00"},{"$f":"VALUE(DINAMICA!$C1815)","v":0},{"$f":"DINAMICA!D1815","v":0},{"$f":"DINAMICA!E1815","v":0},{"$f":"DINAMICA!F1815","v":0},{"$f":"DINAMICA!G1815","v":0},{"$f":"DINAMICA!H1815","v":0},{"$f":"DINAMICA!I1815","v":0},{"$f":"DINAMICA!J1815","v":0},{"$f":"DINAMICA!K1815","v":0},{"$f":"VALUE(DINAMICA!$L1815)","v":0},{"$f":"VALUE(DINAMICA!$M1815)","v":0},{"$f":"VALUE(DINAMICA!$N1815)","v":0},{"$f":"VALUE(DINAMICA!$O1815)","v":0},{"$f":"VALUE(DINAMICA!$P1815)","v":0},{"$f":"VALUE(DINAMICA!$Q1815)","v":0},{"$f":"VALUE(DINAMICA!$R1815)","v":0}]
[{"$f":"VALUE(DINAMICA!$A1816)","v":0},{"$f":"VALUE(DINAMICA!$B1816)","v":"00:00:00"},{"$f":"VALUE(DINAMICA!$C1816)","v":0},{"$f":"DINAMICA!D1816","v":0},{"$f":"DINAMICA!E1816","v":0},{"$f":"DINAMICA!F1816","v":0},{"$f":"DINAMICA!G1816","v":0},{"$f":"DINAMICA!H1816","v":0},{"$f":"DINAMICA!I1816","v":0},{"$f":"DINAMICA!J1816","v":0},{"$f":"DINAMICA!K1816","v":0},{"$f":"VALUE(DINAMICA!$L1816)","v":0},{"$f":"VALUE(DINAMICA!$M1816)","v":0},{"$f":"VALUE(DINAMICA!$N1816)","v":0},{"$f":"VALUE(DINAMICA!$O1816)","v":0},{"$f":"VALUE(DINAMICA!$P1816)","v":0},{"$f":"VALUE(DINAMICA!$Q1816)","v":0},{"$f":"VALUE(DINAMICA!$R1816)","v":0}]
[{"$f":"VALUE(DINAMICA!$A1817)","v":0},{"$f":"VALUE(DINAMICA!$B1817)","v":"00:00:00"},{"$f":"VALUE(DINAMICA!$C1817)","v":0},{"$f":"DINAMICA!D1817","v":0},{"$f":"DINAMICA!E1817","v":0},{"$f":"DINAMICA!F1817","v":0},{"$f":"DINAMICA!G1817","v":0},{"$f":"DINAMICA!H1817","v":0},{"$f":"DINAMICA!I1817","v":0},{"$f":"DINAMICA!J1817","v":0},{"$f":"DINAMICA!K1817","v":0},{"$f":"VALUE(DINAMICA!$L1817)","v":0},{"$f":"VALUE(DINAMICA!$M1817)","v":0},{"$f":"VALUE(DINAMICA!$N1817)","v":0},{"$f":"VALUE(DINAMICA!$O1817)","v":0},{"$f":"VALUE(DINAMICA!$P1817)","v":0},{"$f":"VALUE(DINAMICA!$Q1817)","v":0},{"$f":"VALUE(DINAMICA!$R1817)","v":0}]
[{"$f":"VALUE(DINAMICA!$A1818)","v":0},{"$f":"VALUE(DINAMICA!$B1818)","v":"00:00:00"},{"$f":"VALUE(DINAMICA!$C1818)","v":0},{"$f":"DINAMICA!D1818","v":0},{"$f":"DINAMICA!E1818","v":0},{"$f":"DINAMICA!F1818","v":0},{"$f":"DINAMICA!G1818","v":0},{"$f":"DINAMICA!H1818","v":0},{"$f":"DINAMICA!I1818","v":0},{"$f":"DINAMICA!J1818","v":0},{"$f":"DINAMICA!K1818","v":0},{"$f":"VALUE(DINAMICA!$L1818)","v":0},{"$f":"VALUE(DINAMICA!$M1818)","v":0},{"$f":"VALUE(DINAMICA!$N1818)","v":0},{"$f":"VALUE(DINAMICA!$O1818)","v":0},{"$f":"VALUE(DINAMICA!$P1818)","v":0},{"$f":"VALUE(DINAMICA!$Q1818)","v":0},{"$f":"VALUE(DINAMICA!$R1818)","v":0}]
[{"$f":"VALUE(DINAMICA!$A1819)","v":0},{"$f":"VALUE(DINAMICA!$B1819)","v":"00:00:00"},{"$f":"VALUE(DINAMICA!$C1819)","v":0},{"$f":"DINAMICA!D1819","v":0},{"$f":"DINAMICA!E1819","v":0},{"$f":"DINAMICA!F1819","v":0},{"$f":"DINAMICA!G1819","v":0},{"$f":"DINAMICA!H1819","v":0},{"$f":"DINAMICA!I1819","v":0},{"$f":"DINAMICA!J1819","v":0},{"$f":"DINAMICA!K1819","v":0},{"$f":"VALUE(DINAMICA!$L1819)","v":0},{"$f":"VALUE(DINAMICA!$M1819)","v":0},{"$f":"VALUE(DINAMICA!$N1819)","v":0},{"$f":"VALUE(DINAMICA!$O1819)","v":0},{"$f":"VALUE(DINAMICA!$P1819)","v":0},{"$f":"VALUE(DINAMICA!$Q1819)","v":0},{"$f":"VALUE(DINAMICA!$R1819)","v":0}]
[{"$f":"VALUE(DINAMICA!$A1820)","v":0},{"$f":"VALUE(DINAMICA!$B1820)","v":"00:00:00"},{"$f":"VALUE(DINAMICA!$C1820)","v":0},{"$f":"DINAMICA!D1820","v":0},{"$f":"DINAMICA!E1820","v":0},{"$f":"DINAMICA!F1820","v":0},{"$f":"DINAMICA!G1820","v":0},{"$f":"DINAMICA!H1820","v":0},{"$f":"DINAMICA!I1820","v":0},{"$f":"DINAMICA!J1820","v":0},{"$f":"DINAMICA!K1820","v":0},{"$f":"VALUE(DINAMICA!$L1820)","v":0},{"$f":"VALUE(DINAMICA!$M1820)","v":0},{"$f":"VALUE(DINAMICA!$N1820)","v":0},{"$f":"VALUE(DINAMICA!$O1820)","v":0},{"$f":"VALUE(DINAMICA!$P1820)","v":0},{"$f":"VALUE(DINAMICA!$Q1820)","v":0},{"$f":"VALUE(DINAMICA!$R1820)","v":0}]
[{"$f":"VALUE(DINAMICA!$A1821)","v":0},{"$f":"VALUE(DINAMICA!$B1821)","v":"00:00:00"},{"$f":"VALUE(DINAMICA!$C1821)","v":0},{"$f":"DINAMICA!D1821","v":0},{"$f":"DINAMICA!E1821","v":0},{"$f":"DINAMICA!F1821","v":0},{"$f":"DINAMICA!G1821","v":0},{"$f":"DINAMICA!H1821","v":0},{"$f":"DINAMICA!I1821","v":0},{"$f":"DINAMICA!J1821","v":0},{"$f":"DINAMICA!K1821","v":0},{"$f":"VALUE(DINAMICA!$L1821)","v":0},{"$f":"VALUE(DINAMICA!$M1821)","v":0},{"$f":"VALUE(DINAMICA!$N1821)","v":0},{"$f":"VALUE(DINAMICA!$O1821)","v":0},{"$f":"VALUE(DINAMICA!$P1821)","v":0},{"$f":"VALUE(DINAMICA!$Q1821)","v":0},{"$f":"VALUE(DINAMICA!$R1821)","v":0}]
[{"$f":"VALUE(DINAMICA!$A1822)","v":0},{"$f":"VALUE(DINAMICA!$B1822)","v":"00:00:00"},{"$f":"VALUE(DINAMICA!$C1822)","v":0},{"$f":"DINAMICA!D1822","v":0},{"$f":"DINAMICA!E1822","v":0},{"$f":"DINAMICA!F1822","v":0},{"$f":"DINAMICA!G1822","v":0},{"$f":"DINAMICA!H1822","v":0},{"$f":"DINAMICA!I1822","v":0},{"$f":"DINAMICA!J1822","v":0},{"$f":"DINAMICA!K1822","v":0},{"$f":"VALUE(DINAMICA!$L1822)","v":0},{"$f":"VALUE(DINAMICA!$M1822)","v":0},{"$f":"VALUE(DINAMICA!$N1822)","v":0},{"$f":"VALUE(DINAMICA!$O1822)","v":0},{"$f":"VALUE(DINAMICA!$P1822)","v":0},{"$f":"VALUE(DINAMICA!$Q1822)","v":0},{"$f":"VALUE(DINAMICA!$R1822)","v":0}]
[{"$f":"VALUE(DINAMICA!$A1823)","v":0},{"$f":"VALUE(DINAMICA!$B1823)","v":"00:00:00"},{"$f":"VALUE(DINAMICA!$C1823)","v":0},{"$f":"DINAMICA!D1823","v":0},{"$f":"DINAMICA!E1823","v":0},{"$f":"DINAMICA!F1823","v":0},{"$f":"DINAMICA!G1823","v":0},{"$f":"DINAMICA!H1823","v":0},{"$f":"DINAMICA!I1823","v":0},{"$f":"DINAMICA!J1823","v":0},{"$f":"DINAMICA!K1823","v":0},{"$f":"VALUE(DINAMICA!$L1823)","v":0},{"$f":"VALUE(DINAMICA!$M1823)","v":0},{"$f":"VALUE(DINAMICA!$N1823)","v":0},{"$f":"VALUE(DINAMICA!$O1823)","v":0},{"$f":"VALUE(DINAMICA!$P1823)","v":0},{"$f":"VALUE(DINAMICA!$Q1823)","v":0},{"$f":"VALUE(DINAMICA!$R1823)","v":0}]
[{"$f":"VALUE(DINAMICA!$A1824)","v":0},{"$f":"VALUE(DINAMICA!$B1824)","v":"00:00:00"},{"$f":"VALUE(DINAMICA!$C1824)","v":0},{"$f":"DINAMICA!D1824","v":0},{"$f":"DINAMICA!E1824","v":0},{"$f":"DINAMICA!F1824","v":0},{"$f":"DINAMICA!G1824","v":0},{"$f":"DINAMICA!H1824","v":0},{"$f":"DINAMICA!I1824","v":0},{"$f":"DINAMICA!J1824","v":0},{"$f":"DINAMICA!K1824","v":0},{"$f":"VALUE(DINAMICA!$L1824)","v":0},{"$f":"VALUE(DINAMICA!$M1824)","v":0},{"$f":"VALUE(DINAMICA!$N1824)","v":0},{"$f":"VALUE(DINAMICA!$O1824)","v":0},{"$f":"VALUE(DINAMICA!$P1824)","v":0},{"$f":"VALUE(DINAMICA!$Q1824)","v":0},{"$f":"VALUE(DINAMICA!$R1824)","v":0}]
[{"$f":"VALUE(DINAMICA!$A1825)","v":0},{"$f":"VALUE(DINAMICA!$B1825)","v":"00:00:00"},{"$f":"VALUE(DINAMICA!$C1825)","v":0},{"$f":"DINAMICA!D1825","v":0},{"$f":"DINAMICA!E1825","v":0},{"$f":"DINAMICA!F1825","v":0},{"$f":"DINAMICA!G1825","v":0},{"$f":"DINAMICA!H1825","v":0},{"$f":"DINAMICA!I1825","v":0},{"$f":"DINAMICA!J1825","v":0},{"$f":"DINAMICA!K1825","v":0},{"$f":"VALUE(DINAMICA!$L1825)","v":0},{"$f":"VALUE(DINAMICA!$M1825)","v":0},{"$f":"VALUE(DINAMICA!$N1825)","v":0},{"$f":"VALUE(DINAMICA!$O1825)","v":0},{"$f":"VALUE(DINAMICA!$P1825)","v":0},{"$f":"VALUE(DINAMICA!$Q1825)","v":0},{"$f":"VALUE(DINAMICA!$R1825)","v":0}]
[{"$f":"VALUE(DINAMICA!$A1826)","v":0},{"$f":"VALUE(DINAMICA!$B1826)","v":"00:00:00"},{"$f":"VALUE(DINAMICA!$C1826)","v":0},{"$f":"DINAMICA!D1826","v":0},{"$f":"DINAMICA!E1826","v":0},{"$f":"DINAMICA!F1826","v":0},{"$f":"DINAMICA!G1826","v":0},{"$f":"DINAMICA!H1826","v":0},{"$f":"DINAMICA!I1826","v":0},{"$f":"DINAMICA!J1826","v":0},{"$f":"DINAMICA!K1826","v":0},{"$f":"VALUE(DINAMICA!$L1826)","v":0},{"$f":"VALUE(DINAMICA!$M1826)","v":0},{"$f":"VALUE(DINAMICA!$N1826)","v":0},{"$f":"VALUE(DINAMICA!$O1826)","v":0},{"$f":"VALUE(DINAMICA!$P1826)","v":0},{"$f":"VALUE(DINAMICA!$Q1826)","v":0},{"$f":"VALUE(DINAMICA!$R1826)","v":0}]
[{"$f":"VALUE(DINAMICA!$A1827)","v":0},{"$f":"VALUE(DINAMICA!$B1827)","v":"00:00:00"},{"$f":"VALUE(DINAMICA!$C1827)","v":0},{"$f":"DINAMICA!D1827","v":0},{"$f":"DINAMICA!E1827","v":0},{"$f":"DINAMICA!F1827","v":0},{"$f":"DINAMICA!G1827","v":0},{"$f":"DINAMICA!H1827","v":0},{"$f":"DINAMICA!I1827","v":0},{"$f":"DINAMICA!J1827","v":0},{"$f":"DINAMICA!K1827","v":0},{"$f":"VALUE(DINAMICA!$L1827)","v":0},{"$f":"VALUE(DINAMICA!$M1827)","v":0},{"$f":"VALUE(DINAMICA!$N1827)","v":0},{"$f":"VALUE(DINAMICA!$O1827)","v":0},{"$f":"VALUE(DINAMICA!$P1827)","v":0},{"$f":"VALUE(DINAMICA!$Q1827)","v":0},{"$f":"VALUE(DINAMICA!$R1827)","v":0}]
[{"$f":"VALUE(DINAMICA!$A1828)","v":0},{"$f":"VALUE(DINAMICA!$B1828)","v":"00:00:00"},{"$f":"VALUE(DINAMICA!$C1828)","v":0},{"$f":"DINAMICA!D1828","v":0},{"$f":"DINAMICA!E1828","v":0},{"$f":"DINAMICA!F1828","v":0},{"$f":"DINAMICA!G1828","v":0},{"$f":"DINAMICA!H1828","v":0},{"$f":"DINAMICA!I1828","v":0},{"$f":"DINAMICA!J1828","v":0},{"$f":"DINAMICA!K1828","v":0},{"$f":"VALUE(DINAMICA!$L1828)","v":0},{"$f":"VALUE(DINAMICA!$M1828)","v":0},{"$f":"VALUE(DINAMICA!$N1828)","v":0},{"$f":"VALUE(DINAMICA!$O1828)","v":0},{"$f":"VALUE(DINAMICA!$P1828)","v":0},{"$f":"VALUE(DINAMICA!$Q1828)","v":0},{"$f":"VALUE(DINAMICA!$R1828)","v":0}]
[{"$f":"VALUE(DINAMICA!$A1829)","v":0},{"$f":"VALUE(DINAMICA!$B1829)","v":"00:00:00"},{"$f":"VALUE(DINAMICA!$C1829)","v":0},{"$f":"DINAMICA!D1829","v":0},{"$f":"DINAMICA!E1829","v":0},{"$f":"DINAMICA!F1829","v":0},{"$f":"DINAMICA!G1829","v":0},{"$f":"DINAMICA!H1829","v":0},{"$f":"DINAMICA!I1829","v":0},{"$f":"DINAMICA!J1829","v":0},{"$f":"DINAMICA!K1829","v":0},{"$f":"VALUE(DINAMICA!$L1829)","v":0},{"$f":"VALUE(DINAMICA!$M1829)","v":0},{"$f":"VALUE(DINAMICA!$N1829)","v":0},{"$f":"VALUE(DINAMICA!$O1829)","v":0},{"$f":"VALUE(DINAMICA!$P1829)","v":0},{"$f":"VALUE(DINAMICA!$Q1829)","v":0},{"$f":"VALUE(DINAMICA!$R1829)","v":0}]
[{"$f":"VALUE(DINAMICA!$A1830)","v":0},{"$f":"VALUE(DINAMICA!$B1830)","v":"00:00:00"},{"$f":"VALUE(DINAMICA!$C1830)","v":0},{"$f":"DINAMICA!D1830","v":0},{"$f":"DINAMICA!E1830","v":0},{"$f":"DINAMICA!F1830","v":0},{"$f":"DINAMICA!G1830","v":0},{"$f":"DINAMICA!H1830","v":0},{"$f":"DINAMICA!I1830","v":0},{"$f":"DINAMICA!J1830","v":0},{"$f":"DINAMICA!K1830","v":0},{"$f":"VALUE(DINAMICA!$L1830)","v":0},{"$f":"VALUE(DINAMICA!$M1830)","v":0},{"$f":"VALUE(DINAMICA!$N1830)","v":0},{"$f":"VALUE(DINAMICA!$O1830)","v":0},{"$f":"VALUE(DINAMICA!$P1830)","v":0},{"$f":"VALUE(DINAMICA!$Q1830)","v":0},{"$f":"VALUE(DINAMICA!$R1830)","v":0}]
[{"$f":"VALUE(DINAMICA!$A1831)","v":0},{"$f":"VALUE(DINAMICA!$B1831)","v":"00:00:00"},{"$f":"VALUE(DINAMICA!$C1831)","v":0},{"$f":"DINAMICA!D1831","v":0},{"$f":"DINAMICA!E1831","v":0},{"$f":"DINAMICA!F1831","v":0},{"$f":"DINAMICA!G1831","v":0},{"$f":"DINAMICA!H1831","v":0},{"$f":"DINAMICA!I1831","v":0},{"$f":"DINAMICA!J1831","v":0},{"$f":"DINAMICA!K1831","v":0},{"$f":"VALUE(DINAMICA!$L1831)","v":0},{"$f":"VALUE(DINAMICA!$M1831)","v":0},{"$f":"VALUE(DINAMICA!$N1831)","v":0},{"$f":"VALUE(DINAMICA!$O1831)","v":0},{"$f":"VALUE(DINAMICA!$P1831)","v":0},{"$f":"VALUE(DINAMICA!$Q1831)","v":0},{"$f":"VALUE(DINAMICA!$R1831)","v":0}]
[{"$f":"VALUE(DINAMICA!$A1832)","v":0},{"$f":"VALUE(DINAMICA!$B1832)","v":"00:00:00"},{"$f":"VALUE(DINAMICA!$C1832)","v":0},{"$f":"DINAMICA!D1832","v":0},{"$f":"DINAMICA!E1832","v":0},{"$f":"DINAMICA!F1832","v":0},{"$f":"DINAMICA!G1832","v":0},{"$f":"DINAMICA!H1832","v":0},{"$f":"DINAMICA!I1832","v":0},{"$f":"DINAMICA!J1832","v":0},{"$f":"DINAMICA!K1832","v":0},{"$f":"VALUE(DINAMICA!$L1832)","v":0},{"$f":"VALUE(DINAMICA!$M1832)","v":0},{"$f":"VALUE(DINAMICA!$N1832)","v":0},{"$f":"VALUE(DINAMICA!$O1832)","v":0},{"$f":"VALUE(DINAMICA!$P1832)","v":0},{"$f":"VALUE(DINAMICA!$Q1832)","v":0},{"$f":"VALUE(DINAMICA!$R1832)","v":0}]
[{"$f":"VALUE(DINAMICA!$A1833)","v":0},{"$f":"VALUE(DINAMICA!$B1833)","v":"00:00:00"},{"$f":"VALUE(DINAMICA!$C1833)","v":0},{"$f":"DINAMICA!D1833","v":0},{"$f":"DINAMICA!E1833","v":0},{"$f":"DINAMICA!F1833","v":0},{"$f":"DINAMICA!G1833","v":0},{"$f":"DINAMICA!H1833","v":0},{"$f":"DINAMICA!I1833","v":0},{"$f":"DINAMICA!J1833","v":0},{"$f":"DINAMICA!K1833","v":0},{"$f":"VALUE(DINAMICA!$L1833)","v":0},{"$f":"VALUE(DINAMICA!$M1833)","v":0},{"$f":"VALUE(DINAMICA!$N1833)","v":0},{"$f":"VALUE(DINAMICA!$O1833)","v":0},{"$f":"VALUE(DINAMICA!$P1833)","v":0},{"$f":"VALUE(DINAMICA!$Q1833)","v":0},{"$f":"VALUE(DINAMICA!$R1833)","v":0}]
[{"$f":"VALUE(DINAMICA!$A1834)","v":0},{"$f":"VALUE(DINAMICA!$B1834)","v":"00:00:00"},{"$f":"VALUE(DINAMICA!$C1834)","v":0},{"$f":"DINAMICA!D1834","v":0},{"$f":"DINAMICA!E1834","v":0},{"$f":"DINAMICA!F1834","v":0},{"$f":"DINAMICA!G1834","v":0},{"$f":"DINAMICA!H1834","v":0},{"$f":"DINAMICA!I1834","v":0},{"$f":"DINAMICA!J1834","v":0},{"$f":"DINAMICA!K1834","v":0},{"$f":"VALUE(DINAMICA!$L1834)","v":0},{"$f":"VALUE(DINAMICA!$M1834)","v":0},{"$f":"VALUE(DINAMICA!$N1834)","v":0},{"$f":"VALUE(DINAMICA!$O1834)","v":0},{"$f":"VALUE(DINAMICA!$P1834)","v":0},{"$f":"VALUE(DINAMICA!$Q1834)","v":0},{"$f":"VALUE(DINAMICA!$R1834)","v":0}]
[{"$f":"VALUE(DINAMICA!$A1835)","v":0},{"$f":"VALUE(DINAMICA!$B1835)","v":"00:00:00"},{"$f":"VALUE(DINAMICA!$C1835)","v":0},{"$f":"DINAMICA!D1835","v":0},{"$f":"DINAMICA!E1835","v":0},{"$f":"DINAMICA!F1835","v":0},{"$f":"DINAMICA!G1835","v":0},{"$f":"DINAMICA!H1835","v":0},{"$f":"DINAMICA!I1835","v":0},{"$f":"DINAMICA!J1835","v":0},{"$f":"DINAMICA!K1835","v":0},{"$f":"VALUE(DINAMICA!$L1835)","v":0},{"$f":"VALUE(DINAMICA!$M1835)","v":0},{"$f":"VALUE(DINAMICA!$N1835)","v":0},{"$f":"VALUE(DINAMICA!$O1835)","v":0},{"$f":"VALUE(DINAMICA!$P1835)","v":0},{"$f":"VALUE(DINAMICA!$Q1835)","v":0},{"$f":"VALUE(DINAMICA!$R1835)","v":0}]
[{"$f":"VALUE(DINAMICA!$A1836)","v":0},{"$f":"VALUE(DINAMICA!$B1836)","v":"00:00:00"},{"$f":"VALUE(DINAMICA!$C1836)","v":0},{"$f":"DINAMICA!D1836","v":0},{"$f":"DINAMICA!E1836","v":0},{"$f":"DINAMICA!F1836","v":0},{"$f":"DINAMICA!G1836","v":0},{"$f":"DINAMICA!H1836","v":0},{"$f":"DINAMICA!I1836","v":0},{"$f":"DINAMICA!J1836","v":0},{"$f":"DINAMICA!K1836","v":0},{"$f":"VALUE(DINAMICA!$L1836)","v":0},{"$f":"VALUE(DINAMICA!$M1836)","v":0},{"$f":"VALUE(DINAMICA!$N1836)","v":0},{"$f":"VALUE(DINAMICA!$O1836)","v":0},{"$f":"VALUE(DINAMICA!$P1836)","v":0},{"$f":"VALUE(DINAMICA!$Q1836)","v":0},{"$f":"VALUE(DINAMICA!$R1836)","v":0}]
[{"$f":"VALUE(DINAMICA!$A1837)","v":0},{"$f":"VALUE(DINAMICA!$B1837)","v":"00:00:00"},{"$f":"VALUE(DINAMICA!$C1837)","v":0},{"$f":"DINAMICA!D1837","v":0},{"$f":"DINAMICA!E1837","v":0},{"$f":"DINAMICA!F1837","v":0},{"$f":"DINAMICA!G1837","v":0},{"$f":"DINAMICA!H1837","v":0},{"$f":"DINAMICA!I1837","v":0},{"$f":"DINAMICA!J1837","v":0},{"$f":"DINAMICA!K1837","v":0},{"$f":"VALUE(DINAMICA!$L1837)","v":0},{"$f":"VALUE(DINAMICA!$M1837)","v":0},{"$f":"VALUE(DINAMICA!$N1837)","v":0},{"$f":"VALUE(DINAMICA!$O1837)","v":0},{"$f":"VALUE(DINAMICA!$P1837)","v":0},{"$f":"VALUE(DINAMICA!$Q1837)","v":0},{"$f":"VALUE(DINAMICA!$R1837)","v":0}]
[{"$f":"VALUE(DINAMICA!$A1838)","v":0},{"$f":"VALUE(DINAMICA!$B1838)","v":"00:00:00"},{"$f":"VALUE(DINAMICA!$C1838)","v":0},{"$f":"DINAMICA!D1838","v":0},{"$f":"DINAMICA!E1838","v":0},{"$f":"DINAMICA!F1838","v":0},{"$f":"DINAMICA!G1838","v":0},{"$f":"DINAMICA!H1838","v":0},{"$f":"DINAMICA!I1838","v":0},{"$f":"DINAMICA!J1838","v":0},{"$f":"DINAMICA!K1838","v":0},{"$f":"VALUE(DINAMICA!$L1838)","v":0},{"$f":"VALUE(DINAMICA!$M1838)","v":0},{"$f":"VALUE(DINAMICA!$N1838)","v":0},{"$f":"VALUE(DINAMICA!$O1838)","v":0},{"$f":"VALUE(DINAMICA!$P1838)","v":0},{"$f":"VALUE(DINAMICA!$Q1838)","v":0},{"$f":"VALUE(DINAMICA!$R1838)","v":0}]
[{"$f":"VALUE(DINAMICA!$A1839)","v":0},{"$f":"VALUE(DINAMICA!$B1839)","v":"00:00:00"},{"$f":"VALUE(DINAMICA!$C1839)","v":0},{"$f":"DINAMICA!D1839","v":0},{"$f":"DINAMICA!E1839","v":0},{"$f":"DINAMICA!F1839","v":0},{"$f":"DINAMICA!G1839","v":0},{"$f":"DINAMICA!H1839","v":0},{"$f":"DINAMICA!I1839","v":0},{"$f":"DINAMICA!J1839","v":0},{"$f":"DINAMICA!K1839","v":0},{"$f":"VALUE(DINAMICA!$L1839)","v":0},{"$f":"VALUE(DINAMICA!$M1839)","v":0},{"$f":"VALUE(DINAMICA!$N1839)","v":0},{"$f":"VALUE(DINAMICA!$O1839)","v":0},{"$f":"VALUE(DINAMICA!$P1839)","v":0},{"$f":"VALUE(DINAMICA!$Q1839)","v":0},{"$f":"VALUE(DINAMICA!$R1839)","v":0}]
[{"$f":"VALUE(DINAMICA!$A1840)","v":0},{"$f":"VALUE(DINAMICA!$B1840)","v":"00:00:00"},{"$f":"VALUE(DINAMICA!$C1840)","v":0},{"$f":"DINAMICA!D1840","v":0},{"$f":"DINAMICA!E1840","v":0},{"$f":"DINAMICA!F1840","v":0},{"$f":"DINAMICA!G1840","v":0},{"$f":"DINAMICA!H1840","v":0},{"$f":"DINAMICA!I1840","v":0},{"$f":"DINAMICA!J1840","v":0},{"$f":"DINAMICA!K1840","v":0},{"$f":"VALUE(DINAMICA!$L1840)","v":0},{"$f":"VALUE(DINAMICA!$M1840)","v":0},{"$f":"VALUE(DINAMICA!$N1840)","v":0},{"$f":"VALUE(DINAMICA!$O1840)","v":0},{"$f":"VALUE(DINAMICA!$P1840)","v":0},{"$f":"VALUE(DINAMICA!$Q1840)","v":0},{"$f":"VALUE(DINAMICA!$R1840)","v":0}]
[{"$f":"VALUE(DINAMICA!$A1841)","v":0},{"$f":"VALUE(DINAMICA!$B1841)","v":"00:00:00"},{"$f":"VALUE(DINAMICA!$C1841)","v":0},{"$f":"DINAMICA!D1841","v":0},{"$f":"DINAMICA!E1841","v":0},{"$f":"DINAMICA!F1841","v":0},{"$f":"DINAMICA!G1841","v":0},{"$f":"DINAMICA!H1841","v":0},{"$f":"DINAMICA!I1841","v":0},{"$f":"DINAMICA!J1841","v":0},{"$f":"DINAMICA!K1841","v":0},{"$f":"VALUE(DINAMICA!$L1841)","v":0},{"$f":"VALUE(DINAMICA!$M1841)","v":0},{"$f":"VALUE(DINAMICA!$N1841)","v":0},{"$f":"VALUE(DINAMICA!$O1841)","v":0},{"$f":"VALUE(DINAMICA!$P1841)","v":0},{"$f":"VALUE(DINAMICA!$Q1841)","v":0},{"$f":"VALUE(DINAMICA!$R1841)","v":0}]
[{"$f":"VALUE(DINAMICA!$A1842)","v":0},{"$f":"VALUE(DINAMICA!$B1842)","v":"00:00:00"},{"$f":"VALUE(DINAMICA!$C1842)","v":0},{"$f":"DINAMICA!D1842","v":0},{"$f":"DINAMICA!E1842","v":0},{"$f":"DINAMICA!F1842","v":0},{"$f":"DINAMICA!G1842","v":0},{"$f":"DINAMICA!H1842","v":0},{"$f":"DINAMICA!I1842","v":0},{"$f":"DINAMICA!J1842","v":0},{"$f":"DINAMICA!K1842","v":0},{"$f":"VALUE(DINAMICA!$L1842)","v":0},{"$f":"VALUE(DINAMICA!$M1842)","v":0},{"$f":"VALUE(DINAMICA!$N1842)","v":0},{"$f":"VALUE(DINAMICA!$O1842)","v":0},{"$f":"VALUE(DINAMICA!$P1842)","v":0},{"$f":"VALUE(DINAMICA!$Q1842)","v":0},{"$f":"VALUE(DINAMICA!$R1842)","v":0}]
[{"$f":"VALUE(DINAMICA!$A1843)","v":0},{"$f":"VALUE(DINAMICA!$B1843)","v":"00:00:00"},{"$f":"VALUE(DINAMICA!$C1843)","v":0},{"$f":"DINAMICA!D1843","v":0},{"$f":"DINAMICA!E1843","v":0},{"$f":"DINAMICA!F1843","v":0},{"$f":"DINAMICA!G1843","v":0},{"$f":"DINAMICA!H1843","v":0},{"$f":"DINAMICA!I1843","v":0},{"$f":"DINAMICA!J1843","v":0},{"$f":"DINAMICA!K1843","v":0},{"$f":"VALUE(DINAMICA!$L1843)","v":0},{"$f":"VALUE(DINAMICA!$M1843)","v":0},{"$f":"VALUE(DINAMICA!$N1843)","v":0},{"$f":"VALUE(DINAMICA!$O1843)","v":0},{"$f":"VALUE(DINAMICA!$P1843)","v":0},{"$f":"VALUE(DINAMICA!$Q1843)","v":0},{"$f":"VALUE(DINAMICA!$R1843)","v":0}]
[{"$f":"VALUE(DINAMICA!$A1844)","v":0},{"$f":"VALUE(DINAMICA!$B1844)","v":"00:00:00"},{"$f":"VALUE(DINAMICA!$C1844)","v":0},{"$f":"DINAMICA!D1844","v":0},{"$f":"DINAMICA!E1844","v":0},{"$f":"DINAMICA!F1844","v":0},{"$f":"DINAMICA!G1844","v":0},{"$f":"DINAMICA!H1844","v":0},{"$f":"DINAMICA!I1844","v":0},{"$f":"DINAMICA!J1844","v":0},{"$f":"DINAMICA!K1844","v":0},{"$f":"VALUE(DINAMICA!$L1844)","v":0},{"$f":"VALUE(DINAMICA!$M1844)","v":0},{"$f":"VALUE(DINAMICA!$N1844)","v":0},{"$f":"VALUE(DINAMICA!$O1844)","v":0},{"$f":"VALUE(DINAMICA!$P1844)","v":0},{"$f":"VALUE(DINAMICA!$Q1844)","v":0},{"$f":"VALUE(DINAMICA!$R1844)","v":0}]
[{"$f":"VALUE(DINAMICA!$A1845)","v":0},{"$f":"VALUE(DINAMICA!$B1845)","v":"00:00:00"},{"$f":"VALUE(DINAMICA!$C1845)","v":0},{"$f":"DINAMICA!D1845","v":0},{"$f":"DINAMICA!E1845","v":0},{"$f":"DINAMICA!F1845","v":0},{"$f":"DINAMICA!G1845","v":0},{"$f":"DINAMICA!H1845","v":0},{"$f":"DINAMICA!I1845","v":0},{"$f":"DINAMICA!J1845","v":0},{"$f":"DINAMICA!K1845","v":0},{"$f":"VALUE(DINAMICA!$L1845)","v":0},{"$f":"VALUE(DINAMICA!$M1845)","v":0},{"$f":"VALUE(DINAMICA!$N1845)","v":0},{"$f":"VALUE(DINAMICA!$O1845)","v":0},{"$f":"VALUE(DINAMICA!$P1845)","v":0},{"$f":"VALUE(DINAMICA!$Q1845)","v":0},{"$f":"VALUE(DINAMICA!$R1845)","v":0}]
[{"$f":"VALUE(DINAMICA!$A1846)","v":0},{"$f":"VALUE(DINAMICA!$B1846)","v":"00:00:00"},{"$f":"VALUE(DINAMICA!$C1846)","v":0},{"$f":"DINAMICA!D1846","v":0},{"$f":"DINAMICA!E1846","v":0},{"$f":"DINAMICA!F1846","v":0},{"$f":"DINAMICA!G1846","v":0},{"$f":"DINAMICA!H1846","v":0},{"$f":"DINAMICA!I1846","v":0},{"$f":"DINAMICA!J1846","v":0},{"$f":"DINAMICA!K1846","v":0},{"$f":"VALUE(DINAMICA!$L1846)","v":0},{"$f":"VALUE(DINAMICA!$M1846)","v":0},{"$f":"VALUE(DINAMICA!$N1846)","v":0},{"$f":"VALUE(DINAMICA!$O1846)","v":0},{"$f":"VALUE(DINAMICA!$P1846)","v":0},{"$f":"VALUE(DINAMICA!$Q1846)","v":0},{"$f":"VALUE(DINAMICA!$R1846)","v":0}]
[{"$f":"VALUE(DINAMICA!$A1847)","v":0},{"$f":"VALUE(DINAMICA!$B1847)","v":"00:00:00"},{"$f":"VALUE(DINAMICA!$C1847)","v":0},{"$f":"DINAMICA!D1847","v":0},{"$f":"DINAMICA!E1847","v":0},{"$f":"DINAMICA!F1847","v":0},{"$f":"DINAMICA!G1847","v":0},{"$f":"DINAMICA!H1847","v":0},{"$f":"DINAMICA!I1847","v":0},{"$f":"DINAMICA!J1847","v":0},{"$f":"DINAMICA!K1847","v":0},{"$f":"VALUE(DINAMICA!$L1847)","v":0},{"$f":"VALUE(DINAMICA!$M1847)","v":0},{"$f":"VALUE(DINAMICA!$N1847)","v":0},{"$f":"VALUE(DINAMICA!$O1847)","v":0},{"$f":"VALUE(DINAMICA!$P1847)","v":0},{"$f":"VALUE(DINAMICA!$Q1847)","v":0},{"$f":"VALUE(DINAMICA!$R1847)","v":0}]
[{"$f":"VALUE(DINAMICA!$A1848)","v":0},{"$f":"VALUE(DINAMICA!$B1848)","v":"00:00:00"},{"$f":"VALUE(DINAMICA!$C1848)","v":0},{"$f":"DINAMICA!D1848","v":0},{"$f":"DINAMICA!E1848","v":0},{"$f":"DINAMICA!F1848","v":0},{"$f":"DINAMICA!G1848","v":0},{"$f":"DINAMICA!H1848","v":0},{"$f":"DINAMICA!I1848","v":0},{"$f":"DINAMICA!J1848","v":0},{"$f":"DINAMICA!K1848","v":0},{"$f":"VALUE(DINAMICA!$L1848)","v":0},{"$f":"VALUE(DINAMICA!$M1848)","v":0},{"$f":"VALUE(DINAMICA!$N1848)","v":0},{"$f":"VALUE(DINAMICA!$O1848)","v":0},{"$f":"VALUE(DINAMICA!$P1848)","v":0},{"$f":"VALUE(DINAMICA!$Q1848)","v":0},{"$f":"VALUE(DINAMICA!$R1848)","v":0}]
[{"$f":"VALUE(DINAMICA!$A1849)","v":0},{"$f":"VALUE(DINAMICA!$B1849)","v":"00:00:00"},{"$f":"VALUE(DINAMICA!$C1849)","v":0},{"$f":"DINAMICA!D1849","v":0},{"$f":"DINAMICA!E1849","v":0},{"$f":"DINAMICA!F1849","v":0},{"$f":"DINAMICA!G1849","v":0},{"$f":"DINAMICA!H1849","v":0},{"$f":"DINAMICA!I1849","v":0},{"$f":"DINAMICA!J1849","v":0},{"$f":"DINAMICA!K1849","v":0},{"$f":"VALUE(DINAMICA!$L1849)","v":0},{"$f":"VALUE(DINAMICA!$M1849)","v":0},{"$f":"VALUE(DINAMICA!$N1849)","v":0},{"$f":"VALUE(DINAMICA!$O1849)","v":0},{"$f":"VALUE(DINAMICA!$P1849)","v":0},{"$f":"VALUE(DINAMICA!$Q1849)","v":0},{"$f":"VALUE(DINAMICA!$R1849)","v":0}]
[{"$f":"VALUE(DINAMICA!$A1850)","v":0},{"$f":"VALUE(DINAMICA!$B1850)","v":"00:00:00"},{"$f":"VALUE(DINAMICA!$C1850)","v":0},{"$f":"DINAMICA!D1850","v":0},{"$f":"DINAMICA!E1850","v":0},{"$f":"DINAMICA!F1850","v":0},{"$f":"DINAMICA!G1850","v":0},{"$f":"DINAMICA!H1850","v":0},{"$f":"DINAMICA!I1850","v":0},{"$f":"DINAMICA!J1850","v":0},{"$f":"DINAMICA!K1850","v":0},{"$f":"VALUE(DINAMICA!$L1850)","v":0},{"$f":"VALUE(DINAMICA!$M1850)","v":0},{"$f":"VALUE(DINAMICA!$N1850)","v":0},{"$f":"VALUE(DINAMICA!$O1850)","v":0},{"$f":"VALUE(DINAMICA!$P1850)","v":0},{"$f":"VALUE(DINAMICA!$Q1850)","v":0},{"$f":"VALUE(DINAMICA!$R1850)","v":0}]
[{"$f":"VALUE(DINAMICA!$A1851)","v":0},{"$f":"VALUE(DINAMICA!$B1851)","v":"00:00:00"},{"$f":"VALUE(DINAMICA!$C1851)","v":0},{"$f":"DINAMICA!D1851","v":0},{"$f":"DINAMICA!E1851","v":0},{"$f":"DINAMICA!F1851","v":0},{"$f":"DINAMICA!G1851","v":0},{"$f":"DINAMICA!H1851","v":0},{"$f":"DINAMICA!I1851","v":0},{"$f":"DINAMICA!J1851","v":0},{"$f":"DINAMICA!K1851","v":0},{"$f":"VALUE(DINAMICA!$L1851)","v":0},{"$f":"VALUE(DINAMICA!$M1851)","v":0},{"$f":"VALUE(DINAMICA!$N1851)","v":0},{"$f":"VALUE(DINAMICA!$O1851)","v":0},{"$f":"VALUE(DINAMICA!$P1851)","v":0},{"$f":"VALUE(DINAMICA!$Q1851)","v":0},{"$f":"VALUE(DINAMICA!$R1851)","v":0}]
[{"$f":"VALUE(DINAMICA!$A1852)","v":0},{"$f":"VALUE(DINAMICA!$B1852)","v":"00:00:00"},{"$f":"VALUE(DINAMICA!$C1852)","v":0},{"$f":"DINAMICA!D1852","v":0},{"$f":"DINAMICA!E1852","v":0},{"$f":"DINAMICA!F1852","v":0},{"$f":"DINAMICA!G1852","v":0},{"$f":"DINAMICA!H1852","v":0},{"$f":"DINAMICA!I1852","v":0},{"$f":"DINAMICA!J1852","v":0},{"$f":"DINAMICA!K1852","v":0},{"$f":"VALUE(DINAMICA!$L1852)","v":0},{"$f":"VALUE(DINAMICA!$M1852)","v":0},{"$f":"VALUE(DINAMICA!$N1852)","v":0},{"$f":"VALUE(DINAMICA!$O1852)","v":0},{"$f":"VALUE(DINAMICA!$P1852)","v":0},{"$f":"VALUE(DINAMICA!$Q1852)","v":0},{"$f":"VALUE(DINAMICA!$R1852)","v":0}]
[{"$f":"VALUE(DINAMICA!$A1853)","v":0},{"$f":"VALUE(DINAMICA!$B1853)","v":"00:00:00"},{"$f":"VALUE(DINAMICA!$C1853)","v":0},{"$f":"DINAMICA!D1853","v":0},{"$f":"DINAMICA!E1853","v":0},{"$f":"DINAMICA!F1853","v":0},{"$f":"DINAMICA!G1853","v":0},{"$f":"DINAMICA!H1853","v":0},{"$f":"DINAMICA!I1853","v":0},{"$f":"DINAMICA!J1853","v":0},{"$f":"DINAMICA!K1853","v":0},{"$f":"VALUE(DINAMICA!$L1853)","v":0},{"$f":"VALUE(DINAMICA!$M1853)","v":0},{"$f":"VALUE(DINAMICA!$N1853)","v":0},{"$f":"VALUE(DINAMICA!$O1853)","v":0},{"$f":"VALUE(DINAMICA!$P1853)","v":0},{"$f":"VALUE(DINAMICA!$Q1853)","v":0},{"$f":"VALUE(DINAMICA!$R1853)","v":0}]
[{"$f":"VALUE(DINAMICA!$A1854)","v":0},{"$f":"VALUE(DINAMICA!$B1854)","v":"00:00:00"},{"$f":"VALUE(DINAMICA!$C1854)","v":0},{"$f":"DINAMICA!D1854","v":0},{"$f":"DINAMICA!E1854","v":0},{"$f":"DINAMICA!F1854","v":0},{"$f":"DINAMICA!G1854","v":0},{"$f":"DINAMICA!H1854","v":0},{"$f":"DINAMICA!I1854","v":0},{"$f":"DINAMICA!J1854","v":0},{"$f":"DINAMICA!K1854","v":0},{"$f":"VALUE(DINAMICA!$L1854)","v":0},{"$f":"VALUE(DINAMICA!$M1854)","v":0},{"$f":"VALUE(DINAMICA!$N1854)","v":0},{"$f":"VALUE(DINAMICA!$O1854)","v":0},{"$f":"VALUE(DINAMICA!$P1854)","v":0},{"$f":"VALUE(DINAMICA!$Q1854)","v":0},{"$f":"VALUE(DINAMICA!$R1854)","v":0}]
[{"$f":"VALUE(DINAMICA!$A1855)","v":0},{"$f":"VALUE(DINAMICA!$B1855)","v":"00:00:00"},{"$f":"VALUE(DINAMICA!$C1855)","v":0},{"$f":"DINAMICA!D1855","v":0},{"$f":"DINAMICA!E1855","v":0},{"$f":"DINAMICA!F1855","v":0},{"$f":"DINAMICA!G1855","v":0},{"$f":"DINAMICA!H1855","v":0},{"$f":"DINAMICA!I1855","v":0},{"$f":"DINAMICA!J1855","v":0},{"$f":"DINAMICA!K1855","v":0},{"$f":"VALUE(DINAMICA!$L1855)","v":0},{"$f":"VALUE(DINAMICA!$M1855)","v":0},{"$f":"VALUE(DINAMICA!$N1855)","v":0},{"$f":"VALUE(DINAMICA!$O1855)","v":0},{"$f":"VALUE(DINAMICA!$P1855)","v":0},{"$f":"VALUE(DINAMICA!$Q1855)","v":0},{"$f":"VALUE(DINAMICA!$R1855)","v":0}]
[{"$f":"VALUE(DINAMICA!$A1856)","v":0},{"$f":"VALUE(DINAMICA!$B1856)","v":"00:00:00"},{"$f":"VALUE(DINAMICA!$C1856)","v":0},{"$f":"DINAMICA!D1856","v":0},{"$f":"DINAMICA!E1856","v":0},{"$f":"DINAMICA!F1856","v":0},{"$f":"DINAMICA!G1856","v":0},{"$f":"DINAMICA!H1856","v":0},{"$f":"DINAMICA!I1856","v":0},{"$f":"DINAMICA!J1856","v":0},{"$f":"DINAMICA!K1856","v":0},{"$f":"VALUE(DINAMICA!$L1856)","v":0},{"$f":"VALUE(DINAMICA!$M1856)","v":0},{"$f":"VALUE(DINAMICA!$N1856)","v":0},{"$f":"VALUE(DINAMICA!$O1856)","v":0},{"$f":"VALUE(DINAMICA!$P1856)","v":0},{"$f":"VALUE(DINAMICA!$Q1856)","v":0},{"$f":"VALUE(DINAMICA!$R1856)","v":0}]
[{"$f":"VALUE(DINAMICA!$A1857)","v":0},{"$f":"VALUE(DINAMICA!$B1857)","v":"00:00:00"},{"$f":"VALUE(DINAMICA!$C1857)","v":0},{"$f":"DINAMICA!D1857","v":0},{"$f":"DINAMICA!E1857","v":0},{"$f":"DINAMICA!F1857","v":0},{"$f":"DINAMICA!G1857","v":0},{"$f":"DINAMICA!H1857","v":0},{"$f":"DINAMICA!I1857","v":0},{"$f":"DINAMICA!J1857","v":0},{"$f":"DINAMICA!K1857","v":0},{"$f":"VALUE(DINAMICA!$L1857)","v":0},{"$f":"VALUE(DINAMICA!$M1857)","v":0},{"$f":"VALUE(DINAMICA!$N1857)","v":0},{"$f":"VALUE(DINAMICA!$O1857)","v":0},{"$f":"VALUE(DINAMICA!$P1857)","v":0},{"$f":"VALUE(DINAMICA!$Q1857)","v":0},{"$f":"VALUE(DINAMICA!$R1857)","v":0}]
[{"$f":"VALUE(DINAMICA!$A1858)","v":0},{"$f":"VALUE(DINAMICA!$B1858)","v":"00:00:00"},{"$f":"VALUE(DINAMICA!$C1858)","v":0},{"$f":"DINAMICA!D1858","v":0},{"$f":"DINAMICA!E1858","v":0},{"$f":"DINAMICA!F1858","v":0},{"$f":"DINAMICA!G1858","v":0},{"$f":"DINAMICA!H1858","v":0},{"$f":"DINAMICA!I1858","v":0},{"$f":"DINAMICA!J1858","v":0},{"$f":"DINAMICA!K1858","v":0},{"$f":"VALUE(DINAMICA!$L1858)","v":0},{"$f":"VALUE(DINAMICA!$M1858)","v":0},{"$f":"VALUE(DINAMICA!$N1858)","v":0},{"$f":"VALUE(DINAMICA!$O1858)","v":0},{"$f":"VALUE(DINAMICA!$P1858)","v":0},{"$f":"VALUE(DINAMICA!$Q1858)","v":0},{"$f":"VALUE(DINAMICA!$R1858)","v":0}]
[{"$f":"VALUE(DINAMICA!$A1859)","v":0},{"$f":"VALUE(DINAMICA!$B1859)","v":"00:00:00"},{"$f":"VALUE(DINAMICA!$C1859)","v":0},{"$f":"DINAMICA!D1859","v":0},{"$f":"DINAMICA!E1859","v":0},{"$f":"DINAMICA!F1859","v":0},{"$f":"DINAMICA!G1859","v":0},{"$f":"DINAMICA!H1859","v":0},{"$f":"DINAMICA!I1859","v":0},{"$f":"DINAMICA!J1859","v":0},{"$f":"DINAMICA!K1859","v":0},{"$f":"VALUE(DINAMICA!$L1859)","v":0},{"$f":"VALUE(DINAMICA!$M1859)","v":0},{"$f":"VALUE(DINAMICA!$N1859)","v":0},{"$f":"VALUE(DINAMICA!$O1859)","v":0},{"$f":"VALUE(DINAMICA!$P1859)","v":0},{"$f":"VALUE(DINAMICA!$Q1859)","v":0},{"$f":"VALUE(DINAMICA!$R1859)","v":0}]
[{"$f":"VALUE(DINAMICA!$A1860)","v":0},{"$f":"VALUE(DINAMICA!$B1860)","v":"00:00:00"},{"$f":"VALUE(DINAMICA!$C1860)","v":0},{"$f":"DINAMICA!D1860","v":0},{"$f":"DINAMICA!E1860","v":0},{"$f":"DINAMICA!F1860","v":0},{"$f":"DINAMICA!G1860","v":0},{"$f":"DINAMICA!H1860","v":0},{"$f":"DINAMICA!I1860","v":0},{"$f":"DINAMICA!J1860","v":0},{"$f":"DINAMICA!K1860","v":0},{"$f":"VALUE(DINAMICA!$L1860)","v":0},{"$f":"VALUE(DINAMICA!$M1860)","v":0},{"$f":"VALUE(DINAMICA!$N1860)","v":0},{"$f":"VALUE(DINAMICA!$O1860)","v":0},{"$f":"VALUE(DINAMICA!$P1860)","v":0},{"$f":"VALUE(DINAMICA!$Q1860)","v":0},{"$f":"VALUE(DINAMICA!$R1860)","v":0}]
[{"$f":"VALUE(DINAMICA!$A1861)","v":0},{"$f":"VALUE(DINAMICA!$B1861)","v":"00:00:00"},{"$f":"VALUE(DINAMICA!$C1861)","v":0},{"$f":"DINAMICA!D1861","v":0},{"$f":"DINAMICA!E1861","v":0},{"$f":"DINAMICA!F1861","v":0},{"$f":"DINAMICA!G1861","v":0},{"$f":"DINAMICA!H1861","v":0},{"$f":"DINAMICA!I1861","v":0},{"$f":"DINAMICA!J1861","v":0},{"$f":"DINAMICA!K1861","v":0},{"$f":"VALUE(DINAMICA!$L1861)","v":0},{"$f":"VALUE(DINAMICA!$M1861)","v":0},{"$f":"VALUE(DINAMICA!$N1861)","v":0},{"$f":"VALUE(DINAMICA!$O1861)","v":0},{"$f":"VALUE(DINAMICA!$P1861)","v":0},{"$f":"VALUE(DINAMICA!$Q1861)","v":0},{"$f":"VALUE(DINAMICA!$R1861)","v":0}]
[{"$f":"VALUE(DINAMICA!$A1862)","v":0},{"$f":"VALUE(DINAMICA!$B1862)","v":"00:00:00"},{"$f":"VALUE(DINAMICA!$C1862)","v":0},{"$f":"DINAMICA!D1862","v":0},{"$f":"DINAMICA!E1862","v":0},{"$f":"DINAMICA!F1862","v":0},{"$f":"DINAMICA!G1862","v":0},{"$f":"DINAMICA!H1862","v":0},{"$f":"DINAMICA!I1862","v":0},{"$f":"DINAMICA!J1862","v":0},{"$f":"DINAMICA!K1862","v":0},{"$f":"VALUE(DINAMICA!$L1862)","v":0},{"$f":"VALUE(DINAMICA!$M1862)","v":0},{"$f":"VALUE(DINAMICA!$N1862)","v":0},{"$f":"VALUE(DINAMICA!$O1862)","v":0},{"$f":"VALUE(DINAMICA!$P1862)","v":0},{"$f":"VALUE(DINAMICA!$Q1862)","v":0},{"$f":"VALUE(DINAMICA!$R1862)","v":0}]
[{"$f":"VALUE(DINAMICA!$A1863)","v":0},{"$f":"VALUE(DINAMICA!$B1863)","v":"00:00:00"},{"$f":"VALUE(DINAMICA!$C1863)","v":0},{"$f":"DINAMICA!D1863","v":0},{"$f":"DINAMICA!E1863","v":0},{"$f":"DINAMICA!F1863","v":0},{"$f":"DINAMICA!G1863","v":0},{"$f":"DINAMICA!H1863","v":0},{"$f":"DINAMICA!I1863","v":0},{"$f":"DINAMICA!J1863","v":0},{"$f":"DINAMICA!K1863","v":0},{"$f":"VALUE(DINAMICA!$L1863)","v":0},{"$f":"VALUE(DINAMICA!$M1863)","v":0},{"$f":"VALUE(DINAMICA!$N1863)","v":0},{"$f":"VALUE(DINAMICA!$O1863)","v":0},{"$f":"VALUE(DINAMICA!$P1863)","v":0},{"$f":"VALUE(DINAMICA!$Q1863)","v":0},{"$f":"VALUE(DINAMICA!$R1863)","v":0}]
[{"$f":"VALUE(DINAMICA!$A1864)","v":0},{"$f":"VALUE(DINAMICA!$B1864)","v":"00:00:00"},{"$f":"VALUE(DINAMICA!$C1864)","v":0},{"$f":"DINAMICA!D1864","v":0},{"$f":"DINAMICA!E1864","v":0},{"$f":"DINAMICA!F1864","v":0},{"$f":"DINAMICA!G1864","v":0},{"$f":"DINAMICA!H1864","v":0},{"$f":"DINAMICA!I1864","v":0},{"$f":"DINAMICA!J1864","v":0},{"$f":"DINAMICA!K1864","v":0},{"$f":"VALUE(DINAMICA!$L1864)","v":0},{"$f":"VALUE(DINAMICA!$M1864)","v":0},{"$f":"VALUE(DINAMICA!$N1864)","v":0},{"$f":"VALUE(DINAMICA!$O1864)","v":0},{"$f":"VALUE(DINAMICA!$P1864)","v":0},{"$f":"VALUE(DINAMICA!$Q1864)","v":0},{"$f":"VALUE(DINAMICA!$R1864)","v":0}]
[{"$f":"VALUE(DINAMICA!$A1865)","v":0},{"$f":"VALUE(DINAMICA!$B1865)","v":"00:00:00"},{"$f":"VALUE(DINAMICA!$C1865)","v":0},{"$f":"DINAMICA!D1865","v":0},{"$f":"DINAMICA!E1865","v":0},{"$f":"DINAMICA!F1865","v":0},{"$f":"DINAMICA!G1865","v":0},{"$f":"DINAMICA!H1865","v":0},{"$f":"DINAMICA!I1865","v":0},{"$f":"DINAMICA!J1865","v":0},{"$f":"DINAMICA!K1865","v":0},{"$f":"VALUE(DINAMICA!$L1865)","v":0},{"$f":"VALUE(DINAMICA!$M1865)","v":0},{"$f":"VALUE(DINAMICA!$N1865)","v":0},{"$f":"VALUE(DINAMICA!$O1865)","v":0},{"$f":"VALUE(DINAMICA!$P1865)","v":0},{"$f":"VALUE(DINAMICA!$Q1865)","v":0},{"$f":"VALUE(DINAMICA!$R1865)","v":0}]
[{"$f":"VALUE(DINAMICA!$A1866)","v":0},{"$f":"VALUE(DINAMICA!$B1866)","v":"00:00:00"},{"$f":"VALUE(DINAMICA!$C1866)","v":0},{"$f":"DINAMICA!D1866","v":0},{"$f":"DINAMICA!E1866","v":0},{"$f":"DINAMICA!F1866","v":0},{"$f":"DINAMICA!G1866","v":0},{"$f":"DINAMICA!H1866","v":0},{"$f":"DINAMICA!I1866","v":0},{"$f":"DINAMICA!J1866","v":0},{"$f":"DINAMICA!K1866","v":0},{"$f":"VALUE(DINAMICA!$L1866)","v":0},{"$f":"VALUE(DINAMICA!$M1866)","v":0},{"$f":"VALUE(DINAMICA!$N1866)","v":0},{"$f":"VALUE(DINAMICA!$O1866)","v":0},{"$f":"VALUE(DINAMICA!$P1866)","v":0},{"$f":"VALUE(DINAMICA!$Q1866)","v":0},{"$f":"VALUE(DINAMICA!$R1866)","v":0}]
[{"$f":"VALUE(DINAMICA!$A1867)","v":0},{"$f":"VALUE(DINAMICA!$B1867)","v":"00:00:00"},{"$f":"VALUE(DINAMICA!$C1867)","v":0},{"$f":"DINAMICA!D1867","v":0},{"$f":"DINAMICA!E1867","v":0},{"$f":"DINAMICA!F1867","v":0},{"$f":"DINAMICA!G1867","v":0},{"$f":"DINAMICA!H1867","v":0},{"$f":"DINAMICA!I1867","v":0},{"$f":"DINAMICA!J1867","v":0},{"$f":"DINAMICA!K1867","v":0},{"$f":"VALUE(DINAMICA!$L1867)","v":0},{"$f":"VALUE(DINAMICA!$M1867)","v":0},{"$f":"VALUE(DINAMICA!$N1867)","v":0},{"$f":"VALUE(DINAMICA!$O1867)","v":0},{"$f":"VALUE(DINAMICA!$P1867)","v":0},{"$f":"VALUE(DINAMICA!$Q1867)","v":0},{"$f":"VALUE(DINAMICA!$R1867)","v":0}]
[{"$f":"VALUE(DINAMICA!$A1868)","v":0},{"$f":"VALUE(DINAMICA!$B1868)","v":"00:00:00"},{"$f":"VALUE(DINAMICA!$C1868)","v":0},{"$f":"DINAMICA!D1868","v":0},{"$f":"DINAMICA!E1868","v":0},{"$f":"DINAMICA!F1868","v":0},{"$f":"DINAMICA!G1868","v":0},{"$f":"DINAMICA!H1868","v":0},{"$f":"DINAMICA!I1868","v":0},{"$f":"DINAMICA!J1868","v":0},{"$f":"DINAMICA!K1868","v":0},{"$f":"VALUE(DINAMICA!$L1868)","v":0},{"$f":"VALUE(DINAMICA!$M1868)","v":0},{"$f":"VALUE(DINAMICA!$N1868)","v":0},{"$f":"VALUE(DINAMICA!$O1868)","v":0},{"$f":"VALUE(DINAMICA!$P1868)","v":0},{"$f":"VALUE(DINAMICA!$Q1868)","v":0},{"$f":"VALUE(DINAMICA!$R1868)","v":0}]
[{"$f":"VALUE(DINAMICA!$A1869)","v":0},{"$f":"VALUE(DINAMICA!$B1869)","v":"00:00:00"},{"$f":"VALUE(DINAMICA!$C1869)","v":0},{"$f":"DINAMICA!D1869","v":0},{"$f":"DINAMICA!E1869","v":0},{"$f":"DINAMICA!F1869","v":0},{"$f":"DINAMICA!G1869","v":0},{"$f":"DINAMICA!H1869","v":0},{"$f":"DINAMICA!I1869","v":0},{"$f":"DINAMICA!J1869","v":0},{"$f":"DINAMICA!K1869","v":0},{"$f":"VALUE(DINAMICA!$L1869)","v":0},{"$f":"VALUE(DINAMICA!$M1869)","v":0},{"$f":"VALUE(DINAMICA!$N1869)","v":0},{"$f":"VALUE(DINAMICA!$O1869)","v":0},{"$f":"VALUE(DINAMICA!$P1869)","v":0},{"$f":"VALUE(DINAMICA!$Q1869)","v":0},{"$f":"VALUE(DINAMICA!$R1869)","v":0}]
[{"$f":"VALUE(DINAMICA!$A1870)","v":0},{"$f":"VALUE(DINAMICA!$B1870)","v":"00:00:00"},{"$f":"VALUE(DINAMICA!$C1870)","v":0},{"$f":"DINAMICA!D1870","v":0},{"$f":"DINAMICA!E1870","v":0},{"$f":"DINAMICA!F1870","v":0},{"$f":"DINAMICA!G1870","v":0},{"$f":"DINAMICA!H1870","v":0},{"$f":"DINAMICA!I1870","v":0},{"$f":"DINAMICA!J1870","v":0},{"$f":"DINAMICA!K1870","v":0},{"$f":"VALUE(DINAMICA!$L1870)","v":0},{"$f":"VALUE(DINAMICA!$M1870)","v":0},{"$f":"VALUE(DINAMICA!$N1870)","v":0},{"$f":"VALUE(DINAMICA!$O1870)","v":0},{"$f":"VALUE(DINAMICA!$P1870)","v":0},{"$f":"VALUE(DINAMICA!$Q1870)","v":0},{"$f":"VALUE(DINAMICA!$R1870)","v":0}]
[{"$f":"VALUE(DINAMICA!$A1871)","v":0},{"$f":"VALUE(DINAMICA!$B1871)","v":"00:00:00"},{"$f":"VALUE(DINAMICA!$C1871)","v":0},{"$f":"DINAMICA!D1871","v":0},{"$f":"DINAMICA!E1871","v":0},{"$f":"DINAMICA!F1871","v":0},{"$f":"DINAMICA!G1871","v":0},{"$f":"DINAMICA!H1871","v":0},{"$f":"DINAMICA!I1871","v":0},{"$f":"DINAMICA!J1871","v":0},{"$f":"DINAMICA!K1871","v":0},{"$f":"VALUE(DINAMICA!$L1871)","v":0},{"$f":"VALUE(DINAMICA!$M1871)","v":0},{"$f":"VALUE(DINAMICA!$N1871)","v":0},{"$f":"VALUE(DINAMICA!$O1871)","v":0},{"$f":"VALUE(DINAMICA!$P1871)","v":0},{"$f":"VALUE(DINAMICA!$Q1871)","v":0},{"$f":"VALUE(DINAMICA!$R1871)","v":0}]
[{"$f":"VALUE(DINAMICA!$A1872)","v":0},{"$f":"VALUE(DINAMICA!$B1872)","v":"00:00:00"},{"$f":"VALUE(DINAMICA!$C1872)","v":0},{"$f":"DINAMICA!D1872","v":0},{"$f":"DINAMICA!E1872","v":0},{"$f":"DINAMICA!F1872","v":0},{"$f":"DINAMICA!G1872","v":0},{"$f":"DINAMICA!H1872","v":0},{"$f":"DINAMICA!I1872","v":0},{"$f":"DINAMICA!J1872","v":0},{"$f":"DINAMICA!K1872","v":0},{"$f":"VALUE(DINAMICA!$L1872)","v":0},{"$f":"VALUE(DINAMICA!$M1872)","v":0},{"$f":"VALUE(DINAMICA!$N1872)","v":0},{"$f":"VALUE(DINAMICA!$O1872)","v":0},{"$f":"VALUE(DINAMICA!$P1872)","v":0},{"$f":"VALUE(DINAMICA!$Q1872)","v":0},{"$f":"VALUE(DINAMICA!$R1872)","v":0}]
[{"$f":"VALUE(DINAMICA!$A1873)","v":0},{"$f":"VALUE(DINAMICA!$B1873)","v":"00:00:00"},{"$f":"VALUE(DINAMICA!$C1873)","v":0},{"$f":"DINAMICA!D1873","v":0},{"$f":"DINAMICA!E1873","v":0},{"$f":"DINAMICA!F1873","v":0},{"$f":"DINAMICA!G1873","v":0},{"$f":"DINAMICA!H1873","v":0},{"$f":"DINAMICA!I1873","v":0},{"$f":"DINAMICA!J1873","v":0},{"$f":"DINAMICA!K1873","v":0},{"$f":"VALUE(DINAMICA!$L1873)","v":0},{"$f":"VALUE(DINAMICA!$M1873)","v":0},{"$f":"VALUE(DINAMICA!$N1873)","v":0},{"$f":"VALUE(DINAMICA!$O1873)","v":0},{"$f":"VALUE(DINAMICA!$P1873)","v":0},{"$f":"VALUE(DINAMICA!$Q1873)","v":0},{"$f":"VALUE(DINAMICA!$R1873)","v":0}]
[{"$f":"VALUE(DINAMICA!$A1874)","v":0},{"$f":"VALUE(DINAMICA!$B1874)","v":"00:00:00"},{"$f":"VALUE(DINAMICA!$C1874)","v":0},{"$f":"DINAMICA!D1874","v":0},{"$f":"DINAMICA!E1874","v":0},{"$f":"DINAMICA!F1874","v":0},{"$f":"DINAMICA!G1874","v":0},{"$f":"DINAMICA!H1874","v":0},{"$f":"DINAMICA!I1874","v":0},{"$f":"DINAMICA!J1874","v":0},{"$f":"DINAMICA!K1874","v":0},{"$f":"VALUE(DINAMICA!$L1874)","v":0},{"$f":"VALUE(DINAMICA!$M1874)","v":0},{"$f":"VALUE(DINAMICA!$N1874)","v":0},{"$f":"VALUE(DINAMICA!$O1874)","v":0},{"$f":"VALUE(DINAMICA!$P1874)","v":0},{"$f":"VALUE(DINAMICA!$Q1874)","v":0},{"$f":"VALUE(DINAMICA!$R1874)","v":0}]
[{"$f":"VALUE(DINAMICA!$A1875)","v":0},{"$f":"VALUE(DINAMICA!$B1875)","v":"00:00:00"},{"$f":"VALUE(DINAMICA!$C1875)","v":0},{"$f":"DINAMICA!D1875","v":0},{"$f":"DINAMICA!E1875","v":0},{"$f":"DINAMICA!F1875","v":0},{"$f":"DINAMICA!G1875","v":0},{"$f":"DINAMICA!H1875","v":0},{"$f":"DINAMICA!I1875","v":0},{"$f":"DINAMICA!J1875","v":0},{"$f":"DINAMICA!K1875","v":0},{"$f":"VALUE(DINAMICA!$L1875)","v":0},{"$f":"VALUE(DINAMICA!$M1875)","v":0},{"$f":"VALUE(DINAMICA!$N1875)","v":0},{"$f":"VALUE(DINAMICA!$O1875)","v":0},{"$f":"VALUE(DINAMICA!$P1875)","v":0},{"$f":"VALUE(DINAMICA!$Q1875)","v":0},{"$f":"VALUE(DINAMICA!$R1875)","v":0}]
[{"$f":"VALUE(DINAMICA!$A1876)","v":0},{"$f":"VALUE(DINAMICA!$B1876)","v":"00:00:00"},{"$f":"VALUE(DINAMICA!$C1876)","v":0},{"$f":"DINAMICA!D1876","v":0},{"$f":"DINAMICA!E1876","v":0},{"$f":"DINAMICA!F1876","v":0},{"$f":"DINAMICA!G1876","v":0},{"$f":"DINAMICA!H1876","v":0},{"$f":"DINAMICA!I1876","v":0},{"$f":"DINAMICA!J1876","v":0},{"$f":"DINAMICA!K1876","v":0},{"$f":"VALUE(DINAMICA!$L1876)","v":0},{"$f":"VALUE(DINAMICA!$M1876)","v":0},{"$f":"VALUE(DINAMICA!$N1876)","v":0},{"$f":"VALUE(DINAMICA!$O1876)","v":0},{"$f":"VALUE(DINAMICA!$P1876)","v":0},{"$f":"VALUE(DINAMICA!$Q1876)","v":0},{"$f":"VALUE(DINAMICA!$R1876)","v":0}]
[{"$f":"VALUE(DINAMICA!$A1877)","v":0},{"$f":"VALUE(DINAMICA!$B1877)","v":"00:00:00"},{"$f":"VALUE(DINAMICA!$C1877)","v":0},{"$f":"DINAMICA!D1877","v":0},{"$f":"DINAMICA!E1877","v":0},{"$f":"DINAMICA!F1877","v":0},{"$f":"DINAMICA!G1877","v":0},{"$f":"DINAMICA!H1877","v":0},{"$f":"DINAMICA!I1877","v":0},{"$f":"DINAMICA!J1877","v":0},{"$f":"DINAMICA!K1877","v":0},{"$f":"VALUE(DINAMICA!$L1877)","v":0},{"$f":"VALUE(DINAMICA!$M1877)","v":0},{"$f":"VALUE(DINAMICA!$N1877)","v":0},{"$f":"VALUE(DINAMICA!$O1877)","v":0},{"$f":"VALUE(DINAMICA!$P1877)","v":0},{"$f":"VALUE(DINAMICA!$Q1877)","v":0},{"$f":"VALUE(DINAMICA!$R1877)","v":0}]
[{"$f":"VALUE(DINAMICA!$A1878)","v":0},{"$f":"VALUE(DINAMICA!$B1878)","v":"00:00:00"},{"$f":"VALUE(DINAMICA!$C1878)","v":0},{"$f":"DINAMICA!D1878","v":0},{"$f":"DINAMICA!E1878","v":0},{"$f":"DINAMICA!F1878","v":0},{"$f":"DINAMICA!G1878","v":0},{"$f":"DINAMICA!H1878","v":0},{"$f":"DINAMICA!I1878","v":0},{"$f":"DINAMICA!J1878","v":0},{"$f":"DINAMICA!K1878","v":0},{"$f":"VALUE(DINAMICA!$L1878)","v":0},{"$f":"VALUE(DINAMICA!$M1878)","v":0},{"$f":"VALUE(DINAMICA!$N1878)","v":0},{"$f":"VALUE(DINAMICA!$O1878)","v":0},{"$f":"VALUE(DINAMICA!$P1878)","v":0},{"$f":"VALUE(DINAMICA!$Q1878)","v":0},{"$f":"VALUE(DINAMICA!$R1878)","v":0}]
[{"$f":"VALUE(DINAMICA!$A1879)","v":0},{"$f":"VALUE(DINAMICA!$B1879)","v":"00:00:00"},{"$f":"VALUE(DINAMICA!$C1879)","v":0},{"$f":"DINAMICA!D1879","v":0},{"$f":"DINAMICA!E1879","v":0},{"$f":"DINAMICA!F1879","v":0},{"$f":"DINAMICA!G1879","v":0},{"$f":"DINAMICA!H1879","v":0},{"$f":"DINAMICA!I1879","v":0},{"$f":"DINAMICA!J1879","v":0},{"$f":"DINAMICA!K1879","v":0},{"$f":"VALUE(DINAMICA!$L1879)","v":0},{"$f":"VALUE(DINAMICA!$M1879)","v":0},{"$f":"VALUE(DINAMICA!$N1879)","v":0},{"$f":"VALUE(DINAMICA!$O1879)","v":0},{"$f":"VALUE(DINAMICA!$P1879)","v":0},{"$f":"VALUE(DINAMICA!$Q1879)","v":0},{"$f":"VALUE(DINAMICA!$R1879)","v":0}]
[{"$f":"VALUE(DINAMICA!$A1880)","v":0},{"$f":"VALUE(DINAMICA!$B1880)","v":"00:00:00"},{"$f":"VALUE(DINAMICA!$C1880)","v":0},{"$f":"DINAMICA!D1880","v":0},{"$f":"DINAMICA!E1880","v":0},{"$f":"DINAMICA!F1880","v":0},{"$f":"DINAMICA!G1880","v":0},{"$f":"DINAMICA!H1880","v":0},{"$f":"DINAMICA!I1880","v":0},{"$f":"DINAMICA!J1880","v":0},{"$f":"DINAMICA!K1880","v":0},{"$f":"VALUE(DINAMICA!$L1880)","v":0},{"$f":"VALUE(DINAMICA!$M1880)","v":0},{"$f":"VALUE(DINAMICA!$N1880)","v":0},{"$f":"VALUE(DINAMICA!$O1880)","v":0},{"$f":"VALUE(DINAMICA!$P1880)","v":0},{"$f":"VALUE(DINAMICA!$Q1880)","v":0},{"$f":"VALUE(DINAMICA!$R1880)","v":0}]
[{"$f":"VALUE(DINAMICA!$A1881)","v":0},{"$f":"VALUE(DINAMICA!$B1881)","v":"00:00:00"},{"$f":"VALUE(DINAMICA!$C1881)","v":0},{"$f":"DINAMICA!D1881","v":0},{"$f":"DINAMICA!E1881","v":0},{"$f":"DINAMICA!F1881","v":0},{"$f":"DINAMICA!G1881","v":0},{"$f":"DINAMICA!H1881","v":0},{"$f":"DINAMICA!I1881","v":0},{"$f":"DINAMICA!J1881","v":0},{"$f":"DINAMICA!K1881","v":0},{"$f":"VALUE(DINAMICA!$L1881)","v":0},{"$f":"VALUE(DINAMICA!$M1881)","v":0},{"$f":"VALUE(DINAMICA!$N1881)","v":0},{"$f":"VALUE(DINAMICA!$O1881)","v":0},{"$f":"VALUE(DINAMICA!$P1881)","v":0},{"$f":"VALUE(DINAMICA!$Q1881)","v":0},{"$f":"VALUE(DINAMICA!$R1881)","v":0}]
[{"$f":"VALUE(DINAMICA!$A1882)","v":0},{"$f":"VALUE(DINAMICA!$B1882)","v":"00:00:00"},{"$f":"VALUE(DINAMICA!$C1882)","v":0},{"$f":"DINAMICA!D1882","v":0},{"$f":"DINAMICA!E1882","v":0},{"$f":"DINAMICA!F1882","v":0},{"$f":"DINAMICA!G1882","v":0},{"$f":"DINAMICA!H1882","v":0},{"$f":"DINAMICA!I1882","v":0},{"$f":"DINAMICA!J1882","v":0},{"$f":"DINAMICA!K1882","v":0},{"$f":"VALUE(DINAMICA!$L1882)","v":0},{"$f":"VALUE(DINAMICA!$M1882)","v":0},{"$f":"VALUE(DINAMICA!$N1882)","v":0},{"$f":"VALUE(DINAMICA!$O1882)","v":0},{"$f":"VALUE(DINAMICA!$P1882)","v":0},{"$f":"VALUE(DINAMICA!$Q1882)","v":0},{"$f":"VALUE(DINAMICA!$R1882)","v":0}]
[{"$f":"VALUE(DINAMICA!$A1883)","v":0},{"$f":"VALUE(DINAMICA!$B1883)","v":"00:00:00"},{"$f":"VALUE(DINAMICA!$C1883)","v":0},{"$f":"DINAMICA!D1883","v":0},{"$f":"DINAMICA!E1883","v":0},{"$f":"DINAMICA!F1883","v":0},{"$f":"DINAMICA!G1883","v":0},{"$f":"DINAMICA!H1883","v":0},{"$f":"DINAMICA!I1883","v":0},{"$f":"DINAMICA!J1883","v":0},{"$f":"DINAMICA!K1883","v":0},{"$f":"VALUE(DINAMICA!$L1883)","v":0},{"$f":"VALUE(DINAMICA!$M1883)","v":0},{"$f":"VALUE(DINAMICA!$N1883)","v":0},{"$f":"VALUE(DINAMICA!$O1883)","v":0},{"$f":"VALUE(DINAMICA!$P1883)","v":0},{"$f":"VALUE(DINAMICA!$Q1883)","v":0},{"$f":"VALUE(DINAMICA!$R1883)","v":0}]
[{"$f":"VALUE(DINAMICA!$A1884)","v":0},{"$f":"VALUE(DINAMICA!$B1884)","v":"00:00:00"},{"$f":"VALUE(DINAMICA!$C1884)","v":0},{"$f":"DINAMICA!D1884","v":0},{"$f":"DINAMICA!E1884","v":0},{"$f":"DINAMICA!F1884","v":0},{"$f":"DINAMICA!G1884","v":0},{"$f":"DINAMICA!H1884","v":0},{"$f":"DINAMICA!I1884","v":0},{"$f":"DINAMICA!J1884","v":0},{"$f":"DINAMICA!K1884","v":0},{"$f":"VALUE(DINAMICA!$L1884)","v":0},{"$f":"VALUE(DINAMICA!$M1884)","v":0},{"$f":"VALUE(DINAMICA!$N1884)","v":0},{"$f":"VALUE(DINAMICA!$O1884)","v":0},{"$f":"VALUE(DINAMICA!$P1884)","v":0},{"$f":"VALUE(DINAMICA!$Q1884)","v":0},{"$f":"VALUE(DINAMICA!$R1884)","v":0}]
[{"$f":"VALUE(DINAMICA!$A1885)","v":0},{"$f":"VALUE(DINAMICA!$B1885)","v":"00:00:00"},{"$f":"VALUE(DINAMICA!$C1885)","v":0},{"$f":"DINAMICA!D1885","v":0},{"$f":"DINAMICA!E1885","v":0},{"$f":"DINAMICA!F1885","v":0},{"$f":"DINAMICA!G1885","v":0},{"$f":"DINAMICA!H1885","v":0},{"$f":"DINAMICA!I1885","v":0},{"$f":"DINAMICA!J1885","v":0},{"$f":"DINAMICA!K1885","v":0},{"$f":"VALUE(DINAMICA!$L1885)","v":0},{"$f":"VALUE(DINAMICA!$M1885)","v":0},{"$f":"VALUE(DINAMICA!$N1885)","v":0},{"$f":"VALUE(DINAMICA!$O1885)","v":0},{"$f":"VALUE(DINAMICA!$P1885)","v":0},{"$f":"VALUE(DINAMICA!$Q1885)","v":0},{"$f":"VALUE(DINAMICA!$R1885)","v":0}]
[{"$f":"VALUE(DINAMICA!$A1886)","v":0},{"$f":"VALUE(DINAMICA!$B1886)","v":"00:00:00"},{"$f":"VALUE(DINAMICA!$C1886)","v":0},{"$f":"DINAMICA!D1886","v":0},{"$f":"DINAMICA!E1886","v":0},{"$f":"DINAMICA!F1886","v":0},{"$f":"DINAMICA!G1886","v":0},{"$f":"DINAMICA!H1886","v":0},{"$f":"DINAMICA!I1886","v":0},{"$f":"DINAMICA!J1886","v":0},{"$f":"DINAMICA!K1886","v":0},{"$f":"VALUE(DINAMICA!$L1886)","v":0},{"$f":"VALUE(DINAMICA!$M1886)","v":0},{"$f":"VALUE(DINAMICA!$N1886)","v":0},{"$f":"VALUE(DINAMICA!$O1886)","v":0},{"$f":"VALUE(DINAMICA!$P1886)","v":0},{"$f":"VALUE(DINAMICA!$Q1886)","v":0},{"$f":"VALUE(DINAMICA!$R1886)","v":0}]
[{"$f":"VALUE(DINAMICA!$A1887)","v":0},{"$f":"VALUE(DINAMICA!$B1887)","v":"00:00:00"},{"$f":"VALUE(DINAMICA!$C1887)","v":0},{"$f":"DINAMICA!D1887","v":0},{"$f":"DINAMICA!E1887","v":0},{"$f":"DINAMICA!F1887","v":0},{"$f":"DINAMICA!G1887","v":0},{"$f":"DINAMICA!H1887","v":0},{"$f":"DINAMICA!I1887","v":0},{"$f":"DINAMICA!J1887","v":0},{"$f":"DINAMICA!K1887","v":0},{"$f":"VALUE(DINAMICA!$L1887)","v":0},{"$f":"VALUE(DINAMICA!$M1887)","v":0},{"$f":"VALUE(DINAMICA!$N1887)","v":0},{"$f":"VALUE(DINAMICA!$O1887)","v":0},{"$f":"VALUE(DINAMICA!$P1887)","v":0},{"$f":"VALUE(DINAMICA!$Q1887)","v":0},{"$f":"VALUE(DINAMICA!$R1887)","v":0}]
[{"$f":"VALUE(DINAMICA!$A1888)","v":0},{"$f":"VALUE(DINAMICA!$B1888)","v":"00:00:00"},{"$f":"VALUE(DINAMICA!$C1888)","v":0},{"$f":"DINAMICA!D1888","v":0},{"$f":"DINAMICA!E1888","v":0},{"$f":"DINAMICA!F1888","v":0},{"$f":"DINAMICA!G1888","v":0},{"$f":"DINAMICA!H1888","v":0},{"$f":"DINAMICA!I1888","v":0},{"$f":"DINAMICA!J1888","v":0},{"$f":"DINAMICA!K1888","v":0},{"$f":"VALUE(DINAMICA!$L1888)","v":0},{"$f":"VALUE(DINAMICA!$M1888)","v":0},{"$f":"VALUE(DINAMICA!$N1888)","v":0},{"$f":"VALUE(DINAMICA!$O1888)","v":0},{"$f":"VALUE(DINAMICA!$P1888)","v":0},{"$f":"VALUE(DINAMICA!$Q1888)","v":0},{"$f":"VALUE(DINAMICA!$R1888)","v":0}]
[{"$f":"VALUE(DINAMICA!$A1889)","v":0},{"$f":"VALUE(DINAMICA!$B1889)","v":"00:00:00"},{"$f":"VALUE(DINAMICA!$C1889)","v":0},{"$f":"DINAMICA!D1889","v":0},{"$f":"DINAMICA!E1889","v":0},{"$f":"DINAMICA!F1889","v":0},{"$f":"DINAMICA!G1889","v":0},{"$f":"DINAMICA!H1889","v":0},{"$f":"DINAMICA!I1889","v":0},{"$f":"DINAMICA!J1889","v":0},{"$f":"DINAMICA!K1889","v":0},{"$f":"VALUE(DINAMICA!$L1889)","v":0},{"$f":"VALUE(DINAMICA!$M1889)","v":0},{"$f":"VALUE(DINAMICA!$N1889)","v":0},{"$f":"VALUE(DINAMICA!$O1889)","v":0},{"$f":"VALUE(DINAMICA!$P1889)","v":0},{"$f":"VALUE(DINAMICA!$Q1889)","v":0},{"$f":"VALUE(DINAMICA!$R1889)","v":0}]
[{"$f":"VALUE(DINAMICA!$A1890)","v":0},{"$f":"VALUE(DINAMICA!$B1890)","v":"00:00:00"},{"$f":"VALUE(DINAMICA!$C1890)","v":0},{"$f":"DINAMICA!D1890","v":0},{"$f":"DINAMICA!E1890","v":0},{"$f":"DINAMICA!F1890","v":0},{"$f":"DINAMICA!G1890","v":0},{"$f":"DINAMICA!H1890","v":0},{"$f":"DINAMICA!I1890","v":0},{"$f":"DINAMICA!J1890","v":0},{"$f":"DINAMICA!K1890","v":0},{"$f":"VALUE(DINAMICA!$L1890)","v":0},{"$f":"VALUE(DINAMICA!$M1890)","v":0},{"$f":"VALUE(DINAMICA!$N1890)","v":0},{"$f":"VALUE(DINAMICA!$O1890)","v":0},{"$f":"VALUE(DINAMICA!$P1890)","v":0},{"$f":"VALUE(DINAMICA!$Q1890)","v":0},{"$f":"VALUE(DINAMICA!$R1890)","v":0}]
[{"$f":"VALUE(DINAMICA!$A1891)","v":0},{"$f":"VALUE(DINAMICA!$B1891)","v":"00:00:00"},{"$f":"VALUE(DINAMICA!$C1891)","v":0},{"$f":"DINAMICA!D1891","v":0},{"$f":"DINAMICA!E1891","v":0},{"$f":"DINAMICA!F1891","v":0},{"$f":"DINAMICA!G1891","v":0},{"$f":"DINAMICA!H1891","v":0},{"$f":"DINAMICA!I1891","v":0},{"$f":"DINAMICA!J1891","v":0},{"$f":"DINAMICA!K1891","v":0},{"$f":"VALUE(DINAMICA!$L1891)","v":0},{"$f":"VALUE(DINAMICA!$M1891)","v":0},{"$f":"VALUE(DINAMICA!$N1891)","v":0},{"$f":"VALUE(DINAMICA!$O1891)","v":0},{"$f":"VALUE(DINAMICA!$P1891)","v":0},{"$f":"VALUE(DINAMICA!$Q1891)","v":0},{"$f":"VALUE(DINAMICA!$R1891)","v":0}]
[{"$f":"VALUE(DINAMICA!$A1892)","v":0},{"$f":"VALUE(DINAMICA!$B1892)","v":"00:00:00"},{"$f":"VALUE(DINAMICA!$C1892)","v":0},{"$f":"DINAMICA!D1892","v":0},{"$f":"DINAMICA!E1892","v":0},{"$f":"DINAMICA!F1892","v":0},{"$f":"DINAMICA!G1892","v":0},{"$f":"DINAMICA!H1892","v":0},{"$f":"DINAMICA!I1892","v":0},{"$f":"DINAMICA!J1892","v":0},{"$f":"DINAMICA!K1892","v":0},{"$f":"VALUE(DINAMICA!$L1892)","v":0},{"$f":"VALUE(DINAMICA!$M1892)","v":0},{"$f":"VALUE(DINAMICA!$N1892)","v":0},{"$f":"VALUE(DINAMICA!$O1892)","v":0},{"$f":"VALUE(DINAMICA!$P1892)","v":0},{"$f":"VALUE(DINAMICA!$Q1892)","v":0},{"$f":"VALUE(DINAMICA!$R1892)","v":0}]
[{"$f":"VALUE(DINAMICA!$A1893)","v":0},{"$f":"VALUE(DINAMICA!$B1893)","v":"00:00:00"},{"$f":"VALUE(DINAMICA!$C1893)","v":0},{"$f":"DINAMICA!D1893","v":0},{"$f":"DINAMICA!E1893","v":0},{"$f":"DINAMICA!F1893","v":0},{"$f":"DINAMICA!G1893","v":0},{"$f":"DINAMICA!H1893","v":0},{"$f":"DINAMICA!I1893","v":0},{"$f":"DINAMICA!J1893","v":0},{"$f":"DINAMICA!K1893","v":0},{"$f":"VALUE(DINAMICA!$L1893)","v":0},{"$f":"VALUE(DINAMICA!$M1893)","v":0},{"$f":"VALUE(DINAMICA!$N1893)","v":0},{"$f":"VALUE(DINAMICA!$O1893)","v":0},{"$f":"VALUE(DINAMICA!$P1893)","v":0},{"$f":"VALUE(DINAMICA!$Q1893)","v":0},{"$f":"VALUE(DINAMICA!$R1893)","v":0}]
[{"$f":"VALUE(DINAMICA!$A1894)","v":0},{"$f":"VALUE(DINAMICA!$B1894)","v":"00:00:00"},{"$f":"VALUE(DINAMICA!$C1894)","v":0},{"$f":"DINAMICA!D1894","v":0},{"$f":"DINAMICA!E1894","v":0},{"$f":"DINAMICA!F1894","v":0},{"$f":"DINAMICA!G1894","v":0},{"$f":"DINAMICA!H1894","v":0},{"$f":"DINAMICA!I1894","v":0},{"$f":"DINAMICA!J1894","v":0},{"$f":"DINAMICA!K1894","v":0},{"$f":"VALUE(DINAMICA!$L1894)","v":0},{"$f":"VALUE(DINAMICA!$M1894)","v":0},{"$f":"VALUE(DINAMICA!$N1894)","v":0},{"$f":"VALUE(DINAMICA!$O1894)","v":0},{"$f":"VALUE(DINAMICA!$P1894)","v":0},{"$f":"VALUE(DINAMICA!$Q1894)","v":0},{"$f":"VALUE(DINAMICA!$R1894)","v":0}]
[{"$f":"VALUE(DINAMICA!$A1895)","v":0},{"$f":"VALUE(DINAMICA!$B1895)","v":"00:00:00"},{"$f":"VALUE(DINAMICA!$C1895)","v":0},{"$f":"DINAMICA!D1895","v":0},{"$f":"DINAMICA!E1895","v":0},{"$f":"DINAMICA!F1895","v":0},{"$f":"DINAMICA!G1895","v":0},{"$f":"DINAMICA!H1895","v":0},{"$f":"DINAMICA!I1895","v":0},{"$f":"DINAMICA!J1895","v":0},{"$f":"DINAMICA!K1895","v":0},{"$f":"VALUE(DINAMICA!$L1895)","v":0},{"$f":"VALUE(DINAMICA!$M1895)","v":0},{"$f":"VALUE(DINAMICA!$N1895)","v":0},{"$f":"VALUE(DINAMICA!$O1895)","v":0},{"$f":"VALUE(DINAMICA!$P1895)","v":0},{"$f":"VALUE(DINAMICA!$Q1895)","v":0},{"$f":"VALUE(DINAMICA!$R1895)","v":0}]
[{"$f":"VALUE(DINAMICA!$A1896)","v":0},{"$f":"VALUE(DINAMICA!$B1896)","v":"00:00:00"},{"$f":"VALUE(DINAMICA!$C1896)","v":0},{"$f":"DINAMICA!D1896","v":0},{"$f":"DINAMICA!E1896","v":0},{"$f":"DINAMICA!F1896","v":0},{"$f":"DINAMICA!G1896","v":0},{"$f":"DINAMICA!H1896","v":0},{"$f":"DINAMICA!I1896","v":0},{"$f":"DINAMICA!J1896","v":0},{"$f":"DINAMICA!K1896","v":0},{"$f":"VALUE(DINAMICA!$L1896)","v":0},{"$f":"VALUE(DINAMICA!$M1896)","v":0},{"$f":"VALUE(DINAMICA!$N1896)","v":0},{"$f":"VALUE(DINAMICA!$O1896)","v":0},{"$f":"VALUE(DINAMICA!$P1896)","v":0},{"$f":"VALUE(DINAMICA!$Q1896)","v":0},{"$f":"VALUE(DINAMICA!$R1896)","v":0}]
[{"$f":"VALUE(DINAMICA!$A1897)","v":0},{"$f":"VALUE(DINAMICA!$B1897)","v":"00:00:00"},{"$f":"VALUE(DINAMICA!$C1897)","v":0},{"$f":"DINAMICA!D1897","v":0},{"$f":"DINAMICA!E1897","v":0},{"$f":"DINAMICA!F1897","v":0},{"$f":"DINAMICA!G1897","v":0},{"$f":"DINAMICA!H1897","v":0},{"$f":"DINAMICA!I1897","v":0},{"$f":"DINAMICA!J1897","v":0},{"$f":"DINAMICA!K1897","v":0},{"$f":"VALUE(DINAMICA!$L1897)","v":0},{"$f":"VALUE(DINAMICA!$M1897)","v":0},{"$f":"VALUE(DINAMICA!$N1897)","v":0},{"$f":"VALUE(DINAMICA!$O1897)","v":0},{"$f":"VALUE(DINAMICA!$P1897)","v":0},{"$f":"VALUE(DINAMICA!$Q1897)","v":0},{"$f":"VALUE(DINAMICA!$R1897)","v":0}]
[{"$f":"VALUE(DINAMICA!$A1898)","v":0},{"$f":"VALUE(DINAMICA!$B1898)","v":"00:00:00"},{"$f":"VALUE(DINAMICA!$C1898)","v":0},{"$f":"DINAMICA!D1898","v":0},{"$f":"DINAMICA!E1898","v":0},{"$f":"DINAMICA!F1898","v":0},{"$f":"DINAMICA!G1898","v":0},{"$f":"DINAMICA!H1898","v":0},{"$f":"DINAMICA!I1898","v":0},{"$f":"DINAMICA!J1898","v":0},{"$f":"DINAMICA!K1898","v":0},{"$f":"VALUE(DINAMICA!$L1898)","v":0},{"$f":"VALUE(DINAMICA!$M1898)","v":0},{"$f":"VALUE(DINAMICA!$N1898)","v":0},{"$f":"VALUE(DINAMICA!$O1898)","v":0},{"$f":"VALUE(DINAMICA!$P1898)","v":0},{"$f":"VALUE(DINAMICA!$Q1898)","v":0},{"$f":"VALUE(DINAMICA!$R1898)","v":0}]
[{"$f":"VALUE(DINAMICA!$A1899)","v":0},{"$f":"VALUE(DINAMICA!$B1899)","v":"00:00:00"},{"$f":"VALUE(DINAMICA!$C1899)","v":0},{"$f":"DINAMICA!D1899","v":0},{"$f":"DINAMICA!E1899","v":0},{"$f":"DINAMICA!F1899","v":0},{"$f":"DINAMICA!G1899","v":0},{"$f":"DINAMICA!H1899","v":0},{"$f":"DINAMICA!I1899","v":0},{"$f":"DINAMICA!J1899","v":0},{"$f":"DINAMICA!K1899","v":0},{"$f":"VALUE(DINAMICA!$L1899)","v":0},{"$f":"VALUE(DINAMICA!$M1899)","v":0},{"$f":"VALUE(DINAMICA!$N1899)","v":0},{"$f":"VALUE(DINAMICA!$O1899)","v":0},{"$f":"VALUE(DINAMICA!$P1899)","v":0},{"$f":"VALUE(DINAMICA!$Q1899)","v":0},{"$f":"VALUE(DINAMICA!$R1899)","v":0}]
[{"$f":"VALUE(DINAMICA!$A1900)","v":0},{"$f":"VALUE(DINAMICA!$B1900)","v":"00:00:00"},{"$f":"VALUE(DINAMICA!$C1900)","v":0},{"$f":"DINAMICA!D1900","v":0},{"$f":"DINAMICA!E1900","v":0},{"$f":"DINAMICA!F1900","v":0},{"$f":"DINAMICA!G1900","v":0},{"$f":"DINAMICA!H1900","v":0},{"$f":"DINAMICA!I1900","v":0},{"$f":"DINAMICA!J1900","v":0},{"$f":"DINAMICA!K1900","v":0},{"$f":"VALUE(DINAMICA!$L1900)","v":0},{"$f":"VALUE(DINAMICA!$M1900)","v":0},{"$f":"VALUE(DINAMICA!$N1900)","v":0},{"$f":"VALUE(DINAMICA!$O1900)","v":0},{"$f":"VALUE(DINAMICA!$P1900)","v":0},{"$f":"VALUE(DINAMICA!$Q1900)","v":0},{"$f":"VALUE(DINAMICA!$R1900)","v":0}]
[{"$f":"VALUE(DINAMICA!$A1901)","v":0},{"$f":"VALUE(DINAMICA!$B1901)","v":"00:00:00"},{"$f":"VALUE(DINAMICA!$C1901)","v":0},{"$f":"DINAMICA!D1901","v":0},{"$f":"DINAMICA!E1901","v":0},{"$f":"DINAMICA!F1901","v":0},{"$f":"DINAMICA!G1901","v":0},{"$f":"DINAMICA!H1901","v":0},{"$f":"DINAMICA!I1901","v":0},{"$f":"DINAMICA!J1901","v":0},{"$f":"DINAMICA!K1901","v":0},{"$f":"VALUE(DINAMICA!$L1901)","v":0},{"$f":"VALUE(DINAMICA!$M1901)","v":0},{"$f":"VALUE(DINAMICA!$N1901)","v":0},{"$f":"VALUE(DINAMICA!$O1901)","v":0},{"$f":"VALUE(DINAMICA!$P1901)","v":0},{"$f":"VALUE(DINAMICA!$Q1901)","v":0},{"$f":"VALUE(DINAMICA!$R1901)","v":0}]
[{"$f":"VALUE(DINAMICA!$A1902)","v":0},{"$f":"VALUE(DINAMICA!$B1902)","v":"00:00:00"},{"$f":"VALUE(DINAMICA!$C1902)","v":0},{"$f":"DINAMICA!D1902","v":0},{"$f":"DINAMICA!E1902","v":0},{"$f":"DINAMICA!F1902","v":0},{"$f":"DINAMICA!G1902","v":0},{"$f":"DINAMICA!H1902","v":0},{"$f":"DINAMICA!I1902","v":0},{"$f":"DINAMICA!J1902","v":0},{"$f":"DINAMICA!K1902","v":0},{"$f":"VALUE(DINAMICA!$L1902)","v":0},{"$f":"VALUE(DINAMICA!$M1902)","v":0},{"$f":"VALUE(DINAMICA!$N1902)","v":0},{"$f":"VALUE(DINAMICA!$O1902)","v":0},{"$f":"VALUE(DINAMICA!$P1902)","v":0},{"$f":"VALUE(DINAMICA!$Q1902)","v":0},{"$f":"VALUE(DINAMICA!$R1902)","v":0}]
[{"$f":"VALUE(DINAMICA!$A1903)","v":0},{"$f":"VALUE(DINAMICA!$B1903)","v":"00:00:00"},{"$f":"VALUE(DINAMICA!$C1903)","v":0},{"$f":"DINAMICA!D1903","v":0},{"$f":"DINAMICA!E1903","v":0},{"$f":"DINAMICA!F1903","v":0},{"$f":"DINAMICA!G1903","v":0},{"$f":"DINAMICA!H1903","v":0},{"$f":"DINAMICA!I1903","v":0},{"$f":"DINAMICA!J1903","v":0},{"$f":"DINAMICA!K1903","v":0},{"$f":"VALUE(DINAMICA!$L1903)","v":0},{"$f":"VALUE(DINAMICA!$M1903)","v":0},{"$f":"VALUE(DINAMICA!$N1903)","v":0},{"$f":"VALUE(DINAMICA!$O1903)","v":0},{"$f":"VALUE(DINAMICA!$P1903)","v":0},{"$f":"VALUE(DINAMICA!$Q1903)","v":0},{"$f":"VALUE(DINAMICA!$R1903)","v":0}]
[{"$f":"VALUE(DINAMICA!$A1904)","v":0},{"$f":"VALUE(DINAMICA!$B1904)","v":"00:00:00"},{"$f":"VALUE(DINAMICA!$C1904)","v":0},{"$f":"DINAMICA!D1904","v":0},{"$f":"DINAMICA!E1904","v":0},{"$f":"DINAMICA!F1904","v":0},{"$f":"DINAMICA!G1904","v":0},{"$f":"DINAMICA!H1904","v":0},{"$f":"DINAMICA!I1904","v":0},{"$f":"DINAMICA!J1904","v":0},{"$f":"DINAMICA!K1904","v":0},{"$f":"VALUE(DINAMICA!$L1904)","v":0},{"$f":"VALUE(DINAMICA!$M1904)","v":0},{"$f":"VALUE(DINAMICA!$N1904)","v":0},{"$f":"VALUE(DINAMICA!$O1904)","v":0},{"$f":"VALUE(DINAMICA!$P1904)","v":0},{"$f":"VALUE(DINAMICA!$Q1904)","v":0},{"$f":"VALUE(DINAMICA!$R1904)","v":0}]
[{"$f":"VALUE(DINAMICA!$A1905)","v":0},{"$f":"VALUE(DINAMICA!$B1905)","v":"00:00:00"},{"$f":"VALUE(DINAMICA!$C1905)","v":0},{"$f":"DINAMICA!D1905","v":0},{"$f":"DINAMICA!E1905","v":0},{"$f":"DINAMICA!F1905","v":0},{"$f":"DINAMICA!G1905","v":0},{"$f":"DINAMICA!H1905","v":0},{"$f":"DINAMICA!I1905","v":0},{"$f":"DINAMICA!J1905","v":0},{"$f":"DINAMICA!K1905","v":0},{"$f":"VALUE(DINAMICA!$L1905)","v":0},{"$f":"VALUE(DINAMICA!$M1905)","v":0},{"$f":"VALUE(DINAMICA!$N1905)","v":0},{"$f":"VALUE(DINAMICA!$O1905)","v":0},{"$f":"VALUE(DINAMICA!$P1905)","v":0},{"$f":"VALUE(DINAMICA!$Q1905)","v":0},{"$f":"VALUE(DINAMICA!$R1905)","v":0}]
[{"$f":"VALUE(DINAMICA!$A1906)","v":0},{"$f":"VALUE(DINAMICA!$B1906)","v":"00:00:00"},{"$f":"VALUE(DINAMICA!$C1906)","v":0},{"$f":"DINAMICA!D1906","v":0},{"$f":"DINAMICA!E1906","v":0},{"$f":"DINAMICA!F1906","v":0},{"$f":"DINAMICA!G1906","v":0},{"$f":"DINAMICA!H1906","v":0},{"$f":"DINAMICA!I1906","v":0},{"$f":"DINAMICA!J1906","v":0},{"$f":"DINAMICA!K1906","v":0},{"$f":"VALUE(DINAMICA!$L1906)","v":0},{"$f":"VALUE(DINAMICA!$M1906)","v":0},{"$f":"VALUE(DINAMICA!$N1906)","v":0},{"$f":"VALUE(DINAMICA!$O1906)","v":0},{"$f":"VALUE(DINAMICA!$P1906)","v":0},{"$f":"VALUE(DINAMICA!$Q1906)","v":0},{"$f":"VALUE(DINAMICA!$R1906)","v":0}]
[{"$f":"VALUE(DINAMICA!$A1907)","v":0},{"$f":"VALUE(DINAMICA!$B1907)","v":"00:00:00"},{"$f":"VALUE(DINAMICA!$C1907)","v":0},{"$f":"DINAMICA!D1907","v":0},{"$f":"DINAMICA!E1907","v":0},{"$f":"DINAMICA!F1907","v":0},{"$f":"DINAMICA!G1907","v":0},{"$f":"DINAMICA!H1907","v":0},{"$f":"DINAMICA!I1907","v":0},{"$f":"DINAMICA!J1907","v":0},{"$f":"DINAMICA!K1907","v":0},{"$f":"VALUE(DINAMICA!$L1907)","v":0},{"$f":"VALUE(DINAMICA!$M1907)","v":0},{"$f":"VALUE(DINAMICA!$N1907)","v":0},{"$f":"VALUE(DINAMICA!$O1907)","v":0},{"$f":"VALUE(DINAMICA!$P1907)","v":0},{"$f":"VALUE(DINAMICA!$Q1907)","v":0},{"$f":"VALUE(DINAMICA!$R1907)","v":0}]
[{"$f":"VALUE(DINAMICA!$A1908)","v":0},{"$f":"VALUE(DINAMICA!$B1908)","v":"00:00:00"},{"$f":"VALUE(DINAMICA!$C1908)","v":0},{"$f":"DINAMICA!D1908","v":0},{"$f":"DINAMICA!E1908","v":0},{"$f":"DINAMICA!F1908","v":0},{"$f":"DINAMICA!G1908","v":0},{"$f":"DINAMICA!H1908","v":0},{"$f":"DINAMICA!I1908","v":0},{"$f":"DINAMICA!J1908","v":0},{"$f":"DINAMICA!K1908","v":0},{"$f":"VALUE(DINAMICA!$L1908)","v":0},{"$f":"VALUE(DINAMICA!$M1908)","v":0},{"$f":"VALUE(DINAMICA!$N1908)","v":0},{"$f":"VALUE(DINAMICA!$O1908)","v":0},{"$f":"VALUE(DINAMICA!$P1908)","v":0},{"$f":"VALUE(DINAMICA!$Q1908)","v":0},{"$f":"VALUE(DINAMICA!$R1908)","v":0}]
[{"$f":"VALUE(DINAMICA!$A1909)","v":0},{"$f":"VALUE(DINAMICA!$B1909)","v":"00:00:00"},{"$f":"VALUE(DINAMICA!$C1909)","v":0},{"$f":"DINAMICA!D1909","v":0},{"$f":"DINAMICA!E1909","v":0},{"$f":"DINAMICA!F1909","v":0},{"$f":"DINAMICA!G1909","v":0},{"$f":"DINAMICA!H1909","v":0},{"$f":"DINAMICA!I1909","v":0},{"$f":"DINAMICA!J1909","v":0},{"$f":"DINAMICA!K1909","v":0},{"$f":"VALUE(DINAMICA!$L1909)","v":0},{"$f":"VALUE(DINAMICA!$M1909)","v":0},{"$f":"VALUE(DINAMICA!$N1909)","v":0},{"$f":"VALUE(DINAMICA!$O1909)","v":0},{"$f":"VALUE(DINAMICA!$P1909)","v":0},{"$f":"VALUE(DINAMICA!$Q1909)","v":0},{"$f":"VALUE(DINAMICA!$R1909)","v":0}]
[{"$f":"VALUE(DINAMICA!$A1910)","v":0},{"$f":"VALUE(DINAMICA!$B1910)","v":"00:00:00"},{"$f":"VALUE(DINAMICA!$C1910)","v":0},{"$f":"DINAMICA!D1910","v":0},{"$f":"DINAMICA!E1910","v":0},{"$f":"DINAMICA!F1910","v":0},{"$f":"DINAMICA!G1910","v":0},{"$f":"DINAMICA!H1910","v":0},{"$f":"DINAMICA!I1910","v":0},{"$f":"DINAMICA!J1910","v":0},{"$f":"DINAMICA!K1910","v":0},{"$f":"VALUE(DINAMICA!$L1910)","v":0},{"$f":"VALUE(DINAMICA!$M1910)","v":0},{"$f":"VALUE(DINAMICA!$N1910)","v":0},{"$f":"VALUE(DINAMICA!$O1910)","v":0},{"$f":"VALUE(DINAMICA!$P1910)","v":0},{"$f":"VALUE(DINAMICA!$Q1910)","v":0},{"$f":"VALUE(DINAMICA!$R1910)","v":0}]
[{"$f":"VALUE(DINAMICA!$A1911)","v":0},{"$f":"VALUE(DINAMICA!$B1911)","v":"00:00:00"},{"$f":"VALUE(DINAMICA!$C1911)","v":0},{"$f":"DINAMICA!D1911","v":0},{"$f":"DINAMICA!E1911","v":0},{"$f":"DINAMICA!F1911","v":0},{"$f":"DINAMICA!G1911","v":0},{"$f":"DINAMICA!H1911","v":0},{"$f":"DINAMICA!I1911","v":0},{"$f":"DINAMICA!J1911","v":0},{"$f":"DINAMICA!K1911","v":0},{"$f":"VALUE(DINAMICA!$L1911)","v":0},{"$f":"VALUE(DINAMICA!$M1911)","v":0},{"$f":"VALUE(DINAMICA!$N1911)","v":0},{"$f":"VALUE(DINAMICA!$O1911)","v":0},{"$f":"VALUE(DINAMICA!$P1911)","v":0},{"$f":"VALUE(DINAMICA!$Q1911)","v":0},{"$f":"VALUE(DINAMICA!$R1911)","v":0}]
[{"$f":"VALUE(DINAMICA!$A1912)","v":0},{"$f":"VALUE(DINAMICA!$B1912)","v":"00:00:00"},{"$f":"VALUE(DINAMICA!$C1912)","v":0},{"$f":"DINAMICA!D1912","v":0},{"$f":"DINAMICA!E1912","v":0},{"$f":"DINAMICA!F1912","v":0},{"$f":"DINAMICA!G1912","v":0},{"$f":"DINAMICA!H1912","v":0},{"$f":"DINAMICA!I1912","v":0},{"$f":"DINAMICA!J1912","v":0},{"$f":"DINAMICA!K1912","v":0},{"$f":"VALUE(DINAMICA!$L1912)","v":0},{"$f":"VALUE(DINAMICA!$M1912)","v":0},{"$f":"VALUE(DINAMICA!$N1912)","v":0},{"$f":"VALUE(DINAMICA!$O1912)","v":0},{"$f":"VALUE(DINAMICA!$P1912)","v":0},{"$f":"VALUE(DINAMICA!$Q1912)","v":0},{"$f":"VALUE(DINAMICA!$R1912)","v":0}]
[{"$f":"VALUE(DINAMICA!$A1913)","v":0},{"$f":"VALUE(DINAMICA!$B1913)","v":"00:00:00"},{"$f":"VALUE(DINAMICA!$C1913)","v":0},{"$f":"DINAMICA!D1913","v":0},{"$f":"DINAMICA!E1913","v":0},{"$f":"DINAMICA!F1913","v":0},{"$f":"DINAMICA!G1913","v":0},{"$f":"DINAMICA!H1913","v":0},{"$f":"DINAMICA!I1913","v":0},{"$f":"DINAMICA!J1913","v":0},{"$f":"DINAMICA!K1913","v":0},{"$f":"VALUE(DINAMICA!$L1913)","v":0},{"$f":"VALUE(DINAMICA!$M1913)","v":0},{"$f":"VALUE(DINAMICA!$N1913)","v":0},{"$f":"VALUE(DINAMICA!$O1913)","v":0},{"$f":"VALUE(DINAMICA!$P1913)","v":0},{"$f":"VALUE(DINAMICA!$Q1913)","v":0},{"$f":"VALUE(DINAMICA!$R1913)","v":0}]
[{"$f":"VALUE(DINAMICA!$A1914)","v":0},{"$f":"VALUE(DINAMICA!$B1914)","v":"00:00:00"},{"$f":"VALUE(DINAMICA!$C1914)","v":0},{"$f":"DINAMICA!D1914","v":0},{"$f":"DINAMICA!E1914","v":0},{"$f":"DINAMICA!F1914","v":0},{"$f":"DINAMICA!G1914","v":0},{"$f":"DINAMICA!H1914","v":0},{"$f":"DINAMICA!I1914","v":0},{"$f":"DINAMICA!J1914","v":0},{"$f":"DINAMICA!K1914","v":0},{"$f":"VALUE(DINAMICA!$L1914)","v":0},{"$f":"VALUE(DINAMICA!$M1914)","v":0},{"$f":"VALUE(DINAMICA!$N1914)","v":0},{"$f":"VALUE(DINAMICA!$O1914)","v":0},{"$f":"VALUE(DINAMICA!$P1914)","v":0},{"$f":"VALUE(DINAMICA!$Q1914)","v":0},{"$f":"VALUE(DINAMICA!$R1914)","v":0}]
[{"$f":"VALUE(DINAMICA!$A1915)","v":0},{"$f":"VALUE(DINAMICA!$B1915)","v":"00:00:00"},{"$f":"VALUE(DINAMICA!$C1915)","v":0},{"$f":"DINAMICA!D1915","v":0},{"$f":"DINAMICA!E1915","v":0},{"$f":"DINAMICA!F1915","v":0},{"$f":"DINAMICA!G1915","v":0},{"$f":"DINAMICA!H1915","v":0},{"$f":"DINAMICA!I1915","v":0},{"$f":"DINAMICA!J1915","v":0},{"$f":"DINAMICA!K1915","v":0},{"$f":"VALUE(DINAMICA!$L1915)","v":0},{"$f":"VALUE(DINAMICA!$M1915)","v":0},{"$f":"VALUE(DINAMICA!$N1915)","v":0},{"$f":"VALUE(DINAMICA!$O1915)","v":0},{"$f":"VALUE(DINAMICA!$P1915)","v":0},{"$f":"VALUE(DINAMICA!$Q1915)","v":0},{"$f":"VALUE(DINAMICA!$R1915)","v":0}]
[{"$f":"VALUE(DINAMICA!$A1916)","v":0},{"$f":"VALUE(DINAMICA!$B1916)","v":"00:00:00"},{"$f":"VALUE(DINAMICA!$C1916)","v":0},{"$f":"DINAMICA!D1916","v":0},{"$f":"DINAMICA!E1916","v":0},{"$f":"DINAMICA!F1916","v":0},{"$f":"DINAMICA!G1916","v":0},{"$f":"DINAMICA!H1916","v":0},{"$f":"DINAMICA!I1916","v":0},{"$f":"DINAMICA!J1916","v":0},{"$f":"DINAMICA!K1916","v":0},{"$f":"VALUE(DINAMICA!$L1916)","v":0},{"$f":"VALUE(DINAMICA!$M1916)","v":0},{"$f":"VALUE(DINAMICA!$N1916)","v":0},{"$f":"VALUE(DINAMICA!$O1916)","v":0},{"$f":"VALUE(DINAMICA!$P1916)","v":0},{"$f":"VALUE(DINAMICA!$Q1916)","v":0},{"$f":"VALUE(DINAMICA!$R1916)","v":0}]
[{"$f":"VALUE(DINAMICA!$A1917)","v":0},{"$f":"VALUE(DINAMICA!$B1917)","v":"00:00:00"},{"$f":"VALUE(DINAMICA!$C1917)","v":0},{"$f":"DINAMICA!D1917","v":0},{"$f":"DINAMICA!E1917","v":0},{"$f":"DINAMICA!F1917","v":0},{"$f":"DINAMICA!G1917","v":0},{"$f":"DINAMICA!H1917","v":0},{"$f":"DINAMICA!I1917","v":0},{"$f":"DINAMICA!J1917","v":0},{"$f":"DINAMICA!K1917","v":0},{"$f":"VALUE(DINAMICA!$L1917)","v":0},{"$f":"VALUE(DINAMICA!$M1917)","v":0},{"$f":"VALUE(DINAMICA!$N1917)","v":0},{"$f":"VALUE(DINAMICA!$O1917)","v":0},{"$f":"VALUE(DINAMICA!$P1917)","v":0},{"$f":"VALUE(DINAMICA!$Q1917)","v":0},{"$f":"VALUE(DINAMICA!$R1917)","v":0}]
[{"$f":"VALUE(DINAMICA!$A1918)","v":0},{"$f":"VALUE(DINAMICA!$B1918)","v":"00:00:00"},{"$f":"VALUE(DINAMICA!$C1918)","v":0},{"$f":"DINAMICA!D1918","v":0},{"$f":"DINAMICA!E1918","v":0},{"$f":"DINAMICA!F1918","v":0},{"$f":"DINAMICA!G1918","v":0},{"$f":"DINAMICA!H1918","v":0},{"$f":"DINAMICA!I1918","v":0},{"$f":"DINAMICA!J1918","v":0},{"$f":"DINAMICA!K1918","v":0},{"$f":"VALUE(DINAMICA!$L1918)","v":0},{"$f":"VALUE(DINAMICA!$M1918)","v":0},{"$f":"VALUE(DINAMICA!$N1918)","v":0},{"$f":"VALUE(DINAMICA!$O1918)","v":0},{"$f":"VALUE(DINAMICA!$P1918)","v":0},{"$f":"VALUE(DINAMICA!$Q1918)","v":0},{"$f":"VALUE(DINAMICA!$R1918)","v":0}]
[{"$f":"VALUE(DINAMICA!$A1919)","v":0},{"$f":"VALUE(DINAMICA!$B1919)","v":"00:00:00"},{"$f":"VALUE(DINAMICA!$C1919)","v":0},{"$f":"DINAMICA!D1919","v":0},{"$f":"DINAMICA!E1919","v":0},{"$f":"DINAMICA!F1919","v":0},{"$f":"DINAMICA!G1919","v":0},{"$f":"DINAMICA!H1919","v":0},{"$f":"DINAMICA!I1919","v":0},{"$f":"DINAMICA!J1919","v":0},{"$f":"DINAMICA!K1919","v":0},{"$f":"VALUE(DINAMICA!$L1919)","v":0},{"$f":"VALUE(DINAMICA!$M1919)","v":0},{"$f":"VALUE(DINAMICA!$N1919)","v":0},{"$f":"VALUE(DINAMICA!$O1919)","v":0},{"$f":"VALUE(DINAMICA!$P1919)","v":0},{"$f":"VALUE(DINAMICA!$Q1919)","v":0},{"$f":"VALUE(DINAMICA!$R1919)","v":0}]
[{"$f":"VALUE(DINAMICA!$A1920)","v":0},{"$f":"VALUE(DINAMICA!$B1920)","v":"00:00:00"},{"$f":"VALUE(DINAMICA!$C1920)","v":0},{"$f":"DINAMICA!D1920","v":0},{"$f":"DINAMICA!E1920","v":0},{"$f":"DINAMICA!F1920","v":0},{"$f":"DINAMICA!G1920","v":0},{"$f":"DINAMICA!H1920","v":0},{"$f":"DINAMICA!I1920","v":0},{"$f":"DINAMICA!J1920","v":0},{"$f":"DINAMICA!K1920","v":0},{"$f":"VALUE(DINAMICA!$L1920)","v":0},{"$f":"VALUE(DINAMICA!$M1920)","v":0},{"$f":"VALUE(DINAMICA!$N1920)","v":0},{"$f":"VALUE(DINAMICA!$O1920)","v":0},{"$f":"VALUE(DINAMICA!$P1920)","v":0},{"$f":"VALUE(DINAMICA!$Q1920)","v":0},{"$f":"VALUE(DINAMICA!$R1920)","v":0}]
[{"$f":"VALUE(DINAMICA!$A1921)","v":0},{"$f":"VALUE(DINAMICA!$B1921)","v":"00:00:00"},{"$f":"VALUE(DINAMICA!$C1921)","v":0},{"$f":"DINAMICA!D1921","v":0},{"$f":"DINAMICA!E1921","v":0},{"$f":"DINAMICA!F1921","v":0},{"$f":"DINAMICA!G1921","v":0},{"$f":"DINAMICA!H1921","v":0},{"$f":"DINAMICA!I1921","v":0},{"$f":"DINAMICA!J1921","v":0},{"$f":"DINAMICA!K1921","v":0},{"$f":"VALUE(DINAMICA!$L1921)","v":0},{"$f":"VALUE(DINAMICA!$M1921)","v":0},{"$f":"VALUE(DINAMICA!$N1921)","v":0},{"$f":"VALUE(DINAMICA!$O1921)","v":0},{"$f":"VALUE(DINAMICA!$P1921)","v":0},{"$f":"VALUE(DINAMICA!$Q1921)","v":0},{"$f":"VALUE(DINAMICA!$R1921)","v":0}]
[{"$f":"VALUE(DINAMICA!$A1922)","v":0},{"$f":"VALUE(DINAMICA!$B1922)","v":"00:00:00"},{"$f":"VALUE(DINAMICA!$C1922)","v":0},{"$f":"DINAMICA!D1922","v":0},{"$f":"DINAMICA!E1922","v":0},{"$f":"DINAMICA!F1922","v":0},{"$f":"DINAMICA!G1922","v":0},{"$f":"DINAMICA!H1922","v":0},{"$f":"DINAMICA!I1922","v":0},{"$f":"DINAMICA!J1922","v":0},{"$f":"DINAMICA!K1922","v":0},{"$f":"VALUE(DINAMICA!$L1922)","v":0},{"$f":"VALUE(DINAMICA!$M1922)","v":0},{"$f":"VALUE(DINAMICA!$N1922)","v":0},{"$f":"VALUE(DINAMICA!$O1922)","v":0},{"$f":"VALUE(DINAMICA!$P1922)","v":0},{"$f":"VALUE(DINAMICA!$Q1922)","v":0},{"$f":"VALUE(DINAMICA!$R1922)","v":0}]
[{"$f":"VALUE(DINAMICA!$A1923)","v":0},{"$f":"VALUE(DINAMICA!$B1923)","v":"00:00:00"},{"$f":"VALUE(DINAMICA!$C1923)","v":0},{"$f":"DINAMICA!D1923","v":0},{"$f":"DINAMICA!E1923","v":0},{"$f":"DINAMICA!F1923","v":0},{"$f":"DINAMICA!G1923","v":0},{"$f":"DINAMICA!H1923","v":0},{"$f":"DINAMICA!I1923","v":0},{"$f":"DINAMICA!J1923","v":0},{"$f":"DINAMICA!K1923","v":0},{"$f":"VALUE(DINAMICA!$L1923)","v":0},{"$f":"VALUE(DINAMICA!$M1923)","v":0},{"$f":"VALUE(DINAMICA!$N1923)","v":0},{"$f":"VALUE(DINAMICA!$O1923)","v":0},{"$f":"VALUE(DINAMICA!$P1923)","v":0},{"$f":"VALUE(DINAMICA!$Q1923)","v":0},{"$f":"VALUE(DINAMICA!$R1923)","v":0}]
[{"$f":"VALUE(DINAMICA!$A1924)","v":0},{"$f":"VALUE(DINAMICA!$B1924)","v":"00:00:00"},{"$f":"VALUE(DINAMICA!$C1924)","v":0},{"$f":"DINAMICA!D1924","v":0},{"$f":"DINAMICA!E1924","v":0},{"$f":"DINAMICA!F1924","v":0},{"$f":"DINAMICA!G1924","v":0},{"$f":"DINAMICA!H1924","v":0},{"$f":"DINAMICA!I1924","v":0},{"$f":"DINAMICA!J1924","v":0},{"$f":"DINAMICA!K1924","v":0},{"$f":"VALUE(DINAMICA!$L1924)","v":0},{"$f":"VALUE(DINAMICA!$M1924)","v":0},{"$f":"VALUE(DINAMICA!$N1924)","v":0},{"$f":"VALUE(DINAMICA!$O1924)","v":0},{"$f":"VALUE(DINAMICA!$P1924)","v":0},{"$f":"VALUE(DINAMICA!$Q1924)","v":0},{"$f":"VALUE(DINAMICA!$R1924)","v":0}]
[{"$f":"VALUE(DINAMICA!$A1925)","v":0},{"$f":"VALUE(DINAMICA!$B1925)","v":"00:00:00"},{"$f":"VALUE(DINAMICA!$C1925)","v":0},{"$f":"DINAMICA!D1925","v":0},{"$f":"DINAMICA!E1925","v":0},{"$f":"DINAMICA!F1925","v":0},{"$f":"DINAMICA!G1925","v":0},{"$f":"DINAMICA!H1925","v":0},{"$f":"DINAMICA!I1925","v":0},{"$f":"DINAMICA!J1925","v":0},{"$f":"DINAMICA!K1925","v":0},{"$f":"VALUE(DINAMICA!$L1925)","v":0},{"$f":"VALUE(DINAMICA!$M1925)","v":0},{"$f":"VALUE(DINAMICA!$N1925)","v":0},{"$f":"VALUE(DINAMICA!$O1925)","v":0},{"$f":"VALUE(DINAMICA!$P1925)","v":0},{"$f":"VALUE(DINAMICA!$Q1925)","v":0},{"$f":"VALUE(DINAMICA!$R1925)","v":0}]
[{"$f":"VALUE(DINAMICA!$A1926)","v":0},{"$f":"VALUE(DINAMICA!$B1926)","v":"00:00:00"},{"$f":"VALUE(DINAMICA!$C1926)","v":0},{"$f":"DINAMICA!D1926","v":0},{"$f":"DINAMICA!E1926","v":0},{"$f":"DINAMICA!F1926","v":0},{"$f":"DINAMICA!G1926","v":0},{"$f":"DINAMICA!H1926","v":0},{"$f":"DINAMICA!I1926","v":0},{"$f":"DINAMICA!J1926","v":0},{"$f":"DINAMICA!K1926","v":0},{"$f":"VALUE(DINAMICA!$L1926)","v":0},{"$f":"VALUE(DINAMICA!$M1926)","v":0},{"$f":"VALUE(DINAMICA!$N1926)","v":0},{"$f":"VALUE(DINAMICA!$O1926)","v":0},{"$f":"VALUE(DINAMICA!$P1926)","v":0},{"$f":"VALUE(DINAMICA!$Q1926)","v":0},{"$f":"VALUE(DINAMICA!$R1926)","v":0}]
[{"$f":"VALUE(DINAMICA!$A1927)","v":0},{"$f":"VALUE(DINAMICA!$B1927)","v":"00:00:00"},{"$f":"VALUE(DINAMICA!$C1927)","v":0},{"$f":"DINAMICA!D1927","v":0},{"$f":"DINAMICA!E1927","v":0},{"$f":"DINAMICA!F1927","v":0},{"$f":"DINAMICA!G1927","v":0},{"$f":"DINAMICA!H1927","v":0},{"$f":"DINAMICA!I1927","v":0},{"$f":"DINAMICA!J1927","v":0},{"$f":"DINAMICA!K1927","v":0},{"$f":"VALUE(DINAMICA!$L1927)","v":0},{"$f":"VALUE(DINAMICA!$M1927)","v":0},{"$f":"VALUE(DINAMICA!$N1927)","v":0},{"$f":"VALUE(DINAMICA!$O1927)","v":0},{"$f":"VALUE(DINAMICA!$P1927)","v":0},{"$f":"VALUE(DINAMICA!$Q1927)","v":0},{"$f":"VALUE(DINAMICA!$R1927)","v":0}]
[{"$f":"VALUE(DINAMICA!$A1928)","v":0},{"$f":"VALUE(DINAMICA!$B1928)","v":"00:00:00"},{"$f":"VALUE(DINAMICA!$C1928)","v":0},{"$f":"DINAMICA!D1928","v":0},{"$f":"DINAMICA!E1928","v":0},{"$f":"DINAMICA!F1928","v":0},{"$f":"DINAMICA!G1928","v":0},{"$f":"DINAMICA!H1928","v":0},{"$f":"DINAMICA!I1928","v":0},{"$f":"DINAMICA!J1928","v":0},{"$f":"DINAMICA!K1928","v":0},{"$f":"VALUE(DINAMICA!$L1928)","v":0},{"$f":"VALUE(DINAMICA!$M1928)","v":0},{"$f":"VALUE(DINAMICA!$N1928)","v":0},{"$f":"VALUE(DINAMICA!$O1928)","v":0},{"$f":"VALUE(DINAMICA!$P1928)","v":0},{"$f":"VALUE(DINAMICA!$Q1928)","v":0},{"$f":"VALUE(DINAMICA!$R1928)","v":0}]
[{"$f":"VALUE(DINAMICA!$A1929)","v":0},{"$f":"VALUE(DINAMICA!$B1929)","v":"00:00:00"},{"$f":"VALUE(DINAMICA!$C1929)","v":0},{"$f":"DINAMICA!D1929","v":0},{"$f":"DINAMICA!E1929","v":0},{"$f":"DINAMICA!F1929","v":0},{"$f":"DINAMICA!G1929","v":0},{"$f":"DINAMICA!H1929","v":0},{"$f":"DINAMICA!I1929","v":0},{"$f":"DINAMICA!J1929","v":0},{"$f":"DINAMICA!K1929","v":0},{"$f":"VALUE(DINAMICA!$L1929)","v":0},{"$f":"VALUE(DINAMICA!$M1929)","v":0},{"$f":"VALUE(DINAMICA!$N1929)","v":0},{"$f":"VALUE(DINAMICA!$O1929)","v":0},{"$f":"VALUE(DINAMICA!$P1929)","v":0},{"$f":"VALUE(DINAMICA!$Q1929)","v":0},{"$f":"VALUE(DINAMICA!$R1929)","v":0}]
[{"$f":"VALUE(DINAMICA!$A1930)","v":0},{"$f":"VALUE(DINAMICA!$B1930)","v":"00:00:00"},{"$f":"VALUE(DINAMICA!$C1930)","v":0},{"$f":"DINAMICA!D1930","v":0},{"$f":"DINAMICA!E1930","v":0},{"$f":"DINAMICA!F1930","v":0},{"$f":"DINAMICA!G1930","v":0},{"$f":"DINAMICA!H1930","v":0},{"$f":"DINAMICA!I1930","v":0},{"$f":"DINAMICA!J1930","v":0},{"$f":"DINAMICA!K1930","v":0},{"$f":"VALUE(DINAMICA!$L1930)","v":0},{"$f":"VALUE(DINAMICA!$M1930)","v":0},{"$f":"VALUE(DINAMICA!$N1930)","v":0},{"$f":"VALUE(DINAMICA!$O1930)","v":0},{"$f":"VALUE(DINAMICA!$P1930)","v":0},{"$f":"VALUE(DINAMICA!$Q1930)","v":0},{"$f":"VALUE(DINAMICA!$R1930)","v":0}]
[{"$f":"VALUE(DINAMICA!$A1931)","v":0},{"$f":"VALUE(DINAMICA!$B1931)","v":"00:00:00"},{"$f":"VALUE(DINAMICA!$C1931)","v":0},{"$f":"DINAMICA!D1931","v":0},{"$f":"DINAMICA!E1931","v":0},{"$f":"DINAMICA!F1931","v":0},{"$f":"DINAMICA!G1931","v":0},{"$f":"DINAMICA!H1931","v":0},{"$f":"DINAMICA!I1931","v":0},{"$f":"DINAMICA!J1931","v":0},{"$f":"DINAMICA!K1931","v":0},{"$f":"VALUE(DINAMICA!$L1931)","v":0},{"$f":"VALUE(DINAMICA!$M1931)","v":0},{"$f":"VALUE(DINAMICA!$N1931)","v":0},{"$f":"VALUE(DINAMICA!$O1931)","v":0},{"$f":"VALUE(DINAMICA!$P1931)","v":0},{"$f":"VALUE(DINAMICA!$Q1931)","v":0},{"$f":"VALUE(DINAMICA!$R1931)","v":0}]
[{"$f":"VALUE(DINAMICA!$A1932)","v":0},{"$f":"VALUE(DINAMICA!$B1932)","v":"00:00:00"},{"$f":"VALUE(DINAMICA!$C1932)","v":0},{"$f":"DINAMICA!D1932","v":0},{"$f":"DINAMICA!E1932","v":0},{"$f":"DINAMICA!F1932","v":0},{"$f":"DINAMICA!G1932","v":0},{"$f":"DINAMICA!H1932","v":0},{"$f":"DINAMICA!I1932","v":0},{"$f":"DINAMICA!J1932","v":0},{"$f":"DINAMICA!K1932","v":0},{"$f":"VALUE(DINAMICA!$L1932)","v":0},{"$f":"VALUE(DINAMICA!$M1932)","v":0},{"$f":"VALUE(DINAMICA!$N1932)","v":0},{"$f":"VALUE(DINAMICA!$O1932)","v":0},{"$f":"VALUE(DINAMICA!$P1932)","v":0},{"$f":"VALUE(DINAMICA!$Q1932)","v":0},{"$f":"VALUE(DINAMICA!$R1932)","v":0}]
[{"$f":"VALUE(DINAMICA!$A1933)","v":0},{"$f":"VALUE(DINAMICA!$B1933)","v":"00:00:00"},{"$f":"VALUE(DINAMICA!$C1933)","v":0},{"$f":"DINAMICA!D1933","v":0},{"$f":"DINAMICA!E1933","v":0},{"$f":"DINAMICA!F1933","v":0},{"$f":"DINAMICA!G1933","v":0},{"$f":"DINAMICA!H1933","v":0},{"$f":"DINAMICA!I1933","v":0},{"$f":"DINAMICA!J1933","v":0},{"$f":"DINAMICA!K1933","v":0},{"$f":"VALUE(DINAMICA!$L1933)","v":0},{"$f":"VALUE(DINAMICA!$M1933)","v":0},{"$f":"VALUE(DINAMICA!$N1933)","v":0},{"$f":"VALUE(DINAMICA!$O1933)","v":0},{"$f":"VALUE(DINAMICA!$P1933)","v":0},{"$f":"VALUE(DINAMICA!$Q1933)","v":0},{"$f":"VALUE(DINAMICA!$R1933)","v":0}]
[{"$f":"VALUE(DINAMICA!$A1934)","v":0},{"$f":"VALUE(DINAMICA!$B1934)","v":"00:00:00"},{"$f":"VALUE(DINAMICA!$C1934)","v":0},{"$f":"DINAMICA!D1934","v":0},{"$f":"DINAMICA!E1934","v":0},{"$f":"DINAMICA!F1934","v":0},{"$f":"DINAMICA!G1934","v":0},{"$f":"DINAMICA!H1934","v":0},{"$f":"DINAMICA!I1934","v":0},{"$f":"DINAMICA!J1934","v":0},{"$f":"DINAMICA!K1934","v":0},{"$f":"VALUE(DINAMICA!$L1934)","v":0},{"$f":"VALUE(DINAMICA!$M1934)","v":0},{"$f":"VALUE(DINAMICA!$N1934)","v":0},{"$f":"VALUE(DINAMICA!$O1934)","v":0},{"$f":"VALUE(DINAMICA!$P1934)","v":0},{"$f":"VALUE(DINAMICA!$Q1934)","v":0},{"$f":"VALUE(DINAMICA!$R1934)","v":0}]
[{"$f":"VALUE(DINAMICA!$A1935)","v":0},{"$f":"VALUE(DINAMICA!$B1935)","v":"00:00:00"},{"$f":"VALUE(DINAMICA!$C1935)","v":0},{"$f":"DINAMICA!D1935","v":0},{"$f":"DINAMICA!E1935","v":0},{"$f":"DINAMICA!F1935","v":0},{"$f":"DINAMICA!G1935","v":0},{"$f":"DINAMICA!H1935","v":0},{"$f":"DINAMICA!I1935","v":0},{"$f":"DINAMICA!J1935","v":0},{"$f":"DINAMICA!K1935","v":0},{"$f":"VALUE(DINAMICA!$L1935)","v":0},{"$f":"VALUE(DINAMICA!$M1935)","v":0},{"$f":"VALUE(DINAMICA!$N1935)","v":0},{"$f":"VALUE(DINAMICA!$O1935)","v":0},{"$f":"VALUE(DINAMICA!$P1935)","v":0},{"$f":"VALUE(DINAMICA!$Q1935)","v":0},{"$f":"VALUE(DINAMICA!$R1935)","v":0}]
[{"$f":"VALUE(DINAMICA!$A1936)","v":0},{"$f":"VALUE(DINAMICA!$B1936)","v":"00:00:00"},{"$f":"VALUE(DINAMICA!$C1936)","v":0},{"$f":"DINAMICA!D1936","v":0},{"$f":"DINAMICA!E1936","v":0},{"$f":"DINAMICA!F1936","v":0},{"$f":"DINAMICA!G1936","v":0},{"$f":"DINAMICA!H1936","v":0},{"$f":"DINAMICA!I1936","v":0},{"$f":"DINAMICA!J1936","v":0},{"$f":"DINAMICA!K1936","v":0},{"$f":"VALUE(DINAMICA!$L1936)","v":0},{"$f":"VALUE(DINAMICA!$M1936)","v":0},{"$f":"VALUE(DINAMICA!$N1936)","v":0},{"$f":"VALUE(DINAMICA!$O1936)","v":0},{"$f":"VALUE(DINAMICA!$P1936)","v":0},{"$f":"VALUE(DINAMICA!$Q1936)","v":0},{"$f":"VALUE(DINAMICA!$R1936)","v":0}]
[{"$f":"VALUE(DINAMICA!$A1937)","v":0},{"$f":"VALUE(DINAMICA!$B1937)","v":"00:00:00"},{"$f":"VALUE(DINAMICA!$C1937)","v":0},{"$f":"DINAMICA!D1937","v":0},{"$f":"DINAMICA!E1937","v":0},{"$f":"DINAMICA!F1937","v":0},{"$f":"DINAMICA!G1937","v":0},{"$f":"DINAMICA!H1937","v":0},{"$f":"DINAMICA!I1937","v":0},{"$f":"DINAMICA!J1937","v":0},{"$f":"DINAMICA!K1937","v":0},{"$f":"VALUE(DINAMICA!$L1937)","v":0},{"$f":"VALUE(DINAMICA!$M1937)","v":0},{"$f":"VALUE(DINAMICA!$N1937)","v":0},{"$f":"VALUE(DINAMICA!$O1937)","v":0},{"$f":"VALUE(DINAMICA!$P1937)","v":0},{"$f":"VALUE(DINAMICA!$Q1937)","v":0},{"$f":"VALUE(DINAMICA!$R1937)","v":0}]
[{"$f":"VALUE(DINAMICA!$A1938)","v":0},{"$f":"VALUE(DINAMICA!$B1938)","v":"00:00:00"},{"$f":"VALUE(DINAMICA!$C1938)","v":0},{"$f":"DINAMICA!D1938","v":0},{"$f":"DINAMICA!E1938","v":0},{"$f":"DINAMICA!F1938","v":0},{"$f":"DINAMICA!G1938","v":0},{"$f":"DINAMICA!H1938","v":0},{"$f":"DINAMICA!I1938","v":0},{"$f":"DINAMICA!J1938","v":0},{"$f":"DINAMICA!K1938","v":0},{"$f":"VALUE(DINAMICA!$L1938)","v":0},{"$f":"VALUE(DINAMICA!$M1938)","v":0},{"$f":"VALUE(DINAMICA!$N1938)","v":0},{"$f":"VALUE(DINAMICA!$O1938)","v":0},{"$f":"VALUE(DINAMICA!$P1938)","v":0},{"$f":"VALUE(DINAMICA!$Q1938)","v":0},{"$f":"VALUE(DINAMICA!$R1938)","v":0}]
[{"$f":"VALUE(DINAMICA!$A1939)","v":0},{"$f":"VALUE(DINAMICA!$B1939)","v":"00:00:00"},{"$f":"VALUE(DINAMICA!$C1939)","v":0},{"$f":"DINAMICA!D1939","v":0},{"$f":"DINAMICA!E1939","v":0},{"$f":"DINAMICA!F1939","v":0},{"$f":"DINAMICA!G1939","v":0},{"$f":"DINAMICA!H1939","v":0},{"$f":"DINAMICA!I1939","v":0},{"$f":"DINAMICA!J1939","v":0},{"$f":"DINAMICA!K1939","v":0},{"$f":"VALUE(DINAMICA!$L1939)","v":0},{"$f":"VALUE(DINAMICA!$M1939)","v":0},{"$f":"VALUE(DINAMICA!$N1939)","v":0},{"$f":"VALUE(DINAMICA!$O1939)","v":0},{"$f":"VALUE(DINAMICA!$P1939)","v":0},{"$f":"VALUE(DINAMICA!$Q1939)","v":0},{"$f":"VALUE(DINAMICA!$R1939)","v":0}]
[{"$f":"VALUE(DINAMICA!$A1940)","v":0},{"$f":"VALUE(DINAMICA!$B1940)","v":"00:00:00"},{"$f":"VALUE(DINAMICA!$C1940)","v":0},{"$f":"DINAMICA!D1940","v":0},{"$f":"DINAMICA!E1940","v":0},{"$f":"DINAMICA!F1940","v":0},{"$f":"DINAMICA!G1940","v":0},{"$f":"DINAMICA!H1940","v":0},{"$f":"DINAMICA!I1940","v":0},{"$f":"DINAMICA!J1940","v":0},{"$f":"DINAMICA!K1940","v":0},{"$f":"VALUE(DINAMICA!$L1940)","v":0},{"$f":"VALUE(DINAMICA!$M1940)","v":0},{"$f":"VALUE(DINAMICA!$N1940)","v":0},{"$f":"VALUE(DINAMICA!$O1940)","v":0},{"$f":"VALUE(DINAMICA!$P1940)","v":0},{"$f":"VALUE(DINAMICA!$Q1940)","v":0},{"$f":"VALUE(DINAMICA!$R1940)","v":0}]
[{"$f":"VALUE(DINAMICA!$A1941)","v":0},{"$f":"VALUE(DINAMICA!$B1941)","v":"00:00:00"},{"$f":"VALUE(DINAMICA!$C1941)","v":0},{"$f":"DINAMICA!D1941","v":0},{"$f":"DINAMICA!E1941","v":0},{"$f":"DINAMICA!F1941","v":0},{"$f":"DINAMICA!G1941","v":0},{"$f":"DINAMICA!H1941","v":0},{"$f":"DINAMICA!I1941","v":0},{"$f":"DINAMICA!J1941","v":0},{"$f":"DINAMICA!K1941","v":0},{"$f":"VALUE(DINAMICA!$L1941)","v":0},{"$f":"VALUE(DINAMICA!$M1941)","v":0},{"$f":"VALUE(DINAMICA!$N1941)","v":0},{"$f":"VALUE(DINAMICA!$O1941)","v":0},{"$f":"VALUE(DINAMICA!$P1941)","v":0},{"$f":"VALUE(DINAMICA!$Q1941)","v":0},{"$f":"VALUE(DINAMICA!$R1941)","v":0}]
[{"$f":"VALUE(DINAMICA!$A1942)","v":0},{"$f":"VALUE(DINAMICA!$B1942)","v":"00:00:00"},{"$f":"VALUE(DINAMICA!$C1942)","v":0},{"$f":"DINAMICA!D1942","v":0},{"$f":"DINAMICA!E1942","v":0},{"$f":"DINAMICA!F1942","v":0},{"$f":"DINAMICA!G1942","v":0},{"$f":"DINAMICA!H1942","v":0},{"$f":"DINAMICA!I1942","v":0},{"$f":"DINAMICA!J1942","v":0},{"$f":"DINAMICA!K1942","v":0},{"$f":"VALUE(DINAMICA!$L1942)","v":0},{"$f":"VALUE(DINAMICA!$M1942)","v":0},{"$f":"VALUE(DINAMICA!$N1942)","v":0},{"$f":"VALUE(DINAMICA!$O1942)","v":0},{"$f":"VALUE(DINAMICA!$P1942)","v":0},{"$f":"VALUE(DINAMICA!$Q1942)","v":0},{"$f":"VALUE(DINAMICA!$R1942)","v":0}]
[{"$f":"VALUE(DINAMICA!$A1943)","v":0},{"$f":"VALUE(DINAMICA!$B1943)","v":"00:00:00"},{"$f":"VALUE(DINAMICA!$C1943)","v":0},{"$f":"DINAMICA!D1943","v":0},{"$f":"DINAMICA!E1943","v":0},{"$f":"DINAMICA!F1943","v":0},{"$f":"DINAMICA!G1943","v":0},{"$f":"DINAMICA!H1943","v":0},{"$f":"DINAMICA!I1943","v":0},{"$f":"DINAMICA!J1943","v":0},{"$f":"DINAMICA!K1943","v":0},{"$f":"VALUE(DINAMICA!$L1943)","v":0},{"$f":"VALUE(DINAMICA!$M1943)","v":0},{"$f":"VALUE(DINAMICA!$N1943)","v":0},{"$f":"VALUE(DINAMICA!$O1943)","v":0},{"$f":"VALUE(DINAMICA!$P1943)","v":0},{"$f":"VALUE(DINAMICA!$Q1943)","v":0},{"$f":"VALUE(DINAMICA!$R1943)","v":0}]
[{"$f":"VALUE(DINAMICA!$A1944)","v":0},{"$f":"VALUE(DINAMICA!$B1944)","v":"00:00:00"},{"$f":"VALUE(DINAMICA!$C1944)","v":0},{"$f":"DINAMICA!D1944","v":0},{"$f":"DINAMICA!E1944","v":0},{"$f":"DINAMICA!F1944","v":0},{"$f":"DINAMICA!G1944","v":0},{"$f":"DINAMICA!H1944","v":0},{"$f":"DINAMICA!I1944","v":0},{"$f":"DINAMICA!J1944","v":0},{"$f":"DINAMICA!K1944","v":0},{"$f":"VALUE(DINAMICA!$L1944)","v":0},{"$f":"VALUE(DINAMICA!$M1944)","v":0},{"$f":"VALUE(DINAMICA!$N1944)","v":0},{"$f":"VALUE(DINAMICA!$O1944)","v":0},{"$f":"VALUE(DINAMICA!$P1944)","v":0},{"$f":"VALUE(DINAMICA!$Q1944)","v":0},{"$f":"VALUE(DINAMICA!$R1944)","v":0}]
[{"$f":"VALUE(DINAMICA!$A1945)","v":0},{"$f":"VALUE(DINAMICA!$B1945)","v":"00:00:00"},{"$f":"VALUE(DINAMICA!$C1945)","v":0},{"$f":"DINAMICA!D1945","v":0},{"$f":"DINAMICA!E1945","v":0},{"$f":"DINAMICA!F1945","v":0},{"$f":"DINAMICA!G1945","v":0},{"$f":"DINAMICA!H1945","v":0},{"$f":"DINAMICA!I1945","v":0},{"$f":"DINAMICA!J1945","v":0},{"$f":"DINAMICA!K1945","v":0},{"$f":"VALUE(DINAMICA!$L1945)","v":0},{"$f":"VALUE(DINAMICA!$M1945)","v":0},{"$f":"VALUE(DINAMICA!$N1945)","v":0},{"$f":"VALUE(DINAMICA!$O1945)","v":0},{"$f":"VALUE(DINAMICA!$P1945)","v":0},{"$f":"VALUE(DINAMICA!$Q1945)","v":0},{"$f":"VALUE(DINAMICA!$R1945)","v":0}]
[{"$f":"VALUE(DINAMICA!$A1946)","v":0},{"$f":"VALUE(DINAMICA!$B1946)","v":"00:00:00"},{"$f":"VALUE(DINAMICA!$C1946)","v":0},{"$f":"DINAMICA!D1946","v":0},{"$f":"DINAMICA!E1946","v":0},{"$f":"DINAMICA!F1946","v":0},{"$f":"DINAMICA!G1946","v":0},{"$f":"DINAMICA!H1946","v":0},{"$f":"DINAMICA!I1946","v":0},{"$f":"DINAMICA!J1946","v":0},{"$f":"DINAMICA!K1946","v":0},{"$f":"VALUE(DINAMICA!$L1946)","v":0},{"$f":"VALUE(DINAMICA!$M1946)","v":0},{"$f":"VALUE(DINAMICA!$N1946)","v":0},{"$f":"VALUE(DINAMICA!$O1946)","v":0},{"$f":"VALUE(DINAMICA!$P1946)","v":0},{"$f":"VALUE(DINAMICA!$Q1946)","v":0},{"$f":"VALUE(DINAMICA!$R1946)","v":0}]
[{"$f":"VALUE(DINAMICA!$A1947)","v":0},{"$f":"VALUE(DINAMICA!$B1947)","v":"00:00:00"},{"$f":"VALUE(DINAMICA!$C1947)","v":0},{"$f":"DINAMICA!D1947","v":0},{"$f":"DINAMICA!E1947","v":0},{"$f":"DINAMICA!F1947","v":0},{"$f":"DINAMICA!G1947","v":0},{"$f":"DINAMICA!H1947","v":0},{"$f":"DINAMICA!I1947","v":0},{"$f":"DINAMICA!J1947","v":0},{"$f":"DINAMICA!K1947","v":0},{"$f":"VALUE(DINAMICA!$L1947)","v":0},{"$f":"VALUE(DINAMICA!$M1947)","v":0},{"$f":"VALUE(DINAMICA!$N1947)","v":0},{"$f":"VALUE(DINAMICA!$O1947)","v":0},{"$f":"VALUE(DINAMICA!$P1947)","v":0},{"$f":"VALUE(DINAMICA!$Q1947)","v":0},{"$f":"VALUE(DINAMICA!$R1947)","v":0}]
[{"$f":"VALUE(DINAMICA!$A1948)","v":0},{"$f":"VALUE(DINAMICA!$B1948)","v":"00:00:00"},{"$f":"VALUE(DINAMICA!$C1948)","v":0},{"$f":"DINAMICA!D1948","v":0},{"$f":"DINAMICA!E1948","v":0},{"$f":"DINAMICA!F1948","v":0},{"$f":"DINAMICA!G1948","v":0},{"$f":"DINAMICA!H1948","v":0},{"$f":"DINAMICA!I1948","v":0},{"$f":"DINAMICA!J1948","v":0},{"$f":"DINAMICA!K1948","v":0},{"$f":"VALUE(DINAMICA!$L1948)","v":0},{"$f":"VALUE(DINAMICA!$M1948)","v":0},{"$f":"VALUE(DINAMICA!$N1948)","v":0},{"$f":"VALUE(DINAMICA!$O1948)","v":0},{"$f":"VALUE(DINAMICA!$P1948)","v":0},{"$f":"VALUE(DINAMICA!$Q1948)","v":0},{"$f":"VALUE(DINAMICA!$R1948)","v":0}]
[{"$f":"VALUE(DINAMICA!$A1949)","v":0},{"$f":"VALUE(DINAMICA!$B1949)","v":"00:00:00"},{"$f":"VALUE(DINAMICA!$C1949)","v":0},{"$f":"DINAMICA!D1949","v":0},{"$f":"DINAMICA!E1949","v":0},{"$f":"DINAMICA!F1949","v":0},{"$f":"DINAMICA!G1949","v":0},{"$f":"DINAMICA!H1949","v":0},{"$f":"DINAMICA!I1949","v":0},{"$f":"DINAMICA!J1949","v":0},{"$f":"DINAMICA!K1949","v":0},{"$f":"VALUE(DINAMICA!$L1949)","v":0},{"$f":"VALUE(DINAMICA!$M1949)","v":0},{"$f":"VALUE(DINAMICA!$N1949)","v":0},{"$f":"VALUE(DINAMICA!$O1949)","v":0},{"$f":"VALUE(DINAMICA!$P1949)","v":0},{"$f":"VALUE(DINAMICA!$Q1949)","v":0},{"$f":"VALUE(DINAMICA!$R1949)","v":0}]
[{"$f":"VALUE(DINAMICA!$A1950)","v":0},{"$f":"VALUE(DINAMICA!$B1950)","v":"00:00:00"},{"$f":"VALUE(DINAMICA!$C1950)","v":0},{"$f":"DINAMICA!D1950","v":0},{"$f":"DINAMICA!E1950","v":0},{"$f":"DINAMICA!F1950","v":0},{"$f":"DINAMICA!G1950","v":0},{"$f":"DINAMICA!H1950","v":0},{"$f":"DINAMICA!I1950","v":0},{"$f":"DINAMICA!J1950","v":0},{"$f":"DINAMICA!K1950","v":0},{"$f":"VALUE(DINAMICA!$L1950)","v":0},{"$f":"VALUE(DINAMICA!$M1950)","v":0},{"$f":"VALUE(DINAMICA!$N1950)","v":0},{"$f":"VALUE(DINAMICA!$O1950)","v":0},{"$f":"VALUE(DINAMICA!$P1950)","v":0},{"$f":"VALUE(DINAMICA!$Q1950)","v":0},{"$f":"VALUE(DINAMICA!$R1950)","v":0}]
[{"$f":"VALUE(DINAMICA!$A1951)","v":0},{"$f":"VALUE(DINAMICA!$B1951)","v":"00:00:00"},{"$f":"VALUE(DINAMICA!$C1951)","v":0},{"$f":"DINAMICA!D1951","v":0},{"$f":"DINAMICA!E1951","v":0},{"$f":"DINAMICA!F1951","v":0},{"$f":"DINAMICA!G1951","v":0},{"$f":"DINAMICA!H1951","v":0},{"$f":"DINAMICA!I1951","v":0},{"$f":"DINAMICA!J1951","v":0},{"$f":"DINAMICA!K1951","v":0},{"$f":"VALUE(DINAMICA!$L1951)","v":0},{"$f":"VALUE(DINAMICA!$M1951)","v":0},{"$f":"VALUE(DINAMICA!$N1951)","v":0},{"$f":"VALUE(DINAMICA!$O1951)","v":0},{"$f":"VALUE(DINAMICA!$P1951)","v":0},{"$f":"VALUE(DINAMICA!$Q1951)","v":0},{"$f":"VALUE(DINAMICA!$R1951)","v":0}]
[{"$f":"VALUE(DINAMICA!$A1952)","v":0},{"$f":"VALUE(DINAMICA!$B1952)","v":"00:00:00"},{"$f":"VALUE(DINAMICA!$C1952)","v":0},{"$f":"DINAMICA!D1952","v":0},{"$f":"DINAMICA!E1952","v":0},{"$f":"DINAMICA!F1952","v":0},{"$f":"DINAMICA!G1952","v":0},{"$f":"DINAMICA!H1952","v":0},{"$f":"DINAMICA!I1952","v":0},{"$f":"DINAMICA!J1952","v":0},{"$f":"DINAMICA!K1952","v":0},{"$f":"VALUE(DINAMICA!$L1952)","v":0},{"$f":"VALUE(DINAMICA!$M1952)","v":0},{"$f":"VALUE(DINAMICA!$N1952)","v":0},{"$f":"VALUE(DINAMICA!$O1952)","v":0},{"$f":"VALUE(DINAMICA!$P1952)","v":0},{"$f":"VALUE(DINAMICA!$Q1952)","v":0},{"$f":"VALUE(DINAMICA!$R1952)","v":0}]
[{"$f":"VALUE(DINAMICA!$A1953)","v":0},{"$f":"VALUE(DINAMICA!$B1953)","v":"00:00:00"},{"$f":"VALUE(DINAMICA!$C1953)","v":0},{"$f":"DINAMICA!D1953","v":0},{"$f":"DINAMICA!E1953","v":0},{"$f":"DINAMICA!F1953","v":0},{"$f":"DINAMICA!G1953","v":0},{"$f":"DINAMICA!H1953","v":0},{"$f":"DINAMICA!I1953","v":0},{"$f":"DINAMICA!J1953","v":0},{"$f":"DINAMICA!K1953","v":0},{"$f":"VALUE(DINAMICA!$L1953)","v":0},{"$f":"VALUE(DINAMICA!$M1953)","v":0},{"$f":"VALUE(DINAMICA!$N1953)","v":0},{"$f":"VALUE(DINAMICA!$O1953)","v":0},{"$f":"VALUE(DINAMICA!$P1953)","v":0},{"$f":"VALUE(DINAMICA!$Q1953)","v":0},{"$f":"VALUE(DINAMICA!$R1953)","v":0}]
[{"$f":"VALUE(DINAMICA!$A1954)","v":0},{"$f":"VALUE(DINAMICA!$B1954)","v":"00:00:00"},{"$f":"VALUE(DINAMICA!$C1954)","v":0},{"$f":"DINAMICA!D1954","v":0},{"$f":"DINAMICA!E1954","v":0},{"$f":"DINAMICA!F1954","v":0},{"$f":"DINAMICA!G1954","v":0},{"$f":"DINAMICA!H1954","v":0},{"$f":"DINAMICA!I1954","v":0},{"$f":"DINAMICA!J1954","v":0},{"$f":"DINAMICA!K1954","v":0},{"$f":"VALUE(DINAMICA!$L1954)","v":0},{"$f":"VALUE(DINAMICA!$M1954)","v":0},{"$f":"VALUE(DINAMICA!$N1954)","v":0},{"$f":"VALUE(DINAMICA!$O1954)","v":0},{"$f":"VALUE(DINAMICA!$P1954)","v":0},{"$f":"VALUE(DINAMICA!$Q1954)","v":0},{"$f":"VALUE(DINAMICA!$R1954)","v":0}]
[{"$f":"VALUE(DINAMICA!$A1955)","v":0},{"$f":"VALUE(DINAMICA!$B1955)","v":"00:00:00"},{"$f":"VALUE(DINAMICA!$C1955)","v":0},{"$f":"DINAMICA!D1955","v":0},{"$f":"DINAMICA!E1955","v":0},{"$f":"DINAMICA!F1955","v":0},{"$f":"DINAMICA!G1955","v":0},{"$f":"DINAMICA!H1955","v":0},{"$f":"DINAMICA!I1955","v":0},{"$f":"DINAMICA!J1955","v":0},{"$f":"DINAMICA!K1955","v":0},{"$f":"VALUE(DINAMICA!$L1955)","v":0},{"$f":"VALUE(DINAMICA!$M1955)","v":0},{"$f":"VALUE(DINAMICA!$N1955)","v":0},{"$f":"VALUE(DINAMICA!$O1955)","v":0},{"$f":"VALUE(DINAMICA!$P1955)","v":0},{"$f":"VALUE(DINAMICA!$Q1955)","v":0},{"$f":"VALUE(DINAMICA!$R1955)","v":0}]
[{"$f":"VALUE(DINAMICA!$A1956)","v":0},{"$f":"VALUE(DINAMICA!$B1956)","v":"00:00:00"},{"$f":"VALUE(DINAMICA!$C1956)","v":0},{"$f":"DINAMICA!D1956","v":0},{"$f":"DINAMICA!E1956","v":0},{"$f":"DINAMICA!F1956","v":0},{"$f":"DINAMICA!G1956","v":0},{"$f":"DINAMICA!H1956","v":0},{"$f":"DINAMICA!I1956","v":0},{"$f":"DINAMICA!J1956","v":0},{"$f":"DINAMICA!K1956","v":0},{"$f":"VALUE(DINAMICA!$L1956)","v":0},{"$f":"VALUE(DINAMICA!$M1956)","v":0},{"$f":"VALUE(DINAMICA!$N1956)","v":0},{"$f":"VALUE(DINAMICA!$O1956)","v":0},{"$f":"VALUE(DINAMICA!$P1956)","v":0},{"$f":"VALUE(DINAMICA!$Q1956)","v":0},{"$f":"VALUE(DINAMICA!$R1956)","v":0}]
[{"$f":"VALUE(DINAMICA!$A1957)","v":0},{"$f":"VALUE(DINAMICA!$B1957)","v":"00:00:00"},{"$f":"VALUE(DINAMICA!$C1957)","v":0},{"$f":"DINAMICA!D1957","v":0},{"$f":"DINAMICA!E1957","v":0},{"$f":"DINAMICA!F1957","v":0},{"$f":"DINAMICA!G1957","v":0},{"$f":"DINAMICA!H1957","v":0},{"$f":"DINAMICA!I1957","v":0},{"$f":"DINAMICA!J1957","v":0},{"$f":"DINAMICA!K1957","v":0},{"$f":"VALUE(DINAMICA!$L1957)","v":0},{"$f":"VALUE(DINAMICA!$M1957)","v":0},{"$f":"VALUE(DINAMICA!$N1957)","v":0},{"$f":"VALUE(DINAMICA!$O1957)","v":0},{"$f":"VALUE(DINAMICA!$P1957)","v":0},{"$f":"VALUE(DINAMICA!$Q1957)","v":0},{"$f":"VALUE(DINAMICA!$R1957)","v":0}]
[{"$f":"VALUE(DINAMICA!$A1958)","v":0},{"$f":"VALUE(DINAMICA!$B1958)","v":"00:00:00"},{"$f":"VALUE(DINAMICA!$C1958)","v":0},{"$f":"DINAMICA!D1958","v":0},{"$f":"DINAMICA!E1958","v":0},{"$f":"DINAMICA!F1958","v":0},{"$f":"DINAMICA!G1958","v":0},{"$f":"DINAMICA!H1958","v":0},{"$f":"DINAMICA!I1958","v":0},{"$f":"DINAMICA!J1958","v":0},{"$f":"DINAMICA!K1958","v":0},{"$f":"VALUE(DINAMICA!$L1958)","v":0},{"$f":"VALUE(DINAMICA!$M1958)","v":0},{"$f":"VALUE(DINAMICA!$N1958)","v":0},{"$f":"VALUE(DINAMICA!$O1958)","v":0},{"$f":"VALUE(DINAMICA!$P1958)","v":0},{"$f":"VALUE(DINAMICA!$Q1958)","v":0},{"$f":"VALUE(DINAMICA!$R1958)","v":0}]
[{"$f":"VALUE(DINAMICA!$A1959)","v":0},{"$f":"VALUE(DINAMICA!$B1959)","v":"00:00:00"},{"$f":"VALUE(DINAMICA!$C1959)","v":0},{"$f":"DINAMICA!D1959","v":0},{"$f":"DINAMICA!E1959","v":0},{"$f":"DINAMICA!F1959","v":0},{"$f":"DINAMICA!G1959","v":0},{"$f":"DINAMICA!H1959","v":0},{"$f":"DINAMICA!I1959","v":0},{"$f":"DINAMICA!J1959","v":0},{"$f":"DINAMICA!K1959","v":0},{"$f":"VALUE(DINAMICA!$L1959)","v":0},{"$f":"VALUE(DINAMICA!$M1959)","v":0},{"$f":"VALUE(DINAMICA!$N1959)","v":0},{"$f":"VALUE(DINAMICA!$O1959)","v":0},{"$f":"VALUE(DINAMICA!$P1959)","v":0},{"$f":"VALUE(DINAMICA!$Q1959)","v":0},{"$f":"VALUE(DINAMICA!$R1959)","v":0}]
[{"$f":"VALUE(DINAMICA!$A1960)","v":0},{"$f":"VALUE(DINAMICA!$B1960)","v":"00:00:00"},{"$f":"VALUE(DINAMICA!$C1960)","v":0},{"$f":"DINAMICA!D1960","v":0},{"$f":"DINAMICA!E1960","v":0},{"$f":"DINAMICA!F1960","v":0},{"$f":"DINAMICA!G1960","v":0},{"$f":"DINAMICA!H1960","v":0},{"$f":"DINAMICA!I1960","v":0},{"$f":"DINAMICA!J1960","v":0},{"$f":"DINAMICA!K1960","v":0},{"$f":"VALUE(DINAMICA!$L1960)","v":0},{"$f":"VALUE(DINAMICA!$M1960)","v":0},{"$f":"VALUE(DINAMICA!$N1960)","v":0},{"$f":"VALUE(DINAMICA!$O1960)","v":0},{"$f":"VALUE(DINAMICA!$P1960)","v":0},{"$f":"VALUE(DINAMICA!$Q1960)","v":0},{"$f":"VALUE(DINAMICA!$R1960)","v":0}]
[{"$f":"VALUE(DINAMICA!$A1961)","v":0},{"$f":"VALUE(DINAMICA!$B1961)","v":"00:00:00"},{"$f":"VALUE(DINAMICA!$C1961)","v":0},{"$f":"DINAMICA!D1961","v":0},{"$f":"DINAMICA!E1961","v":0},{"$f":"DINAMICA!F1961","v":0},{"$f":"DINAMICA!G1961","v":0},{"$f":"DINAMICA!H1961","v":0},{"$f":"DINAMICA!I1961","v":0},{"$f":"DINAMICA!J1961","v":0},{"$f":"DINAMICA!K1961","v":0},{"$f":"VALUE(DINAMICA!$L1961)","v":0},{"$f":"VALUE(DINAMICA!$M1961)","v":0},{"$f":"VALUE(DINAMICA!$N1961)","v":0},{"$f":"VALUE(DINAMICA!$O1961)","v":0},{"$f":"VALUE(DINAMICA!$P1961)","v":0},{"$f":"VALUE(DINAMICA!$Q1961)","v":0},{"$f":"VALUE(DINAMICA!$R1961)","v":0}]
[{"$f":"VALUE(DINAMICA!$A1962)","v":0},{"$f":"VALUE(DINAMICA!$B1962)","v":"00:00:00"},{"$f":"VALUE(DINAMICA!$C1962)","v":0},{"$f":"DINAMICA!D1962","v":0},{"$f":"DINAMICA!E1962","v":0},{"$f":"DINAMICA!F1962","v":0},{"$f":"DINAMICA!G1962","v":0},{"$f":"DINAMICA!H1962","v":0},{"$f":"DINAMICA!I1962","v":0},{"$f":"DINAMICA!J1962","v":0},{"$f":"DINAMICA!K1962","v":0},{"$f":"VALUE(DINAMICA!$L1962)","v":0},{"$f":"VALUE(DINAMICA!$M1962)","v":0},{"$f":"VALUE(DINAMICA!$N1962)","v":0},{"$f":"VALUE(DINAMICA!$O1962)","v":0},{"$f":"VALUE(DINAMICA!$P1962)","v":0},{"$f":"VALUE(DINAMICA!$Q1962)","v":0},{"$f":"VALUE(DINAMICA!$R1962)","v":0}]
[{"$f":"VALUE(DINAMICA!$A1963)","v":0},{"$f":"VALUE(DINAMICA!$B1963)","v":"00:00:00"},{"$f":"VALUE(DINAMICA!$C1963)","v":0},{"$f":"DINAMICA!D1963","v":0},{"$f":"DINAMICA!E1963","v":0},{"$f":"DINAMICA!F1963","v":0},{"$f":"DINAMICA!G1963","v":0},{"$f":"DINAMICA!H1963","v":0},{"$f":"DINAMICA!I1963","v":0},{"$f":"DINAMICA!J1963","v":0},{"$f":"DINAMICA!K1963","v":0},{"$f":"VALUE(DINAMICA!$L1963)","v":0},{"$f":"VALUE(DINAMICA!$M1963)","v":0},{"$f":"VALUE(DINAMICA!$N1963)","v":0},{"$f":"VALUE(DINAMICA!$O1963)","v":0},{"$f":"VALUE(DINAMICA!$P1963)","v":0},{"$f":"VALUE(DINAMICA!$Q1963)","v":0},{"$f":"VALUE(DINAMICA!$R1963)","v":0}]
[{"$f":"VALUE(DINAMICA!$A1964)","v":0},{"$f":"VALUE(DINAMICA!$B1964)","v":"00:00:00"},{"$f":"VALUE(DINAMICA!$C1964)","v":0},{"$f":"DINAMICA!D1964","v":0},{"$f":"DINAMICA!E1964","v":0},{"$f":"DINAMICA!F1964","v":0},{"$f":"DINAMICA!G1964","v":0},{"$f":"DINAMICA!H1964","v":0},{"$f":"DINAMICA!I1964","v":0},{"$f":"DINAMICA!J1964","v":0},{"$f":"DINAMICA!K1964","v":0},{"$f":"VALUE(DINAMICA!$L1964)","v":0},{"$f":"VALUE(DINAMICA!$M1964)","v":0},{"$f":"VALUE(DINAMICA!$N1964)","v":0},{"$f":"VALUE(DINAMICA!$O1964)","v":0},{"$f":"VALUE(DINAMICA!$P1964)","v":0},{"$f":"VALUE(DINAMICA!$Q1964)","v":0},{"$f":"VALUE(DINAMICA!$R1964)","v":0}]
[{"$f":"VALUE(DINAMICA!$A1965)","v":0},{"$f":"VALUE(DINAMICA!$B1965)","v":"00:00:00"},{"$f":"VALUE(DINAMICA!$C1965)","v":0},{"$f":"DINAMICA!D1965","v":0},{"$f":"DINAMICA!E1965","v":0},{"$f":"DINAMICA!F1965","v":0},{"$f":"DINAMICA!G1965","v":0},{"$f":"DINAMICA!H1965","v":0},{"$f":"DINAMICA!I1965","v":0},{"$f":"DINAMICA!J1965","v":0},{"$f":"DINAMICA!K1965","v":0},{"$f":"VALUE(DINAMICA!$L1965)","v":0},{"$f":"VALUE(DINAMICA!$M1965)","v":0},{"$f":"VALUE(DINAMICA!$N1965)","v":0},{"$f":"VALUE(DINAMICA!$O1965)","v":0},{"$f":"VALUE(DINAMICA!$P1965)","v":0},{"$f":"VALUE(DINAMICA!$Q1965)","v":0},{"$f":"VALUE(DINAMICA!$R1965)","v":0}]
[{"$f":"VALUE(DINAMICA!$A1966)","v":0},{"$f":"VALUE(DINAMICA!$B1966)","v":"00:00:00"},{"$f":"VALUE(DINAMICA!$C1966)","v":0},{"$f":"DINAMICA!D1966","v":0},{"$f":"DINAMICA!E1966","v":0},{"$f":"DINAMICA!F1966","v":0},{"$f":"DINAMICA!G1966","v":0},{"$f":"DINAMICA!H1966","v":0},{"$f":"DINAMICA!I1966","v":0},{"$f":"DINAMICA!J1966","v":0},{"$f":"DINAMICA!K1966","v":0},{"$f":"VALUE(DINAMICA!$L1966)","v":0},{"$f":"VALUE(DINAMICA!$M1966)","v":0},{"$f":"VALUE(DINAMICA!$N1966)","v":0},{"$f":"VALUE(DINAMICA!$O1966)","v":0},{"$f":"VALUE(DINAMICA!$P1966)","v":0},{"$f":"VALUE(DINAMICA!$Q1966)","v":0},{"$f":"VALUE(DINAMICA!$R1966)","v":0}]
[{"$f":"VALUE(DINAMICA!$A1967)","v":0},{"$f":"VALUE(DINAMICA!$B1967)","v":"00:00:00"},{"$f":"VALUE(DINAMICA!$C1967)","v":0},{"$f":"DINAMICA!D1967","v":0},{"$f":"DINAMICA!E1967","v":0},{"$f":"DINAMICA!F1967","v":0},{"$f":"DINAMICA!G1967","v":0},{"$f":"DINAMICA!H1967","v":0},{"$f":"DINAMICA!I1967","v":0},{"$f":"DINAMICA!J1967","v":0},{"$f":"DINAMICA!K1967","v":0},{"$f":"VALUE(DINAMICA!$L1967)","v":0},{"$f":"VALUE(DINAMICA!$M1967)","v":0},{"$f":"VALUE(DINAMICA!$N1967)","v":0},{"$f":"VALUE(DINAMICA!$O1967)","v":0},{"$f":"VALUE(DINAMICA!$P1967)","v":0},{"$f":"VALUE(DINAMICA!$Q1967)","v":0},{"$f":"VALUE(DINAMICA!$R1967)","v":0}]
[{"$f":"VALUE(DINAMICA!$A1968)","v":0},{"$f":"VALUE(DINAMICA!$B1968)","v":"00:00:00"},{"$f":"VALUE(DINAMICA!$C1968)","v":0},{"$f":"DINAMICA!D1968","v":0},{"$f":"DINAMICA!E1968","v":0},{"$f":"DINAMICA!F1968","v":0},{"$f":"DINAMICA!G1968","v":0},{"$f":"DINAMICA!H1968","v":0},{"$f":"DINAMICA!I1968","v":0},{"$f":"DINAMICA!J1968","v":0},{"$f":"DINAMICA!K1968","v":0},{"$f":"VALUE(DINAMICA!$L1968)","v":0},{"$f":"VALUE(DINAMICA!$M1968)","v":0},{"$f":"VALUE(DINAMICA!$N1968)","v":0},{"$f":"VALUE(DINAMICA!$O1968)","v":0},{"$f":"VALUE(DINAMICA!$P1968)","v":0},{"$f":"VALUE(DINAMICA!$Q1968)","v":0},{"$f":"VALUE(DINAMICA!$R1968)","v":0}]
[{"$f":"VALUE(DINAMICA!$A1969)","v":0},{"$f":"VALUE(DINAMICA!$B1969)","v":"00:00:00"},{"$f":"VALUE(DINAMICA!$C1969)","v":0},{"$f":"DINAMICA!D1969","v":0},{"$f":"DINAMICA!E1969","v":0},{"$f":"DINAMICA!F1969","v":0},{"$f":"DINAMICA!G1969","v":0},{"$f":"DINAMICA!H1969","v":0},{"$f":"DINAMICA!I1969","v":0},{"$f":"DINAMICA!J1969","v":0},{"$f":"DINAMICA!K1969","v":0},{"$f":"VALUE(DINAMICA!$L1969)","v":0},{"$f":"VALUE(DINAMICA!$M1969)","v":0},{"$f":"VALUE(DINAMICA!$N1969)","v":0},{"$f":"VALUE(DINAMICA!$O1969)","v":0},{"$f":"VALUE(DINAMICA!$P1969)","v":0},{"$f":"VALUE(DINAMICA!$Q1969)","v":0},{"$f":"VALUE(DINAMICA!$R1969)","v":0}]
[{"$f":"VALUE(DINAMICA!$A1970)","v":0},{"$f":"VALUE(DINAMICA!$B1970)","v":"00:00:00"},{"$f":"VALUE(DINAMICA!$C1970)","v":0},{"$f":"DINAMICA!D1970","v":0},{"$f":"DINAMICA!E1970","v":0},{"$f":"DINAMICA!F1970","v":0},{"$f":"DINAMICA!G1970","v":0},{"$f":"DINAMICA!H1970","v":0},{"$f":"DINAMICA!I1970","v":0},{"$f":"DINAMICA!J1970","v":0},{"$f":"DINAMICA!K1970","v":0},{"$f":"VALUE(DINAMICA!$L1970)","v":0},{"$f":"VALUE(DINAMICA!$M1970)","v":0},{"$f":"VALUE(DINAMICA!$N1970)","v":0},{"$f":"VALUE(DINAMICA!$O1970)","v":0},{"$f":"VALUE(DINAMICA!$P1970)","v":0},{"$f":"VALUE(DINAMICA!$Q1970)","v":0},{"$f":"VALUE(DINAMICA!$R1970)","v":0}]
[{"$f":"VALUE(DINAMICA!$A1971)","v":0},{"$f":"VALUE(DINAMICA!$B1971)","v":"00:00:00"},{"$f":"VALUE(DINAMICA!$C1971)","v":0},{"$f":"DINAMICA!D1971","v":0},{"$f":"DINAMICA!E1971","v":0},{"$f":"DINAMICA!F1971","v":0},{"$f":"DINAMICA!G1971","v":0},{"$f":"DINAMICA!H1971","v":0},{"$f":"DINAMICA!I1971","v":0},{"$f":"DINAMICA!J1971","v":0},{"$f":"DINAMICA!K1971","v":0},{"$f":"VALUE(DINAMICA!$L1971)","v":0},{"$f":"VALUE(DINAMICA!$M1971)","v":0},{"$f":"VALUE(DINAMICA!$N1971)","v":0},{"$f":"VALUE(DINAMICA!$O1971)","v":0},{"$f":"VALUE(DINAMICA!$P1971)","v":0},{"$f":"VALUE(DINAMICA!$Q1971)","v":0},{"$f":"VALUE(DINAMICA!$R1971)","v":0}]
[{"$f":"VALUE(DINAMICA!$A1972)","v":0},{"$f":"VALUE(DINAMICA!$B1972)","v":"00:00:00"},{"$f":"VALUE(DINAMICA!$C1972)","v":0},{"$f":"DINAMICA!D1972","v":0},{"$f":"DINAMICA!E1972","v":0},{"$f":"DINAMICA!F1972","v":0},{"$f":"DINAMICA!G1972","v":0},{"$f":"DINAMICA!H1972","v":0},{"$f":"DINAMICA!I1972","v":0},{"$f":"DINAMICA!J1972","v":0},{"$f":"DINAMICA!K1972","v":0},{"$f":"VALUE(DINAMICA!$L1972)","v":0},{"$f":"VALUE(DINAMICA!$M1972)","v":0},{"$f":"VALUE(DINAMICA!$N1972)","v":0},{"$f":"VALUE(DINAMICA!$O1972)","v":0},{"$f":"VALUE(DINAMICA!$P1972)","v":0},{"$f":"VALUE(DINAMICA!$Q1972)","v":0},{"$f":"VALUE(DINAMICA!$R1972)","v":0}]
[{"$f":"VALUE(DINAMICA!$A1973)","v":0},{"$f":"VALUE(DINAMICA!$B1973)","v":"00:00:00"},{"$f":"VALUE(DINAMICA!$C1973)","v":0},{"$f":"DINAMICA!D1973","v":0},{"$f":"DINAMICA!E1973","v":0},{"$f":"DINAMICA!F1973","v":0},{"$f":"DINAMICA!G1973","v":0},{"$f":"DINAMICA!H1973","v":0},{"$f":"DINAMICA!I1973","v":0},{"$f":"DINAMICA!J1973","v":0},{"$f":"DINAMICA!K1973","v":0},{"$f":"VALUE(DINAMICA!$L1973)","v":0},{"$f":"VALUE(DINAMICA!$M1973)","v":0},{"$f":"VALUE(DINAMICA!$N1973)","v":0},{"$f":"VALUE(DINAMICA!$O1973)","v":0},{"$f":"VALUE(DINAMICA!$P1973)","v":0},{"$f":"VALUE(DINAMICA!$Q1973)","v":0},{"$f":"VALUE(DINAMICA!$R1973)","v":0}]
[{"$f":"VALUE(DINAMICA!$A1974)","v":0},{"$f":"VALUE(DINAMICA!$B1974)","v":"00:00:00"},{"$f":"VALUE(DINAMICA!$C1974)","v":0},{"$f":"DINAMICA!D1974","v":0},{"$f":"DINAMICA!E1974","v":0},{"$f":"DINAMICA!F1974","v":0},{"$f":"DINAMICA!G1974","v":0},{"$f":"DINAMICA!H1974","v":0},{"$f":"DINAMICA!I1974","v":0},{"$f":"DINAMICA!J1974","v":0},{"$f":"DINAMICA!K1974","v":0},{"$f":"VALUE(DINAMICA!$L1974)","v":0},{"$f":"VALUE(DINAMICA!$M1974)","v":0},{"$f":"VALUE(DINAMICA!$N1974)","v":0},{"$f":"VALUE(DINAMICA!$O1974)","v":0},{"$f":"VALUE(DINAMICA!$P1974)","v":0},{"$f":"VALUE(DINAMICA!$Q1974)","v":0},{"$f":"VALUE(DINAMICA!$R1974)","v":0}]
[{"$f":"VALUE(DINAMICA!$A1975)","v":0},{"$f":"VALUE(DINAMICA!$B1975)","v":"00:00:00"},{"$f":"VALUE(DINAMICA!$C1975)","v":0},{"$f":"DINAMICA!D1975","v":0},{"$f":"DINAMICA!E1975","v":0},{"$f":"DINAMICA!F1975","v":0},{"$f":"DINAMICA!G1975","v":0},{"$f":"DINAMICA!H1975","v":0},{"$f":"DINAMICA!I1975","v":0},{"$f":"DINAMICA!J1975","v":0},{"$f":"DINAMICA!K1975","v":0},{"$f":"VALUE(DINAMICA!$L1975)","v":0},{"$f":"VALUE(DINAMICA!$M1975)","v":0},{"$f":"VALUE(DINAMICA!$N1975)","v":0},{"$f":"VALUE(DINAMICA!$O1975)","v":0},{"$f":"VALUE(DINAMICA!$P1975)","v":0},{"$f":"VALUE(DINAMICA!$Q1975)","v":0},{"$f":"VALUE(DINAMICA!$R1975)","v":0}]
[{"$f":"VALUE(DINAMICA!$A1976)","v":0},{"$f":"VALUE(DINAMICA!$B1976)","v":"00:00:00"},{"$f":"VALUE(DINAMICA!$C1976)","v":0},{"$f":"DINAMICA!D1976","v":0},{"$f":"DINAMICA!E1976","v":0},{"$f":"DINAMICA!F1976","v":0},{"$f":"DINAMICA!G1976","v":0},{"$f":"DINAMICA!H1976","v":0},{"$f":"DINAMICA!I1976","v":0},{"$f":"DINAMICA!J1976","v":0},{"$f":"DINAMICA!K1976","v":0},{"$f":"VALUE(DINAMICA!$L1976)","v":0},{"$f":"VALUE(DINAMICA!$M1976)","v":0},{"$f":"VALUE(DINAMICA!$N1976)","v":0},{"$f":"VALUE(DINAMICA!$O1976)","v":0},{"$f":"VALUE(DINAMICA!$P1976)","v":0},{"$f":"VALUE(DINAMICA!$Q1976)","v":0},{"$f":"VALUE(DINAMICA!$R1976)","v":0}]
[{"$f":"VALUE(DINAMICA!$A1977)","v":0},{"$f":"VALUE(DINAMICA!$B1977)","v":"00:00:00"},{"$f":"VALUE(DINAMICA!$C1977)","v":0},{"$f":"DINAMICA!D1977","v":0},{"$f":"DINAMICA!E1977","v":0},{"$f":"DINAMICA!F1977","v":0},{"$f":"DINAMICA!G1977","v":0},{"$f":"DINAMICA!H1977","v":0},{"$f":"DINAMICA!I1977","v":0},{"$f":"DINAMICA!J1977","v":0},{"$f":"DINAMICA!K1977","v":0},{"$f":"VALUE(DINAMICA!$L1977)","v":0},{"$f":"VALUE(DINAMICA!$M1977)","v":0},{"$f":"VALUE(DINAMICA!$N1977)","v":0},{"$f":"VALUE(DINAMICA!$O1977)","v":0},{"$f":"VALUE(DINAMICA!$P1977)","v":0},{"$f":"VALUE(DINAMICA!$Q1977)","v":0},{"$f":"VALUE(DINAMICA!$R1977)","v":0}]
[{"$f":"VALUE(DINAMICA!$A1978)","v":0},{"$f":"VALUE(DINAMICA!$B1978)","v":"00:00:00"},{"$f":"VALUE(DINAMICA!$C1978)","v":0},{"$f":"DINAMICA!D1978","v":0},{"$f":"DINAMICA!E1978","v":0},{"$f":"DINAMICA!F1978","v":0},{"$f":"DINAMICA!G1978","v":0},{"$f":"DINAMICA!H1978","v":0},{"$f":"DINAMICA!I1978","v":0},{"$f":"DINAMICA!J1978","v":0},{"$f":"DINAMICA!K1978","v":0},{"$f":"VALUE(DINAMICA!$L1978)","v":0},{"$f":"VALUE(DINAMICA!$M1978)","v":0},{"$f":"VALUE(DINAMICA!$N1978)","v":0},{"$f":"VALUE(DINAMICA!$O1978)","v":0},{"$f":"VALUE(DINAMICA!$P1978)","v":0},{"$f":"VALUE(DINAMICA!$Q1978)","v":0},{"$f":"VALUE(DINAMICA!$R1978)","v":0}]
[{"$f":"VALUE(DINAMICA!$A1979)","v":0},{"$f":"VALUE(DINAMICA!$B1979)","v":"00:00:00"},{"$f":"VALUE(DINAMICA!$C1979)","v":0},{"$f":"DINAMICA!D1979","v":0},{"$f":"DINAMICA!E1979","v":0},{"$f":"DINAMICA!F1979","v":0},{"$f":"DINAMICA!G1979","v":0},{"$f":"DINAMICA!H1979","v":0},{"$f":"DINAMICA!I1979","v":0},{"$f":"DINAMICA!J1979","v":0},{"$f":"DINAMICA!K1979","v":0},{"$f":"VALUE(DINAMICA!$L1979)","v":0},{"$f":"VALUE(DINAMICA!$M1979)","v":0},{"$f":"VALUE(DINAMICA!$N1979)","v":0},{"$f":"VALUE(DINAMICA!$O1979)","v":0},{"$f":"VALUE(DINAMICA!$P1979)","v":0},{"$f":"VALUE(DINAMICA!$Q1979)","v":0},{"$f":"VALUE(DINAMICA!$R1979)","v":0}]
[{"$f":"VALUE(DINAMICA!$A1980)","v":0},{"$f":"VALUE(DINAMICA!$B1980)","v":"00:00:00"},{"$f":"VALUE(DINAMICA!$C1980)","v":0},{"$f":"DINAMICA!D1980","v":0},{"$f":"DINAMICA!E1980","v":0},{"$f":"DINAMICA!F1980","v":0},{"$f":"DINAMICA!G1980","v":0},{"$f":"DINAMICA!H1980","v":0},{"$f":"DINAMICA!I1980","v":0},{"$f":"DINAMICA!J1980","v":0},{"$f":"DINAMICA!K1980","v":0},{"$f":"VALUE(DINAMICA!$L1980)","v":0},{"$f":"VALUE(DINAMICA!$M1980)","v":0},{"$f":"VALUE(DINAMICA!$N1980)","v":0},{"$f":"VALUE(DINAMICA!$O1980)","v":0},{"$f":"VALUE(DINAMICA!$P1980)","v":0},{"$f":"VALUE(DINAMICA!$Q1980)","v":0},{"$f":"VALUE(DINAMICA!$R1980)","v":0}]
[{"$f":"VALUE(DINAMICA!$A1981)","v":0},{"$f":"VALUE(DINAMICA!$B1981)","v":"00:00:00"},{"$f":"VALUE(DINAMICA!$C1981)","v":0},{"$f":"DINAMICA!D1981","v":0},{"$f":"DINAMICA!E1981","v":0},{"$f":"DINAMICA!F1981","v":0},{"$f":"DINAMICA!G1981","v":0},{"$f":"DINAMICA!H1981","v":0},{"$f":"DINAMICA!I1981","v":0},{"$f":"DINAMICA!J1981","v":0},{"$f":"DINAMICA!K1981","v":0},{"$f":"VALUE(DINAMICA!$L1981)","v":0},{"$f":"VALUE(DINAMICA!$M1981)","v":0},{"$f":"VALUE(DINAMICA!$N1981)","v":0},{"$f":"VALUE(DINAMICA!$O1981)","v":0},{"$f":"VALUE(DINAMICA!$P1981)","v":0},{"$f":"VALUE(DINAMICA!$Q1981)","v":0},{"$f":"VALUE(DINAMICA!$R1981)","v":0}]
[{"$f":"VALUE(DINAMICA!$A1982)","v":0},{"$f":"VALUE(DINAMICA!$B1982)","v":"00:00:00"},{"$f":"VALUE(DINAMICA!$C1982)","v":0},{"$f":"DINAMICA!D1982","v":0},{"$f":"DINAMICA!E1982","v":0},{"$f":"DINAMICA!F1982","v":0},{"$f":"DINAMICA!G1982","v":0},{"$f":"DINAMICA!H1982","v":0},{"$f":"DINAMICA!I1982","v":0},{"$f":"DINAMICA!J1982","v":0},{"$f":"DINAMICA!K1982","v":0},{"$f":"VALUE(DINAMICA!$L1982)","v":0},{"$f":"VALUE(DINAMICA!$M1982)","v":0},{"$f":"VALUE(DINAMICA!$N1982)","v":0},{"$f":"VALUE(DINAMICA!$O1982)","v":0},{"$f":"VALUE(DINAMICA!$P1982)","v":0},{"$f":"VALUE(DINAMICA!$Q1982)","v":0},{"$f":"VALUE(DINAMICA!$R1982)","v":0}]
[{"$f":"VALUE(DINAMICA!$A1983)","v":0},{"$f":"VALUE(DINAMICA!$B1983)","v":"00:00:00"},{"$f":"VALUE(DINAMICA!$C1983)","v":0},{"$f":"DINAMICA!D1983","v":0},{"$f":"DINAMICA!E1983","v":0},{"$f":"DINAMICA!F1983","v":0},{"$f":"DINAMICA!G1983","v":0},{"$f":"DINAMICA!H1983","v":0},{"$f":"DINAMICA!I1983","v":0},{"$f":"DINAMICA!J1983","v":0},{"$f":"DINAMICA!K1983","v":0},{"$f":"VALUE(DINAMICA!$L1983)","v":0},{"$f":"VALUE(DINAMICA!$M1983)","v":0},{"$f":"VALUE(DINAMICA!$N1983)","v":0},{"$f":"VALUE(DINAMICA!$O1983)","v":0},{"$f":"VALUE(DINAMICA!$P1983)","v":0},{"$f":"VALUE(DINAMICA!$Q1983)","v":0},{"$f":"VALUE(DINAMICA!$R1983)","v":0}]
[{"$f":"VALUE(DINAMICA!$A1984)","v":0},{"$f":"VALUE(DINAMICA!$B1984)","v":"00:00:00"},{"$f":"VALUE(DINAMICA!$C1984)","v":0},{"$f":"DINAMICA!D1984","v":0},{"$f":"DINAMICA!E1984","v":0},{"$f":"DINAMICA!F1984","v":0},{"$f":"DINAMICA!G1984","v":0},{"$f":"DINAMICA!H1984","v":0},{"$f":"DINAMICA!I1984","v":0},{"$f":"DINAMICA!J1984","v":0},{"$f":"DINAMICA!K1984","v":0},{"$f":"VALUE(DINAMICA!$L1984)","v":0},{"$f":"VALUE(DINAMICA!$M1984)","v":0},{"$f":"VALUE(DINAMICA!$N1984)","v":0},{"$f":"VALUE(DINAMICA!$O1984)","v":0},{"$f":"VALUE(DINAMICA!$P1984)","v":0},{"$f":"VALUE(DINAMICA!$Q1984)","v":0},{"$f":"VALUE(DINAMICA!$R1984)","v":0}]
[{"$f":"VALUE(DINAMICA!$A1985)","v":0},{"$f":"VALUE(DINAMICA!$B1985)","v":"00:00:00"},{"$f":"VALUE(DINAMICA!$C1985)","v":0},{"$f":"DINAMICA!D1985","v":0},{"$f":"DINAMICA!E1985","v":0},{"$f":"DINAMICA!F1985","v":0},{"$f":"DINAMICA!G1985","v":0},{"$f":"DINAMICA!H1985","v":0},{"$f":"DINAMICA!I1985","v":0},{"$f":"DINAMICA!J1985","v":0},{"$f":"DINAMICA!K1985","v":0},{"$f":"VALUE(DINAMICA!$L1985)","v":0},{"$f":"VALUE(DINAMICA!$M1985)","v":0},{"$f":"VALUE(DINAMICA!$N1985)","v":0},{"$f":"VALUE(DINAMICA!$O1985)","v":0},{"$f":"VALUE(DINAMICA!$P1985)","v":0},{"$f":"VALUE(DINAMICA!$Q1985)","v":0},{"$f":"VALUE(DINAMICA!$R1985)","v":0}]
[{"$f":"VALUE(DINAMICA!$A1986)","v":0},{"$f":"VALUE(DINAMICA!$B1986)","v":"00:00:00"},{"$f":"VALUE(DINAMICA!$C1986)","v":0},{"$f":"DINAMICA!D1986","v":0},{"$f":"DINAMICA!E1986","v":0},{"$f":"DINAMICA!F1986","v":0},{"$f":"DINAMICA!G1986","v":0},{"$f":"DINAMICA!H1986","v":0},{"$f":"DINAMICA!I1986","v":0},{"$f":"DINAMICA!J1986","v":0},{"$f":"DINAMICA!K1986","v":0},{"$f":"VALUE(DINAMICA!$L1986)","v":0},{"$f":"VALUE(DINAMICA!$M1986)","v":0},{"$f":"VALUE(DINAMICA!$N1986)","v":0},{"$f":"VALUE(DINAMICA!$O1986)","v":0},{"$f":"VALUE(DINAMICA!$P1986)","v":0},{"$f":"VALUE(DINAMICA!$Q1986)","v":0},{"$f":"VALUE(DINAMICA!$R1986)","v":0}]
[{"$f":"VALUE(DINAMICA!$A1987)","v":0},{"$f":"VALUE(DINAMICA!$B1987)","v":"00:00:00"},{"$f":"VALUE(DINAMICA!$C1987)","v":0},{"$f":"DINAMICA!D1987","v":0},{"$f":"DINAMICA!E1987","v":0},{"$f":"DINAMICA!F1987","v":0},{"$f":"DINAMICA!G1987","v":0},{"$f":"DINAMICA!H1987","v":0},{"$f":"DINAMICA!I1987","v":0},{"$f":"DINAMICA!J1987","v":0},{"$f":"DINAMICA!K1987","v":0},{"$f":"VALUE(DINAMICA!$L1987)","v":0},{"$f":"VALUE(DINAMICA!$M1987)","v":0},{"$f":"VALUE(DINAMICA!$N1987)","v":0},{"$f":"VALUE(DINAMICA!$O1987)","v":0},{"$f":"VALUE(DINAMICA!$P1987)","v":0},{"$f":"VALUE(DINAMICA!$Q1987)","v":0},{"$f":"VALUE(DINAMICA!$R1987)","v":0}]
[{"$f":"VALUE(DINAMICA!$A1988)","v":0},{"$f":"VALUE(DINAMICA!$B1988)","v":"00:00:00"},{"$f":"VALUE(DINAMICA!$C1988)","v":0},{"$f":"DINAMICA!D1988","v":0},{"$f":"DINAMICA!E1988","v":0},{"$f":"DINAMICA!F1988","v":0},{"$f":"DINAMICA!G1988","v":0},{"$f":"DINAMICA!H1988","v":0},{"$f":"DINAMICA!I1988","v":0},{"$f":"DINAMICA!J1988","v":0},{"$f":"DINAMICA!K1988","v":0},{"$f":"VALUE(DINAMICA!$L1988)","v":0},{"$f":"VALUE(DINAMICA!$M1988)","v":0},{"$f":"VALUE(DINAMICA!$N1988)","v":0},{"$f":"VALUE(DINAMICA!$O1988)","v":0},{"$f":"VALUE(DINAMICA!$P1988)","v":0},{"$f":"VALUE(DINAMICA!$Q1988)","v":0},{"$f":"VALUE(DINAMICA!$R1988)","v":0}]
[{"$f":"VALUE(DINAMICA!$A1989)","v":0},{"$f":"VALUE(DINAMICA!$B1989)","v":"00:00:00"},{"$f":"VALUE(DINAMICA!$C1989)","v":0},{"$f":"DINAMICA!D1989","v":0},{"$f":"DINAMICA!E1989","v":0},{"$f":"DINAMICA!F1989","v":0},{"$f":"DINAMICA!G1989","v":0},{"$f":"DINAMICA!H1989","v":0},{"$f":"DINAMICA!I1989","v":0},{"$f":"DINAMICA!J1989","v":0},{"$f":"DINAMICA!K1989","v":0},{"$f":"VALUE(DINAMICA!$L1989)","v":0},{"$f":"VALUE(DINAMICA!$M1989)","v":0},{"$f":"VALUE(DINAMICA!$N1989)","v":0},{"$f":"VALUE(DINAMICA!$O1989)","v":0},{"$f":"VALUE(DINAMICA!$P1989)","v":0},{"$f":"VALUE(DINAMICA!$Q1989)","v":0},{"$f":"VALUE(DINAMICA!$R1989)","v":0}]
[{"$f":"VALUE(DINAMICA!$A1990)","v":0},{"$f":"VALUE(DINAMICA!$B1990)","v":"00:00:00"},{"$f":"VALUE(DINAMICA!$C1990)","v":0},{"$f":"DINAMICA!D1990","v":0},{"$f":"DINAMICA!E1990","v":0},{"$f":"DINAMICA!F1990","v":0},{"$f":"DINAMICA!G1990","v":0},{"$f":"DINAMICA!H1990","v":0},{"$f":"DINAMICA!I1990","v":0},{"$f":"DINAMICA!J1990","v":0},{"$f":"DINAMICA!K1990","v":0},{"$f":"VALUE(DINAMICA!$L1990)","v":0},{"$f":"VALUE(DINAMICA!$M1990)","v":0},{"$f":"VALUE(DINAMICA!$N1990)","v":0},{"$f":"VALUE(DINAMICA!$O1990)","v":0},{"$f":"VALUE(DINAMICA!$P1990)","v":0},{"$f":"VALUE(DINAMICA!$Q1990)","v":0},{"$f":"VALUE(DINAMICA!$R1990)","v":0}]
[{"$f":"VALUE(DINAMICA!$A1991)","v":0},{"$f":"VALUE(DINAMICA!$B1991)","v":"00:00:00"},{"$f":"VALUE(DINAMICA!$C1991)","v":0},{"$f":"DINAMICA!D1991","v":0},{"$f":"DINAMICA!E1991","v":0},{"$f":"DINAMICA!F1991","v":0},{"$f":"DINAMICA!G1991","v":0},{"$f":"DINAMICA!H1991","v":0},{"$f":"DINAMICA!I1991","v":0},{"$f":"DINAMICA!J1991","v":0},{"$f":"DINAMICA!K1991","v":0},{"$f":"VALUE(DINAMICA!$L1991)","v":0},{"$f":"VALUE(DINAMICA!$M1991)","v":0},{"$f":"VALUE(DINAMICA!$N1991)","v":0},{"$f":"VALUE(DINAMICA!$O1991)","v":0},{"$f":"VALUE(DINAMICA!$P1991)","v":0},{"$f":"VALUE(DINAMICA!$Q1991)","v":0},{"$f":"VALUE(DINAMICA!$R1991)","v":0}]
[{"$f":"VALUE(DINAMICA!$A1992)","v":0},{"$f":"VALUE(DINAMICA!$B1992)","v":"00:00:00"},{"$f":"VALUE(DINAMICA!$C1992)","v":0},{"$f":"DINAMICA!D1992","v":0},{"$f":"DINAMICA!E1992","v":0},{"$f":"DINAMICA!F1992","v":0},{"$f":"DINAMICA!G1992","v":0},{"$f":"DINAMICA!H1992","v":0},{"$f":"DINAMICA!I1992","v":0},{"$f":"DINAMICA!J1992","v":0},{"$f":"DINAMICA!K1992","v":0},{"$f":"VALUE(DINAMICA!$L1992)","v":0},{"$f":"VALUE(DINAMICA!$M1992)","v":0},{"$f":"VALUE(DINAMICA!$N1992)","v":0},{"$f":"VALUE(DINAMICA!$O1992)","v":0},{"$f":"VALUE(DINAMICA!$P1992)","v":0},{"$f":"VALUE(DINAMICA!$Q1992)","v":0},{"$f":"VALUE(DINAMICA!$R1992)","v":0}]
[{"$f":"VALUE(DINAMICA!$A1993)","v":0},{"$f":"VALUE(DINAMICA!$B1993)","v":"00:00:00"},{"$f":"VALUE(DINAMICA!$C1993)","v":0},{"$f":"DINAMICA!D1993","v":0},{"$f":"DINAMICA!E1993","v":0},{"$f":"DINAMICA!F1993","v":0},{"$f":"DINAMICA!G1993","v":0},{"$f":"DINAMICA!H1993","v":0},{"$f":"DINAMICA!I1993","v":0},{"$f":"DINAMICA!J1993","v":0},{"$f":"DINAMICA!K1993","v":0},{"$f":"VALUE(DINAMICA!$L1993)","v":0},{"$f":"VALUE(DINAMICA!$M1993)","v":0},{"$f":"VALUE(DINAMICA!$N1993)","v":0},{"$f":"VALUE(DINAMICA!$O1993)","v":0},{"$f":"VALUE(DINAMICA!$P1993)","v":0},{"$f":"VALUE(DINAMICA!$Q1993)","v":0},{"$f":"VALUE(DINAMICA!$R1993)","v":0}]
[{"$f":"VALUE(DINAMICA!$A1994)","v":0},{"$f":"VALUE(DINAMICA!$B1994)","v":"00:00:00"},{"$f":"VALUE(DINAMICA!$C1994)","v":0},{"$f":"DINAMICA!D1994","v":0},{"$f":"DINAMICA!E1994","v":0},{"$f":"DINAMICA!F1994","v":0},{"$f":"DINAMICA!G1994","v":0},{"$f":"DINAMICA!H1994","v":0},{"$f":"DINAMICA!I1994","v":0},{"$f":"DINAMICA!J1994","v":0},{"$f":"DINAMICA!K1994","v":0},{"$f":"VALUE(DINAMICA!$L1994)","v":0},{"$f":"VALUE(DINAMICA!$M1994)","v":0},{"$f":"VALUE(DINAMICA!$N1994)","v":0},{"$f":"VALUE(DINAMICA!$O1994)","v":0},{"$f":"VALUE(DINAMICA!$P1994)","v":0},{"$f":"VALUE(DINAMICA!$Q1994)","v":0},{"$f":"VALUE(DINAMICA!$R1994)","v":0}]
[{"$f":"VALUE(DINAMICA!$A1995)","v":0},{"$f":"VALUE(DINAMICA!$B1995)","v":"00:00:00"},{"$f":"VALUE(DINAMICA!$C1995)","v":0},{"$f":"DINAMICA!D1995","v":0},{"$f":"DINAMICA!E1995","v":0},{"$f":"DINAMICA!F1995","v":0},{"$f":"DINAMICA!G1995","v":0},{"$f":"DINAMICA!H1995","v":0},{"$f":"DINAMICA!I1995","v":0},{"$f":"DINAMICA!J1995","v":0},{"$f":"DINAMICA!K1995","v":0},{"$f":"VALUE(DINAMICA!$L1995)","v":0},{"$f":"VALUE(DINAMICA!$M1995)","v":0},{"$f":"VALUE(DINAMICA!$N1995)","v":0},{"$f":"VALUE(DINAMICA!$O1995)","v":0},{"$f":"VALUE(DINAMICA!$P1995)","v":0},{"$f":"VALUE(DINAMICA!$Q1995)","v":0},{"$f":"VALUE(DINAMICA!$R1995)","v":0}]
[{"$f":"VALUE(DINAMICA!$A1996)","v":0},{"$f":"VALUE(DINAMICA!$B1996)","v":"00:00:00"},{"$f":"VALUE(DINAMICA!$C1996)","v":0},{"$f":"DINAMICA!D1996","v":0},{"$f":"DINAMICA!E1996","v":0},{"$f":"DINAMICA!F1996","v":0},{"$f":"DINAMICA!G1996","v":0},{"$f":"DINAMICA!H1996","v":0},{"$f":"DINAMICA!I1996","v":0},{"$f":"DINAMICA!J1996","v":0},{"$f":"DINAMICA!K1996","v":0},{"$f":"VALUE(DINAMICA!$L1996)","v":0},{"$f":"VALUE(DINAMICA!$M1996)","v":0},{"$f":"VALUE(DINAMICA!$N1996)","v":0},{"$f":"VALUE(DINAMICA!$O1996)","v":0},{"$f":"VALUE(DINAMICA!$P1996)","v":0},{"$f":"VALUE(DINAMICA!$Q1996)","v":0},{"$f":"VALUE(DINAMICA!$R1996)","v":0}]
[{"$f":"VALUE(DINAMICA!$A1997)","v":0},{"$f":"VALUE(DINAMICA!$B1997)","v":"00:00:00"},{"$f":"VALUE(DINAMICA!$C1997)","v":0},{"$f":"DINAMICA!D1997","v":0},{"$f":"DINAMICA!E1997","v":0},{"$f":"DINAMICA!F1997","v":0},{"$f":"DINAMICA!G1997","v":0},{"$f":"DINAMICA!H1997","v":0},{"$f":"DINAMICA!I1997","v":0},{"$f":"DINAMICA!J1997","v":0},{"$f":"DINAMICA!K1997","v":0},{"$f":"VALUE(DINAMICA!$L1997)","v":0},{"$f":"VALUE(DINAMICA!$M1997)","v":0},{"$f":"VALUE(DINAMICA!$N1997)","v":0},{"$f":"VALUE(DINAMICA!$O1997)","v":0},{"$f":"VALUE(DINAMICA!$P1997)","v":0},{"$f":"VALUE(DINAMICA!$Q1997)","v":0},{"$f":"VALUE(DINAMICA!$R1997)","v":0}]
[{"$f":"VALUE(DINAMICA!$A1998)","v":0},{"$f":"VALUE(DINAMICA!$B1998)","v":"00:00:00"},{"$f":"VALUE(DINAMICA!$C1998)","v":0},{"$f":"DINAMICA!D1998","v":0},{"$f":"DINAMICA!E1998","v":0},{"$f":"DINAMICA!F1998","v":0},{"$f":"DINAMICA!G1998","v":0},{"$f":"DINAMICA!H1998","v":0},{"$f":"DINAMICA!I1998","v":0},{"$f":"DINAMICA!J1998","v":0},{"$f":"DINAMICA!K1998","v":0},{"$f":"VALUE(DINAMICA!$L1998)","v":0},{"$f":"VALUE(DINAMICA!$M1998)","v":0},{"$f":"VALUE(DINAMICA!$N1998)","v":0},{"$f":"VALUE(DINAMICA!$O1998)","v":0},{"$f":"VALUE(DINAMICA!$P1998)","v":0},{"$f":"VALUE(DINAMICA!$Q1998)","v":0},{"$f":"VALUE(DINAMICA!$R1998)","v":0}]
[{"$f":"VALUE(DINAMICA!$A1999)","v":0},{"$f":"VALUE(DINAMICA!$B1999)","v":"00:00:00"},{"$f":"VALUE(DINAMICA!$C1999)","v":0},{"$f":"DINAMICA!D1999","v":0},{"$f":"DINAMICA!E1999","v":0},{"$f":"DINAMICA!F1999","v":0},{"$f":"DINAMICA!G1999","v":0},{"$f":"DINAMICA!H1999","v":0},{"$f":"DINAMICA!I1999","v":0},{"$f":"DINAMICA!J1999","v":0},{"$f":"DINAMICA!K1999","v":0},{"$f":"VALUE(DINAMICA!$L1999)","v":0},{"$f":"VALUE(DINAMICA!$M1999)","v":0},{"$f":"VALUE(DINAMICA!$N1999)","v":0},{"$f":"VALUE(DINAMICA!$O1999)","v":0},{"$f":"VALUE(DINAMICA!$P1999)","v":0},{"$f":"VALUE(DINAMICA!$Q1999)","v":0},{"$f":"VALUE(DINAMICA!$R1999)","v":0}]
[{"$f":"VALUE(DINAMICA!$A2000)","v":0},{"$f":"VALUE(DINAMICA!$B2000)","v":"00:00:00"},{"$f":"VALUE(DINAMICA!$C2000)","v":0},{"$f":"DINAMICA!D2000","v":0},{"$f":"DINAMICA!E2000","v":0},{"$f":"DINAMICA!F2000","v":0},{"$f":"DINAMICA!G2000","v":0},{"$f":"DINAMICA!H2000","v":0},{"$f":"DINAMICA!I2000","v":0},{"$f":"DINAMICA!J2000","v":0},{"$f":"DINAMICA!K2000","v":0},{"$f":"VALUE(DINAMICA!$L2000)","v":0},{"$f":"VALUE(DINAMICA!$M2000)","v":0},{"$f":"VALUE(DINAMICA!$N2000)","v":0},{"$f":"VALUE(DINAMICA!$O2000)","v":0},{"$f":"VALUE(DINAMICA!$P2000)","v":0},{"$f":"VALUE(DINAMICA!$Q2000)","v":0},{"$f":"VALUE(DINAMICA!$R2000)","v":0}]

{"sheet":"CLIENT","index":3,"n_rows":19,"n_cols":2,"rows_kept":19,"cut":false,"hidden":false,"merged":[]}
["Telefono","Nombre"]
[543516508773,"marcrodos"]
[13052525555,"ProgramarExcel"]
[345558769997,"Armando Esteban Quito "]
[130587789452,"Hakins Tomy Lee"]
[343585878877,"Alegra Dayra Col"]
[349378469758,"Armando Juan "]
[515846877457,"Marcelo Stuar Mayer"]
[587598469854,"Melisa Dangelo"]
[567895872254,"Chaterin Zoon"]
[557899127751,"Pricila Jhons"]
[130589758741,"Case Ron Davison"]
[595789556584,"Juan Sanchez Murilo"]
[130577447777,"Hicht Tomy"]
[598587578775,"Andreson Col"]
[584125162298,"Heberto Ramos Suarez"]
[584125162298,"Heberto Ramos Cordero"]
[584125162298,"Heberto Ramos Rivas"]
[584125162298,"Heberto Mavarez"]

{"sheet":"GLOBALES","index":4,"n_rows":70,"n_cols":8,"rows_kept":70,"cut":false,"hidden":false,"merged":[]}
[]
[null,null,"CLIENTES ATENDIDOS POR FOTOGRAFOS",70]
[null,"CODIGO","PRODUCTOS","CANT PED","PF","PC","PE","PROMEDIO"]
[null,{"$f":"BASES!A2","v":"A001"},{"$f":"VLOOKUP($B4,BASES[],2,FALSE)","v":"A VOLUNTAD FAMILIAR 0,40"},null,null,null,null,{"$f":"IFERROR(D4/$D$2,\"\")","v":0}]
[null,{"$f":"BASES!A3","v":"A002"},{"$f":"VLOOKUP($B5,BASES[],2,FALSE)","v":"A VOLUNTAD INFANTIL 0,40"},null,null,null,null,{"$f":"IFERROR(D5/$D$2,\"\")","v":0}]
[null,{"$f":"BASES!A4","v":"C001"},{"$f":"VLOOKUP($B6,BASES[],2,FALSE)","v":"impresion COMBO ABC"},null,null,null,null,0]
[null,{"$f":"BASES!A5","v":"C002"},{"$f":"VLOOKUP($B7,BASES[],2,FALSE)","v":"Carnet 8 de Tiempo"},null,null,null,null,0]
[null,{"$f":"BASES!A6","v":"C008"},{"$f":"VLOOKUP($B8,BASES[],2,FALSE)","v":"Visa (6)"},null,null,null,null,0]
[null,{"$f":"BASES!A7","v":"CD01"},{"$f":"VLOOKUP($B9,BASES[],2,FALSE)","v":"Servicio de Grabado de CD"},null,null,null,null,0]
[null,{"$f":"BASES!A8","v":"CD03"},{"$f":"VLOOKUP($B10,BASES[],2,FALSE)","v":"Servicio de Envio de Correo o Watsapp"},null,null,null,null,0]
[null,{"$f":"BASES!A9","v":"D001"},{"$f":"VLOOKUP($B11,BASES[],2,FALSE)","v":"DISEÑO ESPECIAL"},null,null,null,null,0]
[null,{"$f":"BASES!A10","v":"D002"},{"$f":"VLOOKUP($B12,BASES[],2,FALSE)","v":"DIAGRAMACION"},null,null,null,null,0]
[null,{"$f":"BASES!A11","v":"E001"},{"$f":"VLOOKUP($B13,BASES[],2,FALSE)","v":"Servicio Express"},null,null,null,null,0]
[null,{"$f":"BASES!A12","v":"E002"},{"$f":"VLOOKUP($B14,BASES[],2,FALSE)","v":"fotografia adicional promo / SESION / OTRAS"},null,null,null,null,0]
[null,{"$f":"BASES!A13","v":"E003"},{"$f":"VLOOKUP($B15,BASES[],2,FALSE)","v":"Sesion Express Embarazo"},null,null,null,null,0]
[null,{"$f":"BASES!A14","v":"E004"},{"$f":"VLOOKUP($B16,BASES[],2,FALSE)","v":"Promo  del mes AGENDA MAÑANA"},null,null,null,null,0]
[null,{"$f":"BASES!A15","v":"E005"},{"$f":"VLOOKUP($B17,BASES[],2,FALSE)","v":"Promo  del mes AGENDA TARDE"},null,null,null,null,0]
[null,{"$f":"BASES!A16","v":"F001"},{"$f":"VLOOKUP($B18,BASES[],2,FALSE)","v":"Sesion Express"},null,null,null,null,0]
[null,{"$f":"BASES!A17","v":"F002"},{"$f":"VLOOKUP($B19,BASES[],2,FALSE)","v":"Adicional Sesion Express"},null,null,null,null,0]
[null,{"$f":"BASES!A18","v":"F003"},{"$f":"VLOOKUP($B20,BASES[],2,FALSE)","v":"fotografía familiar MAX 3 MODELOS"},null,null,null,null,0]
[null,{"$f":"BASES!A19","v":"F006"},{"$f":"VLOOKUP($B21,BASES[],2,FALSE)","v":"fotografía fashion "},null,null,null,null,0]
[null,{"$f":"BASES!A20","v":"F007"},{"$f":"VLOOKUP($B22,BASES[],2,FALSE)","v":"fotografía fashion ESPECIAL"},null,null,null,null,0]
[null,{"$f":"BASES!A21","v":"F008"},{"$f":"VLOOKUP($B23,BASES[],2,FALSE)","v":"fotografia artista"},null,null,null,null,0]
[null,{"$f":"BASES!A22","v":"F011"},{"$f":"VLOOKUP($B24,BASES[],2,FALSE)","v":"Sesion Express NT"},null,null,null,null,0]
[null,{"$f":"BASES!A23","v":"F020"},{"$f":"VLOOKUP($B25,BASES[],2,FALSE)","v":"FOTOGRAFIA FAMILIAR"},null,null,null,null,0]
[null,{"$f":"BASES!A24","v":"F022"},{"$f":"VLOOKUP($B26,BASES[],2,FALSE)","v":"Adicional Sesion Express NT"},null,null,null,null,0]
[null,{"$f":"BASES!A25","v":"F033"},{"$f":"VLOOKUP($B27,BASES[],2,FALSE)","v":"fotografía familiar NT"},null,null,null,null,0]
[null,{"$f":"BASES!A26","v":"G001"},{"$f":"VLOOKUP($B28,BASES[],2,FALSE)","v":"FOTOGRAFIA GRUPAL HASTA 5 PERSONAS"},null,null,null,null,0]
[null,{"$f":"BASES!A27","v":"G002"},{"$f":"VLOOKUP($B29,BASES[],2,FALSE)","v":"FOTOGRAFIA GRUPAL 6 PERSONAS O MAS"},null,null,null,null,0]
[null,{"$f":"BASES!A28","v":"I001"},{"$f":"VLOOKUP($B30,BASES[],2,FALSE)","v":"Fotografia Infatil Especial"},null,null,null,null,0]
[null,{"$f":"BASES!A29","v":"I002"},{"$f":"VLOOKUP($B31,BASES[],2,FALSE)","v":"COMBO 10 DIGITAL INFANTIL "},null,null,null,null,0]
[null,{"$f":"BASES!A30","v":"I003"},{"$f":"VLOOKUP($B32,BASES[],2,FALSE)","v":"COMBO 10 DIGITAL INFANTIL ESPECIAL"},null,null,null,null,0]
[null,{"$f":"BASES!A31","v":"I004"},{"$f":"VLOOKUP($B33,BASES[],2,FALSE)","v":"FOTO ESPECIAL infantil adicional"},null,null,null,null,0]
[null,{"$f":"BASES!A32","v":"I005"},{"$f":"VLOOKUP($B34,BASES[],2,FALSE)","v":"Foto Infantil Express"},null,null,null,null,0]
[null,{"$f":"BASES!A33","v":"I006"},{"$f":"VLOOKUP($B35,BASES[],2,FALSE)","v":"Fotografia Infantil"},null,null,null,null,0]
[null,{"$f":"BASES!A34","v":"I007"},{"$f":"VLOOKUP($B36,BASES[],2,FALSE)","v":"foto digital infantin adicional"},null,null,null,null,0]
[null,{"$f":"BASES!A35","v":"I008"},{"$f":"VLOOKUP($B37,BASES[],2,FALSE)","v":"Fotografia Infantil DOMINGOS"},null,null,null,null,0]
[null,{"$f":"BASES!A36","v":"I011"},{"$f":"VLOOKUP($B38,BASES[],2,FALSE)","v":"Fotografia Infatil Especial NT"},null,null,null,null,0]
[null,{"$f":"BASES!A37","v":"I012"},{"$f":"VLOOKUP($B39,BASES[],2,FALSE)","v":"Modelo Adicional"},null,null,null,null,0]
[null,{"$f":"BASES!A38","v":"I044"},{"$f":"VLOOKUP($B40,BASES[],2,FALSE)","v":"FOTO ESPECIAL infantil adicional"},null,null,null,null,0]
[null,{"$f":"BASES!A39","v":"I066"},{"$f":"VLOOKUP($B41,BASES[],2,FALSE)","v":"Fotografia Infantil NT"},null,null,null,null,0]
[null,{"$f":"BASES!A40","v":"I077"},{"$f":"VLOOKUP($B42,BASES[],2,FALSE)","v":"Fotografia Infantil adicional NT"},null,null,null,null,0]
[null,{"$f":"BASES!A41","v":"I1015"},{"$f":"VLOOKUP($B43,BASES[],2,FALSE)","v":"impresion 10x15"},null,null,null,null,0]
[null,{"$f":"BASES!A42","v":"I68"},{"$f":"VLOOKUP($B44,BASES[],2,FALSE)","v":"Impresion 6x8"},null,null,null,null,0]
[null,{"$f":"BASES!A43","v":"I810"},{"$f":"VLOOKUP($B45,BASES[],2,FALSE)","v":"Impresion 8x10"},null,null,null,null,0]
[null,{"$f":"BASES!A44","v":"P001"},{"$f":"VLOOKUP($B46,BASES[],2,FALSE)","v":"Pendon en Bastidor 1,20 X 0.80"},null,null,null,null,0]
[null,{"$f":"BASES!A45","v":"P003"},{"$f":"VLOOKUP($B47,BASES[],2,FALSE)","v":"Promo Para Papa"},null,null,null,null,0]
[null,{"$f":"BASES!A46","v":"P004"},{"$f":"VLOOKUP($B48,BASES[],2,FALSE)","v":"Adicional Promo Papa"},null,null,null,null,0]
[null,{"$f":"BASES!A47","v":"P005"},{"$f":"VLOOKUP($B49,BASES[],2,FALSE)","v":"PROMO DEL MES"},null,null,null,null,0]
[null,{"$f":"BASES!A48","v":"P006"},{"$f":"VLOOKUP($B50,BASES[],2,FALSE)","v":"PROMO CUMPLEAÑOS"},null,null,null,null,0]
[null,{"$f":"BASES!A49","v":"P007"},{"$f":"VLOOKUP($B51,BASES[],2,FALSE)","v":"Mi primera Foto"},null,null,null,null,0]
[null,{"$f":"BASES!A50","v":"P008"},{"$f":"VLOOKUP($B52,BASES[],2,FALSE)","v":"Foto Mathias"},null,null,null,null,0]
[null,{"$f":"BASES!A51","v":"P009"},{"$f":"VLOOKUP($B53,BASES[],2,FALSE)","v":"FOTO MATHIAS FAMILIAR"},null,null,null,null,0]
[null,{"$f":"BASES!A52","v":"P013"},{"$f":"VLOOKUP($B54,BASES[],2,FALSE)","v":"PROMO DEL NIÑO"},null,null,null,null,0]
[null,{"$f":"BASES!A53","v":"P015"},{"$f":"VLOOKUP($B55,BASES[],2,FALSE)","v":"Madre Promo"},null,null,null,null,0]
[null,{"$f":"BASES!A54","v":"P055"},{"$f":"VLOOKUP($B56,BASES[],2,FALSE)","v":"PROMO NAVIDAD"},null,null,null,null,0]
[null,{"$f":"BASES!A55","v":"PE04"},{"$f":"VLOOKUP($B57,BASES[],2,FALSE)","v":"PROMO EMBARAZO BAJO LINEA"},null,null,null,null,0]
[null,{"$f":"BASES!A56","v":"PE05"},{"$f":"VLOOKUP($B58,BASES[],2,FALSE)","v":"FOTO CUPON EMBARAZO"},null,null,null,null,0]
[null,{"$f":"BASES!A57","v":"PE06"},{"$f":"VLOOKUP($B59,BASES[],2,FALSE)","v":"ADICIONAL EMBARAZO"},null,null,null,null,0]
[null,{"$f":"BASES!A58","v":"S001"},{"$f":"VLOOKUP($B60,BASES[],2,FALSE)","v":"S. Embarazo + Fotoregalo de los 15 d"},null,null,null,null,0]
[null,{"$f":"BASES!A59","v":"S002"},{"$f":"VLOOKUP($B61,BASES[],2,FALSE)","v":"S. Especial 10 solo digitales"},null,null,null,null,0]
[null,{"$f":"BASES!A60","v":"S003"},{"$f":"VLOOKUP($B62,BASES[],2,FALSE)","v":"Digital Adicional Sesiones"},null,null,null,null,0]
[null,{"$f":"BASES!A61","v":"S004"},{"$f":"VLOOKUP($B63,BASES[],2,FALSE)","v":"Combo Digital Adic.Inf. (10)"},null,null,null,null,0]
[null,{"$f":"BASES!A62","v":"S005"},{"$f":"VLOOKUP($B64,BASES[],2,FALSE)","v":"SOCIAL  HASTA 30 FOTOS"},null,null,null,null,0]
[null,{"$f":"BASES!A63","v":"S011"},{"$f":"VLOOKUP($B65,BASES[],2,FALSE)","v":"S. Embarazo + Fotoregalo de los 15d"},null,null,null,null,0]
[null,{"$f":"BASES!A64","v":"S022"},{"$f":"VLOOKUP($B66,BASES[],2,FALSE)","v":"S. Especial 10 solo digitales "},null,null,null,null,0]
[null,{"$f":"BASES!A65","v":"S033"},{"$f":"VLOOKUP($B67,BASES[],2,FALSE)","v":"Digital Adicional Sesiones"},null,null,null,null,0]
[null,{"$f":"BASES!A66","v":"S044"},{"$f":"VLOOKUP($B68,BASES[],2,FALSE)","v":"Combo Digital Adic.Inf. (10)"},null,null,null,null,0]
[null,{"$f":"BASES!A67","v":"SE01"},{"$f":"VLOOKUP($B69,BASES[],2,FALSE)","v":"Fotografia sin Edicion"},null,null,null,null,{"$f":"IFERROR(D69/$D$2,\"\")","v":0}]
[null,null,"TOTALES:",{"$f":"SUM(D4:D69)","v":0},{"$f":"SUM(E4:E69)","v":0},{"$f":"SUM(F4:F69)","v":0},{"$f":"SUM(G4:G69)","v":0},{"$f":"D2","v":70}]

{"sheet":"PROD X FOTOGRAFOS","index":5,"n_rows":0,"n_cols":0,"rows_kept":0,"cut":false,"hidden":false,"merged":[]}

{"sheet":"PRODUCCION EDITORES","index":6,"n_rows":0,"n_cols":0,"rows_kept":0,"cut":false,"hidden":false,"merged":[]}

{"sheet":"PRODUCCION CTRL","index":7,"n_rows":0,"n_cols":0,"rows_kept":0,"cut":false,"hidden":false,"merged":[]}

{"sheet":"BASE COMERCIAL","index":8,"n_rows":25,"n_cols":9,"rows_kept":25,"cut":false,"hidden":false,"merged":[[2,1,2,6]]}
[]
[]
[null,"BASE DE PRODUCCION Y COMERCIAL "]
[null,null,null,"DESDE:",null,"HASTA:"]
[]
[null,"FOTOGRAFOS","PF","PE","PC","A VLT","CTRL","CLIENTES","TOTAL PROD"]
[null,"BRANDON VIVAS",23.5,null,1,26400000,null,16,23.5]
[null,"YILMER UMBRIA",0,0,0,0,null,0,0]
[null,"JOHAN RANGEL",34,14,0,43000000,null,18,48]
[null,"JOSE PETERSON",3,null,null,0,null,0,0]
[null,"DANNIELIZ LOZADA",30.5,0,null,10200000,null,14,30.5]
[null,"YAGER P",35.5,0,null,13200000,null,20,35.5]
[null,"JONATHAN VIVAS",null,41.5,null,null,null,0,41.5]
[null,"BRENDA MENDOZA",null,16.5,null,null,null,13,16.5]
[null,"ETNI ESPINOZA",null,0,null,null,null,0,0]
[null,"EDREITH VIVAS",null,0,null,null,null,0,0]
[null,"NAHOMI VIVAS",null,0,0,null,null,null,0]
[null,"JEAN PIERRE BAUTISTA",null,22,null,null,null,9,22]
[null,"LUIS MONTIEL",null,20,null,null,47,8,20]
[null,"RUTH VIVAS",null,null,0,null,48,null,0]
[null,"DOURISMAR DIAZ",null,null,1]
[null,"YENNYS CASTILLO",null,null,0]
[null,"ALBANIS CARRILLO",null,null,0]
[null,"ESLI HERNANDEZ",null,null,0]
[null,null,{"$f":"SUM(C7:C24)","v":126.5},{"$f":"SUM(D7:D24)","v":114},{"$f":"SUM(E7:E24)","v":2},{"$f":"SUM(F7:F24)","v":92800000},{"$f":"SUM(G7:G24)","v":95},79]

{"sheet":"LIST","index":9,"n_rows":20,"n_cols":5,"rows_kept":20,"cut":false,"hidden":false,"merged":[]}
[]
[]
[]
[null,"FOTOGRAFOS","EDITORES","COMERCIALIZADORES","CTRL"]
[null,"BRANDON VIVAS","BRENDA MENDOZA","ALBANIS CARRILLO","LUIS MONTIEL"]
[null,"DANNIELIZ LOZADA","EDREITH VIVAS","BRANDON VIVAS","RUTH VIVAS"]
[null,"JOHAN RANGEL","ETNI ESPINOZA","BRENDA MENDOZA"]
[null,"ROGER TORRES","JEAN PIERRE BAUTISTA","DANISMAR LOZADA"]
[null,"YAGER PARRA","JONATHAN VIVAS","DANNIELIZ LOZADA"]
[null,null,"LUIS MONTIEL","EDREITH VIVAS"]
[null,null,"NAHOMI VIVAS","ETNI ESPINOZA"]
[null,null,null,"JEAN PIERRE BAUTISTA"]
[null,null,null,"JOHAN RANGEL"]
[null,null,null,"JONATHAN VIVAS"]
[null,null,null,"LUIS MONTIEL"]
[null,null,null,"NAHOMI VIVAS"]
[null,null,null,"ROGER TORRES"]
[null,null,null,"RUTH VIVAS"]
[null,null,null,"YAGER PARRA"]
[null,null,null,"YENNYS CASTILLO"]