{"text_format":"1","workbook":"xlsx","n_sheets":4,"sheets":["Hoja1","Hoja2","Hoja3","BASE DE DATOS"],"not_rendered":{"charts":0,"images":0,"macros":1,"external_links":0,"defined_names":3,"comments":0,"pivot_tables":0},"unopened":[],"bounds":{"document_bytes":16777216,"sheet_cells":100000,"rows_first":2000,"rows_last":500,"rows_between":2000,"halvings":0,"cell_chars":16384,"cell_head_chars":4096},"cells_cut":0,"cells_raw":0,"read":"whole","date_system":"1900"}

{"sheet":"Hoja1","index":0,"n_rows":12,"n_cols":4,"rows_kept":12,"cut":false,"hidden":false,"merged":[]}
[]
[]
["PSC","LBRO","HOJA","Nº"]
["PSC","LBRO","HOJA","Nº"]
[]
[1,"LUIS","CASA",20]
[1,"LUIS","PISO",3]
[1,"PEDRO","CASA",2]
[1,"JUAN","CASA",8]
[1,"LUIS","CASA",9]
[1,"ANTONIO","CASA",1]
[1,"LUIS","PATIO",3]

{"sheet":"Hoja2","index":1,"n_rows":11,"n_cols":4,"rows_kept":11,"cut":false,"hidden":false,"merged":[]}
[]
[]
["PSC","LBRO","HOJA","Nº"]
["PSC","LBRO","HOJA","Nº"]
[]
[2,"LUIS","PISO",3]
[2,"LUIS","PISO",6]
[2,"PEDRO","CASA",7]
[2,"LUIS","CASA",9]
[2,"PEDRO","CASA",5]
[2,"LUIS","PATIO",11]

{"sheet":"Hoja3","index":2,"n_rows":11,"n_cols":4,"rows_kept":11,"cut":false,"hidden":false,"merged":[]}
[]
[]
["PSC","LBRO","HOJA","Nº"]
["PSC","LBRO","HOJA","Nº"]
[]
[3,"LUIS","PISO",6]
[3,"PEDRO","CASA",7]
[3,"LUIS","PISO",3]
[3,"PEDRO","CASA",5]
[3,"LUIS","PATIO",11]
[3,"LUIS","CASA",20]

{"sheet":"BASE DE DATOS","index":3,"n_rows":27,"n_cols":15,"rows_kept":27,"cut":false,"hidden":false,"merged":[]}
[null,null,null,null,null,null,null,null,"FORMULA"]
[null,null,null,null,null,null,"CRITERIO",4,{"$f":"I5>=LARGE($I$5:$I$23,$H$2)","v":false}]
[]
["ACT","LBRO","HOJA","Nº","2016/17","2017/18","SUMA TOTAL","COINCIDENCIAS","CONTAR COINCIDENCIAS","ORDEN MAYOR ACIERTO","Nº COLOR","COLOR"]
[{"$f":"Hoja1!A6","v":1},{"$f":"Hoja1!B6","v":"LUIS"},{"$f":"Hoja1!C6","v":"CASA"},{"$f":"Hoja1!D6","v":20},1,3,6,2,{"$f":"IF(B5=0,0,COUNTIFS($B$6:$B$497,B5,$C$6:$C$497,C5,$D$6:$D$497,D5))","v":1},{"$f":"RANK(G5,$G$5:$G$999)","v":19},16777215,{"$f":"IF(K5=$N$15,$O$15,IF(K5=$N$16,$O$16,IF(K5=$N$17,$O$17,IF(K5=$N$18,$O$18,IF(K5=$N$19,$O$19,IF(K5=$N$20,$O$20,IF(K5=$N$21,$O$21,0)))))))","v":"BLANCO"}]
[{"$f":"Hoja1!A7","v":1},{"$f":"Hoja1!B7","v":"LUIS"},{"$f":"Hoja1!C7","v":"PISO"},{"$f":"Hoja1!D7","v":3},8,5,13,2,3,4,16777215,{"$f":"IF(K6=$N$15,$O$15,IF(K6=$N$16,$O$16,IF(K6=$N$17,$O$17,IF(K6=$N$18,$O$18,IF(K6=$N$19,$O$19,IF(K6=$N$20,$O$20,IF(K6=$N$21,$O$21,0)))))))","v":"BLANCO"}]
[{"$f":"Hoja1!A8","v":1},{"$f":"Hoja1!B8","v":"PEDRO"},{"$f":"Hoja1!C8","v":"CASA"},{"$f":"Hoja1!D8","v":2},7,7,14,2,1,1,16777215,"BLANCO"]
[{"$f":"Hoja1!A9","v":1},{"$f":"Hoja1!B9","v":"JUAN"},{"$f":"Hoja1!C9","v":"CASA"},{"$f":"Hoja1!D9","v":8},8,5,13,2,1,4,16777215,"BLANCO"]
[{"$f":"Hoja1!A10","v":1},{"$f":"Hoja1!B10","v":"LUIS"},{"$f":"Hoja1!C10","v":"CASA"},{"$f":"Hoja1!D10","v":9},8,5,13,2,2,4,16777215,"BLANCO"]
[{"$f":"Hoja1!A11","v":1},{"$f":"Hoja1!B11","v":"ANTONIO"},{"$f":"Hoja1!C11","v":"CASA"},{"$f":"Hoja1!D11","v":1},7,6,13,2,1,4,16777215,"BLANCO"]
[{"$f":"Hoja1!A12","v":1},{"$f":"Hoja1!B12","v":"LUIS"},{"$f":"Hoja1!C12","v":"PATIO"},{"$f":"Hoja1!D12","v":3},8,6,14,2,1,1,16777215,"BLANCO"]
[{"$f":"Hoja2!A6","v":2},{"$f":"Hoja2!B6","v":"LUIS"},{"$f":"Hoja2!C6","v":"PISO"},{"$f":"Hoja2!D6","v":3},8,6,14,2,3,1,15773696,"AZUL"]
[{"$f":"Hoja2!A7","v":2},{"$f":"Hoja2!B7","v":"LUIS"},{"$f":"Hoja2!C7","v":"PISO"},{"$f":"Hoja2!D7","v":6},7,5,12,2,2,11,15773696,"AZUL"]
[{"$f":"Hoja2!A8","v":2},{"$f":"Hoja2!B8","v":"PEDRO"},{"$f":"Hoja2!C8","v":"CASA"},{"$f":"Hoja2!D8","v":7},5,7,12,2,2,11,15773696,"AZUL"]
[{"$f":"Hoja2!A9","v":2},{"$f":"Hoja2!B9","v":"LUIS"},{"$f":"Hoja2!C9","v":"CASA"},{"$f":"Hoja2!D9","v":9},7,6,13,2,2,4,16777215,"BLANCO",null,16777215,"BLANCO"]
[{"$f":"Hoja2!A10","v":2},{"$f":"Hoja2!B10","v":"PEDRO"},{"$f":"Hoja2!C10","v":"CASA"},{"$f":"Hoja2!D10","v":5},8,5,13,2,2,4,15773696,"AZUL",null,49407,"NARANJA"]
[{"$f":"Hoja2!A11","v":2},{"$f":"Hoja2!B11","v":"LUIS"},{"$f":"Hoja2!C11","v":"PATIO"},{"$f":"Hoja2!D11","v":11},8,4,12,2,2,11,15773696,"AZUL",null,65535,"AMARILLO"]
[{"$f":"Hoja3!A6","v":3},{"$f":"Hoja3!B6","v":"LUIS"},{"$f":"Hoja3!C6","v":"PISO"},{"$f":"Hoja3!D6","v":6},7,4,11,2,2,18,16751103,"ROSA",null,5296274,"VERDE"]
[{"$f":"Hoja3!A7","v":3},{"$f":"Hoja3!B7","v":"PEDRO"},{"$f":"Hoja3!C7","v":"CASA"},{"$f":"Hoja3!D7","v":7},6,7,13,2,2,4,16751103,"ROSA",null,15773696,"AZUL"]
[{"$f":"Hoja3!A8","v":3},{"$f":"Hoja3!B8","v":"LUIS"},{"$f":"Hoja3!C8","v":"PISO"},{"$f":"Hoja3!D8","v":3},5,7,12,2,3,11,16777215,"BLANCO",null,9420794,"CALDERO"]
[{"$f":"Hoja3!A9","v":3},{"$f":"Hoja3!B9","v":"PEDRO"},{"$f":"Hoja3!C9","v":"CASA"},{"$f":"Hoja3!D9","v":5},5,7,12,2,2,11,16751103,"ROSA",null,16751103,"ROSA"]
[{"$f":"Hoja3!A10","v":3},{"$f":"Hoja3!B10","v":"LUIS"},{"$f":"Hoja3!C10","v":"PATIO"},{"$f":"Hoja3!D10","v":11},5,7,12,2,2,11,16751103,"ROSA"]
[{"$f":"Hoja3!A11","v":3},{"$f":"Hoja3!B11","v":"LUIS"},{"$f":"Hoja3!C11","v":"CASA"},{"$f":"Hoja3!D11","v":20},5,7,12,2,{"$f":"IF(B23=0,0,COUNTIFS($B$6:$B$497,B23,$C$6:$C$497,C23,$D$6:$D$497,D23))","v":1},{"$f":"RANK(G23,$G$5:$G$999)","v":11},16777215,"BLANCO"]
[]
[]
[]
[null,null,null,null,null,null,null,null,null,null,"https://www.youtube.com/watch?v=21Qhsxd3MxU"]