{"text_format":"1","workbook":"xlsx","n_sheets":3,"sheets":["CONTROL VEHICULOS 2018","DATOS PARA LISTAS DE MENU","REFERENCIAS MAS PEDIDAS"],"not_rendered":{"charts":0,"images":1,"macros":1,"external_links":0,"defined_names":0,"comments":0,"pivot_tables":1},"unopened":[],"bounds":{"document_bytes":16777216,"sheet_cells":100000,"rows_first":2000,"rows_last":500,"rows_between":2000,"halvings":0,"cell_chars":16384,"cell_head_chars":4096},"cells_cut":0,"cells_raw":0,"read":"whole","date_system":"1900"}

{"sheet":"CONTROL VEHICULOS 2018","index":0,"n_rows":45,"n_cols":80,"rows_kept":45,"cut":false,"hidden":false,"merged":[[4,7,15,7],[0,60,15,60],[0,65,15,65],[0,70,15,70],[0,75,15,75],[0,80,15,80],[3,61,3,64],[3,66,3,69],[3,71,3,74],[3,76,3,79],[0,76,0,79],[1,76,2,76],[1,77,1,79],[1,66,2,66],[0,66,0,69],[1,67,1,69],[1,71,2,71],[0,71,0,74],[1,72,1,74],[1,61,2,61],[0,61,0,64],[1,62,1,64],[0,35,15,35],[0,40,15,40],[16,12,16,34],[1,51,2,51],[0,56,0,59],[1,57,1,59],[1,56,2,56],[0,16,0,18],[0,20,0,22],[0,45,15,45],[0,50,15,50],[0,55,15,55],[3,46,3,49],[3,51,3,54],[3,56,3,59],[1,13,2,14],[1,17,2,18],[1,16,2,16],[1,20,2,20],[1,21,2,22],[4,12,4,14],[9,12,9,14],[11,16,15,16],[9,20,9,22],[4,24,4,26],[6,25,8,25],[4,3,15,3],[4,5,15,5],[16,0,16,10],[4,9,15,9],[0,11,15,11],[0,12,0,14],[1,12,2,12],[6,12,8,12],[6,13,8,13],[6,14,8,14],[11,12,15,12],[11,13,15,13],[11,14,15,14],[3,12,3,34],[6,33,8,33],[6,34,8,34],[9,24,9,26],[9,28,9,30],[9,32,9,34],[11,24,15,24],[11,17,15,17],[11,18,15,18],[4,15,15,15],[4,16,4,18],[6,26,8,26],[6,28,8,28],[6,29,8,29],[6,30,8,30],[6,32,8,32],[11,25,15,25],[6,16,8,16],[6,17,8,17],[6,18,8,18],[9,16,9,18],[6,24,8,24],[11,20,15,20],[11,21,15,21],[11,22,15,22],[4,19,15,19],[4,23,15,23],[4,20,4,22],[6,20,8,20],[6,21,8,21],[6,22,8,22],[0,51,0,54],[1,52,1,54],[11,33,15,33],[11,34,15,34],[4,27,15,27],[4,28,4,30],[4,31,15,31],[4,32,4,34],[11,26,15,26],[3,36,3,39],[3,41,3,44],[1,46,2,46],[1,47,1,49],[0,46,0,49],[0,41,0,44],[1,41,2,41],[1,42,1,44],[0,36,0,39],[1,37,1,39],[1,36,2,36],[11,28,15,28],[11,29,15,29],[11,30,15,30],[11,32,15,32]]}
[null,null,null,null,null,null,null,null,null,null,"Promedio Anual Estimado",null,"GASTO ANUAL MANTENIMIENTO",null,null,null,"GASTO ANUAL GASOIL TALLER",null,null,null,"GASTO ANUAL GASOIL EXTERNO",null,null,null,null,null,null,null,null,null,null,null,null,null,null,null,"GASTO MENSUAL FURGONETA",null,null,null,null,"GASTO MENSUAL FURGONETA",null,null,null,null,"GASTO MENSUAL FURGONETA",null,null,null,null,"GASTO MENSUAL TURISMO (ROJO)",null,null,null,null,"GASTO MENSUAL TURISMO (MERCEDES)",null,null,null,null,"GASTO MENSUAL TURISMO (BLANCO)",null,null,null,null,"GASTO MENSUAL TURISMO (BMW)",null,null,null,null,"GASTO MENSUAL TURISMO (OPEL)",null,null,null,null,"GASTO MENSUAL TURISMO (PEUGEOT)"]
[null,null,null,null,null,null,null,null,null,null,"PRECIO LITRO GASOIL",null,"TOTAL",{"$f":"M7+M12+Q7+Q12+U7+U12+Y7+Y12+AC7+AC12+AG7+AG12","v":1174.1300000000001},null,null,"TOTAL",{"$f":"N7+N12+R7+R12+V7+V12+Z7+Z12+AD7+AD12+AH7+AH12","v":295.92000000000007},null,null,"TOTAL",{"$f":"O7+O12+S7+S12+W7+W12+AA7+AA12+AE7+AE12+AI7+AI12","v":418},null,null,null,null,null,null,null,null,null,null,null,null,null,null,{"$f":"'DATOS PARA LISTAS DE MENU'!C4","v":"9069 GZH"},{"$f":"'DATOS PARA LISTAS DE MENU'!A4","v":"T1"},null,null,null,{"$f":"'DATOS PARA LISTAS DE MENU'!C5","v":"8343 HLJ"},{"$f":"'DATOS PARA LISTAS DE MENU'!A5","v":"T2"},null,null,null,{"$f":"'DATOS PARA LISTAS DE MENU'!C6","v":"5485 DFJ"},{"$f":"'DATOS PARA LISTAS DE MENU'!A6","v":"T3"},null,null,null,{"$f":"'DATOS PARA LISTAS DE MENU'!C7","v":"8661 FPY"},{"$f":"'DATOS PARA LISTAS DE MENU'!A7","v":"T4"},null,null,null,{"$f":"'DATOS PARA LISTAS DE MENU'!C8","v":"5343 HZY"},{"$f":"'DATOS PARA LISTAS DE MENU'!A8","v":"T1"},null,null,null,{"$f":"'DATOS PARA LISTAS DE MENU'!C9","v":"8518 HYY"},{"$f":"'DATOS PARA LISTAS DE MENU'!A9","v":"T2"},null,null,null,{"$f":"'DATOS PARA LISTAS DE MENU'!C10","v":"8146 DCG"},{"$f":"'DATOS PARA LISTAS DE MENU'!A10","v":"T3"},null,null,null,{"$f":"'DATOS PARA LISTAS DE MENU'!C11","v":"6189 GRV"},{"$f":"'DATOS PARA LISTAS DE MENU'!A11","v":"T4"},null,null,null,{"$f":"'DATOS PARA LISTAS DE MENU'!C12","v":"0035 DNY"},{"$f":"'DATOS PARA LISTAS DE MENU'!A12","v":"T1"}]
[null,null,null,null,null,null,null,null,null,null,{"$f":"AVERAGE('DATOS PARA LISTAS DE MENU'!I4:I12)","v":1.08},null,null,null,null,null,null,null,null,null,null,null,null,null,null,null,null,null,null,null,null,null,null,null,null,null,null,"Mantenimiento","Gasoil Taller","Gasoil Externo",null,null,"Mantenimiento","Gasoil Taller","Gasoil Externo",null,null,"Mantenimiento","Gasoil Taller","Gasoil Externo",null,null,"Mantenimiento","Gasoil Taller","Gasoil Externo",null,null,"Mantenimiento","Gasoil Taller","Gasoil Externo",null,null,"Mantenimiento","Gasoil Taller","Gasoil Externo",null,null,"Mantenimiento","Gasoil Taller","Gasoil Externo",null,null,"Mantenimiento","Gasoil Taller","Gasoil Externo",null,null,"Mantenimiento","Gasoil Taller","Gasoil Externo"]
[]
[{"$f":"'DATOS PARA LISTAS DE MENU'!B4","v":"FURGONETA"},{"$f":"'DATOS PARA LISTAS DE MENU'!C4","v":"9069 GZH"},{"$f":"'DATOS PARA LISTAS DE MENU'!A4","v":"T1"},"Gasto TOTAL Mantenimiento",{"$f":"SUMIF(Tabla1[MATRICULA],B5,Tabla1[€/SERVICIO])","v":0},"Gasto TOTAL Gasoil TALLER",{"$f":"SUMIFS(Tabla1[€/GASOIL],Tabla1[MATRICULA],B5,Tabla1[DESCRIPCIÓN DEL SERVICIO],\"Repostar GASOIL / TALLER\")","v":43.2},"Gasto TOTAL Gasoil EXTERNO",{"$f":"SUMIFS(Tabla1[€/GASOIL],Tabla1[MATRICULA],B5,Tabla1[DESCRIPCIÓN DEL SERVICIO],\"Repostar GASOIL / Externo\")","v":0},null,null,null,"Gasto ENERO",null,null,null,"Gasto MARZO",null,null,null,"Gasto MAYO",null,null,null,"Gasto JULIO",null,null,null,"Gasto SEPTIEMBRE",null,null,null,"Gasto NOVIEMBRE",null,null,null,"Enero",{"$f":"SUMIFS(Tabla1[€/SERVICIO],Tabla1[13/06/2018],\">=01/01/2018\",Tabla1[13/06/2018],\"<=31/01/2018\",Tabla1[MATRICULA],B5)","v":0},{"$f":"SUMIFS(Tabla1[€/GASOIL],Tabla1[13/06/2018],\">=01/01/2018\",Tabla1[13/06/2018],\"<=31/01/2018\",Tabla1[DESCRIPCIÓN DEL SERVICIO],\"Repostar GASOIL / TALLER\",Tabla1[MATRICULA],B5)","v":0},{"$f":"SUMIFS(Tabla1[€/GASOIL],Tabla1[13/06/2018],\">=01/01/2018\",Tabla1[13/06/2018],\"<=31/01/2018\",Tabla1[DESCRIPCIÓN DEL SERVICIO],\"Repostar GASOIL / Externo\",Tabla1[MATRICULA],B5)","v":0},null,"Enero",{"$f":"SUMIFS(Tabla1[€/SERVICIO],Tabla1[13/06/2018],\">=01/01/2018\",Tabla1[13/06/2018],\"<=31/01/2018\",Tabla1[MATRICULA],B6)","v":0},{"$f":"SUMIFS(Tabla1[€/GASOIL],Tabla1[13/06/2018],\">=01/01/2018\",Tabla1[13/06/2018],\"<=31/01/2018\",Tabla1[DESCRIPCIÓN DEL SERVICIO],\"Repostar GASOIL / TALLER\",Tabla1[MATRICULA],B6)","v":0},{"$f":"SUMIFS(Tabla1[€/GASOIL],Tabla1[13/06/2018],\">=01/01/2018\",Tabla1[13/06/2018],\"<=31/01/2018\",Tabla1[DESCRIPCIÓN DEL SERVICIO],\"Repostar GASOIL / Externo\",Tabla1[MATRICULA],B6)","v":0},null,"Enero",{"$f":"SUMIFS(Tabla1[€/SERVICIO],Tabla1[13/06/2018],\">=01/01/2018\",Tabla1[13/06/2018],\"<=31/01/2018\",Tabla1[MATRICULA],B7)","v":0},{"$f":"SUMIFS(Tabla1[€/GASOIL],Tabla1[13/06/2018],\">=01/01/2018\",Tabla1[13/06/2018],\"<=31/01/2018\",Tabla1[DESCRIPCIÓN DEL SERVICIO],\"Repostar GASOIL / TALLER\",Tabla1[MATRICULA],B7)","v":0},{"$f":"SUMIFS(Tabla1[€/GASOIL],Tabla1[13/06/2018],\">=01/01/2018\",Tabla1[13/06/2018],\"<=31/01/2018\",Tabla1[DESCRIPCIÓN DEL SERVICIO],\"Repostar GASOIL / Externo\",Tabla1[MATRICULA],B7)","v":0},null,"Enero",{"$f":"SUMIFS(Tabla1[€/SERVICIO],Tabla1[13/06/2018],\">=01/01/2018\",Tabla1[13/06/2018],\"<=31/01/2018\",Tabla1[MATRICULA],B8)","v":421.89},{"$f":"SUMIFS(Tabla1[€/GASOIL],Tabla1[13/06/2018],\">=01/01/2018\",Tabla1[13/06/2018],\"<=31/01/2018\",Tabla1[DESCRIPCIÓN DEL SERVICIO],\"Repostar GASOIL / TALLER\",Tabla1[MATRICULA],B8)","v":0},{"$f":"SUMIFS(Tabla1[€/GASOIL],Tabla1[13/06/2018],\">=01/01/2018\",Tabla1[13/06/2018],\"<=31/01/2018\",Tabla1[DESCRIPCIÓN DEL SERVICIO],\"Repostar GASOIL / Externo\",Tabla1[MATRICULA],B8)","v":34},null,"Enero",{"$f":"SUMIFS(Tabla1[€/SERVICIO],Tabla1[13/06/2018],\">=01/01/2018\",Tabla1[13/06/2018],\"<=31/01/2018\",Tabla1[MATRICULA],B9)","v":0},{"$f":"SUMIFS(Tabla1[€/GASOIL],Tabla1[13/06/2018],\">=01/01/2018\",Tabla1[13/06/2018],\"<=31/01/2018\",Tabla1[DESCRIPCIÓN DEL SERVICIO],\"Repostar GASOIL / TALLER\",Tabla1[MATRICULA],B9)","v":0},{"$f":"SUMIFS(Tabla1[€/GASOIL],Tabla1[13/06/2018],\">=01/01/2018\",Tabla1[13/06/2018],\"<=31/01/2018\",Tabla1[DESCRIPCIÓN DEL SERVICIO],\"Repostar GASOIL / Externo\",Tabla1[MATRICULA],B9)","v":0},null,"Enero",{"$f":"SUMIFS(Tabla1[€/SERVICIO],Tabla1[13/06/2018],\">=01/01/2018\",Tabla1[13/06/2018],\"<=31/01/2018\",Tabla1[MATRICULA],B10)","v":0},{"$f":"SUMIFS(Tabla1[€/GASOIL],Tabla1[13/06/2018],\">=01/01/2018\",Tabla1[13/06/2018],\"<=31/01/2018\",Tabla1[DESCRIPCIÓN DEL SERVICIO],\"Repostar GASOIL / TALLER\",Tabla1[MATRICULA],B10)","v":0},{"$f":"SUMIFS(Tabla1[€/GASOIL],Tabla1[13/06/2018],\">=01/01/2018\",Tabla1[13/06/2018],\"<=31/01/2018\",Tabla1[DESCRIPCIÓN DEL SERVICIO],\"Repostar GASOIL / Externo\",Tabla1[MATRICULA],B10)","v":0},null,"Enero",{"$f":"SUMIFS(Tabla1[€/SERVICIO],Tabla1[13/06/2018],\">=01/01/2018\",Tabla1[13/06/2018],\"<=31/01/2018\",Tabla1[MATRICULA],B11)","v":0},{"$f":"SUMIFS(Tabla1[€/GASOIL],Tabla1[13/06/2018],\">=01/01/2018\",Tabla1[13/06/2018],\"<=31/01/2018\",Tabla1[DESCRIPCIÓN DEL SERVICIO],\"Repostar GASOIL / TALLER\",Tabla1[MATRICULA],B11)","v":0},{"$f":"SUMIFS(Tabla1[€/GASOIL],Tabla1[13/06/2018],\">=01/01/2018\",Tabla1[13/06/2018],\"<=31/01/2018\",Tabla1[DESCRIPCIÓN DEL SERVICIO],\"Repostar GASOIL / Externo\",Tabla1[MATRICULA],B11)","v":0},null,"Enero",{"$f":"SUMIFS(Tabla1[€/SERVICIO],Tabla1[13/06/2018],\">=01/01/2018\",Tabla1[13/06/2018],\"<=31/01/2018\",Tabla1[MATRICULA],B12)","v":0},{"$f":"SUMIFS(Tabla1[€/GASOIL],Tabla1[13/06/2018],\">=01/01/2018\",Tabla1[13/06/2018],\"<=31/01/2018\",Tabla1[DESCRIPCIÓN DEL SERVICIO],\"Repostar GASOIL / TALLER\",Tabla1[MATRICULA],B12)","v":0},{"$f":"SUMIFS(Tabla1[€/GASOIL],Tabla1[13/06/2018],\">=01/01/2018\",Tabla1[13/06/2018],\"<=31/01/2018\",Tabla1[DESCRIPCIÓN DEL SERVICIO],\"Repostar GASOIL / Externo\",Tabla1[MATRICULA],B12)","v":0},null,"Enero",{"$f":"SUMIFS(Tabla1[€/SERVICIO],Tabla1[13/06/2018],\">=01/01/2018\",Tabla1[13/06/2018],\"<=31/01/2018\",Tabla1[MATRICULA],B13)","v":0},{"$f":"SUMIFS(Tabla1[€/GASOIL],Tabla1[13/06/2018],\">=01/01/2018\",Tabla1[13/06/2018],\"<=31/01/2018\",Tabla1[DESCRIPCIÓN DEL SERVICIO],\"Repostar GASOIL / TALLER\",Tabla1[MATRICULA],B13)","v":0},{"$f":"SUMIFS(Tabla1[€/GASOIL],Tabla1[13/06/2018],\">=01/01/2018\",Tabla1[13/06/2018],\"<=31/01/2018\",Tabla1[DESCRIPCIÓN DEL SERVICIO],\"Repostar GASOIL / Externo\",Tabla1[MATRICULA],B13)","v":0}]
[{"$f":"'DATOS PARA LISTAS DE MENU'!B5","v":"FURGONETA"},{"$f":"'DATOS PARA LISTAS DE MENU'!C5","v":"8343 HLJ"},{"$f":"'DATOS PARA LISTAS DE MENU'!A5","v":"T2"},null,{"$f":"SUMIF(Tabla1[MATRICULA],B6,Tabla1[€/SERVICIO])","v":0},null,{"$f":"SUMIFS(Tabla1[€/GASOIL],Tabla1[MATRICULA],B6,Tabla1[DESCRIPCIÓN DEL SERVICIO],\"Repostar GASOIL / TALLER\")","v":71.28},null,{"$f":"SUMIFS(Tabla1[€/GASOIL],Tabla1[MATRICULA],B6,Tabla1[DESCRIPCIÓN DEL SERVICIO],\"Repostar GASOIL / Externo\")","v":0},null,null,null,"Mantenimiento","Gasoil Taller","Gasoil Externo",null,"Mantenimiento","Gasoil Taller","Gasoil Externo",null,"Mantenimiento","Gasoil Taller","Gasoil Externo",null,"Mantenimiento","Gasoil Taller","Gasoil Externo",null,"Mantenimiento","Gasoil Taller","Gasoil Externo",null,"Mantenimiento","Gasoil Taller","Gasoil Externo",null,"Febrero",{"$f":"SUMIFS(Tabla1[€/SERVICIO],Tabla1[13/06/2018],\">=01/02/2018\",Tabla1[13/06/2018],\"<=28/02/2018\",Tabla1[MATRICULA],B5)","v":0},{"$f":"SUMIFS(Tabla1[€/GASOIL],Tabla1[13/06/2018],\">=01/02/2018\",Tabla1[13/06/2018],\"<=28/02/2018\",Tabla1[DESCRIPCIÓN DEL SERVICIO],\"Repostar GASOIL / TALLER\",Tabla1[MATRICULA],B5)","v":0},{"$f":"SUMIFS(Tabla1[€/GASOIL],Tabla1[13/06/2018],\">=01/02/2018\",Tabla1[13/06/2018],\"<=28/02/2018\",Tabla1[DESCRIPCIÓN DEL SERVICIO],\"Repostar GASOIL / Externo\",Tabla1[MATRICULA],B5)","v":0},null,"Febrero",{"$f":"SUMIFS(Tabla1[€/SERVICIO],Tabla1[13/06/2018],\">=01/02/2018\",Tabla1[13/06/2018],\"<=28/02/2018\",Tabla1[MATRICULA],B6)","v":0},{"$f":"SUMIFS(Tabla1[€/GASOIL],Tabla1[13/06/2018],\">=01/02/2018\",Tabla1[13/06/2018],\"<=28/02/2018\",Tabla1[DESCRIPCIÓN DEL SERVICIO],\"Repostar GASOIL / TALLER\",Tabla1[MATRICULA],B6)","v":0},{"$f":"SUMIFS(Tabla1[€/GASOIL],Tabla1[13/06/2018],\">=01/02/2018\",Tabla1[13/06/2018],\"<=28/02/2018\",Tabla1[DESCRIPCIÓN DEL SERVICIO],\"Repostar GASOIL / Externo\",Tabla1[MATRICULA],B6)","v":0},null,"Febrero",{"$f":"SUMIFS(Tabla1[€/SERVICIO],Tabla1[13/06/2018],\">=01/02/2018\",Tabla1[13/06/2018],\"<=28/02/2018\",Tabla1[MATRICULA],B7)","v":0},{"$f":"SUMIFS(Tabla1[€/GASOIL],Tabla1[13/06/2018],\">=01/02/2018\",Tabla1[13/06/2018],\"<=28/02/2018\",Tabla1[DESCRIPCIÓN DEL SERVICIO],\"Repostar GASOIL / TALLER\",Tabla1[MATRICULA],B7)","v":0},{"$f":"SUMIFS(Tabla1[€/GASOIL],Tabla1[13/06/2018],\">=01/02/2018\",Tabla1[13/06/2018],\"<=28/02/2018\",Tabla1[DESCRIPCIÓN DEL SERVICIO],\"Repostar GASOIL / Externo\",Tabla1[MATRICULA],B7)","v":0},null,"Febrero",{"$f":"SUMIFS(Tabla1[€/SERVICIO],Tabla1[13/06/2018],\">=01/02/2018\",Tabla1[13/06/2018],\"<=28/02/2018\",Tabla1[MATRICULA],B8)","v":0},{"$f":"SUMIFS(Tabla1[€/GASOIL],Tabla1[13/06/2018],\">=01/02/2018\",Tabla1[13/06/2018],\"<=28/02/2018\",Tabla1[DESCRIPCIÓN DEL SERVICIO],\"Repostar GASOIL / TALLER\",Tabla1[MATRICULA],B8)","v":0},{"$f":"SUMIFS(Tabla1[€/GASOIL],Tabla1[13/06/2018],\">=01/02/2018\",Tabla1[13/06/2018],\"<=28/02/2018\",Tabla1[DESCRIPCIÓN DEL SERVICIO],\"Repostar GASOIL / Externo\",Tabla1[MATRICULA],B8)","v":51},null,"Febrero",{"$f":"SUMIFS(Tabla1[€/SERVICIO],Tabla1[13/06/2018],\">=01/02/2018\",Tabla1[13/06/2018],\"<=28/02/2018\",Tabla1[MATRICULA],B9)","v":0},{"$f":"SUMIFS(Tabla1[€/GASOIL],Tabla1[13/06/2018],\">=01/02/2018\",Tabla1[13/06/2018],\"<=28/02/2018\",Tabla1[DESCRIPCIÓN DEL SERVICIO],\"Repostar GASOIL / TALLER\",Tabla1[MATRICULA],B9)","v":0},{"$f":"SUMIFS(Tabla1[€/GASOIL],Tabla1[13/06/2018],\">=01/02/2018\",Tabla1[13/06/2018],\"<=28/02/2018\",Tabla1[DESCRIPCIÓN DEL SERVICIO],\"Repostar GASOIL / Externo\",Tabla1[MATRICULA],B9)","v":0},null,"Febrero",{"$f":"SUMIFS(Tabla1[€/SERVICIO],Tabla1[13/06/2018],\">=01/02/2018\",Tabla1[13/06/2018],\"<=28/02/2018\",Tabla1[MATRICULA],B10)","v":0},{"$f":"SUMIFS(Tabla1[€/GASOIL],Tabla1[13/06/2018],\">=01/02/2018\",Tabla1[13/06/2018],\"<=28/02/2018\",Tabla1[DESCRIPCIÓN DEL SERVICIO],\"Repostar GASOIL / TALLER\",Tabla1[MATRICULA],B10)","v":0},{"$f":"SUMIFS(Tabla1[€/GASOIL],Tabla1[13/06/2018],\">=01/02/2018\",Tabla1[13/06/2018],\"<=28/02/2018\",Tabla1[DESCRIPCIÓN DEL SERVICIO],\"Repostar GASOIL / Externo\",Tabla1[MATRICULA],B10)","v":25},null,"Febrero",{"$f":"SUMIFS(Tabla1[€/SERVICIO],Tabla1[13/06/2018],\">=01/02/2018\",Tabla1[13/06/2018],\"<=28/02/2018\",Tabla1[MATRICULA],B11)","v":0},{"$f":"SUMIFS(Tabla1[€/GASOIL],Tabla1[13/06/2018],\">=01/02/2018\",Tabla1[13/06/2018],\"<=28/02/2018\",Tabla1[DESCRIPCIÓN DEL SERVICIO],\"Repostar GASOIL / TALLER\",Tabla1[MATRICULA],B11)","v":0},{"$f":"SUMIFS(Tabla1[€/GASOIL],Tabla1[13/06/2018],\">=01/02/2018\",Tabla1[13/06/2018],\"<=28/02/2018\",Tabla1[DESCRIPCIÓN DEL SERVICIO],\"Repostar GASOIL / Externo\",Tabla1[MATRICULA],B11)","v":0},null,"Febrero",{"$f":"SUMIFS(Tabla1[€/SERVICIO],Tabla1[13/06/2018],\">=01/02/2018\",Tabla1[13/06/2018],\"<=28/02/2018\",Tabla1[MATRICULA],B12)","v":0},{"$f":"SUMIFS(Tabla1[€/GASOIL],Tabla1[13/06/2018],\">=01/02/2018\",Tabla1[13/06/2018],\"<=28/02/2018\",Tabla1[DESCRIPCIÓN DEL SERVICIO],\"Repostar GASOIL / TALLER\",Tabla1[MATRICULA],B12)","v":0},{"$f":"SUMIFS(Tabla1[€/GASOIL],Tabla1[13/06/2018],\">=01/02/2018\",Tabla1[13/06/2018],\"<=28/02/2018\",Tabla1[DESCRIPCIÓN DEL SERVICIO],\"Repostar GASOIL / Externo\",Tabla1[MATRICULA],B12)","v":0},null,"Febrero",{"$f":"SUMIFS(Tabla1[€/SERVICIO],Tabla1[13/06/2018],\">=01/02/2018\",Tabla1[13/06/2018],\"<=28/02/2018\",Tabla1[MATRICULA],B13)","v":0},{"$f":"SUMIFS(Tabla1[€/GASOIL],Tabla1[13/06/2018],\">=01/02/2018\",Tabla1[13/06/2018],\"<=28/02/2018\",Tabla1[DESCRIPCIÓN DEL SERVICIO],\"Repostar GASOIL / TALLER\",Tabla1[MATRICULA],B13)","v":0},{"$f":"SUMIFS(Tabla1[€/GASOIL],Tabla1[13/06/2018],\">=01/02/2018\",Tabla1[13/06/2018],\"<=28/02/2018\",Tabla1[DESCRIPCIÓN DEL SERVICIO],\"Repostar GASOIL / Externo\",Tabla1[MATRICULA],B13)","v":0}]
[{"$f":"'DATOS PARA LISTAS DE MENU'!B6","v":"FURGONETA"},{"$f":"'DATOS PARA LISTAS DE MENU'!C6","v":"5485 DFJ"},{"$f":"'DATOS PARA LISTAS DE MENU'!A6","v":"T3"},null,{"$f":"SUMIF(Tabla1[MATRICULA],B7,Tabla1[€/SERVICIO])","v":0},null,{"$f":"SUMIFS(Tabla1[€/GASOIL],Tabla1[MATRICULA],B7,Tabla1[DESCRIPCIÓN DEL SERVICIO],\"Repostar GASOIL / TALLER\")","v":0},null,{"$f":"SUMIFS(Tabla1[€/GASOIL],Tabla1[MATRICULA],B7,Tabla1[DESCRIPCIÓN DEL SERVICIO],\"Repostar GASOIL / Externo\")","v":0},null,null,null,{"$f":"SUMIFS(Tabla1[€/SERVICIO],Tabla1[13/06/2018],\">=01/01/2018\",Tabla1[13/06/2018],\"<=31/01/2018\")","v":421.89},{"$f":"SUMIFS(Tabla1[€/GASOIL],Tabla1[13/06/2018],\">=01/01/2018\",Tabla1[13/06/2018],\"<=31/01/2018\",Tabla1[DESCRIPCIÓN DEL SERVICIO],\"Repostar GASOIL / TALLER\")","v":0},{"$f":"SUMIFS(Tabla1[€/GASOIL],Tabla1[13/06/2018],\">=01/01/2018\",Tabla1[13/06/2018],\"<=31/01/2018\",Tabla1[DESCRIPCIÓN DEL SERVICIO],\"Repostar GASOIL / Externo\")","v":34},null,{"$f":"SUMIFS(Tabla1[€/SERVICIO],Tabla1[13/06/2018],\">=01/03/2018\",Tabla1[13/06/2018],\"<=31/03/2018\")","v":0},{"$f":"SUMIFS(Tabla1[€/GASOIL],Tabla1[13/06/2018],\">=01/03/2018\",Tabla1[13/06/2018],\"<=31/03/2018\",Tabla1[DESCRIPCIÓN DEL SERVICIO],\"Repostar GASOIL / TALLER\")","v":0},{"$f":"SUMIFS(Tabla1[€/GASOIL],Tabla1[13/06/2018],\">=01/03/2018\",Tabla1[13/06/2018],\"<=31/03/2018\",Tabla1[DESCRIPCIÓN DEL SERVICIO],\"Repostar GASOIL / Externo\")","v":121},null,{"$f":"SUMIFS(Tabla1[€/SERVICIO],Tabla1[13/06/2018],\">=01/05/2018\",Tabla1[13/06/2018],\"<=31/05/2018\")","v":752.24},{"$f":"SUMIFS(Tabla1[€/GASOIL],Tabla1[13/06/2018],\">=01/05/2018\",Tabla1[13/06/2018],\"<=31/05/2018\",Tabla1[DESCRIPCIÓN DEL SERVICIO],\"Repostar GASOIL / TALLER\")","v":0},{"$f":"SUMIFS(Tabla1[€/GASOIL],Tabla1[13/06/2018],\">=01/05/2018\",Tabla1[13/06/2018],\"<=31/05/2018\",Tabla1[DESCRIPCIÓN DEL SERVICIO],\"Repostar GASOIL / Externo\")","v":151},null,{"$f":"SUMIFS(Tabla1[€/SERVICIO],Tabla1[13/06/2018],\">=01/07/2018\",Tabla1[13/06/2018],\"<=31/07/2018\")","v":0},{"$f":"SUMIFS(Tabla1[€/GASOIL],Tabla1[13/06/2018],\">=01/07/2018\",Tabla1[13/06/2018],\"<=31/07/2018\",Tabla1[DESCRIPCIÓN DEL SERVICIO],\"Repostar GASOIL / TALLER\")","v":0},{"$f":"SUMIFS(Tabla1[€/GASOIL],Tabla1[13/06/2018],\">=01/07/2018\",Tabla1[13/06/2018],\"<=31/07/2018\",Tabla1[DESCRIPCIÓN DEL SERVICIO],\"Repostar GASOIL / Externo\")","v":0},null,{"$f":"SUMIFS(Tabla1[€/SERVICIO],Tabla1[13/06/2018],\">=01/09/2018\",Tabla1[13/06/2018],\"<=30/09/2018\")","v":0},{"$f":"SUMIFS(Tabla1[€/GASOIL],Tabla1[13/06/2018],\">=01/09/2018\",Tabla1[13/06/2018],\"<=30/09/2018\",Tabla1[DESCRIPCIÓN DEL SERVICIO],\"Repostar GASOIL / TALLER\")","v":0},{"$f":"SUMIFS(Tabla1[€/GASOIL],Tabla1[13/06/2018],\">=01/09/2018\",Tabla1[13/06/2018],\"<=30/09/2018\",Tabla1[DESCRIPCIÓN DEL SERVICIO],\"Repostar GASOIL / Externo\")","v":0},null,{"$f":"SUMIFS(Tabla1[€/SERVICIO],Tabla1[13/06/2018],\">=01/11/2018\",Tabla1[13/06/2018],\"<=30/11/2018\")","v":0},{"$f":"SUMIFS(Tabla1[€/GASOIL],Tabla1[13/06/2018],\">=01/11/2018\",Tabla1[13/06/2018],\"<=30/11/2018\",Tabla1[DESCRIPCIÓN DEL SERVICIO],\"Repostar GASOIL / TALLER\")","v":0},{"$f":"SUMIFS(Tabla1[€/GASOIL],Tabla1[13/06/2018],\">=01/11/2018\",Tabla1[13/06/2018],\"<=30/11/2018\",Tabla1[DESCRIPCIÓN DEL SERVICIO],\"Repostar GASOIL / Externo\")","v":0},null,"Marzo",{"$f":"SUMIFS(Tabla1[€/SERVICIO],Tabla1[13/06/2018],\">=01/03/2018\",Tabla1[13/06/2018],\"<=31/03/2018\",Tabla1[MATRICULA],B5)","v":0},{"$f":"SUMIFS(Tabla1[€/GASOIL],Tabla1[13/06/2018],\">=01/03/2018\",Tabla1[13/06/2018],\"<=30/03/2018\",Tabla1[DESCRIPCIÓN DEL SERVICIO],\"Repostar GASOIL / TALLER\",Tabla1[MATRICULA],B5)","v":0},{"$f":"SUMIFS(Tabla1[€/GASOIL],Tabla1[13/06/2018],\">=01/03/2018\",Tabla1[13/06/2018],\"<=30/03/2018\",Tabla1[DESCRIPCIÓN DEL SERVICIO],\"Repostar GASOIL / Externo\",Tabla1[MATRICULA],B5)","v":0},null,"Marzo",{"$f":"SUMIFS(Tabla1[€/SERVICIO],Tabla1[13/06/2018],\">=01/03/2018\",Tabla1[13/06/2018],\"<=31/03/2018\",Tabla1[MATRICULA],B6)","v":0},{"$f":"SUMIFS(Tabla1[€/GASOIL],Tabla1[13/06/2018],\">=01/03/2018\",Tabla1[13/06/2018],\"<=30/03/2018\",Tabla1[DESCRIPCIÓN DEL SERVICIO],\"Repostar GASOIL / TALLER\",Tabla1[MATRICULA],B6)","v":0},{"$f":"SUMIFS(Tabla1[€/GASOIL],Tabla1[13/06/2018],\">=01/03/2018\",Tabla1[13/06/2018],\"<=30/03/2018\",Tabla1[DESCRIPCIÓN DEL SERVICIO],\"Repostar GASOIL / Externo\",Tabla1[MATRICULA],B6)","v":0},null,"Marzo",{"$f":"SUMIFS(Tabla1[€/SERVICIO],Tabla1[13/06/2018],\">=01/03/2018\",Tabla1[13/06/2018],\"<=31/03/2018\",Tabla1[MATRICULA],B7)","v":0},{"$f":"SUMIFS(Tabla1[€/GASOIL],Tabla1[13/06/2018],\">=01/03/2018\",Tabla1[13/06/2018],\"<=30/03/2018\",Tabla1[DESCRIPCIÓN DEL SERVICIO],\"Repostar GASOIL / TALLER\",Tabla1[MATRICULA],B7)","v":0},{"$f":"SUMIFS(Tabla1[€/GASOIL],Tabla1[13/06/2018],\">=01/03/2018\",Tabla1[13/06/2018],\"<=30/03/2018\",Tabla1[DESCRIPCIÓN DEL SERVICIO],\"Repostar GASOIL / Externo\",Tabla1[MATRICULA],B7)","v":0},null,"Marzo",{"$f":"SUMIFS(Tabla1[€/SERVICIO],Tabla1[13/06/2018],\">=01/03/2018\",Tabla1[13/06/2018],\"<=31/03/2018\",Tabla1[MATRICULA],B8)","v":0},{"$f":"SUMIFS(Tabla1[€/GASOIL],Tabla1[13/06/2018],\">=01/03/2018\",Tabla1[13/06/2018],\"<=30/03/2018\",Tabla1[DESCRIPCIÓN DEL SERVICIO],\"Repostar GASOIL / TALLER\",Tabla1[MATRICULA],B8)","v":0},{"$f":"SUMIFS(Tabla1[€/GASOIL],Tabla1[13/06/2018],\">=01/03/2018\",Tabla1[13/06/2018],\"<=30/03/2018\",Tabla1[DESCRIPCIÓN DEL SERVICIO],\"Repostar GASOIL / Externo\",Tabla1[MATRICULA],B8)","v":121},null,"Marzo",{"$f":"SUMIFS(Tabla1[€/SERVICIO],Tabla1[13/06/2018],\">=01/03/2018\",Tabla1[13/06/2018],\"<=31/03/2018\",Tabla1[MATRICULA],B9)","v":0},{"$f":"SUMIFS(Tabla1[€/GASOIL],Tabla1[13/06/2018],\">=01/03/2018\",Tabla1[13/06/2018],\"<=30/03/2018\",Tabla1[DESCRIPCIÓN DEL SERVICIO],\"Repostar GASOIL / TALLER\",Tabla1[MATRICULA],B9)","v":0},{"$f":"SUMIFS(Tabla1[€/GASOIL],Tabla1[13/06/2018],\">=01/03/2018\",Tabla1[13/06/2018],\"<=30/03/2018\",Tabla1[DESCRIPCIÓN DEL SERVICIO],\"Repostar GASOIL / Externo\",Tabla1[MATRICULA],B9)","v":0},null,"Marzo",{"$f":"SUMIFS(Tabla1[€/SERVICIO],Tabla1[13/06/2018],\">=01/03/2018\",Tabla1[13/06/2018],\"<=31/03/2018\",Tabla1[MATRICULA],B10)","v":0},{"$f":"SUMIFS(Tabla1[€/GASOIL],Tabla1[13/06/2018],\">=01/03/2018\",Tabla1[13/06/2018],\"<=30/03/2018\",Tabla1[DESCRIPCIÓN DEL SERVICIO],\"Repostar GASOIL / TALLER\",Tabla1[MATRICULA],B10)","v":0},{"$f":"SUMIFS(Tabla1[€/GASOIL],Tabla1[13/06/2018],\">=01/03/2018\",Tabla1[13/06/2018],\"<=30/03/2018\",Tabla1[DESCRIPCIÓN DEL SERVICIO],\"Repostar GASOIL / Externo\",Tabla1[MATRICULA],B10)","v":0},null,"Marzo",{"$f":"SUMIFS(Tabla1[€/SERVICIO],Tabla1[13/06/2018],\">=01/03/2018\",Tabla1[13/06/2018],\"<=31/03/2018\",Tabla1[MATRICULA],B11)","v":0},{"$f":"SUMIFS(Tabla1[€/GASOIL],Tabla1[13/06/2018],\">=01/03/2018\",Tabla1[13/06/2018],\"<=30/03/2018\",Tabla1[DESCRIPCIÓN DEL SERVICIO],\"Repostar GASOIL / TALLER\",Tabla1[MATRICULA],B11)","v":0},{"$f":"SUMIFS(Tabla1[€/GASOIL],Tabla1[13/06/2018],\">=01/03/2018\",Tabla1[13/06/2018],\"<=30/03/2018\",Tabla1[DESCRIPCIÓN DEL SERVICIO],\"Repostar GASOIL / Externo\",Tabla1[MATRICULA],B11)","v":0},null,"Marzo",{"$f":"SUMIFS(Tabla1[€/SERVICIO],Tabla1[13/06/2018],\">=01/03/2018\",Tabla1[13/06/2018],\"<=31/03/2018\",Tabla1[MATRICULA],B12)","v":0},{"$f":"SUMIFS(Tabla1[€/GASOIL],Tabla1[13/06/2018],\">=01/03/2018\",Tabla1[13/06/2018],\"<=30/03/2018\",Tabla1[DESCRIPCIÓN DEL SERVICIO],\"Repostar GASOIL / TALLER\",Tabla1[MATRICULA],B12)","v":0},{"$f":"SUMIFS(Tabla1[€/GASOIL],Tabla1[13/06/2018],\">=01/03/2018\",Tabla1[13/06/2018],\"<=30/03/2018\",Tabla1[DESCRIPCIÓN DEL SERVICIO],\"Repostar GASOIL / Externo\",Tabla1[MATRICULA],B12)","v":0},null,"Marzo",{"$f":"SUMIFS(Tabla1[€/SERVICIO],Tabla1[13/06/2018],\">=01/03/2018\",Tabla1[13/06/2018],\"<=31/03/2018\",Tabla1[MATRICULA],B13)","v":0},{"$f":"SUMIFS(Tabla1[€/GASOIL],Tabla1[13/06/2018],\">=01/03/2018\",Tabla1[13/06/2018],\"<=30/03/2018\",Tabla1[DESCRIPCIÓN DEL SERVICIO],\"Repostar GASOIL / TALLER\",Tabla1[MATRICULA],B13)","v":0},{"$f":"SUMIFS(Tabla1[€/GASOIL],Tabla1[13/06/2018],\">=01/03/2018\",Tabla1[13/06/2018],\"<=30/03/2018\",Tabla1[DESCRIPCIÓN DEL SERVICIO],\"Repostar GASOIL / Externo\",Tabla1[MATRICULA],B13)","v":0}]
[{"$f":"'DATOS PARA LISTAS DE MENU'!B7","v":"COCHE ROJO"},{"$f":"'DATOS PARA LISTAS DE MENU'!C7","v":"8661 FPY"},{"$f":"'DATOS PARA LISTAS DE MENU'!A7","v":"T4"},null,{"$f":"SUMIF(Tabla1[MATRICULA],B8,Tabla1[€/SERVICIO])","v":1174.1300000000001},null,{"$f":"SUMIFS(Tabla1[€/GASOIL],Tabla1[MATRICULA],B8,Tabla1[DESCRIPCIÓN DEL SERVICIO],\"Repostar GASOIL / TALLER\")","v":0},null,{"$f":"SUMIFS(Tabla1[€/GASOIL],Tabla1[MATRICULA],B8,Tabla1[DESCRIPCIÓN DEL SERVICIO],\"Repostar GASOIL / Externo\")","v":417},null,null,null,null,null,null,null,null,null,null,null,null,null,null,null,null,null,null,null,null,null,null,null,null,null,null,null,"Abril",{"$f":"SUMIFS(Tabla1[€/SERVICIO],Tabla1[13/06/2018],\">=01/04/2018\",Tabla1[13/06/2018],\"<=30/04/2018\",Tabla1[MATRICULA],B5)","v":0},{"$f":"SUMIFS(Tabla1[€/GASOIL],Tabla1[13/06/2018],\">=01/04/2018\",Tabla1[13/06/2018],\"<=30/04/2018\",Tabla1[DESCRIPCIÓN DEL SERVICIO],\"Repostar GASOIL / TALLER\",Tabla1[MATRICULA],B5)","v":0},{"$f":"SUMIFS(Tabla1[€/GASOIL],Tabla1[13/06/2018],\">=01/04/2018\",Tabla1[13/06/2018],\"<=30/04/2018\",Tabla1[DESCRIPCIÓN DEL SERVICIO],\"Repostar GASOIL / Externo\",Tabla1[MATRICULA],B5)","v":0},null,"Abril",{"$f":"SUMIFS(Tabla1[€/SERVICIO],Tabla1[13/06/2018],\">=01/04/2018\",Tabla1[13/06/2018],\"<=30/04/2018\",Tabla1[MATRICULA],B6)","v":0},{"$f":"SUMIFS(Tabla1[€/GASOIL],Tabla1[13/06/2018],\">=01/04/2018\",Tabla1[13/06/2018],\"<=30/04/2018\",Tabla1[DESCRIPCIÓN DEL SERVICIO],\"Repostar GASOIL / TALLER\",Tabla1[MATRICULA],B6)","v":0},{"$f":"SUMIFS(Tabla1[€/GASOIL],Tabla1[13/06/2018],\">=01/04/2018\",Tabla1[13/06/2018],\"<=30/04/2018\",Tabla1[DESCRIPCIÓN DEL SERVICIO],\"Repostar GASOIL / Externo\",Tabla1[MATRICULA],B6)","v":0},null,"Abril",{"$f":"SUMIFS(Tabla1[€/SERVICIO],Tabla1[13/06/2018],\">=01/04/2018\",Tabla1[13/06/2018],\"<=30/04/2018\",Tabla1[MATRICULA],B7)","v":0},{"$f":"SUMIFS(Tabla1[€/GASOIL],Tabla1[13/06/2018],\">=01/04/2018\",Tabla1[13/06/2018],\"<=30/04/2018\",Tabla1[DESCRIPCIÓN DEL SERVICIO],\"Repostar GASOIL / TALLER\",Tabla1[MATRICULA],B7)","v":0},{"$f":"SUMIFS(Tabla1[€/GASOIL],Tabla1[13/06/2018],\">=01/04/2018\",Tabla1[13/06/2018],\"<=30/04/2018\",Tabla1[DESCRIPCIÓN DEL SERVICIO],\"Repostar GASOIL / Externo\",Tabla1[MATRICULA],B7)","v":0},null,"Abril",{"$f":"SUMIFS(Tabla1[€/SERVICIO],Tabla1[13/06/2018],\">=01/04/2018\",Tabla1[13/06/2018],\"<=30/04/2018\",Tabla1[MATRICULA],B8)","v":0},{"$f":"SUMIFS(Tabla1[€/GASOIL],Tabla1[13/06/2018],\">=01/04/2018\",Tabla1[13/06/2018],\"<=30/04/2018\",Tabla1[DESCRIPCIÓN DEL SERVICIO],\"Repostar GASOIL / TALLER\",Tabla1[MATRICULA],B8)","v":0},{"$f":"SUMIFS(Tabla1[€/GASOIL],Tabla1[13/06/2018],\">=01/04/2018\",Tabla1[13/06/2018],\"<=30/04/2018\",Tabla1[DESCRIPCIÓN DEL SERVICIO],\"Repostar GASOIL / Externo\",Tabla1[MATRICULA],B8)","v":60},null,"Abril",{"$f":"SUMIFS(Tabla1[€/SERVICIO],Tabla1[13/06/2018],\">=01/04/2018\",Tabla1[13/06/2018],\"<=30/04/2018\",Tabla1[MATRICULA],B9)","v":0},{"$f":"SUMIFS(Tabla1[€/GASOIL],Tabla1[13/06/2018],\">=01/04/2018\",Tabla1[13/06/2018],\"<=30/04/2018\",Tabla1[DESCRIPCIÓN DEL SERVICIO],\"Repostar GASOIL / TALLER\",Tabla1[MATRICULA],B9)","v":0},{"$f":"SUMIFS(Tabla1[€/GASOIL],Tabla1[13/06/2018],\">=01/04/2018\",Tabla1[13/06/2018],\"<=30/04/2018\",Tabla1[DESCRIPCIÓN DEL SERVICIO],\"Repostar GASOIL / Externo\",Tabla1[MATRICULA],B9)","v":0},null,"Abril",{"$f":"SUMIFS(Tabla1[€/SERVICIO],Tabla1[13/06/2018],\">=01/04/2018\",Tabla1[13/06/2018],\"<=30/04/2018\",Tabla1[MATRICULA],B10)","v":0},{"$f":"SUMIFS(Tabla1[€/GASOIL],Tabla1[13/06/2018],\">=01/04/2018\",Tabla1[13/06/2018],\"<=30/04/2018\",Tabla1[DESCRIPCIÓN DEL SERVICIO],\"Repostar GASOIL / TALLER\",Tabla1[MATRICULA],B10)","v":0},{"$f":"SUMIFS(Tabla1[€/GASOIL],Tabla1[13/06/2018],\">=01/04/2018\",Tabla1[13/06/2018],\"<=30/04/2018\",Tabla1[DESCRIPCIÓN DEL SERVICIO],\"Repostar GASOIL / Externo\",Tabla1[MATRICULA],B10)","v":0},null,"Abril",{"$f":"SUMIFS(Tabla1[€/SERVICIO],Tabla1[13/06/2018],\">=01/04/2018\",Tabla1[13/06/2018],\"<=30/04/2018\",Tabla1[MATRICULA],B11)","v":0},{"$f":"SUMIFS(Tabla1[€/GASOIL],Tabla1[13/06/2018],\">=01/04/2018\",Tabla1[13/06/2018],\"<=30/04/2018\",Tabla1[DESCRIPCIÓN DEL SERVICIO],\"Repostar GASOIL / TALLER\",Tabla1[MATRICULA],B11)","v":0},{"$f":"SUMIFS(Tabla1[€/GASOIL],Tabla1[13/06/2018],\">=01/04/2018\",Tabla1[13/06/2018],\"<=30/04/2018\",Tabla1[DESCRIPCIÓN DEL SERVICIO],\"Repostar GASOIL / Externo\",Tabla1[MATRICULA],B11)","v":0},null,"Abril",{"$f":"SUMIFS(Tabla1[€/SERVICIO],Tabla1[13/06/2018],\">=01/04/2018\",Tabla1[13/06/2018],\"<=30/04/2018\",Tabla1[MATRICULA],B12)","v":0},{"$f":"SUMIFS(Tabla1[€/GASOIL],Tabla1[13/06/2018],\">=01/04/2018\",Tabla1[13/06/2018],\"<=30/04/2018\",Tabla1[DESCRIPCIÓN DEL SERVICIO],\"Repostar GASOIL / TALLER\",Tabla1[MATRICULA],B12)","v":0},{"$f":"SUMIFS(Tabla1[€/GASOIL],Tabla1[13/06/2018],\">=01/04/2018\",Tabla1[13/06/2018],\"<=30/04/2018\",Tabla1[DESCRIPCIÓN DEL SERVICIO],\"Repostar GASOIL / Externo\",Tabla1[MATRICULA],B12)","v":0},null,"Abril",{"$f":"SUMIFS(Tabla1[€/SERVICIO],Tabla1[13/06/2018],\">=01/04/2018\",Tabla1[13/06/2018],\"<=30/04/2018\",Tabla1[MATRICULA],B13)","v":0},{"$f":"SUMIFS(Tabla1[€/GASOIL],Tabla1[13/06/2018],\">=01/04/2018\",Tabla1[13/06/2018],\"<=30/04/2018\",Tabla1[DESCRIPCIÓN DEL SERVICIO],\"Repostar GASOIL / TALLER\",Tabla1[MATRICULA],B13)","v":0},{"$f":"SUMIFS(Tabla1[€/GASOIL],Tabla1[13/06/2018],\">=01/04/2018\",Tabla1[13/06/2018],\"<=30/04/2018\",Tabla1[DESCRIPCIÓN DEL SERVICIO],\"Repostar GASOIL / Externo\",Tabla1[MATRICULA],B13)","v":0}]
[{"$f":"'DATOS PARA LISTAS DE MENU'!B8","v":"MERCEDES"},{"$f":"'DATOS PARA LISTAS DE MENU'!C8","v":"5343 HZY"},{"$f":"'DATOS PARA LISTAS DE MENU'!A8","v":"T1"},null,{"$f":"SUMIF(Tabla1[MATRICULA],B9,Tabla1[€/SERVICIO])","v":0},null,{"$f":"SUMIFS(Tabla1[€/GASOIL],Tabla1[MATRICULA],B9,Tabla1[DESCRIPCIÓN DEL SERVICIO],\"Repostar GASOIL / TALLER\")","v":42.120000000000005},null,{"$f":"SUMIFS(Tabla1[€/GASOIL],Tabla1[MATRICULA],B9,Tabla1[DESCRIPCIÓN DEL SERVICIO],\"Repostar GASOIL / Externo\")","v":0},null,null,null,null,null,null,null,null,null,null,null,null,null,null,null,null,null,null,null,null,null,null,null,null,null,null,null,"Mayo",{"$f":"SUMIFS(Tabla1[€/SERVICIO],Tabla1[13/06/2018],\">=01/05/2018\",Tabla1[13/06/2018],\"<=31/05/2018\",Tabla1[MATRICULA],B5)","v":0},{"$f":"SUMIFS(Tabla1[€/GASOIL],Tabla1[13/06/2018],\">=01/05/2018\",Tabla1[13/06/2018],\"<=31/05/2018\",Tabla1[DESCRIPCIÓN DEL SERVICIO],\"Repostar GASOIL / TALLER\",Tabla1[MATRICULA],B5)","v":0},{"$f":"SUMIFS(Tabla1[€/GASOIL],Tabla1[13/06/2018],\">=01/05/2018\",Tabla1[13/06/2018],\"<=31/05/2018\",Tabla1[DESCRIPCIÓN DEL SERVICIO],\"Repostar GASOIL / Externo\",Tabla1[MATRICULA],B5)","v":0},null,"Mayo",{"$f":"SUMIFS(Tabla1[€/SERVICIO],Tabla1[13/06/2018],\">=01/05/2018\",Tabla1[13/06/2018],\"<=31/05/2018\",Tabla1[MATRICULA],B6)","v":0},{"$f":"SUMIFS(Tabla1[€/GASOIL],Tabla1[13/06/2018],\">=01/05/2018\",Tabla1[13/06/2018],\"<=31/05/2018\",Tabla1[DESCRIPCIÓN DEL SERVICIO],\"Repostar GASOIL / TALLER\",Tabla1[MATRICULA],B6)","v":0},{"$f":"SUMIFS(Tabla1[€/GASOIL],Tabla1[13/06/2018],\">=01/05/2018\",Tabla1[13/06/2018],\"<=31/05/2018\",Tabla1[DESCRIPCIÓN DEL SERVICIO],\"Repostar GASOIL / Externo\",Tabla1[MATRICULA],B6)","v":0},null,"Mayo",{"$f":"SUMIFS(Tabla1[€/SERVICIO],Tabla1[13/06/2018],\">=01/05/2018\",Tabla1[13/06/2018],\"<=31/05/2018\",Tabla1[MATRICULA],B7)","v":0},{"$f":"SUMIFS(Tabla1[€/GASOIL],Tabla1[13/06/2018],\">=01/05/2018\",Tabla1[13/06/2018],\"<=31/05/2018\",Tabla1[DESCRIPCIÓN DEL SERVICIO],\"Repostar GASOIL / TALLER\",Tabla1[MATRICULA],B7)","v":0},{"$f":"SUMIFS(Tabla1[€/GASOIL],Tabla1[13/06/2018],\">=01/05/2018\",Tabla1[13/06/2018],\"<=31/05/2018\",Tabla1[DESCRIPCIÓN DEL SERVICIO],\"Repostar GASOIL / Externo\",Tabla1[MATRICULA],B7)","v":0},null,"Mayo",{"$f":"SUMIFS(Tabla1[€/SERVICIO],Tabla1[13/06/2018],\">=01/05/2018\",Tabla1[13/06/2018],\"<=31/05/2018\",Tabla1[MATRICULA],B8)","v":752.24},{"$f":"SUMIFS(Tabla1[€/GASOIL],Tabla1[13/06/2018],\">=01/05/2018\",Tabla1[13/06/2018],\"<=31/05/2018\",Tabla1[DESCRIPCIÓN DEL SERVICIO],\"Repostar GASOIL / TALLER\",Tabla1[MATRICULA],B8)","v":0},{"$f":"SUMIFS(Tabla1[€/GASOIL],Tabla1[13/06/2018],\">=01/05/2018\",Tabla1[13/06/2018],\"<=31/05/2018\",Tabla1[DESCRIPCIÓN DEL SERVICIO],\"Repostar GASOIL / Externo\",Tabla1[MATRICULA],B8)","v":151},null,"Mayo",{"$f":"SUMIFS(Tabla1[€/SERVICIO],Tabla1[13/06/2018],\">=01/05/2018\",Tabla1[13/06/2018],\"<=31/05/2018\",Tabla1[MATRICULA],B9)","v":0},{"$f":"SUMIFS(Tabla1[€/GASOIL],Tabla1[13/06/2018],\">=01/05/2018\",Tabla1[13/06/2018],\"<=31/05/2018\",Tabla1[DESCRIPCIÓN DEL SERVICIO],\"Repostar GASOIL / TALLER\",Tabla1[MATRICULA],B9)","v":0},{"$f":"SUMIFS(Tabla1[€/GASOIL],Tabla1[13/06/2018],\">=01/05/2018\",Tabla1[13/06/2018],\"<=31/05/2018\",Tabla1[DESCRIPCIÓN DEL SERVICIO],\"Repostar GASOIL / Externo\",Tabla1[MATRICULA],B9)","v":0},null,"Mayo",{"$f":"SUMIFS(Tabla1[€/SERVICIO],Tabla1[13/06/2018],\">=01/05/2018\",Tabla1[13/06/2018],\"<=31/05/2018\",Tabla1[MATRICULA],B10)","v":0},{"$f":"SUMIFS(Tabla1[€/GASOIL],Tabla1[13/06/2018],\">=01/05/2018\",Tabla1[13/06/2018],\"<=31/05/2018\",Tabla1[DESCRIPCIÓN DEL SERVICIO],\"Repostar GASOIL / TALLER\",Tabla1[MATRICULA],B10)","v":0},{"$f":"SUMIFS(Tabla1[€/GASOIL],Tabla1[13/06/2018],\">=01/05/2018\",Tabla1[13/06/2018],\"<=31/05/2018\",Tabla1[DESCRIPCIÓN DEL SERVICIO],\"Repostar GASOIL / Externo\",Tabla1[MATRICULA],B10)","v":0},null,"Mayo",{"$f":"SUMIFS(Tabla1[€/SERVICIO],Tabla1[13/06/2018],\">=01/05/2018\",Tabla1[13/06/2018],\"<=31/05/2018\",Tabla1[MATRICULA],B11)","v":0},{"$f":"SUMIFS(Tabla1[€/GASOIL],Tabla1[13/06/2018],\">=01/05/2018\",Tabla1[13/06/2018],\"<=31/05/2018\",Tabla1[DESCRIPCIÓN DEL SERVICIO],\"Repostar GASOIL / TALLER\",Tabla1[MATRICULA],B11)","v":0},{"$f":"SUMIFS(Tabla1[€/GASOIL],Tabla1[13/06/2018],\">=01/05/2018\",Tabla1[13/06/2018],\"<=31/05/2018\",Tabla1[DESCRIPCIÓN DEL SERVICIO],\"Repostar GASOIL / Externo\",Tabla1[MATRICULA],B11)","v":0},null,"Mayo",{"$f":"SUMIFS(Tabla1[€/SERVICIO],Tabla1[13/06/2018],\">=01/05/2018\",Tabla1[13/06/2018],\"<=31/05/2018\",Tabla1[MATRICULA],B12)","v":0},{"$f":"SUMIFS(Tabla1[€/GASOIL],Tabla1[13/06/2018],\">=01/05/2018\",Tabla1[13/06/2018],\"<=31/05/2018\",Tabla1[DESCRIPCIÓN DEL SERVICIO],\"Repostar GASOIL / TALLER\",Tabla1[MATRICULA],B12)","v":0},{"$f":"SUMIFS(Tabla1[€/GASOIL],Tabla1[13/06/2018],\">=01/05/2018\",Tabla1[13/06/2018],\"<=31/05/2018\",Tabla1[DESCRIPCIÓN DEL SERVICIO],\"Repostar GASOIL / Externo\",Tabla1[MATRICULA],B12)","v":0},null,"Mayo",{"$f":"SUMIFS(Tabla1[€/SERVICIO],Tabla1[13/06/2018],\">=01/05/2018\",Tabla1[13/06/2018],\"<=31/05/2018\",Tabla1[MATRICULA],B13)","v":0},{"$f":"SUMIFS(Tabla1[€/GASOIL],Tabla1[13/06/2018],\">=01/05/2018\",Tabla1[13/06/2018],\"<=31/05/2018\",Tabla1[DESCRIPCIÓN DEL SERVICIO],\"Repostar GASOIL / TALLER\",Tabla1[MATRICULA],B13)","v":0},{"$f":"SUMIFS(Tabla1[€/GASOIL],Tabla1[13/06/2018],\">=01/05/2018\",Tabla1[13/06/2018],\"<=31/05/2018\",Tabla1[DESCRIPCIÓN DEL SERVICIO],\"Repostar GASOIL / Externo\",Tabla1[MATRICULA],B13)","v":0}]
[{"$f":"'DATOS PARA LISTAS DE MENU'!B9","v":"COCHE BLANCO"},{"$f":"'DATOS PARA LISTAS DE MENU'!C9","v":"8518 HYY"},{"$f":"'DATOS PARA LISTAS DE MENU'!A9","v":"T2"},null,{"$f":"SUMIF(Tabla1[MATRICULA],B10,Tabla1[€/SERVICIO])","v":0},null,{"$f":"SUMIFS(Tabla1[€/GASOIL],Tabla1[MATRICULA],B10,Tabla1[DESCRIPCIÓN DEL SERVICIO],\"Repostar GASOIL / TALLER\")","v":37.800000000000004},null,{"$f":"SUMIFS(Tabla1[€/GASOIL],Tabla1[MATRICULA],B10,Tabla1[DESCRIPCIÓN DEL SERVICIO],\"Repostar GASOIL / Externo\")","v":61},null,null,null,"Gasto FEBRERO",null,null,null,"Gasto ABRIL",null,null,null,"Gasto JUNIO",null,null,null,"Gasto AGOSTO",null,null,null,"Gasto OCTUBRE",null,null,null,"Gasto DICIEMBRE",null,null,null,"Junio",{"$f":"SUMIFS(Tabla1[€/SERVICIO],Tabla1[13/06/2018],\">=01/06/2018\",Tabla1[13/06/2018],\"<=30/06/2018\",Tabla1[MATRICULA],B5)","v":0},{"$f":"SUMIFS(Tabla1[€/GASOIL],Tabla1[13/06/2018],\">=01/06/2018\",Tabla1[13/06/2018],\"<=30/06/2018\",Tabla1[DESCRIPCIÓN DEL SERVICIO],\"Repostar GASOIL / TALLER\",Tabla1[MATRICULA],B5)","v":43.2},{"$f":"SUMIFS(Tabla1[€/GASOIL],Tabla1[13/06/2018],\">=01/06/2018\",Tabla1[13/06/2018],\"<=30/06/2018\",Tabla1[DESCRIPCIÓN DEL SERVICIO],\"Repostar GASOIL / Externo\",Tabla1[MATRICULA],B5)","v":0},null,"Junio",{"$f":"SUMIFS(Tabla1[€/SERVICIO],Tabla1[13/06/2018],\">=01/06/2018\",Tabla1[13/06/2018],\"<=30/06/2018\",Tabla1[MATRICULA],B6)","v":0},{"$f":"SUMIFS(Tabla1[€/GASOIL],Tabla1[13/06/2018],\">=01/06/2018\",Tabla1[13/06/2018],\"<=30/06/2018\",Tabla1[DESCRIPCIÓN DEL SERVICIO],\"Repostar GASOIL / TALLER\",Tabla1[MATRICULA],B6)","v":71.28},{"$f":"SUMIFS(Tabla1[€/GASOIL],Tabla1[13/06/2018],\">=01/06/2018\",Tabla1[13/06/2018],\"<=30/06/2018\",Tabla1[DESCRIPCIÓN DEL SERVICIO],\"Repostar GASOIL / Externo\",Tabla1[MATRICULA],B6)","v":0},null,"Junio",{"$f":"SUMIFS(Tabla1[€/SERVICIO],Tabla1[13/06/2018],\">=01/06/2018\",Tabla1[13/06/2018],\"<=30/06/2018\",Tabla1[MATRICULA],B7)","v":0},{"$f":"SUMIFS(Tabla1[€/GASOIL],Tabla1[13/06/2018],\">=01/06/2018\",Tabla1[13/06/2018],\"<=30/06/2018\",Tabla1[DESCRIPCIÓN DEL SERVICIO],\"Repostar GASOIL / TALLER\",Tabla1[MATRICULA],B7)","v":0},{"$f":"SUMIFS(Tabla1[€/GASOIL],Tabla1[13/06/2018],\">=01/06/2018\",Tabla1[13/06/2018],\"<=30/06/2018\",Tabla1[DESCRIPCIÓN DEL SERVICIO],\"Repostar GASOIL / Externo\",Tabla1[MATRICULA],B7)","v":0},null,"Junio",{"$f":"SUMIFS(Tabla1[€/SERVICIO],Tabla1[13/06/2018],\">=01/06/2018\",Tabla1[13/06/2018],\"<=30/06/2018\",Tabla1[MATRICULA],B8)","v":0},{"$f":"SUMIFS(Tabla1[€/GASOIL],Tabla1[13/06/2018],\">=01/06/2018\",Tabla1[13/06/2018],\"<=30/06/2018\",Tabla1[DESCRIPCIÓN DEL SERVICIO],\"Repostar GASOIL / TALLER\",Tabla1[MATRICULA],B8)","v":0},{"$f":"SUMIFS(Tabla1[€/GASOIL],Tabla1[13/06/2018],\">=01/06/2018\",Tabla1[13/06/2018],\"<=30/06/2018\",Tabla1[DESCRIPCIÓN DEL SERVICIO],\"Repostar GASOIL / Externo\",Tabla1[MATRICULA],B8)","v":0},null,"Junio",{"$f":"SUMIFS(Tabla1[€/SERVICIO],Tabla1[13/06/2018],\">=01/06/2018\",Tabla1[13/06/2018],\"<=30/06/2018\",Tabla1[MATRICULA],B9)","v":0},{"$f":"SUMIFS(Tabla1[€/GASOIL],Tabla1[13/06/2018],\">=01/06/2018\",Tabla1[13/06/2018],\"<=30/06/2018\",Tabla1[DESCRIPCIÓN DEL SERVICIO],\"Repostar GASOIL / TALLER\",Tabla1[MATRICULA],B9)","v":42.120000000000005},{"$f":"SUMIFS(Tabla1[€/GASOIL],Tabla1[13/06/2018],\">=01/06/2018\",Tabla1[13/06/2018],\"<=30/06/2018\",Tabla1[DESCRIPCIÓN DEL SERVICIO],\"Repostar GASOIL / Externo\",Tabla1[MATRICULA],B9)","v":0},null,"Junio",{"$f":"SUMIFS(Tabla1[€/SERVICIO],Tabla1[13/06/2018],\">=01/06/2018\",Tabla1[13/06/2018],\"<=30/06/2018\",Tabla1[MATRICULA],B10)","v":0},{"$f":"SUMIFS(Tabla1[€/GASOIL],Tabla1[13/06/2018],\">=01/06/2018\",Tabla1[13/06/2018],\"<=30/06/2018\",Tabla1[DESCRIPCIÓN DEL SERVICIO],\"Repostar GASOIL / TALLER\",Tabla1[MATRICULA],B10)","v":37.800000000000004},{"$f":"SUMIFS(Tabla1[€/GASOIL],Tabla1[13/06/2018],\">=01/06/2018\",Tabla1[13/06/2018],\"<=30/06/2018\",Tabla1[DESCRIPCIÓN DEL SERVICIO],\"Repostar GASOIL / Externo\",Tabla1[MATRICULA],B10)","v":36},null,"Junio",{"$f":"SUMIFS(Tabla1[€/SERVICIO],Tabla1[13/06/2018],\">=01/06/2018\",Tabla1[13/06/2018],\"<=30/06/2018\",Tabla1[MATRICULA],B11)","v":0},{"$f":"SUMIFS(Tabla1[€/GASOIL],Tabla1[13/06/2018],\">=01/06/2018\",Tabla1[13/06/2018],\"<=30/06/2018\",Tabla1[DESCRIPCIÓN DEL SERVICIO],\"Repostar GASOIL / TALLER\",Tabla1[MATRICULA],B11)","v":0},{"$f":"SUMIFS(Tabla1[€/GASOIL],Tabla1[13/06/2018],\">=01/06/2018\",Tabla1[13/06/2018],\"<=30/06/2018\",Tabla1[DESCRIPCIÓN DEL SERVICIO],\"Repostar GASOIL / Externo\",Tabla1[MATRICULA],B11)","v":0},null,"Junio",{"$f":"SUMIFS(Tabla1[€/SERVICIO],Tabla1[13/06/2018],\">=01/06/2018\",Tabla1[13/06/2018],\"<=30/06/2018\",Tabla1[MATRICULA],B12)","v":0},{"$f":"SUMIFS(Tabla1[€/GASOIL],Tabla1[13/06/2018],\">=01/06/2018\",Tabla1[13/06/2018],\"<=30/06/2018\",Tabla1[DESCRIPCIÓN DEL SERVICIO],\"Repostar GASOIL / TALLER\",Tabla1[MATRICULA],B12)","v":66.960000000000008},{"$f":"SUMIFS(Tabla1[€/GASOIL],Tabla1[13/06/2018],\">=01/06/2018\",Tabla1[13/06/2018],\"<=30/06/2018\",Tabla1[DESCRIPCIÓN DEL SERVICIO],\"Repostar GASOIL / Externo\",Tabla1[MATRICULA],B12)","v":0},null,"Junio",{"$f":"SUMIFS(Tabla1[€/SERVICIO],Tabla1[13/06/2018],\">=01/06/2018\",Tabla1[13/06/2018],\"<=30/06/2018\",Tabla1[MATRICULA],B13)","v":0},{"$f":"SUMIFS(Tabla1[€/GASOIL],Tabla1[13/06/2018],\">=01/06/2018\",Tabla1[13/06/2018],\"<=30/06/2018\",Tabla1[DESCRIPCIÓN DEL SERVICIO],\"Repostar GASOIL / TALLER\",Tabla1[MATRICULA],B13)","v":34.56},{"$f":"SUMIFS(Tabla1[€/GASOIL],Tabla1[13/06/2018],\">=01/06/2018\",Tabla1[13/06/2018],\"<=30/06/2018\",Tabla1[DESCRIPCIÓN DEL SERVICIO],\"Repostar GASOIL / Externo\",Tabla1[MATRICULA],B13)","v":0}]
[{"$f":"'DATOS PARA LISTAS DE MENU'!B10","v":"BMW"},{"$f":"'DATOS PARA LISTAS DE MENU'!C10","v":"8146 DCG"},{"$f":"'DATOS PARA LISTAS DE MENU'!A10","v":"T3"},null,{"$f":"SUMIF(Tabla1[MATRICULA],B11,Tabla1[€/SERVICIO])","v":0},null,{"$f":"SUMIFS(Tabla1[€/GASOIL],Tabla1[MATRICULA],B11,Tabla1[DESCRIPCIÓN DEL SERVICIO],\"Repostar GASOIL / TALLER\")","v":0},null,{"$f":"SUMIFS(Tabla1[€/GASOIL],Tabla1[MATRICULA],B11,Tabla1[DESCRIPCIÓN DEL SERVICIO],\"Repostar GASOIL / Externo\")","v":0},null,null,null,"Mantenimiento","Gasoil Taller","Gasoil Externo",null,"Mantenimiento","Gasoil Taller","Gasoil Externo",null,"Mantenimiento","Gasoil Taller","Gasoil Externo",null,"Mantenimiento","Gasoil Taller","Gasoil Externo",null,"Mantenimiento","Gasoil Taller","Gasoil Externo",null,"Mantenimiento","Gasoil Taller","Gasoil Externo",null,"Julio",{"$f":"SUMIFS(Tabla1[€/SERVICIO],Tabla1[13/06/2018],\">=01/07/2018\",Tabla1[13/06/2018],\"<=31/07/2018\",Tabla1[MATRICULA],B5)","v":0},{"$f":"SUMIFS(Tabla1[€/GASOIL],Tabla1[13/06/2018],\">=01/07/2018\",Tabla1[13/06/2018],\"<=31/07/2018\",Tabla1[DESCRIPCIÓN DEL SERVICIO],\"Repostar GASOIL / TALLER\",Tabla1[MATRICULA],B5)","v":0},{"$f":"SUMIFS(Tabla1[€/GASOIL],Tabla1[13/06/2018],\">=01/07/2018\",Tabla1[13/06/2018],\"<=31/07/2018\",Tabla1[DESCRIPCIÓN DEL SERVICIO],\"Repostar GASOIL / Externo\",Tabla1[MATRICULA],B5)","v":0},null,"Julio",{"$f":"SUMIFS(Tabla1[€/SERVICIO],Tabla1[13/06/2018],\">=01/07/2018\",Tabla1[13/06/2018],\"<=31/07/2018\",Tabla1[MATRICULA],B6)","v":0},{"$f":"SUMIFS(Tabla1[€/GASOIL],Tabla1[13/06/2018],\">=01/07/2018\",Tabla1[13/06/2018],\"<=31/07/2018\",Tabla1[DESCRIPCIÓN DEL SERVICIO],\"Repostar GASOIL / TALLER\",Tabla1[MATRICULA],B6)","v":0},{"$f":"SUMIFS(Tabla1[€/GASOIL],Tabla1[13/06/2018],\">=01/07/2018\",Tabla1[13/06/2018],\"<=31/07/2018\",Tabla1[DESCRIPCIÓN DEL SERVICIO],\"Repostar GASOIL / Externo\",Tabla1[MATRICULA],B6)","v":0},null,"Julio",{"$f":"SUMIFS(Tabla1[€/SERVICIO],Tabla1[13/06/2018],\">=01/07/2018\",Tabla1[13/06/2018],\"<=31/07/2018\",Tabla1[MATRICULA],B7)","v":0},{"$f":"SUMIFS(Tabla1[€/GASOIL],Tabla1[13/06/2018],\">=01/07/2018\",Tabla1[13/06/2018],\"<=31/07/2018\",Tabla1[DESCRIPCIÓN DEL SERVICIO],\"Repostar GASOIL / TALLER\",Tabla1[MATRICULA],B7)","v":0},{"$f":"SUMIFS(Tabla1[€/GASOIL],Tabla1[13/06/2018],\">=01/07/2018\",Tabla1[13/06/2018],\"<=31/07/2018\",Tabla1[DESCRIPCIÓN DEL SERVICIO],\"Repostar GASOIL / Externo\",Tabla1[MATRICULA],B7)","v":0},null,"Julio",{"$f":"SUMIFS(Tabla1[€/SERVICIO],Tabla1[13/06/2018],\">=01/07/2018\",Tabla1[13/06/2018],\"<=31/07/2018\",Tabla1[MATRICULA],B8)","v":0},{"$f":"SUMIFS(Tabla1[€/GASOIL],Tabla1[13/06/2018],\">=01/07/2018\",Tabla1[13/06/2018],\"<=31/07/2018\",Tabla1[DESCRIPCIÓN DEL SERVICIO],\"Repostar GASOIL / TALLER\",Tabla1[MATRICULA],B8)","v":0},{"$f":"SUMIFS(Tabla1[€/GASOIL],Tabla1[13/06/2018],\">=01/07/2018\",Tabla1[13/06/2018],\"<=31/07/2018\",Tabla1[DESCRIPCIÓN DEL SERVICIO],\"Repostar GASOIL / Externo\",Tabla1[MATRICULA],B8)","v":0},null,"Julio",{"$f":"SUMIFS(Tabla1[€/SERVICIO],Tabla1[13/06/2018],\">=01/07/2018\",Tabla1[13/06/2018],\"<=31/07/2018\",Tabla1[MATRICULA],B9)","v":0},{"$f":"SUMIFS(Tabla1[€/GASOIL],Tabla1[13/06/2018],\">=01/07/2018\",Tabla1[13/06/2018],\"<=31/07/2018\",Tabla1[DESCRIPCIÓN DEL SERVICIO],\"Repostar GASOIL / TALLER\",Tabla1[MATRICULA],B9)","v":0},{"$f":"SUMIFS(Tabla1[€/GASOIL],Tabla1[13/06/2018],\">=01/07/2018\",Tabla1[13/06/2018],\"<=31/07/2018\",Tabla1[DESCRIPCIÓN DEL SERVICIO],\"Repostar GASOIL / Externo\",Tabla1[MATRICULA],B9)","v":0},null,"Julio",{"$f":"SUMIFS(Tabla1[€/SERVICIO],Tabla1[13/06/2018],\">=01/07/2018\",Tabla1[13/06/2018],\"<=31/07/2018\",Tabla1[MATRICULA],B10)","v":0},{"$f":"SUMIFS(Tabla1[€/GASOIL],Tabla1[13/06/2018],\">=01/07/2018\",Tabla1[13/06/2018],\"<=31/07/2018\",Tabla1[DESCRIPCIÓN DEL SERVICIO],\"Repostar GASOIL / TALLER\",Tabla1[MATRICULA],B10)","v":0},{"$f":"SUMIFS(Tabla1[€/GASOIL],Tabla1[13/06/2018],\">=01/07/2018\",Tabla1[13/06/2018],\"<=31/07/2018\",Tabla1[DESCRIPCIÓN DEL SERVICIO],\"Repostar GASOIL / Externo\",Tabla1[MATRICULA],B10)","v":0},null,"Julio",{"$f":"SUMIFS(Tabla1[€/SERVICIO],Tabla1[13/06/2018],\">=01/07/2018\",Tabla1[13/06/2018],\"<=31/07/2018\",Tabla1[MATRICULA],B11)","v":0},{"$f":"SUMIFS(Tabla1[€/GASOIL],Tabla1[13/06/2018],\">=01/07/2018\",Tabla1[13/06/2018],\"<=31/07/2018\",Tabla1[DESCRIPCIÓN DEL SERVICIO],\"Repostar GASOIL / TALLER\",Tabla1[MATRICULA],B11)","v":0},{"$f":"SUMIFS(Tabla1[€/GASOIL],Tabla1[13/06/2018],\">=01/07/2018\",Tabla1[13/06/2018],\"<=31/07/2018\",Tabla1[DESCRIPCIÓN DEL SERVICIO],\"Repostar GASOIL / Externo\",Tabla1[MATRICULA],B11)","v":0},null,"Julio",{"$f":"SUMIFS(Tabla1[€/SERVICIO],Tabla1[13/06/2018],\">=01/07/2018\",Tabla1[13/06/2018],\"<=31/07/2018\",Tabla1[MATRICULA],B12)","v":0},{"$f":"SUMIFS(Tabla1[€/GASOIL],Tabla1[13/06/2018],\">=01/07/2018\",Tabla1[13/06/2018],\"<=31/07/2018\",Tabla1[DESCRIPCIÓN DEL SERVICIO],\"Repostar GASOIL / TALLER\",Tabla1[MATRICULA],B12)","v":0},{"$f":"SUMIFS(Tabla1[€/GASOIL],Tabla1[13/06/2018],\">=01/07/2018\",Tabla1[13/06/2018],\"<=31/07/2018\",Tabla1[DESCRIPCIÓN DEL SERVICIO],\"Repostar GASOIL / Externo\",Tabla1[MATRICULA],B12)","v":0},null,"Julio",{"$f":"SUMIFS(Tabla1[€/SERVICIO],Tabla1[13/06/2018],\">=01/07/2018\",Tabla1[13/06/2018],\"<=31/07/2018\",Tabla1[MATRICULA],B13)","v":0},{"$f":"SUMIFS(Tabla1[€/GASOIL],Tabla1[13/06/2018],\">=01/07/2018\",Tabla1[13/06/2018],\"<=31/07/2018\",Tabla1[DESCRIPCIÓN DEL SERVICIO],\"Repostar GASOIL / TALLER\",Tabla1[MATRICULA],B13)","v":0},{"$f":"SUMIFS(Tabla1[€/GASOIL],Tabla1[13/06/2018],\">=01/07/2018\",Tabla1[13/06/2018],\"<=31/07/2018\",Tabla1[DESCRIPCIÓN DEL SERVICIO],\"Repostar GASOIL / Externo\",Tabla1[MATRICULA],B13)","v":0}]
[{"$f":"'DATOS PARA LISTAS DE MENU'!B11","v":"OPEL INSIGNIA"},{"$f":"'DATOS PARA LISTAS DE MENU'!C11","v":"6189 GRV"},{"$f":"'DATOS PARA LISTAS DE MENU'!A11","v":"T4"},null,{"$f":"SUMIF(Tabla1[MATRICULA],B12,Tabla1[€/SERVICIO])","v":0},null,{"$f":"SUMIFS(Tabla1[€/GASOIL],Tabla1[MATRICULA],B12,Tabla1[DESCRIPCIÓN DEL SERVICIO],\"Repostar GASOIL / TALLER\")","v":66.960000000000008},null,{"$f":"SUMIFS(Tabla1[€/GASOIL],Tabla1[MATRICULA],B12,Tabla1[DESCRIPCIÓN DEL SERVICIO],\"Repostar GASOIL / Externo\")","v":0},null,null,null,{"$f":"SUMIFS(Tabla1[€/SERVICIO],Tabla1[13/06/2018],\">=01/02/2018\",Tabla1[13/06/2018],\"<=28/02/2018\")","v":0},{"$f":"SUMIFS(Tabla1[€/GASOIL],Tabla1[13/06/2018],\">=01/02/2018\",Tabla1[13/06/2018],\"<=28/02/2018\",Tabla1[DESCRIPCIÓN DEL SERVICIO],\"Repostar GASOIL / TALLER\")","v":0},{"$f":"SUMIFS(Tabla1[€/GASOIL],Tabla1[13/06/2018],\">=01/02/2018\",Tabla1[13/06/2018],\"<=28/02/2018\",Tabla1[DESCRIPCIÓN DEL SERVICIO],\"Repostar GASOIL / Externo\")","v":76},null,{"$f":"SUMIFS(Tabla1[€/SERVICIO],Tabla1[13/06/2018],\">=01/04/2018\",Tabla1[13/06/2018],\"<=30/04/2018\")","v":0},{"$f":"SUMIFS(Tabla1[€/GASOIL],Tabla1[13/06/2018],\">=01/04/2018\",Tabla1[13/06/2018],\"<=31/04/2018\",Tabla1[DESCRIPCIÓN DEL SERVICIO],\"Repostar GASOIL / TALLER\")","v":0},{"$f":"SUMIFS(Tabla1[€/GASOIL],Tabla1[13/06/2018],\">=01/04/2018\",Tabla1[13/06/2018],\"<=31/04/2018\",Tabla1[DESCRIPCIÓN DEL SERVICIO],\"Repostar GASOIL / Externo\")","v":0},null,{"$f":"SUMIFS(Tabla1[€/SERVICIO],Tabla1[13/06/2018],\">=01/06/2018\",Tabla1[13/06/2018],\"<=30/06/2018\")","v":0},{"$f":"SUMIFS(Tabla1[€/GASOIL],Tabla1[13/06/2018],\">=01/06/2018\",Tabla1[13/06/2018],\"<=30/06/2018\",Tabla1[DESCRIPCIÓN DEL SERVICIO],\"Repostar GASOIL / TALLER\")","v":295.92000000000007},{"$f":"SUMIFS(Tabla1[€/GASOIL],Tabla1[13/06/2018],\">=01/06/2018\",Tabla1[13/06/2018],\"<=30/06/2018\",Tabla1[DESCRIPCIÓN DEL SERVICIO],\"Repostar GASOIL / Externo\")","v":36},null,{"$f":"SUMIFS(Tabla1[€/SERVICIO],Tabla1[13/06/2018],\">=01/08/2018\",Tabla1[13/06/2018],\"<=31/08/2018\")","v":0},{"$f":"SUMIFS(Tabla1[€/GASOIL],Tabla1[13/06/2018],\">=01/08/2018\",Tabla1[13/06/2018],\"<=31/08/2018\",Tabla1[DESCRIPCIÓN DEL SERVICIO],\"Repostar GASOIL / TALLER\")","v":0},{"$f":"SUMIFS(Tabla1[€/GASOIL],Tabla1[13/06/2018],\">=01/08/2018\",Tabla1[13/06/2018],\"<=31/08/2018\",Tabla1[DESCRIPCIÓN DEL SERVICIO],\"Repostar GASOIL / Externo\")","v":0},null,{"$f":"SUMIFS(Tabla1[€/SERVICIO],Tabla1[13/06/2018],\">=01/10/2018\",Tabla1[13/06/2018],\"<=31/10/2018\")","v":0},{"$f":"SUMIFS(Tabla1[€/GASOIL],Tabla1[13/06/2018],\">=01/10/2018\",Tabla1[13/06/2018],\"<=31/10/2018\",Tabla1[DESCRIPCIÓN DEL SERVICIO],\"Repostar GASOIL / TALLER\")","v":0},{"$f":"SUMIFS(Tabla1[€/GASOIL],Tabla1[13/06/2018],\">=01/10/2018\",Tabla1[13/06/2018],\"<=31/10/2018\",Tabla1[DESCRIPCIÓN DEL SERVICIO],\"Repostar GASOIL / Externo\")","v":0},null,{"$f":"SUMIFS(Tabla1[€/SERVICIO],Tabla1[13/06/2018],\">=01/12/2018\",Tabla1[13/06/2018],\"<=31/12/2018\")","v":0},{"$f":"SUMIFS(Tabla1[€/GASOIL],Tabla1[13/06/2018],\">=01/12/2018\",Tabla1[13/06/2018],\"<=31/12/2018\",Tabla1[DESCRIPCIÓN DEL SERVICIO],\"Repostar GASOIL / TALLER\")","v":0},{"$f":"SUMIFS(Tabla1[€/GASOIL],Tabla1[13/06/2018],\">=01/12/2018\",Tabla1[13/06/2018],\"<=31/12/2018\",Tabla1[DESCRIPCIÓN DEL SERVICIO],\"Repostar GASOIL / Externo\")","v":0},null,"Agosto",{"$f":"SUMIFS(Tabla1[€/SERVICIO],Tabla1[13/06/2018],\">=01/08/2018\",Tabla1[13/06/2018],\"<=31/08/2018\",Tabla1[MATRICULA],B5)","v":0},{"$f":"SUMIFS(Tabla1[€/GASOIL],Tabla1[13/06/2018],\">=01/08/2018\",Tabla1[13/06/2018],\"<=31/08/2018\",Tabla1[DESCRIPCIÓN DEL SERVICIO],\"Repostar GASOIL / TALLER\",Tabla1[MATRICULA],B5)","v":0},{"$f":"SUMIFS(Tabla1[€/GASOIL],Tabla1[13/06/2018],\">=01/08/2018\",Tabla1[13/06/2018],\"<=31/08/2018\",Tabla1[DESCRIPCIÓN DEL SERVICIO],\"Repostar GASOIL / Externo\",Tabla1[MATRICULA],B5)","v":0},null,"Agosto",{"$f":"SUMIFS(Tabla1[€/SERVICIO],Tabla1[13/06/2018],\">=01/08/2018\",Tabla1[13/06/2018],\"<=31/08/2018\",Tabla1[MATRICULA],B6)","v":0},{"$f":"SUMIFS(Tabla1[€/GASOIL],Tabla1[13/06/2018],\">=01/08/2018\",Tabla1[13/06/2018],\"<=31/08/2018\",Tabla1[DESCRIPCIÓN DEL SERVICIO],\"Repostar GASOIL / TALLER\",Tabla1[MATRICULA],B6)","v":0},{"$f":"SUMIFS(Tabla1[€/GASOIL],Tabla1[13/06/2018],\">=01/08/2018\",Tabla1[13/06/2018],\"<=31/08/2018\",Tabla1[DESCRIPCIÓN DEL SERVICIO],\"Repostar GASOIL / Externo\",Tabla1[MATRICULA],B6)","v":0},null,"Agosto",{"$f":"SUMIFS(Tabla1[€/SERVICIO],Tabla1[13/06/2018],\">=01/08/2018\",Tabla1[13/06/2018],\"<=31/08/2018\",Tabla1[MATRICULA],B7)","v":0},{"$f":"SUMIFS(Tabla1[€/GASOIL],Tabla1[13/06/2018],\">=01/08/2018\",Tabla1[13/06/2018],\"<=31/08/2018\",Tabla1[DESCRIPCIÓN DEL SERVICIO],\"Repostar GASOIL / TALLER\",Tabla1[MATRICULA],B7)","v":0},{"$f":"SUMIFS(Tabla1[€/GASOIL],Tabla1[13/06/2018],\">=01/08/2018\",Tabla1[13/06/2018],\"<=31/08/2018\",Tabla1[DESCRIPCIÓN DEL SERVICIO],\"Repostar GASOIL / Externo\",Tabla1[MATRICULA],B7)","v":0},null,"Agosto",{"$f":"SUMIFS(Tabla1[€/SERVICIO],Tabla1[13/06/2018],\">=01/08/2018\",Tabla1[13/06/2018],\"<=31/08/2018\",Tabla1[MATRICULA],B8)","v":0},{"$f":"SUMIFS(Tabla1[€/GASOIL],Tabla1[13/06/2018],\">=01/08/2018\",Tabla1[13/06/2018],\"<=31/08/2018\",Tabla1[DESCRIPCIÓN DEL SERVICIO],\"Repostar GASOIL / TALLER\",Tabla1[MATRICULA],B8)","v":0},{"$f":"SUMIFS(Tabla1[€/GASOIL],Tabla1[13/06/2018],\">=01/08/2018\",Tabla1[13/06/2018],\"<=31/08/2018\",Tabla1[DESCRIPCIÓN DEL SERVICIO],\"Repostar GASOIL / Externo\",Tabla1[MATRICULA],B8)","v":0},null,"Agosto",{"$f":"SUMIFS(Tabla1[€/SERVICIO],Tabla1[13/06/2018],\">=01/08/2018\",Tabla1[13/06/2018],\"<=31/08/2018\",Tabla1[MATRICULA],B9)","v":0},{"$f":"SUMIFS(Tabla1[€/GASOIL],Tabla1[13/06/2018],\">=01/08/2018\",Tabla1[13/06/2018],\"<=31/08/2018\",Tabla1[DESCRIPCIÓN DEL SERVICIO],\"Repostar GASOIL / TALLER\",Tabla1[MATRICULA],B9)","v":0},{"$f":"SUMIFS(Tabla1[€/GASOIL],Tabla1[13/06/2018],\">=01/08/2018\",Tabla1[13/06/2018],\"<=31/08/2018\",Tabla1[DESCRIPCIÓN DEL SERVICIO],\"Repostar GASOIL / Externo\",Tabla1[MATRICULA],B9)","v":0},null,"Agosto",{"$f":"SUMIFS(Tabla1[€/SERVICIO],Tabla1[13/06/2018],\">=01/08/2018\",Tabla1[13/06/2018],\"<=31/08/2018\",Tabla1[MATRICULA],B10)","v":0},{"$f":"SUMIFS(Tabla1[€/GASOIL],Tabla1[13/06/2018],\">=01/08/2018\",Tabla1[13/06/2018],\"<=31/08/2018\",Tabla1[DESCRIPCIÓN DEL SERVICIO],\"Repostar GASOIL / TALLER\",Tabla1[MATRICULA],B10)","v":0},{"$f":"SUMIFS(Tabla1[€/GASOIL],Tabla1[13/06/2018],\">=01/08/2018\",Tabla1[13/06/2018],\"<=31/08/2018\",Tabla1[DESCRIPCIÓN DEL SERVICIO],\"Repostar GASOIL / Externo\",Tabla1[MATRICULA],B10)","v":0},null,"Agosto",{"$f":"SUMIFS(Tabla1[€/SERVICIO],Tabla1[13/06/2018],\">=01/08/2018\",Tabla1[13/06/2018],\"<=31/08/2018\",Tabla1[MATRICULA],B11)","v":0},{"$f":"SUMIFS(Tabla1[€/GASOIL],Tabla1[13/06/2018],\">=01/08/2018\",Tabla1[13/06/2018],\"<=31/08/2018\",Tabla1[DESCRIPCIÓN DEL SERVICIO],\"Repostar GASOIL / TALLER\",Tabla1[MATRICULA],B11)","v":0},{"$f":"SUMIFS(Tabla1[€/GASOIL],Tabla1[13/06/2018],\">=01/08/2018\",Tabla1[13/06/2018],\"<=31/08/2018\",Tabla1[DESCRIPCIÓN DEL SERVICIO],\"Repostar GASOIL / Externo\",Tabla1[MATRICULA],B11)","v":0},null,"Agosto",{"$f":"SUMIFS(Tabla1[€/SERVICIO],Tabla1[13/06/2018],\">=01/08/2018\",Tabla1[13/06/2018],\"<=31/08/2018\",Tabla1[MATRICULA],B12)","v":0},{"$f":"SUMIFS(Tabla1[€/GASOIL],Tabla1[13/06/2018],\">=01/08/2018\",Tabla1[13/06/2018],\"<=31/08/2018\",Tabla1[DESCRIPCIÓN DEL SERVICIO],\"Repostar GASOIL / TALLER\",Tabla1[MATRICULA],B12)","v":0},{"$f":"SUMIFS(Tabla1[€/GASOIL],Tabla1[13/06/2018],\">=01/08/2018\",Tabla1[13/06/2018],\"<=31/08/2018\",Tabla1[DESCRIPCIÓN DEL SERVICIO],\"Repostar GASOIL / Externo\",Tabla1[MATRICULA],B12)","v":0},null,"Agosto",{"$f":"SUMIFS(Tabla1[€/SERVICIO],Tabla1[13/06/2018],\">=01/08/2018\",Tabla1[13/06/2018],\"<=31/08/2018\",Tabla1[MATRICULA],B13)","v":0},{"$f":"SUMIFS(Tabla1[€/GASOIL],Tabla1[13/06/2018],\">=01/08/2018\",Tabla1[13/06/2018],\"<=31/08/2018\",Tabla1[DESCRIPCIÓN DEL SERVICIO],\"Repostar GASOIL / TALLER\",Tabla1[MATRICULA],B13)","v":0},{"$f":"SUMIFS(Tabla1[€/GASOIL],Tabla1[13/06/2018],\">=01/08/2018\",Tabla1[13/06/2018],\"<=31/08/2018\",Tabla1[DESCRIPCIÓN DEL SERVICIO],\"Repostar GASOIL / Externo\",Tabla1[MATRICULA],B13)","v":0}]
[{"$f":"'DATOS PARA LISTAS DE MENU'!B12","v":"PEUGEOT 206"},{"$f":"'DATOS PARA LISTAS DE MENU'!C12","v":"0035 DNY"},{"$f":"'DATOS PARA LISTAS DE MENU'!A12","v":"T1"},null,{"$f":"SUMIF(Tabla1[MATRICULA],B13,Tabla1[€/SERVICIO])","v":0},null,{"$f":"SUMIFS(Tabla1[€/GASOIL],Tabla1[MATRICULA],B13,Tabla1[DESCRIPCIÓN DEL SERVICIO],\"Repostar GASOIL / TALLER\")","v":34.56},null,{"$f":"SUMIFS(Tabla1[€/GASOIL],Tabla1[MATRICULA],B13,Tabla1[DESCRIPCIÓN DEL SERVICIO],\"Repostar GASOIL / Externo\")","v":0},null,null,null,null,null,null,null,null,null,null,null,null,null,null,null,null,null,null,null,null,null,null,null,null,null,null,null,"Septiembre",{"$f":"SUMIFS(Tabla1[€/SERVICIO],Tabla1[13/06/2018],\">=01/09/2018\",Tabla1[13/06/2018],\"<=30/09/2018\",Tabla1[MATRICULA],B5)","v":0},{"$f":"SUMIFS(Tabla1[€/GASOIL],Tabla1[13/06/2018],\">=01/09/2018\",Tabla1[13/06/2018],\"<=30/08/2018\",Tabla1[DESCRIPCIÓN DEL SERVICIO],\"Repostar GASOIL / TALLER\",Tabla1[MATRICULA],B5)","v":0},{"$f":"SUMIFS(Tabla1[€/GASOIL],Tabla1[13/06/2018],\">=01/09/2018\",Tabla1[13/06/2018],\"<=30/08/2018\",Tabla1[DESCRIPCIÓN DEL SERVICIO],\"Repostar GASOIL / Externo\",Tabla1[MATRICULA],B5)","v":0},null,"Septiembre",{"$f":"SUMIFS(Tabla1[€/SERVICIO],Tabla1[13/06/2018],\">=01/09/2018\",Tabla1[13/06/2018],\"<=30/09/2018\",Tabla1[MATRICULA],B6)","v":0},{"$f":"SUMIFS(Tabla1[€/GASOIL],Tabla1[13/06/2018],\">=01/09/2018\",Tabla1[13/06/2018],\"<=30/08/2018\",Tabla1[DESCRIPCIÓN DEL SERVICIO],\"Repostar GASOIL / TALLER\",Tabla1[MATRICULA],B6)","v":0},{"$f":"SUMIFS(Tabla1[€/GASOIL],Tabla1[13/06/2018],\">=01/09/2018\",Tabla1[13/06/2018],\"<=30/08/2018\",Tabla1[DESCRIPCIÓN DEL SERVICIO],\"Repostar GASOIL / Externo\",Tabla1[MATRICULA],B6)","v":0},null,"Septiembre",{"$f":"SUMIFS(Tabla1[€/SERVICIO],Tabla1[13/06/2018],\">=01/09/2018\",Tabla1[13/06/2018],\"<=30/09/2018\",Tabla1[MATRICULA],B7)","v":0},{"$f":"SUMIFS(Tabla1[€/GASOIL],Tabla1[13/06/2018],\">=01/09/2018\",Tabla1[13/06/2018],\"<=30/08/2018\",Tabla1[DESCRIPCIÓN DEL SERVICIO],\"Repostar GASOIL / TALLER\",Tabla1[MATRICULA],B7)","v":0},{"$f":"SUMIFS(Tabla1[€/GASOIL],Tabla1[13/06/2018],\">=01/09/2018\",Tabla1[13/06/2018],\"<=30/08/2018\",Tabla1[DESCRIPCIÓN DEL SERVICIO],\"Repostar GASOIL / Externo\",Tabla1[MATRICULA],B7)","v":0},null,"Septiembre",{"$f":"SUMIFS(Tabla1[€/SERVICIO],Tabla1[13/06/2018],\">=01/09/2018\",Tabla1[13/06/2018],\"<=30/09/2018\",Tabla1[MATRICULA],B8)","v":0},{"$f":"SUMIFS(Tabla1[€/GASOIL],Tabla1[13/06/2018],\">=01/09/2018\",Tabla1[13/06/2018],\"<=30/08/2018\",Tabla1[DESCRIPCIÓN DEL SERVICIO],\"Repostar GASOIL / TALLER\",Tabla1[MATRICULA],B8)","v":0},{"$f":"SUMIFS(Tabla1[€/GASOIL],Tabla1[13/06/2018],\">=01/09/2018\",Tabla1[13/06/2018],\"<=30/08/2018\",Tabla1[DESCRIPCIÓN DEL SERVICIO],\"Repostar GASOIL / Externo\",Tabla1[MATRICULA],B8)","v":0},null,"Septiembre",{"$f":"SUMIFS(Tabla1[€/SERVICIO],Tabla1[13/06/2018],\">=01/09/2018\",Tabla1[13/06/2018],\"<=30/09/2018\",Tabla1[MATRICULA],B9)","v":0},{"$f":"SUMIFS(Tabla1[€/GASOIL],Tabla1[13/06/2018],\">=01/09/2018\",Tabla1[13/06/2018],\"<=30/08/2018\",Tabla1[DESCRIPCIÓN DEL SERVICIO],\"Repostar GASOIL / TALLER\",Tabla1[MATRICULA],B9)","v":0},{"$f":"SUMIFS(Tabla1[€/GASOIL],Tabla1[13/06/2018],\">=01/09/2018\",Tabla1[13/06/2018],\"<=30/08/2018\",Tabla1[DESCRIPCIÓN DEL SERVICIO],\"Repostar GASOIL / Externo\",Tabla1[MATRICULA],B9)","v":0},null,"Septiembre",{"$f":"SUMIFS(Tabla1[€/SERVICIO],Tabla1[13/06/2018],\">=01/09/2018\",Tabla1[13/06/2018],\"<=30/09/2018\",Tabla1[MATRICULA],B10)","v":0},{"$f":"SUMIFS(Tabla1[€/GASOIL],Tabla1[13/06/2018],\">=01/09/2018\",Tabla1[13/06/2018],\"<=30/08/2018\",Tabla1[DESCRIPCIÓN DEL SERVICIO],\"Repostar GASOIL / TALLER\",Tabla1[MATRICULA],B10)","v":0},{"$f":"SUMIFS(Tabla1[€/GASOIL],Tabla1[13/06/2018],\">=01/09/2018\",Tabla1[13/06/2018],\"<=30/08/2018\",Tabla1[DESCRIPCIÓN DEL SERVICIO],\"Repostar GASOIL / Externo\",Tabla1[MATRICULA],B10)","v":0},null,"Septiembre",{"$f":"SUMIFS(Tabla1[€/SERVICIO],Tabla1[13/06/2018],\">=01/09/2018\",Tabla1[13/06/2018],\"<=30/09/2018\",Tabla1[MATRICULA],B11)","v":0},{"$f":"SUMIFS(Tabla1[€/GASOIL],Tabla1[13/06/2018],\">=01/09/2018\",Tabla1[13/06/2018],\"<=30/08/2018\",Tabla1[DESCRIPCIÓN DEL SERVICIO],\"Repostar GASOIL / TALLER\",Tabla1[MATRICULA],B11)","v":0},{"$f":"SUMIFS(Tabla1[€/GASOIL],Tabla1[13/06/2018],\">=01/09/2018\",Tabla1[13/06/2018],\"<=30/08/2018\",Tabla1[DESCRIPCIÓN DEL SERVICIO],\"Repostar GASOIL / Externo\",Tabla1[MATRICULA],B11)","v":0},null,"Septiembre",{"$f":"SUMIFS(Tabla1[€/SERVICIO],Tabla1[13/06/2018],\">=01/09/2018\",Tabla1[13/06/2018],\"<=30/09/2018\",Tabla1[MATRICULA],B12)","v":0},{"$f":"SUMIFS(Tabla1[€/GASOIL],Tabla1[13/06/2018],\">=01/09/2018\",Tabla1[13/06/2018],\"<=30/08/2018\",Tabla1[DESCRIPCIÓN DEL SERVICIO],\"Repostar GASOIL / TALLER\",Tabla1[MATRICULA],B12)","v":0},{"$f":"SUMIFS(Tabla1[€/GASOIL],Tabla1[13/06/2018],\">=01/09/2018\",Tabla1[13/06/2018],\"<=30/08/2018\",Tabla1[DESCRIPCIÓN DEL SERVICIO],\"Repostar GASOIL / Externo\",Tabla1[MATRICULA],B12)","v":0},null,"Septiembre",{"$f":"SUMIFS(Tabla1[€/SERVICIO],Tabla1[13/06/2018],\">=01/09/2018\",Tabla1[13/06/2018],\"<=30/09/2018\",Tabla1[MATRICULA],B13)","v":0},{"$f":"SUMIFS(Tabla1[€/GASOIL],Tabla1[13/06/2018],\">=01/09/2018\",Tabla1[13/06/2018],\"<=30/08/2018\",Tabla1[DESCRIPCIÓN DEL SERVICIO],\"Repostar GASOIL / TALLER\",Tabla1[MATRICULA],B13)","v":0},{"$f":"SUMIFS(Tabla1[€/GASOIL],Tabla1[13/06/2018],\">=01/09/2018\",Tabla1[13/06/2018],\"<=30/08/2018\",Tabla1[DESCRIPCIÓN DEL SERVICIO],\"Repostar GASOIL / Externo\",Tabla1[MATRICULA],B13)","v":0}]
[null,null,null,null,{"$f":"SUMIF(Tabla1[MATRICULA],B14,Tabla1[€/SERVICIO])","v":0},null,{"$f":"SUMIFS(Tabla1[€/GASOIL],Tabla1[MATRICULA],B14,Tabla1[DESCRIPCIÓN DEL SERVICIO],\"Repostar GASOIL / TALLER\")","v":0},null,{"$f":"SUMIFS(Tabla1[€/GASOIL],Tabla1[MATRICULA],B14,Tabla1[DESCRIPCIÓN DEL SERVICIO],\"Repostar GASOIL / Externo\")","v":0},null,null,null,null,null,null,null,null,null,null,null,null,null,null,null,null,null,null,null,null,null,null,null,null,null,null,null,"Octubre",{"$f":"SUMIFS(Tabla1[€/SERVICIO],Tabla1[13/06/2018],\">=01/10/2018\",Tabla1[13/06/2018],\"<=31/10/2018\",Tabla1[MATRICULA],B5)","v":0},{"$f":"SUMIFS(Tabla1[€/GASOIL],Tabla1[13/06/2018],\">=01/10/2018\",Tabla1[13/06/2018],\"<=31/10/2018\",Tabla1[DESCRIPCIÓN DEL SERVICIO],\"Repostar GASOIL / TALLER\",Tabla1[MATRICULA],B5)","v":0},{"$f":"SUMIFS(Tabla1[€/GASOIL],Tabla1[13/06/2018],\">=01/10/2018\",Tabla1[13/06/2018],\"<=31/10/2018\",Tabla1[DESCRIPCIÓN DEL SERVICIO],\"Repostar GASOIL / Externo\",Tabla1[MATRICULA],B5)","v":0},null,"Octubre",{"$f":"SUMIFS(Tabla1[€/SERVICIO],Tabla1[13/06/2018],\">=01/10/2018\",Tabla1[13/06/2018],\"<=31/10/2018\",Tabla1[MATRICULA],B6)","v":0},{"$f":"SUMIFS(Tabla1[€/GASOIL],Tabla1[13/06/2018],\">=01/10/2018\",Tabla1[13/06/2018],\"<=31/10/2018\",Tabla1[DESCRIPCIÓN DEL SERVICIO],\"Repostar GASOIL / TALLER\",Tabla1[MATRICULA],B6)","v":0},{"$f":"SUMIFS(Tabla1[€/GASOIL],Tabla1[13/06/2018],\">=01/10/2018\",Tabla1[13/06/2018],\"<=31/10/2018\",Tabla1[DESCRIPCIÓN DEL SERVICIO],\"Repostar GASOIL / Externo\",Tabla1[MATRICULA],B6)","v":0},null,"Octubre",{"$f":"SUMIFS(Tabla1[€/SERVICIO],Tabla1[13/06/2018],\">=01/10/2018\",Tabla1[13/06/2018],\"<=31/10/2018\",Tabla1[MATRICULA],B7)","v":0},{"$f":"SUMIFS(Tabla1[€/GASOIL],Tabla1[13/06/2018],\">=01/10/2018\",Tabla1[13/06/2018],\"<=31/10/2018\",Tabla1[DESCRIPCIÓN DEL SERVICIO],\"Repostar GASOIL / TALLER\",Tabla1[MATRICULA],B7)","v":0},{"$f":"SUMIFS(Tabla1[€/GASOIL],Tabla1[13/06/2018],\">=01/10/2018\",Tabla1[13/06/2018],\"<=31/10/2018\",Tabla1[DESCRIPCIÓN DEL SERVICIO],\"Repostar GASOIL / Externo\",Tabla1[MATRICULA],B7)","v":0},null,"Octubre",{"$f":"SUMIFS(Tabla1[€/SERVICIO],Tabla1[13/06/2018],\">=01/10/2018\",Tabla1[13/06/2018],\"<=31/10/2018\",Tabla1[MATRICULA],B8)","v":0},{"$f":"SUMIFS(Tabla1[€/GASOIL],Tabla1[13/06/2018],\">=01/10/2018\",Tabla1[13/06/2018],\"<=31/10/2018\",Tabla1[DESCRIPCIÓN DEL SERVICIO],\"Repostar GASOIL / TALLER\",Tabla1[MATRICULA],B8)","v":0},{"$f":"SUMIFS(Tabla1[€/GASOIL],Tabla1[13/06/2018],\">=01/10/2018\",Tabla1[13/06/2018],\"<=31/10/2018\",Tabla1[DESCRIPCIÓN DEL SERVICIO],\"Repostar GASOIL / Externo\",Tabla1[MATRICULA],B8)","v":0},null,"Octubre",{"$f":"SUMIFS(Tabla1[€/SERVICIO],Tabla1[13/06/2018],\">=01/10/2018\",Tabla1[13/06/2018],\"<=31/10/2018\",Tabla1[MATRICULA],B9)","v":0},{"$f":"SUMIFS(Tabla1[€/GASOIL],Tabla1[13/06/2018],\">=01/10/2018\",Tabla1[13/06/2018],\"<=31/10/2018\",Tabla1[DESCRIPCIÓN DEL SERVICIO],\"Repostar GASOIL / TALLER\",Tabla1[MATRICULA],B9)","v":0},{"$f":"SUMIFS(Tabla1[€/GASOIL],Tabla1[13/06/2018],\">=01/10/2018\",Tabla1[13/06/2018],\"<=31/10/2018\",Tabla1[DESCRIPCIÓN DEL SERVICIO],\"Repostar GASOIL / Externo\",Tabla1[MATRICULA],B9)","v":0},null,"Octubre",{"$f":"SUMIFS(Tabla1[€/SERVICIO],Tabla1[13/06/2018],\">=01/10/2018\",Tabla1[13/06/2018],\"<=31/10/2018\",Tabla1[MATRICULA],B10)","v":0},{"$f":"SUMIFS(Tabla1[€/GASOIL],Tabla1[13/06/2018],\">=01/10/2018\",Tabla1[13/06/2018],\"<=31/10/2018\",Tabla1[DESCRIPCIÓN DEL SERVICIO],\"Repostar GASOIL / TALLER\",Tabla1[MATRICULA],B10)","v":0},{"$f":"SUMIFS(Tabla1[€/GASOIL],Tabla1[13/06/2018],\">=01/10/2018\",Tabla1[13/06/2018],\"<=31/10/2018\",Tabla1[DESCRIPCIÓN DEL SERVICIO],\"Repostar GASOIL / Externo\",Tabla1[MATRICULA],B10)","v":0},null,"Octubre",{"$f":"SUMIFS(Tabla1[€/SERVICIO],Tabla1[13/06/2018],\">=01/10/2018\",Tabla1[13/06/2018],\"<=31/10/2018\",Tabla1[MATRICULA],B11)","v":0},{"$f":"SUMIFS(Tabla1[€/GASOIL],Tabla1[13/06/2018],\">=01/10/2018\",Tabla1[13/06/2018],\"<=31/10/2018\",Tabla1[DESCRIPCIÓN DEL SERVICIO],\"Repostar GASOIL / TALLER\",Tabla1[MATRICULA],B11)","v":0},{"$f":"SUMIFS(Tabla1[€/GASOIL],Tabla1[13/06/2018],\">=01/10/2018\",Tabla1[13/06/2018],\"<=31/10/2018\",Tabla1[DESCRIPCIÓN DEL SERVICIO],\"Repostar GASOIL / Externo\",Tabla1[MATRICULA],B11)","v":0},null,"Octubre",{"$f":"SUMIFS(Tabla1[€/SERVICIO],Tabla1[13/06/2018],\">=01/10/2018\",Tabla1[13/06/2018],\"<=31/10/2018\",Tabla1[MATRICULA],B12)","v":0},{"$f":"SUMIFS(Tabla1[€/GASOIL],Tabla1[13/06/2018],\">=01/10/2018\",Tabla1[13/06/2018],\"<=31/10/2018\",Tabla1[DESCRIPCIÓN DEL SERVICIO],\"Repostar GASOIL / TALLER\",Tabla1[MATRICULA],B12)","v":0},{"$f":"SUMIFS(Tabla1[€/GASOIL],Tabla1[13/06/2018],\">=01/10/2018\",Tabla1[13/06/2018],\"<=31/10/2018\",Tabla1[DESCRIPCIÓN DEL SERVICIO],\"Repostar GASOIL / Externo\",Tabla1[MATRICULA],B12)","v":0},null,"Octubre",{"$f":"SUMIFS(Tabla1[€/SERVICIO],Tabla1[13/06/2018],\">=01/10/2018\",Tabla1[13/06/2018],\"<=31/10/2018\",Tabla1[MATRICULA],B13)","v":0},{"$f":"SUMIFS(Tabla1[€/GASOIL],Tabla1[13/06/2018],\">=01/10/2018\",Tabla1[13/06/2018],\"<=31/10/2018\",Tabla1[DESCRIPCIÓN DEL SERVICIO],\"Repostar GASOIL / TALLER\",Tabla1[MATRICULA],B13)","v":0},{"$f":"SUMIFS(Tabla1[€/GASOIL],Tabla1[13/06/2018],\">=01/10/2018\",Tabla1[13/06/2018],\"<=31/10/2018\",Tabla1[DESCRIPCIÓN DEL SERVICIO],\"Repostar GASOIL / Externo\",Tabla1[MATRICULA],B13)","v":0}]
[null,null,null,null,{"$f":"SUMIF(Tabla1[MATRICULA],B15,Tabla1[€/SERVICIO])","v":0},null,{"$f":"SUMIFS(Tabla1[€/GASOIL],Tabla1[MATRICULA],B15,Tabla1[DESCRIPCIÓN DEL SERVICIO],\"Repostar GASOIL / TALLER\")","v":0},null,{"$f":"SUMIFS(Tabla1[€/GASOIL],Tabla1[MATRICULA],B15,Tabla1[DESCRIPCIÓN DEL SERVICIO],\"Repostar GASOIL / Externo\")","v":0},null,null,null,null,null,null,null,null,null,null,null,null,null,null,null,null,null,null,null,null,null,null,null,null,null,null,null,"Noviembre",{"$f":"SUMIFS(Tabla1[€/SERVICIO],Tabla1[13/06/2018],\">=01/11/2018\",Tabla1[13/06/2018],\"<=30/11/2018\",Tabla1[MATRICULA],B5)","v":0},{"$f":"SUMIFS(Tabla1[€/GASOIL],Tabla1[13/06/2018],\">=01/11/2018\",Tabla1[13/06/2018],\"<=30/11/2018\",Tabla1[DESCRIPCIÓN DEL SERVICIO],\"Repostar GASOIL / TALLER\",Tabla1[MATRICULA],B5)","v":0},{"$f":"SUMIFS(Tabla1[€/GASOIL],Tabla1[13/06/2018],\">=01/11/2018\",Tabla1[13/06/2018],\"<=30/11/2018\",Tabla1[DESCRIPCIÓN DEL SERVICIO],\"Repostar GASOIL / Externo\",Tabla1[MATRICULA],B5)","v":0},null,"Noviembre",{"$f":"SUMIFS(Tabla1[€/SERVICIO],Tabla1[13/06/2018],\">=01/11/2018\",Tabla1[13/06/2018],\"<=30/11/2018\",Tabla1[MATRICULA],B6)","v":0},{"$f":"SUMIFS(Tabla1[€/GASOIL],Tabla1[13/06/2018],\">=01/11/2018\",Tabla1[13/06/2018],\"<=30/11/2018\",Tabla1[DESCRIPCIÓN DEL SERVICIO],\"Repostar GASOIL / TALLER\",Tabla1[MATRICULA],B6)","v":0},{"$f":"SUMIFS(Tabla1[€/GASOIL],Tabla1[13/06/2018],\">=01/11/2018\",Tabla1[13/06/2018],\"<=30/11/2018\",Tabla1[DESCRIPCIÓN DEL SERVICIO],\"Repostar GASOIL / Externo\",Tabla1[MATRICULA],B6)","v":0},null,"Noviembre",{"$f":"SUMIFS(Tabla1[€/SERVICIO],Tabla1[13/06/2018],\">=01/11/2018\",Tabla1[13/06/2018],\"<=30/11/2018\",Tabla1[MATRICULA],B7)","v":0},{"$f":"SUMIFS(Tabla1[€/GASOIL],Tabla1[13/06/2018],\">=01/11/2018\",Tabla1[13/06/2018],\"<=30/11/2018\",Tabla1[DESCRIPCIÓN DEL SERVICIO],\"Repostar GASOIL / TALLER\",Tabla1[MATRICULA],B7)","v":0},{"$f":"SUMIFS(Tabla1[€/GASOIL],Tabla1[13/06/2018],\">=01/11/2018\",Tabla1[13/06/2018],\"<=30/11/2018\",Tabla1[DESCRIPCIÓN DEL SERVICIO],\"Repostar GASOIL / Externo\",Tabla1[MATRICULA],B7)","v":0},null,"Noviembre",{"$f":"SUMIFS(Tabla1[€/SERVICIO],Tabla1[13/06/2018],\">=01/11/2018\",Tabla1[13/06/2018],\"<=30/11/2018\",Tabla1[MATRICULA],B8)","v":0},{"$f":"SUMIFS(Tabla1[€/GASOIL],Tabla1[13/06/2018],\">=01/11/2018\",Tabla1[13/06/2018],\"<=30/11/2018\",Tabla1[DESCRIPCIÓN DEL SERVICIO],\"Repostar GASOIL / TALLER\",Tabla1[MATRICULA],B8)","v":0},{"$f":"SUMIFS(Tabla1[€/GASOIL],Tabla1[13/06/2018],\">=01/11/2018\",Tabla1[13/06/2018],\"<=30/11/2018\",Tabla1[DESCRIPCIÓN DEL SERVICIO],\"Repostar GASOIL / Externo\",Tabla1[MATRICULA],B8)","v":0},null,"Noviembre",{"$f":"SUMIFS(Tabla1[€/SERVICIO],Tabla1[13/06/2018],\">=01/11/2018\",Tabla1[13/06/2018],\"<=30/11/2018\",Tabla1[MATRICULA],B9)","v":0},{"$f":"SUMIFS(Tabla1[€/GASOIL],Tabla1[13/06/2018],\">=01/11/2018\",Tabla1[13/06/2018],\"<=30/11/2018\",Tabla1[DESCRIPCIÓN DEL SERVICIO],\"Repostar GASOIL / TALLER\",Tabla1[MATRICULA],B9)","v":0},{"$f":"SUMIFS(Tabla1[€/GASOIL],Tabla1[13/06/2018],\">=01/11/2018\",Tabla1[13/06/2018],\"<=30/11/2018\",Tabla1[DESCRIPCIÓN DEL SERVICIO],\"Repostar GASOIL / Externo\",Tabla1[MATRICULA],B9)","v":0},null,"Noviembre",{"$f":"SUMIFS(Tabla1[€/SERVICIO],Tabla1[13/06/2018],\">=01/11/2018\",Tabla1[13/06/2018],\"<=30/11/2018\",Tabla1[MATRICULA],B10)","v":0},{"$f":"SUMIFS(Tabla1[€/GASOIL],Tabla1[13/06/2018],\">=01/11/2018\",Tabla1[13/06/2018],\"<=30/11/2018\",Tabla1[DESCRIPCIÓN DEL SERVICIO],\"Repostar GASOIL / TALLER\",Tabla1[MATRICULA],B10)","v":0},{"$f":"SUMIFS(Tabla1[€/GASOIL],Tabla1[13/06/2018],\">=01/11/2018\",Tabla1[13/06/2018],\"<=30/11/2018\",Tabla1[DESCRIPCIÓN DEL SERVICIO],\"Repostar GASOIL / Externo\",Tabla1[MATRICULA],B10)","v":0},null,"Noviembre",{"$f":"SUMIFS(Tabla1[€/SERVICIO],Tabla1[13/06/2018],\">=01/11/2018\",Tabla1[13/06/2018],\"<=30/11/2018\",Tabla1[MATRICULA],B11)","v":0},{"$f":"SUMIFS(Tabla1[€/GASOIL],Tabla1[13/06/2018],\">=01/11/2018\",Tabla1[13/06/2018],\"<=30/11/2018\",Tabla1[DESCRIPCIÓN DEL SERVICIO],\"Repostar GASOIL / TALLER\",Tabla1[MATRICULA],B11)","v":0},{"$f":"SUMIFS(Tabla1[€/GASOIL],Tabla1[13/06/2018],\">=01/11/2018\",Tabla1[13/06/2018],\"<=30/11/2018\",Tabla1[DESCRIPCIÓN DEL SERVICIO],\"Repostar GASOIL / Externo\",Tabla1[MATRICULA],B11)","v":0},null,"Noviembre",{"$f":"SUMIFS(Tabla1[€/SERVICIO],Tabla1[13/06/2018],\">=01/11/2018\",Tabla1[13/06/2018],\"<=30/11/2018\",Tabla1[MATRICULA],B12)","v":0},{"$f":"SUMIFS(Tabla1[€/GASOIL],Tabla1[13/06/2018],\">=01/11/2018\",Tabla1[13/06/2018],\"<=30/11/2018\",Tabla1[DESCRIPCIÓN DEL SERVICIO],\"Repostar GASOIL / TALLER\",Tabla1[MATRICULA],B12)","v":0},{"$f":"SUMIFS(Tabla1[€/GASOIL],Tabla1[13/06/2018],\">=01/11/2018\",Tabla1[13/06/2018],\"<=30/11/2018\",Tabla1[DESCRIPCIÓN DEL SERVICIO],\"Repostar GASOIL / Externo\",Tabla1[MATRICULA],B12)","v":0},null,"Noviembre",{"$f":"SUMIFS(Tabla1[€/SERVICIO],Tabla1[13/06/2018],\">=01/11/2018\",Tabla1[13/06/2018],\"<=30/11/2018\",Tabla1[MATRICULA],B13)","v":0},{"$f":"SUMIFS(Tabla1[€/GASOIL],Tabla1[13/06/2018],\">=01/11/2018\",Tabla1[13/06/2018],\"<=30/11/2018\",Tabla1[DESCRIPCIÓN DEL SERVICIO],\"Repostar GASOIL / TALLER\",Tabla1[MATRICULA],B13)","v":0},{"$f":"SUMIFS(Tabla1[€/GASOIL],Tabla1[13/06/2018],\">=01/11/2018\",Tabla1[13/06/2018],\"<=30/11/2018\",Tabla1[DESCRIPCIÓN DEL SERVICIO],\"Repostar GASOIL / Externo\",Tabla1[MATRICULA],B13)","v":0}]
[null,null,null,null,{"$f":"SUMIF(Tabla1[MATRICULA],B16,Tabla1[€/SERVICIO])","v":0},null,{"$f":"SUMIFS(Tabla1[€/GASOIL],Tabla1[MATRICULA],B16,Tabla1[DESCRIPCIÓN DEL SERVICIO],\"Repostar GASOIL / TALLER\")","v":0},null,{"$f":"SUMIFS(Tabla1[€/GASOIL],Tabla1[MATRICULA],B16,Tabla1[DESCRIPCIÓN DEL SERVICIO],\"Repostar GASOIL / Externo\")","v":0},null,null,null,null,null,null,null,null,null,null,null,null,null,null,null,null,null,null,null,null,null,null,null,null,null,null,null,"Diciembre",{"$f":"SUMIFS(Tabla1[€/SERVICIO],Tabla1[13/06/2018],\">=01/12/2018\",Tabla1[13/06/2018],\"<=31/12/2018\",Tabla1[MATRICULA],B5)","v":0},{"$f":"SUMIFS(Tabla1[€/GASOIL],Tabla1[13/06/2018],\">=01/12/2018\",Tabla1[13/06/2018],\"<=31/12/2018\",Tabla1[DESCRIPCIÓN DEL SERVICIO],\"Repostar GASOIL / TALLER\",Tabla1[MATRICULA],B5)","v":0},{"$f":"SUMIFS(Tabla1[€/GASOIL],Tabla1[13/06/2018],\">=01/12/2018\",Tabla1[13/06/2018],\"<=31/12/2018\",Tabla1[DESCRIPCIÓN DEL SERVICIO],\"Repostar GASOIL / Externo\",Tabla1[MATRICULA],B5)","v":0},null,"Diciembre",{"$f":"SUMIFS(Tabla1[€/SERVICIO],Tabla1[13/06/2018],\">=01/12/2018\",Tabla1[13/06/2018],\"<=31/12/2018\",Tabla1[MATRICULA],B6)","v":0},{"$f":"SUMIFS(Tabla1[€/GASOIL],Tabla1[13/06/2018],\">=01/12/2018\",Tabla1[13/06/2018],\"<=31/12/2018\",Tabla1[DESCRIPCIÓN DEL SERVICIO],\"Repostar GASOIL / TALLER\",Tabla1[MATRICULA],B6)","v":0},{"$f":"SUMIFS(Tabla1[€/GASOIL],Tabla1[13/06/2018],\">=01/12/2018\",Tabla1[13/06/2018],\"<=31/12/2018\",Tabla1[DESCRIPCIÓN DEL SERVICIO],\"Repostar GASOIL / Externo\",Tabla1[MATRICULA],B6)","v":0},null,"Diciembre",{"$f":"SUMIFS(Tabla1[€/SERVICIO],Tabla1[13/06/2018],\">=01/12/2018\",Tabla1[13/06/2018],\"<=31/12/2018\",Tabla1[MATRICULA],B7)","v":0},{"$f":"SUMIFS(Tabla1[€/GASOIL],Tabla1[13/06/2018],\">=01/12/2018\",Tabla1[13/06/2018],\"<=31/12/2018\",Tabla1[DESCRIPCIÓN DEL SERVICIO],\"Repostar GASOIL / TALLER\",Tabla1[MATRICULA],B7)","v":0},{"$f":"SUMIFS(Tabla1[€/GASOIL],Tabla1[13/06/2018],\">=01/12/2018\",Tabla1[13/06/2018],\"<=31/12/2018\",Tabla1[DESCRIPCIÓN DEL SERVICIO],\"Repostar GASOIL / Externo\",Tabla1[MATRICULA],B7)","v":0},null,"Diciembre",{"$f":"SUMIFS(Tabla1[€/SERVICIO],Tabla1[13/06/2018],\">=01/12/2018\",Tabla1[13/06/2018],\"<=31/12/2018\",Tabla1[MATRICULA],B8)","v":0},{"$f":"SUMIFS(Tabla1[€/GASOIL],Tabla1[13/06/2018],\">=01/12/2018\",Tabla1[13/06/2018],\"<=31/12/2018\",Tabla1[DESCRIPCIÓN DEL SERVICIO],\"Repostar GASOIL / TALLER\",Tabla1[MATRICULA],B8)","v":0},{"$f":"SUMIFS(Tabla1[€/GASOIL],Tabla1[13/06/2018],\">=01/12/2018\",Tabla1[13/06/2018],\"<=31/12/2018\",Tabla1[DESCRIPCIÓN DEL SERVICIO],\"Repostar GASOIL / Externo\",Tabla1[MATRICULA],B8)","v":0},null,"Diciembre",{"$f":"SUMIFS(Tabla1[€/SERVICIO],Tabla1[13/06/2018],\">=01/12/2018\",Tabla1[13/06/2018],\"<=31/12/2018\",Tabla1[MATRICULA],B9)","v":0},{"$f":"SUMIFS(Tabla1[€/GASOIL],Tabla1[13/06/2018],\">=01/12/2018\",Tabla1[13/06/2018],\"<=31/12/2018\",Tabla1[DESCRIPCIÓN DEL SERVICIO],\"Repostar GASOIL / TALLER\",Tabla1[MATRICULA],B9)","v":0},{"$f":"SUMIFS(Tabla1[€/GASOIL],Tabla1[13/06/2018],\">=01/12/2018\",Tabla1[13/06/2018],\"<=31/12/2018\",Tabla1[DESCRIPCIÓN DEL SERVICIO],\"Repostar GASOIL / Externo\",Tabla1[MATRICULA],B9)","v":0},null,"Diciembre",{"$f":"SUMIFS(Tabla1[€/SERVICIO],Tabla1[13/06/2018],\">=01/12/2018\",Tabla1[13/06/2018],\"<=31/12/2018\",Tabla1[MATRICULA],B10)","v":0},{"$f":"SUMIFS(Tabla1[€/GASOIL],Tabla1[13/06/2018],\">=01/12/2018\",Tabla1[13/06/2018],\"<=31/12/2018\",Tabla1[DESCRIPCIÓN DEL SERVICIO],\"Repostar GASOIL / TALLER\",Tabla1[MATRICULA],B10)","v":0},{"$f":"SUMIFS(Tabla1[€/GASOIL],Tabla1[13/06/2018],\">=01/12/2018\",Tabla1[13/06/2018],\"<=31/12/2018\",Tabla1[DESCRIPCIÓN DEL SERVICIO],\"Repostar GASOIL / Externo\",Tabla1[MATRICULA],B10)","v":0},null,"Diciembre",{"$f":"SUMIFS(Tabla1[€/SERVICIO],Tabla1[13/06/2018],\">=01/12/2018\",Tabla1[13/06/2018],\"<=31/12/2018\",Tabla1[MATRICULA],B11)","v":0},{"$f":"SUMIFS(Tabla1[€/GASOIL],Tabla1[13/06/2018],\">=01/12/2018\",Tabla1[13/06/2018],\"<=31/12/2018\",Tabla1[DESCRIPCIÓN DEL SERVICIO],\"Repostar GASOIL / TALLER\",Tabla1[MATRICULA],B11)","v":0},{"$f":"SUMIFS(Tabla1[€/GASOIL],Tabla1[13/06/2018],\">=01/12/2018\",Tabla1[13/06/2018],\"<=31/12/2018\",Tabla1[DESCRIPCIÓN DEL SERVICIO],\"Repostar GASOIL / Externo\",Tabla1[MATRICULA],B11)","v":0},null,"Diciembre",{"$f":"SUMIFS(Tabla1[€/SERVICIO],Tabla1[13/06/2018],\">=01/12/2018\",Tabla1[13/06/2018],\"<=31/12/2018\",Tabla1[MATRICULA],B12)","v":0},{"$f":"SUMIFS(Tabla1[€/GASOIL],Tabla1[13/06/2018],\">=01/12/2018\",Tabla1[13/06/2018],\"<=31/12/2018\",Tabla1[DESCRIPCIÓN DEL SERVICIO],\"Repostar GASOIL / TALLER\",Tabla1[MATRICULA],B12)","v":0},{"$f":"SUMIFS(Tabla1[€/GASOIL],Tabla1[13/06/2018],\">=01/12/2018\",Tabla1[13/06/2018],\"<=31/12/2018\",Tabla1[DESCRIPCIÓN DEL SERVICIO],\"Repostar GASOIL / Externo\",Tabla1[MATRICULA],B12)","v":0},null,"Diciembre",{"$f":"SUMIFS(Tabla1[€/SERVICIO],Tabla1[13/06/2018],\">=01/12/2018\",Tabla1[13/06/2018],\"<=31/12/2018\",Tabla1[MATRICULA],B13)","v":0},{"$f":"SUMIFS(Tabla1[€/GASOIL],Tabla1[13/06/2018],\">=01/12/2018\",Tabla1[13/06/2018],\"<=31/12/2018\",Tabla1[DESCRIPCIÓN DEL SERVICIO],\"Repostar GASOIL / TALLER\",Tabla1[MATRICULA],B13)","v":0},{"$f":"SUMIFS(Tabla1[€/GASOIL],Tabla1[13/06/2018],\">=01/12/2018\",Tabla1[13/06/2018],\"<=31/12/2018\",Tabla1[DESCRIPCIÓN DEL SERVICIO],\"Repostar GASOIL / Externo\",Tabla1[MATRICULA],B13)","v":0}]
["2018-05-30"]
["13/06/2018","MATRICULA","CONCEPTO","KM","DESCRIPCIÓN DEL SERVICIO","€/SERVICIO","INICIO","FIN","LITROS","€/GASOIL","PROVEEDOR / TALLER"]
["2018-01-02","8661 FPY","Mantenimiento",null,"Trabajos Varios",421.89,null,null,{"$f":"H19-G19","v":0},{"$f":"I19*$K$3","v":0},"Taller Mecánico Humanes"]
["2018-01-31","8661 FPY","Repostar Gasoil",null,"Repostar GASOIL / Externo",null,null,null,30,34]
["2018-02-07","8661 FPY","Repostar Gasoil",null,"Repostar GASOIL / Externo",null,null,null,27,31]
["2018-02-08","8661 FPY","Repostar Gasoil",null,"Repostar GASOIL / Externo",null,null,null,17,20]
["2018-02-15","8518 HYY","Repostar Gasoil",111000,"Repostar GASOIL / Externo",null,null,null,22,25]
["2018-03-02","8661 FPY","Repostar Gasoil",null,"Repostar GASOIL / Externo",null,null,null,13,15]
["2018-03-08","8661 FPY","Repostar Gasoil",null,"Repostar GASOIL / Externo",null,null,null,30,35]
["2018-03-14","8661 FPY","Repostar Gasoil",430523,"Repostar GASOIL / Externo",null,null,null,22,25]
["2018-03-21","8661 FPY","Repostar Gasoil",431200,"Repostar GASOIL / Externo",null,null,null,23,26]
["2018-03-22","8661 FPY","Repostar Gasoil",null,"Repostar GASOIL / Externo",null,null,null,18,20]
["2018-04-05","8661 FPY","Repostar Gasoil",null,"Repostar GASOIL / Externo",null,null,null,26,30]
["2018-04-25","8661 FPY","Repostar Gasoil",null,"Repostar GASOIL / Externo",null,null,null,26,30]
["2018-05-04","8661 FPY","Repostar Gasoil",null,"Repostar GASOIL / Externo",null,null,null,17,20]
["2018-05-10","8661 FPY","Repostar Gasoil",null,"Repostar GASOIL / Externo",null,null,null,25,30]
["2018-05-17","8661 FPY","Repostar Gasoil",null,"Repostar GASOIL / Externo",null,null,null,25,30]
["2018-05-23","8661 FPY","Repostar Gasoil",null,"Repostar GASOIL / Externo",null,null,null,33,41]
["2018-05-23","8661 FPY","Mantenimiento",null,"Latiguillo engrase turbo",752.24,null,null,null,null,"Taller mecánico humanes"]
["2018-05-29","8661 FPY","Repostar Gasoil",439650,"Repostar GASOIL / Externo",null,null,null,24,30]
["2018-06-05","5343 HZY","Repostar Gasoil",75462,"Repostar GASOIL / TALLER",null,608,647,{"$f":"Tabla1[[#This Row],[FIN]]-Tabla1[[#This Row],[INICIO]]","v":39},{"$f":"Tabla1[[#This Row],[LITROS]]*$K$3","v":42.120000000000005}]
["2018-06-07","8518 HYY","Repostar Gasoil",124000,"Repostar GASOIL / Externo",null,null,null,28.4,36]
["2018-06-07","8343 HLJ","Repostar Gasoil",75462,"Repostar GASOIL / TALLER",null,608,647,{"$f":"Tabla1[[#This Row],[FIN]]-Tabla1[[#This Row],[INICIO]]","v":39},{"$f":"Tabla1[[#This Row],[LITROS]]*$K$3","v":42.120000000000005}]
["2018-06-08","6189 GRV","Repostar Gasoil",221651,"Repostar GASOIL / TALLER",null,647,709,{"$f":"Tabla1[[#This Row],[FIN]]-Tabla1[[#This Row],[INICIO]]","v":62},{"$f":"Tabla1[[#This Row],[LITROS]]*$K$3","v":66.960000000000008}]
["2018-06-11","9069 GZH","Repostar Gasoil",177051,"Repostar GASOIL / TALLER",null,709,749,{"$f":"Tabla1[[#This Row],[FIN]]-Tabla1[[#This Row],[INICIO]]","v":40},{"$f":"Tabla1[[#This Row],[LITROS]]*$K$3","v":43.2}]
["2018-06-12","8518 HYY","Repostar Gasoil",124670,"Repostar GASOIL / TALLER",null,749,784,{"$f":"Tabla1[[#This Row],[FIN]]-Tabla1[[#This Row],[INICIO]]","v":35},{"$f":"Tabla1[[#This Row],[LITROS]]*$K$3","v":37.800000000000004}]
["2018-06-12","8343 HLJ","Repostar Gasoil",75913,"Repostar GASOIL / TALLER",null,784,811,{"$f":"Tabla1[[#This Row],[FIN]]-Tabla1[[#This Row],[INICIO]]","v":27},{"$f":"Tabla1[[#This Row],[LITROS]]*$K$3","v":29.160000000000004}]
["2018-06-12","0035 DNY","Repostar Gasoil",143202,"Repostar GASOIL / TALLER",null,811,843,{"$f":"H44-G44","v":32},{"$f":"I44*$K$3","v":34.56}]
["2018-06-13","0035 DNY"]

{"sheet":"DATOS PARA LISTAS DE MENU","index":1,"n_rows":18,"n_cols":10,"rows_kept":18,"cut":false,"hidden":false,"merged":[[1,8,1,9],[0,0,0,4]]}
["HAGO HOJA CONTROL EL 06/06/2018 - DATOS ANTERIORES COGIDOS DE FACTURAS"]
["TRABAJADOR","VEHICULO","MATRICULA","BASTIDOR","ACEITE","PROVEEDOR","CONCEPTO","DESCRIPCION DEL SERVICIO","MEDIA (PRECIO LITRO GASOIL)"]
[null,null,null,null,null,null,null,null,"€","Fecha "]
["T1","FURGONETA","9069 GZH",null,null,"Repuestos Hidalgo","Mantenimiento","Repostar GASOIL / TALLER",1.07,"2018-01-10"]
["T2","FURGONETA","8343 HLJ",null,null,"Taller Mecánico Humanes","Repostar Gasoil","Repostar GASOIL / Externo",1.0900000000000001,"2018-05-08"]
["T3","FURGONETA","5485 DFJ",null,null,null,null,"Cambiar Aceite Motor"]
["T4","COCHE ROJO","8661 FPY",null,null,null,null,"Cambiar Filtro Aceite"]
["T1","MERCEDES","5343 HZY",null,null,null,null,"Cambiar Filtro Combustible"]
["T2","COCHE BLANCO","8518 HYY",null,null,null,null,"Cambiar Filtro Aire"]
["T3","BMW","8146 DCG",null,null,null,null,"Cambiar Pastillas de freno"]
["T4","OPEL INSIGNIA","6189 GRV",null,null,null,null,"Cambiar Discos de Freno"]
["T1","PEUGEOT 206","0035 DNY",null,null,null,null,"Cambiar ruedas"]
[null,null,null,null,null,null,null,"Correa de distribución"]
[null,null,null,null,null,null,null,"Bomba de Agua"]
[null,null,null,null,null,null,null,"Líquido refrigerante"]
[null,null,null,null,null,null,null,"Líquido de frenos"]
[null,null,null,null,null,null,null,"Latiguillo engrase turbo"]
[null,null,null,null,null,null,null,"Trabajos Varios"]

{"sheet":"REFERENCIAS MAS PEDIDAS","index":2,"n_rows":12,"n_cols":4,"rows_kept":12,"cut":false,"hidden":true,"merged":[[1,3,3,4],[1,0,3,0],[0,0,0,5],[4,0,4,5]]}
[]
[]
[]
[]
[]
[null,"REMESA","FECHA RECIBO","Suma de IMPORTE"]
[null,"(en blanco)","2017-09-30",6969.2799999999988]
[null,null,"2017-10-06",12853.37]
[null,null,"2017-10-10",520.48]
[null,null,"2017-10-15",7809.67]
[null,null,"(en blanco)",150897.59000000003]
[null,"Total general",null,179050.39]