{"text_format":"1","workbook":"xlsx","n_sheets":3,"sheets":["CALENDARIO 2017","FORMATO 6","FORMATO 7"],"not_rendered":{"charts":0,"images":2,"macros":0,"external_links":1,"defined_names":9,"comments":0,"pivot_tables":0},"unopened":[],"bounds":{"document_bytes":16777216,"sheet_cells":100000,"rows_first":2000,"rows_last":500,"rows_between":2000,"halvings":0,"cell_chars":16384,"cell_head_chars":4096},"cells_cut":0,"cells_raw":0,"read":"whole","date_system":"1900"}

{"sheet":"CALENDARIO 2017","index":0,"n_rows":34,"n_cols":86,"rows_kept":34,"cut":false,"hidden":false,"merged":[[33,43,33,45],[33,49,33,51],[33,55,33,57],[33,61,33,63],[33,67,33,69],[32,17,32,19],[32,24,32,26],[32,31,32,33],[32,37,32,39],[32,43,32,45],[32,49,32,51],[32,55,32,57],[32,61,32,63],[36,16,36,20],[30,55,30,57],[30,61,30,63],[30,67,30,69],[31,17,31,19],[31,24,31,26],[31,31,31,33],[31,37,31,39],[31,43,31,45],[31,49,31,51],[31,55,31,57],[30,17,30,19],[30,24,30,26],[30,31,30,33],[30,37,30,39],[30,43,30,45],[30,49,30,51],[31,61,31,63],[31,67,31,69],[32,67,32,69],[33,17,33,19],[33,24,33,26],[33,31,33,33],[33,37,33,39],[29,17,29,19],[29,24,29,26],[29,31,29,33],[29,37,29,39],[29,43,29,45],[29,49,29,51],[29,55,29,57],[29,61,29,63],[29,67,29,69],[28,17,28,19],[28,24,28,26],[28,31,28,33],[28,37,28,39],[28,43,28,45],[28,49,28,51],[28,55,28,57],[28,61,28,63],[28,67,28,69],[27,61,27,63],[27,67,27,69],[27,24,27,26],[27,31,27,33],[27,37,27,39],[27,43,27,45],[27,49,27,51],[27,55,27,57],[25,67,25,69],[25,61,25,63],[26,67,26,69],[26,24,26,26],[26,31,26,33],[26,37,26,39],[26,43,26,45],[26,49,26,51],[25,24,25,26],[25,31,25,33],[23,67,23,69],[24,24,24,26],[24,31,24,33],[24,37,24,39],[24,43,24,45],[24,49,24,51],[24,55,24,57],[24,61,24,63],[24,67,24,69],[23,24,23,26],[23,31,23,33],[23,37,23,39],[23,43,23,45],[23,49,23,51],[23,55,23,57],[21,24,21,26],[21,31,21,33],[21,37,21,39],[21,43,21,45],[21,49,21,51],[25,55,25,57],[21,55,21,57],[21,61,21,63],[26,55,26,57],[26,61,26,63],[22,37,22,39],[25,37,25,39],[25,43,25,45],[25,49,25,51],[23,61,23,63],[21,67,21,69],[22,55,22,57],[22,61,22,63],[22,67,22,69],[19,61,19,63],[19,67,19,69],[20,24,20,26],[20,31,20,33],[20,37,20,39],[20,43,20,45],[20,49,20,51],[20,55,20,57],[20,61,20,63],[20,67,20,69],[19,24,19,26],[19,31,19,33],[19,37,19,39],[19,43,19,45],[19,49,19,51],[19,55,19,57],[22,24,22,26],[22,31,22,33],[22,43,22,45],[22,49,22,51],[18,24,18,26],[18,31,18,33],[17,61,17,63],[17,55,17,57],[17,67,17,69],[18,55,18,57],[18,61,18,63],[18,67,18,69],[18,37,18,39],[18,43,18,45],[18,49,18,51],[17,24,17,26],[17,31,17,33],[17,37,17,39],[17,43,17,45],[17,49,17,51],[12,36,13,40],[12,42,13,46],[15,43,15,45],[15,49,15,51],[15,55,15,57],[15,61,15,63],[15,67,15,69],[16,24,16,26],[16,31,16,33],[16,37,16,39],[16,43,16,45],[16,49,16,51],[16,55,16,57],[16,61,16,63],[16,67,16,69],[2,42,2,46],[2,48,2,52],[2,54,2,58],[12,48,13,52],[12,54,13,58],[2,60,2,64],[2,66,2,70],[11,2,11,6],[2,1,2,6],[2,10,2,14],[2,16,2,20],[2,23,2,27],[2,30,2,34],[2,36,2,40],[3,1,3,2],[4,1,4,4],[5,1,5,3],[6,1,6,3],[12,60,13,64],[12,66,13,70],[12,10,13,14],[12,16,13,20],[12,23,13,27],[12,30,13,34],[2,72,2,76],[12,72,13,76],[15,73,15,75],[16,73,16,75],[17,73,17,75],[18,73,18,75],[19,73,19,75],[20,73,20,75],[21,73,21,75],[31,73,31,75],[32,73,32,75],[33,73,33,75],[22,73,22,75],[23,73,23,75],[24,73,24,75],[25,73,25,75],[26,73,26,75],[27,73,27,75],[28,73,28,75],[29,73,29,75],[30,73,30,75]]}
[null,"Año",2015]
[null,1,2,3,4,5,6,7,null,1,2,3,4,5,6,7,2,3,4,5,6,7,1,2,3,4,5,6,7]
[null,null,null,null,null,null,null,null,null,null,"Febrero",null,null,null,null,null,"Marzo",null,null,null,null,null,"Abril","ABRIL",null,null,null,null,null,null,"MAYO",null,null,null,null,null,"JUNIO",null,null,null,null,null,"JULIO",null,null,null,null,null,"AGOSTO",null,null,null,null,null,"SEPTIEMBRE",null,null,null,null,null,"OCTUBRE",null,null,null,null,null,"NOVIEMBRE",null,null,null,null,null,"DICIEMBRE"]
[null,null,null,null,null,null,null,null,null,null,"L","M","M","J","V",null,"L","M","M","J","V",null,null,"L","M","M","J","V",null,null,"L","M","M","J","V",null,"L","M","M","J","V",null,"L","M","M","J","V",null,"L","M","M","J","V",null,"L","M","M","J","V",null,"L","M","M","J","V",null,"L","M","M","J","V",null,"L","M","M","J","V"]
[null,null,null,null,null,null,null,null,null,null,null,null,"2017-02-01","2017-02-02","2017-02-03",null,null,null,"1900-01-01","1900-01-02","1900-01-03",null,"",null,null,null,null,null,null,null,null,"1900-01-02","1900-01-03","1900-01-04","1900-01-05",null,null,null,null,"1900-01-01","1900-01-02",null,null,null,null,null,null,null,null,"1900-01-01","1900-01-02","1900-01-03","1900-01-04",null,null,null,null,null,"1900-01-01",null,null,null,null,null,null,null,null,null,"1900-01-01","1900-01-02","1900-01-03",null,null,null,null,null,"1900-01-01",null,"1900-01-01","1900-01-02","1900-01-03",null,"1900-01-07","1900-01-08","1900-01-09","1900-01-10"]
[null,null,null,null,null,null,null,null,null,null,"1900-01-06","1900-01-07","1900-01-08","1900-01-09","1900-01-10",null,"1900-01-06","1900-01-07","1900-01-08","1900-01-09","1900-01-10",null,null,"1900-01-03","1900-01-04","1900-01-05","1900-01-06","1900-01-07",null,null,"1900-01-08","1900-01-09","1900-01-10","1900-01-11","1900-01-12",null,"1900-01-05","1900-01-06","1900-01-07","1900-01-08","1900-01-09",null,null,null,null,null,null,null,null,"1900-01-08","1900-01-09","1900-01-10","1900-01-11",null,"1900-01-04","1900-01-05","1900-01-06","1900-01-07","1900-01-08",null,"1900-01-02","1900-01-03","1900-01-04","1900-01-05","1900-01-06",null,null,"1900-01-07","1900-01-08","1900-01-09","1900-01-10"]
[null,null,null,null,null,null,null,null,null,null,"1900-01-13","1900-01-14","1900-01-15","1900-01-16","1900-01-17",null,"1900-01-13","1900-01-14","1900-01-15","1900-01-16","1900-01-17",null,null,null,null,null,null,null,null,null,"1900-01-15","1900-01-16","1900-01-17","1900-01-18","1900-01-19",null,"1900-01-12","1900-01-13","1900-01-14","1900-01-15","1900-01-16",null,"1900-01-10","1900-01-11","1900-01-12","1900-01-13","1900-01-14",null,"1900-01-14","1900-01-15","1900-01-16","1900-01-17","1900-01-18",null,"1900-01-11","1900-01-12","1900-01-13","1900-01-14","1900-01-15",null,null,null,null,null,null,null,null,"1900-01-14","1900-01-15","1900-01-16","1900-01-17"]
[null,null,null,null,null,null,null,null,null,null,"1900-01-20","1900-01-21","1900-01-22","1900-01-23","1900-01-24",null,null,"1900-01-21","1900-01-22","1900-01-23","1900-01-24",null,null,"1900-01-17","1900-01-18","1900-01-19","1900-01-20","1900-01-21",null,null,"1900-01-22","1900-01-23","1900-01-24","1900-01-25","1900-01-26",null,null,"1900-01-20","1900-01-21","1900-01-22","1900-01-23",null,"1900-01-17","1900-01-18","1900-01-19",null,"1900-01-21",null,null,"1900-01-22","1900-01-23","1900-01-24","1900-01-25",null,"1900-01-18","1900-01-19","1900-01-20","1900-01-21","1900-01-22",null,null,"1900-01-17","1900-01-18","1900-01-19","1900-01-20",null,"1900-01-20","1900-01-21","1900-01-22","1900-01-23","1900-01-24"]
[null,null,null,null,null,null,null,null,null,"","1900-01-27","1900-01-28",null,null,null,"","1900-01-27","1900-01-28","1900-01-29","1900-01-30","1900-01-31","",null,"1900-01-24","1900-01-25","1900-01-26","1900-01-27","1900-01-28","",null,null,"1900-01-30","1900-01-31",null,null,null,null,null,null,null,null,null,"1900-01-24","1900-01-25","1900-01-26","1900-01-27","1900-01-28",null,"1900-01-28","1900-01-29","1900-01-30","1900-01-31",null,null,"1900-01-25","1900-01-26","1900-01-27","1900-01-28","1900-01-29",null,"1900-01-23","1900-01-24","1900-01-25","1900-01-26","1900-01-27",null,"1900-01-27","1900-01-28","1900-01-29","1900-01-30"]
[null,null,null,null,null,null,null,null,null,null,null,null,null,null,null,null,null,null,null,null,null,null,null,null,null,null,null,null,null,null,null,null,null,null,null,null,null,null,null,null,null,null,"1900-01-31",null,null,null,null,null,null,null,null,null,null,null,null,null,null,null,null,null,"1900-01-30","1900-01-31"]
[null,null,{"$f":"SUM(C15:C34)","v":0},{"$f":"SUM(D15:D34)","v":2},1,0,0,null,{"$f":"SUM(I15:I34)","v":3},null,null,null,{"$f":"SUM(M15:M34)","v":12},null,null,null,null,{"$f":"SUM(R15:R34)","v":13},{"$f":"SUM(S15:S34)","v":0},null,null,null,null,null,{"$f":"SUM(Y15:Y34)","v":9},{"$f":"SUM(Z15:Z34)","v":0},null,null,null,null,"",{"$f":"SUM(AF15:AF34)","v":15},{"$f":"SUM(AG15:AG34)","v":0},"","",null,"",{"$f":"SUM(AL15:AL34)","v":9},{"$f":"SUM(AM15:AM34)","v":0},"","",null,"",{"$f":"SUM(AR15:AR34)","v":9},{"$f":"SUM(AS15:AS34)","v":0},"","",null,"",{"$f":"SUM(AX15:AX34)","v":15},{"$f":"SUM(AY15:AY34)","v":0},"","",null,"",{"$f":"SUM(BD15:BD34)","v":12},{"$f":"SUM(BE15:BE34)","v":0},"","",null,"",{"$f":"SUM(BJ15:BJ34)","v":11},{"$f":"SUM(BK15:BK34)","v":0},"","",null,"",{"$f":"SUM(BP15:BP34)","v":13},{"$f":"SUM(BQ15:BQ34)","v":0},"","",null,"",{"$f":"SUM(BV15:BV34)","v":0},{"$f":"SUM(BW15:BW34)","v":0},"",""]
[null,null,"Horario Semanal",null,null,null,null,null,null,null,{"$f":"COUNT(K5:K10)","v":"1900-01-04"},{"$f":"COUNT(L5:L10)","v":"1900-01-04"},"1900-01-04","1900-01-04","1900-01-04",null,"1900-01-03","1900-01-04","1900-01-05","1900-01-05","1900-01-05","00:00:00","00:00:00","1900-01-03","1900-01-03","1900-01-03","1900-01-03","1900-01-03",null,"00:00:00","1900-01-03","1900-01-05","1900-01-05","1900-01-04","1900-01-04",null,"1900-01-02","1900-01-03","1900-01-03","1900-01-04","1900-01-04",null,"1900-01-04","1900-01-03","1900-01-03","1900-01-02","1900-01-03",null,{"$f":"COUNT(AW5:AW10)","v":"1900-01-02"},{"$f":"COUNT(AX5:AX10)","v":"1900-01-05"},{"$f":"COUNT(AY5:AY10)","v":"1900-01-05"},{"$f":"COUNT(AZ5:AZ10)","v":"1900-01-05"},{"$f":"COUNT(BA5:BA10)","v":"1900-01-04"},null,{"$f":"COUNT(BC5:BC10)","v":"1900-01-04"},{"$f":"COUNT(BD5:BD10)","v":"1900-01-04"},{"$f":"COUNT(BE5:BE10)","v":"1900-01-04"},{"$f":"COUNT(BF5:BF10)","v":"1900-01-04"},{"$f":"COUNT(BG5:BG10)","v":"1900-01-05"},null,{"$f":"COUNT(BI5:BI10)","v":"1900-01-03"},{"$f":"COUNT(BJ5:BJ10)","v":"1900-01-04"},{"$f":"COUNT(BK5:BK10)","v":"1900-01-03"},{"$f":"COUNT(BL5:BL10)","v":"1900-01-03"},{"$f":"COUNT(BM5:BM10)","v":"1900-01-03"},null,{"$f":"COUNT(BO5:BO10)","v":"1900-01-02"},{"$f":"COUNT(BP5:BP10)","v":"1900-01-04"},{"$f":"COUNT(BQ5:BQ10)","v":"1900-01-05"},{"$f":"COUNT(BR5:BR10)","v":"1900-01-05"},{"$f":"COUNT(BS5:BS10)","v":"1900-01-04"},null,{"$f":"COUNT(BU5:BU10)","v":"00:00:00"},{"$f":"COUNT(BV5:BV10)","v":"00:00:00"},{"$f":"COUNT(BW5:BW10)","v":"00:00:00"},{"$f":"COUNT(BX5:BX10)","v":"00:00:00"},{"$f":"COUNT(BY5:BY10)","v":"1900-01-01"}]
[null,null,null,null,null,null,null,null,null,null,"maximo de horas a pagar mensual",null,null,null,null,null,"maximo de horas a pagar mensual",null,null,null,null,null,null,"maximo de horas a pagar mensual",null,null,null,null,null,null,"maximo de horas a pagar mensual",null,null,null,null,null,"maximo de horas a pagar mensual",null,null,null,null,null,"maximo de horas a pagar mensual",null,null,null,null,null,"maximo de horas a pagar mensual",null,null,null,null,null,"maximo de horas a pagar mensual",null,null,null,null,null,"maximo de horas a pagar mensual",null,null,null,null,null,"maximo de horas a pagar mensual",null,null,null,null,null,"maximo de horas a pagar mensual"]
[null,"nombres","L","M","M","J","V",null,"TT"]
[1,null,{"$f":"'FORMATO 6'!U9","v":0},{"$f":"'FORMATO 6'!X9","v":2},{"$f":"'FORMATO 6'!AA9","v":1},{"$f":"'FORMATO 6'!AD9","v":0},{"$f":"'FORMATO 6'!AH9","v":0},null,{"$f":"SUM(C15:H15)","v":3},null,null,null,{"$f":"(C15*$K$12)+(D15*$L$12)+(E15*$M$12)+(F15*$N$12)+(G15*$O$12)","v":12},null,null,null,null,{"$f":"(C15*$Q$12)+(D15*$R$12)+(E15*$S$12)+(F15*$T$12)+(G15*$U$12)","v":13},null,null,null,null,null,null,{"$f":"(C15*$X$12)+(D15*$Y$12)+(E15*$Z$12)+(F15*$AA$12)+(G15*$AB$12)","v":9},null,null,null,null,null,null,{"$f":"($C15*$AE$12)+($D15*$AF$12)+($E15*$AG$12)+($F15*$AH$12)+($G15*$AI$12)","v":15},null,null,null,null,null,{"$f":"($C15*$AK$12)+($D15*$AL$12)+($E15*$AM$12)+($F15*$AN$12)+($G15*$AO$12)","v":9},null,null,null,null,null,{"$f":"($C15*AQ$12)+($D15*AR$12)+($E15*AS$12)+($F15*AT$12)+($G15*AU$12)","v":9},null,null,null,null,null,{"$f":"($C15*AW$12)+($D15*AX$12)+($E15*AY$12)+($F15*AZ$12)+($G15*BA$12)","v":15},null,null,null,null,null,{"$f":"($C15*BC$12)+($D15*BD$12)+($E15*BE$12)+($F15*BF$12)+($G15*BG$12)","v":12},null,null,null,null,null,{"$f":"($C15*BI$12)+($D15*BJ$12)+($E15*BK$12)+($F15*BL$12)+($G15*BM$12)","v":11},null,null,null,null,null,{"$f":"($C15*BO$12)+($D15*BP$12)+($E15*BQ$12)+($F15*BR$12)+($G15*BS$12)","v":13},null,null,null,null,null,{"$f":"($C15*BU$12)+($D15*BV$12)+($E15*BW$12)+($F15*BX$12)+($G15*BY$12)","v":0}]
[2,null,{"$f":"'FORMATO 6'!U10","v":0},{"$f":"'FORMATO 6'!X10","v":0},{"$f":"'FORMATO 6'!AA10","v":0},{"$f":"'FORMATO 6'!AD10","v":0},{"$f":"'FORMATO 6'!AH10","v":0},null,{"$f":"SUM(C16:G16)","v":0},null,null,null,{"$f":"(C16*$K$12)+(D16*$L$12)+(E16*$M$12)+(F16*$N$12)+(G16*$O$12)","v":0},null,null,null,null,{"$f":"(C16*$Q$12)+(D16*$R$12)+(E16*$S$12)+(F16*$T$12)+(G16*$U$12)","v":0},null,null,null,null,null,null,0,null,null,null,null,null,null,0,null,null,null,null,null,0,null,null,null,null,null,{"$f":"($C16*AQ$12)+($D16*AR$12)+($E16*AS$12)+($F16*AT$12)+($G16*AU$12)","v":0},null,null,null,null,null,{"$f":"($C16*AW$12)+($D16*AX$12)+($E16*AY$12)+($F16*AZ$12)+($G16*BA$12)","v":0},null,null,null,null,null,{"$f":"($C16*BC$12)+($D16*BD$12)+($E16*BE$12)+($F16*BF$12)+($G16*BG$12)","v":0},null,null,null,null,null,{"$f":"($C16*BI$12)+($D16*BJ$12)+($E16*BK$12)+($F16*BL$12)+($G16*BM$12)","v":0},null,null,null,null,null,{"$f":"($C16*BO$12)+($D16*BP$12)+($E16*BQ$12)+($F16*BR$12)+($G16*BS$12)","v":0},null,null,null,null,null,{"$f":"($C16*BU$12)+($D16*BV$12)+($E16*BW$12)+($F16*BX$12)+($G16*BY$12)","v":0}]
[3,null,{"$f":"'FORMATO 6'!U11","v":0},{"$f":"'FORMATO 6'!X11","v":0},{"$f":"'FORMATO 6'!AA11","v":0},{"$f":"'FORMATO 6'!AD11","v":0},{"$f":"'FORMATO 6'!AH11","v":0},null,0,null,null,null,0,null,null,null,null,{"$f":"(C17*$Q$12)+(D17*$R$12)+(E17*$S$12)+(F17*$T$12)+(G17*$U$12)","v":0},null,null,null,null,null,null,0,null,null,null,null,null,null,0,null,null,null,null,null,0,null,null,null,null,null,0,null,null,null,null,null,0,null,null,null,null,null,0,null,null,null,null,null,0,null,null,null,null,null,0,null,null,null,null,null,0]
[4,null,{"$f":"'FORMATO 6'!U12","v":0},{"$f":"'FORMATO 6'!X12","v":0},{"$f":"'FORMATO 6'!AA12","v":0},{"$f":"'FORMATO 6'!AD12","v":0},{"$f":"'FORMATO 6'!AH12","v":0},null,0,null,null,null,0,null,null,null,null,{"$f":"(C18*$Q$12)+(D18*$R$12)+(E18*$S$12)+(F18*$T$12)+(G18*$U$12)","v":0},null,null,null,null,null,null,0,null,null,null,null,null,null,0,null,null,null,null,null,0,null,null,null,null,null,0,null,null,null,null,null,0,null,null,null,null,null,0,null,null,null,null,null,0,null,null,null,null,null,0,null,null,null,null,null,0]
[5,null,{"$f":"'FORMATO 6'!U13","v":0},{"$f":"'FORMATO 6'!X13","v":0},{"$f":"'FORMATO 6'!AA13","v":0},{"$f":"'FORMATO 6'!AD13","v":0},{"$f":"'FORMATO 6'!AH13","v":0},null,0,null,null,null,0,null,null,null,null,0,null,null,null,null,null,null,0,null,null,null,null,null,null,0,null,null,null,null,null,0,null,null,null,null,null,0,null,null,null,null,null,0,null,null,null,null,null,0,null,null,null,null,null,0,null,null,null,null,null,0,null,null,null,null,null,0]
[6,null,{"$f":"'FORMATO 6'!U14","v":0},{"$f":"'FORMATO 6'!X14","v":0},{"$f":"'FORMATO 6'!AA14","v":0},{"$f":"'FORMATO 6'!AD14","v":0},{"$f":"'FORMATO 6'!AH14","v":0},null,0,null,null,null,0,null,null,null,null,0,null,null,null,null,null,null,0,null,null,null,null,null,null,0,null,null,null,null,null,0,null,null,null,null,null,0,null,null,null,null,null,0,null,null,null,null,null,0,null,null,null,null,null,0,null,null,null,null,null,0,null,null,null,null,null,0]
[7,null,{"$f":"'FORMATO 6'!U15","v":0},{"$f":"'FORMATO 6'!X15","v":0},{"$f":"'FORMATO 6'!AA15","v":0},{"$f":"'FORMATO 6'!AD15","v":0},{"$f":"'FORMATO 6'!AH15","v":0},null,0,null,null,null,0,null,null,null,null,0,null,null,null,null,null,null,0,null,null,null,null,null,null,0,null,null,null,null,null,0,null,null,null,null,null,0,null,null,null,null,null,0,null,null,null,null,null,0,null,null,null,null,null,0,null,null,null,null,null,0,null,null,null,null,null,0]
[8,null,{"$f":"'FORMATO 6'!U16","v":0},{"$f":"'FORMATO 6'!X16","v":0},{"$f":"'FORMATO 6'!AA16","v":0},{"$f":"'FORMATO 6'!AD16","v":0},{"$f":"'FORMATO 6'!AH16","v":0},null,0,null,null,null,0,null,null,null,null,0,null,null,null,null,null,null,0,null,null,null,null,null,null,0,null,null,null,null,null,0,null,null,null,null,null,0,null,null,null,null,null,0,null,null,null,null,null,0,null,null,null,null,null,0,null,null,null,null,null,0,null,null,null,null,null,0]
[9,null,{"$f":"'FORMATO 6'!U17","v":0},{"$f":"'FORMATO 6'!X17","v":0},{"$f":"'FORMATO 6'!AA17","v":0},{"$f":"'FORMATO 6'!AD17","v":0},{"$f":"'FORMATO 6'!AH17","v":0},null,0,null,null,null,0,null,null,null,null,0,null,null,null,null,null,null,0,null,null,null,null,null,null,0,null,null,null,null,null,0,null,null,null,null,null,0,null,null,null,null,null,0,null,null,null,null,null,0,null,null,null,null,null,0,null,null,null,null,null,0,null,null,null,null,null,0]
[10,null,{"$f":"'FORMATO 6'!U18","v":0},{"$f":"'FORMATO 6'!X18","v":0},{"$f":"'FORMATO 6'!AA18","v":0},{"$f":"'FORMATO 6'!AD18","v":0},{"$f":"'FORMATO 6'!AH18","v":0},null,0,null,null,null,0,null,null,null,null,0,null,null,null,null,null,null,0,null,null,null,null,null,null,0,null,null,null,null,null,0,null,null,null,null,null,0,null,null,null,null,null,0,null,null,null,null,null,0,null,null,null,null,null,0,null,null,null,null,null,0,null,null,null,null,null,0]
[11,null,{"$f":"'FORMATO 6'!U19","v":0},{"$f":"'FORMATO 6'!X19","v":0},{"$f":"'FORMATO 6'!AA19","v":0},{"$f":"'FORMATO 6'!AD19","v":0},{"$f":"'FORMATO 6'!AH19","v":0},null,0,null,null,null,0,null,null,null,null,0,null,null,null,null,null,null,0,null,null,null,null,null,null,0,null,null,null,null,null,0,null,null,null,null,null,0,null,null,null,null,null,0,null,null,null,null,null,0,null,null,null,null,null,0,null,null,null,null,null,0,null,null,null,null,null,0]
[12,null,{"$f":"'FORMATO 6'!U20","v":0},{"$f":"'FORMATO 6'!X20","v":0},{"$f":"'FORMATO 6'!AA20","v":0},{"$f":"'FORMATO 6'!AD20","v":0},{"$f":"'FORMATO 6'!AH20","v":0},null,0,null,null,null,0,null,null,null,null,0,null,null,null,null,null,null,0,null,null,null,null,null,null,0,null,null,null,null,null,0,null,null,null,null,null,0,null,null,null,null,null,0,null,null,null,null,null,0,null,null,null,null,null,0,null,null,null,null,null,0,null,null,null,null,null,0]
[13,null,null,null,null,null,null,null,0,null,null,null,0,null,null,null,null,0,null,null,null,null,null,null,0,null,null,null,null,null,null,0,null,null,null,null,null,0,null,null,null,null,null,0,null,null,null,null,null,0,null,null,null,null,null,0,null,null,null,null,null,0,null,null,null,null,null,0,null,null,null,null,null,0]
[14,null,null,null,null,null,null,null,0,null,null,null,0,null,null,null,null,0,null,null,null,null,null,null,0,null,null,null,null,null,null,0,null,null,null,null,null,0,null,null,null,null,null,0,null,null,null,null,null,0,null,null,null,null,null,0,null,null,null,null,null,0,null,null,null,null,null,0,null,null,null,null,null,0]
[15,null,null,null,null,null,null,null,0,null,null,null,0,null,null,null,null,0,null,null,null,null,null,null,0,null,null,null,null,null,null,0,null,null,null,null,null,0,null,null,null,null,null,0,null,null,null,null,null,0,null,null,null,null,null,0,null,null,null,null,null,0,null,null,null,null,null,0,null,null,null,null,null,0]
[16,null,null,null,null,null,null,null,0,null,null,null,0,null,null,null,null,0,null,null,null,null,null,null,0,null,null,null,null,null,null,0,null,null,null,null,null,0,null,null,null,null,null,0,null,null,null,null,null,0,null,null,null,null,null,0,null,null,null,null,null,0,null,null,null,null,null,0,null,null,null,null,null,0]
[17,null,null,null,null,null,null,null,0,null,null,null,0,null,null,null,null,0,null,null,null,null,null,null,0,null,null,null,null,null,null,0,null,null,null,null,null,0,null,null,null,null,null,0,null,null,null,null,null,0,null,null,null,null,null,0,null,null,null,null,null,0,null,null,null,null,null,0,null,null,null,null,null,0]
[18,null,null,null,null,null,null,null,0,null,null,null,0,null,null,null,null,0,null,null,null,null,null,null,0,null,null,null,null,null,null,0,null,null,null,null,null,0,null,null,null,null,null,0,null,null,null,null,null,0,null,null,null,null,null,0,null,null,null,null,null,0,null,null,null,null,null,0,null,null,null,null,null,0]
[19,null,null,null,null,null,null,null,0,null,null,null,0,null,null,null,null,0,null,null,null,null,null,null,0,null,null,null,null,null,null,0,null,null,null,null,null,0,null,null,null,null,null,0,null,null,null,null,null,0,null,null,null,null,null,0,null,null,null,null,null,0,null,null,null,null,null,0,null,null,null,null,null,0]
[20,null,null,null,null,null,null,null,0,null,null,null,0,null,null,null,null,0,null,null,null,null,null,null,0,null,null,null,null,null,null,0,null,null,null,null,null,0,null,null,null,null,null,0,null,null,null,null,null,0,null,null,null,null,null,0,null,null,null,null,null,0,null,null,null,null,null,0,null,null,null,null,null,0]

{"sheet":"FORMATO 6","index":1,"n_rows":21,"n_cols":37,"rows_kept":21,"cut":false,"hidden":false,"merged":[[12,26,12,28],[18,29,18,32],[19,29,19,32],[13,26,13,28],[14,26,14,28],[15,33,15,35],[17,29,17,32],[16,23,16,25],[17,23,17,25],[13,23,13,25],[14,23,14,25],[18,6,18,16],[19,6,19,16],[14,6,14,16],[15,6,15,16],[6,6,7,16],[6,17,7,19],[8,6,8,16],[8,17,8,19],[9,17,9,19],[10,17,10,19],[11,17,11,19],[16,17,16,19],[17,17,17,19],[14,17,14,19],[15,17,15,19],[12,17,12,19],[13,17,13,19],[20,0,20,19],[6,0,7,0],[9,1,9,5],[8,1,8,5],[13,1,13,5],[14,1,14,5],[15,1,15,5],[12,6,12,16],[13,6,13,16],[9,6,9,16],[10,6,10,16],[11,6,11,16],[16,6,16,16],[17,6,17,16],[19,17,19,19],[18,17,18,19],[20,23,20,25],[20,20,20,22],[9,20,9,22],[10,20,10,22],[11,20,11,22],[16,20,16,22],[17,20,17,22],[18,23,18,25],[19,23,19,25],[15,23,15,25],[10,23,10,25],[19,1,19,5],[6,1,7,5],[10,1,10,5],[11,1,11,5],[16,1,16,5],[17,1,17,5],[18,1,18,5],[16,29,16,32],[7,23,7,25],[7,29,7,32],[18,20,18,22],[19,20,19,22],[9,23,9,25],[8,20,8,22],[8,23,8,25],[13,20,13,22],[14,20,14,22],[15,20,15,22],[12,23,12,25],[16,33,16,35],[17,33,17,35],[18,33,18,35],[19,33,19,35],[12,1,12,5],[12,20,12,22],[7,20,7,22],[12,29,12,32],[11,23,11,25],[3,0,4,31],[3,32,4,37],[6,36,7,37],[6,20,6,35],[8,36,8,37],[9,36,9,37],[10,36,10,37],[19,36,19,37],[11,36,11,37],[7,33,7,35],[8,33,8,35],[9,33,9,35],[10,33,10,35],[11,33,11,35],[7,26,7,28],[8,26,8,28],[9,26,9,28],[10,26,10,28],[11,26,11,28],[9,29,9,32],[11,29,11,32],[10,29,10,32],[8,29,8,32],[13,29,13,32],[14,29,14,32],[15,29,15,32],[20,36,20,37],[20,26,20,28],[12,36,12,37],[15,26,15,28],[16,26,16,28],[17,26,17,28],[18,26,18,28],[19,26,19,28],[12,33,12,35],[13,33,13,35],[14,33,14,35],[20,33,20,35],[13,36,13,37],[14,36,14,37],[15,36,15,37],[16,36,16,37],[17,36,17,37],[18,36,18,37],[20,29,20,32]]}
[]
[]
[]
["HORAS EXTRAS",null,null,null,null,null,null,null,null,null,null,null,null,null,null,null,null,null,null,null,null,null,null,null,null,null,null,null,null,null,null,null,"FORMATO 6"]
[]
[]
["No.","IDENTIFICACION",null,null,null,null,"NOMBRES Y APELLIDOS COMPLETOS",null,null,null,null,null,null,null,null,null,null,"GRADO ESCALAFON",null,null,"H O R A R I O",null,null,null,null,null,null,null,null,null,null,null,null,null,null,null,"TOTAL SEMANAL"]
[null,null,null,null,null,null,null,null,null,null,null,null,null,null,null,null,null,null,null,null,"LUNES",null,null,"MARTES",null,null,"MIERCOLES",null,null,"JUEVES",null,null,null,"VIERNES"]
[1,123,null,null,null,null,"PEPITO PEREZ",null,null,null,null,null,null,null,null,null,null,{"$f":"IFERROR(VLOOKUP(B9,#REF!,3,FALSE),\"\")","v":""},null,null,null,null,null,2,null,null,1,null,null,null,null,null,null,null,null,null,{"$f":"IF(SUM(U9:AJ9)=0,\"\",SUM(U9:AJ9))","v":3}]
[2,null,null,null,null,null,{"$f":"IFERROR(VLOOKUP(B10,#REF!,2,FALSE),\"\")","v":""},null,null,null,null,null,null,null,null,null,null,{"$f":"IFERROR(VLOOKUP(B10,#REF!,3,FALSE),\"\")","v":""},null,null,null,null,null,null,null,null,null,null,null,null,null,null,null,null,null,null,{"$f":"IF(SUM(U10:AJ10)=0,\"\",SUM(U10:AJ10))","v":""}]
[3,null,null,null,null,null,{"$f":"IFERROR(VLOOKUP(B11,#REF!,2,FALSE),\"\")","v":""},null,null,null,null,null,null,null,null,null,null,{"$f":"IFERROR(VLOOKUP(B11,#REF!,3,FALSE),\"\")","v":""},null,null,null,null,null,null,null,null,null,null,null,null,null,null,null,null,null,null,""]
[4,null,null,null,null,null,{"$f":"IFERROR(VLOOKUP(B12,#REF!,2,FALSE),\"\")","v":""},null,null,null,null,null,null,null,null,null,null,{"$f":"IFERROR(VLOOKUP(B12,#REF!,3,FALSE),\"\")","v":""},null,null,null,null,null,null,null,null,null,null,null,null,null,null,null,null,null,null,""]
[5,null,null,null,null,null,{"$f":"IFERROR(VLOOKUP(B13,#REF!,2,FALSE),\"\")","v":""},null,null,null,null,null,null,null,null,null,null,{"$f":"IFERROR(VLOOKUP(B13,#REF!,3,FALSE),\"\")","v":""},null,null,null,null,null,null,null,null,null,null,null,null,null,null,null,null,null,null,""]
[6,null,null,null,null,null,{"$f":"IFERROR(VLOOKUP(B14,#REF!,2,FALSE),\"\")","v":""},null,null,null,null,null,null,null,null,null,null,{"$f":"IFERROR(VLOOKUP(B14,#REF!,3,FALSE),\"\")","v":""},null,null,null,null,null,null,null,null,null,null,null,null,null,null,null,null,null,null,""]
[7,null,null,null,null,null,{"$f":"IFERROR(VLOOKUP(B15,#REF!,2,FALSE),\"\")","v":""},null,null,null,null,null,null,null,null,null,null,{"$f":"IFERROR(VLOOKUP(B15,#REF!,3,FALSE),\"\")","v":""},null,null,null,null,null,null,null,null,null,null,null,null,null,null,null,null,null,null,""]
[8,null,null,null,null,null,{"$f":"IFERROR(VLOOKUP(B16,#REF!,2,FALSE),\"\")","v":""},null,null,null,null,null,null,null,null,null,null,{"$f":"IFERROR(VLOOKUP(B16,#REF!,3,FALSE),\"\")","v":""},null,null,null,null,null,null,null,null,null,null,null,null,null,null,null,null,null,null,""]
[9,null,null,null,null,null,{"$f":"IFERROR(VLOOKUP(B17,#REF!,2,FALSE),\"\")","v":""},null,null,null,null,null,null,null,null,null,null,{"$f":"IFERROR(VLOOKUP(B17,#REF!,3,FALSE),\"\")","v":""},null,null,null,null,null,null,null,null,null,null,null,null,null,null,null,null,null,null,""]
[10,null,null,null,null,null,{"$f":"IFERROR(VLOOKUP(B18,#REF!,2,FALSE),\"\")","v":""},null,null,null,null,null,null,null,null,null,null,{"$f":"IFERROR(VLOOKUP(B18,#REF!,3,FALSE),\"\")","v":""},null,null,null,null,null,null,null,null,null,null,null,null,null,null,null,null,null,null,""]
[11,null,null,null,null,null,{"$f":"IFERROR(VLOOKUP(B19,#REF!,2,FALSE),\"\")","v":""},null,null,null,null,null,null,null,null,null,null,{"$f":"IFERROR(VLOOKUP(B19,#REF!,3,FALSE),\"\")","v":""},null,null,null,null,null,null,null,null,null,null,null,null,null,null,null,null,null,null,""]
[12,null,null,null,null,null,{"$f":"IFERROR(VLOOKUP(B20,#REF!,2,FALSE),\"\")","v":""},null,null,null,null,null,null,null,null,null,null,{"$f":"IFERROR(VLOOKUP(B20,#REF!,3,FALSE),\"\")","v":""},null,null,null,null,null,null,null,null,null,null,null,null,null,null,null,null,null,null,""]
["TOTAL",null,null,null,null,null,null,null,null,null,null,null,null,null,null,null,null,null,null,null,{"$f":"SUM(U9:U20)","v":0},null,null,{"$f":"SUM(X9:Z20)","v":2},null,null,{"$f":"SUM(AA9:AC20)","v":1},null,null,{"$f":"SUM(AD9:AG20)","v":0},null,null,null,{"$f":"SUM(AH9:AJ20)","v":0},null,null,{"$f":"SUM(AK9:AL20)","v":3}]

{"sheet":"FORMATO 7","index":2,"n_rows":20,"n_cols":44,"rows_kept":20,"cut":false,"hidden":false,"merged":[[3,0,3,8],[4,0,4,8],[18,32,18,34],[18,35,18,38],[17,21,17,25],[17,26,17,28],[17,29,17,31],[17,32,17,34],[17,35,17,38],[14,32,14,34],[14,35,14,38],[13,21,13,25],[13,26,13,28],[13,35,13,38],[3,9,4,31],[3,32,4,38],[16,32,16,34],[16,35,16,38],[15,21,15,25],[15,26,15,28],[15,29,15,31],[15,32,15,34],[15,35,15,38],[10,35,10,38],[20,32,20,34],[19,0,19,25],[19,26,19,28],[19,29,19,31],[19,32,19,34],[19,35,19,38],[9,35,9,38],[12,21,12,25],[12,26,12,28],[12,29,12,31],[12,32,12,34],[12,35,12,38],[11,21,11,25],[11,26,11,28],[11,29,11,31],[11,32,11,34],[11,35,11,38],[18,1,18,6],[14,7,14,20],[15,7,15,20],[16,7,16,20],[17,7,17,20],[18,7,18,20],[10,21,10,25],[10,26,10,28],[10,29,10,31],[14,21,14,25],[14,26,14,28],[14,29,14,31],[18,21,18,25],[18,26,18,28],[18,29,18,31],[13,7,13,20],[13,1,13,6],[13,29,13,31],[15,1,15,6],[16,1,16,6],[17,1,17,6],[16,21,16,25],[16,26,16,28],[16,29,16,31],[6,26,6,28],[6,7,6,20],[6,21,6,25],[9,7,9,20],[10,7,10,20],[11,7,11,20],[12,7,12,20],[8,26,8,28],[6,1,6,6],[9,21,9,25],[9,26,9,28],[7,29,7,31],[7,26,7,28],[7,21,7,25],[9,1,9,6],[10,1,10,6],[11,1,11,6],[12,1,12,6],[14,1,14,6],[10,32,10,34],[13,32,13,34],[9,29,9,31],[9,32,9,34],[6,35,6,38],[6,32,6,34],[6,29,6,31],[8,29,8,31],[8,32,8,34],[8,35,8,38],[7,7,7,20],[7,1,7,6],[8,1,8,6],[8,7,8,20],[8,21,8,25],[7,35,7,38],[7,32,7,34]]}
[]
[]
[]
["MES LABORADO:",null,null,null,null,null,null,null,null,"HORAS EXTRAS",null,null,null,null,null,null,null,null,null,null,null,null,null,null,null,null,null,null,null,null,null,null,"FORMATO 7"]
["NOVIEMBRE"]
[]
["No.","IDENTIFICACION",null,null,null,null,null,"NOMBRES Y APELLIDOS COMPLETOS\n",null,null,null,null,null,null,null,null,null,null,null,null,null,null,null,null,null,null,"CONCEPTO",null,null,"TOTAL HORAS MENSUALES ASIGNADAS",null,null,"TOTAL HORAS LABORADAS  EN EL MES",null,null,"TOTAL HORAS NO LABORADAS EN EL MES",null,null,null,null,"DIAS QUE SE AUSENTO EL EMPLEADO"]
[1,{"$f":"IF('FORMATO 6'!B9:F9=0,\"\",'FORMATO 6'!B9:F9)","v":123},null,null,null,null,null,{"$f":"IF('FORMATO 6'!G9=0,\"\",'FORMATO 6'!G9)","v":"PEPITO PEREZ"},null,null,null,null,null,null,null,null,null,null,null,null,null,{"$f":"IF('FORMATO 6'!R9=0,\"\",'FORMATO 6'!R9)","v":""},null,null,null,null,{"$f":"IFERROR(VLOOKUP(V8,#REF!,3,FALSE),\"\")","v":""},null,null,{"$f":"IF($A$5='CALENDARIO 2017'!$K$3,'CALENDARIO 2017'!$M15,IF($A$5='CALENDARIO 2017'!$Q$3,'CALENDARIO 2017'!$R15,IF($A$5='CALENDARIO 2017'!$X$3,'CALENDARIO 2017'!$Y15,IF($A$5='CALENDARIO 2017'!$AE$3,'CALENDARIO 2017'!$AF15,IF($A$5='CALENDARIO 2017'!$AK$3,'CALENDARIO 2017'!$AL15,IF($A$5='CALENDARIO 2017'!$AQ$3,'CALENDARIO 2017'!$AR15,IF($A$5='CALENDARIO 2017'!$AW$3,'CALENDARIO 2017'!$AX15,IF($A$5='CALENDARIO 2017'!$BC$3,'CALENDARIO 2017'!$BD15,IF($A$5='CALENDARIO 2017'!$BI$3,'CALENDARIO 2017'!$BJ15,IF($A$5='CALENDARIO 2017'!$BO$3,'CALENDARIO 2017'!$BP15,IF($A$5='CALENDARIO 2017'!$BU$3,'CALENDARIO 2017'!$BV15,\"\")))))))))))","v":13},null,null,null,null,null,{"$f":"IF(AG8=\"\",\"\",AD8-AG8)","v":""},null,null,null,null,1,7,3,29]
[2,{"$f":"IF('FORMATO 6'!B10:F10=0,\"\",'FORMATO 6'!B10:F10)","v":""},null,null,null,null,null,{"$f":"IF('FORMATO 6'!G10=0,\"\",'FORMATO 6'!G10)","v":""},null,null,null,null,null,null,null,null,null,null,null,null,null,{"$f":"IF('FORMATO 6'!R10=0,\"\",'FORMATO 6'!R10)","v":""},null,null,null,null,{"$f":"IFERROR(VLOOKUP(V9,#REF!,3,FALSE),\"\")","v":""},null,null,{"$f":"IF($A$5='CALENDARIO 2017'!$K$3,'CALENDARIO 2017'!$M16,IF($A$5='CALENDARIO 2017'!$Q$3,'CALENDARIO 2017'!$R16,IF($A$5='CALENDARIO 2017'!$X$3,'CALENDARIO 2017'!$Y16,IF($A$5='CALENDARIO 2017'!$AE$3,'CALENDARIO 2017'!$AF16,IF($A$5='CALENDARIO 2017'!$AK$3,'CALENDARIO 2017'!$AL16,IF($A$5='CALENDARIO 2017'!$AQ$3,'CALENDARIO 2017'!$AR16,IF($A$5='CALENDARIO 2017'!$AW$3,'CALENDARIO 2017'!$AX16,IF($A$5='CALENDARIO 2017'!$BC$3,'CALENDARIO 2017'!$BD16,IF($A$5='CALENDARIO 2017'!$BI$3,'CALENDARIO 2017'!$BJ16,IF($A$5='CALENDARIO 2017'!$BO$3,'CALENDARIO 2017'!$BP16,IF($A$5='CALENDARIO 2017'!$BU$3,'CALENDARIO 2017'!$BV16,\"\")))))))))))","v":0},null,null,null,null,null,{"$f":"IF(AG9=\"\",\"\",AD9-AG9)","v":""}]
[3,{"$f":"IF('FORMATO 6'!B11:F11=0,\"\",'FORMATO 6'!B11:F11)","v":""},null,null,null,null,null,{"$f":"IF('FORMATO 6'!G11=0,\"\",'FORMATO 6'!G11)","v":""},null,null,null,null,null,null,null,null,null,null,null,null,null,{"$f":"IF('FORMATO 6'!R11=0,\"\",'FORMATO 6'!R11)","v":""},null,null,null,null,{"$f":"IFERROR(VLOOKUP(V10,#REF!,3,FALSE),\"\")","v":""},null,null,{"$f":"IF($A$5='CALENDARIO 2017'!$K$3,'CALENDARIO 2017'!$M17,IF($A$5='CALENDARIO 2017'!$Q$3,'CALENDARIO 2017'!$R17,IF($A$5='CALENDARIO 2017'!$X$3,'CALENDARIO 2017'!$Y17,IF($A$5='CALENDARIO 2017'!$AE$3,'CALENDARIO 2017'!$AF17,IF($A$5='CALENDARIO 2017'!$AK$3,'CALENDARIO 2017'!$AL17,IF($A$5='CALENDARIO 2017'!$AQ$3,'CALENDARIO 2017'!$AR17,IF($A$5='CALENDARIO 2017'!$AW$3,'CALENDARIO 2017'!$AX17,IF($A$5='CALENDARIO 2017'!$BC$3,'CALENDARIO 2017'!$BD17,IF($A$5='CALENDARIO 2017'!$BI$3,'CALENDARIO 2017'!$BJ17,IF($A$5='CALENDARIO 2017'!$BO$3,'CALENDARIO 2017'!$BP17,IF($A$5='CALENDARIO 2017'!$BU$3,'CALENDARIO 2017'!$BV17,\"\")))))))))))","v":0},null,null,null,null,null,""]
[4,{"$f":"IF('FORMATO 6'!B12:F12=0,\"\",'FORMATO 6'!B12:F12)","v":""},null,null,null,null,null,{"$f":"IF('FORMATO 6'!G12=0,\"\",'FORMATO 6'!G12)","v":""},null,null,null,null,null,null,null,null,null,null,null,null,null,{"$f":"IF('FORMATO 6'!R12=0,\"\",'FORMATO 6'!R12)","v":""},null,null,null,null,{"$f":"IFERROR(VLOOKUP(V11,#REF!,3,FALSE),\"\")","v":""},null,null,{"$f":"IF($A$5='CALENDARIO 2017'!$K$3,'CALENDARIO 2017'!$M18,IF($A$5='CALENDARIO 2017'!$Q$3,'CALENDARIO 2017'!$R18,IF($A$5='CALENDARIO 2017'!$X$3,'CALENDARIO 2017'!$Y18,IF($A$5='CALENDARIO 2017'!$AE$3,'CALENDARIO 2017'!$AF18,IF($A$5='CALENDARIO 2017'!$AK$3,'CALENDARIO 2017'!$AL18,IF($A$5='CALENDARIO 2017'!$AQ$3,'CALENDARIO 2017'!$AR18,IF($A$5='CALENDARIO 2017'!$AW$3,'CALENDARIO 2017'!$AX18,IF($A$5='CALENDARIO 2017'!$BC$3,'CALENDARIO 2017'!$BD18,IF($A$5='CALENDARIO 2017'!$BI$3,'CALENDARIO 2017'!$BJ18,IF($A$5='CALENDARIO 2017'!$BO$3,'CALENDARIO 2017'!$BP18,IF($A$5='CALENDARIO 2017'!$BU$3,'CALENDARIO 2017'!$BV18,\"\")))))))))))","v":0},null,null,null,null,null,""]
[5,{"$f":"IF('FORMATO 6'!B13:F13=0,\"\",'FORMATO 6'!B13:F13)","v":""},null,null,null,null,null,{"$f":"IF('FORMATO 6'!G13=0,\"\",'FORMATO 6'!G13)","v":""},null,null,null,null,null,null,null,null,null,null,null,null,null,{"$f":"IF('FORMATO 6'!R13=0,\"\",'FORMATO 6'!R13)","v":""},null,null,null,null,{"$f":"IFERROR(VLOOKUP(V12,#REF!,3,FALSE),\"\")","v":""},null,null,{"$f":"IF($A$5='CALENDARIO 2017'!$K$3,'CALENDARIO 2017'!$M19,IF($A$5='CALENDARIO 2017'!$Q$3,'CALENDARIO 2017'!$R19,IF($A$5='CALENDARIO 2017'!$X$3,'CALENDARIO 2017'!$Y19,IF($A$5='CALENDARIO 2017'!$AE$3,'CALENDARIO 2017'!$AF19,IF($A$5='CALENDARIO 2017'!$AK$3,'CALENDARIO 2017'!$AL19,IF($A$5='CALENDARIO 2017'!$AQ$3,'CALENDARIO 2017'!$AR19,IF($A$5='CALENDARIO 2017'!$AW$3,'CALENDARIO 2017'!$AX19,IF($A$5='CALENDARIO 2017'!$BC$3,'CALENDARIO 2017'!$BD19,IF($A$5='CALENDARIO 2017'!$BI$3,'CALENDARIO 2017'!$BJ19,IF($A$5='CALENDARIO 2017'!$BO$3,'CALENDARIO 2017'!$BP19,IF($A$5='CALENDARIO 2017'!$BU$3,'CALENDARIO 2017'!$BV19,\"\")))))))))))","v":0},null,null,null,null,null,""]
[6,{"$f":"IF('FORMATO 6'!B14:F14=0,\"\",'FORMATO 6'!B14:F14)","v":""},null,null,null,null,null,{"$f":"IF('FORMATO 6'!G14=0,\"\",'FORMATO 6'!G14)","v":""},null,null,null,null,null,null,null,null,null,null,null,null,null,{"$f":"IF('FORMATO 6'!R14=0,\"\",'FORMATO 6'!R14)","v":""},null,null,null,null,{"$f":"IFERROR(VLOOKUP(V13,#REF!,3,FALSE),\"\")","v":""},null,null,{"$f":"IF($A$5='CALENDARIO 2017'!$K$3,'CALENDARIO 2017'!$M20,IF($A$5='CALENDARIO 2017'!$Q$3,'CALENDARIO 2017'!$R20,IF($A$5='CALENDARIO 2017'!$X$3,'CALENDARIO 2017'!$Y20,IF($A$5='CALENDARIO 2017'!$AE$3,'CALENDARIO 2017'!$AF20,IF($A$5='CALENDARIO 2017'!$AK$3,'CALENDARIO 2017'!$AL20,IF($A$5='CALENDARIO 2017'!$AQ$3,'CALENDARIO 2017'!$AR20,IF($A$5='CALENDARIO 2017'!$AW$3,'CALENDARIO 2017'!$AX20,IF($A$5='CALENDARIO 2017'!$BC$3,'CALENDARIO 2017'!$BD20,IF($A$5='CALENDARIO 2017'!$BI$3,'CALENDARIO 2017'!$BJ20,IF($A$5='CALENDARIO 2017'!$BO$3,'CALENDARIO 2017'!$BP20,IF($A$5='CALENDARIO 2017'!$BU$3,'CALENDARIO 2017'!$BV20,\"\")))))))))))","v":0},null,null,null,null,null,""]
[7,{"$f":"IF('FORMATO 6'!B15:F15=0,\"\",'FORMATO 6'!B15:F15)","v":""},null,null,null,null,null,{"$f":"IF('FORMATO 6'!G15=0,\"\",'FORMATO 6'!G15)","v":""},null,null,null,null,null,null,null,null,null,null,null,null,null,{"$f":"IF('FORMATO 6'!R15=0,\"\",'FORMATO 6'!R15)","v":""},null,null,null,null,{"$f":"IFERROR(VLOOKUP(V14,#REF!,3,FALSE),\"\")","v":""},null,null,{"$f":"IF($A$5='CALENDARIO 2017'!$K$3,'CALENDARIO 2017'!$M21,IF($A$5='CALENDARIO 2017'!$Q$3,'CALENDARIO 2017'!$R21,IF($A$5='CALENDARIO 2017'!$X$3,'CALENDARIO 2017'!$Y21,IF($A$5='CALENDARIO 2017'!$AE$3,'CALENDARIO 2017'!$AF21,IF($A$5='CALENDARIO 2017'!$AK$3,'CALENDARIO 2017'!$AL21,IF($A$5='CALENDARIO 2017'!$AQ$3,'CALENDARIO 2017'!$AR21,IF($A$5='CALENDARIO 2017'!$AW$3,'CALENDARIO 2017'!$AX21,IF($A$5='CALENDARIO 2017'!$BC$3,'CALENDARIO 2017'!$BD21,IF($A$5='CALENDARIO 2017'!$BI$3,'CALENDARIO 2017'!$BJ21,IF($A$5='CALENDARIO 2017'!$BO$3,'CALENDARIO 2017'!$BP21,IF($A$5='CALENDARIO 2017'!$BU$3,'CALENDARIO 2017'!$BV21,\"\")))))))))))","v":0},null,null,null,null,null,""]
[8,{"$f":"IF('FORMATO 6'!B16:F16=0,\"\",'FORMATO 6'!B16:F16)","v":""},null,null,null,null,null,{"$f":"IF('FORMATO 6'!G16=0,\"\",'FORMATO 6'!G16)","v":""},null,null,null,null,null,null,null,null,null,null,null,null,null,{"$f":"IF('FORMATO 6'!R16=0,\"\",'FORMATO 6'!R16)","v":""},null,null,null,null,{"$f":"IFERROR(VLOOKUP(V15,#REF!,3,FALSE),\"\")","v":""},null,null,{"$f":"IF($A$5='CALENDARIO 2017'!$K$3,'CALENDARIO 2017'!$M22,IF($A$5='CALENDARIO 2017'!$Q$3,'CALENDARIO 2017'!$R22,IF($A$5='CALENDARIO 2017'!$X$3,'CALENDARIO 2017'!$Y22,IF($A$5='CALENDARIO 2017'!$AE$3,'CALENDARIO 2017'!$AF22,IF($A$5='CALENDARIO 2017'!$AK$3,'CALENDARIO 2017'!$AL22,IF($A$5='CALENDARIO 2017'!$AQ$3,'CALENDARIO 2017'!$AR22,IF($A$5='CALENDARIO 2017'!$AW$3,'CALENDARIO 2017'!$AX22,IF($A$5='CALENDARIO 2017'!$BC$3,'CALENDARIO 2017'!$BD22,IF($A$5='CALENDARIO 2017'!$BI$3,'CALENDARIO 2017'!$BJ22,IF($A$5='CALENDARIO 2017'!$BO$3,'CALENDARIO 2017'!$BP22,IF($A$5='CALENDARIO 2017'!$BU$3,'CALENDARIO 2017'!$BV22,\"\")))))))))))","v":0},null,null,null,null,null,""]
[9,{"$f":"IF('FORMATO 6'!B17:F17=0,\"\",'FORMATO 6'!B17:F17)","v":""},null,null,null,null,null,{"$f":"IF('FORMATO 6'!G17=0,\"\",'FORMATO 6'!G17)","v":""},null,null,null,null,null,null,null,null,null,null,null,null,null,{"$f":"IF('FORMATO 6'!R17=0,\"\",'FORMATO 6'!R17)","v":""},null,null,null,null,{"$f":"IFERROR(VLOOKUP(V16,#REF!,3,FALSE),\"\")","v":""},null,null,{"$f":"IF($A$5='CALENDARIO 2017'!$K$3,'CALENDARIO 2017'!$M23,IF($A$5='CALENDARIO 2017'!$Q$3,'CALENDARIO 2017'!$R23,IF($A$5='CALENDARIO 2017'!$X$3,'CALENDARIO 2017'!$Y23,IF($A$5='CALENDARIO 2017'!$AE$3,'CALENDARIO 2017'!$AF23,IF($A$5='CALENDARIO 2017'!$AK$3,'CALENDARIO 2017'!$AL23,IF($A$5='CALENDARIO 2017'!$AQ$3,'CALENDARIO 2017'!$AR23,IF($A$5='CALENDARIO 2017'!$AW$3,'CALENDARIO 2017'!$AX23,IF($A$5='CALENDARIO 2017'!$BC$3,'CALENDARIO 2017'!$BD23,IF($A$5='CALENDARIO 2017'!$BI$3,'CALENDARIO 2017'!$BJ23,IF($A$5='CALENDARIO 2017'!$BO$3,'CALENDARIO 2017'!$BP23,IF($A$5='CALENDARIO 2017'!$BU$3,'CALENDARIO 2017'!$BV23,\"\")))))))))))","v":0},null,null,null,null,null,""]
[10,{"$f":"IF('FORMATO 6'!B18:F18=0,\"\",'FORMATO 6'!B18:F18)","v":""},null,null,null,null,null,{"$f":"IF('FORMATO 6'!G18=0,\"\",'FORMATO 6'!G18)","v":""},null,null,null,null,null,null,null,null,null,null,null,null,null,{"$f":"IF('FORMATO 6'!R18=0,\"\",'FORMATO 6'!R18)","v":""},null,null,null,null,{"$f":"IFERROR(VLOOKUP(V17,#REF!,3,FALSE),\"\")","v":""},null,null,{"$f":"IF($A$5='CALENDARIO 2017'!$K$3,'CALENDARIO 2017'!$M24,IF($A$5='CALENDARIO 2017'!$Q$3,'CALENDARIO 2017'!$R24,IF($A$5='CALENDARIO 2017'!$X$3,'CALENDARIO 2017'!$Y24,IF($A$5='CALENDARIO 2017'!$AE$3,'CALENDARIO 2017'!$AF24,IF($A$5='CALENDARIO 2017'!$AK$3,'CALENDARIO 2017'!$AL24,IF($A$5='CALENDARIO 2017'!$AQ$3,'CALENDARIO 2017'!$AR24,IF($A$5='CALENDARIO 2017'!$AW$3,'CALENDARIO 2017'!$AX24,IF($A$5='CALENDARIO 2017'!$BC$3,'CALENDARIO 2017'!$BD24,IF($A$5='CALENDARIO 2017'!$BI$3,'CALENDARIO 2017'!$BJ24,IF($A$5='CALENDARIO 2017'!$BO$3,'CALENDARIO 2017'!$BP24,IF($A$5='CALENDARIO 2017'!$BU$3,'CALENDARIO 2017'!$BV24,\"\")))))))))))","v":0},null,null,null,null,null,""]
[11,{"$f":"IF('FORMATO 6'!B19:F19=0,\"\",'FORMATO 6'!B19:F19)","v":""},null,null,null,null,null,{"$f":"IF('FORMATO 6'!G19=0,\"\",'FORMATO 6'!G19)","v":""},null,null,null,null,null,null,null,null,null,null,null,null,null,{"$f":"IF('FORMATO 6'!R19=0,\"\",'FORMATO 6'!R19)","v":""},null,null,null,null,{"$f":"IFERROR(VLOOKUP(V18,#REF!,3,FALSE),\"\")","v":""},null,null,{"$f":"IF($A$5='CALENDARIO 2017'!$K$3,'CALENDARIO 2017'!$M25,IF($A$5='CALENDARIO 2017'!$Q$3,'CALENDARIO 2017'!$R25,IF($A$5='CALENDARIO 2017'!$X$3,'CALENDARIO 2017'!$Y25,IF($A$5='CALENDARIO 2017'!$AE$3,'CALENDARIO 2017'!$AF25,IF($A$5='CALENDARIO 2017'!$AK$3,'CALENDARIO 2017'!$AL25,IF($A$5='CALENDARIO 2017'!$AQ$3,'CALENDARIO 2017'!$AR25,IF($A$5='CALENDARIO 2017'!$AW$3,'CALENDARIO 2017'!$AX25,IF($A$5='CALENDARIO 2017'!$BC$3,'CALENDARIO 2017'!$BD25,IF($A$5='CALENDARIO 2017'!$BI$3,'CALENDARIO 2017'!$BJ25,IF($A$5='CALENDARIO 2017'!$BO$3,'CALENDARIO 2017'!$BP25,IF($A$5='CALENDARIO 2017'!$BU$3,'CALENDARIO 2017'!$BV25,\"\")))))))))))","v":0},null,null,null,null,null,""]
[12,{"$f":"IF('FORMATO 6'!B20:F20=0,\"\",'FORMATO 6'!B20:F20)","v":""},null,null,null,null,null,{"$f":"IF('FORMATO 6'!G20=0,\"\",'FORMATO 6'!G20)","v":""},null,null,null,null,null,null,null,null,null,null,null,null,null,{"$f":"IF('FORMATO 6'!R20=0,\"\",'FORMATO 6'!R20)","v":""},null,null,null,null,{"$f":"IFERROR(VLOOKUP(V19,#REF!,3,FALSE),\"\")","v":""},null,null,{"$f":"IF($A$5='CALENDARIO 2017'!$K$3,'CALENDARIO 2017'!$M26,IF($A$5='CALENDARIO 2017'!$Q$3,'CALENDARIO 2017'!$R26,IF($A$5='CALENDARIO 2017'!$X$3,'CALENDARIO 2017'!$Y26,IF($A$5='CALENDARIO 2017'!$AE$3,'CALENDARIO 2017'!$AF26,IF($A$5='CALENDARIO 2017'!$AK$3,'CALENDARIO 2017'!$AL26,IF($A$5='CALENDARIO 2017'!$AQ$3,'CALENDARIO 2017'!$AR26,IF($A$5='CALENDARIO 2017'!$AW$3,'CALENDARIO 2017'!$AX26,IF($A$5='CALENDARIO 2017'!$BC$3,'CALENDARIO 2017'!$BD26,IF($A$5='CALENDARIO 2017'!$BI$3,'CALENDARIO 2017'!$BJ26,IF($A$5='CALENDARIO 2017'!$BO$3,'CALENDARIO 2017'!$BP26,IF($A$5='CALENDARIO 2017'!$BU$3,'CALENDARIO 2017'!$BV26,\"\")))))))))))","v":0},null,null,null,null,null,""]
["TOTAL",null,null,null,null,null,null,null,null,null,null,null,null,null,null,null,null,null,null,null,null,null,null,null,null,null,null,null,null,{"$f":"SUM(AD8:AF19)","v":13},null,null,{"$f":"SUM(AG8:AI19)","v":0},null,null,{"$f":"SUM(AJ8:AM19)","v":0}]