{"text_format":"1","workbook":"xlsx","n_sheets":6,"sheets":["Hoja9","INICIO","LISTA","PLAN","REPORTE2","BASE SEGICOL"],"not_rendered":{"charts":0,"images":2,"macros":1,"external_links":0,"defined_names":28,"comments":1,"pivot_tables":0},"unopened":[],"bounds":{"document_bytes":16777216,"sheet_cells":100000,"rows_first":2000,"rows_last":500,"rows_between":2000,"halvings":0,"cell_chars":16384,"cell_head_chars":4096},"cells_cut":0,"cells_raw":0,"read":"whole","date_system":"1900"}

{"sheet":"Hoja9","index":0,"n_rows":600,"n_cols":193,"rows_kept":600,"cut":false,"hidden":false,"merged":[[289,18,289,19],[289,27,290,39],[290,18,290,19],[284,18,284,19],[284,27,287,39],[285,18,285,19],[286,18,286,19],[287,18,287,19],[288,18,288,19],[279,18,279,19],[280,18,280,19],[280,27,283,39],[281,18,281,19],[282,18,282,19],[283,18,283,19],[271,18,271,19],[271,27,274,39],[272,18,272,19],[273,18,273,19],[274,18,274,19],[275,18,275,19],[275,27,278,39],[276,18,276,19],[277,18,277,19],[278,18,278,19],[232,30,232,36],[225,30,225,36],[218,30,218,36],[260,18,260,20],[264,3,264,4],[266,21,266,22],[269,3,269,17],[269,18,269,19],[269,27,269,39],[254,1,254,3],[256,4,256,7],[257,18,257,22],[258,3,258,7],[258,12,259,16],[213,22,213,23],[213,25,215,28],[213,30,215,35],[215,3,215,4],[217,30,217,36],[207,4,207,7],[207,18,207,23],[208,12,209,16],[209,3,209,7],[209,18,209,20],[209,31,210,31],[196,15,196,16],[197,15,197,16],[198,15,198,16],[199,15,199,16],[200,15,200,16],[201,15,201,16],[190,15,190,16],[191,15,191,16],[192,15,192,16],[193,15,193,16],[194,15,194,16],[195,15,195,16],[184,15,184,16],[185,15,185,16],[186,15,186,16],[187,15,187,16],[188,15,188,16],[189,15,189,16],[178,15,178,16],[179,15,179,16],[180,15,180,16],[181,15,181,16],[182,15,182,16],[183,15,183,16],[172,15,172,16],[173,15,173,16],[174,15,174,16],[175,15,175,16],[176,15,176,16],[177,15,177,16],[166,15,166,16],[167,15,167,16],[168,15,168,16],[169,15,169,16],[170,15,170,16],[171,15,171,16],[160,15,160,16],[161,15,161,16],[162,15,162,16],[163,15,163,16],[164,15,164,16],[165,15,165,16],[151,15,151,16],[151,19,159,19],[152,15,152,16],[153,15,153,16],[154,15,154,16],[155,15,155,16],[156,15,156,16],[157,15,157,16],[158,15,158,16],[159,15,159,16],[85,13,85,19],[138,1,138,3],[140,4,140,7],[142,3,142,7],[142,12,142,16],[148,3,148,4],[76,50,76,51],[76,53,76,56],[78,53,78,55],[79,53,79,55],[80,53,80,55],[83,1,83,9],[83,12,83,25],[31,27,31,34],[32,27,32,34],[33,27,33,34],[72,1,72,3],[74,4,74,7],[76,3,76,7],[25,27,25,34],[26,27,26,34],[27,27,27,34],[28,27,28,34],[29,27,29,34],[30,27,30,34],[19,27,19,34],[20,27,20,34],[21,27,21,34],[22,27,22,34],[23,27,23,34],[24,27,24,34],[17,118,17,123],[17,124,17,129],[17,130,17,135],[17,136,17,141],[17,142,17,147],[17,186,17,190],[17,82,17,87],[17,88,17,93],[17,94,17,99],[17,100,17,105],[17,106,17,111],[17,112,17,117],[5,79,5,83],[6,79,6,83],[7,79,7,83],[8,79,8,83],[10,3,10,4],[17,27,17,34],[17,58,17,63],[17,64,17,69],[17,70,17,75],[17,76,17,81],[1,107,3,107],[1,109,3,109],[2,4,2,7],[2,18,2,19],[2,58,2,59],[3,18,4,23],[3,58,3,59],[3,78,3,82],[3,85,3,86],[4,3,4,7],[0,1,0,3],[0,50,5,50],[0,65,0,69],[1,58,1,59],[1,65,3,65],[1,66,3,66],[1,67,3,67],[1,68,3,68],[1,69,3,69],[4,12,4,16]]}
[null,"Registro de Notas",null,null,null,null,null,null,null,null,null,null,null,null,null,null,null,null,null,null,null,null,null,null,null,null,null,null,null,null,null,null,null,null,null,null,null,null,null,null,null,null,null,null,null,null,null,null,"DATOS GUARDADOS",null,"ACTIVAR TRIMESTRE","1T",{"$f":"IF($F$17=\"1T\",\"PRIMER TRIMESTRE\",\"\")","v":"PRIMER TRIMESTRE"},"Planeacion del 1T  Guardada. Seleccione Segundo Trimestre",null,null,null,null,null,null,null,null,null,null,null,"TAREAS",null,null,null,null,null,null,null,"SENA","X",null,null,null,null,"GUARDAR DATOS",null,null,null,null,null,null,null,null,null,null,null,"RESULTADOS SEGUNDO TRIMESTRE ",null,null,null,null,null,null,null,null,null,null,"1T",null,"L1","SUPERIOR",null,null,null,null,null,null,null,null,"CONTAR",null,null,null,null,null,null,null,null,null,null,null,null,"ACTIVIDADES",null,null,null,null,"INICIA LA PLANEACION"]
[null,null,null,null,null,null,null,null,null,null,null,null,null,null,null,null,null,null,null,null,null,null,null,null,null,null,null,null,null,null,null,null,null,null,null,null,null,null,null,null,null,null,null,null,null,null,null,null,null,null,null,"2T",{"$f":"IF($F$17=\"2T\",\"SEGUNDO TRIMESTRE\",\"\")","v":""},"Planeacion del 2T  Guardada. Seleccione Tercer Trimestre",null,null,null,null,"TODOS > 11",null,{"$f":"COUNTIF(BD21:BD70,\">=11\")","v":0},null,null,null,null,"# ACTIVIDADES NO REALIZADAS REAL","# DE ACRIVIDADES REALIZADAS","# DE ESTUDIANTES","# ACTIVIDADES TOTALES","% PROMEDIO DE ACTIVIDADES NO REALIZADAS","DATOS GUARDADOS",null,null,null,null,"1T",null,null,null,null,null,null,null,null,null,null,null,null,null,null,null,"RESULTADOS TERCER TRIMESTRE ",null,null,null,null,null,null,null,null,null,null,"2T",null,"L2","ALTO",null,"# ESTUDIANTES",null,"PERDIERON ",null,null,null,null,null,null,null,null,null,null,null,null,null,null,null,null,null,null,"PRIMER TRIMESTRE",null,null,null,"ACTIVIDADES DEL 1T GUARDADAS"]
[null,"Datos del Curso",null,null,{"$f":"IF(INICIO!$E$4=\"\",\"\",INICIO!$E$4)","v":"GERFRIED PINTO"},null,null,null,null,null,null,"PLANEACION Y ESTADISTICA",null,null,null,null,null,null,null,null,null,null,null,null,null,null,"COMANDOS",null,null,null,null,null,null,null,null,null,null,null,null,null,null,null,null,null,null,null,null,null,null,null,null,"3T",{"$f":"IF($F$17=\"3T\",\"TERCER TRIMESTRE\",\"\")","v":""},"Planeacion del 3T  Guardada. Continue con la Siguente Asignatura",null,null,34.5,"NO","APROBARON",null,{"$f":"COUNTIF(BD21:BD70,\">=34,6\")","v":0},null,null,null,null,null,null,null,null,null,null,null,null,null,null,"2T",null,null,null,null,null,null,null,null,null,null,null,null,null,null,null,"CALIFICACIÓN PLAN DE APOYO PRIMER TRIMESTRE",null,null,null,null,null,null,null,null,null,null,"3T",null,"L3","BASICO",null,null,null,null,null,null,null,null,null,null,null,null,null,null,null,null,null,null,null,null,null,null,"SEGUNDO TRIMESTRE",null,null,null,"ACTIVIDADES DEL 2T GUARDADAS"]
[null,null,null,null,null,null,null,null,null,null,null,null,null,null,null,null,null,null,{"$f":"IF(AND(#REF!=\"\",#REF!=\"\"),Hoja9!$CN$7,IF(AND(#REF!=#REF!,#REF!=\"\"),Hoja9!$CB$8,IF(AND(#REF!=#REF!,#REF!=#REF!),Hoja9!$CB$9)))","v":{"$error":"#REF!"}},null,null,null,null,null,null,null,null,null,null,null,null,null,null,null,null,null,null,null,null,null,null,null,null,null,null,null,null,null,null,null,null,null,{"$f":"IF($AZ$4=\"\",\"\",$BC$4)","v":""},"X","PRIMER TRIMESTRE",null,35,"SI","NO APROBARON",null,{"$f":"BI2-BI3","v":0},null,null,null,null,null,null,null,null,null,"SELECCIONA EL TRIMESTRE",null,null,null,null,"3T",null,null,"GUARDAR TRIMESTRES",null,null,null,null,null,null,null,null,null,null,null,null,"CALIFICACIÓN PLAN DE APOYO SEGUNDO TRIMESTRE",null,null,null,null,null,null,null,null,null,null,null,null,"L4","BAJO ",null,null,null,null,null,null,null,null,null,null,null,null,null,null,null,null,null,null,null,null,null,null,"TERCER TRIMESTRE",null,null,null,"ACTIVIDADES COMPLETAS"]
[null,null,null,{"$f":"IF($F$17=$AZ$3,$BA$3,IF($F$17=$AZ$2,$BA$2,IF($F$17=$AZ$1,$BA$1,\"\")))","v":"PRIMER TRIMESTRE"},null,null,null,null,null,null,null,null,"LOGROS EVALUADOS",null,null,null,null,null,null,null,null,null,null,null,null,null,null,null,null,null,null,null,null,null,null,null,null,null,null,null,null,null,null,null,null,null,null,null,null,null,null,null,{"$f":"IF($AZ$5=\"\",\"\",$BC$5)","v":""},null,"SEGUNDO TRIMESTRE",null,null,null,null,null,null,null,null,null,null,{"$f":"SUM(#REF!)","v":{"$error":"#REF!"}},{"$f":"$BB$285","v":0},{"$f":"$DD$5","v":1},{"$f":"BO5*BP5","v":0},{"$f":"IFERROR(BN5/BQ5,0)","v":0},"TRIMESTRE SELECCIONADO",null,null,null,null,null,null,null,null,null,null,null,null,null,null,null,null,null,null,null,null,"CALIFICACIÓN PLAN DE APOYO TERCER TRIMESTRE",null,null,null,null,null,null,null,null,null,null,null,null,"L5",null,null,{"$f":"50-COUNTIF(D21:D70,\"\")","v":1},null,{"$f":"COUNTIF(O153:O202,\"<=34,5\")","v":0}]
[null,null,null,null,null,null,null,null,null,null,null,null,null,null,null,null,null,null,null,null,null,null,null,null,null,null,null,null,null,null,null,null,null,null,null,null,null,null,null,null,null,null,null,null,null,null,null,null,null,null,null,null,{"$f":"IF($AZ$6=\"\",\"\",$BC$6)","v":""},null,"TERCER TRIMESTRE",null,null,"SUPERIOR",null,null,null,null,null,null,null,null,null,null,null,null,null,null,null,null,null,null,null,null,null,"DATOS DEL PRIMER TRIMESTRE GUARDADOS EXITOSAMENTE",null,null,null,null,null,null,null,null,null,null,null,"RESULTADOS PRIMER TRIMESTRE "]
[null,null,null,"ASIGNATURA",null,"CURSO",null,"CICLO",null,null,null,{"$f":"IF(AND(M7=\"\",N7=\"\",O7=\"\",P7=\"\",Q7=\"\"),\"\",$CY$1)","v":""},{"$f":"IF(PLAN!$C228=\"\",\"\",PLAN!$C228)","v":""},{"$f":"IF(PLAN!$C229=\"\",\"\",PLAN!$C229)","v":""},{"$f":"IF(PLAN!$C230=\"\",\"\",PLAN!$C230)","v":""},{"$f":"IF(PLAN!$C231=\"\",\"\",PLAN!$C231)","v":""},{"$f":"IF(PLAN!$C232=\"\",\"\",PLAN!$C232)","v":""},null,"ESTUDIANTES A PLAN DE APOYO",null,null,null,null,{"$f":"IFERROR(COUNTIF($J$87:$J$136,\"<=34,5\"),0)","v":0},null,null,null,null,null,null,null,null,null,null,null,null,null,null,null,null,null,null,null,null,null,null,null,null,null,null,null,null,null,"PLANEACION COMPLETA ","INICIA LA PLANEACION",null,null,null,null,null,null,null,"SI",null,null,null,null,null,null,null,null,null,null,null,null,null,null,null,null,"DATOS DEL SEGUNDO TRIMESTRE GUARDADOS EXITOSAMENTE",null,null,null,null,null,null,null,null,null,null,null,"RECUERDE!! AL TERMINAR EL TRIMESTRE DEBE GUARDAR LOS DATOS"]
[null,null,null,null,null,null,null,null,null,null,null,null,null,null,null,null,null,null,null,null,null,null,null,null,null,null,null,null,null,null,null,null,null,null,null,null,null,null,null,null,null,null,null,null,null,null,null,null,null,null,null,null,null,null,null,null,null,null,null,null,null,null,null,null,null,null,null,null,null,null,null,null,null,null,null,null,null,null,null,"NOTAS DEL PRIMER TRIMESTRE GUARDADAS EXITOSAMENTE"]
[null,null,null,{"$f":"IF($F$9=\"\",\"\",IF($F$9=INICIO!$D$19,INICIO!$F$19))","v":""},null,{"$f":"IF(INICIO!$D$19=\"\",\"\",INICIO!$D$19)","v":""},null,{"$f":"IF($F$9=INICIO!$D$19,INICIO!$C$19,\"\")","v":""},null,null,null,{"$f":"IF(AND(M9=\"\",N9=\"\",O9=\"\",P9=\"\",Q9=\"\"),\"\",$CY$2)","v":""},{"$f":"IF(PLAN!$C233=\"\",\"\",PLAN!$C233)","v":""},{"$f":"IF(PLAN!$C234=\"\",\"\",PLAN!$C234)","v":""},{"$f":"IF(PLAN!$C235=\"\",\"\",PLAN!$C235)","v":""},{"$f":"IF(PLAN!$C236=\"\",\"\",PLAN!$C236)","v":""},{"$f":"IF(PLAN!$C237=\"\",\"\",PLAN!$C237)","v":""},null,"% PERDIDA EVALUACIÓN",null,null,null,null,{"$f":"IFERROR(IF($DD$5=0,\"\",($GC$71/$DD$5)),0)","v":0},null,null,null,null,null,null,null,null,null,null,null,null,null,null,null,null,null,null,null,null,null,null,null,null,null,null,null,null,null,null,null,null,null,null,null,null,null,null,null,null,null,null,null,null,null,null,null,null,null,null,null,null,null,null,null,"NOTAS DEL SEGUNDO TRIMESTRE GUARDADAS EXITOSAMENTE",null,null,null,null,null,null,null,null,null,null,null,"LAS  NOTAS NO SE HAN GUARDADO"]
[]
[null,null,null,"# de Estudiantes:",null,{"$f":"IF(LISTA!AF59=\"\",\"\",LISTA!AF59)","v":1},null,null,null,null,null,{"$f":"IF(AND(M11=\"\",N11=\"\",O11=\"\",P11=\"\",Q11=\"\"),\"\",$CY$3)","v":""},{"$f":"IF(PLAN!$C238=\"\",\"\",PLAN!$C238)","v":""},{"$f":"IF(PLAN!$C239=\"\",\"\",PLAN!$C239)","v":""},{"$f":"IF(PLAN!$C240=\"\",\"\",PLAN!$C240)","v":""},{"$f":"IF(PLAN!$C241=\"\",\"\",PLAN!$C241)","v":""},{"$f":"IF(PLAN!$C242=\"\",\"\",PLAN!$C242)","v":""},null,"% ACTIVIDADES NO ENTREGADAS",null,null,null,null,{"$f":"$BR$5","v":0}]
[]
[null,null,null,null,null,null,null,null,null,null,null,null,null,null,null,null,null,null,"EVA",0.15,"AUT",0.05,null,null,null,null,null,null,null,null,null,null,null,null,null,null,null,null,null,null,null,null,null,null,null,null,null,null,null,null,null,null,null,null,null,null,null,null,null,null,null,null,null,null,null,null,null,null,null,null,null,null,null,null,null,null,null,null,"EV","NOTAS","P/A",null,null,null,null,null,null,null,null,null,null,null,null,null,null,null,null,null,null,null,null,null,null,null,null,null,null,null,null,null,null,null,null,null,null,"PLANEACIÓN COMPLETA  FALTAN LAS ACTIVIDADES"]
[]
[]
[]
[null,null,null,"TRIMESTRE SELECCIONADO",null,{"$f":"INICIO!$H$2","v":"1T"}]
[null,null,null,null,null,null,null,null,null,null,null,null,null,null,null,null,null,null,null,null,null,null,null,null,null,null,null,"ACTIVIDADES PROGRAMADAS",null,null,null,null,null,null,null,"FECHA",null,null,null,null,null,null,null,null,null,null,null,null,null,null,null,null,null,null,null,null,null,null,"A1",null,null,null,null,null,"A2",null,null,null,null,null,"A3",null,null,null,null,null,"A4",null,null,null,null,null,"A5",null,null,null,null,null,"A6",null,null,null,null,null,"A7",null,null,null,null,null,"A8",null,null,null,null,null,"A9",null,null,null,null,null,"A10",null,null,null,null,null,"A11",null,null,null,null,null,"A12",null,null,null,null,null,"A13",null,null,null,null,null,"A14",null,null,null,null,null,"A15",null,null,null,null,null,{"$f":"IF((COUNTIF($BG$20:$ER$20,$ES$20)*6)=0,1,(COUNTIF($BG$20:$ER$20,$ES$20)*6))","v":1},{"$f":"IF((COUNTIF($BG$20:$ER$20,$ET$20)*6)=0,1,(COUNTIF($BG$20:$ER$20,$ET$20)*6))","v":1},{"$f":"IF((COUNTIF($BG$20:$ER$20,$EU$20)*6)=0,1,(COUNTIF($BG$20:$ER$20,$EU$20)*6))","v":1},{"$f":"IF((COUNTIF($BG$20:$ER$20,$EV$20)*6)=0,1,(COUNTIF($BG$20:$ER$20,$EV$20)*6))","v":1},{"$f":"IF((COUNTIF($BG$20:$ER$20,$EW$20)*6)=0,1,(COUNTIF($BG$20:$ER$20,$EW$20)*6))","v":1},{"$f":"IF((COUNTIF($BG$20:$ER$20,$EX$20)*6)=0,1,(COUNTIF($BG$20:$ER$20,$EX$20)*6))","v":1},{"$f":"IF((COUNTIF($BG$20:$ER$20,$EY$20)*6)=0,1,(COUNTIF($BG$20:$ER$20,$EY$20)*6))","v":1},{"$f":"IF((COUNTIF($BG$20:$ER$20,$EZ$20)*6)=0,1,(COUNTIF($BG$20:$ER$20,$EZ$20)*6))","v":1},{"$f":"IF((COUNTIF($BG$20:$ER$20,$FA$20)*6)=0,1,(COUNTIF($BG$20:$ER$20,$FA$20)*6))","v":1},{"$f":"IF((COUNTIF($BG$20:$ER$20,$FB$20)*6)=0,1,(COUNTIF($BG$20:$ER$20,$FB$20)*6))","v":1},{"$f":"IF((COUNTIF($BG$20:$ER$20,$FC$20)*6)=0,1,(COUNTIF($BG$20:$ER$20,$FC$20)*6))","v":1},{"$f":"IF((COUNTIF($BG$20:$ER$20,$FD$20)*6)=0,1,(COUNTIF($BG$20:$ER$20,$FD$20)*6))","v":1},{"$f":"IF((COUNTIF($BG$20:$ER$20,$FE$20)*6)=0,1,(COUNTIF($BG$20:$ER$20,$FE$20)*6))","v":1},{"$f":"IF((COUNTIF($BG$20:$ER$20,$FF$20)*6)=0,1,(COUNTIF($BG$20:$ER$20,$FF$20)*6))","v":1},{"$f":"IF((COUNTIF($BG$20:$ER$20,$FG$20)*6)=0,1,(COUNTIF($BG$20:$ER$20,$FG$20)*6))","v":1},{"$f":"IF((COUNTIF($BG$20:$ER$20,$FH$20)*6)=0,1,(COUNTIF($BG$20:$ER$20,$FH$20)*6))","v":1},{"$f":"IF((COUNTIF($BG$20:$ER$20,$FI$20)*6)=0,1,(COUNTIF($BG$20:$ER$20,$FI$20)*6))","v":1},{"$f":"IF((COUNTIF($BG$20:$ER$20,$FJ$20)*6)=0,1,(COUNTIF($BG$20:$ER$20,$FJ$20)*6))","v":1},{"$f":"IF((COUNTIF($BG$20:$ER$20,$FK$20)*6)=0,1,(COUNTIF($BG$20:$ER$20,$FK$20)*6))","v":1},{"$f":"IF((COUNTIF($BG$20:$ER$20,$FL$20)*6)=0,1,(COUNTIF($BG$20:$ER$20,$FL$20)*6))","v":1},{"$f":"IF((COUNTIF($BG$20:$ER$20,$FM$20)*6)=0,1,(COUNTIF($BG$20:$ER$20,$FM$20)*6))","v":1},{"$f":"IF((COUNTIF($BG$20:$ER$20,$FN$20)*6)=0,1,(COUNTIF($BG$20:$ER$20,$FN$20)*6))","v":1},{"$f":"IF((COUNTIF($BG$20:$ER$20,$FO$20)*6)=0,1,(COUNTIF($BG$20:$ER$20,$FO$20)*6))","v":1},{"$f":"IF((COUNTIF($BG$20:$ER$20,$FP$20)*6)=0,1,(COUNTIF($BG$20:$ER$20,$FP$20)*6))","v":1},{"$f":"IF((COUNTIF($BG$20:$ER$20,$FQ$20)*6)=0,1,(COUNTIF($BG$20:$ER$20,$FQ$20)*6))","v":1},{"$f":"IF((COUNTIF($BG$20:$ER$20,$FR$20)*6)=0,1,(COUNTIF($BG$20:$ER$20,$FR$20)*6))","v":1},{"$f":"IF((COUNTIF($BG$20:$ER$20,$FS$20)*6)=0,1,(COUNTIF($BG$20:$ER$20,$FS$20)*6))","v":1},{"$f":"IF((COUNTIF($BG$20:$ER$20,$FT$20)*6)=0,1,(COUNTIF($BG$20:$ER$20,$FT$20)*6))","v":1},{"$f":"IF((COUNTIF($BG$20:$ER$20,$FU$20)*6)=0,1,(COUNTIF($BG$20:$ER$20,$FU$20)*6))","v":1},{"$f":"IF((COUNTIF($BG$20:$ER$20,$FV$20)*6)=0,1,(COUNTIF($BG$20:$ER$20,$FV$20)*6))","v":1},null,null,null,null,null,null,null,null,"RESULTADO PLAN DE APOYO"]
[]
[null,"CD",null,"NOMBRE",{"$f":"IF($D272=\"\",\"\",$B272)","v":""},{"$f":"IF($D273=\"\",\"\",$B273)","v":""},{"$f":"IF($D274=\"\",\"\",$B274)","v":""},{"$f":"IF($D275=\"\",\"\",$B275)","v":""},{"$f":"IF($D276=\"\",\"\",$B276)","v":""},{"$f":"IF($D277=\"\",\"\",$B277)","v":""},{"$f":"IF($D278=\"\",\"\",$B278)","v":""},{"$f":"IF($D279=\"\",\"\",$B279)","v":""},{"$f":"IF($D280=\"\",\"\",$B280)","v":""},{"$f":"IF($D281=\"\",\"\",$B281)","v":""},{"$f":"IF($D282=\"\",\"\",$B282)","v":""},{"$f":"IF($D283=\"\",\"\",$B283)","v":""},{"$f":"IF($D284=\"\",\"\",$B284)","v":""},{"$f":"IF($D285=\"\",\"\",$B285)","v":""},{"$f":"IF($D286=\"\",\"\",$B286)","v":""},"AUT","EVA","DEF",{"$f":"IF($D290=\"\",\"\",$B290)","v":""},"SENA",null,{"$f":"IF($D272=\"\",\"\",$B272)","v":""},null,{"$f":"IF(PLAN!$S$226=\"TERCER TRIMESTRE\",PLAN!S228,IF(PLAN!$L$226=\"SEGUNDO TRIMESTRE\",PLAN!L228,IF(PLAN!$E$226=\"PRIMER TRIMESTRE\",PLAN!E228,\"\")))","v":""},null,null,null,null,null,null,null,{"$f":"S272","v":"00:00:00"},null,null,null,null,null,null,null,null,null,null,null,null,null,null,null,null,null,null,null,"PROMEDIO",null,null,{"$f":"IF(PLAN!$G$226=\"1T\",PLAN!F228,IF(PLAN!$N$226=\"2T\",PLAN!M228,IF(PLAN!$U$226=\"3T\",PLAN!T228,\"\")))","v":0},{"$f":"IF(PLAN!$G$226=\"1T\",PLAN!G228,IF(PLAN!$N$226=\"2T\",PLAN!N228,IF(PLAN!$U$226=\"3T\",PLAN!U228,\"\")))","v":0},{"$f":"IF(PLAN!$G$226=\"1T\",PLAN!H228,IF(PLAN!$N$226=\"2T\",PLAN!O228,IF(PLAN!$U$226=\"3T\",PLAN!V228,\"\")))","v":0},{"$f":"IF(PLAN!$G$226=\"1T\",PLAN!I228,IF(PLAN!$N$226=\"2T\",PLAN!P228,IF(PLAN!$U$226=\"3T\",PLAN!W228,\"\")))","v":0},{"$f":"IF(PLAN!$G$226=\"1T\",PLAN!J228,IF(PLAN!$N$226=\"2T\",PLAN!Q228,IF(PLAN!$U$226=\"3T\",PLAN!X228,\"\")))","v":0},{"$f":"IF(PLAN!$G$226=\"1T\",PLAN!K228,IF(PLAN!$N$226=\"2T\",PLAN!R228,IF(PLAN!$U$226=\"3T\",PLAN!Y228,\"\")))","v":0},{"$f":"IF(PLAN!$G$226=\"1T\",PLAN!F229,IF(PLAN!$N$226=\"2T\",PLAN!M229,IF(PLAN!$U$226=\"3T\",PLAN!T229,\"\")))","v":0},{"$f":"IF(PLAN!$G$226=\"1T\",PLAN!G229,IF(PLAN!$N$226=\"2T\",PLAN!N229,IF(PLAN!$U$226=\"3T\",PLAN!U229,\"\")))","v":0},{"$f":"IF(PLAN!$G$226=\"1T\",PLAN!H229,IF(PLAN!$N$226=\"2T\",PLAN!O229,IF(PLAN!$U$226=\"3T\",PLAN!V229,\"\")))","v":0},{"$f":"IF(PLAN!$G$226=\"1T\",PLAN!I229,IF(PLAN!$N$226=\"2T\",PLAN!P229,IF(PLAN!$U$226=\"3T\",PLAN!W229,\"\")))","v":0},{"$f":"IF(PLAN!$G$226=\"1T\",PLAN!J229,IF(PLAN!$N$226=\"2T\",PLAN!Q229,IF(PLAN!$U$226=\"3T\",PLAN!X229,\"\")))","v":0},{"$f":"IF(PLAN!$G$226=\"1T\",PLAN!K229,IF(PLAN!$N$226=\"2T\",PLAN!R229,IF(PLAN!$U$226=\"3T\",PLAN!Y229,\"\")))","v":0},{"$f":"IF(PLAN!$G$226=\"1T\",PLAN!F230,IF(PLAN!$N$226=\"2T\",PLAN!M230,IF(PLAN!$U$226=\"3T\",PLAN!T230,\"\")))","v":0},{"$f":"IF(PLAN!$G$226=\"1T\",PLAN!G230,IF(PLAN!$N$226=\"2T\",PLAN!N230,IF(PLAN!$U$226=\"3T\",PLAN!U230,\"\")))","v":0},{"$f":"IF(PLAN!$G$226=\"1T\",PLAN!H230,IF(PLAN!$N$226=\"2T\",PLAN!O230,IF(PLAN!$U$226=\"3T\",PLAN!V230,\"\")))","v":0},{"$f":"IF(PLAN!$G$226=\"1T\",PLAN!I230,IF(PLAN!$N$226=\"2T\",PLAN!P230,IF(PLAN!$U$226=\"3T\",PLAN!W230,\"\")))","v":0},{"$f":"IF(PLAN!$G$226=\"1T\",PLAN!J230,IF(PLAN!$N$226=\"2T\",PLAN!Q230,IF(PLAN!$U$226=\"3T\",PLAN!X230,\"\")))","v":0},{"$f":"IF(PLAN!$G$226=\"1T\",PLAN!K230,IF(PLAN!$N$226=\"2T\",PLAN!R230,IF(PLAN!$U$226=\"3T\",PLAN!Y230,\"\")))","v":0},{"$f":"IF(PLAN!$G$226=\"1T\",PLAN!F231,IF(PLAN!$N$226=\"2T\",PLAN!M231,IF(PLAN!$U$226=\"3T\",PLAN!T231,\"\")))","v":0},{"$f":"IF(PLAN!$G$226=\"1T\",PLAN!G231,IF(PLAN!$N$226=\"2T\",PLAN!N231,IF(PLAN!$U$226=\"3T\",PLAN!U231,\"\")))","v":0},{"$f":"IF(PLAN!$G$226=\"1T\",PLAN!H231,IF(PLAN!$N$226=\"2T\",PLAN!O231,IF(PLAN!$U$226=\"3T\",PLAN!V231,\"\")))","v":0},{"$f":"IF(PLAN!$G$226=\"1T\",PLAN!I231,IF(PLAN!$N$226=\"2T\",PLAN!P231,IF(PLAN!$U$226=\"3T\",PLAN!W231,\"\")))","v":0},{"$f":"IF(PLAN!$G$226=\"1T\",PLAN!J231,IF(PLAN!$N$226=\"2T\",PLAN!Q231,IF(PLAN!$U$226=\"3T\",PLAN!X231,\"\")))","v":0},{"$f":"IF(PLAN!$G$226=\"1T\",PLAN!K231,IF(PLAN!$N$226=\"2T\",PLAN!R231,IF(PLAN!$U$226=\"3T\",PLAN!Y231,\"\")))","v":0},{"$f":"IF(PLAN!$G$226=\"1T\",PLAN!F232,IF(PLAN!$N$226=\"2T\",PLAN!M232,IF(PLAN!$U$226=\"3T\",PLAN!T232,\"\")))","v":0},{"$f":"IF(PLAN!$G$226=\"1T\",PLAN!G232,IF(PLAN!$N$226=\"2T\",PLAN!N232,IF(PLAN!$U$226=\"3T\",PLAN!U232,\"\")))","v":0},{"$f":"IF(PLAN!$G$226=\"1T\",PLAN!H232,IF(PLAN!$N$226=\"2T\",PLAN!O232,IF(PLAN!$U$226=\"3T\",PLAN!V232,\"\")))","v":0},{"$f":"IF(PLAN!$G$226=\"1T\",PLAN!I232,IF(PLAN!$N$226=\"2T\",PLAN!P232,IF(PLAN!$U$226=\"3T\",PLAN!W232,\"\")))","v":0},{"$f":"IF(PLAN!$G$226=\"1T\",PLAN!J232,IF(PLAN!$N$226=\"2T\",PLAN!Q232,IF(PLAN!$U$226=\"3T\",PLAN!X232,\"\")))","v":0},{"$f":"IF(PLAN!$G$226=\"1T\",PLAN!K232,IF(PLAN!$N$226=\"2T\",PLAN!R232,IF(PLAN!$U$226=\"3T\",PLAN!Y232,\"\")))","v":0},{"$f":"IF(PLAN!$G$226=\"1T\",PLAN!F233,IF(PLAN!$N$226=\"2T\",PLAN!M233,IF(PLAN!$U$226=\"3T\",PLAN!T233,\"\")))","v":0},{"$f":"IF(PLAN!$G$226=\"1T\",PLAN!G233,IF(PLAN!$N$226=\"2T\",PLAN!N233,IF(PLAN!$U$226=\"3T\",PLAN!U233,\"\")))","v":0},{"$f":"IF(PLAN!$G$226=\"1T\",PLAN!H233,IF(PLAN!$N$226=\"2T\",PLAN!O233,IF(PLAN!$U$226=\"3T\",PLAN!V233,\"\")))","v":0},{"$f":"IF(PLAN!$G$226=\"1T\",PLAN!I233,IF(PLAN!$N$226=\"2T\",PLAN!P233,IF(PLAN!$U$226=\"3T\",PLAN!W233,\"\")))","v":0},{"$f":"IF(PLAN!$G$226=\"1T\",PLAN!J233,IF(PLAN!$N$226=\"2T\",PLAN!Q233,IF(PLAN!$U$226=\"3T\",PLAN!X233,\"\")))","v":0},{"$f":"IF(PLAN!$G$226=\"1T\",PLAN!K233,IF(PLAN!$N$226=\"2T\",PLAN!R233,IF(PLAN!$U$226=\"3T\",PLAN!Y233,\"\")))","v":0},{"$f":"IF(PLAN!$G$226=\"1T\",PLAN!F234,IF(PLAN!$N$226=\"2T\",PLAN!M234,IF(PLAN!$U$226=\"3T\",PLAN!T234,\"\")))","v":0},{"$f":"IF(PLAN!$G$226=\"1T\",PLAN!G234,IF(PLAN!$N$226=\"2T\",PLAN!N234,IF(PLAN!$U$226=\"3T\",PLAN!U234,\"\")))","v":0},{"$f":"IF(PLAN!$G$226=\"1T\",PLAN!H234,IF(PLAN!$N$226=\"2T\",PLAN!O234,IF(PLAN!$U$226=\"3T\",PLAN!V234,\"\")))","v":0},{"$f":"IF(PLAN!$G$226=\"1T\",PLAN!I234,IF(PLAN!$N$226=\"2T\",PLAN!P234,IF(PLAN!$U$226=\"3T\",PLAN!W234,\"\")))","v":0},{"$f":"IF(PLAN!$G$226=\"1T\",PLAN!J234,IF(PLAN!$N$226=\"2T\",PLAN!Q234,IF(PLAN!$U$226=\"3T\",PLAN!X234,\"\")))","v":0},{"$f":"IF(PLAN!$G$226=\"1T\",PLAN!K234,IF(PLAN!$N$226=\"2T\",PLAN!R234,IF(PLAN!$U$226=\"3T\",PLAN!Y234,\"\")))","v":0},{"$f":"IF(PLAN!$G$226=\"1T\",PLAN!F235,IF(PLAN!$N$226=\"2T\",PLAN!M235,IF(PLAN!$U$226=\"3T\",PLAN!T235,\"\")))","v":0},{"$f":"IF(PLAN!$G$226=\"1T\",PLAN!G235,IF(PLAN!$N$226=\"2T\",PLAN!N235,IF(PLAN!$U$226=\"3T\",PLAN!U235,\"\")))","v":0},{"$f":"IF(PLAN!$G$226=\"1T\",PLAN!H235,IF(PLAN!$N$226=\"2T\",PLAN!O235,IF(PLAN!$U$226=\"3T\",PLAN!V235,\"\")))","v":0},{"$f":"IF(PLAN!$G$226=\"1T\",PLAN!I235,IF(PLAN!$N$226=\"2T\",PLAN!P235,IF(PLAN!$U$226=\"3T\",PLAN!W235,\"\")))","v":0},{"$f":"IF(PLAN!$G$226=\"1T\",PLAN!J235,IF(PLAN!$N$226=\"2T\",PLAN!Q235,IF(PLAN!$U$226=\"3T\",PLAN!X235,\"\")))","v":0},{"$f":"IF(PLAN!$G$226=\"1T\",PLAN!K235,IF(PLAN!$N$226=\"2T\",PLAN!R235,IF(PLAN!$U$226=\"3T\",PLAN!Y235,\"\")))","v":0},{"$f":"IF(PLAN!$G$226=\"1T\",PLAN!F236,IF(PLAN!$N$226=\"2T\",PLAN!M236,IF(PLAN!$U$226=\"3T\",PLAN!T236,\"\")))","v":0},{"$f":"IF(PLAN!$G$226=\"1T\",PLAN!G236,IF(PLAN!$N$226=\"2T\",PLAN!N236,IF(PLAN!$U$226=\"3T\",PLAN!U236,\"\")))","v":0},{"$f":"IF(PLAN!$G$226=\"1T\",PLAN!H236,IF(PLAN!$N$226=\"2T\",PLAN!O236,IF(PLAN!$U$226=\"3T\",PLAN!V236,\"\")))","v":0},{"$f":"IF(PLAN!$G$226=\"1T\",PLAN!I236,IF(PLAN!$N$226=\"2T\",PLAN!P236,IF(PLAN!$U$226=\"3T\",PLAN!W236,\"\")))","v":0},{"$f":"IF(PLAN!$G$226=\"1T\",PLAN!J236,IF(PLAN!$N$226=\"2T\",PLAN!Q236,IF(PLAN!$U$226=\"3T\",PLAN!X236,\"\")))","v":0},{"$f":"IF(PLAN!$G$226=\"1T\",PLAN!K236,IF(PLAN!$N$226=\"2T\",PLAN!R236,IF(PLAN!$U$226=\"3T\",PLAN!Y236,\"\")))","v":0},{"$f":"IF(PLAN!$G$226=\"1T\",PLAN!F237,IF(PLAN!$N$226=\"2T\",PLAN!M237,IF(PLAN!$U$226=\"3T\",PLAN!T237,\"\")))","v":0},{"$f":"IF(PLAN!$G$226=\"1T\",PLAN!G237,IF(PLAN!$N$226=\"2T\",PLAN!N237,IF(PLAN!$U$226=\"3T\",PLAN!U237,\"\")))","v":0},{"$f":"IF(PLAN!$G$226=\"1T\",PLAN!H237,IF(PLAN!$N$226=\"2T\",PLAN!O237,IF(PLAN!$U$226=\"3T\",PLAN!V237,\"\")))","v":0},{"$f":"IF(PLAN!$G$226=\"1T\",PLAN!I237,IF(PLAN!$N$226=\"2T\",PLAN!P237,IF(PLAN!$U$226=\"3T\",PLAN!W237,\"\")))","v":0},{"$f":"IF(PLAN!$G$226=\"1T\",PLAN!J237,IF(PLAN!$N$226=\"2T\",PLAN!Q237,IF(PLAN!$U$226=\"3T\",PLAN!X237,\"\")))","v":0},{"$f":"IF(PLAN!$G$226=\"1T\",PLAN!K237,IF(PLAN!$N$226=\"2T\",PLAN!R237,IF(PLAN!$U$226=\"3T\",PLAN!Y237,\"\")))","v":0},{"$f":"IF(PLAN!$G$226=\"1T\",PLAN!F238,IF(PLAN!$N$226=\"2T\",PLAN!M238,IF(PLAN!$U$226=\"3T\",PLAN!T238,\"\")))","v":0},{"$f":"IF(PLAN!$G$226=\"1T\",PLAN!G238,IF(PLAN!$N$226=\"2T\",PLAN!N238,IF(PLAN!$U$226=\"3T\",PLAN!U238,\"\")))","v":0},{"$f":"IF(PLAN!$G$226=\"1T\",PLAN!H238,IF(PLAN!$N$226=\"2T\",PLAN!O238,IF(PLAN!$U$226=\"3T\",PLAN!V238,\"\")))","v":0},{"$f":"IF(PLAN!$G$226=\"1T\",PLAN!I238,IF(PLAN!$N$226=\"2T\",PLAN!P238,IF(PLAN!$U$226=\"3T\",PLAN!W238,\"\")))","v":0},{"$f":"IF(PLAN!$G$226=\"1T\",PLAN!J238,IF(PLAN!$N$226=\"2T\",PLAN!Q238,IF(PLAN!$U$226=\"3T\",PLAN!X238,\"\")))","v":0},{"$f":"IF(PLAN!$G$226=\"1T\",PLAN!K238,IF(PLAN!$N$226=\"2T\",PLAN!R238,IF(PLAN!$U$226=\"3T\",PLAN!Y238,\"\")))","v":0},{"$f":"IF(PLAN!$G$226=\"1T\",PLAN!F239,IF(PLAN!$N$226=\"2T\",PLAN!M239,IF(PLAN!$U$226=\"3T\",PLAN!T239,\"\")))","v":0},{"$f":"IF(PLAN!$G$226=\"1T\",PLAN!G239,IF(PLAN!$N$226=\"2T\",PLAN!N239,IF(PLAN!$U$226=\"3T\",PLAN!U239,\"\")))","v":0},{"$f":"IF(PLAN!$G$226=\"1T\",PLAN!H239,IF(PLAN!$N$226=\"2T\",PLAN!O239,IF(PLAN!$U$226=\"3T\",PLAN!V239,\"\")))","v":0},{"$f":"IF(PLAN!$G$226=\"1T\",PLAN!I239,IF(PLAN!$N$226=\"2T\",PLAN!P239,IF(PLAN!$U$226=\"3T\",PLAN!W239,\"\")))","v":0},{"$f":"IF(PLAN!$G$226=\"1T\",PLAN!J239,IF(PLAN!$N$226=\"2T\",PLAN!Q239,IF(PLAN!$U$226=\"3T\",PLAN!X239,\"\")))","v":0},{"$f":"IF(PLAN!$G$226=\"1T\",PLAN!K239,IF(PLAN!$N$226=\"2T\",PLAN!R239,IF(PLAN!$U$226=\"3T\",PLAN!Y239,\"\")))","v":0},{"$f":"IF(PLAN!$G$226=\"1T\",PLAN!F240,IF(PLAN!$N$226=\"2T\",PLAN!M240,IF(PLAN!$U$226=\"3T\",PLAN!T240,\"\")))","v":0},{"$f":"IF(PLAN!$G$226=\"1T\",PLAN!G240,IF(PLAN!$N$226=\"2T\",PLAN!N240,IF(PLAN!$U$226=\"3T\",PLAN!U240,\"\")))","v":0},{"$f":"IF(PLAN!$G$226=\"1T\",PLAN!H240,IF(PLAN!$N$226=\"2T\",PLAN!O240,IF(PLAN!$U$226=\"3T\",PLAN!V240,\"\")))","v":0},{"$f":"IF(PLAN!$G$226=\"1T\",PLAN!I240,IF(PLAN!$N$226=\"2T\",PLAN!P240,IF(PLAN!$U$226=\"3T\",PLAN!W240,\"\")))","v":0},{"$f":"IF(PLAN!$G$226=\"1T\",PLAN!J240,IF(PLAN!$N$226=\"2T\",PLAN!Q240,IF(PLAN!$U$226=\"3T\",PLAN!X240,\"\")))","v":0},{"$f":"IF(PLAN!$G$226=\"1T\",PLAN!K240,IF(PLAN!$N$226=\"2T\",PLAN!R240,IF(PLAN!$U$226=\"3T\",PLAN!Y240,\"\")))","v":0},{"$f":"IF(PLAN!$G$226=\"1T\",PLAN!F241,IF(PLAN!$N$226=\"2T\",PLAN!M241,IF(PLAN!$U$226=\"3T\",PLAN!T241,\"\")))","v":0},{"$f":"IF(PLAN!$G$226=\"1T\",PLAN!G241,IF(PLAN!$N$226=\"2T\",PLAN!N241,IF(PLAN!$U$226=\"3T\",PLAN!U241,\"\")))","v":0},{"$f":"IF(PLAN!$G$226=\"1T\",PLAN!H241,IF(PLAN!$N$226=\"2T\",PLAN!O241,IF(PLAN!$U$226=\"3T\",PLAN!V241,\"\")))","v":0},{"$f":"IF(PLAN!$G$226=\"1T\",PLAN!I241,IF(PLAN!$N$226=\"2T\",PLAN!P241,IF(PLAN!$U$226=\"3T\",PLAN!W241,\"\")))","v":0},{"$f":"IF(PLAN!$G$226=\"1T\",PLAN!J241,IF(PLAN!$N$226=\"2T\",PLAN!Q241,IF(PLAN!$U$226=\"3T\",PLAN!X241,\"\")))","v":0},{"$f":"IF(PLAN!$G$226=\"1T\",PLAN!K241,IF(PLAN!$N$226=\"2T\",PLAN!R241,IF(PLAN!$U$226=\"3T\",PLAN!Y241,\"\")))","v":0},{"$f":"IF(PLAN!$G$226=\"1T\",PLAN!F242,IF(PLAN!$N$226=\"2T\",PLAN!M242,IF(PLAN!$U$226=\"3T\",PLAN!T242,\"\")))","v":0},{"$f":"IF(PLAN!$G$226=\"1T\",PLAN!G242,IF(PLAN!$N$226=\"2T\",PLAN!N242,IF(PLAN!$U$226=\"3T\",PLAN!U242,\"\")))","v":0},{"$f":"IF(PLAN!$G$226=\"1T\",PLAN!H242,IF(PLAN!$N$226=\"2T\",PLAN!O242,IF(PLAN!$U$226=\"3T\",PLAN!V242,\"\")))","v":0},{"$f":"IF(PLAN!$G$226=\"1T\",PLAN!I242,IF(PLAN!$N$226=\"2T\",PLAN!P242,IF(PLAN!$U$226=\"3T\",PLAN!W242,\"\")))","v":0},{"$f":"IF(PLAN!$G$226=\"1T\",PLAN!J242,IF(PLAN!$N$226=\"2T\",PLAN!Q242,IF(PLAN!$U$226=\"3T\",PLAN!X242,\"\")))","v":0},{"$f":"IF(PLAN!$G$226=\"1T\",PLAN!K242,IF(PLAN!$N$226=\"2T\",PLAN!R242,IF(PLAN!$U$226=\"3T\",PLAN!Y242,\"\")))","v":0},"1.1","1.2","1.3","1.4","1.5","1.6","2.1","2.2","2.3","2.4","2.5","2.6","3.1","3.2","3.3","3.4","3.5","3.6","4.1","4.2","4.3","4.4","4.5","4.6","5.1","5.2","5.3","5.4","5.5","5.6","L1","L2","L3","L4","L5","TOTAL","EVAL.","AUT","L1","L2","L3","L4","L5","SI","SENA"]
[null,{"$f":"LISTA!AF8","v":1},null,{"$f":"IF(LISTA!AG8=\"\",\"\",LISTA!AG8)","v":"I"},null,null,null,null,null,null,null,null,null,null,null,null,null,null,null,null,null,{"$f":"IF($U21=\"\",GB21,IF($U21=$U21,O153))","v":""},null,null,null,{"$f":"IF($D273=\"\",\"\",$B273)","v":""},null,{"$f":"IF(PLAN!$S$226=\"TERCER TRIMESTRE\",PLAN!S229,IF(PLAN!$L$226=\"SEGUNDO TRIMESTRE\",PLAN!L229,IF(PLAN!$E$226=\"PRIMER TRIMESTRE\",PLAN!E229,\"\")))","v":""},null,null,null,null,null,null,null,{"$f":"S273","v":"00:00:00"},null,null,null,null,null,null,null,null,null,null,null,null,null,null,null,null,null,null,{"$f":"#REF!=IF(AND(U87=\"\",V87=\"\",W87=\"\",X87=\"\",Y87=\"\"),\"\",AVERAGE(U87:Y87))","v":{"$error":"#REF!"}},{"$f":"IF(AND(U87=\"\",V87=\"\",W87=\"\",X87=\"\",Y87=\"\"),\"\",AVERAGE(U87:Y87))","v":""},1,null,{"$f":"$E21","v":0},{"$f":"$E21","v":0},0,0,0,0,{"$f":"$F21","v":0},{"$f":"$F21","v":0},0,0,0,0,{"$f":"$G21","v":0},{"$f":"$G21","v":0},0,0,0,0,{"$f":"$H21","v":0},{"$f":"$H21","v":0},0,0,0,0,{"$f":"$I21","v":0},{"$f":"$I21","v":0},0,0,0,0,{"$f":"$J21","v":0},{"$f":"$J21","v":0},0,0,0,0,{"$f":"$K21","v":0},{"$f":"$K21","v":0},0,0,0,0,{"$f":"$L21","v":0},{"$f":"$L21","v":0},0,0,0,0,{"$f":"$M21","v":0},{"$f":"$M21","v":0},0,0,0,0,{"$f":"$N21","v":0},{"$f":"$N21","v":0},0,0,0,0,{"$f":"$O21","v":0},{"$f":"$O21","v":0},0,0,0,0,{"$f":"$P21","v":0},{"$f":"$P21","v":0},0,0,0,0,{"$f":"$Q21","v":0},{"$f":"$Q21","v":0},0,0,0,0,{"$f":"$R21","v":0},{"$f":"$R21","v":0},0,0,0,0,{"$f":"$S21","v":0},{"$f":"$S21","v":0},0,0,0,0,{"$f":"(((SUMIFS(BG21:ER21,$BG$20:$ER$20,$ES$20)))/$ES$18)*6","v":0},{"$f":"(((SUMIFS(BG21:ER21,$BG$20:$ER$20,$ET$20)))/$ET$18)*6","v":0},{"$f":"(((SUMIFS(BG21:ER21,$BG$20:$ER$20,$EU$20)))/$EU$18)*6","v":0},{"$f":"(((SUMIFS(BG21:ER21,$BG$20:$ER$20,$EV$20)))/$EV$18)*6","v":0},{"$f":"(((SUMIFS(BG21:ER21,$BG$20:$ER$20,$EW$20)))/$EW$18)*6","v":0},{"$f":"(((SUMIFS(BG21:ER21,$BG$20:$ER$20,$EX$20)))/$EX$18)*6","v":0},{"$f":"(((SUMIFS(BG21:ER21,$BG$20:$ER$20,$EY$20)))/$EY$18)*6","v":0},{"$f":"(((SUMIFS(BG21:ER21,$BG$20:$ER$20,$EZ$20)))/$EZ$18)*6","v":0},{"$f":"(((SUMIFS(BG21:ER21,$BG$20:$ER$20,$FA$20)))/$FA$18)*6","v":0},{"$f":"(((SUMIFS(BG21:ER21,$BG$20:$ER$20,$FB$20)))/$FB$18)*6","v":0},{"$f":"(((SUMIFS(BG21:ER21,$BG$20:$ER$20,$FC$20)))/$FC$18)*6","v":0},{"$f":"(((SUMIFS(BG21:ER21,$BG$20:$ER$20,$FD$20)))/$FD$18)*6","v":0},{"$f":"(((SUMIFS(BG21:ER21,$BG$20:$ER$20,$FE$20)))/$FE$18)*6","v":0},{"$f":"(((SUMIFS(BG21:ER21,$BG$20:$ER$20,$FF$20)))/$FF$18)*6","v":0},{"$f":"(((SUMIFS(BG21:ER21,$BG$20:$ER$20,$FG$20)))/$FG$18)*6","v":0},{"$f":"(((SUMIFS(BG21:ER21,$BG$20:$ER$20,$FH$20)))/$FH$18)*6","v":0},{"$f":"(((SUMIFS(BG21:ER21,$BG$20:$ER$20,$FI$20)))/$FI$18)*6","v":0},{"$f":"(((SUMIFS(BG21:ER21,$BG$20:$ER$20,$FJ$20)))/$FJ$18)*6","v":0},{"$f":"(((SUMIFS(BG21:ER21,$BG$20:$ER$20,$FK$20)))/$FK$18)*6","v":0},{"$f":"(((SUMIFS(BG21:ER21,$BG$20:$ER$20,$FL$20)))/$FL$18)*6","v":0},{"$f":"(((SUMIFS(BG21:ER21,$BG$20:$ER$20,$FM$20)))/$FM$18)*6","v":0},{"$f":"(((SUMIFS(BG21:ER21,$BG$20:$ER$20,$FN$20)))/$FN$18)*6","v":0},{"$f":"(((SUMIFS(BG21:ER21,$BG$20:$ER$20,$FO$20)))/$FO$18)*6","v":0},{"$f":"(((SUMIFS(BG21:ER21,$BG$20:$ER$20,$FP$20)))/$FP$18)*6","v":0},{"$f":"(((SUMIFS(BG21:ER21,$BG$20:$ER$20,$FQ$20)))/$FQ$18)*6","v":0},{"$f":"(((SUMIFS(BG21:ER21,$BG$20:$ER$20,$FR$20)))/$FR$18)*6","v":0},{"$f":"(((SUMIFS(BG21:ER21,$BG$20:$ER$20,$FS$20)))/$FS$18)*6","v":0},{"$f":"(((SUMIFS(BG21:ER21,$BG$20:$ER$20,$FT$20)))/$FT$18)*6","v":0},{"$f":"(((SUMIFS(BG21:ER21,$BG$20:$ER$20,$FU$20)))/$FU$18)*6","v":0},{"$f":"(((SUMIFS(BG21:ER21,$BG$20:$ER$20,$FV$20)))/$FV$18)*6","v":0},{"$f":"IF(AND(ES21=0,ET21=0,EU21=0,EV21=0,EW21=0,EX21=0),\"\",AVERAGEIF(ES21:EX21,\">0\"))","v":""},{"$f":"IF(AND(EY21=0,EZ21=0,FA21=0,FB21=0,FC21=0,FD21=0),\"\",AVERAGEIF(EY21:FD21,\">0\"))","v":""},{"$f":"IF(AND(FE21=0,FF21=0,FG21=0,FH21=0,FI21=0,FJ21=0),\"\",AVERAGEIF(FE21:FJ21,\">0\"))","v":""},{"$f":"IF(AND(FK21=0,FL21=0,FM21=0,FN21=0,FO21=0,FP21=0),\"\",AVERAGEIF(FK21:FP21,\">0\"))","v":""},{"$f":"IF(AND(FQ21=0,FR21=0,FS21=0,FT21=0,FU21=0,FV21=0),\"\",AVERAGEIF(FQ21:FV21,\">0\"))","v":""},{"$f":"IF(AND(GE21=\"\",GF21=\"\",GG21=\"\",GH21=\"\",GI21=\"\"),\"\",AVERAGE(GE21:GI21))","v":""},{"$f":"U21","v":0},{"$f":"T21","v":0},{"$f":"IF(U87=35,U87,IF(U87=\"\",FW21,IF(U87<=34.5,FW21)))","v":""},{"$f":"IF(V87=35,V87,IF(V87=\"\",FX21,IF(V87<=34.5,FX21)))","v":""},"","","",null,{"$f":"X21","v":0}]
[null,{"$f":"LISTA!AF9","v":""},null,{"$f":"IF(LISTA!AG9=\"\",\"\",LISTA!AG9)","v":""},null,null,null,null,null,null,null,null,null,null,null,null,null,null,null,null,null,"",null,null,null,"",null,{"$f":"IF(PLAN!$S$226=\"TERCER TRIMESTRE\",PLAN!S230,IF(PLAN!$L$226=\"SEGUNDO TRIMESTRE\",PLAN!L230,IF(PLAN!$E$226=\"PRIMER TRIMESTRE\",PLAN!E230,\"\")))","v":""},null,null,null,null,null,null,null,"00:00:00",null,null,null,null,null,null,null,null,null,null,null,null,null,null,null,null,null,null,null,{"$f":"IF(AND(U88=\"\",V88=\"\",W88=\"\",X88=\"\",Y88=\"\"),\"\",AVERAGE(U88:Y88))","v":""},2,null,{"$f":"$E22","v":0},0,0,0,0,0,{"$f":"$F22","v":0},0,0,0,0,0,{"$f":"$G22","v":0},0,0,0,0,0,{"$f":"$H22","v":0},0,0,0,0,0,{"$f":"$I22","v":0},0,0,0,0,0,{"$f":"$J22","v":0},0,0,0,0,0,{"$f":"$K22","v":0},0,0,0,0,0,{"$f":"$L22","v":0},0,0,0,0,0,{"$f":"$M22","v":0},0,0,0,0,0,{"$f":"$N22","v":0},0,0,0,0,0,{"$f":"$O22","v":0},0,0,0,0,0,{"$f":"$P22","v":0},0,0,0,0,0,{"$f":"$Q22","v":0},0,0,0,0,0,{"$f":"$R22","v":0},0,0,0,0,0,{"$f":"$S22","v":0},0,0,0,0,0,{"$f":"(((SUMIFS(BG22:ER22,$BG$20:$ER$20,$ES$20)))/$ES$18)*6","v":0},{"$f":"(((SUMIFS(BG22:ER22,$BG$20:$ER$20,$ET$20)))/$ET$18)*6","v":0},{"$f":"(((SUMIFS(BG22:ER22,$BG$20:$ER$20,$EU$20)))/$EU$18)*6","v":0},{"$f":"(((SUMIFS(BG22:ER22,$BG$20:$ER$20,$EV$20)))/$EV$18)*6","v":0},{"$f":"(((SUMIFS(BG22:ER22,$BG$20:$ER$20,$EW$20)))/$EW$18)*6","v":0},{"$f":"(((SUMIFS(BG22:ER22,$BG$20:$ER$20,$EX$20)))/$EX$18)*6","v":0},{"$f":"(((SUMIFS(BG22:ER22,$BG$20:$ER$20,$EY$20)))/$EY$18)*6","v":0},{"$f":"(((SUMIFS(BG22:ER22,$BG$20:$ER$20,$EZ$20)))/$EZ$18)*6","v":0},{"$f":"(((SUMIFS(BG22:ER22,$BG$20:$ER$20,$FA$20)))/$FA$18)*6","v":0},{"$f":"(((SUMIFS(BG22:ER22,$BG$20:$ER$20,$FB$20)))/$FB$18)*6","v":0},{"$f":"(((SUMIFS(BG22:ER22,$BG$20:$ER$20,$FC$20)))/$FC$18)*6","v":0},{"$f":"(((SUMIFS(BG22:ER22,$BG$20:$ER$20,$FD$20)))/$FD$18)*6","v":0},{"$f":"(((SUMIFS(BG22:ER22,$BG$20:$ER$20,$FE$20)))/$FE$18)*6","v":0},{"$f":"(((SUMIFS(BG22:ER22,$BG$20:$ER$20,$FF$20)))/$FF$18)*6","v":0},{"$f":"(((SUMIFS(BG22:ER22,$BG$20:$ER$20,$FG$20)))/$FG$18)*6","v":0},{"$f":"(((SUMIFS(BG22:ER22,$BG$20:$ER$20,$FH$20)))/$FH$18)*6","v":0},{"$f":"(((SUMIFS(BG22:ER22,$BG$20:$ER$20,$FI$20)))/$FI$18)*6","v":0},{"$f":"(((SUMIFS(BG22:ER22,$BG$20:$ER$20,$FJ$20)))/$FJ$18)*6","v":0},{"$f":"(((SUMIFS(BG22:ER22,$BG$20:$ER$20,$FK$20)))/$FK$18)*6","v":0},{"$f":"(((SUMIFS(BG22:ER22,$BG$20:$ER$20,$FL$20)))/$FL$18)*6","v":0},{"$f":"(((SUMIFS(BG22:ER22,$BG$20:$ER$20,$FM$20)))/$FM$18)*6","v":0},{"$f":"(((SUMIFS(BG22:ER22,$BG$20:$ER$20,$FN$20)))/$FN$18)*6","v":0},{"$f":"(((SUMIFS(BG22:ER22,$BG$20:$ER$20,$FO$20)))/$FO$18)*6","v":0},{"$f":"(((SUMIFS(BG22:ER22,$BG$20:$ER$20,$FP$20)))/$FP$18)*6","v":0},{"$f":"(((SUMIFS(BG22:ER22,$BG$20:$ER$20,$FQ$20)))/$FQ$18)*6","v":0},{"$f":"(((SUMIFS(BG22:ER22,$BG$20:$ER$20,$FR$20)))/$FR$18)*6","v":0},{"$f":"(((SUMIFS(BG22:ER22,$BG$20:$ER$20,$FS$20)))/$FS$18)*6","v":0},{"$f":"(((SUMIFS(BG22:ER22,$BG$20:$ER$20,$FT$20)))/$FT$18)*6","v":0},{"$f":"(((SUMIFS(BG22:ER22,$BG$20:$ER$20,$FU$20)))/$FU$18)*6","v":0},{"$f":"(((SUMIFS(BG22:ER22,$BG$20:$ER$20,$FV$20)))/$FV$18)*6","v":0},{"$f":"IF(AND(ES22=0,ET22=0,EU22=0,EV22=0,EW22=0,EX22=0),\"\",AVERAGEIF(ES22:EX22,\">0\"))","v":""},{"$f":"IF(AND(EY22=0,EZ22=0,FA22=0,FB22=0,FC22=0,FD22=0),\"\",AVERAGEIF(EY22:FD22,\">0\"))","v":""},{"$f":"IF(AND(FE22=0,FF22=0,FG22=0,FH22=0,FI22=0,FJ22=0),\"\",AVERAGEIF(FE22:FJ22,\">0\"))","v":""},{"$f":"IF(AND(FK22=0,FL22=0,FM22=0,FN22=0,FO22=0,FP22=0),\"\",AVERAGEIF(FK22:FP22,\">0\"))","v":""},{"$f":"IF(AND(FQ22=0,FR22=0,FS22=0,FT22=0,FU22=0,FV22=0),\"\",AVERAGEIF(FQ22:FV22,\">0\"))","v":""},{"$f":"IF(AND(GE22=\"\",GF22=\"\",GG22=\"\",GH22=\"\",GI22=\"\"),\"\",AVERAGE(GE22:GI22))","v":""},0,0,"","","","","",null,0]
[null,{"$f":"LISTA!AF10","v":""},null,{"$f":"IF(LISTA!AG10=\"\",\"\",LISTA!AG10)","v":""},null,null,null,null,null,null,null,null,null,null,null,null,null,null,null,null,null,{"$f":"IF($U23=\"\",GB23,IF($U23=$U23,O155))","v":""},null,null,null,"",null,{"$f":"IF(PLAN!$S$226=\"TERCER TRIMESTRE\",PLAN!S231,IF(PLAN!$L$226=\"SEGUNDO TRIMESTRE\",PLAN!L231,IF(PLAN!$E$226=\"PRIMER TRIMESTRE\",PLAN!E231,\"\")))","v":""},null,null,null,null,null,null,null,"00:00:00",null,null,null,null,null,null,null,null,null,null,null,null,null,null,null,null,null,null,null,"",3,null,0,0,0,0,0,0,0,0,0,0,0,0,0,0,0,0,0,0,0,0,0,0,0,0,0,0,0,0,0,0,0,0,0,0,0,0,0,0,0,0,0,0,0,0,0,0,0,0,0,0,0,0,0,0,0,0,0,0,0,0,0,0,0,0,0,0,0,0,0,0,0,0,0,0,0,0,0,0,0,0,0,0,0,0,0,0,0,0,0,0,0,0,0,0,0,0,0,0,0,0,0,0,0,0,0,0,0,0,0,0,0,0,0,0,0,0,0,0,0,0,"","","","","","",0,0,"","","","","",null,0]
[null,{"$f":"LISTA!AF11","v":""},null,{"$f":"IF(LISTA!AG11=\"\",\"\",LISTA!AG11)","v":""},null,null,null,null,null,null,null,null,null,null,null,null,null,null,null,null,null,"",null,null,null,"",null,{"$f":"IF(PLAN!$S$226=\"TERCER TRIMESTRE\",PLAN!S232,IF(PLAN!$L$226=\"SEGUNDO TRIMESTRE\",PLAN!L232,IF(PLAN!$E$226=\"PRIMER TRIMESTRE\",PLAN!E232,\"\")))","v":""},null,null,null,null,null,null,null,"00:00:00",null,null,null,null,null,null,null,null,null,null,null,null,null,null,null,null,null,null,null,"",4,null,0,0,0,0,0,0,0,0,0,0,0,0,0,0,0,0,0,0,0,0,0,0,0,0,0,0,0,0,0,0,0,0,0,0,0,0,0,0,0,0,0,0,0,0,0,0,0,0,0,0,0,0,0,0,0,0,0,0,0,0,0,0,0,0,0,0,0,0,0,0,0,0,0,0,0,0,0,0,0,0,0,0,0,0,0,0,0,0,0,0,0,0,0,0,0,0,0,0,0,0,0,0,0,0,0,0,0,0,0,0,0,0,0,0,0,0,0,0,0,0,"","","","","","",0,0,"","","","","",null,0]
[null,{"$f":"LISTA!AF12","v":""},null,{"$f":"IF(LISTA!AG12=\"\",\"\",LISTA!AG12)","v":""},null,null,null,null,null,null,null,null,null,null,null,null,null,null,null,null,null,"",null,null,null,"",null,{"$f":"IF(PLAN!$S$226=\"TERCER TRIMESTRE\",PLAN!S233,IF(PLAN!$L$226=\"SEGUNDO TRIMESTRE\",PLAN!L233,IF(PLAN!$E$226=\"PRIMER TRIMESTRE\",PLAN!E233,\"\")))","v":""},null,null,null,null,null,null,null,"00:00:00",null,null,null,null,null,null,null,null,null,null,null,null,null,null,null,null,null,null,null,"",5,null,0,0,0,0,0,0,0,0,0,0,0,0,0,0,0,0,0,0,0,0,0,0,0,0,0,0,0,0,0,0,0,0,0,0,0,0,0,0,0,0,0,0,0,0,0,0,0,0,0,0,0,0,0,0,0,0,0,0,0,0,0,0,0,0,0,0,0,0,0,0,0,0,0,0,0,0,0,0,0,0,0,0,0,0,0,0,0,0,0,0,0,0,0,0,0,0,0,0,0,0,0,0,0,0,0,0,0,0,0,0,0,0,0,0,0,0,0,0,0,0,"","","","","","",0,0,"","","","","",null,0]
[null,{"$f":"LISTA!AF13","v":""},null,{"$f":"IF(LISTA!AG13=\"\",\"\",LISTA!AG13)","v":""},null,null,null,null,null,null,null,null,null,null,null,null,null,null,null,null,null,"",null,null,null,"",null,{"$f":"IF(PLAN!$S$226=\"TERCER TRIMESTRE\",PLAN!S234,IF(PLAN!$L$226=\"SEGUNDO TRIMESTRE\",PLAN!L234,IF(PLAN!$E$226=\"PRIMER TRIMESTRE\",PLAN!E234,\"\")))","v":""},null,null,null,null,null,null,null,"00:00:00",null,null,null,null,null,null,null,null,null,null,null,null,null,null,null,null,null,null,null,"",6,null,0,0,0,0,0,0,0,0,0,0,0,0,0,0,0,0,0,0,0,0,0,0,0,0,0,0,0,0,0,0,0,0,0,0,0,0,0,0,0,0,0,0,0,0,0,0,0,0,0,0,0,0,0,0,0,0,0,0,0,0,0,0,0,0,0,0,0,0,0,0,0,0,0,0,0,0,0,0,0,0,0,0,0,0,0,0,0,0,0,0,0,0,0,0,0,0,0,0,0,0,0,0,0,0,0,0,0,0,0,0,0,0,0,0,0,0,0,0,0,0,"","","","","","",0,0,"","","","","",null,0]
[null,{"$f":"LISTA!AF14","v":""},null,{"$f":"IF(LISTA!AG14=\"\",\"\",LISTA!AG14)","v":""},null,null,null,null,null,null,null,null,null,null,null,null,null,null,null,null,null,"",null,null,null,"",null,{"$f":"IF(PLAN!$S$226=\"TERCER TRIMESTRE\",PLAN!S235,IF(PLAN!$L$226=\"SEGUNDO TRIMESTRE\",PLAN!L235,IF(PLAN!$E$226=\"PRIMER TRIMESTRE\",PLAN!E235,\"\")))","v":""},null,null,null,null,null,null,null,"00:00:00",null,null,null,null,null,null,null,null,null,null,null,null,null,null,null,null,null,null,null,"",7,null,0,0,0,0,0,0,0,0,0,0,0,0,0,0,0,0,0,0,0,0,0,0,0,0,0,0,0,0,0,0,0,0,0,0,0,0,0,0,0,0,0,0,0,0,0,0,0,0,0,0,0,0,0,0,0,0,0,0,0,0,0,0,0,0,0,0,0,0,0,0,0,0,0,0,0,0,0,0,0,0,0,0,0,0,0,0,0,0,0,0,0,0,0,0,0,0,0,0,0,0,0,0,0,0,0,0,0,0,0,0,0,0,0,0,0,0,0,0,0,0,"","","","","","",0,0,"","","","","",null,0]
[null,{"$f":"LISTA!AF15","v":""},null,{"$f":"IF(LISTA!AG15=\"\",\"\",LISTA!AG15)","v":""},null,null,null,null,null,null,null,null,null,null,null,null,null,null,null,null,null,"",null,null,null,"",null,{"$f":"IF(PLAN!$S$226=\"TERCER TRIMESTRE\",PLAN!S236,IF(PLAN!$L$226=\"SEGUNDO TRIMESTRE\",PLAN!L236,IF(PLAN!$E$226=\"PRIMER TRIMESTRE\",PLAN!E236,\"\")))","v":""},null,null,null,null,null,null,null,"00:00:00",null,null,null,null,null,null,null,null,null,null,null,null,null,null,null,null,null,null,null,"",8,null,0,0,0,0,0,0,0,0,0,0,0,0,0,0,0,0,0,0,0,0,0,0,0,0,0,0,0,0,0,0,0,0,0,0,0,0,0,0,0,0,0,0,0,0,0,0,0,0,0,0,0,0,0,0,0,0,0,0,0,0,0,0,0,0,0,0,0,0,0,0,0,0,0,0,0,0,0,0,0,0,0,0,0,0,0,0,0,0,0,0,0,0,0,0,0,0,0,0,0,0,0,0,0,0,0,0,0,0,0,0,0,0,0,0,0,0,0,0,0,0,"","","","","","",0,0,"","","","","",null,0]
[null,{"$f":"LISTA!AF16","v":""},null,{"$f":"IF(LISTA!AG16=\"\",\"\",LISTA!AG16)","v":""},null,null,null,null,null,null,null,null,null,null,null,null,null,null,null,null,null,"",null,null,null,"",null,{"$f":"IF(PLAN!$S$226=\"TERCER TRIMESTRE\",PLAN!S237,IF(PLAN!$L$226=\"SEGUNDO TRIMESTRE\",PLAN!L237,IF(PLAN!$E$226=\"PRIMER TRIMESTRE\",PLAN!E237,\"\")))","v":""},null,null,null,null,null,null,null,"00:00:00",null,null,null,null,null,null,null,null,null,null,null,null,null,null,null,null,null,null,null,"",9,null,0,0,0,0,0,0,0,0,0,0,0,0,0,0,0,0,0,0,0,0,0,0,0,0,0,0,0,0,0,0,0,0,0,0,0,0,0,0,0,0,0,0,0,0,0,0,0,0,0,0,0,0,0,0,0,0,0,0,0,0,0,0,0,0,0,0,0,0,0,0,0,0,0,0,0,0,0,0,0,0,0,0,0,0,0,0,0,0,0,0,0,0,0,0,0,0,0,0,0,0,0,0,0,0,0,0,0,0,0,0,0,0,0,0,0,0,0,0,0,0,"","","","","","",0,0,"","","","","",null,0]
[null,{"$f":"LISTA!AF17","v":""},null,{"$f":"IF(LISTA!AG17=\"\",\"\",LISTA!AG17)","v":""},null,null,null,null,null,null,null,null,null,null,null,null,null,null,null,null,null,"",null,null,null,"",null,{"$f":"IF(PLAN!$S$226=\"TERCER TRIMESTRE\",PLAN!S238,IF(PLAN!$L$226=\"SEGUNDO TRIMESTRE\",PLAN!L238,IF(PLAN!$E$226=\"PRIMER TRIMESTRE\",PLAN!E238,\"\")))","v":""},null,null,null,null,null,null,null,"00:00:00",null,null,null,null,null,null,null,null,null,null,null,null,null,null,null,null,null,null,null,"",10,null,0,0,0,0,0,0,0,0,0,0,0,0,0,0,0,0,0,0,0,0,0,0,0,0,0,0,0,0,0,0,0,0,0,0,0,0,0,0,0,0,0,0,0,0,0,0,0,0,0,0,0,0,0,0,0,0,0,0,0,0,0,0,0,0,0,0,0,0,0,0,0,0,0,0,0,0,0,0,0,0,0,0,0,0,0,0,0,0,0,0,0,0,0,0,0,0,0,0,0,0,0,0,0,0,0,0,0,0,0,0,0,0,0,0,0,0,0,0,0,0,"","","","","","",0,0,"","","","","",null,0]
[null,{"$f":"LISTA!AF18","v":""},null,{"$f":"IF(LISTA!AG18=\"\",\"\",LISTA!AG18)","v":""},null,null,null,null,null,null,null,null,null,null,null,null,null,null,null,null,null,"",null,null,null,"",null,{"$f":"IF(PLAN!$S$226=\"TERCER TRIMESTRE\",PLAN!S239,IF(PLAN!$L$226=\"SEGUNDO TRIMESTRE\",PLAN!L239,IF(PLAN!$E$226=\"PRIMER TRIMESTRE\",PLAN!E239,\"\")))","v":""},null,null,null,null,null,null,null,"00:00:00",null,null,null,null,null,null,null,null,null,null,null,null,null,null,null,null,null,null,null,"",11,null,0,0,0,0,0,0,0,0,0,0,0,0,0,0,0,0,0,0,0,0,0,0,0,0,0,0,0,0,0,0,0,0,0,0,0,0,0,0,0,0,0,0,0,0,0,0,0,0,0,0,0,0,0,0,0,0,0,0,0,0,0,0,0,0,0,0,0,0,0,0,0,0,0,0,0,0,0,0,0,0,0,0,0,0,0,0,0,0,0,0,0,0,0,0,0,0,0,0,0,0,0,0,0,0,0,0,0,0,0,0,0,0,0,0,0,0,0,0,0,0,"","","","","","",0,0,"","","","","",null,0]
[null,{"$f":"LISTA!AF19","v":""},null,{"$f":"IF(LISTA!AG19=\"\",\"\",LISTA!AG19)","v":""},null,null,null,null,null,null,null,null,null,null,null,null,null,null,null,null,null,"",null,null,null,"",null,{"$f":"IF(PLAN!$S$226=\"TERCER TRIMESTRE\",PLAN!S240,IF(PLAN!$L$226=\"SEGUNDO TRIMESTRE\",PLAN!L240,IF(PLAN!$E$226=\"PRIMER TRIMESTRE\",PLAN!E240,\"\")))","v":""},null,null,null,null,null,null,null,"00:00:00",null,null,null,null,null,null,null,null,null,null,null,null,null,null,null,null,null,null,null,"",12,null,0,0,0,0,0,0,0,0,0,0,0,0,0,0,0,0,0,0,0,0,0,0,0,0,0,0,0,0,0,0,0,0,0,0,0,0,0,0,0,0,0,0,0,0,0,0,0,0,0,0,0,0,0,0,0,0,0,0,0,0,0,0,0,0,0,0,0,0,0,0,0,0,0,0,0,0,0,0,0,0,0,0,0,0,0,0,0,0,0,0,0,0,0,0,0,0,0,0,0,0,0,0,0,0,0,0,0,0,0,0,0,0,0,0,0,0,0,0,0,0,"","","","","","",0,0,"","","","","",null,0]
[null,{"$f":"LISTA!AF20","v":""},null,{"$f":"IF(LISTA!AG20=\"\",\"\",LISTA!AG20)","v":""},null,null,null,null,null,null,null,null,null,null,null,null,null,null,null,null,null,"",null,null,null,"",null,{"$f":"IF(PLAN!$S$226=\"TERCER TRIMESTRE\",PLAN!S241,IF(PLAN!$L$226=\"SEGUNDO TRIMESTRE\",PLAN!L241,IF(PLAN!$E$226=\"PRIMER TRIMESTRE\",PLAN!E241,\"\")))","v":""},null,null,null,null,null,null,null,"00:00:00",null,null,null,null,null,null,null,null,null,null,null,null,null,null,null,null,null,null,null,"",13,null,0,0,0,0,0,0,0,0,0,0,0,0,0,0,0,0,0,0,0,0,0,0,0,0,0,0,0,0,0,0,0,0,0,0,0,0,0,0,0,0,0,0,0,0,0,0,0,0,0,0,0,0,0,0,0,0,0,0,0,0,0,0,0,0,0,0,0,0,0,0,0,0,0,0,0,0,0,0,0,0,0,0,0,0,0,0,0,0,0,0,0,0,0,0,0,0,0,0,0,0,0,0,0,0,0,0,0,0,0,0,0,0,0,0,0,0,0,0,0,0,"","","","","","",0,0,"","","","","",null,0]
[null,{"$f":"LISTA!AF21","v":""},null,{"$f":"IF(LISTA!AG21=\"\",\"\",LISTA!AG21)","v":""},null,null,null,null,null,null,null,null,null,null,null,null,null,null,null,null,null,"",null,null,null,"",null,{"$f":"IF(PLAN!$S$226=\"TERCER TRIMESTRE\",PLAN!S242,IF(PLAN!$L$226=\"SEGUNDO TRIMESTRE\",PLAN!L242,IF(PLAN!$E$226=\"PRIMER TRIMESTRE\",PLAN!E242,\"\")))","v":""},null,null,null,null,null,null,null,{"$f":"S286","v":"00:00:00"},null,null,null,null,null,null,null,null,null,null,null,null,null,null,null,null,null,null,null,"",14,null,0,0,0,0,0,0,0,0,0,0,0,0,0,0,0,0,0,0,0,0,0,0,0,0,0,0,0,0,0,0,0,0,0,0,0,0,0,0,0,0,0,0,0,0,0,0,0,0,0,0,0,0,0,0,0,0,0,0,0,0,0,0,0,0,0,0,0,0,0,0,0,0,0,0,0,0,0,0,0,0,0,0,0,0,0,0,0,0,0,0,0,0,0,0,0,0,0,0,0,0,0,0,0,0,0,0,0,0,0,0,0,0,0,0,0,0,0,0,0,0,"","","","","","",0,0,"","","","","",null,0]
[null,{"$f":"LISTA!AF22","v":""},null,{"$f":"IF(LISTA!AG22=\"\",\"\",LISTA!AG22)","v":""},null,null,null,null,null,null,null,null,null,null,null,null,null,null,null,null,null,"",null,null,null,null,null,null,null,null,null,null,null,null,null,null,null,null,null,null,null,null,null,null,null,null,null,null,null,null,null,null,null,null,null,"",15,null,0,0,0,0,0,0,0,0,0,0,0,0,0,0,0,0,0,0,0,0,0,0,0,0,0,0,0,0,0,0,0,0,0,0,0,0,0,0,0,0,0,0,0,0,0,0,0,0,0,0,0,0,0,0,0,0,0,0,0,0,0,0,0,0,0,0,0,0,0,0,0,0,0,0,0,0,0,0,0,0,0,0,0,0,0,0,0,0,0,0,0,0,0,0,0,0,0,0,0,0,0,0,0,0,0,0,0,0,0,0,0,0,0,0,0,0,0,0,0,0,"","","","","","",0,0,"","","","","",null,0]
[null,{"$f":"LISTA!AF23","v":""},null,{"$f":"IF(LISTA!AG23=\"\",\"\",LISTA!AG23)","v":""},null,null,null,null,null,null,null,null,null,null,null,null,null,null,null,null,null,"",null,null,null,null,null,null,null,null,null,null,null,null,null,null,null,null,null,null,null,null,null,null,null,null,null,null,null,null,null,null,null,null,null,"",16,null,0,0,0,0,0,0,0,0,0,0,0,0,0,0,0,0,0,0,0,0,0,0,0,0,0,0,0,0,0,0,0,0,0,0,0,0,0,0,0,0,0,0,0,0,0,0,0,0,0,0,0,0,0,0,0,0,0,0,0,0,0,0,0,0,0,0,0,0,0,0,0,0,0,0,0,0,0,0,0,0,0,0,0,0,0,0,0,0,0,0,0,0,0,0,0,0,0,0,0,0,0,0,0,0,0,0,0,0,0,0,0,0,0,0,0,0,0,0,0,0,"","","","","","",0,0,"","","","","",null,0]
[null,{"$f":"LISTA!AF24","v":""},null,{"$f":"IF(LISTA!AG24=\"\",\"\",LISTA!AG24)","v":""},null,null,null,null,null,null,null,null,null,null,null,null,null,null,null,null,null,"",null,null,null,null,null,null,null,null,null,null,null,null,null,null,null,null,null,null,null,null,null,null,null,null,null,null,null,null,null,null,null,null,null,"",17,null,0,0,0,0,0,0,0,0,0,0,0,0,0,0,0,0,0,0,0,0,0,0,0,0,0,0,0,0,0,0,0,0,0,0,0,0,0,0,0,0,0,0,0,0,0,0,0,0,0,0,0,0,0,0,0,0,0,0,0,0,0,0,0,0,0,0,0,0,0,0,0,0,0,0,0,0,0,0,0,0,0,0,0,0,0,0,0,0,0,0,0,0,0,0,0,0,0,0,0,0,0,0,0,0,0,0,0,0,0,0,0,0,0,0,0,0,0,0,0,0,"","","","","","",0,0,"",{"$f":"IF(V103=35,V103,IF(V103=\"\",FX37,IF(V103<=34.5,FX37)))","v":""},{"$f":"IF(W103=35,W103,IF(W103=\"\",FY37,IF(W103<=34.5,FY37)))","v":""},{"$f":"IF(X103=35,X103,IF(X103=\"\",FZ37,IF(X103<=34.5,FZ37)))","v":""},{"$f":"IF(Y103=35,Y103,IF(Y103=\"\",GA37,IF(Y103<=34.5,GA37)))","v":""},null,0]
[null,{"$f":"LISTA!AF25","v":""},null,{"$f":"IF(LISTA!AG25=\"\",\"\",LISTA!AG25)","v":""},null,null,null,null,null,null,null,null,null,null,null,null,null,null,null,null,null,"",null,null,null,null,null,null,null,null,null,null,null,null,null,null,null,null,null,null,null,null,null,null,null,null,null,null,null,null,null,null,null,null,null,"",18,null,0,0,0,0,0,0,0,0,0,0,0,0,0,0,0,0,0,0,0,0,0,0,0,0,0,0,0,0,0,0,0,0,0,0,0,0,0,0,0,0,0,0,0,0,0,0,0,0,0,0,0,0,0,0,0,0,0,0,0,0,0,0,0,0,0,0,0,0,0,0,0,0,0,0,0,0,0,0,0,0,0,0,0,0,0,0,0,0,0,0,0,0,0,0,0,0,0,0,0,0,0,0,0,0,0,0,0,0,0,0,0,0,0,0,0,0,0,0,0,0,"","","","","","",0,0,{"$f":"IF(U104=35,U104,IF(U104=\"\",FW38,IF(U104<=34.5,FW38)))","v":""},"","","","",null,0]
[null,{"$f":"LISTA!AF26","v":""},null,{"$f":"IF(LISTA!AG26=\"\",\"\",LISTA!AG26)","v":""},null,null,null,null,null,null,null,null,null,null,null,null,null,null,null,null,null,"",null,null,null,null,null,null,null,null,null,null,null,null,null,null,null,null,null,null,null,null,null,null,null,null,null,null,null,null,null,null,null,null,null,"",19,null,0,0,0,0,0,0,0,0,0,0,0,0,0,0,0,0,0,0,0,0,0,0,0,0,0,0,0,0,0,0,0,0,0,0,0,0,0,0,0,0,0,0,0,0,0,0,0,0,0,0,0,0,0,0,0,0,0,0,0,0,0,0,0,0,0,0,0,0,0,0,0,0,0,0,0,0,0,0,0,0,0,0,0,0,0,0,0,0,0,0,0,0,0,0,0,0,0,0,0,0,0,0,0,0,0,0,0,0,0,0,0,0,0,0,0,0,0,0,0,0,"","","","","","",0,0,"","","","","",null,0]
[null,{"$f":"LISTA!AF27","v":""},null,{"$f":"IF(LISTA!AG27=\"\",\"\",LISTA!AG27)","v":""},null,null,null,null,null,null,null,null,null,null,null,null,null,null,null,null,null,"",null,null,null,null,null,null,null,null,null,null,null,null,null,null,null,null,null,null,null,null,null,null,null,null,null,null,null,null,null,null,null,null,null,"",20,null,0,0,0,0,0,0,0,0,0,0,0,0,0,0,0,0,0,0,0,0,0,0,0,0,0,0,0,0,0,0,0,0,0,0,0,0,0,0,0,0,0,0,0,0,0,0,0,0,0,0,0,0,0,0,0,0,0,0,0,0,0,0,0,0,0,0,0,0,0,0,0,0,0,0,0,0,0,0,0,0,0,0,0,0,0,0,0,0,0,0,0,0,0,0,0,0,0,0,0,0,0,0,0,0,0,0,0,0,0,0,0,0,0,0,0,0,0,0,0,0,"","","","","","",0,0,"","","","","",null,0]
[null,{"$f":"LISTA!AF28","v":""},null,{"$f":"IF(LISTA!AG28=\"\",\"\",LISTA!AG28)","v":""},null,null,null,null,null,null,null,null,null,null,null,null,null,null,null,null,null,"",null,null,null,null,null,null,null,null,null,null,null,null,null,null,null,null,null,null,null,null,null,null,null,null,null,null,null,null,null,null,null,null,null,"",21,null,0,0,0,0,0,0,0,0,0,0,0,0,0,0,0,0,0,0,0,0,0,0,0,0,0,0,0,0,0,0,0,0,0,0,0,0,0,0,0,0,0,0,0,0,0,0,0,0,0,0,0,0,0,0,0,0,0,0,0,0,0,0,0,0,0,0,0,0,0,0,0,0,0,0,0,0,0,0,0,0,0,0,0,0,0,0,0,0,0,0,0,0,0,0,0,0,0,0,0,0,0,0,0,0,0,0,0,0,0,0,0,0,0,0,0,0,0,0,0,0,"","","","","","",0,0,"","","","","",null,0]
[null,{"$f":"LISTA!AF29","v":""},null,{"$f":"IF(LISTA!AG29=\"\",\"\",LISTA!AG29)","v":""},null,null,null,null,null,null,null,null,null,null,null,null,null,null,null,null,null,"",null,null,null,null,null,null,null,null,null,null,null,null,null,null,null,null,null,null,null,null,null,null,null,null,null,null,null,null,null,null,null,null,null,"",22,null,0,0,0,0,0,0,0,0,0,0,0,0,0,0,0,0,0,0,0,0,0,0,0,0,0,0,0,0,0,0,0,0,0,0,0,0,0,0,0,0,0,0,0,0,0,0,0,0,0,0,0,0,0,0,0,0,0,0,0,0,0,0,0,0,0,0,0,0,0,0,0,0,0,0,0,0,0,0,0,0,0,0,0,0,0,0,0,0,0,0,0,0,0,0,0,0,0,0,0,0,0,0,0,0,0,0,0,0,0,0,0,0,0,0,0,0,0,0,0,0,"","","","","","",0,0,"","","","","",null,0]
[null,{"$f":"LISTA!AF30","v":""},null,{"$f":"IF(LISTA!AG30=\"\",\"\",LISTA!AG30)","v":""},null,null,null,null,null,null,null,null,null,null,null,null,null,null,null,null,null,"",null,null,null,null,null,null,null,null,null,null,null,null,null,null,null,null,null,null,null,null,null,null,null,null,null,null,null,null,null,null,null,null,null,"",23,null,0,0,0,0,0,0,0,0,0,0,0,0,0,0,0,0,0,0,0,0,0,0,0,0,0,0,0,0,0,0,0,0,0,0,0,0,0,0,0,0,0,0,0,0,0,0,0,0,0,0,0,0,0,0,0,0,0,0,0,0,0,0,0,0,0,0,0,0,0,0,0,0,0,0,0,0,0,0,0,0,0,0,0,0,0,0,0,0,0,0,0,0,0,0,0,0,0,0,0,0,0,0,0,0,0,0,0,0,0,0,0,0,0,0,0,0,0,0,0,0,"","","","","","",0,0,"","","","","",null,0]
[null,{"$f":"LISTA!AF31","v":""},null,{"$f":"IF(LISTA!AG31=\"\",\"\",LISTA!AG31)","v":""},null,null,null,null,null,null,null,null,null,null,null,null,null,null,null,null,null,"",null,null,null,null,null,null,null,null,null,null,null,null,null,null,null,null,null,null,null,null,null,null,null,null,null,null,null,null,null,null,null,null,null,"",24,null,0,0,0,0,0,0,0,0,0,0,0,0,0,0,0,0,0,0,0,0,0,0,0,0,0,0,0,0,0,0,0,0,0,0,0,0,0,0,0,0,0,0,0,0,0,0,0,0,0,0,0,0,0,0,0,0,0,0,0,0,0,0,0,0,0,0,0,0,0,0,0,0,0,0,0,0,0,0,0,0,0,0,0,0,0,0,0,0,0,0,0,0,0,0,0,0,0,0,0,0,0,0,0,0,0,0,0,0,0,0,0,0,0,0,0,0,0,0,0,0,"","","","","","",0,0,"","","","","",null,0]
[null,{"$f":"LISTA!AF32","v":""},null,{"$f":"IF(LISTA!AG32=\"\",\"\",LISTA!AG32)","v":""},null,null,null,null,null,null,null,null,null,null,null,null,null,null,null,null,null,"",null,null,null,null,null,null,null,null,null,null,null,null,null,null,null,null,null,null,null,null,null,null,null,null,null,null,null,null,null,null,null,null,null,"",25,null,0,0,0,0,0,0,0,0,0,0,0,0,0,0,0,0,0,0,0,0,0,0,0,0,0,0,0,0,0,0,0,0,0,0,0,0,0,0,0,0,0,0,0,0,0,0,0,0,0,0,0,0,0,0,0,0,0,0,0,0,0,0,0,0,0,0,0,0,0,0,0,0,0,0,0,0,0,0,0,0,0,0,0,0,0,0,0,0,0,0,0,0,0,0,0,0,0,0,0,0,0,0,0,0,0,0,0,0,0,0,0,0,0,0,0,0,0,0,0,0,"","","","","","",0,0,"","","","","",null,0]
[null,{"$f":"LISTA!AF33","v":""},null,{"$f":"IF(LISTA!AG33=\"\",\"\",LISTA!AG33)","v":""},null,null,null,null,null,null,null,null,null,null,null,null,null,null,null,null,null,"",null,null,null,null,null,null,null,null,null,null,null,null,null,null,null,null,null,null,null,null,null,null,null,null,null,null,null,null,null,null,null,null,null,"",26,null,0,0,0,0,0,0,0,0,0,0,0,0,0,0,0,0,0,0,0,0,0,0,0,0,0,0,0,0,0,0,0,0,0,0,0,0,0,0,0,0,0,0,0,0,0,0,0,0,0,0,0,0,0,0,0,0,0,0,0,0,0,0,0,0,0,0,0,0,0,0,0,0,0,0,0,0,0,0,0,0,0,0,0,0,0,0,0,0,0,0,0,0,0,0,0,0,0,0,0,0,0,0,0,0,0,0,0,0,0,0,0,0,0,0,0,0,0,0,0,0,"","","","","","",0,0,"","","","","",null,0]
[null,{"$f":"LISTA!AF34","v":""},null,{"$f":"IF(LISTA!AG34=\"\",\"\",LISTA!AG34)","v":""},null,null,null,null,null,null,null,null,null,null,null,null,null,null,null,null,null,"",null,null,null,null,null,null,null,null,null,null,null,null,null,null,null,null,null,null,null,null,null,null,null,null,null,null,null,null,null,null,null,null,null,"",27,null,0,0,0,0,0,0,0,0,0,0,0,0,0,0,0,0,0,0,0,0,0,0,0,0,0,0,0,0,0,0,0,0,0,0,0,0,0,0,0,0,0,0,0,0,0,0,0,0,0,0,0,0,0,0,0,0,0,0,0,0,0,0,0,0,0,0,0,0,0,0,0,0,0,0,0,0,0,0,0,0,0,0,0,0,0,0,0,0,0,0,0,0,0,0,0,0,0,0,0,0,0,0,0,0,0,0,0,0,0,0,0,0,0,0,0,0,0,0,0,0,"","","","","","",0,0,"","","","","",null,0]
[null,{"$f":"LISTA!AF35","v":""},null,{"$f":"IF(LISTA!AG35=\"\",\"\",LISTA!AG35)","v":""},null,null,null,null,null,null,null,null,null,null,null,null,null,null,null,null,null,"",null,null,null,null,null,null,null,null,null,null,null,null,null,null,null,null,null,null,null,null,null,null,null,null,null,null,null,null,null,null,null,null,null,"",28,null,0,0,0,0,0,0,0,0,0,0,0,0,0,0,0,0,0,0,0,0,0,0,0,0,0,0,0,0,0,0,0,0,0,0,0,0,0,0,0,0,0,0,0,0,0,0,0,0,0,0,0,0,0,0,0,0,0,0,0,0,0,0,0,0,0,0,0,0,0,0,0,0,0,0,0,0,0,0,0,0,0,0,0,0,0,0,0,0,0,0,0,0,0,0,0,0,0,0,0,0,0,0,0,0,0,0,0,0,0,0,0,0,0,0,0,0,0,0,0,0,"","","","","","",0,0,"","","","","",null,0]
[null,{"$f":"LISTA!AF36","v":""},null,{"$f":"IF(LISTA!AG36=\"\",\"\",LISTA!AG36)","v":""},null,null,null,null,null,null,null,null,null,null,null,null,null,null,null,null,null,"",null,null,null,null,null,null,null,null,null,null,null,null,null,null,null,null,null,null,null,null,null,null,null,null,null,null,null,null,null,null,null,null,null,"",29,null,0,0,0,0,0,0,0,0,0,0,0,0,0,0,0,0,0,0,0,0,0,0,0,0,0,0,0,0,0,0,0,0,0,0,0,0,0,0,0,0,0,0,0,0,0,0,0,0,0,0,0,0,0,0,0,0,0,0,0,0,0,0,0,0,0,0,0,0,0,0,0,0,0,0,0,0,0,0,0,0,0,0,0,0,0,0,0,0,0,0,0,0,0,0,0,0,0,0,0,0,0,0,0,0,0,0,0,0,0,0,0,0,0,0,0,0,0,0,0,0,"","","","","","",0,0,"","","","","",null,0]
[null,{"$f":"LISTA!AF37","v":""},null,{"$f":"IF(LISTA!AG37=\"\",\"\",LISTA!AG37)","v":""},null,null,null,null,null,null,null,null,null,null,null,null,null,null,null,null,null,"",null,null,null,null,null,null,null,null,null,null,null,null,null,null,null,null,null,null,null,null,null,null,null,null,null,null,null,null,null,null,null,null,null,"",30,null,0,0,0,0,0,0,0,0,0,0,0,0,0,0,0,0,0,0,0,0,0,0,0,0,0,0,0,0,0,0,0,0,0,0,0,0,0,0,0,0,0,0,0,0,0,0,0,0,0,0,0,0,0,0,0,0,0,0,0,0,0,0,0,0,0,0,0,0,0,0,0,0,0,0,0,0,0,0,0,0,0,0,0,0,0,0,0,0,0,0,0,0,0,0,0,0,0,0,0,0,0,0,0,0,0,0,0,0,0,0,0,0,0,0,0,0,0,0,0,0,"","","","","","",0,0,"","","","","",null,0]
[null,{"$f":"LISTA!AF38","v":""},null,{"$f":"IF(LISTA!AG38=\"\",\"\",LISTA!AG38)","v":""},null,null,null,null,null,null,null,null,null,null,null,null,null,null,null,null,null,"",null,null,null,null,null,null,null,null,null,null,null,null,null,null,null,null,null,null,null,null,null,null,null,null,null,null,null,null,null,null,null,null,null,"",31,null,0,0,0,0,0,0,0,0,0,0,0,0,0,0,0,0,0,0,0,0,0,0,0,0,0,0,0,0,0,0,0,0,0,0,0,0,0,0,0,0,0,0,0,0,0,0,0,0,0,0,0,0,0,0,0,0,0,0,0,0,0,0,0,0,0,0,0,0,0,0,0,0,0,0,0,0,0,0,0,0,0,0,0,0,0,0,0,0,0,0,0,0,0,0,0,0,0,0,0,0,0,0,0,0,0,0,0,0,0,0,0,0,0,0,0,0,0,0,0,0,"","","","","","",0,0,"","","","","",null,0]
[null,{"$f":"LISTA!AF39","v":""},null,{"$f":"IF(LISTA!AG39=\"\",\"\",LISTA!AG39)","v":""},null,null,null,null,null,null,null,null,null,null,null,null,null,null,null,null,null,"",null,null,null,null,null,null,null,null,null,null,null,null,null,null,null,null,null,null,null,null,null,null,null,null,null,null,null,null,null,null,null,null,null,"",32,null,0,0,0,0,0,0,0,0,0,0,0,0,0,0,0,0,0,0,0,0,0,0,0,0,0,0,0,0,0,0,0,0,0,0,0,0,0,0,0,0,0,0,0,0,0,0,0,0,0,0,0,0,0,0,0,0,0,0,0,0,0,0,0,0,0,0,0,0,0,0,0,0,0,0,0,0,0,0,0,0,0,0,0,0,0,0,0,0,0,0,0,0,0,0,0,0,0,0,0,0,0,0,0,0,0,0,0,0,0,0,0,0,0,0,0,0,0,0,0,0,"","","","","","",0,0,"","","","","",null,0]
[null,{"$f":"LISTA!AF40","v":""},null,{"$f":"IF(LISTA!AG40=\"\",\"\",LISTA!AG40)","v":""},null,null,null,null,null,null,null,null,null,null,null,null,null,null,null,null,null,"",null,null,null,null,null,null,null,null,null,null,null,null,null,null,null,null,null,null,null,null,null,null,null,null,null,null,null,null,null,null,null,null,null,"",33,null,0,0,0,0,0,0,0,0,0,0,0,0,0,0,0,0,0,0,0,0,0,0,0,0,0,0,0,0,0,0,0,0,0,0,0,0,0,0,0,0,0,0,0,0,0,0,0,0,0,0,0,0,0,0,0,0,0,0,0,0,0,0,0,0,0,0,0,0,0,0,0,0,0,0,0,0,0,0,0,0,0,0,0,0,0,0,0,0,0,0,0,0,0,0,0,0,0,0,0,0,0,0,0,0,0,0,0,0,0,0,0,0,0,0,0,0,0,0,0,0,"","","","","","",0,0,"","","","","",null,0]
[null,{"$f":"LISTA!AF41","v":""},null,{"$f":"IF(LISTA!AG41=\"\",\"\",LISTA!AG41)","v":""},null,null,null,null,null,null,null,null,null,null,null,null,null,null,null,null,null,"",null,null,null,null,null,null,null,null,null,null,null,null,null,null,null,null,null,null,null,null,null,null,null,null,null,null,null,null,null,null,null,null,null,"",34,null,{"$f":"$E54","v":0},0,0,0,0,0,{"$f":"$F54","v":0},0,0,0,0,0,{"$f":"$G54","v":0},0,0,0,0,0,{"$f":"$H54","v":0},0,0,0,0,0,{"$f":"$I54","v":0},0,0,0,0,0,{"$f":"$J54","v":0},0,0,0,0,0,{"$f":"$K54","v":0},0,0,0,0,0,{"$f":"$L54","v":0},0,0,0,0,0,{"$f":"$M54","v":0},0,0,0,0,0,{"$f":"$N54","v":0},0,0,0,0,0,{"$f":"$O54","v":0},0,0,0,0,0,{"$f":"$P54","v":0},0,0,0,0,0,{"$f":"$Q54","v":0},0,0,0,0,0,{"$f":"$R54","v":0},0,0,0,0,0,{"$f":"$S54","v":0},0,0,0,0,0,0,0,0,0,0,0,0,0,0,0,0,0,0,0,0,0,0,0,0,0,0,0,0,0,0,0,0,0,0,0,"","","","","","",0,0,{"$f":"IF(U120=35,U120,IF(U120=\"\",FW54,IF(U120<=34.5,FW54)))","v":""},"","","","",null,0]
[null,{"$f":"LISTA!AF42","v":""},null,{"$f":"IF(LISTA!AG42=\"\",\"\",LISTA!AG42)","v":""},null,null,null,null,null,null,null,null,null,null,null,null,null,null,null,null,null,"",null,null,null,null,null,null,null,null,null,null,null,null,null,null,null,null,null,null,null,null,null,null,null,null,null,null,null,null,null,null,null,null,null,"",35,null,0,0,0,0,0,0,0,0,0,0,0,0,0,0,0,0,0,0,0,0,0,0,0,0,0,0,0,0,0,0,0,0,0,0,0,0,0,0,0,0,0,0,0,0,0,0,0,0,0,0,0,0,0,0,0,0,0,0,0,0,0,0,0,0,0,0,0,0,0,0,0,0,0,0,0,0,0,0,0,0,0,0,0,0,0,0,0,0,0,0,0,0,0,0,0,0,0,0,0,0,0,0,0,0,0,0,0,0,0,0,0,0,0,0,0,0,0,0,0,0,"","","","","","",0,0,"","","","","",null,0]
[null,{"$f":"LISTA!AF43","v":""},null,{"$f":"IF(LISTA!AG43=\"\",\"\",LISTA!AG43)","v":""},null,null,null,null,null,null,null,null,null,null,null,null,null,null,null,null,null,"",null,null,null,null,null,null,null,null,null,null,null,null,null,null,null,null,null,null,null,null,null,null,null,null,null,null,null,null,null,null,null,null,null,"",36,null,0,0,0,0,0,0,0,0,0,0,0,0,0,0,0,0,0,0,0,0,0,0,0,0,0,0,0,0,0,0,0,0,0,0,0,0,0,0,0,0,0,0,0,0,0,0,0,0,0,0,0,0,0,0,0,0,0,0,0,0,0,0,0,0,0,0,0,0,0,0,0,0,0,0,0,0,0,0,0,0,0,0,0,0,0,0,0,0,0,0,0,0,0,0,0,0,0,0,0,0,0,0,0,0,0,0,0,0,0,0,0,0,0,0,0,0,0,0,0,0,"","","","","","",0,0,"","","","","",null,0]
[null,{"$f":"LISTA!AF44","v":""},null,{"$f":"IF(LISTA!AG44=\"\",\"\",LISTA!AG44)","v":""},null,null,null,null,null,null,null,null,null,null,null,null,null,null,null,null,null,"",null,null,null,null,null,null,null,null,null,null,null,null,null,null,null,null,null,null,null,null,null,null,null,null,null,null,null,null,null,null,null,null,null,"",37,null,0,0,0,0,0,0,0,0,0,0,0,0,0,0,0,0,0,0,0,0,0,0,0,0,0,0,0,0,0,0,0,0,0,0,0,0,0,0,0,0,0,0,0,0,0,0,0,0,0,0,0,0,0,0,0,0,0,0,0,0,0,0,0,0,0,0,0,0,0,0,0,0,0,0,0,0,0,0,0,0,0,0,0,0,0,0,0,0,0,0,0,0,0,0,0,0,0,0,0,0,0,0,0,0,0,0,0,0,0,0,0,0,0,0,0,0,0,0,0,0,"","","","","","",0,0,"","","","","",null,0]
[null,{"$f":"LISTA!AF45","v":""},null,{"$f":"IF(LISTA!AG45=\"\",\"\",LISTA!AG45)","v":""},null,null,null,null,null,null,null,null,null,null,null,null,null,null,null,null,null,"",null,null,null,null,null,null,null,null,null,null,null,null,null,null,null,null,null,null,null,null,null,null,null,null,null,null,null,null,null,null,null,null,null,"",38,null,0,0,0,0,0,0,0,0,0,0,0,0,0,0,0,0,0,0,0,0,0,0,0,0,0,0,0,0,0,0,0,0,0,0,0,0,0,0,0,0,0,0,0,0,0,0,0,0,0,0,0,0,0,0,0,0,0,0,0,0,0,0,0,0,0,0,0,0,0,0,0,0,0,0,0,0,0,0,0,0,0,0,0,0,0,0,0,0,0,0,0,0,0,0,0,0,0,0,0,0,0,0,0,0,0,0,0,0,0,0,0,0,0,0,0,0,0,0,0,0,"","","","","","",0,0,"","","","","",null,0]
[null,{"$f":"LISTA!AF46","v":""},null,{"$f":"IF(LISTA!AG46=\"\",\"\",LISTA!AG46)","v":""},null,null,null,null,null,null,null,null,null,null,null,null,null,null,null,null,null,"",null,null,null,null,null,null,null,null,null,null,null,null,null,null,null,null,null,null,null,null,null,null,null,null,null,null,null,null,null,null,null,null,null,"",39,null,0,0,0,0,0,0,0,0,0,0,0,0,0,0,0,0,0,0,0,0,0,0,0,0,0,0,0,0,0,0,0,0,0,0,0,0,0,0,0,0,0,0,0,0,0,0,0,0,0,0,0,0,0,0,0,0,0,0,0,0,0,0,0,0,0,0,0,0,0,0,0,0,0,0,0,0,0,0,0,0,0,0,0,0,0,0,0,0,0,0,0,0,0,0,0,0,0,0,0,0,0,0,0,0,0,0,0,0,0,0,0,0,0,0,0,0,0,0,0,0,"","","","","","",0,0,"","","","","",null,0]
[null,{"$f":"LISTA!AF47","v":""},null,{"$f":"IF(LISTA!AG47=\"\",\"\",LISTA!AG47)","v":""},null,null,null,null,null,null,null,null,null,null,null,null,null,null,null,null,null,"",null,null,null,null,null,null,null,null,null,null,null,null,null,null,null,null,null,null,null,null,null,null,null,null,null,null,null,null,null,null,null,null,null,"",40,null,0,0,0,0,0,0,0,0,0,0,0,0,0,0,0,0,0,0,0,0,0,0,0,0,0,0,0,0,0,0,0,0,0,0,0,0,0,0,0,0,0,0,0,0,0,0,0,0,0,0,0,0,0,0,0,0,0,0,0,0,0,0,0,0,0,0,0,0,0,0,0,0,0,0,0,0,0,0,0,0,0,0,0,0,0,0,0,0,0,0,0,0,0,0,0,0,0,0,0,0,0,0,0,0,0,0,0,0,0,0,0,0,0,0,0,0,0,0,0,0,"","","","","","",0,0,"","","","","",null,0]
[null,{"$f":"LISTA!AF48","v":""},null,{"$f":"IF(LISTA!AG48=\"\",\"\",LISTA!AG48)","v":""},null,null,null,null,null,null,null,null,null,null,null,null,null,null,null,null,null,"",null,null,null,null,null,null,null,null,null,null,null,null,null,null,null,null,null,null,null,null,null,null,null,null,null,null,null,null,null,null,null,null,null,"",41,null,0,0,0,0,0,0,0,0,0,0,0,0,0,0,0,0,0,0,0,0,0,0,0,0,0,0,0,0,0,0,0,0,0,0,0,0,0,0,0,0,0,0,0,0,0,0,0,0,0,0,0,0,0,0,0,0,0,0,0,0,0,0,0,0,0,0,0,0,0,0,0,0,0,0,0,0,0,0,0,0,0,0,0,0,0,0,0,0,0,0,0,0,0,0,0,0,0,0,0,0,0,0,0,0,0,0,0,0,0,0,0,0,0,0,0,0,0,0,0,0,"","","","","","",0,0,"","","","","",null,0]
[null,{"$f":"LISTA!AF49","v":""},null,{"$f":"IF(LISTA!AG49=\"\",\"\",LISTA!AG49)","v":""},null,null,null,null,null,null,null,null,null,null,null,null,null,null,null,null,null,"",null,null,null,null,null,null,null,null,null,null,null,null,null,null,null,null,null,null,null,null,null,null,null,null,null,null,null,null,null,null,null,null,null,"",42,null,0,0,0,0,0,0,0,0,0,0,0,0,0,0,0,0,0,0,0,0,0,0,0,0,0,0,0,0,0,0,0,0,0,0,0,0,0,0,0,0,0,0,0,0,0,0,0,0,0,0,0,0,0,0,0,0,0,0,0,0,0,0,0,0,0,0,0,0,0,0,0,0,0,0,0,0,0,0,0,0,0,0,0,0,0,0,0,0,0,0,0,0,0,0,0,0,0,0,0,0,0,0,0,0,0,0,0,0,0,0,0,0,0,0,0,0,0,0,0,0,"","","","","","",0,0,"","","","","",null,0]
[null,{"$f":"LISTA!AF50","v":""},null,{"$f":"IF(LISTA!AG50=\"\",\"\",LISTA!AG50)","v":""},null,null,null,null,null,null,null,null,null,null,null,null,null,null,null,null,null,"",null,null,null,null,null,null,null,null,null,null,null,null,null,null,null,null,null,null,null,null,null,null,null,null,null,null,null,null,null,null,null,null,null,"",43,null,0,0,0,0,0,0,0,0,0,0,0,0,0,0,0,0,0,0,0,0,0,0,0,0,0,0,0,0,0,0,0,0,0,0,0,0,0,0,0,0,0,0,0,0,0,0,0,0,0,0,0,0,0,0,0,0,0,0,0,0,0,0,0,0,0,0,0,0,0,0,0,0,0,0,0,0,0,0,0,0,0,0,0,0,0,0,0,0,0,0,0,0,0,0,0,0,0,0,0,0,0,0,0,0,0,0,0,0,0,0,0,0,0,0,0,0,0,0,0,0,"","","","","","",0,0,"","","","","",null,0]
[null,{"$f":"LISTA!AF51","v":""},null,{"$f":"IF(LISTA!AG51=\"\",\"\",LISTA!AG51)","v":""},null,null,null,null,null,null,null,null,null,null,null,null,null,null,null,null,null,"",null,null,null,null,null,null,null,null,null,null,null,null,null,null,null,null,null,null,null,null,null,null,null,null,null,null,null,null,null,null,null,null,null,"",44,null,0,0,0,0,0,0,0,0,0,0,0,0,0,0,0,0,0,0,0,0,0,0,0,0,0,0,0,0,0,0,0,0,0,0,0,0,0,0,0,0,0,0,0,0,0,0,0,0,0,0,0,0,0,0,0,0,0,0,0,0,0,0,0,0,0,0,0,0,0,0,0,0,0,0,0,0,0,0,0,0,0,0,0,0,0,0,0,0,0,0,0,0,0,0,0,0,0,0,0,0,0,0,0,0,0,0,0,0,0,0,0,0,0,0,0,0,0,0,0,0,"","","","","","",0,0,"","","","","",null,0]
[null,{"$f":"LISTA!AF52","v":""},null,{"$f":"IF(LISTA!AG52=\"\",\"\",LISTA!AG52)","v":""},null,null,null,null,null,null,null,null,null,null,null,null,null,null,null,null,null,"",null,null,null,null,null,null,null,null,null,null,null,null,null,null,null,null,null,null,null,null,null,null,null,null,null,null,null,null,null,null,null,null,null,"",45,null,0,0,0,0,0,0,0,0,0,0,0,0,0,0,0,0,0,0,0,0,0,0,0,0,0,0,0,0,0,0,0,0,0,0,0,0,0,0,0,0,0,0,0,0,0,0,0,0,0,0,0,0,0,0,0,0,0,0,0,0,0,0,0,0,0,0,0,0,0,0,0,0,0,0,0,0,0,0,0,0,0,0,0,0,0,0,0,0,0,0,0,0,0,0,0,0,0,0,0,0,0,0,0,0,0,0,0,0,0,0,0,0,0,0,0,0,0,0,0,0,"","","","","","",0,0,"","","","","",null,0]
[null,{"$f":"LISTA!AF53","v":""},null,{"$f":"IF(LISTA!AG53=\"\",\"\",LISTA!AG53)","v":""},null,null,null,null,null,null,null,null,null,null,null,null,null,null,null,null,null,"",null,null,null,null,null,null,null,null,null,null,null,null,null,null,null,null,null,null,null,null,null,null,null,null,null,null,null,null,null,null,null,null,null,"",46,null,0,0,0,0,0,0,0,0,0,0,0,0,0,0,0,0,0,0,0,0,0,0,0,0,0,0,0,0,0,0,0,0,0,0,0,0,0,0,0,0,0,0,0,0,0,0,0,0,0,0,0,0,0,0,0,0,0,0,0,0,0,0,0,0,0,0,0,0,0,0,0,0,0,0,0,0,0,0,0,0,0,0,0,0,0,0,0,0,0,0,0,0,0,0,0,0,0,0,0,0,0,0,0,0,0,0,0,0,0,0,0,0,0,0,0,0,0,0,0,0,"","","","","","",0,0,"","","","","",null,0]
[null,{"$f":"LISTA!AF54","v":""},null,{"$f":"IF(LISTA!AG54=\"\",\"\",LISTA!AG54)","v":""},null,null,null,null,null,null,null,null,null,null,null,null,null,null,null,null,null,"",null,null,null,null,null,null,null,null,null,null,null,null,null,null,null,null,null,null,null,null,null,null,null,null,null,null,null,null,null,null,null,null,null,"",47,null,0,0,0,0,0,0,0,0,0,0,0,0,0,0,0,0,0,0,0,0,0,0,0,0,0,0,0,0,0,0,0,0,0,0,0,0,0,0,0,0,0,0,0,0,0,0,0,0,0,0,0,0,0,0,0,0,0,0,0,0,0,0,0,0,0,0,0,0,0,0,0,0,0,0,0,0,0,0,0,0,0,0,0,0,0,0,0,0,0,0,0,0,0,0,0,0,0,0,0,0,0,0,0,0,0,0,0,0,0,0,0,0,0,0,0,0,0,0,0,0,"","","","","","",0,0,"","","","","",null,0]
[null,{"$f":"LISTA!AF55","v":""},null,{"$f":"IF(LISTA!AG55=\"\",\"\",LISTA!AG55)","v":""},null,null,null,null,null,null,null,null,null,null,null,null,null,null,null,null,null,"",null,null,null,null,null,null,null,null,null,null,null,null,null,null,null,null,null,null,null,null,null,null,null,null,null,null,null,null,null,null,null,null,null,"",48,null,0,0,0,0,0,0,0,0,0,0,0,0,0,0,0,0,0,0,0,0,0,0,0,0,0,0,0,0,0,0,0,0,0,0,0,0,0,0,0,0,0,0,0,0,0,0,0,0,0,0,0,0,0,0,0,0,0,0,0,0,0,0,0,0,0,0,0,0,0,0,0,0,0,0,0,0,0,0,0,0,0,0,0,0,0,0,0,0,0,0,0,0,0,0,0,0,0,0,0,0,0,0,0,0,0,0,0,0,0,0,0,0,0,0,0,0,0,0,0,0,"","","","","","",0,0,"","","","","",null,0]
[null,{"$f":"LISTA!AF56","v":""},null,{"$f":"IF(LISTA!AG56=\"\",\"\",LISTA!AG56)","v":""},null,null,null,null,null,null,null,null,null,null,null,null,null,null,null,null,null,"",null,null,null,null,null,null,null,null,null,null,null,null,null,null,null,null,null,null,null,null,null,null,null,null,null,null,null,null,null,null,null,null,null,"",49,null,0,0,0,0,0,0,0,0,0,0,0,0,0,0,0,0,0,0,0,0,0,0,0,0,0,0,0,0,0,0,0,0,0,0,0,0,0,0,0,0,0,0,0,0,0,0,0,0,0,0,0,0,0,0,0,0,0,0,0,0,0,0,0,0,0,0,0,0,0,0,0,0,0,0,0,0,0,0,0,0,0,0,0,0,0,0,0,0,0,0,0,0,0,0,0,0,0,0,0,0,0,0,0,0,0,0,0,0,0,0,0,0,0,0,0,0,0,0,0,0,"","","","","","",0,0,"","","","","",null,0]
[null,{"$f":"LISTA!AF57","v":""},null,{"$f":"IF(LISTA!AG57=\"\",\"\",LISTA!AG57)","v":""},null,null,null,null,null,null,null,null,null,null,null,null,null,null,null,null,null,"",null,null,null,null,null,null,null,null,null,null,null,null,null,null,null,null,null,null,null,null,null,null,null,null,null,null,null,null,null,null,null,null,null,"",50,null,0,0,0,0,0,0,0,0,0,0,0,0,0,0,0,0,0,0,0,0,0,0,0,0,0,0,0,0,0,0,0,0,0,0,0,0,0,0,0,0,0,0,0,0,0,0,0,0,0,0,0,0,0,0,0,0,0,0,0,0,0,0,0,0,0,0,0,0,0,0,0,0,0,0,0,0,0,0,0,0,0,0,0,0,0,0,0,0,0,0,{"$f":"(((SUMIFS(BG70:ER70,$BG$20:$ER$20,$ES$20)))/$ES$18)*6","v":0},0,0,0,0,0,0,0,0,0,0,0,0,0,0,0,0,0,0,0,0,0,0,0,0,0,0,0,0,0,"","","","","","",0,0,{"$f":"IF(U136=35,U136,IF(U136=\"\",FW70,IF(U136<=34.5,FW70)))","v":""},{"$f":"IF(V136=35,V136,IF(V136=\"\",FX70,IF(V136<=34.5,FX70)))","v":""},{"$f":"IF(W136=35,W136,IF(W136=\"\",FY70,IF(W136<=34.5,FY70)))","v":""},{"$f":"IF(X136=35,X136,IF(X136=\"\",FZ70,IF(X136<=34.5,FZ70)))","v":""},{"$f":"IF(Y136=35,Y136,IF(Y136=\"\",GA70,IF(Y136<=34.5,GA70)))","v":""},null,0]
[null,null,null,null,null,null,null,null,null,null,null,null,null,null,null,null,null,null,null,null,null,null,null,null,null,null,null,null,null,null,null,null,null,null,null,null,null,null,null,null,null,null,null,null,null,null,null,null,null,null,null,null,null,null,null,null,null,null,null,null,null,null,null,null,null,null,null,null,null,null,null,null,null,null,null,null,null,null,null,null,null,null,null,null,null,null,null,null,null,null,null,null,null,null,null,null,null,null,null,null,null,null,null,null,null,null,null,null,null,null,null,null,null,null,null,null,null,null,null,null,null,null,null,null,null,null,null,null,null,null,null,null,null,null,null,null,null,null,null,null,null,null,null,null,null,null,null,null,{"$f":"IFERROR(AVERAGEIF(ES21:ES70,\"<>0\"),0)","v":0},{"$f":"IFERROR(AVERAGEIF(ET21:ET70,\"<>0\"),0)","v":0},{"$f":"IFERROR(AVERAGEIF(EU21:EU70,\"<>0\"),0)","v":0},{"$f":"IFERROR(AVERAGEIF(EV21:EV70,\"<>0\"),0)","v":0},{"$f":"IFERROR(AVERAGEIF(EW21:EW70,\"<>0\"),0)","v":0},0,0,0,0,0,0,0,0,0,0,0,0,0,0,0,0,0,0,0,0,0,0,0,0,{"$f":"IFERROR(AVERAGEIF(FV21:FV70,\"<>0\"),0)","v":0},null,null,null,null,null,null,{"$f":"COUNTIF(GC$21:$GC70,\"<=34,5\")-COUNTIF(GC$21:GC$70,\"=0\")","v":0}]
[null,null,null,null,null,null,null,null,null,null,null,null,null,null,null,null,null,null,null,null,null,null,null,null,null,null,null,null,null,null,null,null,null,null,null,null,null,null,null,null,null,null,null,null,null,null,null,null,null,null,null,null,null,null,null,null,null,null,null,null,null,null,null,null,null,null,null,null,null,null,null,null,null,null,null,null,null,null,null,null,null,null,null,null,null,null,null,null,null,null,null,null,null,null,null,null,null,null,null,null,null,null,null,null,null,null,null,null,null,null,null,null,null,null,null,null,null,null,null,null,null,null,null,null,null,null,null,null,null,null,null,null,null,null,null,null,null,null,null,null,null,null,null,null,null,null,null,null,{"$f":"COUNTIF(ES$21:ES$70,\"<=34,5\")-COUNTIF(ES$21:ES$70,\"=0\")","v":0},0,0,0,0,0,0,0,0,0,0,0,0,0,0,0,0,0,0,0,0,0,0,0,0,0,0,0,0,0]
[null,"PLAN DE APOYO"]
[]
[null,"Datos del Curso",null,null,{"$f":"IF(INICIO!$E$4=\"\",\"\",INICIO!$E$4)","v":"GERFRIED PINTO"},null,null,null,null,null,null,"ESTADISTICA DE ESTUDIANTES ",null,null,null,null,null,null,null,null,null,null,null,null,null,null,"COMANDOS"]
[]
[null,null,null,{"$f":"IF(PLAN!$S$226=\"TERCER TRIMESTRE\",PLAN!$S$226,IF(PLAN!$L$226=\"SEGUNDO TRIMESTRE\",PLAN!$L$226,IF(PLAN!$E$226=\"PRIMER TRIMESTRE\",PLAN!$E$226,\"\")))","v":"PRIMER TRIMESTRE"},null,null,null,null,null,null,null,null,"ESTUDIANTES A PLAN DE APOYO",null,null,null,null,{"$f":"IFERROR(50-COUNTIF(N87:N136,\"\"),0)","v":0},null,"ESTUDIANTES REPROBADOS",null,null,null,{"$f":"$BI$4","v":0}]
[]
[null,null,null,"ASIGNATURA",null,"CURSO",null,"CICLO",null,null,null,null,"ESTUDIANTES QUE PRESENTARON",null,null,null,null,{"$f":"$BI$2","v":0}]
[]
[null,null,null,{"$f":"IF($F$9=\"\",\"\",IF($F$9=INICIO!$D$19,INICIO!$F$19))","v":""},null,{"$f":"IF(INICIO!$D$19=\"\",\"\",INICIO!$D$19)","v":""},null,{"$f":"IF($F$9=INICIO!$D$19,INICIO!$C$19,\"\")","v":""},null,null,null,null,"ESTUDIANTES APROBADOS",null,null,null,null,{"$f":"$BI$3","v":0}]
[]
[]
[null,{"$f":"IF($D$77=\"PRIMER TRIMESTRE\",$CN$6,IF($D$77=\"SEGUNDO TRIMESTRE\",$CN$1,IF($D$77=\"TERCER TRIMESTRE\",$CN$2,\"\")))","v":"RESULTADOS PRIMER TRIMESTRE "},null,null,null,null,null,null,null,null,null,null,{"$f":"IF($D$77=\"PRIMER TRIMESTRE\",$CN$3,IF($D$77=\"SEGUNDO TRIMESTRE\",$CN$4,IF($D$77=\"TERCER TRIMESTRE\",$CN$5,\"\")))","v":"CALIFICACIÓN PLAN DE APOYO PRIMER TRIMESTRE"}]
[]
[null,"CD",null,"NOMBRE","L1","L2","L3","L4","L5","FINAL",null,null,"CD","NOMBRE",null,null,null,null,null,null,"L1","L2","L3","L4","L5","FINAL"]
[null,{"$f":"IF(AND(E87=\"\",F87=\"\",G87=\"\",H87=\"\",I87=\"\"),\"\",B153)","v":""},null,{"$f":"IF(B87=\"\",\"\",D21)","v":""},{"$f":"IF(J153=\"\",\"\",IF(ROUND(J153,0)<=34.5,J153,IF(J153>=34.6,\"\")))","v":""},{"$f":"IF(K153=\"\",\"\",IF(ROUND(K153,0)<=34.5,K153,IF(K153>=34.6,\"\")))","v":""},"","","",{"$f":"IF(AND(E87=\"\",F87=\"\",G87=\"\",H87=\"\",I87=\"\"),\"\",O153)","v":""},null,null,{"$f":"IF(Z87=\"SI\",B21,IF(Z87=\"NO\",B21,IF(B87=\"\",\"\",B87)))","v":""},{"$f":"IF(M87=\"\",\"\",D21)","v":""},null,null,null,null,null,null,null,null,null,null,null,{"$f":"IF(BD21<=34.5,$BF$3,IF(BD21=35,$BF$4,\"\"))","v":""}]
[null,"",null,{"$f":"IF(B88=\"\",\"\",D22)","v":""},{"$f":"IF(J154=\"\",\"\",IF(ROUND(J154,0)<=34.5,J154,IF(J154>=34.6,\"\")))","v":""},"","","","",{"$f":"IF(AND(E88=\"\",F88=\"\",G88=\"\",H88=\"\",I88=\"\"),\"\",O154)","v":""},null,null,"","",null,null,null,null,null,null,null,null,null,null,null,{"$f":"IF(BD22<=34.5,$BF$3,IF(BD22=35,$BF$4,\"\"))","v":""}]
[null,"",null,"","",{"$f":"IF(K155=\"\",\"\",IF(ROUND(K155,0)<=34.5,K155,IF(K155>=34.6,\"\")))","v":""},"","","","",null,null,"","",null,null,null,null,null,null,null,null,null,null,null,""]
[null,"",null,"","","","","","","",null,null,"","",null,null,null,null,null,null,null,null,null,null,null,""]
[null,"",null,"","","","","","","",null,null,"","",null,null,null,null,null,null,null,null,null,null,null,""]
[null,"",null,"","","","","","","",null,null,"","",null,null,null,null,null,null,null,null,null,null,null,""]
[null,"",null,"","","","","","","",null,null,"","",null,null,null,null,null,null,null,null,null,null,null,""]
[null,"",null,"","","","","","","",null,null,"","",null,null,null,null,null,null,null,null,null,null,null,""]
[null,"",null,"","","","","","","",null,null,"","",null,null,null,null,null,null,null,null,null,null,null,""]
[null,"",null,"","","","","","","",null,null,"","",null,null,null,null,null,null,null,null,null,null,null,""]
[null,"",null,"","","","","","","",null,null,"","",null,null,null,null,null,null,null,null,null,null,null,""]
[null,"",null,"","","","","","","",null,null,"","",null,null,null,null,null,null,null,null,null,null,null,""]
[null,"",null,"","","","","","","",null,null,"","",null,null,null,null,null,null,null,null,null,null,null,""]
[null,"",null,"","","","","","","",null,null,"","",null,null,null,null,null,null,null,null,null,null,null,""]
[null,"",null,"","","","","","","",null,null,"","",null,null,null,null,null,null,null,null,null,null,null,""]
[null,"",null,"","","","","","","",null,null,"","",null,null,null,null,null,null,null,null,null,null,null,""]
[null,"",null,"","","","","","","",null,null,"","",null,null,null,null,null,null,null,null,null,null,null,""]
[null,"",null,"","","","","","","",null,null,"","",null,null,null,null,null,null,null,null,null,null,null,""]
[null,"",null,"","","","","","","",null,null,"","",null,null,null,null,null,null,null,null,null,null,null,""]
[null,"",null,"","","","","","","",null,null,"","",null,null,null,null,null,null,null,null,null,null,null,""]
[null,"",null,"","","","","","","",null,null,"","",null,null,null,null,null,null,null,null,null,null,null,""]
[null,"",null,"","","","","","","",null,null,"","",null,null,null,null,null,null,null,null,null,null,null,""]
[null,"",null,"","","","","","","",null,null,"","",null,null,null,null,null,null,null,null,null,null,null,""]
[null,"",null,"","","","","","","",null,null,"","",null,null,null,null,null,null,null,null,null,null,null,""]
[null,"",null,"","","","","","","",null,null,"","",null,null,null,null,null,null,null,null,null,null,null,""]
[null,"",null,"","","","","","","",null,null,"","",null,null,null,null,null,null,null,null,null,null,null,""]
[null,"",null,"","","","","","","",null,null,"","",null,null,null,null,null,null,null,null,null,null,null,""]
[null,"",null,"","","","","","","",null,null,"","",null,null,null,null,null,null,null,null,null,null,null,""]
[null,"",null,"","","","","","","",null,null,"","",null,null,null,null,null,null,null,null,null,null,null,""]
[null,"",null,"","","","","","","",null,null,"","",null,null,null,null,null,null,null,null,null,null,null,""]
[null,"",null,"","","","","","","",null,null,"","",null,null,null,null,null,null,null,null,null,null,null,""]
[null,"",null,"","","","","","","",null,null,"","",null,null,null,null,null,null,null,null,null,null,null,""]
[null,"",null,"","","","","","","",null,null,"","",null,null,null,null,null,null,null,null,null,null,null,""]
[null,"",null,"","","","","","","",null,null,"","",null,null,null,null,null,null,null,null,null,null,null,""]
[null,"",null,"","","","","","","",null,null,"","",null,null,null,null,null,null,null,null,null,null,null,""]
[null,"",null,"","","","","","","",null,null,"","",null,null,null,null,null,null,null,null,null,null,null,""]
[null,"",null,"","","","","","","",null,null,"","",null,null,null,null,null,null,null,null,null,null,null,""]
[null,"",null,"","","","","","","",null,null,"","",null,null,null,null,null,null,null,null,null,null,null,""]
[null,"",null,"","","","","","","",null,null,"","",null,null,null,null,null,null,null,null,null,null,null,""]
[null,"",null,"","","","","","","",null,null,"","",null,null,null,null,null,null,null,null,null,null,null,""]
[null,"",null,"","","","","","","",null,null,"","",null,null,null,null,null,null,null,null,null,null,null,""]
[null,"",null,"","","","","","","",null,null,"","",null,null,null,null,null,null,null,null,null,null,null,""]
[null,"",null,"","","","","","","",null,null,"","",null,null,null,null,null,null,null,null,null,null,null,""]
[null,"",null,"","","","","","","",null,null,"","",null,null,null,null,null,null,null,null,null,null,null,""]
[null,"",null,"","","","","","","",null,null,"","",null,null,null,null,null,null,null,null,null,null,null,""]
[null,"",null,"","","","","","","",null,null,"","",null,null,null,null,null,null,null,null,null,null,null,""]
[null,"",null,"","","","","","","",null,null,"","",null,null,null,null,null,null,null,null,null,null,null,""]
[null,"",null,"","","","","","","",null,null,"","",null,null,null,null,null,null,null,null,null,null,null,""]
[null,"",null,"","","","","","","",null,null,"","",null,null,null,null,null,null,null,null,null,null,null,""]
[null,"",null,"","","","","","","",null,null,"","",null,null,null,null,null,null,null,null,null,null,null,{"$f":"IF(BD70<=34.5,$BF$3,IF(BD70=35,$BF$4,\"\"))","v":""}]
[]
[]
[null,"NOTA FINAL"]
[]
[null,"Datos del Curso",null,null,{"$f":"IF(INICIO!$E$4=\"\",\"\",INICIO!$E$4)","v":"GERFRIED PINTO"},null,null,null,null,null,null,"ESTADISTICA DEL TRIMESTRE",null,null,null,null,null,null,null,null,null,null,null,null,null,null,null,"COMANDOS"]
[]
[null,null,null,{"$f":"IF(PLAN!$S$226=\"TERCER TRIMESTRE\",PLAN!$S$226,IF(PLAN!$L$226=\"SEGUNDO TRIMESTRE\",PLAN!$L$226,IF(PLAN!$E$226=\"PRIMER TRIMESTRE\",PLAN!$E$226,\"\")))","v":"PRIMER TRIMESTRE"},null,null,null,null,null,null,null,null,"LOGROS EVALUADOS",null,null,null,null,null,null,null,"% PERDIDA EVALUACIÓN",null,null,null,{"$f":"IFERROR(IF($DD$5=0,\"\",($GC$71/$DD$5)),0)","v":0}]
[]
[null,null,null,"ASIGNATURA",null,"CURSO",null,"CICLO",null,null,null,{"$f":"IF(AND(M145=\"\",N145=\"\",O145=\"\",P145=\"\",Q145=\"\"),\"\",$CY$1)","v":""},{"$f":"IF(PLAN!$C228=\"\",\"\",PLAN!$C228)","v":""},{"$f":"IF(PLAN!$C229=\"\",\"\",PLAN!$C229)","v":""},{"$f":"IF(PLAN!$C230=\"\",\"\",PLAN!$C230)","v":""},{"$f":"IF(PLAN!$C231=\"\",\"\",PLAN!$C231)","v":""},{"$f":"IF(PLAN!$C232=\"\",\"\",PLAN!$C232)","v":""},null,null,"# DE ESTUDIANTES QUE PERDIERON",null,null,null,null,{"$f":"$DF$5","v":0}]
[]
[null,null,null,{"$f":"IF($F$9=\"\",\"\",IF($F$9=INICIO!$D$19,INICIO!$F$19))","v":""},null,{"$f":"IF(INICIO!$D$19=\"\",\"\",INICIO!$D$19)","v":""},null,{"$f":"IF($F$9=INICIO!$D$19,INICIO!$C$19,\"\")","v":""},null,null,null,{"$f":"IF(AND(M147=\"\",N147=\"\",O147=\"\",P147=\"\",Q147=\"\"),\"\",$CY$2)","v":""},{"$f":"IF(PLAN!$C233=\"\",\"\",PLAN!$C233)","v":""},{"$f":"IF(PLAN!$C234=\"\",\"\",PLAN!$C234)","v":""},{"$f":"IF(PLAN!$C235=\"\",\"\",PLAN!$C235)","v":""},{"$f":"IF(PLAN!$C236=\"\",\"\",PLAN!$C236)","v":""},{"$f":"IF(PLAN!$C237=\"\",\"\",PLAN!$C237)","v":""},null,null,"# DE ACTIVIDADES PLANEADAS",null,null,null,null,{"$f":"IF(PLAN!$U$10=\"3T\",PLAN!$S$32,IF(PLAN!$N$10=\"2T\",PLAN!$L$32,IF(PLAN!$G$10=\"1T\",PLAN!$E$32,\"\")))","v":15}]
[]
[null,null,null,"# de Estudiantes:",null,{"$f":"$F$11","v":1},null,null,null,null,null,{"$f":"IF(AND(M149=\"\",N149=\"\",O149=\"\",P149=\"\",Q149=\"\"),\"\",$CY$3)","v":""},{"$f":"IF(PLAN!$C238=\"\",\"\",PLAN!$C238)","v":""},{"$f":"IF(PLAN!$C239=\"\",\"\",PLAN!$C239)","v":""},{"$f":"IF(PLAN!$C240=\"\",\"\",PLAN!$C240)","v":""},{"$f":"IF(PLAN!$C241=\"\",\"\",PLAN!$C241)","v":""},{"$f":"IF(PLAN!$C242=\"\",\"\",PLAN!$C242)","v":""},null,null,"% DE ACTIVIDADES NO ENTREGADAS",null,null,null,null,{"$f":"$BR$5","v":0}]
[]
[]
[null,"CD",null,"NOMBRE","L1","L2","L3","L4","L5","L1","L2","L3","L4","L5","FINAL","VALORACIÓN",null,null,null,"PROMEDIO ACOMULADO","L1","L2","L3","L4","L5","FINAL"]
[null,{"$f":"B21","v":1},null,{"$f":"D21","v":"I"},{"$f":"IFERROR(IF(GE21=35,GE21, (IF(FW21=\"\",\"\",IF($T$13=0.15,(FW21*0.8+$GC21*0.15+$GD21*0.05))))),0)","v":""},{"$f":"IFERROR(IF(GF21=35,GF21, (IF(FX21=\"\",\"\",IF($T$13=0.15,(FX21*0.8+$GC21*0.15+$GD21*0.05))))),0)","v":""},"","","",{"$f":"IF(E153=\"\",\"\",ROUND(E153,0))","v":""},{"$f":"IF(F153=\"\",\"\",ROUND(F153,0))","v":""},"","",{"$f":"IF(I153=\"\",\"\",ROUND(I153,0))","v":""},{"$f":"IF(AND(E153=\"\",F153=\"\",G153=\"\",H153=\"\",I153=\"\"),\"\",AVERAGE(E153:I153))","v":""},{"$f":"IF(O153=\"\",\"\",IF(ROUND(O153,0)>=47,$DB$1,IF(AND(ROUND(O153,0)<=46,ROUND(O153,0)>=41),$DB$2,IF(AND(ROUND(O153,0)<=40,ROUND(O153,0)>=35),$DB$3,IF(AND(ROUND(O153,0)<=34,ROUND(O153,0)>=10),$DB$4,\"\")))))","v":""},null,null,null,null,{"$f":"IFERROR(SUM(#REF!,#REF!,#REF!)/(COUNTIF(#REF!,\">0\")+COUNTIF(#REF!,\">0\")+COUNTIF(#REF!,\">0\")),0)","v":0},{"$f":"IFERROR(SUM(#REF!,#REF!,#REF!)/(COUNTIF(#REF!,\">0\")+COUNTIF(#REF!,\">0\")+COUNTIF(#REF!,\">0\")),0)","v":0},{"$f":"IFERROR(SUM(#REF!,#REF!,#REF!)/(COUNTIF(#REF!,\">0\")+COUNTIF(#REF!,\">0\")+COUNTIF(#REF!,\">0\")),0)","v":0},{"$f":"IFERROR(SUM(#REF!,#REF!,#REF!)/(COUNTIF(#REF!,\">0\")+COUNTIF(#REF!,\">0\")+COUNTIF(#REF!,\">0\")),0)","v":0},{"$f":"IFERROR(SUM(#REF!,#REF!,#REF!)/(COUNTIF(#REF!,\">0\")+COUNTIF(#REF!,\">0\")+COUNTIF(#REF!,\">0\")),0)","v":0},{"$f":"IFERROR(SUM(U153,V153,W153,X153,Y153)/(COUNTIF(U153,\">0\")+COUNTIF(V153,\">0\")+COUNTIF(W153,\">0\")+COUNTIF(X153,\">0\")+COUNTIF(Y153,\">0\")),0)","v":0}]
[null,"",null,"",{"$f":"IFERROR(IF(GE22=35,GE22, (IF(FW22=\"\",\"\",IF($T$13=0.15,(FW22*0.8+$GC22*0.15+$GD22*0.05))))),0)","v":""},"","","","",{"$f":"IF(E154=\"\",\"\",ROUND(E154,0))","v":""},"","","","",{"$f":"IF(AND(E154=\"\",F154=\"\",G154=\"\",H154=\"\",I154=\"\"),\"\",AVERAGE(E154:I154))","v":""},{"$f":"IF(O154=\"\",\"\",IF(ROUND(O154,0)>=47,$DB$1,IF(AND(ROUND(O154,0)<=46,ROUND(O154,0)>=41),$DB$2,IF(AND(ROUND(O154,0)<=40,ROUND(O154,0)>=35),$DB$3,IF(AND(ROUND(O154,0)<=34,ROUND(O154,0)>=10),$DB$4,\"\")))))","v":""},null,null,null,null,{"$f":"IFERROR(SUM(#REF!,#REF!,#REF!)/(COUNTIF(#REF!,\">0\")+COUNTIF(#REF!,\">0\")+COUNTIF(#REF!,\">0\")),0)","v":0},{"$f":"IFERROR(SUM(#REF!,#REF!,#REF!)/(COUNTIF(#REF!,\">0\")+COUNTIF(#REF!,\">0\")+COUNTIF(#REF!,\">0\")),0)","v":0},{"$f":"IFERROR(SUM(#REF!,#REF!,#REF!)/(COUNTIF(#REF!,\">0\")+COUNTIF(#REF!,\">0\")+COUNTIF(#REF!,\">0\")),0)","v":0},{"$f":"IFERROR(SUM(#REF!,#REF!,#REF!)/(COUNTIF(#REF!,\">0\")+COUNTIF(#REF!,\">0\")+COUNTIF(#REF!,\">0\")),0)","v":0},{"$f":"IFERROR(SUM(#REF!,#REF!,#REF!)/(COUNTIF(#REF!,\">0\")+COUNTIF(#REF!,\">0\")+COUNTIF(#REF!,\">0\")),0)","v":0},0]
[null,"",null,"","","","","","",{"$f":"IF(E155=\"\",\"\",ROUND(E155,0))","v":""},"","","","",{"$f":"IF(AND(E155=\"\",F155=\"\",G155=\"\",H155=\"\",I155=\"\"),\"\",AVERAGE(E155:I155))","v":""},"",null,null,null,null,{"$f":"IFERROR(SUM(#REF!,#REF!,#REF!)/(COUNTIF(#REF!,\">0\")+COUNTIF(#REF!,\">0\")+COUNTIF(#REF!,\">0\")),0)","v":0},{"$f":"IFERROR(SUM(#REF!,#REF!,#REF!)/(COUNTIF(#REF!,\">0\")+COUNTIF(#REF!,\">0\")+COUNTIF(#REF!,\">0\")),0)","v":0},{"$f":"IFERROR(SUM(#REF!,#REF!,#REF!)/(COUNTIF(#REF!,\">0\")+COUNTIF(#REF!,\">0\")+COUNTIF(#REF!,\">0\")),0)","v":0},{"$f":"IFERROR(SUM(#REF!,#REF!,#REF!)/(COUNTIF(#REF!,\">0\")+COUNTIF(#REF!,\">0\")+COUNTIF(#REF!,\">0\")),0)","v":0},{"$f":"IFERROR(SUM(#REF!,#REF!,#REF!)/(COUNTIF(#REF!,\">0\")+COUNTIF(#REF!,\">0\")+COUNTIF(#REF!,\">0\")),0)","v":0},0]
[null,"",null,"","","","","","",{"$f":"IF(E156=\"\",\"\",ROUND(E156,0))","v":""},"","","",{"$f":"IF(I156=\"\",\"\",ROUND(I156,0))","v":""},"","",null,null,null,null,{"$f":"IFERROR(SUM(#REF!,#REF!,#REF!)/(COUNTIF(#REF!,\">0\")+COUNTIF(#REF!,\">0\")+COUNTIF(#REF!,\">0\")),0)","v":0},{"$f":"IFERROR(SUM(#REF!,#REF!,#REF!)/(COUNTIF(#REF!,\">0\")+COUNTIF(#REF!,\">0\")+COUNTIF(#REF!,\">0\")),0)","v":0},{"$f":"IFERROR(SUM(#REF!,#REF!,#REF!)/(COUNTIF(#REF!,\">0\")+COUNTIF(#REF!,\">0\")+COUNTIF(#REF!,\">0\")),0)","v":0},{"$f":"IFERROR(SUM(#REF!,#REF!,#REF!)/(COUNTIF(#REF!,\">0\")+COUNTIF(#REF!,\">0\")+COUNTIF(#REF!,\">0\")),0)","v":0},{"$f":"IFERROR(SUM(#REF!,#REF!,#REF!)/(COUNTIF(#REF!,\">0\")+COUNTIF(#REF!,\">0\")+COUNTIF(#REF!,\">0\")),0)","v":0},0]
[null,"",null,"","","","","","","","","","","","","",null,null,null,null,{"$f":"IFERROR(SUM(#REF!,#REF!,#REF!)/(COUNTIF(#REF!,\">0\")+COUNTIF(#REF!,\">0\")+COUNTIF(#REF!,\">0\")),0)","v":0},{"$f":"IFERROR(SUM(#REF!,#REF!,#REF!)/(COUNTIF(#REF!,\">0\")+COUNTIF(#REF!,\">0\")+COUNTIF(#REF!,\">0\")),0)","v":0},{"$f":"IFERROR(SUM(#REF!,#REF!,#REF!)/(COUNTIF(#REF!,\">0\")+COUNTIF(#REF!,\">0\")+COUNTIF(#REF!,\">0\")),0)","v":0},{"$f":"IFERROR(SUM(#REF!,#REF!,#REF!)/(COUNTIF(#REF!,\">0\")+COUNTIF(#REF!,\">0\")+COUNTIF(#REF!,\">0\")),0)","v":0},{"$f":"IFERROR(SUM(#REF!,#REF!,#REF!)/(COUNTIF(#REF!,\">0\")+COUNTIF(#REF!,\">0\")+COUNTIF(#REF!,\">0\")),0)","v":0},0]
[null,"",null,"","","","","","","","","","","","","",null,null,null,null,{"$f":"IFERROR(SUM(#REF!,#REF!,#REF!)/(COUNTIF(#REF!,\">0\")+COUNTIF(#REF!,\">0\")+COUNTIF(#REF!,\">0\")),0)","v":0},{"$f":"IFERROR(SUM(#REF!,#REF!,#REF!)/(COUNTIF(#REF!,\">0\")+COUNTIF(#REF!,\">0\")+COUNTIF(#REF!,\">0\")),0)","v":0},{"$f":"IFERROR(SUM(#REF!,#REF!,#REF!)/(COUNTIF(#REF!,\">0\")+COUNTIF(#REF!,\">0\")+COUNTIF(#REF!,\">0\")),0)","v":0},{"$f":"IFERROR(SUM(#REF!,#REF!,#REF!)/(COUNTIF(#REF!,\">0\")+COUNTIF(#REF!,\">0\")+COUNTIF(#REF!,\">0\")),0)","v":0},{"$f":"IFERROR(SUM(#REF!,#REF!,#REF!)/(COUNTIF(#REF!,\">0\")+COUNTIF(#REF!,\">0\")+COUNTIF(#REF!,\">0\")),0)","v":0},0]
[null,"",null,"","","","","","","","","","","","","",null,null,null,null,{"$f":"IFERROR(SUM(#REF!,#REF!,#REF!)/(COUNTIF(#REF!,\">0\")+COUNTIF(#REF!,\">0\")+COUNTIF(#REF!,\">0\")),0)","v":0},{"$f":"IFERROR(SUM(#REF!,#REF!,#REF!)/(COUNTIF(#REF!,\">0\")+COUNTIF(#REF!,\">0\")+COUNTIF(#REF!,\">0\")),0)","v":0},{"$f":"IFERROR(SUM(#REF!,#REF!,#REF!)/(COUNTIF(#REF!,\">0\")+COUNTIF(#REF!,\">0\")+COUNTIF(#REF!,\">0\")),0)","v":0},{"$f":"IFERROR(SUM(#REF!,#REF!,#REF!)/(COUNTIF(#REF!,\">0\")+COUNTIF(#REF!,\">0\")+COUNTIF(#REF!,\">0\")),0)","v":0},{"$f":"IFERROR(SUM(#REF!,#REF!,#REF!)/(COUNTIF(#REF!,\">0\")+COUNTIF(#REF!,\">0\")+COUNTIF(#REF!,\">0\")),0)","v":0},0]
[null,"",null,"","","","","","","","","","","","","",null,null,null,null,{"$f":"IFERROR(SUM(#REF!,#REF!,#REF!)/(COUNTIF(#REF!,\">0\")+COUNTIF(#REF!,\">0\")+COUNTIF(#REF!,\">0\")),0)","v":0},{"$f":"IFERROR(SUM(#REF!,#REF!,#REF!)/(COUNTIF(#REF!,\">0\")+COUNTIF(#REF!,\">0\")+COUNTIF(#REF!,\">0\")),0)","v":0},{"$f":"IFERROR(SUM(#REF!,#REF!,#REF!)/(COUNTIF(#REF!,\">0\")+COUNTIF(#REF!,\">0\")+COUNTIF(#REF!,\">0\")),0)","v":0},{"$f":"IFERROR(SUM(#REF!,#REF!,#REF!)/(COUNTIF(#REF!,\">0\")+COUNTIF(#REF!,\">0\")+COUNTIF(#REF!,\">0\")),0)","v":0},{"$f":"IFERROR(SUM(#REF!,#REF!,#REF!)/(COUNTIF(#REF!,\">0\")+COUNTIF(#REF!,\">0\")+COUNTIF(#REF!,\">0\")),0)","v":0},0]
[null,"",null,"","","","","","","","","","","","","",null,null,null,null,{"$f":"IFERROR(SUM(#REF!,#REF!,#REF!)/(COUNTIF(#REF!,\">0\")+COUNTIF(#REF!,\">0\")+COUNTIF(#REF!,\">0\")),0)","v":0},{"$f":"IFERROR(SUM(#REF!,#REF!,#REF!)/(COUNTIF(#REF!,\">0\")+COUNTIF(#REF!,\">0\")+COUNTIF(#REF!,\">0\")),0)","v":0},{"$f":"IFERROR(SUM(#REF!,#REF!,#REF!)/(COUNTIF(#REF!,\">0\")+COUNTIF(#REF!,\">0\")+COUNTIF(#REF!,\">0\")),0)","v":0},{"$f":"IFERROR(SUM(#REF!,#REF!,#REF!)/(COUNTIF(#REF!,\">0\")+COUNTIF(#REF!,\">0\")+COUNTIF(#REF!,\">0\")),0)","v":0},{"$f":"IFERROR(SUM(#REF!,#REF!,#REF!)/(COUNTIF(#REF!,\">0\")+COUNTIF(#REF!,\">0\")+COUNTIF(#REF!,\">0\")),0)","v":0},0]
[null,"",null,"","","","","","","","","","","","","",null,null,null,null,{"$f":"IFERROR(SUM(#REF!,#REF!,#REF!)/(COUNTIF(#REF!,\">0\")+COUNTIF(#REF!,\">0\")+COUNTIF(#REF!,\">0\")),0)","v":0},{"$f":"IFERROR(SUM(#REF!,#REF!,#REF!)/(COUNTIF(#REF!,\">0\")+COUNTIF(#REF!,\">0\")+COUNTIF(#REF!,\">0\")),0)","v":0},{"$f":"IFERROR(SUM(#REF!,#REF!,#REF!)/(COUNTIF(#REF!,\">0\")+COUNTIF(#REF!,\">0\")+COUNTIF(#REF!,\">0\")),0)","v":0},{"$f":"IFERROR(SUM(#REF!,#REF!,#REF!)/(COUNTIF(#REF!,\">0\")+COUNTIF(#REF!,\">0\")+COUNTIF(#REF!,\">0\")),0)","v":0},{"$f":"IFERROR(SUM(#REF!,#REF!,#REF!)/(COUNTIF(#REF!,\">0\")+COUNTIF(#REF!,\">0\")+COUNTIF(#REF!,\">0\")),0)","v":0},0]
[null,"",null,"","","","","","","","","","","","","",null,null,null,null,{"$f":"IFERROR(SUM(#REF!,#REF!,#REF!)/(COUNTIF(#REF!,\">0\")+COUNTIF(#REF!,\">0\")+COUNTIF(#REF!,\">0\")),0)","v":0},{"$f":"IFERROR(SUM(#REF!,#REF!,#REF!)/(COUNTIF(#REF!,\">0\")+COUNTIF(#REF!,\">0\")+COUNTIF(#REF!,\">0\")),0)","v":0},{"$f":"IFERROR(SUM(#REF!,#REF!,#REF!)/(COUNTIF(#REF!,\">0\")+COUNTIF(#REF!,\">0\")+COUNTIF(#REF!,\">0\")),0)","v":0},{"$f":"IFERROR(SUM(#REF!,#REF!,#REF!)/(COUNTIF(#REF!,\">0\")+COUNTIF(#REF!,\">0\")+COUNTIF(#REF!,\">0\")),0)","v":0},{"$f":"IFERROR(SUM(#REF!,#REF!,#REF!)/(COUNTIF(#REF!,\">0\")+COUNTIF(#REF!,\">0\")+COUNTIF(#REF!,\">0\")),0)","v":0},0]
[null,"",null,"","","","","","","","","","","","","",null,null,null,null,{"$f":"IFERROR(SUM(#REF!,#REF!,#REF!)/(COUNTIF(#REF!,\">0\")+COUNTIF(#REF!,\">0\")+COUNTIF(#REF!,\">0\")),0)","v":0},{"$f":"IFERROR(SUM(#REF!,#REF!,#REF!)/(COUNTIF(#REF!,\">0\")+COUNTIF(#REF!,\">0\")+COUNTIF(#REF!,\">0\")),0)","v":0},{"$f":"IFERROR(SUM(#REF!,#REF!,#REF!)/(COUNTIF(#REF!,\">0\")+COUNTIF(#REF!,\">0\")+COUNTIF(#REF!,\">0\")),0)","v":0},{"$f":"IFERROR(SUM(#REF!,#REF!,#REF!)/(COUNTIF(#REF!,\">0\")+COUNTIF(#REF!,\">0\")+COUNTIF(#REF!,\">0\")),0)","v":0},{"$f":"IFERROR(SUM(#REF!,#REF!,#REF!)/(COUNTIF(#REF!,\">0\")+COUNTIF(#REF!,\">0\")+COUNTIF(#REF!,\">0\")),0)","v":0},0]
[null,"",null,"","","","","","","","","","","","","",null,null,null,null,{"$f":"IFERROR(SUM(#REF!,#REF!,#REF!)/(COUNTIF(#REF!,\">0\")+COUNTIF(#REF!,\">0\")+COUNTIF(#REF!,\">0\")),0)","v":0},{"$f":"IFERROR(SUM(#REF!,#REF!,#REF!)/(COUNTIF(#REF!,\">0\")+COUNTIF(#REF!,\">0\")+COUNTIF(#REF!,\">0\")),0)","v":0},{"$f":"IFERROR(SUM(#REF!,#REF!,#REF!)/(COUNTIF(#REF!,\">0\")+COUNTIF(#REF!,\">0\")+COUNTIF(#REF!,\">0\")),0)","v":0},{"$f":"IFERROR(SUM(#REF!,#REF!,#REF!)/(COUNTIF(#REF!,\">0\")+COUNTIF(#REF!,\">0\")+COUNTIF(#REF!,\">0\")),0)","v":0},{"$f":"IFERROR(SUM(#REF!,#REF!,#REF!)/(COUNTIF(#REF!,\">0\")+COUNTIF(#REF!,\">0\")+COUNTIF(#REF!,\">0\")),0)","v":0},0]
[null,"",null,"","","","","","","","","","","","","",null,null,null,null,{"$f":"IFERROR(SUM(#REF!,#REF!,#REF!)/(COUNTIF(#REF!,\">0\")+COUNTIF(#REF!,\">0\")+COUNTIF(#REF!,\">0\")),0)","v":0},{"$f":"IFERROR(SUM(#REF!,#REF!,#REF!)/(COUNTIF(#REF!,\">0\")+COUNTIF(#REF!,\">0\")+COUNTIF(#REF!,\">0\")),0)","v":0},{"$f":"IFERROR(SUM(#REF!,#REF!,#REF!)/(COUNTIF(#REF!,\">0\")+COUNTIF(#REF!,\">0\")+COUNTIF(#REF!,\">0\")),0)","v":0},{"$f":"IFERROR(SUM(#REF!,#REF!,#REF!)/(COUNTIF(#REF!,\">0\")+COUNTIF(#REF!,\">0\")+COUNTIF(#REF!,\">0\")),0)","v":0},{"$f":"IFERROR(SUM(#REF!,#REF!,#REF!)/(COUNTIF(#REF!,\">0\")+COUNTIF(#REF!,\">0\")+COUNTIF(#REF!,\">0\")),0)","v":0},0]
[null,"",null,"","","","","","","","","","","","","",null,null,null,null,{"$f":"IFERROR(SUM(#REF!,#REF!,#REF!)/(COUNTIF(#REF!,\">0\")+COUNTIF(#REF!,\">0\")+COUNTIF(#REF!,\">0\")),0)","v":0},{"$f":"IFERROR(SUM(#REF!,#REF!,#REF!)/(COUNTIF(#REF!,\">0\")+COUNTIF(#REF!,\">0\")+COUNTIF(#REF!,\">0\")),0)","v":0},{"$f":"IFERROR(SUM(#REF!,#REF!,#REF!)/(COUNTIF(#REF!,\">0\")+COUNTIF(#REF!,\">0\")+COUNTIF(#REF!,\">0\")),0)","v":0},{"$f":"IFERROR(SUM(#REF!,#REF!,#REF!)/(COUNTIF(#REF!,\">0\")+COUNTIF(#REF!,\">0\")+COUNTIF(#REF!,\">0\")),0)","v":0},{"$f":"IFERROR(SUM(#REF!,#REF!,#REF!)/(COUNTIF(#REF!,\">0\")+COUNTIF(#REF!,\">0\")+COUNTIF(#REF!,\">0\")),0)","v":0},0]
[null,"",null,"","","","","","","","","","","","","",null,null,null,null,{"$f":"IFERROR(SUM(#REF!,#REF!,#REF!)/(COUNTIF(#REF!,\">0\")+COUNTIF(#REF!,\">0\")+COUNTIF(#REF!,\">0\")),0)","v":0},{"$f":"IFERROR(SUM(#REF!,#REF!,#REF!)/(COUNTIF(#REF!,\">0\")+COUNTIF(#REF!,\">0\")+COUNTIF(#REF!,\">0\")),0)","v":0},{"$f":"IFERROR(SUM(#REF!,#REF!,#REF!)/(COUNTIF(#REF!,\">0\")+COUNTIF(#REF!,\">0\")+COUNTIF(#REF!,\">0\")),0)","v":0},{"$f":"IFERROR(SUM(#REF!,#REF!,#REF!)/(COUNTIF(#REF!,\">0\")+COUNTIF(#REF!,\">0\")+COUNTIF(#REF!,\">0\")),0)","v":0},{"$f":"IFERROR(SUM(#REF!,#REF!,#REF!)/(COUNTIF(#REF!,\">0\")+COUNTIF(#REF!,\">0\")+COUNTIF(#REF!,\">0\")),0)","v":0},0]
[null,"",null,"","","","","","","","","","","","","",null,null,null,null,{"$f":"IFERROR(SUM(#REF!,#REF!,#REF!)/(COUNTIF(#REF!,\">0\")+COUNTIF(#REF!,\">0\")+COUNTIF(#REF!,\">0\")),0)","v":0},{"$f":"IFERROR(SUM(#REF!,#REF!,#REF!)/(COUNTIF(#REF!,\">0\")+COUNTIF(#REF!,\">0\")+COUNTIF(#REF!,\">0\")),0)","v":0},{"$f":"IFERROR(SUM(#REF!,#REF!,#REF!)/(COUNTIF(#REF!,\">0\")+COUNTIF(#REF!,\">0\")+COUNTIF(#REF!,\">0\")),0)","v":0},{"$f":"IFERROR(SUM(#REF!,#REF!,#REF!)/(COUNTIF(#REF!,\">0\")+COUNTIF(#REF!,\">0\")+COUNTIF(#REF!,\">0\")),0)","v":0},{"$f":"IFERROR(SUM(#REF!,#REF!,#REF!)/(COUNTIF(#REF!,\">0\")+COUNTIF(#REF!,\">0\")+COUNTIF(#REF!,\">0\")),0)","v":0},0]
[null,"",null,"",{"$f":"IFERROR(IF(GE38=35,GE38, (IF(FW38=\"\",\"\",IF($T$13=0.15,(FW38*0.8+$GC38*0.15+$GD38*0.05))))),0)","v":""},"","","","","","","","","","","",null,null,null,null,{"$f":"IFERROR(SUM(#REF!,#REF!,#REF!)/(COUNTIF(#REF!,\">0\")+COUNTIF(#REF!,\">0\")+COUNTIF(#REF!,\">0\")),0)","v":0},{"$f":"IFERROR(SUM(#REF!,#REF!,#REF!)/(COUNTIF(#REF!,\">0\")+COUNTIF(#REF!,\">0\")+COUNTIF(#REF!,\">0\")),0)","v":0},{"$f":"IFERROR(SUM(#REF!,#REF!,#REF!)/(COUNTIF(#REF!,\">0\")+COUNTIF(#REF!,\">0\")+COUNTIF(#REF!,\">0\")),0)","v":0},{"$f":"IFERROR(SUM(#REF!,#REF!,#REF!)/(COUNTIF(#REF!,\">0\")+COUNTIF(#REF!,\">0\")+COUNTIF(#REF!,\">0\")),0)","v":0},{"$f":"IFERROR(SUM(#REF!,#REF!,#REF!)/(COUNTIF(#REF!,\">0\")+COUNTIF(#REF!,\">0\")+COUNTIF(#REF!,\">0\")),0)","v":0},0]
[null,"",null,"","","","","","","","","","","","","",null,null,null,null,{"$f":"IFERROR(SUM(#REF!,#REF!,#REF!)/(COUNTIF(#REF!,\">0\")+COUNTIF(#REF!,\">0\")+COUNTIF(#REF!,\">0\")),0)","v":0},{"$f":"IFERROR(SUM(#REF!,#REF!,#REF!)/(COUNTIF(#REF!,\">0\")+COUNTIF(#REF!,\">0\")+COUNTIF(#REF!,\">0\")),0)","v":0},{"$f":"IFERROR(SUM(#REF!,#REF!,#REF!)/(COUNTIF(#REF!,\">0\")+COUNTIF(#REF!,\">0\")+COUNTIF(#REF!,\">0\")),0)","v":0},{"$f":"IFERROR(SUM(#REF!,#REF!,#REF!)/(COUNTIF(#REF!,\">0\")+COUNTIF(#REF!,\">0\")+COUNTIF(#REF!,\">0\")),0)","v":0},{"$f":"IFERROR(SUM(#REF!,#REF!,#REF!)/(COUNTIF(#REF!,\">0\")+COUNTIF(#REF!,\">0\")+COUNTIF(#REF!,\">0\")),0)","v":0},0]
[null,"",null,"","","","","","","","","","","","","",null,null,null,null,{"$f":"IFERROR(SUM(#REF!,#REF!,#REF!)/(COUNTIF(#REF!,\">0\")+COUNTIF(#REF!,\">0\")+COUNTIF(#REF!,\">0\")),0)","v":0},{"$f":"IFERROR(SUM(#REF!,#REF!,#REF!)/(COUNTIF(#REF!,\">0\")+COUNTIF(#REF!,\">0\")+COUNTIF(#REF!,\">0\")),0)","v":0},{"$f":"IFERROR(SUM(#REF!,#REF!,#REF!)/(COUNTIF(#REF!,\">0\")+COUNTIF(#REF!,\">0\")+COUNTIF(#REF!,\">0\")),0)","v":0},{"$f":"IFERROR(SUM(#REF!,#REF!,#REF!)/(COUNTIF(#REF!,\">0\")+COUNTIF(#REF!,\">0\")+COUNTIF(#REF!,\">0\")),0)","v":0},{"$f":"IFERROR(SUM(#REF!,#REF!,#REF!)/(COUNTIF(#REF!,\">0\")+COUNTIF(#REF!,\">0\")+COUNTIF(#REF!,\">0\")),0)","v":0},0]
[null,"",null,"","","","","","","","","","","","","",null,null,null,null,{"$f":"IFERROR(SUM(#REF!,#REF!,#REF!)/(COUNTIF(#REF!,\">0\")+COUNTIF(#REF!,\">0\")+COUNTIF(#REF!,\">0\")),0)","v":0},{"$f":"IFERROR(SUM(#REF!,#REF!,#REF!)/(COUNTIF(#REF!,\">0\")+COUNTIF(#REF!,\">0\")+COUNTIF(#REF!,\">0\")),0)","v":0},{"$f":"IFERROR(SUM(#REF!,#REF!,#REF!)/(COUNTIF(#REF!,\">0\")+COUNTIF(#REF!,\">0\")+COUNTIF(#REF!,\">0\")),0)","v":0},{"$f":"IFERROR(SUM(#REF!,#REF!,#REF!)/(COUNTIF(#REF!,\">0\")+COUNTIF(#REF!,\">0\")+COUNTIF(#REF!,\">0\")),0)","v":0},{"$f":"IFERROR(SUM(#REF!,#REF!,#REF!)/(COUNTIF(#REF!,\">0\")+COUNTIF(#REF!,\">0\")+COUNTIF(#REF!,\">0\")),0)","v":0},0]
[null,"",null,"","","","","","","","","","","","","",null,null,null,null,{"$f":"IFERROR(SUM(#REF!,#REF!,#REF!)/(COUNTIF(#REF!,\">0\")+COUNTIF(#REF!,\">0\")+COUNTIF(#REF!,\">0\")),0)","v":0},{"$f":"IFERROR(SUM(#REF!,#REF!,#REF!)/(COUNTIF(#REF!,\">0\")+COUNTIF(#REF!,\">0\")+COUNTIF(#REF!,\">0\")),0)","v":0},{"$f":"IFERROR(SUM(#REF!,#REF!,#REF!)/(COUNTIF(#REF!,\">0\")+COUNTIF(#REF!,\">0\")+COUNTIF(#REF!,\">0\")),0)","v":0},{"$f":"IFERROR(SUM(#REF!,#REF!,#REF!)/(COUNTIF(#REF!,\">0\")+COUNTIF(#REF!,\">0\")+COUNTIF(#REF!,\">0\")),0)","v":0},{"$f":"IFERROR(SUM(#REF!,#REF!,#REF!)/(COUNTIF(#REF!,\">0\")+COUNTIF(#REF!,\">0\")+COUNTIF(#REF!,\">0\")),0)","v":0},0]
[null,"",null,"","","","","","","","","","","","","",null,null,null,null,{"$f":"IFERROR(SUM(#REF!,#REF!,#REF!)/(COUNTIF(#REF!,\">0\")+COUNTIF(#REF!,\">0\")+COUNTIF(#REF!,\">0\")),0)","v":0},{"$f":"IFERROR(SUM(#REF!,#REF!,#REF!)/(COUNTIF(#REF!,\">0\")+COUNTIF(#REF!,\">0\")+COUNTIF(#REF!,\">0\")),0)","v":0},{"$f":"IFERROR(SUM(#REF!,#REF!,#REF!)/(COUNTIF(#REF!,\">0\")+COUNTIF(#REF!,\">0\")+COUNTIF(#REF!,\">0\")),0)","v":0},{"$f":"IFERROR(SUM(#REF!,#REF!,#REF!)/(COUNTIF(#REF!,\">0\")+COUNTIF(#REF!,\">0\")+COUNTIF(#REF!,\">0\")),0)","v":0},{"$f":"IFERROR(SUM(#REF!,#REF!,#REF!)/(COUNTIF(#REF!,\">0\")+COUNTIF(#REF!,\">0\")+COUNTIF(#REF!,\">0\")),0)","v":0},0]
[null,"",null,"","","","","","","","","","","","","",null,null,null,null,{"$f":"IFERROR(SUM(#REF!,#REF!,#REF!)/(COUNTIF(#REF!,\">0\")+COUNTIF(#REF!,\">0\")+COUNTIF(#REF!,\">0\")),0)","v":0},{"$f":"IFERROR(SUM(#REF!,#REF!,#REF!)/(COUNTIF(#REF!,\">0\")+COUNTIF(#REF!,\">0\")+COUNTIF(#REF!,\">0\")),0)","v":0},{"$f":"IFERROR(SUM(#REF!,#REF!,#REF!)/(COUNTIF(#REF!,\">0\")+COUNTIF(#REF!,\">0\")+COUNTIF(#REF!,\">0\")),0)","v":0},{"$f":"IFERROR(SUM(#REF!,#REF!,#REF!)/(COUNTIF(#REF!,\">0\")+COUNTIF(#REF!,\">0\")+COUNTIF(#REF!,\">0\")),0)","v":0},{"$f":"IFERROR(SUM(#REF!,#REF!,#REF!)/(COUNTIF(#REF!,\">0\")+COUNTIF(#REF!,\">0\")+COUNTIF(#REF!,\">0\")),0)","v":0},0]
[null,"",null,"","","","","","","","","","","","","",null,null,null,null,{"$f":"IFERROR(SUM(#REF!,#REF!,#REF!)/(COUNTIF(#REF!,\">0\")+COUNTIF(#REF!,\">0\")+COUNTIF(#REF!,\">0\")),0)","v":0},{"$f":"IFERROR(SUM(#REF!,#REF!,#REF!)/(COUNTIF(#REF!,\">0\")+COUNTIF(#REF!,\">0\")+COUNTIF(#REF!,\">0\")),0)","v":0},{"$f":"IFERROR(SUM(#REF!,#REF!,#REF!)/(COUNTIF(#REF!,\">0\")+COUNTIF(#REF!,\">0\")+COUNTIF(#REF!,\">0\")),0)","v":0},{"$f":"IFERROR(SUM(#REF!,#REF!,#REF!)/(COUNTIF(#REF!,\">0\")+COUNTIF(#REF!,\">0\")+COUNTIF(#REF!,\">0\")),0)","v":0},{"$f":"IFERROR(SUM(#REF!,#REF!,#REF!)/(COUNTIF(#REF!,\">0\")+COUNTIF(#REF!,\">0\")+COUNTIF(#REF!,\">0\")),0)","v":0},0]
[null,"",null,"","","","","","","","","","","","","",null,null,null,null,{"$f":"IFERROR(SUM(#REF!,#REF!,#REF!)/(COUNTIF(#REF!,\">0\")+COUNTIF(#REF!,\">0\")+COUNTIF(#REF!,\">0\")),0)","v":0},{"$f":"IFERROR(SUM(#REF!,#REF!,#REF!)/(COUNTIF(#REF!,\">0\")+COUNTIF(#REF!,\">0\")+COUNTIF(#REF!,\">0\")),0)","v":0},{"$f":"IFERROR(SUM(#REF!,#REF!,#REF!)/(COUNTIF(#REF!,\">0\")+COUNTIF(#REF!,\">0\")+COUNTIF(#REF!,\">0\")),0)","v":0},{"$f":"IFERROR(SUM(#REF!,#REF!,#REF!)/(COUNTIF(#REF!,\">0\")+COUNTIF(#REF!,\">0\")+COUNTIF(#REF!,\">0\")),0)","v":0},{"$f":"IFERROR(SUM(#REF!,#REF!,#REF!)/(COUNTIF(#REF!,\">0\")+COUNTIF(#REF!,\">0\")+COUNTIF(#REF!,\">0\")),0)","v":0},0]
[null,"",null,"","","","","","","","","","","","","",null,null,null,null,{"$f":"IFERROR(SUM(#REF!,#REF!,#REF!)/(COUNTIF(#REF!,\">0\")+COUNTIF(#REF!,\">0\")+COUNTIF(#REF!,\">0\")),0)","v":0},{"$f":"IFERROR(SUM(#REF!,#REF!,#REF!)/(COUNTIF(#REF!,\">0\")+COUNTIF(#REF!,\">0\")+COUNTIF(#REF!,\">0\")),0)","v":0},{"$f":"IFERROR(SUM(#REF!,#REF!,#REF!)/(COUNTIF(#REF!,\">0\")+COUNTIF(#REF!,\">0\")+COUNTIF(#REF!,\">0\")),0)","v":0},{"$f":"IFERROR(SUM(#REF!,#REF!,#REF!)/(COUNTIF(#REF!,\">0\")+COUNTIF(#REF!,\">0\")+COUNTIF(#REF!,\">0\")),0)","v":0},{"$f":"IFERROR(SUM(#REF!,#REF!,#REF!)/(COUNTIF(#REF!,\">0\")+COUNTIF(#REF!,\">0\")+COUNTIF(#REF!,\">0\")),0)","v":0},0]
[null,"",null,"","","","","","","","","","","","","",null,null,null,null,{"$f":"IFERROR(SUM(#REF!,#REF!,#REF!)/(COUNTIF(#REF!,\">0\")+COUNTIF(#REF!,\">0\")+COUNTIF(#REF!,\">0\")),0)","v":0},{"$f":"IFERROR(SUM(#REF!,#REF!,#REF!)/(COUNTIF(#REF!,\">0\")+COUNTIF(#REF!,\">0\")+COUNTIF(#REF!,\">0\")),0)","v":0},{"$f":"IFERROR(SUM(#REF!,#REF!,#REF!)/(COUNTIF(#REF!,\">0\")+COUNTIF(#REF!,\">0\")+COUNTIF(#REF!,\">0\")),0)","v":0},{"$f":"IFERROR(SUM(#REF!,#REF!,#REF!)/(COUNTIF(#REF!,\">0\")+COUNTIF(#REF!,\">0\")+COUNTIF(#REF!,\">0\")),0)","v":0},{"$f":"IFERROR(SUM(#REF!,#REF!,#REF!)/(COUNTIF(#REF!,\">0\")+COUNTIF(#REF!,\">0\")+COUNTIF(#REF!,\">0\")),0)","v":0},0]
[null,"",null,"","","","","","","","","","","","","",null,null,null,null,{"$f":"IFERROR(SUM(#REF!,#REF!,#REF!)/(COUNTIF(#REF!,\">0\")+COUNTIF(#REF!,\">0\")+COUNTIF(#REF!,\">0\")),0)","v":0},{"$f":"IFERROR(SUM(#REF!,#REF!,#REF!)/(COUNTIF(#REF!,\">0\")+COUNTIF(#REF!,\">0\")+COUNTIF(#REF!,\">0\")),0)","v":0},{"$f":"IFERROR(SUM(#REF!,#REF!,#REF!)/(COUNTIF(#REF!,\">0\")+COUNTIF(#REF!,\">0\")+COUNTIF(#REF!,\">0\")),0)","v":0},{"$f":"IFERROR(SUM(#REF!,#REF!,#REF!)/(COUNTIF(#REF!,\">0\")+COUNTIF(#REF!,\">0\")+COUNTIF(#REF!,\">0\")),0)","v":0},{"$f":"IFERROR(SUM(#REF!,#REF!,#REF!)/(COUNTIF(#REF!,\">0\")+COUNTIF(#REF!,\">0\")+COUNTIF(#REF!,\">0\")),0)","v":0},0]
[null,"",null,"","","","","","","","","","","","","",null,null,null,null,{"$f":"IFERROR(SUM(#REF!,#REF!,#REF!)/(COUNTIF(#REF!,\">0\")+COUNTIF(#REF!,\">0\")+COUNTIF(#REF!,\">0\")),0)","v":0},{"$f":"IFERROR(SUM(#REF!,#REF!,#REF!)/(COUNTIF(#REF!,\">0\")+COUNTIF(#REF!,\">0\")+COUNTIF(#REF!,\">0\")),0)","v":0},{"$f":"IFERROR(SUM(#REF!,#REF!,#REF!)/(COUNTIF(#REF!,\">0\")+COUNTIF(#REF!,\">0\")+COUNTIF(#REF!,\">0\")),0)","v":0},{"$f":"IFERROR(SUM(#REF!,#REF!,#REF!)/(COUNTIF(#REF!,\">0\")+COUNTIF(#REF!,\">0\")+COUNTIF(#REF!,\">0\")),0)","v":0},{"$f":"IFERROR(SUM(#REF!,#REF!,#REF!)/(COUNTIF(#REF!,\">0\")+COUNTIF(#REF!,\">0\")+COUNTIF(#REF!,\">0\")),0)","v":0},0]
[null,"",null,"","","","","","","","","","","","","",null,null,null,null,{"$f":"IFERROR(SUM(#REF!,#REF!,#REF!)/(COUNTIF(#REF!,\">0\")+COUNTIF(#REF!,\">0\")+COUNTIF(#REF!,\">0\")),0)","v":0},{"$f":"IFERROR(SUM(#REF!,#REF!,#REF!)/(COUNTIF(#REF!,\">0\")+COUNTIF(#REF!,\">0\")+COUNTIF(#REF!,\">0\")),0)","v":0},{"$f":"IFERROR(SUM(#REF!,#REF!,#REF!)/(COUNTIF(#REF!,\">0\")+COUNTIF(#REF!,\">0\")+COUNTIF(#REF!,\">0\")),0)","v":0},{"$f":"IFERROR(SUM(#REF!,#REF!,#REF!)/(COUNTIF(#REF!,\">0\")+COUNTIF(#REF!,\">0\")+COUNTIF(#REF!,\">0\")),0)","v":0},{"$f":"IFERROR(SUM(#REF!,#REF!,#REF!)/(COUNTIF(#REF!,\">0\")+COUNTIF(#REF!,\">0\")+COUNTIF(#REF!,\">0\")),0)","v":0},0]
[null,"",null,"","","","","","","","","","","","","",null,null,null,null,{"$f":"IFERROR(SUM(#REF!,#REF!,#REF!)/(COUNTIF(#REF!,\">0\")+COUNTIF(#REF!,\">0\")+COUNTIF(#REF!,\">0\")),0)","v":0},{"$f":"IFERROR(SUM(#REF!,#REF!,#REF!)/(COUNTIF(#REF!,\">0\")+COUNTIF(#REF!,\">0\")+COUNTIF(#REF!,\">0\")),0)","v":0},{"$f":"IFERROR(SUM(#REF!,#REF!,#REF!)/(COUNTIF(#REF!,\">0\")+COUNTIF(#REF!,\">0\")+COUNTIF(#REF!,\">0\")),0)","v":0},{"$f":"IFERROR(SUM(#REF!,#REF!,#REF!)/(COUNTIF(#REF!,\">0\")+COUNTIF(#REF!,\">0\")+COUNTIF(#REF!,\">0\")),0)","v":0},{"$f":"IFERROR(SUM(#REF!,#REF!,#REF!)/(COUNTIF(#REF!,\">0\")+COUNTIF(#REF!,\">0\")+COUNTIF(#REF!,\">0\")),0)","v":0},0]
[null,"",null,"","","","","","","","","","","","","",null,null,null,null,{"$f":"IFERROR(SUM(#REF!,#REF!,#REF!)/(COUNTIF(#REF!,\">0\")+COUNTIF(#REF!,\">0\")+COUNTIF(#REF!,\">0\")),0)","v":0},{"$f":"IFERROR(SUM(#REF!,#REF!,#REF!)/(COUNTIF(#REF!,\">0\")+COUNTIF(#REF!,\">0\")+COUNTIF(#REF!,\">0\")),0)","v":0},{"$f":"IFERROR(SUM(#REF!,#REF!,#REF!)/(COUNTIF(#REF!,\">0\")+COUNTIF(#REF!,\">0\")+COUNTIF(#REF!,\">0\")),0)","v":0},{"$f":"IFERROR(SUM(#REF!,#REF!,#REF!)/(COUNTIF(#REF!,\">0\")+COUNTIF(#REF!,\">0\")+COUNTIF(#REF!,\">0\")),0)","v":0},{"$f":"IFERROR(SUM(#REF!,#REF!,#REF!)/(COUNTIF(#REF!,\">0\")+COUNTIF(#REF!,\">0\")+COUNTIF(#REF!,\">0\")),0)","v":0},0]
[null,"",null,"",{"$f":"IFERROR(IF(GE54=35,GE54, (IF(FW54=\"\",\"\",IF($T$13=0.15,(FW54*0.8+$GC54*0.15+$GD54*0.05))))),0)","v":""},"","","","","","","","","","","",null,null,null,null,{"$f":"IFERROR(SUM(#REF!,#REF!,#REF!)/(COUNTIF(#REF!,\">0\")+COUNTIF(#REF!,\">0\")+COUNTIF(#REF!,\">0\")),0)","v":0},{"$f":"IFERROR(SUM(#REF!,#REF!,#REF!)/(COUNTIF(#REF!,\">0\")+COUNTIF(#REF!,\">0\")+COUNTIF(#REF!,\">0\")),0)","v":0},{"$f":"IFERROR(SUM(#REF!,#REF!,#REF!)/(COUNTIF(#REF!,\">0\")+COUNTIF(#REF!,\">0\")+COUNTIF(#REF!,\">0\")),0)","v":0},{"$f":"IFERROR(SUM(#REF!,#REF!,#REF!)/(COUNTIF(#REF!,\">0\")+COUNTIF(#REF!,\">0\")+COUNTIF(#REF!,\">0\")),0)","v":0},{"$f":"IFERROR(SUM(#REF!,#REF!,#REF!)/(COUNTIF(#REF!,\">0\")+COUNTIF(#REF!,\">0\")+COUNTIF(#REF!,\">0\")),0)","v":0},0]
[null,"",null,"","","","","","","","","","","","","",null,null,null,null,{"$f":"IFERROR(SUM(#REF!,#REF!,#REF!)/(COUNTIF(#REF!,\">0\")+COUNTIF(#REF!,\">0\")+COUNTIF(#REF!,\">0\")),0)","v":0},{"$f":"IFERROR(SUM(#REF!,#REF!,#REF!)/(COUNTIF(#REF!,\">0\")+COUNTIF(#REF!,\">0\")+COUNTIF(#REF!,\">0\")),0)","v":0},{"$f":"IFERROR(SUM(#REF!,#REF!,#REF!)/(COUNTIF(#REF!,\">0\")+COUNTIF(#REF!,\">0\")+COUNTIF(#REF!,\">0\")),0)","v":0},{"$f":"IFERROR(SUM(#REF!,#REF!,#REF!)/(COUNTIF(#REF!,\">0\")+COUNTIF(#REF!,\">0\")+COUNTIF(#REF!,\">0\")),0)","v":0},{"$f":"IFERROR(SUM(#REF!,#REF!,#REF!)/(COUNTIF(#REF!,\">0\")+COUNTIF(#REF!,\">0\")+COUNTIF(#REF!,\">0\")),0)","v":0},0]
[null,"",null,"","","","","","","","","","","","","",null,null,null,null,{"$f":"IFERROR(SUM(#REF!,#REF!,#REF!)/(COUNTIF(#REF!,\">0\")+COUNTIF(#REF!,\">0\")+COUNTIF(#REF!,\">0\")),0)","v":0},{"$f":"IFERROR(SUM(#REF!,#REF!,#REF!)/(COUNTIF(#REF!,\">0\")+COUNTIF(#REF!,\">0\")+COUNTIF(#REF!,\">0\")),0)","v":0},{"$f":"IFERROR(SUM(#REF!,#REF!,#REF!)/(COUNTIF(#REF!,\">0\")+COUNTIF(#REF!,\">0\")+COUNTIF(#REF!,\">0\")),0)","v":0},{"$f":"IFERROR(SUM(#REF!,#REF!,#REF!)/(COUNTIF(#REF!,\">0\")+COUNTIF(#REF!,\">0\")+COUNTIF(#REF!,\">0\")),0)","v":0},{"$f":"IFERROR(SUM(#REF!,#REF!,#REF!)/(COUNTIF(#REF!,\">0\")+COUNTIF(#REF!,\">0\")+COUNTIF(#REF!,\">0\")),0)","v":0},0]
[null,"",null,"","","","","","","","","","","","","",null,null,null,null,{"$f":"IFERROR(SUM(#REF!,#REF!,#REF!)/(COUNTIF(#REF!,\">0\")+COUNTIF(#REF!,\">0\")+COUNTIF(#REF!,\">0\")),0)","v":0},{"$f":"IFERROR(SUM(#REF!,#REF!,#REF!)/(COUNTIF(#REF!,\">0\")+COUNTIF(#REF!,\">0\")+COUNTIF(#REF!,\">0\")),0)","v":0},{"$f":"IFERROR(SUM(#REF!,#REF!,#REF!)/(COUNTIF(#REF!,\">0\")+COUNTIF(#REF!,\">0\")+COUNTIF(#REF!,\">0\")),0)","v":0},{"$f":"IFERROR(SUM(#REF!,#REF!,#REF!)/(COUNTIF(#REF!,\">0\")+COUNTIF(#REF!,\">0\")+COUNTIF(#REF!,\">0\")),0)","v":0},{"$f":"IFERROR(SUM(#REF!,#REF!,#REF!)/(COUNTIF(#REF!,\">0\")+COUNTIF(#REF!,\">0\")+COUNTIF(#REF!,\">0\")),0)","v":0},0]
[null,"",null,"","","","","","","","","","","","","",null,null,null,null,{"$f":"IFERROR(SUM(#REF!,#REF!,#REF!)/(COUNTIF(#REF!,\">0\")+COUNTIF(#REF!,\">0\")+COUNTIF(#REF!,\">0\")),0)","v":0},{"$f":"IFERROR(SUM(#REF!,#REF!,#REF!)/(COUNTIF(#REF!,\">0\")+COUNTIF(#REF!,\">0\")+COUNTIF(#REF!,\">0\")),0)","v":0},{"$f":"IFERROR(SUM(#REF!,#REF!,#REF!)/(COUNTIF(#REF!,\">0\")+COUNTIF(#REF!,\">0\")+COUNTIF(#REF!,\">0\")),0)","v":0},{"$f":"IFERROR(SUM(#REF!,#REF!,#REF!)/(COUNTIF(#REF!,\">0\")+COUNTIF(#REF!,\">0\")+COUNTIF(#REF!,\">0\")),0)","v":0},{"$f":"IFERROR(SUM(#REF!,#REF!,#REF!)/(COUNTIF(#REF!,\">0\")+COUNTIF(#REF!,\">0\")+COUNTIF(#REF!,\">0\")),0)","v":0},0]
[null,"",null,"","","","","","","","","","","","","",null,null,null,null,{"$f":"IFERROR(SUM(#REF!,#REF!,#REF!)/(COUNTIF(#REF!,\">0\")+COUNTIF(#REF!,\">0\")+COUNTIF(#REF!,\">0\")),0)","v":0},{"$f":"IFERROR(SUM(#REF!,#REF!,#REF!)/(COUNTIF(#REF!,\">0\")+COUNTIF(#REF!,\">0\")+COUNTIF(#REF!,\">0\")),0)","v":0},{"$f":"IFERROR(SUM(#REF!,#REF!,#REF!)/(COUNTIF(#REF!,\">0\")+COUNTIF(#REF!,\">0\")+COUNTIF(#REF!,\">0\")),0)","v":0},{"$f":"IFERROR(SUM(#REF!,#REF!,#REF!)/(COUNTIF(#REF!,\">0\")+COUNTIF(#REF!,\">0\")+COUNTIF(#REF!,\">0\")),0)","v":0},{"$f":"IFERROR(SUM(#REF!,#REF!,#REF!)/(COUNTIF(#REF!,\">0\")+COUNTIF(#REF!,\">0\")+COUNTIF(#REF!,\">0\")),0)","v":0},0]
[null,"",null,"","","","","","","","","","","","","",null,null,null,null,{"$f":"IFERROR(SUM(#REF!,#REF!,#REF!)/(COUNTIF(#REF!,\">0\")+COUNTIF(#REF!,\">0\")+COUNTIF(#REF!,\">0\")),0)","v":0},{"$f":"IFERROR(SUM(#REF!,#REF!,#REF!)/(COUNTIF(#REF!,\">0\")+COUNTIF(#REF!,\">0\")+COUNTIF(#REF!,\">0\")),0)","v":0},{"$f":"IFERROR(SUM(#REF!,#REF!,#REF!)/(COUNTIF(#REF!,\">0\")+COUNTIF(#REF!,\">0\")+COUNTIF(#REF!,\">0\")),0)","v":0},{"$f":"IFERROR(SUM(#REF!,#REF!,#REF!)/(COUNTIF(#REF!,\">0\")+COUNTIF(#REF!,\">0\")+COUNTIF(#REF!,\">0\")),0)","v":0},{"$f":"IFERROR(SUM(#REF!,#REF!,#REF!)/(COUNTIF(#REF!,\">0\")+COUNTIF(#REF!,\">0\")+COUNTIF(#REF!,\">0\")),0)","v":0},0]
[null,"",null,"","","","","","","","","","","","","",null,null,null,null,{"$f":"IFERROR(SUM(#REF!,#REF!,#REF!)/(COUNTIF(#REF!,\">0\")+COUNTIF(#REF!,\">0\")+COUNTIF(#REF!,\">0\")),0)","v":0},{"$f":"IFERROR(SUM(#REF!,#REF!,#REF!)/(COUNTIF(#REF!,\">0\")+COUNTIF(#REF!,\">0\")+COUNTIF(#REF!,\">0\")),0)","v":0},{"$f":"IFERROR(SUM(#REF!,#REF!,#REF!)/(COUNTIF(#REF!,\">0\")+COUNTIF(#REF!,\">0\")+COUNTIF(#REF!,\">0\")),0)","v":0},{"$f":"IFERROR(SUM(#REF!,#REF!,#REF!)/(COUNTIF(#REF!,\">0\")+COUNTIF(#REF!,\">0\")+COUNTIF(#REF!,\">0\")),0)","v":0},{"$f":"IFERROR(SUM(#REF!,#REF!,#REF!)/(COUNTIF(#REF!,\">0\")+COUNTIF(#REF!,\">0\")+COUNTIF(#REF!,\">0\")),0)","v":0},0]
[null,"",null,"","","","","","","","","","","","","",null,null,null,null,{"$f":"IFERROR(SUM(#REF!,#REF!,#REF!)/(COUNTIF(#REF!,\">0\")+COUNTIF(#REF!,\">0\")+COUNTIF(#REF!,\">0\")),0)","v":0},{"$f":"IFERROR(SUM(#REF!,#REF!,#REF!)/(COUNTIF(#REF!,\">0\")+COUNTIF(#REF!,\">0\")+COUNTIF(#REF!,\">0\")),0)","v":0},{"$f":"IFERROR(SUM(#REF!,#REF!,#REF!)/(COUNTIF(#REF!,\">0\")+COUNTIF(#REF!,\">0\")+COUNTIF(#REF!,\">0\")),0)","v":0},{"$f":"IFERROR(SUM(#REF!,#REF!,#REF!)/(COUNTIF(#REF!,\">0\")+COUNTIF(#REF!,\">0\")+COUNTIF(#REF!,\">0\")),0)","v":0},{"$f":"IFERROR(SUM(#REF!,#REF!,#REF!)/(COUNTIF(#REF!,\">0\")+COUNTIF(#REF!,\">0\")+COUNTIF(#REF!,\">0\")),0)","v":0},0]
[null,"",null,"","","","","","","","","","","","","",null,null,null,null,{"$f":"IFERROR(SUM(#REF!,#REF!,#REF!)/(COUNTIF(#REF!,\">0\")+COUNTIF(#REF!,\">0\")+COUNTIF(#REF!,\">0\")),0)","v":0},{"$f":"IFERROR(SUM(#REF!,#REF!,#REF!)/(COUNTIF(#REF!,\">0\")+COUNTIF(#REF!,\">0\")+COUNTIF(#REF!,\">0\")),0)","v":0},{"$f":"IFERROR(SUM(#REF!,#REF!,#REF!)/(COUNTIF(#REF!,\">0\")+COUNTIF(#REF!,\">0\")+COUNTIF(#REF!,\">0\")),0)","v":0},{"$f":"IFERROR(SUM(#REF!,#REF!,#REF!)/(COUNTIF(#REF!,\">0\")+COUNTIF(#REF!,\">0\")+COUNTIF(#REF!,\">0\")),0)","v":0},{"$f":"IFERROR(SUM(#REF!,#REF!,#REF!)/(COUNTIF(#REF!,\">0\")+COUNTIF(#REF!,\">0\")+COUNTIF(#REF!,\">0\")),0)","v":0},0]
[null,"",null,"","","","","","","","","","","","","",null,null,null,null,{"$f":"IFERROR(SUM(#REF!,#REF!,#REF!)/(COUNTIF(#REF!,\">0\")+COUNTIF(#REF!,\">0\")+COUNTIF(#REF!,\">0\")),0)","v":0},{"$f":"IFERROR(SUM(#REF!,#REF!,#REF!)/(COUNTIF(#REF!,\">0\")+COUNTIF(#REF!,\">0\")+COUNTIF(#REF!,\">0\")),0)","v":0},{"$f":"IFERROR(SUM(#REF!,#REF!,#REF!)/(COUNTIF(#REF!,\">0\")+COUNTIF(#REF!,\">0\")+COUNTIF(#REF!,\">0\")),0)","v":0},{"$f":"IFERROR(SUM(#REF!,#REF!,#REF!)/(COUNTIF(#REF!,\">0\")+COUNTIF(#REF!,\">0\")+COUNTIF(#REF!,\">0\")),0)","v":0},{"$f":"IFERROR(SUM(#REF!,#REF!,#REF!)/(COUNTIF(#REF!,\">0\")+COUNTIF(#REF!,\">0\")+COUNTIF(#REF!,\">0\")),0)","v":0},0]
[null,"",null,"","","","","","","","","","","","","",null,null,null,null,{"$f":"IFERROR(SUM(#REF!,#REF!,#REF!)/(COUNTIF(#REF!,\">0\")+COUNTIF(#REF!,\">0\")+COUNTIF(#REF!,\">0\")),0)","v":0},{"$f":"IFERROR(SUM(#REF!,#REF!,#REF!)/(COUNTIF(#REF!,\">0\")+COUNTIF(#REF!,\">0\")+COUNTIF(#REF!,\">0\")),0)","v":0},{"$f":"IFERROR(SUM(#REF!,#REF!,#REF!)/(COUNTIF(#REF!,\">0\")+COUNTIF(#REF!,\">0\")+COUNTIF(#REF!,\">0\")),0)","v":0},{"$f":"IFERROR(SUM(#REF!,#REF!,#REF!)/(COUNTIF(#REF!,\">0\")+COUNTIF(#REF!,\">0\")+COUNTIF(#REF!,\">0\")),0)","v":0},{"$f":"IFERROR(SUM(#REF!,#REF!,#REF!)/(COUNTIF(#REF!,\">0\")+COUNTIF(#REF!,\">0\")+COUNTIF(#REF!,\">0\")),0)","v":0},0]
[null,"",null,"","","","","","","","","","","","","",null,null,null,null,{"$f":"IFERROR(SUM(#REF!,#REF!,#REF!)/(COUNTIF(#REF!,\">0\")+COUNTIF(#REF!,\">0\")+COUNTIF(#REF!,\">0\")),0)","v":0},{"$f":"IFERROR(SUM(#REF!,#REF!,#REF!)/(COUNTIF(#REF!,\">0\")+COUNTIF(#REF!,\">0\")+COUNTIF(#REF!,\">0\")),0)","v":0},{"$f":"IFERROR(SUM(#REF!,#REF!,#REF!)/(COUNTIF(#REF!,\">0\")+COUNTIF(#REF!,\">0\")+COUNTIF(#REF!,\">0\")),0)","v":0},{"$f":"IFERROR(SUM(#REF!,#REF!,#REF!)/(COUNTIF(#REF!,\">0\")+COUNTIF(#REF!,\">0\")+COUNTIF(#REF!,\">0\")),0)","v":0},{"$f":"IFERROR(SUM(#REF!,#REF!,#REF!)/(COUNTIF(#REF!,\">0\")+COUNTIF(#REF!,\">0\")+COUNTIF(#REF!,\">0\")),0)","v":0},0]
[null,"",null,"","","","","","","","","","","","","",null,null,null,null,{"$f":"IFERROR(SUM(#REF!,#REF!,#REF!)/(COUNTIF(#REF!,\">0\")+COUNTIF(#REF!,\">0\")+COUNTIF(#REF!,\">0\")),0)","v":0},{"$f":"IFERROR(SUM(#REF!,#REF!,#REF!)/(COUNTIF(#REF!,\">0\")+COUNTIF(#REF!,\">0\")+COUNTIF(#REF!,\">0\")),0)","v":0},{"$f":"IFERROR(SUM(#REF!,#REF!,#REF!)/(COUNTIF(#REF!,\">0\")+COUNTIF(#REF!,\">0\")+COUNTIF(#REF!,\">0\")),0)","v":0},{"$f":"IFERROR(SUM(#REF!,#REF!,#REF!)/(COUNTIF(#REF!,\">0\")+COUNTIF(#REF!,\">0\")+COUNTIF(#REF!,\">0\")),0)","v":0},{"$f":"IFERROR(SUM(#REF!,#REF!,#REF!)/(COUNTIF(#REF!,\">0\")+COUNTIF(#REF!,\">0\")+COUNTIF(#REF!,\">0\")),0)","v":0},0]
[null,"",null,"","","","","","","","","","","","","",null,null,null,null,{"$f":"IFERROR(SUM(#REF!,#REF!,#REF!)/(COUNTIF(#REF!,\">0\")+COUNTIF(#REF!,\">0\")+COUNTIF(#REF!,\">0\")),0)","v":0},{"$f":"IFERROR(SUM(#REF!,#REF!,#REF!)/(COUNTIF(#REF!,\">0\")+COUNTIF(#REF!,\">0\")+COUNTIF(#REF!,\">0\")),0)","v":0},{"$f":"IFERROR(SUM(#REF!,#REF!,#REF!)/(COUNTIF(#REF!,\">0\")+COUNTIF(#REF!,\">0\")+COUNTIF(#REF!,\">0\")),0)","v":0},{"$f":"IFERROR(SUM(#REF!,#REF!,#REF!)/(COUNTIF(#REF!,\">0\")+COUNTIF(#REF!,\">0\")+COUNTIF(#REF!,\">0\")),0)","v":0},{"$f":"IFERROR(SUM(#REF!,#REF!,#REF!)/(COUNTIF(#REF!,\">0\")+COUNTIF(#REF!,\">0\")+COUNTIF(#REF!,\">0\")),0)","v":0},0]
[null,"",null,"","","","","","","","","","","","","",null,null,null,null,{"$f":"IFERROR(SUM(#REF!,#REF!,#REF!)/(COUNTIF(#REF!,\">0\")+COUNTIF(#REF!,\">0\")+COUNTIF(#REF!,\">0\")),0)","v":0},{"$f":"IFERROR(SUM(#REF!,#REF!,#REF!)/(COUNTIF(#REF!,\">0\")+COUNTIF(#REF!,\">0\")+COUNTIF(#REF!,\">0\")),0)","v":0},{"$f":"IFERROR(SUM(#REF!,#REF!,#REF!)/(COUNTIF(#REF!,\">0\")+COUNTIF(#REF!,\">0\")+COUNTIF(#REF!,\">0\")),0)","v":0},{"$f":"IFERROR(SUM(#REF!,#REF!,#REF!)/(COUNTIF(#REF!,\">0\")+COUNTIF(#REF!,\">0\")+COUNTIF(#REF!,\">0\")),0)","v":0},{"$f":"IFERROR(SUM(#REF!,#REF!,#REF!)/(COUNTIF(#REF!,\">0\")+COUNTIF(#REF!,\">0\")+COUNTIF(#REF!,\">0\")),0)","v":0},0]
[null,"",null,"",{"$f":"IFERROR(IF(GE70=35,GE70, (IF(FW70=\"\",\"\",IF($T$13=0.15,(FW70*0.8+$GC70*0.15+$GD70*0.05))))),0)","v":""},"","","","","","","","","",{"$f":"IF(AND(E202=\"\",F202=\"\",G202=\"\",H202=\"\",I202=\"\"),\"\",AVERAGE(E202:I202))","v":""},"",null,null,null,null,{"$f":"IFERROR(SUM(#REF!,#REF!,#REF!)/(COUNTIF(#REF!,\">0\")+COUNTIF(#REF!,\">0\")+COUNTIF(#REF!,\">0\")),0)","v":0},{"$f":"IFERROR(SUM(#REF!,#REF!,#REF!)/(COUNTIF(#REF!,\">0\")+COUNTIF(#REF!,\">0\")+COUNTIF(#REF!,\">0\")),0)","v":0},{"$f":"IFERROR(SUM(#REF!,#REF!,#REF!)/(COUNTIF(#REF!,\">0\")+COUNTIF(#REF!,\">0\")+COUNTIF(#REF!,\">0\")),0)","v":0},{"$f":"IFERROR(SUM(#REF!,#REF!,#REF!)/(COUNTIF(#REF!,\">0\")+COUNTIF(#REF!,\">0\")+COUNTIF(#REF!,\">0\")),0)","v":0},{"$f":"IFERROR(SUM(#REF!,#REF!,#REF!)/(COUNTIF(#REF!,\">0\")+COUNTIF(#REF!,\">0\")+COUNTIF(#REF!,\">0\")),0)","v":0},0]
[]
[]
[]
[null,"PLANEACION ANUAL"]
[null,null,null,null,null,null,null,null,null,null,null,"PLANEACION Y ESTADISTICA",null,null,null,null,null,null,null,null,null,null,null,null,null,null,"COMANDOS"]
[null,"Datos del Curso",null,null,{"$f":"IF(INICIO!$E$4=\"\",\"\",INICIO!$E$4)","v":"GERFRIED PINTO"},null,null,null,null,null,null,null,null,null,null,null,null,null,{"$f":"IF($AZ$6=$AZ$3,$BB$7,IF($AZ$6=\"\",$BC$7))","v":"INICIA LA PLANEACION"}]
[null,null,null,null,null,null,null,null,null,null,null,null,"SELECCIONE UNICAMENTE EL TRIMESTRE A PLANEAR"]
[null,null,null,{"$f":"IF(AND(N214=\"\",O214=\"\",P214=\"\"),\"\",IF(N214=\"X\",DY2,IF(O214=\"X\",DY3,IF(P214=\"X\",DY4))))","v":""},null,null,null,null,null,null,null,null,null,null,null,null,null,null,{"$f":"IF(AB218=\"X\",$CB$1,IF(AB225=\"X\", $CB$1,IF(AB232=\"X\",$CB$1,IF(AB239=\"X\",$CB$1,IF(AB246=\"X\",$CB$1,\"\")))))","v":""}]
[]
[null,null,null,"ASIGNATURA",null,"CURSO",null,"CICLO",null,null,null,null,null,"1T","2T","3T",null,null,{"$f":"IF($N$214=\"X\",\"1T\",\"\")","v":""},{"$f":"IF($O$214=\"X\",\"2T\",\"\")","v":""},{"$f":"IF($P$214=\"X\",\"3T\",\"\")","v":""}]
[]
[null,null,null,{"$f":"IF($F$9=\"\",\"\",IF($F$9=INICIO!$D$19,INICIO!$F$19))","v":""},null,{"$f":"IF(INICIO!$D$19=\"\",\"\",INICIO!$D$19)","v":""},null,{"$f":"IF($F$9=INICIO!$D$19,INICIO!$C$19,\"\")","v":""},null,null,null,null,null,null,null,null,null,null,null,null,null,null,{"$f":"IF($AZ$6=$AZ$3,$BB$4,\"\")","v":""},null,null,"SELECCIONE LOS LOGROS E INDICADORES",null,null,null,null,{"$f":"IF($AZ$6=$AZ$3,$BB$3,IF($AZ$5=$AZ$2,$BB$2,IF($AZ$4=$AZ$1,$BB$1,\"\")))","v":""}]
[]
[]
[]
[null,{"$f":"IF($D218=\"\",\"\",PLAN!$BO9)","v":""},null,null,null,null,null,null,null,null,null,null,null,null,null,null,null,null,null,null,null,null,null,null,null,{"$f":"IF(AB218=\"\",\"\",IF(AB218=\"X\",B218))","v":""},null,null,null,null,"LOGROS E INDICADORES SELECCIONADOS"]
[null,{"$f":"IF($D219=\"\",\"\",PLAN!$BO10)","v":""},null,null,null,null,null,null,null,null,null,null,null,null,null,null,null,null,null,null,null,null,null,null,null,"",null,null,null,null,{"$f":"IF($AZ$4=$AZ$1,$BA$4,\"\")","v":""}]
[null,{"$f":"IF($D220=\"\",\"\",PLAN!$BO11)","v":""},null,null,null,null,null,null,null,null,null,null,null,null,null,null,null,null,null,null,null,null,null,null,null,"",null,null,null,null,{"$f":"PLAN!C228","v":""},{"$f":"PLAN!$AX227","v":0},{"$f":"PLAN!$AX228","v":0},{"$f":"PLAN!$AX229","v":0},{"$f":"PLAN!$AX230","v":0},{"$f":"PLAN!$AX231","v":0},{"$f":"PLAN!$AX232","v":0}]
[null,{"$f":"IF($D221=\"\",\"\",PLAN!$BO12)","v":""},null,null,null,null,null,null,null,null,null,null,null,null,null,null,null,null,null,null,null,null,null,null,null,"",null,null,null,null,{"$f":"PLAN!C229","v":""},{"$f":"PLAN!$AY227","v":0},{"$f":"PLAN!$AY228","v":0},{"$f":"PLAN!$AY229","v":0},{"$f":"PLAN!$AY230","v":0},{"$f":"PLAN!$AY231","v":0},{"$f":"PLAN!$AY232","v":0}]
[null,{"$f":"IF($D222=\"\",\"\",PLAN!$BO13)","v":""},null,null,null,null,null,null,null,null,null,null,null,null,null,null,null,null,null,null,null,null,null,null,null,"",null,null,null,null,{"$f":"PLAN!C230","v":""},{"$f":"PLAN!$AZ227","v":0},{"$f":"PLAN!$AZ228","v":0},{"$f":"PLAN!$AZ229","v":0},{"$f":"PLAN!$AZ230","v":0},{"$f":"PLAN!$AZ231","v":0},{"$f":"PLAN!$AZ232","v":0}]
[null,{"$f":"IF($D223=\"\",\"\",PLAN!$BO14)","v":""},null,null,null,null,null,null,null,null,null,null,null,null,null,null,null,null,null,null,null,null,null,null,null,"",null,null,null,null,{"$f":"PLAN!C231","v":""},{"$f":"PLAN!$BA227","v":0},{"$f":"PLAN!$BA228","v":0},{"$f":"PLAN!$BA229","v":0},{"$f":"PLAN!$BA230","v":0},{"$f":"PLAN!$BA231","v":0},{"$f":"PLAN!$BA232","v":0}]
[null,{"$f":"IF($D224=\"\",\"\",PLAN!$BO15)","v":""},null,null,null,null,null,null,null,null,null,null,null,null,null,null,null,null,null,null,null,null,null,null,null,"",null,null,null,null,{"$f":"PLAN!C232","v":""},{"$f":"PLAN!$BB227","v":0},{"$f":"PLAN!$BB228","v":0},{"$f":"PLAN!$BB229","v":0},{"$f":"PLAN!$BB230","v":0},{"$f":"PLAN!$BB231","v":0},{"$f":"PLAN!$BB232","v":0}]
[null,{"$f":"IF($D225=\"\",\"\",PLAN!$BO16)","v":""},null,null,null,null,null,null,null,null,null,null,null,null,null,null,null,null,null,null,null,null,null,null,null,""]
[null,{"$f":"IF($D226=\"\",\"\",PLAN!$BO17)","v":""},null,null,null,null,null,null,null,null,null,null,null,null,null,null,null,null,null,null,null,null,null,null,null,"",null,null,null,null,{"$f":"IF($AZ$5=$AZ$2,$BA$5,\"\")","v":""}]
[null,{"$f":"IF($D227=\"\",\"\",PLAN!$BO18)","v":""},null,null,null,null,null,null,null,null,null,null,null,null,null,null,null,null,null,null,null,null,null,null,null,"",null,null,null,null,{"$f":"PLAN!C233","v":""},{"$f":"PLAN!$BC227","v":0},{"$f":"PLAN!$BC228","v":0},{"$f":"PLAN!$BC229","v":0},{"$f":"PLAN!$BC230","v":0},{"$f":"PLAN!$BC231","v":0},{"$f":"PLAN!$BC232","v":0}]
[null,{"$f":"IF($D228=\"\",\"\",PLAN!$BO19)","v":""},null,null,null,null,null,null,null,null,null,null,null,null,null,null,null,null,null,null,null,null,null,null,null,"",null,null,null,null,{"$f":"PLAN!C234","v":""},{"$f":"PLAN!$BD227","v":0},{"$f":"PLAN!$BD228","v":0},{"$f":"PLAN!$BD229","v":0},{"$f":"PLAN!$BD230","v":0},{"$f":"PLAN!$BD231","v":0},{"$f":"PLAN!$BD232","v":0}]
[null,{"$f":"IF($D229=\"\",\"\",PLAN!$BO20)","v":""},null,null,null,null,null,null,null,null,null,null,null,null,null,null,null,null,null,null,null,null,null,null,null,"",null,null,null,null,{"$f":"PLAN!C235","v":""},{"$f":"PLAN!$BE227","v":0},{"$f":"PLAN!$BE228","v":0},{"$f":"PLAN!$BE229","v":0},{"$f":"PLAN!$BE230","v":0},{"$f":"PLAN!$BE231","v":0},{"$f":"PLAN!$BE232","v":0}]
[null,{"$f":"IF($D230=\"\",\"\",PLAN!$BO21)","v":""},null,null,null,null,null,null,null,null,null,null,null,null,null,null,null,null,null,null,null,null,null,null,null,"",null,null,null,null,{"$f":"PLAN!C236","v":""},{"$f":"PLAN!$BF227","v":0},{"$f":"PLAN!$BF228","v":0},{"$f":"PLAN!$BF229","v":0},{"$f":"PLAN!$BF230","v":0},{"$f":"PLAN!$BF231","v":0},{"$f":"PLAN!$BF232","v":0}]
[null,{"$f":"IF($D231=\"\",\"\",PLAN!$BO22)","v":""},null,null,null,null,null,null,null,null,null,null,null,null,null,null,null,null,null,null,null,null,null,null,null,"",null,null,null,null,{"$f":"PLAN!C237","v":""},{"$f":"PLAN!$BG227","v":0},{"$f":"PLAN!$BG228","v":0},{"$f":"PLAN!$BG229","v":0},{"$f":"PLAN!$BG230","v":0},{"$f":"PLAN!$BG231","v":0},{"$f":"PLAN!$BG232","v":0}]
[null,{"$f":"IF($D232=\"\",\"\",PLAN!$BO23)","v":""},null,null,null,null,null,null,null,null,null,null,null,null,null,null,null,null,null,null,null,null,null,null,null,""]
[null,{"$f":"IF($D233=\"\",\"\",PLAN!$BO24)","v":""},null,null,null,null,null,null,null,null,null,null,null,null,null,null,null,null,null,null,null,null,null,null,null,"",null,null,null,null,{"$f":"IF($AZ$6=$AZ$3,$BA$6,\"\")","v":""}]
[null,{"$f":"IF($D234=\"\",\"\",PLAN!$BO25)","v":""},null,null,null,null,null,null,null,null,null,null,null,null,null,null,null,null,null,null,null,null,null,null,null,"",null,null,null,null,{"$f":"PLAN!C238","v":""},{"$f":"PLAN!$BH227","v":0},{"$f":"PLAN!$BH228","v":0},{"$f":"PLAN!$BH229","v":0},{"$f":"PLAN!$BH230","v":0},{"$f":"PLAN!$BH231","v":0},{"$f":"PLAN!$BH232","v":0}]
[null,{"$f":"IF($D235=\"\",\"\",PLAN!$BO26)","v":""},null,null,null,null,null,null,null,null,null,null,null,null,null,null,null,null,null,null,null,null,null,null,null,"",null,null,null,null,{"$f":"PLAN!C239","v":""},{"$f":"PLAN!$BI227","v":0},{"$f":"PLAN!$BI228","v":0},{"$f":"PLAN!$BI229","v":0},{"$f":"PLAN!$BI230","v":0},{"$f":"PLAN!$BI231","v":0},{"$f":"PLAN!$BI232","v":0}]
[null,{"$f":"IF($D236=\"\",\"\",PLAN!$BO27)","v":""},null,null,null,null,null,null,null,null,null,null,null,null,null,null,null,null,null,null,null,null,null,null,null,"",null,null,null,null,{"$f":"PLAN!C240","v":""},{"$f":"PLAN!$BJ227","v":0},{"$f":"PLAN!$BJ228","v":0},{"$f":"PLAN!$BJ229","v":0},{"$f":"PLAN!$BJ230","v":0},{"$f":"PLAN!$BJ231","v":0},{"$f":"PLAN!$BJ232","v":0}]
[null,{"$f":"IF($D237=\"\",\"\",PLAN!$BO28)","v":""},null,null,null,null,null,null,null,null,null,null,null,null,null,null,null,null,null,null,null,null,null,null,null,"",null,null,null,null,{"$f":"PLAN!C241","v":""},{"$f":"PLAN!$BK227","v":0},{"$f":"PLAN!$BK228","v":0},{"$f":"PLAN!$BK229","v":0},{"$f":"PLAN!$BK230","v":0},{"$f":"PLAN!$BK231","v":0},{"$f":"PLAN!$BK232","v":0}]
[null,{"$f":"IF($D238=\"\",\"\",PLAN!$BO29)","v":""},null,null,null,null,null,null,null,null,null,null,null,null,null,null,null,null,null,null,null,null,null,null,null,"",null,null,null,null,{"$f":"PLAN!C242","v":""},{"$f":"PLAN!$BL227","v":0},{"$f":"PLAN!$BL228","v":0},{"$f":"PLAN!$BL229","v":0},{"$f":"PLAN!$BL230","v":0},{"$f":"PLAN!$BL231","v":0},{"$f":"PLAN!$BL232","v":0}]
[null,{"$f":"IF($D239=\"\",\"\",PLAN!$BO30)","v":""},null,null,null,null,null,null,null,null,null,null,null,null,null,null,null,null,null,null,null,null,null,null,null,""]
[null,{"$f":"IF($D240=\"\",\"\",PLAN!$BO31)","v":""},null,null,null,null,null,null,null,null,null,null,null,null,null,null,null,null,null,null,null,null,null,null,null,""]
[null,{"$f":"IF($D241=\"\",\"\",PLAN!$BO32)","v":""},null,null,null,null,null,null,null,null,null,null,null,null,null,null,null,null,null,null,null,null,null,null,null,""]
[null,{"$f":"IF($D242=\"\",\"\",PLAN!$BO33)","v":""},null,null,null,null,null,null,null,null,null,null,null,null,null,null,null,null,null,null,null,null,null,null,null,""]
[null,{"$f":"IF($D243=\"\",\"\",PLAN!$BO34)","v":""},null,null,null,null,null,null,null,null,null,null,null,null,null,null,null,null,null,null,null,null,null,null,null,""]
[null,{"$f":"IF($D244=\"\",\"\",PLAN!$BO35)","v":""},null,null,null,null,null,null,null,null,null,null,null,null,null,null,null,null,null,null,null,null,null,null,null,""]
[null,{"$f":"IF($D245=\"\",\"\",PLAN!$BO36)","v":""},null,null,null,null,null,null,null,null,null,null,null,null,null,null,null,null,null,null,null,null,null,null,null,""]
[null,{"$f":"IF($D246=\"\",\"\",PLAN!$BO37)","v":""},null,null,null,null,null,null,null,null,null,null,null,null,null,null,null,null,null,null,null,null,null,null,null,""]
[null,{"$f":"IF($D247=\"\",\"\",PLAN!$BO38)","v":""},null,null,null,null,null,null,null,null,null,null,null,null,null,null,null,null,null,null,null,null,null,null,null,""]
[null,{"$f":"IF($D248=\"\",\"\",PLAN!$BO39)","v":""},null,null,null,null,null,null,null,null,null,null,null,null,null,null,null,null,null,null,null,null,null,null,null,""]
[null,{"$f":"IF($D249=\"\",\"\",PLAN!$BO40)","v":""},null,null,null,null,null,null,null,null,null,null,null,null,null,null,null,null,null,null,null,null,null,null,null,""]
[null,{"$f":"IF($D250=\"\",\"\",PLAN!$BO41)","v":""},null,null,null,null,null,null,null,null,null,null,null,null,null,null,null,null,null,null,null,null,null,null,null,""]
[null,{"$f":"IF($D251=\"\",\"\",PLAN!$BO42)","v":""},null,null,null,null,null,null,null,null,null,null,null,null,null,null,null,null,null,null,null,null,null,null,null,""]
[null,{"$f":"IF($D252=\"\",\"\",PLAN!$BO43)","v":""},null,null,null,null,null,null,null,null,null,null,null,null,null,null,null,null,null,null,null,null,null,null,null,""]
[]
[]
[null,"Registro de ACTIVIDADES"]
[]
[null,"Datos del Curso",null,null,{"$f":"IF(INICIO!$E$4=\"\",\"\",INICIO!$E$4)","v":"GERFRIED PINTO"},null,null,null,null,null,null,"ACTIVIDADES PLANEADAS",null,null,null,null,null,null,null,null,null,null,null,null,null,"COMANDOS"]
[null,null,null,null,null,null,null,null,null,null,null,null,null,null,null,null,null,null,{"$f":"IF(AND(DX2=\"\",DX3=\"\",DX4=\"\"),EC1,IF(DX4=\"3T\",EC4,IF(DX3=\"2T\",EC3,IF(DX2=\"1T\",EC2))))","v":"INICIA LA PLANEACION"}]
[null,null,null,{"$f":"IF($N$263=\"X\",$DY$2,IF($O$263=\"X\",$DY$3,IF($P$263=\"X\",$DY$4,\"\")))","v":""},null,null,null,null,null,null,null,null,"SELECCIONE UNICAMENTE EL TRIMESTRE A PLANEAR"]
[]
[null,null,null,"ASIGNATURA",null,"CURSO",null,"CICLO",null,null,null,null,null,"1T","2T","3T",null,null,{"$f":"IF(OR(AND(U272=0,V272=0,W272=0,X272=0,Y272=0),AND(U272=\"\",V272=\"\",W272=\"\",X272=\"\",Y272=\"\")),\"\",$CB$1)","v":""}]
[]
[null,null,null,{"$f":"IF($F$9=\"\",\"\",IF($F$9=INICIO!$D$19,INICIO!$F$19))","v":""},null,{"$f":"IF(INICIO!$D$19=\"\",\"\",INICIO!$D$19)","v":""},null,{"$f":"IF($F$9=INICIO!$D$19,INICIO!$C$19,\"\")","v":""},null,null,null,null,null,null,null,null,null,null,{"$f":"IF($N$263=\"X\",\"1T\",\"\")","v":""},{"$f":"IF($O$263=\"X\",\"2T\",\"\")","v":""},{"$f":"IF($P$263=\"X\",\"3T\",\"\")","v":""}]
[]
[null,null,null,"# de Estudiantes:",null,{"$f":"$F$11","v":1}]
[]
[null,null,null,null,null,null,null,null,null,null,null,null,null,null,null,null,null,null,null,null,null,{"$f":"IF($DX$4=$AZ$3,$BB$4,\"\")","v":""}]
[]
[null,null,null,null,null,null,null,null,null,null,null,null,null,null,null,null,null,null,null,null,null,null,null,null,null,null,null,null,null,null,null,null,null,null,null,null,null,null,null,null,null,null,null,null,null,null,null,null,null,null,null,null,null,null,null,null,null,null,null,null,null,null,null,null,null,null,null,null,null,null,null,null,null,null,"TRIMESTRE"]
[null,null,null,"REGISTRO DE ACTIVIDADES",null,null,null,null,null,null,null,null,null,null,null,null,null,null,"FECHA",null,"IND","IND","IND","IND","IND","IND",null,"NOTA IMPORTANTE ¡!",null,null,null,null,null,null,null,null,null,null,null,null,null,null,null,null,null,null,null,null,null,null,null,null,null,null,null,null,null,null,{"$f":"$BW$272","v":""},null,null,null,null,{"$f":"$BW$273","v":""},null,null,null,null,{"$f":"$BW$274","v":""}]
[]
[null,"A1",null,null,null,null,null,null,null,null,null,null,null,null,null,null,null,null,null,null,null,null,null,null,null,null,null,"Si usted va a Copiar datos para las actividades desde un documento Microsoft Word recuerde seguir el siguiente procedimiento, para que el programa funcione adecuadamente.\n\n",null,null,null,null,null,null,null,null,null,null,null,null,null,null,null,null,null,null,null,null,null,"REPETICION","INDICADORES",null,"UTILIZ. DE IND.",null,"UTILIZ. DE LOGRO","CANT. IND.",null,null,"L1","L2","L3","L4","L5","L1","L2","L3","L4","L5","L1","L2","L3","L4","L5",null,{"$f":"IF($N$263=\"X\",BX272,\"\")","v":""},"1T"]
[null,"A2",null,null,null,null,null,null,null,null,null,null,null,null,null,null,null,null,null,null,null,null,null,null,null,null,null,null,null,null,null,null,null,null,null,null,null,null,null,null,null,null,null,null,null,null,null,null,null,{"$f":"IF(AY273=\"\",\"\",COUNTIF($U$272:$Y$286,AY273))","v":""},{"$f":"IF($BQ$270=\"3T\",BQ273,IF($BL$270=\"2T\",BL273,IF($BG$270=\"1T\",BG273,\"\")))","v":""},{"$f":"AX273","v":""},{"$f":"SUM(AX273:AX278)","v":0},{"$f":"IF(BA273>0,1,0)","v":0},{"$f":"IF(SUM(AX273:AX278)=0,0,1)","v":0},{"$f":"5-COUNTBLANK(U272:Y272)","v":0},null,null,{"$f":"PLAN!AX227","v":0},{"$f":"PLAN!AY227","v":0},{"$f":"PLAN!AZ227","v":0},{"$f":"PLAN!BA227","v":0},{"$f":"PLAN!BB227","v":0},{"$f":"PLAN!BC227","v":0},{"$f":"PLAN!BD227","v":0},{"$f":"PLAN!BE227","v":0},{"$f":"PLAN!BF227","v":0},{"$f":"PLAN!BG227","v":0},{"$f":"PLAN!BH227","v":0},{"$f":"PLAN!BI227","v":0},{"$f":"PLAN!BJ227","v":0},{"$f":"PLAN!BK227","v":0},{"$f":"PLAN!BL227","v":0},null,{"$f":"IF($O$263=\"X\",BX273,\"\")","v":""},"2T"]
[null,"A3",null,null,null,null,null,null,null,null,null,null,null,null,null,null,null,null,null,null,null,null,null,null,null,null,null,null,null,null,null,null,null,null,null,null,null,null,null,null,null,null,null,null,null,null,null,null,null,{"$f":"IF(AY274=\"\",\"\",COUNTIF($U$272:$Y$286,AY274))","v":""},"",{"$f":"AX274","v":""},{"$f":"SUM(AX279:AX284)","v":0},{"$f":"IF(BA274>0,1,0)","v":0},{"$f":"IF(SUM(AX279:AX284)=0,0,1)","v":0},0,null,null,{"$f":"PLAN!AX228","v":0},{"$f":"PLAN!AY228","v":0},{"$f":"PLAN!AZ228","v":0},{"$f":"PLAN!BA228","v":0},{"$f":"PLAN!BB228","v":0},{"$f":"PLAN!BC228","v":0},{"$f":"PLAN!BD228","v":0},{"$f":"PLAN!BE228","v":0},{"$f":"PLAN!BF228","v":0},{"$f":"PLAN!BG228","v":0},{"$f":"PLAN!BH228","v":0},{"$f":"PLAN!BI228","v":0},{"$f":"PLAN!BJ228","v":0},{"$f":"PLAN!BK228","v":0},{"$f":"PLAN!BL228","v":0},null,{"$f":"IF($P$263=\"X\",BX274,\"\")","v":""},"3T"]
[null,"A4",null,null,null,null,null,null,null,null,null,null,null,null,null,null,null,null,null,null,null,null,null,null,null,null,null,null,null,null,null,null,null,null,null,null,null,null,null,null,null,null,null,null,null,null,null,null,null,{"$f":"IF(AY275=\"\",\"\",COUNTIF($U$272:$Y$286,AY275))","v":""},"","",{"$f":"SUM(AX285:AX290)","v":0},{"$f":"IF(BA275>0,1,0)","v":0},{"$f":"IF(SUM(AX285:AX290)=0,0,1)","v":0},0,null,null,{"$f":"PLAN!AX229","v":0},{"$f":"PLAN!AY229","v":0},{"$f":"PLAN!AZ229","v":0},{"$f":"PLAN!BA229","v":0},{"$f":"PLAN!BB229","v":0},{"$f":"PLAN!BC229","v":0},{"$f":"PLAN!BD229","v":0},{"$f":"PLAN!BE229","v":0},{"$f":"PLAN!BF229","v":0},{"$f":"PLAN!BG229","v":0},{"$f":"PLAN!BH229","v":0},{"$f":"PLAN!BI229","v":0},{"$f":"PLAN!BJ229","v":0},{"$f":"PLAN!BK229","v":0},{"$f":"PLAN!BL229","v":0}]
[null,"A5",null,null,null,null,null,null,null,null,null,null,null,null,null,null,null,null,null,null,null,null,null,null,null,null,null,"1. Copie la información del documento\n2. Clip en el botón derecho del mouse\n3. Al salir el menú contextual seleccione  pegado especial  “coincidir con el formato de destino”  o “texto”",null,null,null,null,null,null,null,null,null,null,null,null,null,null,null,null,null,null,null,null,null,"","","",{"$f":"SUM(AX291:AX296)","v":0},{"$f":"IF(BA276>0,1,0)","v":0},{"$f":"IF(SUM(AX291:AX296)=0,0,1)","v":0},0,null,null,{"$f":"PLAN!AX230","v":0},{"$f":"PLAN!AY230","v":0},{"$f":"PLAN!AZ230","v":0},{"$f":"PLAN!BA230","v":0},{"$f":"PLAN!BB230","v":0},{"$f":"PLAN!BC230","v":0},{"$f":"PLAN!BD230","v":0},{"$f":"PLAN!BE230","v":0},{"$f":"PLAN!BF230","v":0},{"$f":"PLAN!BG230","v":0},{"$f":"PLAN!BH230","v":0},{"$f":"PLAN!BI230","v":0},{"$f":"PLAN!BJ230","v":0},{"$f":"PLAN!BK230","v":0},{"$f":"PLAN!BL230","v":0}]
[null,"A6",null,null,null,null,null,null,null,null,null,null,null,null,null,null,null,null,null,null,null,null,null,null,null,null,null,null,null,null,null,null,null,null,null,null,null,null,null,null,null,null,null,null,null,null,null,null,null,"","","",{"$f":"SUM(AX297:AX302)","v":0},{"$f":"IF(BA277>0,1,0)","v":0},{"$f":"IF(SUM(AX297:AX302)=0,0,1)","v":0},0,null,null,{"$f":"PLAN!AX231","v":0},{"$f":"PLAN!AY231","v":0},{"$f":"PLAN!AZ231","v":0},{"$f":"PLAN!BA231","v":0},{"$f":"PLAN!BB231","v":0},{"$f":"PLAN!BC231","v":0},{"$f":"PLAN!BD231","v":0},{"$f":"PLAN!BE231","v":0},{"$f":"PLAN!BF231","v":0},{"$f":"PLAN!BG231","v":0},{"$f":"PLAN!BH231","v":0},{"$f":"PLAN!BI231","v":0},{"$f":"PLAN!BJ231","v":0},{"$f":"PLAN!BK231","v":0},{"$f":"PLAN!BL231","v":0}]
[null,"A7",null,null,null,null,null,null,null,null,null,null,null,null,null,null,null,null,null,null,null,null,null,null,null,null,null,null,null,null,null,null,null,null,null,null,null,null,null,null,null,null,null,null,null,null,null,null,null,"","","",null,null,null,0,null,null,{"$f":"PLAN!AX232","v":0},{"$f":"PLAN!AY232","v":0},{"$f":"PLAN!AZ232","v":0},{"$f":"PLAN!BA232","v":0},{"$f":"PLAN!BB232","v":0},{"$f":"PLAN!BC232","v":0},{"$f":"PLAN!BD232","v":0},{"$f":"PLAN!BE232","v":0},{"$f":"PLAN!BF232","v":0},{"$f":"PLAN!BG232","v":0},{"$f":"PLAN!BH232","v":0},{"$f":"PLAN!BI232","v":0},{"$f":"PLAN!BJ232","v":0},{"$f":"PLAN!BK232","v":0},{"$f":"PLAN!BL232","v":0}]
[null,"A8",null,null,null,null,null,null,null,null,null,null,null,null,null,null,null,null,null,null,null,null,null,null,null,null,null,null,null,null,null,null,null,null,null,null,null,null,null,null,null,null,null,null,null,null,null,null,null,"",{"$f":"IF($BQ$270=\"3T\",BR273,IF($BL$270=\"2T\",BM273,IF($BG$270=\"1T\",BH273,\"\")))","v":""},"",null,{"$f":"IF(OR(AND(AX273=0,AX274=0,AX275=0,AX276=0,AX277=0,AX278=0),AND(AX273=\"\",AX274=\"\",AX275=\"\",AX276=\"\",AX277=\"\",AX278=\"\")),\"\",INDEX(AX273:AZ278,MATCH(MAXA(AX273:AX278),AX273:AX278,0),2))","v":""},null,0]
[null,"A9",null,null,null,null,null,null,null,null,null,null,null,null,null,null,null,null,null,null,null,null,null,null,null,null,null,null,null,null,null,null,null,null,null,null,null,null,null,null,null,null,null,null,null,null,null,null,null,"","","",null,{"$f":"IF(OR(AND(AX279=0,AX280=0,AX281=0,AX282=0,AX283=0,AX284=0),AND(AX279=\"\",AX280=\"\",AX281=\"\",AX282=\"\",AX283=\"\",AX284=\"\")),\"\",INDEX(AX279:AZ284,MATCH(MAXA(AX279:AX284),AX279:AX284,0),2))","v":""},null,0]
[null,"A10",null,null,null,null,null,null,null,null,null,null,null,null,null,null,null,null,null,null,null,null,null,null,null,null,null,"Si usted va a Copiar datos para las actividades desde un documento Microsoft Excel recuerde seguir el siguiente procedimiento, para que el programa funcione adecuadamente.",null,null,null,null,null,null,null,null,null,null,null,null,null,null,null,null,null,null,null,null,null,"","","",null,{"$f":"IF(OR(AND(AX285=0,AX286=0,AX287=0,AX288=0,AX289=0,AX290=0),AND(AX285=\"\",AX286=\"\",AX287=\"\",AX288=\"\",AX289=\"\",AX290=\"\")),\"\",INDEX(AX285:AZ290,MATCH(MAXA(AX285:AX290),AX285:AX290,0),2))","v":""},null,0]
[null,"A11",null,null,null,null,null,null,null,null,null,null,null,null,null,null,null,null,null,null,null,null,null,null,null,null,null,null,null,null,null,null,null,null,null,null,null,null,null,null,null,null,null,null,null,null,null,null,null,"","","",null,{"$f":"IF(OR(AND(AX291=0,AX292=0,AX293=0,AX294=0,AX295=0,AX296=0),AND(AX291=\"\",AX292=\"\",AX293=\"\",AX294=\"\",AX295=\"\",AX296=\"\")),\"\",INDEX(AX291:AZ296,MATCH(MAXA(AX291:AX296),AX291:AX296,0),2))","v":""},null,0]
[null,"A12",null,null,null,null,null,null,null,null,null,null,null,null,null,null,null,null,null,null,null,null,null,null,null,null,null,null,null,null,null,null,null,null,null,null,null,null,null,null,null,null,null,null,null,null,null,null,null,"","","",null,{"$f":"IF(OR(AND(AX297=0,AX298=0,AX299=0,AX300=0,AX301=0,AX302=0),AND(AX297=\"\",AX298=\"\",AX299=\"\",AX300=\"\",AX301=\"\",AX302=\"\")),\"\",INDEX(AX297:AZ302,MATCH(MAXA(AX297:AX302),AX297:AX302,0),2))","v":""},null,0]
[null,"A13",null,null,null,null,null,null,null,null,null,null,null,null,null,null,null,null,null,null,null,null,null,null,null,null,null,null,null,null,null,null,null,null,null,null,null,null,null,null,null,null,null,null,null,null,null,null,null,"","","",null,"ACTIVIDADES REALIZADAS",null,0]
[null,"A14",null,null,null,null,null,null,null,null,null,null,null,null,null,null,null,null,null,null,null,null,null,null,null,null,null,"1. Copie la información del documento\n2. Clip en el botón derecho del mouse\n3. Al salir el menú contextual seleccione  pegado especial  “valores”\n",null,null,null,null,null,null,null,null,null,null,null,null,null,null,null,null,null,null,null,null,null,"",{"$f":"IF($BQ$270=\"3T\",BS273,IF($BL$270=\"2T\",BN273,IF($BG$270=\"1T\",BI273,\"\")))","v":""},"",null,{"$f":"15-COUNTIF(D272:D286,\"\")","v":0},null,0]
[null,"A15",null,null,null,null,null,null,null,null,null,null,null,null,null,null,null,null,null,null,null,null,null,null,null,null,null,null,null,null,null,null,null,null,null,null,null,null,null,null,null,null,null,null,null,null,null,null,null,"","","",null,null,null,0]
[null,null,null,null,null,null,null,null,null,null,null,null,null,null,null,null,null,null,null,null,null,null,null,null,null,null,null,null,null,null,null,null,null,null,null,null,null,null,null,null,null,null,null,null,null,null,null,null,null,"","","",null,null,null,0]
[null,null,null,null,null,null,null,null,null,null,null,null,null,null,null,null,null,null,null,null,null,null,null,null,null,null,null,null,null,null,null,null,null,null,null,null,null,null,null,null,null,null,null,null,null,null,null,null,null,"","",""]
[null,null,null,null,null,null,null,null,null,null,null,null,null,null,null,null,null,null,null,null,null,null,null,null,null,null,null,null,null,null,null,null,null,null,null,null,null,null,null,null,null,null,null,null,null,null,null,null,null,"","",""]
[null,null,null,null,null,null,null,null,null,null,null,null,null,null,null,null,null,null,null,null,null,null,null,null,null,null,null,"No se debe en ningún momento Cortar ninguna celda porque el programa se altera",null,null,null,null,null,null,null,null,null,null,null,null,null,null,null,null,null,null,null,null,null,"","",""]
[null,null,null,null,null,null,null,null,null,null,null,null,null,null,null,null,null,null,null,null,null,null,null,null,null,null,null,null,null,null,null,null,null,null,null,null,null,null,null,null,null,null,null,null,null,null,null,null,null,"",{"$f":"IF($BQ$270=\"3T\",BT273,IF($BL$270=\"2T\",BO273,IF($BG$270=\"1T\",BJ273,\"\")))","v":""},""]
[null,null,null,null,null,null,null,null,null,null,null,null,null,null,null,null,null,null,null,null,null,null,null,null,null,null,null,null,null,null,null,null,null,null,null,null,null,null,null,null,null,null,null,null,null,null,null,null,null,"","",""]
[null,null,null,null,null,null,null,null,null,null,null,null,null,null,null,null,null,null,null,null,null,null,null,null,null,null,null,null,null,null,null,null,null,null,null,null,null,null,null,null,null,null,null,null,null,null,null,null,null,"","",""]
[null,null,null,null,null,null,null,null,null,null,null,null,null,null,null,null,null,null,null,null,null,null,null,null,null,null,null,null,null,null,null,null,null,null,null,null,null,null,null,null,null,null,null,null,null,null,null,null,null,"","",""]
[null,null,null,null,null,null,null,null,null,null,null,null,null,null,null,null,null,null,null,null,null,null,null,null,null,null,null,null,null,null,null,null,null,null,null,null,null,null,null,null,null,null,null,null,null,null,null,null,null,"","",""]
[null,null,null,null,null,null,null,null,null,null,null,null,null,null,null,null,null,null,null,null,null,null,null,null,null,null,null,null,null,null,null,null,null,null,null,null,null,null,null,null,null,null,null,null,null,null,null,null,null,"","",""]
[null,null,null,null,null,null,null,null,null,null,null,null,null,null,null,null,null,null,null,null,null,null,null,null,null,null,null,null,null,null,null,null,null,null,null,null,null,null,null,null,null,null,null,null,null,null,null,null,null,"",{"$f":"IF($BQ$270=\"3T\",BU273,IF($BL$270=\"2T\",BP273,IF($BG$270=\"1T\",BK273,\"\")))","v":""},""]
[null,null,null,null,null,null,null,null,null,null,null,null,null,null,null,null,null,null,null,null,null,null,null,null,null,null,null,null,null,null,null,null,null,null,null,null,null,null,null,null,null,null,null,null,null,null,null,null,null,"","",""]
[null,null,null,null,null,null,null,null,null,null,null,null,null,null,null,null,null,null,null,null,null,null,null,null,null,null,null,null,null,null,null,null,null,null,null,null,null,null,null,null,null,null,null,null,null,null,null,null,null,"","",""]
[null,null,null,null,null,null,null,null,null,null,null,null,null,null,null,null,null,null,null,null,null,null,null,null,null,null,null,null,null,null,null,null,null,null,null,null,null,null,null,null,null,null,null,null,null,null,null,null,null,"","",""]
[null,null,null,null,null,null,null,null,null,null,null,null,null,null,null,null,null,null,null,null,null,null,null,null,null,null,null,null,null,null,null,null,null,null,null,null,null,null,null,null,null,null,null,null,null,null,null,null,null,"","",""]
[null,null,null,null,null,null,null,null,null,null,null,null,null,null,null,null,null,null,null,null,null,null,null,null,null,null,null,null,null,null,null,null,null,null,null,null,null,null,null,null,null,null,null,null,null,null,null,null,null,{"$f":"IF(AY302=\"\",\"\",COUNTIF($U$272:$Y$286,AY302))","v":""},"",""]
[]
[]
[]
[]
[]
[]
[]
[]
[]
[]
[]
[]
[]
[]
[]
[]
[]
[]
[]
[]
[]
[]
[]
[]
[]
[]
[]
[]
[]
[]
[]
[]
[]
[]
[]
[]
[]
[]
[]
[]
[]
[]
[]
[]
[]
[]
[]
[]
[]
[]
[]
[]
[]
[]
[]
[]
[]
[]
[]
[]
[]
[]
[]
[]
[]
[]
[]
[]
[]
[]
[]
[]
[]
[]
[]
[]
[]
[]
[]
[]
[]
[]
[]
[]
[]
[]
[]
[]
[]
[]
[]
[]
[]
[]
[]
[]
[]
[]
[]
[]
[]
[]
[]
[]
[]
[]
[]
[]
[]
[]
[]
[]
[]
[]
[]
[]
[]
[]
[]
[]
[]
[]
[]
[]
[]
[]
[]
[]
[]
[]
[]
[]
[]
[]
[]
[]
[]
[]
[]
[]
[]
[]
[]
[]
[]
[]
[]
[]
[]
[]
[]
[]
[]
[]
[]
[]
[]
[]
[]
[]
[]
[]
[]
[]
[]
[]
[]
[]
[]
[]
[]
[]
[]
[]
[]
[]
[]
[]
[]
[]
[]
[]
[]
[]
[]
[]
[]
[]
[]
[]
[]
[]
[]
[]
[]
[]
[]
[]
[]
[]
[]
[]
[]
[]
[]
[]
[]
[]
[]
[]
[]
[]
[]
[]
[]
[]
[]
[]
[]
[]
[]
[]
[]
[]
[]
[]
[]
[]
[]
[]
[]
[]
[]
[]
[]
[]
[]
[]
[]
[]
[]
[]
[]
[]
[]
[]
[]
[]
[]
[]
[]
[]
[]
[]
[]
[]
[]
[]
[]
[]
[]
[]
[]
[]
[]
[]
[]
[]
[]
[]
[]
[]
[]
[]
[]
[]
[]
[]
[]
[]
[]
[]
[]
[]
[]
[]
[]
[]
[]
[]
[]
[]
[]
[]
[]
[]
[]
[null,null,null,{"$f":"D9","v":""},null,{"$f":"F9","v":""}]

{"sheet":"INICIO","index":1,"n_rows":143,"n_cols":520,"rows_kept":143,"cut":false,"hidden":false,"merged":[[3,4,3,6],[5,23,5,28],[7,12,7,14],[5,58,5,63],[102,2,102,8],[29,1,29,7],[5,268,5,273],[5,303,5,308],[7,47,7,49],[7,82,7,84],[7,117,7,119],[7,152,7,154],[7,187,7,189],[7,222,7,224],[7,257,7,259],[7,292,7,294],[5,93,5,98],[5,128,5,133],[5,163,5,168],[5,198,5,203],[5,233,5,238],[27,364,27,375],[27,382,27,393],[27,400,27,411],[27,418,27,429],[27,436,27,447],[28,412,28,414],[28,418,28,429],[28,430,28,432],[28,436,28,447],[28,448,28,450],[28,364,28,375],[28,376,28,378],[28,382,28,393],[28,394,28,396],[28,400,28,411],[28,484,28,486],[28,490,28,501],[27,508,27,519],[28,508,28,519],[27,454,27,465],[27,472,27,483],[27,490,27,501],[28,454,28,465],[28,466,28,468],[28,472,28,483]]}
[]
[null,null,"CARGA ACADEMICA",null,null,null,"Trimestre","1T",null,null,null,null,"ASISTENCIA",null,null,null,null,null,null,null,null,null,null,null,null,null,null,null,null,null,null,null,null,null,null,null,null,null,null,null,null,null,null,null,null,null,null,"ASISTENCIA",null,null,null,null,null,null,null,null,null,null,null,null,null,null,null,null,null,null,null,null,null,null,null,null,null,null,null,null,null,null,null,null,null,null,"ASISTENCIA",null,null,null,null,null,null,null,null,null,null,null,null,null,null,null,null,null,null,null,null,null,null,null,null,null,null,null,null,null,null,null,null,null,null,"ASISTENCIA",null,null,null,null,null,null,null,null,null,null,null,null,null,null,null,null,null,null,null,null,null,null,null,null,null,null,null,null,null,null,null,null,null,null,"ASISTENCIA",null,null,null,null,null,null,null,null,null,null,null,null,null,null,null,null,null,null,null,null,null,null,null,null,null,null,null,null,null,null,null,null,null,null,"ASISTENCIA",null,null,null,null,null,null,null,null,null,null,null,null,null,null,null,null,null,null,null,null,null,null,null,null,null,null,null,null,null,null,null,null,null,null,"ASISTENCIA",null,null,null,null,null,null,null,null,null,null,null,null,null,null,null,null,null,null,null,null,null,null,null,null,null,null,null,null,null,null,null,null,null,null,"ASISTENCIA",null,null,null,null,null,null,null,null,null,null,null,null,null,null,null,null,null,null,null,null,null,null,null,null,null,null,null,null,null,null,null,null,null,null,"ASISTENCIA"]
[null,null,null,null,null,null,null,null,null,null,null,null,null,null,null,null,null,null,null,null,null,null,null,null,null,null,null,null,null,null,null,null,null,null,null,null,null,null,null,null,null,null,null,null,null,null,null,null,null,null,null,null,null,null,null,null,{"$f":"IF(BE4=\"\",\"\",$C116)","v":""},{"$f":"IF(BF4=\"\",\"\",$C117)","v":""},{"$f":"IF(BG4=\"\",\"\",$C118)","v":""},{"$f":"IF(BH4=\"\",\"\",$C119)","v":""},{"$f":"IF(BI4=\"\",\"\",$C120)","v":""},{"$f":"IF(BJ4=\"\",\"\",$C121)","v":""},{"$f":"IF(BK4=\"\",\"\",$C122)","v":""},{"$f":"IF(BL4=\"\",\"\",$C123)","v":""},{"$f":"IF(BM4=\"\",\"\",$C124)","v":""},{"$f":"IF(BN4=\"\",\"\",$C125)","v":""}]
[null,null,null,"DOCENTE:",{"$f":"LISTA!$D$2","v":"GERFRIED PINTO"},null,null,null,null,null,null,null,"CURSO",null,{"$f":"$D$11","v":"6B"},null,null,null,null,null,null,null,null,null,null,null,null,null,null,null,null,null,null,null,null,null,null,null,null,null,null,null,null,null,null,null,null,"CURSO",null,{"$f":"$D$12","v":"6B"},null,null,null,null,null,null,null,null,null,null,null,null,null,null,null,null,null,null,null,null,null,null,null,null,null,null,null,null,null,null,null,null,"CURSO",null,{"$f":"$D$13","v":"6B"},null,null,null,null,null,null,null,null,null,null,null,null,null,null,null,null,null,null,null,null,null,null,null,null,null,null,null,null,null,null,null,null,"CURSO",null,{"$f":"$D$14","v":"6A"},null,null,null,null,null,null,null,null,null,null,null,null,null,null,null,null,null,null,null,null,null,null,null,null,null,null,null,null,null,null,null,null,"CURSO",null,{"$f":"$D$15","v":"6A"},null,null,null,null,null,null,null,null,null,null,null,null,null,null,null,null,null,null,null,null,null,null,null,null,null,null,null,null,null,null,null,null,"CURSO",null,{"$f":"$D$16","v":"5A"},null,null,null,null,null,null,null,null,null,null,null,null,null,null,null,null,null,null,null,null,null,null,null,null,null,null,null,null,null,null,null,null,"CURSO",null,{"$f":"$D$17","v":"5A"},null,null,null,null,null,null,null,null,null,null,null,null,null,null,null,null,null,null,null,null,null,null,null,null,null,null,null,null,null,null,null,null,"CURSO",null,{"$f":"$D$18","v":"4A"},null,null,null,null,null,null,null,null,null,null,null,null,null,null,null,null,null,null,null,null,null,null,null,null,null,null,null,null,null,null,null,null,"CURSO",null,{"$f":"$D$19","v":""}]
[]
[null,null,null,"MES",null,"ABRIL",null,null,null,null,null,null,"ASIGNATURA",null,null,null,null,null,null,null,null,null,null,{"$f":"$F$6","v":"ABRIL"},null,null,null,null,null,null,null,null,null,null,null,null,null,null,null,null,null,null,null,null,null,null,null,"ASIGNATURA",null,null,null,null,null,null,null,null,null,null,{"$f":"$F$6","v":"ABRIL"},null,null,null,null,null,null,null,null,null,null,null,null,null,null,null,null,null,null,null,null,null,null,null,"ASIGNATURA",null,null,null,null,null,null,null,null,null,null,{"$f":"$F$6","v":"ABRIL"},null,null,null,null,null,null,null,null,null,null,null,null,null,null,null,null,null,null,null,null,null,null,null,"ASIGNATURA",null,null,null,null,null,null,null,null,null,null,{"$f":"$F$6","v":"ABRIL"},null,null,null,null,null,null,null,null,null,null,null,null,null,null,null,null,null,null,null,null,null,null,null,"ASIGNATURA",null,null,null,null,null,null,null,null,null,null,{"$f":"$F$6","v":"ABRIL"},null,null,null,null,null,null,null,null,null,null,null,null,null,null,null,null,null,null,null,null,null,null,null,"ASIGNATURA",null,null,null,null,null,null,null,null,null,null,{"$f":"$F$6","v":"ABRIL"},null,null,null,null,null,null,null,null,null,null,null,null,null,null,null,null,null,null,null,null,null,null,null,"ASIGNATURA",null,null,null,null,null,null,null,null,null,null,{"$f":"$F$6","v":"ABRIL"},null,null,null,null,null,null,null,null,null,null,null,null,null,null,null,null,null,null,null,null,null,null,null,"ASIGNATURA",null,null,null,null,null,null,null,null,null,null,{"$f":"$F$6","v":"ABRIL"},null,null,null,null,null,null,null,null,null,null,null,null,null,null,null,null,null,null,null,null,null,null,null,"ASIGNATURA",null,null,null,null,null,null,null,null,null,null,{"$f":"$F$6","v":"ABRIL"},null,null,null,null,null,null,null,null,null,null,null,null,null,null,null,null,null,null,null,null,null,null,null,null,null,null,null,null,null,null,null,null,null,null,null,null,null,null,null,null,null,null,null,null,null,null,null,null,null,null,null,null,null,null,null,null,null,null,null,null,null,null,null,null,{"$f":"IF($H$2=NH10,NH14,IF($H$2=NH11,NH15,IF($H$2=NH12,NH16,IF($H$2=\"\",\"\"))))","v":"PRIMER TRIMESTRE"}]
[]
[null,"ASIGNACION",null,null,null,null,null,null,null,null,null,null,{"$f":"$F$11","v":"D.COOPERATIVA"},null,null,null,null,"L","M","M","J","V","L","M","M","J","V","L","M","M","J","V","L","M","M","J","V","L","M","M","J","V",null,null,null,null,null,{"$f":"$F$12","v":"SCIENCE"},null,null,null,null,"L","M","M","J","V","L","M","M","J","V","L","M","M","J","V","L","M","M","J","V","L","M","M","J","V",null,null,null,null,null,{"$f":"$F$13","v":"INGLES"},null,null,null,null,"L","M","M","J","V","L","M","M","J","V","L","M","M","J","V","L","M","M","J","V","L","M","M","J","V",null,null,null,null,null,{"$f":"$F$14","v":"SCIENCE"},null,null,null,null,"L","M","M","J","V","L","M","M","J","V","L","M","M","J","V","L","M","M","J","V","L","M","M","J","V",null,null,null,null,null,{"$f":"$F$15","v":"INGLES"},null,null,null,null,"L","M","M","J","V","L","M","M","J","V","L","M","M","J","V","L","M","M","J","V","L","M","M","J","V",null,null,null,null,null,{"$f":"$F$16","v":"SCIENCE"},null,null,null,null,"L","M","M","J","V","L","M","M","J","V","L","M","M","J","V","L","M","M","J","V","L","M","M","J","V",null,null,null,null,null,{"$f":"$F$17","v":"INGLES"},null,null,null,null,"L","M","M","J","V","L","M","M","J","V","L","M","M","J","V","L","M","M","J","V","L","M","M","J","V",null,null,null,null,null,{"$f":"$F$18","v":"SCIENCE"},null,null,null,null,"L","M","M","J","V","L","M","M","J","V","L","M","M","J","V","L","M","M","J","V","L","M","M","J","V",null,null,null,null,null,{"$f":"$F$19","v":""},null,null,null,null,"L","M","M","J","V","L","M","M","J","V","L","M","M","J","V","L","M","M","J","V","L","M","M","J","V"]
[]
["A",null,"Ciclo","Curso",null,"Asignatura",null,null,null,null,"CD",null,"NOMBRE",null,"RET","T/F",null,{"$f":"IF($F$6=$LN$14,$LO$14,IF($F$6=$LN$15,$LO$15,IF($F$6=$LN$16,$LO$16,IF($F$6=$LN$17,$LO$17,IF($F$6=$LN$18,$LO$18,IF($F$6=$LN$19,$LO$19,IF($F$6=$LN$20,$LO$20,IF($F$6=$LN$21,$LO$21,IF($F$6=$LN$22,$LO$22,IF($F$6=$LN$23,$LO$23,\"\"))))))))))","v":2},{"$f":"IF($F$6=$LN$14,LP14,IF($F$6=$LN$15,LP15,IF($F$6=$LN$16,LP16,IF($F$6=$LN$17,LP17,IF($F$6=$LN$18,LP18,IF($F$6=$LN$19,LP19,IF($F$6=$LN$20,LP20,IF($F$6=$LN$21,LP21,IF($F$6=$LN$22,LP22,IF($F$6=$LN$23,LP23,\"\"))))))))))","v":3},4,5,6,9,10,11,12,13,16,17,18,19,20,23,24,25,26,27,30,0,0,0,0,null,null,null,"CD",null,"NOMBRE",null,"T/F","T/F",null,{"$f":"IF($F$6=$LN$14,$LO$14,IF($F$6=$LN$15,$LO$15,IF($F$6=$LN$16,$LO$16,IF($F$6=$LN$17,$LO$17,IF($F$6=$LN$18,$LO$18,IF($F$6=$LN$19,$LO$19,IF($F$6=$LN$20,$LO$20,IF($F$6=$LN$21,$LO$21,IF($F$6=$LN$22,$LO$22,IF($F$6=$LN$23,$LO$23,\"\"))))))))))","v":2},{"$f":"IF($F$6=$LN$14,$LP$14,IF($F$6=$LN$15,$LP$15,IF($F$6=$LN$16,$LP$16,IF($F$6=$LN$17,$LP$17,IF($F$6=$LN$18,$LP$18,IF($F$6=$LN$19,$LP$19,IF($F$6=$LN$20,$LP$20,IF($F$6=$LN$21,$LP$21,IF($F$6=$LN$22,$LP$22,IF($F$6=$LN$23,$LP$23,\"\"))))))))))","v":3},{"$f":"IF($F$6=$LN$14,$LQ$14,IF($F$6=$LN$15,$LQ$15,IF($F$6=$LN$16,$LQ$16,IF($F$6=$LN$17,$LQ$17,IF($F$6=$LN$18,$LQ$18,IF($F$6=$LN$19,$LQ$19,IF($F$6=$LN$20,$LQ$20,IF($F$6=$LN$21,$LQ$21,IF($F$6=$LN$22,$LQ$22,IF($F$6=$LN$23,$LQ$23,\"\"))))))))))","v":4},{"$f":"IF($F$6=$LN$14,$LR$14,IF($F$6=$LN$15,$LR$15,IF($F$6=$LN$16,$LR$16,IF($F$6=$LN$17,$LR$17,IF($F$6=$LN$18,$LR$18,IF($F$6=$LN$19,$LR$19,IF($F$6=$LN$20,$LR$20,IF($F$6=$LN$21,$LR$21,IF($F$6=$LN$22,$LR$22,IF($F$6=$LN$23,$LR$23,\"\"))))))))))","v":5},{"$f":"IF($F$6=$LN$14,$LS$14,IF($F$6=$LN$15,$LS$15,IF($F$6=$LN$16,$LS$16,IF($F$6=$LN$17,$LS$17,IF($F$6=$LN$18,$LS$18,IF($F$6=$LN$19,$LS$19,IF($F$6=$LN$20,$LS$20,IF($F$6=$LN$21,$LS$21,IF($F$6=$LN$22,$LS$22,IF($F$6=$LN$23,$LS$23,\"\"))))))))))","v":6},{"$f":"IF($F$6=$LN$14,$LT$14,IF($F$6=$LN$15,$LT$15,IF($F$6=$LN$16,$LT$16,IF($F$6=$LN$17,$LT$17,IF($F$6=$LN$18,$LT$18,IF($F$6=$LN$19,$LT$19,IF($F$6=$LN$20,$LT$20,IF($F$6=$LN$21,$LT$21,IF($F$6=$LN$22,$LT$22,IF($F$6=$LN$23,$LT$23,\"\"))))))))))","v":9},{"$f":"IF($F$6=$LN$14,$LU$14,IF($F$6=$LN$15,$LU$15,IF($F$6=$LN$16,$LU$16,IF($F$6=$LN$17,$LU$17,IF($F$6=$LN$18,$LU$18,IF($F$6=$LN$19,$LU$19,IF($F$6=$LN$20,$LU$20,IF($F$6=$LN$21,$LU$21,IF($F$6=$LN$22,$LU$22,IF($F$6=$LN$23,$LU$23,\"\"))))))))))","v":10},{"$f":"IF($F$6=$LN$14,$LV$14,IF($F$6=$LN$15,$LV$15,IF($F$6=$LN$16,$LV$16,IF($F$6=$LN$17,$LV$17,IF($F$6=$LN$18,$LV$18,IF($F$6=$LN$19,$LV$19,IF($F$6=$LN$20,$LV$20,IF($F$6=$LN$21,$LV$21,IF($F$6=$LN$22,$LV$22,IF($F$6=$LN$23,$LV$23,\"\"))))))))))","v":11},{"$f":"IF($F$6=$LN$14,$LW$14,IF($F$6=$LN$15,$LW$15,IF($F$6=$LN$16,$LW$16,IF($F$6=$LN$17,$LW$17,IF($F$6=$LN$18,$LW$18,IF($F$6=$LN$19,$LW$19,IF($F$6=$LN$20,$LW$20,IF($F$6=$LN$21,$LW$21,IF($F$6=$LN$22,$LW$22,IF($F$6=$LN$23,$LW$23,\"\"))))))))))","v":12},{"$f":"IF($F$6=$LN$14,$LX$14,IF($F$6=$LN$15,$LX$15,IF($F$6=$LN$16,$LX$16,IF($F$6=$LN$17,$LX$17,IF($F$6=$LN$18,$LX$18,IF($F$6=$LN$19,$LX$19,IF($F$6=$LN$20,$LX$20,IF($F$6=$LN$21,$LX$21,IF($F$6=$LN$22,$LX$22,IF($F$6=$LN$23,$LX$23,\"\"))))))))))","v":13},{"$f":"IF($F$6=$LN$14,$LY$14,IF($F$6=$LN$15,$LY$15,IF($F$6=$LN$16,$LY$16,IF($F$6=$LN$17,$LY$17,IF($F$6=$LN$18,$LY$18,IF($F$6=$LN$19,$LY$19,IF($F$6=$LN$20,$LY$20,IF($F$6=$LN$21,$LY$21,IF($F$6=$LN$22,$LY$22,IF($F$6=$LN$23,$LY$23,\"\"))))))))))","v":16},{"$f":"IF($F$6=$LN$14,$LZ$14,IF($F$6=$LN$15,$LZ$15,IF($F$6=$LN$16,$LZ$16,IF($F$6=$LN$17,$LZ$17,IF($F$6=$LN$18,$LZ$18,IF($F$6=$LN$19,$LZ$19,IF($F$6=$LN$20,$LZ$20,IF($F$6=$LN$21,LZ21,IF($F$6=$LN$22,$LZ$22,IF($F$6=$LN$23,$LZ$23,\"\"))))))))))","v":17},{"$f":"IF($F$6=$LN$14,$MA$14,IF($F$6=$LN$15,$MA$15,IF($F$6=$LN$16,$MA$16,IF($F$6=$LN$17,$MA$17,IF($F$6=$LN$18,$MA$18,IF($F$6=$LN$19,$MA$19,IF($F$6=$LN$20,$MA$20,IF($F$6=$LN$21,$MA$21,IF($F$6=$LN$22,$MA$22,IF($F$6=$LN$23,$MA$23,\"\"))))))))))","v":18},{"$f":"IF($F$6=$LN$14,$MB$14,IF($F$6=$LN$15,$MB$15,IF($F$6=$LN$16,$MB$16,IF($F$6=$LN$17,$MB$17,IF($F$6=$LN$18,$MB$18,IF($F$6=$LN$19,$MB$19,IF($F$6=$LN$20,$MB$20,IF($F$6=$LN$21,$MB$21,IF($F$6=$LN$22,$MB$22,IF($F$6=$LN$23,$MB$23,\"\"))))))))))","v":19},{"$f":"IF($F$6=$LN$14,$MC$14,IF($F$6=$LN$15,$MC$15,IF($F$6=$LN$16,$MC$16,IF($F$6=$LN$17,$MC$17,IF($F$6=$LN$18,$MC$18,IF($F$6=$LN$19,$MC$19,IF($F$6=$LN$20,$MC$20,IF($F$6=$LN$21,$MC$21,IF($F$6=$LN$22,$MC$22,IF($F$6=$LN$23,$MC$23,\"\"))))))))))","v":20},{"$f":"IF($F$6=$LN$14,$MD$14,IF($F$6=$LN$15,$MD$15,IF($F$6=$LN$16,$MD$16,IF($F$6=$LN$17,$MD$17,IF($F$6=$LN$18,$MD$18,IF($F$6=$LN$19,$MD$19,IF($F$6=$LN$20,$MD$20,IF($F$6=$LN$21,$MD$21,IF($F$6=$LN$22,$MD$22,IF($F$6=$LN$23,$MD$23,\"\"))))))))))","v":23},{"$f":"IF($F$6=$LN$14,$ME$14,IF($F$6=$LN$15,$ME$15,IF($F$6=$LN$16,$ME$16,IF($F$6=$LN$17,$ME$17,IF($F$6=$LN$18,$ME$18,IF($F$6=$LN$19,$ME$19,IF($F$6=$LN$20,$ME$20,IF($F$6=$LN$21,$ME$21,IF($F$6=$LN$22,$ME$22,IF($F$6=$LN$23,$ME$23,\"\"))))))))))","v":24},{"$f":"IF($F$6=$LN$14,$MF$14,IF($F$6=$LN$15,$MF$15,IF($F$6=$LN$16,$MF$16,IF($F$6=$LN$17,$MF$17,IF($F$6=$LN$18,$MF$18,IF($F$6=$LN$19,$MF$19,IF($F$6=$LN$20,$MF$20,IF($F$6=$LN$21,$MF$21,IF($F$6=$LN$22,$MF$22,IF($F$6=$LN$23,$MF$23,\"\"))))))))))","v":25},{"$f":"IF($F$6=$LN$14,$MG$14,IF($F$6=$LN$15,$MG$15,IF($F$6=$LN$16,$MG$16,IF($F$6=$LN$17,$MG$17,IF($F$6=$LN$18,$MG$18,IF($F$6=$LN$19,$MG$19,IF($F$6=$LN$20,$MG$20,IF($F$6=$LN$21,$MG$21,IF($F$6=$LN$22,$MG$22,IF($F$6=$LN$23,$MG$23,\"\"))))))))))","v":26},{"$f":"IF($F$6=$LN$14,$MH$14,IF($F$6=$LN$15,$MH$15,IF($F$6=$LN$16,$MH$16,IF($F$6=$LN$17,$MH$17,IF($F$6=$LN$18,$MH$18,IF($F$6=$LN$19,$MH$19,IF($F$6=$LN$20,$MH$20,IF($F$6=$LN$21,$MH$21,IF($F$6=$LN$22,$MH$22,IF($F$6=$LN$23,$MH$23,\"\"))))))))))","v":27},{"$f":"IF($F$6=$LN$14,$MI$14,IF($F$6=$LN$15,$MI$15,IF($F$6=$LN$16,$MI$16,IF($F$6=$LN$17,$MI$17,IF($F$6=$LN$18,$MI$18,IF($F$6=$LN$19,$MI$19,IF($F$6=$LN$20,$MI$20,IF($F$6=$LN$21,$MI$21,IF($F$6=$LN$22,$MI$22,IF($F$6=$LN$23,$MI$23,\"\"))))))))))","v":30},{"$f":"IF($F$6=$LN$14,$MJ$14,IF($F$6=$LN$15,$MJ$15,IF($F$6=$LN$16,$MJ$16,IF($F$6=$LN$17,$MJ$17,IF($F$6=$LN$18,$MJ$18,IF($F$6=$LN$19,$MJ$19,IF($F$6=$LN$20,$MJ$20,IF($F$6=$LN$21,$MJ$21,IF($F$6=$LN$22,$MJ$22,IF($F$6=$LN$23,$MJ$23,\"\"))))))))))","v":0},{"$f":"IF($F$6=$LN$14,$MK$14,IF($F$6=$LN$15,$MK$15,IF($F$6=$LN$16,$MK$16,IF($F$6=$LN$17,$MK$17,IF($F$6=$LN$18,$MK$18,IF($F$6=$LN$19,$MK$19,IF($F$6=$LN$20,$MK$20,IF($F$6=$LN$21,$MK$21,IF($F$6=$LN$22,$MK$22,IF($F$6=$LN$23,$MK$23,\"\"))))))))))","v":0},{"$f":"IF($F$6=$LN$14,$ML$14,IF($F$6=$LN$15,$ML$15,IF($F$6=$LN$16,$ML$16,IF($F$6=$LN$17,$ML$17,IF($F$6=$LN$18,$ML$18,IF($F$6=$LN$19,$ML$19,IF($F$6=$LN$20,$ML$20,IF($F$6=$LN$21,$ML$21,IF($F$6=$LN$22,$ML$22,IF($F$6=$LN$23,$ML$23,\"\"))))))))))","v":0},{"$f":"IF($F$6=$LN$14,$MM$14,IF($F$6=$LN$15,$MM$15,IF($F$6=$LN$16,$MM$16,IF($F$6=$LN$17,$MM$17,IF($F$6=$LN$18,$MM$18,IF($F$6=$LN$19,$MM$19,IF($F$6=$LN$20,$MM$20,IF($F$6=$LN$21,$MM$21,IF($F$6=$LN$22,$MM$22,IF($F$6=$LN$23,$MM$23,\"\"))))))))))","v":0},null,null,null,"CD",null,"NOMBRE",null,"T/F","T/F",null,{"$f":"IF($F$6=$LN$14,$LO$14,IF($F$6=$LN$15,$LO$15,IF($F$6=$LN$16,$LO$16,IF($F$6=$LN$17,$LO$17,IF($F$6=$LN$18,$LO$18,IF($F$6=$LN$19,$LO$19,IF($F$6=$LN$20,$LO$20,IF($F$6=$LN$21,$LO$21,IF($F$6=$LN$22,$LO$22,IF($F$6=$LN$23,$LO$23,\"\"))))))))))","v":2},{"$f":"IF($F$6=$LN$14,$LP$14,IF($F$6=$LN$15,$LP$15,IF($F$6=$LN$16,$LP$16,IF($F$6=$LN$17,$LP$17,IF($F$6=$LN$18,$LP$18,IF($F$6=$LN$19,$LP$19,IF($F$6=$LN$20,$LP$20,IF($F$6=$LN$21,$LP$21,IF($F$6=$LN$22,$LP$22,IF($F$6=$LN$23,$LP$23,\"\"))))))))))","v":3},{"$f":"IF($F$6=$LN$14,$LQ$14,IF($F$6=$LN$15,$LQ$15,IF($F$6=$LN$16,$LQ$16,IF($F$6=$LN$17,$LQ$17,IF($F$6=$LN$18,$LQ$18,IF($F$6=$LN$19,$LQ$19,IF($F$6=$LN$20,$LQ$20,IF($F$6=$LN$21,$LQ$21,IF($F$6=$LN$22,$LQ$22,IF($F$6=$LN$23,$LQ$23,\"\"))))))))))","v":4},{"$f":"IF($F$6=$LN$14,$LR$14,IF($F$6=$LN$15,$LR$15,IF($F$6=$LN$16,$LR$16,IF($F$6=$LN$17,$LR$17,IF($F$6=$LN$18,$LR$18,IF($F$6=$LN$19,$LR$19,IF($F$6=$LN$20,$LR$20,IF($F$6=$LN$21,$LR$21,IF($F$6=$LN$22,$LR$22,IF($F$6=$LN$23,$LR$23,\"\"))))))))))","v":5},{"$f":"IF($F$6=$LN$14,$LS$14,IF($F$6=$LN$15,$LS$15,IF($F$6=$LN$16,$LS$16,IF($F$6=$LN$17,$LS$17,IF($F$6=$LN$18,$LS$18,IF($F$6=$LN$19,$LS$19,IF($F$6=$LN$20,$LS$20,IF($F$6=$LN$21,$LS$21,IF($F$6=$LN$22,$LS$22,IF($F$6=$LN$23,$LS$23,\"\"))))))))))","v":6},{"$f":"IF($F$6=$LN$14,$LT$14,IF($F$6=$LN$15,$LT$15,IF($F$6=$LN$16,$LT$16,IF($F$6=$LN$17,$LT$17,IF($F$6=$LN$18,$LT$18,IF($F$6=$LN$19,$LT$19,IF($F$6=$LN$20,$LT$20,IF($F$6=$LN$21,$LT$21,IF($F$6=$LN$22,$LT$22,IF($F$6=$LN$23,$LT$23,\"\"))))))))))","v":9},{"$f":"IF($F$6=$LN$14,$LU$14,IF($F$6=$LN$15,$LU$15,IF($F$6=$LN$16,$LU$16,IF($F$6=$LN$17,$LU$17,IF($F$6=$LN$18,$LU$18,IF($F$6=$LN$19,$LU$19,IF($F$6=$LN$20,$LU$20,IF($F$6=$LN$21,$LU$21,IF($F$6=$LN$22,$LU$22,IF($F$6=$LN$23,$LU$23,\"\"))))))))))","v":10},{"$f":"IF($F$6=$LN$14,$LV$14,IF($F$6=$LN$15,$LV$15,IF($F$6=$LN$16,$LV$16,IF($F$6=$LN$17,$LV$17,IF($F$6=$LN$18,$LV$18,IF($F$6=$LN$19,$LV$19,IF($F$6=$LN$20,$LV$20,IF($F$6=$LN$21,$LV$21,IF($F$6=$LN$22,$LV$22,IF($F$6=$LN$23,$LV$23,\"\"))))))))))","v":11},{"$f":"IF($F$6=$LN$14,$LW$14,IF($F$6=$LN$15,$LW$15,IF($F$6=$LN$16,$LW$16,IF($F$6=$LN$17,$LW$17,IF($F$6=$LN$18,$LW$18,IF($F$6=$LN$19,$LW$19,IF($F$6=$LN$20,$LW$20,IF($F$6=$LN$21,$LW$21,IF($F$6=$LN$22,$LW$22,IF($F$6=$LN$23,$LW$23,\"\"))))))))))","v":12},{"$f":"IF($F$6=$LN$14,$LX$14,IF($F$6=$LN$15,$LX$15,IF($F$6=$LN$16,$LX$16,IF($F$6=$LN$17,$LX$17,IF($F$6=$LN$18,$LX$18,IF($F$6=$LN$19,$LX$19,IF($F$6=$LN$20,$LX$20,IF($F$6=$LN$21,$LX$21,IF($F$6=$LN$22,$LX$22,IF($F$6=$LN$23,$LX$23,\"\"))))))))))","v":13},{"$f":"IF($F$6=$LN$14,$LY$14,IF($F$6=$LN$15,$LY$15,IF($F$6=$LN$16,$LY$16,IF($F$6=$LN$17,$LY$17,IF($F$6=$LN$18,$LY$18,IF($F$6=$LN$19,$LY$19,IF($F$6=$LN$20,$LY$20,IF($F$6=$LN$21,$LY$21,IF($F$6=$LN$22,$LY$22,IF($F$6=$LN$23,$LY$23,\"\"))))))))))","v":16},{"$f":"IF($F$6=$LN$14,$LZ$14,IF($F$6=$LN$15,$LZ$15,IF($F$6=$LN$16,$LZ$16,IF($F$6=$LN$17,$LZ$17,IF($F$6=$LN$18,$LZ$18,IF($F$6=$LN$19,$LZ$19,IF($F$6=$LN$20,$LZ$20,IF($F$6=$LN$21,NI21,IF($F$6=$LN$22,$LZ$22,IF($F$6=$LN$23,$LZ$23,\"\"))))))))))","v":17},{"$f":"IF($F$6=$LN$14,$MA$14,IF($F$6=$LN$15,$MA$15,IF($F$6=$LN$16,$MA$16,IF($F$6=$LN$17,$MA$17,IF($F$6=$LN$18,$MA$18,IF($F$6=$LN$19,$MA$19,IF($F$6=$LN$20,$MA$20,IF($F$6=$LN$21,$MA$21,IF($F$6=$LN$22,$MA$22,IF($F$6=$LN$23,$MA$23,\"\"))))))))))","v":18},{"$f":"IF($F$6=$LN$14,$MB$14,IF($F$6=$LN$15,$MB$15,IF($F$6=$LN$16,$MB$16,IF($F$6=$LN$17,$MB$17,IF($F$6=$LN$18,$MB$18,IF($F$6=$LN$19,$MB$19,IF($F$6=$LN$20,$MB$20,IF($F$6=$LN$21,$MB$21,IF($F$6=$LN$22,$MB$22,IF($F$6=$LN$23,$MB$23,\"\"))))))))))","v":19},{"$f":"IF($F$6=$LN$14,$MC$14,IF($F$6=$LN$15,$MC$15,IF($F$6=$LN$16,$MC$16,IF($F$6=$LN$17,$MC$17,IF($F$6=$LN$18,$MC$18,IF($F$6=$LN$19,$MC$19,IF($F$6=$LN$20,$MC$20,IF($F$6=$LN$21,$MC$21,IF($F$6=$LN$22,$MC$22,IF($F$6=$LN$23,$MC$23,\"\"))))))))))","v":20},{"$f":"IF($F$6=$LN$14,$MD$14,IF($F$6=$LN$15,$MD$15,IF($F$6=$LN$16,$MD$16,IF($F$6=$LN$17,$MD$17,IF($F$6=$LN$18,$MD$18,IF($F$6=$LN$19,$MD$19,IF($F$6=$LN$20,$MD$20,IF($F$6=$LN$21,$MD$21,IF($F$6=$LN$22,$MD$22,IF($F$6=$LN$23,$MD$23,\"\"))))))))))","v":23},{"$f":"IF($F$6=$LN$14,$ME$14,IF($F$6=$LN$15,$ME$15,IF($F$6=$LN$16,$ME$16,IF($F$6=$LN$17,$ME$17,IF($F$6=$LN$18,$ME$18,IF($F$6=$LN$19,$ME$19,IF($F$6=$LN$20,$ME$20,IF($F$6=$LN$21,$ME$21,IF($F$6=$LN$22,$ME$22,IF($F$6=$LN$23,$ME$23,\"\"))))))))))","v":24},{"$f":"IF($F$6=$LN$14,$MF$14,IF($F$6=$LN$15,$MF$15,IF($F$6=$LN$16,$MF$16,IF($F$6=$LN$17,$MF$17,IF($F$6=$LN$18,$MF$18,IF($F$6=$LN$19,$MF$19,IF($F$6=$LN$20,$MF$20,IF($F$6=$LN$21,$MF$21,IF($F$6=$LN$22,$MF$22,IF($F$6=$LN$23,$MF$23,\"\"))))))))))","v":25},{"$f":"IF($F$6=$LN$14,$MG$14,IF($F$6=$LN$15,$MG$15,IF($F$6=$LN$16,$MG$16,IF($F$6=$LN$17,$MG$17,IF($F$6=$LN$18,$MG$18,IF($F$6=$LN$19,$MG$19,IF($F$6=$LN$20,$MG$20,IF($F$6=$LN$21,$MG$21,IF($F$6=$LN$22,$MG$22,IF($F$6=$LN$23,$MG$23,\"\"))))))))))","v":26},{"$f":"IF($F$6=$LN$14,$MH$14,IF($F$6=$LN$15,$MH$15,IF($F$6=$LN$16,$MH$16,IF($F$6=$LN$17,$MH$17,IF($F$6=$LN$18,$MH$18,IF($F$6=$LN$19,$MH$19,IF($F$6=$LN$20,$MH$20,IF($F$6=$LN$21,$MH$21,IF($F$6=$LN$22,$MH$22,IF($F$6=$LN$23,$MH$23,\"\"))))))))))","v":27},{"$f":"IF($F$6=$LN$14,$MI$14,IF($F$6=$LN$15,$MI$15,IF($F$6=$LN$16,$MI$16,IF($F$6=$LN$17,$MI$17,IF($F$6=$LN$18,$MI$18,IF($F$6=$LN$19,$MI$19,IF($F$6=$LN$20,$MI$20,IF($F$6=$LN$21,$MI$21,IF($F$6=$LN$22,$MI$22,IF($F$6=$LN$23,$MI$23,\"\"))))))))))","v":30},{"$f":"IF($F$6=$LN$14,$MJ$14,IF($F$6=$LN$15,$MJ$15,IF($F$6=$LN$16,$MJ$16,IF($F$6=$LN$17,$MJ$17,IF($F$6=$LN$18,$MJ$18,IF($F$6=$LN$19,$MJ$19,IF($F$6=$LN$20,$MJ$20,IF($F$6=$LN$21,$MJ$21,IF($F$6=$LN$22,$MJ$22,IF($F$6=$LN$23,$MJ$23,\"\"))))))))))","v":0},{"$f":"IF($F$6=$LN$14,$MK$14,IF($F$6=$LN$15,$MK$15,IF($F$6=$LN$16,$MK$16,IF($F$6=$LN$17,$MK$17,IF($F$6=$LN$18,$MK$18,IF($F$6=$LN$19,$MK$19,IF($F$6=$LN$20,$MK$20,IF($F$6=$LN$21,$MK$21,IF($F$6=$LN$22,$MK$22,IF($F$6=$LN$23,$MK$23,\"\"))))))))))","v":0},{"$f":"IF($F$6=$LN$14,$ML$14,IF($F$6=$LN$15,$ML$15,IF($F$6=$LN$16,$ML$16,IF($F$6=$LN$17,$ML$17,IF($F$6=$LN$18,$ML$18,IF($F$6=$LN$19,$ML$19,IF($F$6=$LN$20,$ML$20,IF($F$6=$LN$21,$ML$21,IF($F$6=$LN$22,$ML$22,IF($F$6=$LN$23,$ML$23,\"\"))))))))))","v":0},{"$f":"IF($F$6=$LN$14,$MM$14,IF($F$6=$LN$15,$MM$15,IF($F$6=$LN$16,$MM$16,IF($F$6=$LN$17,$MM$17,IF($F$6=$LN$18,$MM$18,IF($F$6=$LN$19,$MM$19,IF($F$6=$LN$20,$MM$20,IF($F$6=$LN$21,$MM$21,IF($F$6=$LN$22,$MM$22,IF($F$6=$LN$23,$MM$23,\"\"))))))))))","v":0},null,null,null,"CD",null,"NOMBRE",null,"T/F","T/F",null,{"$f":"IF($F$6=$LN$14,$LO$14,IF($F$6=$LN$15,$LO$15,IF($F$6=$LN$16,$LO$16,IF($F$6=$LN$17,$LO$17,IF($F$6=$LN$18,$LO$18,IF($F$6=$LN$19,$LO$19,IF($F$6=$LN$20,$LO$20,IF($F$6=$LN$21,$LO$21,IF($F$6=$LN$22,$LO$22,IF($F$6=$LN$23,$LO$23,\"\"))))))))))","v":2},{"$f":"IF($F$6=$LN$14,$LP$14,IF($F$6=$LN$15,$LP$15,IF($F$6=$LN$16,$LP$16,IF($F$6=$LN$17,$LP$17,IF($F$6=$LN$18,$LP$18,IF($F$6=$LN$19,$LP$19,IF($F$6=$LN$20,$LP$20,IF($F$6=$LN$21,$LP$21,IF($F$6=$LN$22,$LP$22,IF($F$6=$LN$23,$LP$23,\"\"))))))))))","v":3},{"$f":"IF($F$6=$LN$14,$LQ$14,IF($F$6=$LN$15,$LQ$15,IF($F$6=$LN$16,$LQ$16,IF($F$6=$LN$17,$LQ$17,IF($F$6=$LN$18,$LQ$18,IF($F$6=$LN$19,$LQ$19,IF($F$6=$LN$20,$LQ$20,IF($F$6=$LN$21,$LQ$21,IF($F$6=$LN$22,$LQ$22,IF($F$6=$LN$23,$LQ$23,\"\"))))))))))","v":4},{"$f":"IF($F$6=$LN$14,$LR$14,IF($F$6=$LN$15,$LR$15,IF($F$6=$LN$16,$LR$16,IF($F$6=$LN$17,$LR$17,IF($F$6=$LN$18,$LR$18,IF($F$6=$LN$19,$LR$19,IF($F$6=$LN$20,$LR$20,IF($F$6=$LN$21,$LR$21,IF($F$6=$LN$22,$LR$22,IF($F$6=$LN$23,$LR$23,\"\"))))))))))","v":5},{"$f":"IF($F$6=$LN$14,$LS$14,IF($F$6=$LN$15,$LS$15,IF($F$6=$LN$16,$LS$16,IF($F$6=$LN$17,$LS$17,IF($F$6=$LN$18,$LS$18,IF($F$6=$LN$19,$LS$19,IF($F$6=$LN$20,$LS$20,IF($F$6=$LN$21,$LS$21,IF($F$6=$LN$22,$LS$22,IF($F$6=$LN$23,$LS$23,\"\"))))))))))","v":6},{"$f":"IF($F$6=$LN$14,$LT$14,IF($F$6=$LN$15,$LT$15,IF($F$6=$LN$16,$LT$16,IF($F$6=$LN$17,$LT$17,IF($F$6=$LN$18,$LT$18,IF($F$6=$LN$19,$LT$19,IF($F$6=$LN$20,$LT$20,IF($F$6=$LN$21,$LT$21,IF($F$6=$LN$22,$LT$22,IF($F$6=$LN$23,$LT$23,\"\"))))))))))","v":9},{"$f":"IF($F$6=$LN$14,$LU$14,IF($F$6=$LN$15,$LU$15,IF($F$6=$LN$16,$LU$16,IF($F$6=$LN$17,$LU$17,IF($F$6=$LN$18,$LU$18,IF($F$6=$LN$19,$LU$19,IF($F$6=$LN$20,$LU$20,IF($F$6=$LN$21,$LU$21,IF($F$6=$LN$22,$LU$22,IF($F$6=$LN$23,$LU$23,\"\"))))))))))","v":10},{"$f":"IF($F$6=$LN$14,$LV$14,IF($F$6=$LN$15,$LV$15,IF($F$6=$LN$16,$LV$16,IF($F$6=$LN$17,$LV$17,IF($F$6=$LN$18,$LV$18,IF($F$6=$LN$19,$LV$19,IF($F$6=$LN$20,$LV$20,IF($F$6=$LN$21,$LV$21,IF($F$6=$LN$22,$LV$22,IF($F$6=$LN$23,$LV$23,\"\"))))))))))","v":11},{"$f":"IF($F$6=$LN$14,$LW$14,IF($F$6=$LN$15,$LW$15,IF($F$6=$LN$16,$LW$16,IF($F$6=$LN$17,$LW$17,IF($F$6=$LN$18,$LW$18,IF($F$6=$LN$19,$LW$19,IF($F$6=$LN$20,$LW$20,IF($F$6=$LN$21,$LW$21,IF($F$6=$LN$22,$LW$22,IF($F$6=$LN$23,$LW$23,\"\"))))))))))","v":12},{"$f":"IF($F$6=$LN$14,$LX$14,IF($F$6=$LN$15,$LX$15,IF($F$6=$LN$16,$LX$16,IF($F$6=$LN$17,$LX$17,IF($F$6=$LN$18,$LX$18,IF($F$6=$LN$19,$LX$19,IF($F$6=$LN$20,$LX$20,IF($F$6=$LN$21,$LX$21,IF($F$6=$LN$22,$LX$22,IF($F$6=$LN$23,$LX$23,\"\"))))))))))","v":13},{"$f":"IF($F$6=$LN$14,$LY$14,IF($F$6=$LN$15,$LY$15,IF($F$6=$LN$16,$LY$16,IF($F$6=$LN$17,$LY$17,IF($F$6=$LN$18,$LY$18,IF($F$6=$LN$19,$LY$19,IF($F$6=$LN$20,$LY$20,IF($F$6=$LN$21,$LY$21,IF($F$6=$LN$22,$LY$22,IF($F$6=$LN$23,$LY$23,\"\"))))))))))","v":16},{"$f":"IF($F$6=$LN$14,$LZ$14,IF($F$6=$LN$15,$LZ$15,IF($F$6=$LN$16,$LZ$16,IF($F$6=$LN$17,$LZ$17,IF($F$6=$LN$18,$LZ$18,IF($F$6=$LN$19,$LZ$19,IF($F$6=$LN$20,$LZ$20,IF($F$6=$LN$21,OR21,IF($F$6=$LN$22,$LZ$22,IF($F$6=$LN$23,$LZ$23,\"\"))))))))))","v":17},{"$f":"IF($F$6=$LN$14,$MA$14,IF($F$6=$LN$15,$MA$15,IF($F$6=$LN$16,$MA$16,IF($F$6=$LN$17,$MA$17,IF($F$6=$LN$18,$MA$18,IF($F$6=$LN$19,$MA$19,IF($F$6=$LN$20,$MA$20,IF($F$6=$LN$21,$MA$21,IF($F$6=$LN$22,$MA$22,IF($F$6=$LN$23,$MA$23,\"\"))))))))))","v":18},{"$f":"IF($F$6=$LN$14,$MB$14,IF($F$6=$LN$15,$MB$15,IF($F$6=$LN$16,$MB$16,IF($F$6=$LN$17,$MB$17,IF($F$6=$LN$18,$MB$18,IF($F$6=$LN$19,$MB$19,IF($F$6=$LN$20,$MB$20,IF($F$6=$LN$21,$MB$21,IF($F$6=$LN$22,$MB$22,IF($F$6=$LN$23,$MB$23,\"\"))))))))))","v":19},{"$f":"IF($F$6=$LN$14,$MC$14,IF($F$6=$LN$15,$MC$15,IF($F$6=$LN$16,$MC$16,IF($F$6=$LN$17,$MC$17,IF($F$6=$LN$18,$MC$18,IF($F$6=$LN$19,$MC$19,IF($F$6=$LN$20,$MC$20,IF($F$6=$LN$21,$MC$21,IF($F$6=$LN$22,$MC$22,IF($F$6=$LN$23,$MC$23,\"\"))))))))))","v":20},{"$f":"IF($F$6=$LN$14,$MD$14,IF($F$6=$LN$15,$MD$15,IF($F$6=$LN$16,$MD$16,IF($F$6=$LN$17,$MD$17,IF($F$6=$LN$18,$MD$18,IF($F$6=$LN$19,$MD$19,IF($F$6=$LN$20,$MD$20,IF($F$6=$LN$21,$MD$21,IF($F$6=$LN$22,$MD$22,IF($F$6=$LN$23,$MD$23,\"\"))))))))))","v":23},{"$f":"IF($F$6=$LN$14,$ME$14,IF($F$6=$LN$15,$ME$15,IF($F$6=$LN$16,$ME$16,IF($F$6=$LN$17,$ME$17,IF($F$6=$LN$18,$ME$18,IF($F$6=$LN$19,$ME$19,IF($F$6=$LN$20,$ME$20,IF($F$6=$LN$21,$ME$21,IF($F$6=$LN$22,$ME$22,IF($F$6=$LN$23,$ME$23,\"\"))))))))))","v":24},{"$f":"IF($F$6=$LN$14,$MF$14,IF($F$6=$LN$15,$MF$15,IF($F$6=$LN$16,$MF$16,IF($F$6=$LN$17,$MF$17,IF($F$6=$LN$18,$MF$18,IF($F$6=$LN$19,$MF$19,IF($F$6=$LN$20,$MF$20,IF($F$6=$LN$21,$MF$21,IF($F$6=$LN$22,$MF$22,IF($F$6=$LN$23,$MF$23,\"\"))))))))))","v":25},{"$f":"IF($F$6=$LN$14,$MG$14,IF($F$6=$LN$15,$MG$15,IF($F$6=$LN$16,$MG$16,IF($F$6=$LN$17,$MG$17,IF($F$6=$LN$18,$MG$18,IF($F$6=$LN$19,$MG$19,IF($F$6=$LN$20,$MG$20,IF($F$6=$LN$21,$MG$21,IF($F$6=$LN$22,$MG$22,IF($F$6=$LN$23,$MG$23,\"\"))))))))))","v":26},{"$f":"IF($F$6=$LN$14,$MH$14,IF($F$6=$LN$15,$MH$15,IF($F$6=$LN$16,$MH$16,IF($F$6=$LN$17,$MH$17,IF($F$6=$LN$18,$MH$18,IF($F$6=$LN$19,$MH$19,IF($F$6=$LN$20,$MH$20,IF($F$6=$LN$21,$MH$21,IF($F$6=$LN$22,$MH$22,IF($F$6=$LN$23,$MH$23,\"\"))))))))))","v":27},{"$f":"IF($F$6=$LN$14,$MI$14,IF($F$6=$LN$15,$MI$15,IF($F$6=$LN$16,$MI$16,IF($F$6=$LN$17,$MI$17,IF($F$6=$LN$18,$MI$18,IF($F$6=$LN$19,$MI$19,IF($F$6=$LN$20,$MI$20,IF($F$6=$LN$21,$MI$21,IF($F$6=$LN$22,$MI$22,IF($F$6=$LN$23,$MI$23,\"\"))))))))))","v":30},{"$f":"IF($F$6=$LN$14,$MJ$14,IF($F$6=$LN$15,$MJ$15,IF($F$6=$LN$16,$MJ$16,IF($F$6=$LN$17,$MJ$17,IF($F$6=$LN$18,$MJ$18,IF($F$6=$LN$19,$MJ$19,IF($F$6=$LN$20,$MJ$20,IF($F$6=$LN$21,$MJ$21,IF($F$6=$LN$22,$MJ$22,IF($F$6=$LN$23,$MJ$23,\"\"))))))))))","v":0},{"$f":"IF($F$6=$LN$14,$MK$14,IF($F$6=$LN$15,$MK$15,IF($F$6=$LN$16,$MK$16,IF($F$6=$LN$17,$MK$17,IF($F$6=$LN$18,$MK$18,IF($F$6=$LN$19,$MK$19,IF($F$6=$LN$20,$MK$20,IF($F$6=$LN$21,$MK$21,IF($F$6=$LN$22,$MK$22,IF($F$6=$LN$23,$MK$23,\"\"))))))))))","v":0},{"$f":"IF($F$6=$LN$14,$ML$14,IF($F$6=$LN$15,$ML$15,IF($F$6=$LN$16,$ML$16,IF($F$6=$LN$17,$ML$17,IF($F$6=$LN$18,$ML$18,IF($F$6=$LN$19,$ML$19,IF($F$6=$LN$20,$ML$20,IF($F$6=$LN$21,$ML$21,IF($F$6=$LN$22,$ML$22,IF($F$6=$LN$23,$ML$23,\"\"))))))))))","v":0},{"$f":"IF($F$6=$LN$14,$MM$14,IF($F$6=$LN$15,$MM$15,IF($F$6=$LN$16,$MM$16,IF($F$6=$LN$17,$MM$17,IF($F$6=$LN$18,$MM$18,IF($F$6=$LN$19,$MM$19,IF($F$6=$LN$20,$MM$20,IF($F$6=$LN$21,$MM$21,IF($F$6=$LN$22,$MM$22,IF($F$6=$LN$23,$MM$23,\"\"))))))))))","v":0},null,null,null,"CD",null,"NOMBRE",null,"T/F","T/F",null,{"$f":"IF($F$6=$LN$14,$LO$14,IF($F$6=$LN$15,$LO$15,IF($F$6=$LN$16,$LO$16,IF($F$6=$LN$17,$LO$17,IF($F$6=$LN$18,$LO$18,IF($F$6=$LN$19,$LO$19,IF($F$6=$LN$20,$LO$20,IF($F$6=$LN$21,$LO$21,IF($F$6=$LN$22,$LO$22,IF($F$6=$LN$23,$LO$23,\"\"))))))))))","v":2},{"$f":"IF($F$6=$LN$14,$LP$14,IF($F$6=$LN$15,$LP$15,IF($F$6=$LN$16,$LP$16,IF($F$6=$LN$17,$LP$17,IF($F$6=$LN$18,$LP$18,IF($F$6=$LN$19,$LP$19,IF($F$6=$LN$20,$LP$20,IF($F$6=$LN$21,$LP$21,IF($F$6=$LN$22,$LP$22,IF($F$6=$LN$23,$LP$23,\"\"))))))))))","v":3},{"$f":"IF($F$6=$LN$14,$LQ$14,IF($F$6=$LN$15,$LQ$15,IF($F$6=$LN$16,$LQ$16,IF($F$6=$LN$17,$LQ$17,IF($F$6=$LN$18,$LQ$18,IF($F$6=$LN$19,$LQ$19,IF($F$6=$LN$20,$LQ$20,IF($F$6=$LN$21,$LQ$21,IF($F$6=$LN$22,$LQ$22,IF($F$6=$LN$23,$LQ$23,\"\"))))))))))","v":4},{"$f":"IF($F$6=$LN$14,$LR$14,IF($F$6=$LN$15,$LR$15,IF($F$6=$LN$16,$LR$16,IF($F$6=$LN$17,$LR$17,IF($F$6=$LN$18,$LR$18,IF($F$6=$LN$19,$LR$19,IF($F$6=$LN$20,$LR$20,IF($F$6=$LN$21,$LR$21,IF($F$6=$LN$22,$LR$22,IF($F$6=$LN$23,$LR$23,\"\"))))))))))","v":5},{"$f":"IF($F$6=$LN$14,$LS$14,IF($F$6=$LN$15,$LS$15,IF($F$6=$LN$16,$LS$16,IF($F$6=$LN$17,$LS$17,IF($F$6=$LN$18,$LS$18,IF($F$6=$LN$19,$LS$19,IF($F$6=$LN$20,$LS$20,IF($F$6=$LN$21,$LS$21,IF($F$6=$LN$22,$LS$22,IF($F$6=$LN$23,$LS$23,\"\"))))))))))","v":6},{"$f":"IF($F$6=$LN$14,$LT$14,IF($F$6=$LN$15,$LT$15,IF($F$6=$LN$16,$LT$16,IF($F$6=$LN$17,$LT$17,IF($F$6=$LN$18,$LT$18,IF($F$6=$LN$19,$LT$19,IF($F$6=$LN$20,$LT$20,IF($F$6=$LN$21,$LT$21,IF($F$6=$LN$22,$LT$22,IF($F$6=$LN$23,$LT$23,\"\"))))))))))","v":9},{"$f":"IF($F$6=$LN$14,$LU$14,IF($F$6=$LN$15,$LU$15,IF($F$6=$LN$16,$LU$16,IF($F$6=$LN$17,$LU$17,IF($F$6=$LN$18,$LU$18,IF($F$6=$LN$19,$LU$19,IF($F$6=$LN$20,$LU$20,IF($F$6=$LN$21,$LU$21,IF($F$6=$LN$22,$LU$22,IF($F$6=$LN$23,$LU$23,\"\"))))))))))","v":10},{"$f":"IF($F$6=$LN$14,$LV$14,IF($F$6=$LN$15,$LV$15,IF($F$6=$LN$16,$LV$16,IF($F$6=$LN$17,$LV$17,IF($F$6=$LN$18,$LV$18,IF($F$6=$LN$19,$LV$19,IF($F$6=$LN$20,$LV$20,IF($F$6=$LN$21,$LV$21,IF($F$6=$LN$22,$LV$22,IF($F$6=$LN$23,$LV$23,\"\"))))))))))","v":11},{"$f":"IF($F$6=$LN$14,$LW$14,IF($F$6=$LN$15,$LW$15,IF($F$6=$LN$16,$LW$16,IF($F$6=$LN$17,$LW$17,IF($F$6=$LN$18,$LW$18,IF($F$6=$LN$19,$LW$19,IF($F$6=$LN$20,$LW$20,IF($F$6=$LN$21,$LW$21,IF($F$6=$LN$22,$LW$22,IF($F$6=$LN$23,$LW$23,\"\"))))))))))","v":12},{"$f":"IF($F$6=$LN$14,$LX$14,IF($F$6=$LN$15,$LX$15,IF($F$6=$LN$16,$LX$16,IF($F$6=$LN$17,$LX$17,IF($F$6=$LN$18,$LX$18,IF($F$6=$LN$19,$LX$19,IF($F$6=$LN$20,$LX$20,IF($F$6=$LN$21,$LX$21,IF($F$6=$LN$22,$LX$22,IF($F$6=$LN$23,$LX$23,\"\"))))))))))","v":13},{"$f":"IF($F$6=$LN$14,$LY$14,IF($F$6=$LN$15,$LY$15,IF($F$6=$LN$16,$LY$16,IF($F$6=$LN$17,$LY$17,IF($F$6=$LN$18,$LY$18,IF($F$6=$LN$19,$LY$19,IF($F$6=$LN$20,$LY$20,IF($F$6=$LN$21,$LY$21,IF($F$6=$LN$22,$LY$22,IF($F$6=$LN$23,$LY$23,\"\"))))))))))","v":16},{"$f":"IF($F$6=$LN$14,$LZ$14,IF($F$6=$LN$15,$LZ$15,IF($F$6=$LN$16,$LZ$16,IF($F$6=$LN$17,$LZ$17,IF($F$6=$LN$18,$LZ$18,IF($F$6=$LN$19,$LZ$19,IF($F$6=$LN$20,$LZ$20,IF($F$6=$LN$21,QA21,IF($F$6=$LN$22,$LZ$22,IF($F$6=$LN$23,$LZ$23,\"\"))))))))))","v":17},{"$f":"IF($F$6=$LN$14,$MA$14,IF($F$6=$LN$15,$MA$15,IF($F$6=$LN$16,$MA$16,IF($F$6=$LN$17,$MA$17,IF($F$6=$LN$18,$MA$18,IF($F$6=$LN$19,$MA$19,IF($F$6=$LN$20,$MA$20,IF($F$6=$LN$21,$MA$21,IF($F$6=$LN$22,$MA$22,IF($F$6=$LN$23,$MA$23,\"\"))))))))))","v":18},{"$f":"IF($F$6=$LN$14,$MB$14,IF($F$6=$LN$15,$MB$15,IF($F$6=$LN$16,$MB$16,IF($F$6=$LN$17,$MB$17,IF($F$6=$LN$18,$MB$18,IF($F$6=$LN$19,$MB$19,IF($F$6=$LN$20,$MB$20,IF($F$6=$LN$21,$MB$21,IF($F$6=$LN$22,$MB$22,IF($F$6=$LN$23,$MB$23,\"\"))))))))))","v":19},{"$f":"IF($F$6=$LN$14,$MC$14,IF($F$6=$LN$15,$MC$15,IF($F$6=$LN$16,$MC$16,IF($F$6=$LN$17,$MC$17,IF($F$6=$LN$18,$MC$18,IF($F$6=$LN$19,$MC$19,IF($F$6=$LN$20,$MC$20,IF($F$6=$LN$21,$MC$21,IF($F$6=$LN$22,$MC$22,IF($F$6=$LN$23,$MC$23,\"\"))))))))))","v":20},{"$f":"IF($F$6=$LN$14,$MD$14,IF($F$6=$LN$15,$MD$15,IF($F$6=$LN$16,$MD$16,IF($F$6=$LN$17,$MD$17,IF($F$6=$LN$18,$MD$18,IF($F$6=$LN$19,$MD$19,IF($F$6=$LN$20,$MD$20,IF($F$6=$LN$21,$MD$21,IF($F$6=$LN$22,$MD$22,IF($F$6=$LN$23,$MD$23,\"\"))))))))))","v":23},{"$f":"IF($F$6=$LN$14,$ME$14,IF($F$6=$LN$15,$ME$15,IF($F$6=$LN$16,$ME$16,IF($F$6=$LN$17,$ME$17,IF($F$6=$LN$18,$ME$18,IF($F$6=$LN$19,$ME$19,IF($F$6=$LN$20,$ME$20,IF($F$6=$LN$21,$ME$21,IF($F$6=$LN$22,$ME$22,IF($F$6=$LN$23,$ME$23,\"\"))))))))))","v":24},{"$f":"IF($F$6=$LN$14,$MF$14,IF($F$6=$LN$15,$MF$15,IF($F$6=$LN$16,$MF$16,IF($F$6=$LN$17,$MF$17,IF($F$6=$LN$18,$MF$18,IF($F$6=$LN$19,$MF$19,IF($F$6=$LN$20,$MF$20,IF($F$6=$LN$21,$MF$21,IF($F$6=$LN$22,$MF$22,IF($F$6=$LN$23,$MF$23,\"\"))))))))))","v":25},{"$f":"IF($F$6=$LN$14,$MG$14,IF($F$6=$LN$15,$MG$15,IF($F$6=$LN$16,$MG$16,IF($F$6=$LN$17,$MG$17,IF($F$6=$LN$18,$MG$18,IF($F$6=$LN$19,$MG$19,IF($F$6=$LN$20,$MG$20,IF($F$6=$LN$21,$MG$21,IF($F$6=$LN$22,$MG$22,IF($F$6=$LN$23,$MG$23,\"\"))))))))))","v":26},{"$f":"IF($F$6=$LN$14,$MH$14,IF($F$6=$LN$15,$MH$15,IF($F$6=$LN$16,$MH$16,IF($F$6=$LN$17,$MH$17,IF($F$6=$LN$18,$MH$18,IF($F$6=$LN$19,$MH$19,IF($F$6=$LN$20,$MH$20,IF($F$6=$LN$21,$MH$21,IF($F$6=$LN$22,$MH$22,IF($F$6=$LN$23,$MH$23,\"\"))))))))))","v":27},{"$f":"IF($F$6=$LN$14,$MI$14,IF($F$6=$LN$15,$MI$15,IF($F$6=$LN$16,$MI$16,IF($F$6=$LN$17,$MI$17,IF($F$6=$LN$18,$MI$18,IF($F$6=$LN$19,$MI$19,IF($F$6=$LN$20,$MI$20,IF($F$6=$LN$21,$MI$21,IF($F$6=$LN$22,$MI$22,IF($F$6=$LN$23,$MI$23,\"\"))))))))))","v":30},{"$f":"IF($F$6=$LN$14,$MJ$14,IF($F$6=$LN$15,$MJ$15,IF($F$6=$LN$16,$MJ$16,IF($F$6=$LN$17,$MJ$17,IF($F$6=$LN$18,$MJ$18,IF($F$6=$LN$19,$MJ$19,IF($F$6=$LN$20,$MJ$20,IF($F$6=$LN$21,$MJ$21,IF($F$6=$LN$22,$MJ$22,IF($F$6=$LN$23,$MJ$23,\"\"))))))))))","v":0},{"$f":"IF($F$6=$LN$14,$MK$14,IF($F$6=$LN$15,$MK$15,IF($F$6=$LN$16,$MK$16,IF($F$6=$LN$17,$MK$17,IF($F$6=$LN$18,$MK$18,IF($F$6=$LN$19,$MK$19,IF($F$6=$LN$20,$MK$20,IF($F$6=$LN$21,$MK$21,IF($F$6=$LN$22,$MK$22,IF($F$6=$LN$23,$MK$23,\"\"))))))))))","v":0},{"$f":"IF($F$6=$LN$14,$ML$14,IF($F$6=$LN$15,$ML$15,IF($F$6=$LN$16,$ML$16,IF($F$6=$LN$17,$ML$17,IF($F$6=$LN$18,$ML$18,IF($F$6=$LN$19,$ML$19,IF($F$6=$LN$20,$ML$20,IF($F$6=$LN$21,$ML$21,IF($F$6=$LN$22,$ML$22,IF($F$6=$LN$23,$ML$23,\"\"))))))))))","v":0},{"$f":"IF($F$6=$LN$14,$MM$14,IF($F$6=$LN$15,$MM$15,IF($F$6=$LN$16,$MM$16,IF($F$6=$LN$17,$MM$17,IF($F$6=$LN$18,$MM$18,IF($F$6=$LN$19,$MM$19,IF($F$6=$LN$20,$MM$20,IF($F$6=$LN$21,$MM$21,IF($F$6=$LN$22,$MM$22,IF($F$6=$LN$23,$MM$23,\"\"))))))))))","v":0},null,null,null,"CD",null,"NOMBRE",null,"T/F","T/F",null,{"$f":"IF($F$6=$LN$14,$LO$14,IF($F$6=$LN$15,$LO$15,IF($F$6=$LN$16,$LO$16,IF($F$6=$LN$17,$LO$17,IF($F$6=$LN$18,$LO$18,IF($F$6=$LN$19,$LO$19,IF($F$6=$LN$20,$LO$20,IF($F$6=$LN$21,$LO$21,IF($F$6=$LN$22,$LO$22,IF($F$6=$LN$23,$LO$23,\"\"))))))))))","v":2},{"$f":"IF($F$6=$LN$14,$LP$14,IF($F$6=$LN$15,$LP$15,IF($F$6=$LN$16,$LP$16,IF($F$6=$LN$17,$LP$17,IF($F$6=$LN$18,$LP$18,IF($F$6=$LN$19,$LP$19,IF($F$6=$LN$20,$LP$20,IF($F$6=$LN$21,$LP$21,IF($F$6=$LN$22,$LP$22,IF($F$6=$LN$23,$LP$23,\"\"))))))))))","v":3},{"$f":"IF($F$6=$LN$14,$LQ$14,IF($F$6=$LN$15,$LQ$15,IF($F$6=$LN$16,$LQ$16,IF($F$6=$LN$17,$LQ$17,IF($F$6=$LN$18,$LQ$18,IF($F$6=$LN$19,$LQ$19,IF($F$6=$LN$20,$LQ$20,IF($F$6=$LN$21,$LQ$21,IF($F$6=$LN$22,$LQ$22,IF($F$6=$LN$23,$LQ$23,\"\"))))))))))","v":4},{"$f":"IF($F$6=$LN$14,$LR$14,IF($F$6=$LN$15,$LR$15,IF($F$6=$LN$16,$LR$16,IF($F$6=$LN$17,$LR$17,IF($F$6=$LN$18,$LR$18,IF($F$6=$LN$19,$LR$19,IF($F$6=$LN$20,$LR$20,IF($F$6=$LN$21,$LR$21,IF($F$6=$LN$22,$LR$22,IF($F$6=$LN$23,$LR$23,\"\"))))))))))","v":5},{"$f":"IF($F$6=$LN$14,$LS$14,IF($F$6=$LN$15,$LS$15,IF($F$6=$LN$16,$LS$16,IF($F$6=$LN$17,$LS$17,IF($F$6=$LN$18,$LS$18,IF($F$6=$LN$19,$LS$19,IF($F$6=$LN$20,$LS$20,IF($F$6=$LN$21,$LS$21,IF($F$6=$LN$22,$LS$22,IF($F$6=$LN$23,$LS$23,\"\"))))))))))","v":6},{"$f":"IF($F$6=$LN$14,$LT$14,IF($F$6=$LN$15,$LT$15,IF($F$6=$LN$16,$LT$16,IF($F$6=$LN$17,$LT$17,IF($F$6=$LN$18,$LT$18,IF($F$6=$LN$19,$LT$19,IF($F$6=$LN$20,$LT$20,IF($F$6=$LN$21,$LT$21,IF($F$6=$LN$22,$LT$22,IF($F$6=$LN$23,$LT$23,\"\"))))))))))","v":9},{"$f":"IF($F$6=$LN$14,$LU$14,IF($F$6=$LN$15,$LU$15,IF($F$6=$LN$16,$LU$16,IF($F$6=$LN$17,$LU$17,IF($F$6=$LN$18,$LU$18,IF($F$6=$LN$19,$LU$19,IF($F$6=$LN$20,$LU$20,IF($F$6=$LN$21,$LU$21,IF($F$6=$LN$22,$LU$22,IF($F$6=$LN$23,$LU$23,\"\"))))))))))","v":10},{"$f":"IF($F$6=$LN$14,$LV$14,IF($F$6=$LN$15,$LV$15,IF($F$6=$LN$16,$LV$16,IF($F$6=$LN$17,$LV$17,IF($F$6=$LN$18,$LV$18,IF($F$6=$LN$19,$LV$19,IF($F$6=$LN$20,$LV$20,IF($F$6=$LN$21,$LV$21,IF($F$6=$LN$22,$LV$22,IF($F$6=$LN$23,$LV$23,\"\"))))))))))","v":11},{"$f":"IF($F$6=$LN$14,$LW$14,IF($F$6=$LN$15,$LW$15,IF($F$6=$LN$16,$LW$16,IF($F$6=$LN$17,$LW$17,IF($F$6=$LN$18,$LW$18,IF($F$6=$LN$19,$LW$19,IF($F$6=$LN$20,$LW$20,IF($F$6=$LN$21,$LW$21,IF($F$6=$LN$22,$LW$22,IF($F$6=$LN$23,$LW$23,\"\"))))))))))","v":12},{"$f":"IF($F$6=$LN$14,$LX$14,IF($F$6=$LN$15,$LX$15,IF($F$6=$LN$16,$LX$16,IF($F$6=$LN$17,$LX$17,IF($F$6=$LN$18,$LX$18,IF($F$6=$LN$19,$LX$19,IF($F$6=$LN$20,$LX$20,IF($F$6=$LN$21,$LX$21,IF($F$6=$LN$22,$LX$22,IF($F$6=$LN$23,$LX$23,\"\"))))))))))","v":13},{"$f":"IF($F$6=$LN$14,$LY$14,IF($F$6=$LN$15,$LY$15,IF($F$6=$LN$16,$LY$16,IF($F$6=$LN$17,$LY$17,IF($F$6=$LN$18,$LY$18,IF($F$6=$LN$19,$LY$19,IF($F$6=$LN$20,$LY$20,IF($F$6=$LN$21,$LY$21,IF($F$6=$LN$22,$LY$22,IF($F$6=$LN$23,$LY$23,\"\"))))))))))","v":16},{"$f":"IF($F$6=$LN$14,$LZ$14,IF($F$6=$LN$15,$LZ$15,IF($F$6=$LN$16,$LZ$16,IF($F$6=$LN$17,$LZ$17,IF($F$6=$LN$18,$LZ$18,IF($F$6=$LN$19,$LZ$19,IF($F$6=$LN$20,$LZ$20,IF($F$6=$LN$21,RJ21,IF($F$6=$LN$22,$LZ$22,IF($F$6=$LN$23,$LZ$23,\"\"))))))))))","v":17},{"$f":"IF($F$6=$LN$14,$MA$14,IF($F$6=$LN$15,$MA$15,IF($F$6=$LN$16,$MA$16,IF($F$6=$LN$17,$MA$17,IF($F$6=$LN$18,$MA$18,IF($F$6=$LN$19,$MA$19,IF($F$6=$LN$20,$MA$20,IF($F$6=$LN$21,$MA$21,IF($F$6=$LN$22,$MA$22,IF($F$6=$LN$23,$MA$23,\"\"))))))))))","v":18},{"$f":"IF($F$6=$LN$14,$MB$14,IF($F$6=$LN$15,$MB$15,IF($F$6=$LN$16,$MB$16,IF($F$6=$LN$17,$MB$17,IF($F$6=$LN$18,$MB$18,IF($F$6=$LN$19,$MB$19,IF($F$6=$LN$20,$MB$20,IF($F$6=$LN$21,$MB$21,IF($F$6=$LN$22,$MB$22,IF($F$6=$LN$23,$MB$23,\"\"))))))))))","v":19},{"$f":"IF($F$6=$LN$14,$MC$14,IF($F$6=$LN$15,$MC$15,IF($F$6=$LN$16,$MC$16,IF($F$6=$LN$17,$MC$17,IF($F$6=$LN$18,$MC$18,IF($F$6=$LN$19,$MC$19,IF($F$6=$LN$20,$MC$20,IF($F$6=$LN$21,$MC$21,IF($F$6=$LN$22,$MC$22,IF($F$6=$LN$23,$MC$23,\"\"))))))))))","v":20},{"$f":"IF($F$6=$LN$14,$MD$14,IF($F$6=$LN$15,$MD$15,IF($F$6=$LN$16,$MD$16,IF($F$6=$LN$17,$MD$17,IF($F$6=$LN$18,$MD$18,IF($F$6=$LN$19,$MD$19,IF($F$6=$LN$20,$MD$20,IF($F$6=$LN$21,$MD$21,IF($F$6=$LN$22,$MD$22,IF($F$6=$LN$23,$MD$23,\"\"))))))))))","v":23},{"$f":"IF($F$6=$LN$14,$ME$14,IF($F$6=$LN$15,$ME$15,IF($F$6=$LN$16,$ME$16,IF($F$6=$LN$17,$ME$17,IF($F$6=$LN$18,$ME$18,IF($F$6=$LN$19,$ME$19,IF($F$6=$LN$20,$ME$20,IF($F$6=$LN$21,$ME$21,IF($F$6=$LN$22,$ME$22,IF($F$6=$LN$23,$ME$23,\"\"))))))))))","v":24},{"$f":"IF($F$6=$LN$14,$MF$14,IF($F$6=$LN$15,$MF$15,IF($F$6=$LN$16,$MF$16,IF($F$6=$LN$17,$MF$17,IF($F$6=$LN$18,$MF$18,IF($F$6=$LN$19,$MF$19,IF($F$6=$LN$20,$MF$20,IF($F$6=$LN$21,$MF$21,IF($F$6=$LN$22,$MF$22,IF($F$6=$LN$23,$MF$23,\"\"))))))))))","v":25},{"$f":"IF($F$6=$LN$14,$MG$14,IF($F$6=$LN$15,$MG$15,IF($F$6=$LN$16,$MG$16,IF($F$6=$LN$17,$MG$17,IF($F$6=$LN$18,$MG$18,IF($F$6=$LN$19,$MG$19,IF($F$6=$LN$20,$MG$20,IF($F$6=$LN$21,$MG$21,IF($F$6=$LN$22,$MG$22,IF($F$6=$LN$23,$MG$23,\"\"))))))))))","v":26},{"$f":"IF($F$6=$LN$14,$MH$14,IF($F$6=$LN$15,$MH$15,IF($F$6=$LN$16,$MH$16,IF($F$6=$LN$17,$MH$17,IF($F$6=$LN$18,$MH$18,IF($F$6=$LN$19,$MH$19,IF($F$6=$LN$20,$MH$20,IF($F$6=$LN$21,$MH$21,IF($F$6=$LN$22,$MH$22,IF($F$6=$LN$23,$MH$23,\"\"))))))))))","v":27},{"$f":"IF($F$6=$LN$14,$MI$14,IF($F$6=$LN$15,$MI$15,IF($F$6=$LN$16,$MI$16,IF($F$6=$LN$17,$MI$17,IF($F$6=$LN$18,$MI$18,IF($F$6=$LN$19,$MI$19,IF($F$6=$LN$20,$MI$20,IF($F$6=$LN$21,$MI$21,IF($F$6=$LN$22,$MI$22,IF($F$6=$LN$23,$MI$23,\"\"))))))))))","v":30},{"$f":"IF($F$6=$LN$14,$MJ$14,IF($F$6=$LN$15,$MJ$15,IF($F$6=$LN$16,$MJ$16,IF($F$6=$LN$17,$MJ$17,IF($F$6=$LN$18,$MJ$18,IF($F$6=$LN$19,$MJ$19,IF($F$6=$LN$20,$MJ$20,IF($F$6=$LN$21,$MJ$21,IF($F$6=$LN$22,$MJ$22,IF($F$6=$LN$23,$MJ$23,\"\"))))))))))","v":0},{"$f":"IF($F$6=$LN$14,$MK$14,IF($F$6=$LN$15,$MK$15,IF($F$6=$LN$16,$MK$16,IF($F$6=$LN$17,$MK$17,IF($F$6=$LN$18,$MK$18,IF($F$6=$LN$19,$MK$19,IF($F$6=$LN$20,$MK$20,IF($F$6=$LN$21,$MK$21,IF($F$6=$LN$22,$MK$22,IF($F$6=$LN$23,$MK$23,\"\"))))))))))","v":0},{"$f":"IF($F$6=$LN$14,$ML$14,IF($F$6=$LN$15,$ML$15,IF($F$6=$LN$16,$ML$16,IF($F$6=$LN$17,$ML$17,IF($F$6=$LN$18,$ML$18,IF($F$6=$LN$19,$ML$19,IF($F$6=$LN$20,$ML$20,IF($F$6=$LN$21,$ML$21,IF($F$6=$LN$22,$ML$22,IF($F$6=$LN$23,$ML$23,\"\"))))))))))","v":0},{"$f":"IF($F$6=$LN$14,$MM$14,IF($F$6=$LN$15,$MM$15,IF($F$6=$LN$16,$MM$16,IF($F$6=$LN$17,$MM$17,IF($F$6=$LN$18,$MM$18,IF($F$6=$LN$19,$MM$19,IF($F$6=$LN$20,$MM$20,IF($F$6=$LN$21,$MM$21,IF($F$6=$LN$22,$MM$22,IF($F$6=$LN$23,$MM$23,\"\"))))))))))","v":0},null,null,null,"CD",null,"NOMBRE",null,"T/F","T/F",null,{"$f":"IF($F$6=$LN$14,$LO$14,IF($F$6=$LN$15,$LO$15,IF($F$6=$LN$16,$LO$16,IF($F$6=$LN$17,$LO$17,IF($F$6=$LN$18,$LO$18,IF($F$6=$LN$19,$LO$19,IF($F$6=$LN$20,$LO$20,IF($F$6=$LN$21,$LO$21,IF($F$6=$LN$22,$LO$22,IF($F$6=$LN$23,$LO$23,\"\"))))))))))","v":2},{"$f":"IF($F$6=$LN$14,$LP$14,IF($F$6=$LN$15,$LP$15,IF($F$6=$LN$16,$LP$16,IF($F$6=$LN$17,$LP$17,IF($F$6=$LN$18,$LP$18,IF($F$6=$LN$19,$LP$19,IF($F$6=$LN$20,$LP$20,IF($F$6=$LN$21,$LP$21,IF($F$6=$LN$22,$LP$22,IF($F$6=$LN$23,$LP$23,\"\"))))))))))","v":3},{"$f":"IF($F$6=$LN$14,$LQ$14,IF($F$6=$LN$15,$LQ$15,IF($F$6=$LN$16,$LQ$16,IF($F$6=$LN$17,$LQ$17,IF($F$6=$LN$18,$LQ$18,IF($F$6=$LN$19,$LQ$19,IF($F$6=$LN$20,$LQ$20,IF($F$6=$LN$21,$LQ$21,IF($F$6=$LN$22,$LQ$22,IF($F$6=$LN$23,$LQ$23,\"\"))))))))))","v":4},{"$f":"IF($F$6=$LN$14,$LR$14,IF($F$6=$LN$15,$LR$15,IF($F$6=$LN$16,$LR$16,IF($F$6=$LN$17,$LR$17,IF($F$6=$LN$18,$LR$18,IF($F$6=$LN$19,$LR$19,IF($F$6=$LN$20,$LR$20,IF($F$6=$LN$21,$LR$21,IF($F$6=$LN$22,$LR$22,IF($F$6=$LN$23,$LR$23,\"\"))))))))))","v":5},{"$f":"IF($F$6=$LN$14,$LS$14,IF($F$6=$LN$15,$LS$15,IF($F$6=$LN$16,$LS$16,IF($F$6=$LN$17,$LS$17,IF($F$6=$LN$18,$LS$18,IF($F$6=$LN$19,$LS$19,IF($F$6=$LN$20,$LS$20,IF($F$6=$LN$21,$LS$21,IF($F$6=$LN$22,$LS$22,IF($F$6=$LN$23,$LS$23,\"\"))))))))))","v":6},{"$f":"IF($F$6=$LN$14,$LT$14,IF($F$6=$LN$15,$LT$15,IF($F$6=$LN$16,$LT$16,IF($F$6=$LN$17,$LT$17,IF($F$6=$LN$18,$LT$18,IF($F$6=$LN$19,$LT$19,IF($F$6=$LN$20,$LT$20,IF($F$6=$LN$21,$LT$21,IF($F$6=$LN$22,$LT$22,IF($F$6=$LN$23,$LT$23,\"\"))))))))))","v":9},{"$f":"IF($F$6=$LN$14,$LU$14,IF($F$6=$LN$15,$LU$15,IF($F$6=$LN$16,$LU$16,IF($F$6=$LN$17,$LU$17,IF($F$6=$LN$18,$LU$18,IF($F$6=$LN$19,$LU$19,IF($F$6=$LN$20,$LU$20,IF($F$6=$LN$21,$LU$21,IF($F$6=$LN$22,$LU$22,IF($F$6=$LN$23,$LU$23,\"\"))))))))))","v":10},{"$f":"IF($F$6=$LN$14,$LV$14,IF($F$6=$LN$15,$LV$15,IF($F$6=$LN$16,$LV$16,IF($F$6=$LN$17,$LV$17,IF($F$6=$LN$18,$LV$18,IF($F$6=$LN$19,$LV$19,IF($F$6=$LN$20,$LV$20,IF($F$6=$LN$21,$LV$21,IF($F$6=$LN$22,$LV$22,IF($F$6=$LN$23,$LV$23,\"\"))))))))))","v":11},{"$f":"IF($F$6=$LN$14,$LW$14,IF($F$6=$LN$15,$LW$15,IF($F$6=$LN$16,$LW$16,IF($F$6=$LN$17,$LW$17,IF($F$6=$LN$18,$LW$18,IF($F$6=$LN$19,$LW$19,IF($F$6=$LN$20,$LW$20,IF($F$6=$LN$21,$LW$21,IF($F$6=$LN$22,$LW$22,IF($F$6=$LN$23,$LW$23,\"\"))))))))))","v":12},{"$f":"IF($F$6=$LN$14,$LX$14,IF($F$6=$LN$15,$LX$15,IF($F$6=$LN$16,$LX$16,IF($F$6=$LN$17,$LX$17,IF($F$6=$LN$18,$LX$18,IF($F$6=$LN$19,$LX$19,IF($F$6=$LN$20,$LX$20,IF($F$6=$LN$21,$LX$21,IF($F$6=$LN$22,$LX$22,IF($F$6=$LN$23,$LX$23,\"\"))))))))))","v":13},{"$f":"IF($F$6=$LN$14,$LY$14,IF($F$6=$LN$15,$LY$15,IF($F$6=$LN$16,$LY$16,IF($F$6=$LN$17,$LY$17,IF($F$6=$LN$18,$LY$18,IF($F$6=$LN$19,$LY$19,IF($F$6=$LN$20,$LY$20,IF($F$6=$LN$21,$LY$21,IF($F$6=$LN$22,$LY$22,IF($F$6=$LN$23,$LY$23,\"\"))))))))))","v":16},{"$f":"IF($F$6=$LN$14,$LZ$14,IF($F$6=$LN$15,$LZ$15,IF($F$6=$LN$16,$LZ$16,IF($F$6=$LN$17,$LZ$17,IF($F$6=$LN$18,$LZ$18,IF($F$6=$LN$19,$LZ$19,IF($F$6=$LN$20,$LZ$20,IF($F$6=$LN$21,SS21,IF($F$6=$LN$22,$LZ$22,IF($F$6=$LN$23,$LZ$23,\"\"))))))))))","v":17},{"$f":"IF($F$6=$LN$14,$MA$14,IF($F$6=$LN$15,$MA$15,IF($F$6=$LN$16,$MA$16,IF($F$6=$LN$17,$MA$17,IF($F$6=$LN$18,$MA$18,IF($F$6=$LN$19,$MA$19,IF($F$6=$LN$20,$MA$20,IF($F$6=$LN$21,$MA$21,IF($F$6=$LN$22,$MA$22,IF($F$6=$LN$23,$MA$23,\"\"))))))))))","v":18},{"$f":"IF($F$6=$LN$14,$MB$14,IF($F$6=$LN$15,$MB$15,IF($F$6=$LN$16,$MB$16,IF($F$6=$LN$17,$MB$17,IF($F$6=$LN$18,$MB$18,IF($F$6=$LN$19,$MB$19,IF($F$6=$LN$20,$MB$20,IF($F$6=$LN$21,$MB$21,IF($F$6=$LN$22,$MB$22,IF($F$6=$LN$23,$MB$23,\"\"))))))))))","v":19},{"$f":"IF($F$6=$LN$14,$MC$14,IF($F$6=$LN$15,$MC$15,IF($F$6=$LN$16,$MC$16,IF($F$6=$LN$17,$MC$17,IF($F$6=$LN$18,$MC$18,IF($F$6=$LN$19,$MC$19,IF($F$6=$LN$20,$MC$20,IF($F$6=$LN$21,$MC$21,IF($F$6=$LN$22,$MC$22,IF($F$6=$LN$23,$MC$23,\"\"))))))))))","v":20},{"$f":"IF($F$6=$LN$14,$MD$14,IF($F$6=$LN$15,$MD$15,IF($F$6=$LN$16,$MD$16,IF($F$6=$LN$17,$MD$17,IF($F$6=$LN$18,$MD$18,IF($F$6=$LN$19,$MD$19,IF($F$6=$LN$20,$MD$20,IF($F$6=$LN$21,$MD$21,IF($F$6=$LN$22,$MD$22,IF($F$6=$LN$23,$MD$23,\"\"))))))))))","v":23},{"$f":"IF($F$6=$LN$14,$ME$14,IF($F$6=$LN$15,$ME$15,IF($F$6=$LN$16,$ME$16,IF($F$6=$LN$17,$ME$17,IF($F$6=$LN$18,$ME$18,IF($F$6=$LN$19,$ME$19,IF($F$6=$LN$20,$ME$20,IF($F$6=$LN$21,$ME$21,IF($F$6=$LN$22,$ME$22,IF($F$6=$LN$23,$ME$23,\"\"))))))))))","v":24},{"$f":"IF($F$6=$LN$14,$MF$14,IF($F$6=$LN$15,$MF$15,IF($F$6=$LN$16,$MF$16,IF($F$6=$LN$17,$MF$17,IF($F$6=$LN$18,$MF$18,IF($F$6=$LN$19,$MF$19,IF($F$6=$LN$20,$MF$20,IF($F$6=$LN$21,$MF$21,IF($F$6=$LN$22,$MF$22,IF($F$6=$LN$23,$MF$23,\"\"))))))))))","v":25},{"$f":"IF($F$6=$LN$14,$MG$14,IF($F$6=$LN$15,$MG$15,IF($F$6=$LN$16,$MG$16,IF($F$6=$LN$17,$MG$17,IF($F$6=$LN$18,$MG$18,IF($F$6=$LN$19,$MG$19,IF($F$6=$LN$20,$MG$20,IF($F$6=$LN$21,$MG$21,IF($F$6=$LN$22,$MG$22,IF($F$6=$LN$23,$MG$23,\"\"))))))))))","v":26},{"$f":"IF($F$6=$LN$14,$MH$14,IF($F$6=$LN$15,$MH$15,IF($F$6=$LN$16,$MH$16,IF($F$6=$LN$17,$MH$17,IF($F$6=$LN$18,$MH$18,IF($F$6=$LN$19,$MH$19,IF($F$6=$LN$20,$MH$20,IF($F$6=$LN$21,$MH$21,IF($F$6=$LN$22,$MH$22,IF($F$6=$LN$23,$MH$23,\"\"))))))))))","v":27},{"$f":"IF($F$6=$LN$14,$MI$14,IF($F$6=$LN$15,$MI$15,IF($F$6=$LN$16,$MI$16,IF($F$6=$LN$17,$MI$17,IF($F$6=$LN$18,$MI$18,IF($F$6=$LN$19,$MI$19,IF($F$6=$LN$20,$MI$20,IF($F$6=$LN$21,$MI$21,IF($F$6=$LN$22,$MI$22,IF($F$6=$LN$23,$MI$23,\"\"))))))))))","v":30},{"$f":"IF($F$6=$LN$14,$MJ$14,IF($F$6=$LN$15,$MJ$15,IF($F$6=$LN$16,$MJ$16,IF($F$6=$LN$17,$MJ$17,IF($F$6=$LN$18,$MJ$18,IF($F$6=$LN$19,$MJ$19,IF($F$6=$LN$20,$MJ$20,IF($F$6=$LN$21,$MJ$21,IF($F$6=$LN$22,$MJ$22,IF($F$6=$LN$23,$MJ$23,\"\"))))))))))","v":0},{"$f":"IF($F$6=$LN$14,$MK$14,IF($F$6=$LN$15,$MK$15,IF($F$6=$LN$16,$MK$16,IF($F$6=$LN$17,$MK$17,IF($F$6=$LN$18,$MK$18,IF($F$6=$LN$19,$MK$19,IF($F$6=$LN$20,$MK$20,IF($F$6=$LN$21,$MK$21,IF($F$6=$LN$22,$MK$22,IF($F$6=$LN$23,$MK$23,\"\"))))))))))","v":0},{"$f":"IF($F$6=$LN$14,$ML$14,IF($F$6=$LN$15,$ML$15,IF($F$6=$LN$16,$ML$16,IF($F$6=$LN$17,$ML$17,IF($F$6=$LN$18,$ML$18,IF($F$6=$LN$19,$ML$19,IF($F$6=$LN$20,$ML$20,IF($F$6=$LN$21,$ML$21,IF($F$6=$LN$22,$ML$22,IF($F$6=$LN$23,$ML$23,\"\"))))))))))","v":0},{"$f":"IF($F$6=$LN$14,$MM$14,IF($F$6=$LN$15,$MM$15,IF($F$6=$LN$16,$MM$16,IF($F$6=$LN$17,$MM$17,IF($F$6=$LN$18,$MM$18,IF($F$6=$LN$19,$MM$19,IF($F$6=$LN$20,$MM$20,IF($F$6=$LN$21,$MM$21,IF($F$6=$LN$22,$MM$22,IF($F$6=$LN$23,$MM$23,\"\"))))))))))","v":0},null,null,null,"CD",null,"NOMBRE",null,"T/F","T/F",null,{"$f":"IF($F$6=$LN$14,$LO$14,IF($F$6=$LN$15,$LO$15,IF($F$6=$LN$16,$LO$16,IF($F$6=$LN$17,$LO$17,IF($F$6=$LN$18,$LO$18,IF($F$6=$LN$19,$LO$19,IF($F$6=$LN$20,$LO$20,IF($F$6=$LN$21,$LO$21,IF($F$6=$LN$22,$LO$22,IF($F$6=$LN$23,$LO$23,\"\"))))))))))","v":2},{"$f":"IF($F$6=$LN$14,$LP$14,IF($F$6=$LN$15,$LP$15,IF($F$6=$LN$16,$LP$16,IF($F$6=$LN$17,$LP$17,IF($F$6=$LN$18,$LP$18,IF($F$6=$LN$19,$LP$19,IF($F$6=$LN$20,$LP$20,IF($F$6=$LN$21,$LP$21,IF($F$6=$LN$22,$LP$22,IF($F$6=$LN$23,$LP$23,\"\"))))))))))","v":3},{"$f":"IF($F$6=$LN$14,$LQ$14,IF($F$6=$LN$15,$LQ$15,IF($F$6=$LN$16,$LQ$16,IF($F$6=$LN$17,$LQ$17,IF($F$6=$LN$18,$LQ$18,IF($F$6=$LN$19,$LQ$19,IF($F$6=$LN$20,$LQ$20,IF($F$6=$LN$21,$LQ$21,IF($F$6=$LN$22,$LQ$22,IF($F$6=$LN$23,$LQ$23,\"\"))))))))))","v":4},{"$f":"IF($F$6=$LN$14,$LR$14,IF($F$6=$LN$15,$LR$15,IF($F$6=$LN$16,$LR$16,IF($F$6=$LN$17,$LR$17,IF($F$6=$LN$18,$LR$18,IF($F$6=$LN$19,$LR$19,IF($F$6=$LN$20,$LR$20,IF($F$6=$LN$21,$LR$21,IF($F$6=$LN$22,$LR$22,IF($F$6=$LN$23,$LR$23,\"\"))))))))))","v":5},{"$f":"IF($F$6=$LN$14,$LS$14,IF($F$6=$LN$15,$LS$15,IF($F$6=$LN$16,$LS$16,IF($F$6=$LN$17,$LS$17,IF($F$6=$LN$18,$LS$18,IF($F$6=$LN$19,$LS$19,IF($F$6=$LN$20,$LS$20,IF($F$6=$LN$21,$LS$21,IF($F$6=$LN$22,$LS$22,IF($F$6=$LN$23,$LS$23,\"\"))))))))))","v":6},{"$f":"IF($F$6=$LN$14,$LT$14,IF($F$6=$LN$15,$LT$15,IF($F$6=$LN$16,$LT$16,IF($F$6=$LN$17,$LT$17,IF($F$6=$LN$18,$LT$18,IF($F$6=$LN$19,$LT$19,IF($F$6=$LN$20,$LT$20,IF($F$6=$LN$21,$LT$21,IF($F$6=$LN$22,$LT$22,IF($F$6=$LN$23,$LT$23,\"\"))))))))))","v":9},{"$f":"IF($F$6=$LN$14,$LU$14,IF($F$6=$LN$15,$LU$15,IF($F$6=$LN$16,$LU$16,IF($F$6=$LN$17,$LU$17,IF($F$6=$LN$18,$LU$18,IF($F$6=$LN$19,$LU$19,IF($F$6=$LN$20,$LU$20,IF($F$6=$LN$21,$LU$21,IF($F$6=$LN$22,$LU$22,IF($F$6=$LN$23,$LU$23,\"\"))))))))))","v":10},{"$f":"IF($F$6=$LN$14,$LV$14,IF($F$6=$LN$15,$LV$15,IF($F$6=$LN$16,$LV$16,IF($F$6=$LN$17,$LV$17,IF($F$6=$LN$18,$LV$18,IF($F$6=$LN$19,$LV$19,IF($F$6=$LN$20,$LV$20,IF($F$6=$LN$21,$LV$21,IF($F$6=$LN$22,$LV$22,IF($F$6=$LN$23,$LV$23,\"\"))))))))))","v":11},{"$f":"IF($F$6=$LN$14,$LW$14,IF($F$6=$LN$15,$LW$15,IF($F$6=$LN$16,$LW$16,IF($F$6=$LN$17,$LW$17,IF($F$6=$LN$18,$LW$18,IF($F$6=$LN$19,$LW$19,IF($F$6=$LN$20,$LW$20,IF($F$6=$LN$21,$LW$21,IF($F$6=$LN$22,$LW$22,IF($F$6=$LN$23,$LW$23,\"\"))))))))))","v":12},{"$f":"IF($F$6=$LN$14,$LX$14,IF($F$6=$LN$15,$LX$15,IF($F$6=$LN$16,$LX$16,IF($F$6=$LN$17,$LX$17,IF($F$6=$LN$18,$LX$18,IF($F$6=$LN$19,$LX$19,IF($F$6=$LN$20,$LX$20,IF($F$6=$LN$21,$LX$21,IF($F$6=$LN$22,$LX$22,IF($F$6=$LN$23,$LX$23,\"\"))))))))))","v":13},{"$f":"IF($F$6=$LN$14,$LY$14,IF($F$6=$LN$15,$LY$15,IF($F$6=$LN$16,$LY$16,IF($F$6=$LN$17,$LY$17,IF($F$6=$LN$18,$LY$18,IF($F$6=$LN$19,$LY$19,IF($F$6=$LN$20,$LY$20,IF($F$6=$LN$21,$LY$21,IF($F$6=$LN$22,$LY$22,IF($F$6=$LN$23,$LY$23,\"\"))))))))))","v":16},{"$f":"IF($F$6=$LN$14,$LZ$14,IF($F$6=$LN$15,$LZ$15,IF($F$6=$LN$16,$LZ$16,IF($F$6=$LN$17,$LZ$17,IF($F$6=$LN$18,$LZ$18,IF($F$6=$LN$19,$LZ$19,IF($F$6=$LN$20,$LZ$20,IF($F$6=$LN$21,UB21,IF($F$6=$LN$22,$LZ$22,IF($F$6=$LN$23,$LZ$23,\"\"))))))))))","v":17},{"$f":"IF($F$6=$LN$14,$MA$14,IF($F$6=$LN$15,$MA$15,IF($F$6=$LN$16,$MA$16,IF($F$6=$LN$17,$MA$17,IF($F$6=$LN$18,$MA$18,IF($F$6=$LN$19,$MA$19,IF($F$6=$LN$20,$MA$20,IF($F$6=$LN$21,$MA$21,IF($F$6=$LN$22,$MA$22,IF($F$6=$LN$23,$MA$23,\"\"))))))))))","v":18},{"$f":"IF($F$6=$LN$14,$MB$14,IF($F$6=$LN$15,$MB$15,IF($F$6=$LN$16,$MB$16,IF($F$6=$LN$17,$MB$17,IF($F$6=$LN$18,$MB$18,IF($F$6=$LN$19,$MB$19,IF($F$6=$LN$20,$MB$20,IF($F$6=$LN$21,$MB$21,IF($F$6=$LN$22,$MB$22,IF($F$6=$LN$23,$MB$23,\"\"))))))))))","v":19},{"$f":"IF($F$6=$LN$14,$MC$14,IF($F$6=$LN$15,$MC$15,IF($F$6=$LN$16,$MC$16,IF($F$6=$LN$17,$MC$17,IF($F$6=$LN$18,$MC$18,IF($F$6=$LN$19,$MC$19,IF($F$6=$LN$20,$MC$20,IF($F$6=$LN$21,$MC$21,IF($F$6=$LN$22,$MC$22,IF($F$6=$LN$23,$MC$23,\"\"))))))))))","v":20},{"$f":"IF($F$6=$LN$14,$MD$14,IF($F$6=$LN$15,$MD$15,IF($F$6=$LN$16,$MD$16,IF($F$6=$LN$17,$MD$17,IF($F$6=$LN$18,$MD$18,IF($F$6=$LN$19,$MD$19,IF($F$6=$LN$20,$MD$20,IF($F$6=$LN$21,$MD$21,IF($F$6=$LN$22,$MD$22,IF($F$6=$LN$23,$MD$23,\"\"))))))))))","v":23},{"$f":"IF($F$6=$LN$14,$ME$14,IF($F$6=$LN$15,$ME$15,IF($F$6=$LN$16,$ME$16,IF($F$6=$LN$17,$ME$17,IF($F$6=$LN$18,$ME$18,IF($F$6=$LN$19,$ME$19,IF($F$6=$LN$20,$ME$20,IF($F$6=$LN$21,$ME$21,IF($F$6=$LN$22,$ME$22,IF($F$6=$LN$23,$ME$23,\"\"))))))))))","v":24},{"$f":"IF($F$6=$LN$14,$MF$14,IF($F$6=$LN$15,$MF$15,IF($F$6=$LN$16,$MF$16,IF($F$6=$LN$17,$MF$17,IF($F$6=$LN$18,$MF$18,IF($F$6=$LN$19,$MF$19,IF($F$6=$LN$20,$MF$20,IF($F$6=$LN$21,$MF$21,IF($F$6=$LN$22,$MF$22,IF($F$6=$LN$23,$MF$23,\"\"))))))))))","v":25},{"$f":"IF($F$6=$LN$14,$MG$14,IF($F$6=$LN$15,$MG$15,IF($F$6=$LN$16,$MG$16,IF($F$6=$LN$17,$MG$17,IF($F$6=$LN$18,$MG$18,IF($F$6=$LN$19,$MG$19,IF($F$6=$LN$20,$MG$20,IF($F$6=$LN$21,$MG$21,IF($F$6=$LN$22,$MG$22,IF($F$6=$LN$23,$MG$23,\"\"))))))))))","v":26},{"$f":"IF($F$6=$LN$14,$MH$14,IF($F$6=$LN$15,$MH$15,IF($F$6=$LN$16,$MH$16,IF($F$6=$LN$17,$MH$17,IF($F$6=$LN$18,$MH$18,IF($F$6=$LN$19,$MH$19,IF($F$6=$LN$20,$MH$20,IF($F$6=$LN$21,$MH$21,IF($F$6=$LN$22,$MH$22,IF($F$6=$LN$23,$MH$23,\"\"))))))))))","v":27},{"$f":"IF($F$6=$LN$14,$MI$14,IF($F$6=$LN$15,$MI$15,IF($F$6=$LN$16,$MI$16,IF($F$6=$LN$17,$MI$17,IF($F$6=$LN$18,$MI$18,IF($F$6=$LN$19,$MI$19,IF($F$6=$LN$20,$MI$20,IF($F$6=$LN$21,$MI$21,IF($F$6=$LN$22,$MI$22,IF($F$6=$LN$23,$MI$23,\"\"))))))))))","v":30},{"$f":"IF($F$6=$LN$14,$MJ$14,IF($F$6=$LN$15,$MJ$15,IF($F$6=$LN$16,$MJ$16,IF($F$6=$LN$17,$MJ$17,IF($F$6=$LN$18,$MJ$18,IF($F$6=$LN$19,$MJ$19,IF($F$6=$LN$20,$MJ$20,IF($F$6=$LN$21,$MJ$21,IF($F$6=$LN$22,$MJ$22,IF($F$6=$LN$23,$MJ$23,\"\"))))))))))","v":0},{"$f":"IF($F$6=$LN$14,$MK$14,IF($F$6=$LN$15,$MK$15,IF($F$6=$LN$16,$MK$16,IF($F$6=$LN$17,$MK$17,IF($F$6=$LN$18,$MK$18,IF($F$6=$LN$19,$MK$19,IF($F$6=$LN$20,$MK$20,IF($F$6=$LN$21,$MK$21,IF($F$6=$LN$22,$MK$22,IF($F$6=$LN$23,$MK$23,\"\"))))))))))","v":0},{"$f":"IF($F$6=$LN$14,$ML$14,IF($F$6=$LN$15,$ML$15,IF($F$6=$LN$16,$ML$16,IF($F$6=$LN$17,$ML$17,IF($F$6=$LN$18,$ML$18,IF($F$6=$LN$19,$ML$19,IF($F$6=$LN$20,$ML$20,IF($F$6=$LN$21,$ML$21,IF($F$6=$LN$22,$ML$22,IF($F$6=$LN$23,$ML$23,\"\"))))))))))","v":0},{"$f":"IF($F$6=$LN$14,$MM$14,IF($F$6=$LN$15,$MM$15,IF($F$6=$LN$16,$MM$16,IF($F$6=$LN$17,$MM$17,IF($F$6=$LN$18,$MM$18,IF($F$6=$LN$19,$MM$19,IF($F$6=$LN$20,$MM$20,IF($F$6=$LN$21,$MM$21,IF($F$6=$LN$22,$MM$22,IF($F$6=$LN$23,$MM$23,\"\"))))))))))","v":0},null,null,null,"CD",null,"NOMBRE",null,"T/F","T/F",null,{"$f":"IF($F$6=$LN$14,$LO$14,IF($F$6=$LN$15,$LO$15,IF($F$6=$LN$16,$LO$16,IF($F$6=$LN$17,$LO$17,IF($F$6=$LN$18,$LO$18,IF($F$6=$LN$19,$LO$19,IF($F$6=$LN$20,$LO$20,IF($F$6=$LN$21,$LO$21,IF($F$6=$LN$22,$LO$22,IF($F$6=$LN$23,$LO$23,\"\"))))))))))","v":2},{"$f":"IF($F$6=$LN$14,$LP$14,IF($F$6=$LN$15,$LP$15,IF($F$6=$LN$16,$LP$16,IF($F$6=$LN$17,$LP$17,IF($F$6=$LN$18,$LP$18,IF($F$6=$LN$19,$LP$19,IF($F$6=$LN$20,$LP$20,IF($F$6=$LN$21,$LP$21,IF($F$6=$LN$22,$LP$22,IF($F$6=$LN$23,$LP$23,\"\"))))))))))","v":3},{"$f":"IF($F$6=$LN$14,$LQ$14,IF($F$6=$LN$15,$LQ$15,IF($F$6=$LN$16,$LQ$16,IF($F$6=$LN$17,$LQ$17,IF($F$6=$LN$18,$LQ$18,IF($F$6=$LN$19,$LQ$19,IF($F$6=$LN$20,$LQ$20,IF($F$6=$LN$21,$LQ$21,IF($F$6=$LN$22,$LQ$22,IF($F$6=$LN$23,$LQ$23,\"\"))))))))))","v":4},{"$f":"IF($F$6=$LN$14,$LR$14,IF($F$6=$LN$15,$LR$15,IF($F$6=$LN$16,$LR$16,IF($F$6=$LN$17,$LR$17,IF($F$6=$LN$18,$LR$18,IF($F$6=$LN$19,$LR$19,IF($F$6=$LN$20,$LR$20,IF($F$6=$LN$21,$LR$21,IF($F$6=$LN$22,$LR$22,IF($F$6=$LN$23,$LR$23,\"\"))))))))))","v":5},{"$f":"IF($F$6=$LN$14,$LS$14,IF($F$6=$LN$15,$LS$15,IF($F$6=$LN$16,$LS$16,IF($F$6=$LN$17,$LS$17,IF($F$6=$LN$18,$LS$18,IF($F$6=$LN$19,$LS$19,IF($F$6=$LN$20,$LS$20,IF($F$6=$LN$21,$LS$21,IF($F$6=$LN$22,$LS$22,IF($F$6=$LN$23,$LS$23,\"\"))))))))))","v":6},{"$f":"IF($F$6=$LN$14,$LT$14,IF($F$6=$LN$15,$LT$15,IF($F$6=$LN$16,$LT$16,IF($F$6=$LN$17,$LT$17,IF($F$6=$LN$18,$LT$18,IF($F$6=$LN$19,$LT$19,IF($F$6=$LN$20,$LT$20,IF($F$6=$LN$21,$LT$21,IF($F$6=$LN$22,$LT$22,IF($F$6=$LN$23,$LT$23,\"\"))))))))))","v":9},{"$f":"IF($F$6=$LN$14,$LU$14,IF($F$6=$LN$15,$LU$15,IF($F$6=$LN$16,$LU$16,IF($F$6=$LN$17,$LU$17,IF($F$6=$LN$18,$LU$18,IF($F$6=$LN$19,$LU$19,IF($F$6=$LN$20,$LU$20,IF($F$6=$LN$21,$LU$21,IF($F$6=$LN$22,$LU$22,IF($F$6=$LN$23,$LU$23,\"\"))))))))))","v":10},{"$f":"IF($F$6=$LN$14,$LV$14,IF($F$6=$LN$15,$LV$15,IF($F$6=$LN$16,$LV$16,IF($F$6=$LN$17,$LV$17,IF($F$6=$LN$18,$LV$18,IF($F$6=$LN$19,$LV$19,IF($F$6=$LN$20,$LV$20,IF($F$6=$LN$21,$LV$21,IF($F$6=$LN$22,$LV$22,IF($F$6=$LN$23,$LV$23,\"\"))))))))))","v":11},{"$f":"IF($F$6=$LN$14,$LW$14,IF($F$6=$LN$15,$LW$15,IF($F$6=$LN$16,$LW$16,IF($F$6=$LN$17,$LW$17,IF($F$6=$LN$18,$LW$18,IF($F$6=$LN$19,$LW$19,IF($F$6=$LN$20,$LW$20,IF($F$6=$LN$21,$LW$21,IF($F$6=$LN$22,$LW$22,IF($F$6=$LN$23,$LW$23,\"\"))))))))))","v":12},{"$f":"IF($F$6=$LN$14,$LX$14,IF($F$6=$LN$15,$LX$15,IF($F$6=$LN$16,$LX$16,IF($F$6=$LN$17,$LX$17,IF($F$6=$LN$18,$LX$18,IF($F$6=$LN$19,$LX$19,IF($F$6=$LN$20,$LX$20,IF($F$6=$LN$21,$LX$21,IF($F$6=$LN$22,$LX$22,IF($F$6=$LN$23,$LX$23,\"\"))))))))))","v":13},{"$f":"IF($F$6=$LN$14,$LY$14,IF($F$6=$LN$15,$LY$15,IF($F$6=$LN$16,$LY$16,IF($F$6=$LN$17,$LY$17,IF($F$6=$LN$18,$LY$18,IF($F$6=$LN$19,$LY$19,IF($F$6=$LN$20,$LY$20,IF($F$6=$LN$21,$LY$21,IF($F$6=$LN$22,$LY$22,IF($F$6=$LN$23,$LY$23,\"\"))))))))))","v":16},{"$f":"IF($F$6=$LN$14,$LZ$14,IF($F$6=$LN$15,$LZ$15,IF($F$6=$LN$16,$LZ$16,IF($F$6=$LN$17,$LZ$17,IF($F$6=$LN$18,$LZ$18,IF($F$6=$LN$19,$LZ$19,IF($F$6=$LN$20,$LZ$20,IF($F$6=$LN$21,VK21,IF($F$6=$LN$22,$LZ$22,IF($F$6=$LN$23,$LZ$23,\"\"))))))))))","v":17},{"$f":"IF($F$6=$LN$14,$MA$14,IF($F$6=$LN$15,$MA$15,IF($F$6=$LN$16,$MA$16,IF($F$6=$LN$17,$MA$17,IF($F$6=$LN$18,$MA$18,IF($F$6=$LN$19,$MA$19,IF($F$6=$LN$20,$MA$20,IF($F$6=$LN$21,$MA$21,IF($F$6=$LN$22,$MA$22,IF($F$6=$LN$23,$MA$23,\"\"))))))))))","v":18},{"$f":"IF($F$6=$LN$14,$MB$14,IF($F$6=$LN$15,$MB$15,IF($F$6=$LN$16,$MB$16,IF($F$6=$LN$17,$MB$17,IF($F$6=$LN$18,$MB$18,IF($F$6=$LN$19,$MB$19,IF($F$6=$LN$20,$MB$20,IF($F$6=$LN$21,$MB$21,IF($F$6=$LN$22,$MB$22,IF($F$6=$LN$23,$MB$23,\"\"))))))))))","v":19},{"$f":"IF($F$6=$LN$14,$MC$14,IF($F$6=$LN$15,$MC$15,IF($F$6=$LN$16,$MC$16,IF($F$6=$LN$17,$MC$17,IF($F$6=$LN$18,$MC$18,IF($F$6=$LN$19,$MC$19,IF($F$6=$LN$20,$MC$20,IF($F$6=$LN$21,$MC$21,IF($F$6=$LN$22,$MC$22,IF($F$6=$LN$23,$MC$23,\"\"))))))))))","v":20},{"$f":"IF($F$6=$LN$14,$MD$14,IF($F$6=$LN$15,$MD$15,IF($F$6=$LN$16,$MD$16,IF($F$6=$LN$17,$MD$17,IF($F$6=$LN$18,$MD$18,IF($F$6=$LN$19,$MD$19,IF($F$6=$LN$20,$MD$20,IF($F$6=$LN$21,$MD$21,IF($F$6=$LN$22,$MD$22,IF($F$6=$LN$23,$MD$23,\"\"))))))))))","v":23},{"$f":"IF($F$6=$LN$14,$ME$14,IF($F$6=$LN$15,$ME$15,IF($F$6=$LN$16,$ME$16,IF($F$6=$LN$17,$ME$17,IF($F$6=$LN$18,$ME$18,IF($F$6=$LN$19,$ME$19,IF($F$6=$LN$20,$ME$20,IF($F$6=$LN$21,$ME$21,IF($F$6=$LN$22,$ME$22,IF($F$6=$LN$23,$ME$23,\"\"))))))))))","v":24},{"$f":"IF($F$6=$LN$14,$MF$14,IF($F$6=$LN$15,$MF$15,IF($F$6=$LN$16,$MF$16,IF($F$6=$LN$17,$MF$17,IF($F$6=$LN$18,$MF$18,IF($F$6=$LN$19,$MF$19,IF($F$6=$LN$20,$MF$20,IF($F$6=$LN$21,$MF$21,IF($F$6=$LN$22,$MF$22,IF($F$6=$LN$23,$MF$23,\"\"))))))))))","v":25},{"$f":"IF($F$6=$LN$14,$MG$14,IF($F$6=$LN$15,$MG$15,IF($F$6=$LN$16,$MG$16,IF($F$6=$LN$17,$MG$17,IF($F$6=$LN$18,$MG$18,IF($F$6=$LN$19,$MG$19,IF($F$6=$LN$20,$MG$20,IF($F$6=$LN$21,$MG$21,IF($F$6=$LN$22,$MG$22,IF($F$6=$LN$23,$MG$23,\"\"))))))))))","v":26},{"$f":"IF($F$6=$LN$14,$MH$14,IF($F$6=$LN$15,$MH$15,IF($F$6=$LN$16,$MH$16,IF($F$6=$LN$17,$MH$17,IF($F$6=$LN$18,$MH$18,IF($F$6=$LN$19,$MH$19,IF($F$6=$LN$20,$MH$20,IF($F$6=$LN$21,$MH$21,IF($F$6=$LN$22,$MH$22,IF($F$6=$LN$23,$MH$23,\"\"))))))))))","v":27},{"$f":"IF($F$6=$LN$14,$MI$14,IF($F$6=$LN$15,$MI$15,IF($F$6=$LN$16,$MI$16,IF($F$6=$LN$17,$MI$17,IF($F$6=$LN$18,$MI$18,IF($F$6=$LN$19,$MI$19,IF($F$6=$LN$20,$MI$20,IF($F$6=$LN$21,$MI$21,IF($F$6=$LN$22,$MI$22,IF($F$6=$LN$23,$MI$23,\"\"))))))))))","v":30},{"$f":"IF($F$6=$LN$14,$MJ$14,IF($F$6=$LN$15,$MJ$15,IF($F$6=$LN$16,$MJ$16,IF($F$6=$LN$17,$MJ$17,IF($F$6=$LN$18,$MJ$18,IF($F$6=$LN$19,$MJ$19,IF($F$6=$LN$20,$MJ$20,IF($F$6=$LN$21,$MJ$21,IF($F$6=$LN$22,$MJ$22,IF($F$6=$LN$23,$MJ$23,\"\"))))))))))","v":0},{"$f":"IF($F$6=$LN$14,$MK$14,IF($F$6=$LN$15,$MK$15,IF($F$6=$LN$16,$MK$16,IF($F$6=$LN$17,$MK$17,IF($F$6=$LN$18,$MK$18,IF($F$6=$LN$19,$MK$19,IF($F$6=$LN$20,$MK$20,IF($F$6=$LN$21,$MK$21,IF($F$6=$LN$22,$MK$22,IF($F$6=$LN$23,$MK$23,\"\"))))))))))","v":0},{"$f":"IF($F$6=$LN$14,$ML$14,IF($F$6=$LN$15,$ML$15,IF($F$6=$LN$16,$ML$16,IF($F$6=$LN$17,$ML$17,IF($F$6=$LN$18,$ML$18,IF($F$6=$LN$19,$ML$19,IF($F$6=$LN$20,$ML$20,IF($F$6=$LN$21,$ML$21,IF($F$6=$LN$22,$ML$22,IF($F$6=$LN$23,$ML$23,\"\"))))))))))","v":0},{"$f":"IF($F$6=$LN$14,$MM$14,IF($F$6=$LN$15,$MM$15,IF($F$6=$LN$16,$MM$16,IF($F$6=$LN$17,$MM$17,IF($F$6=$LN$18,$MM$18,IF($F$6=$LN$19,$MM$19,IF($F$6=$LN$20,$MM$20,IF($F$6=$LN$21,$MM$21,IF($F$6=$LN$22,$MM$22,IF($F$6=$LN$23,$MM$23,\"\"))))))))))","v":0},null,null,null,null,null,null,null,null,null,null,null,null,null,null,null,null,null,null,null,null,null,null,null,null,null,null,null,null,null,null,null,null,null,null,null,null,null,null,null,null,null,null,null,null,null,null,"no","contar",null,"1T",1]
[1,null,{"$f":"IF(LISTA!B7=\"\",\"\",LISTA!B7)","v":4},{"$f":"IF(F11=\"\",\"\",LISTA!C7)","v":"6B"},null,{"$f":"IF(LISTA!D7=\"\",\"\",LISTA!D7)","v":"D.COOPERATIVA"},null,null,null,null,null,null,null,null,null,null,null,null,null,null,null,null,null,null,null,null,null,null,null,null,null,null,null,null,null,null,null,null,null,null,null,null,null,null,null,null,null,null,null,null,null,null,null,null,null,null,null,null,null,null,null,null,null,null,null,null,null,null,null,null,null,null,null,null,null,null,null,null,null,null,null,null,null,null,null,null,null,null,null,null,null,null,null,null,null,null,null,null,null,null,null,null,null,null,null,null,null,null,null,null,null,null,null,null,null,null,null,null,null,null,null,null,null,null,null,null,null,null,null,null,null,null,null,null,null,null,null,null,null,null,null,null,null,null,null,null,null,null,null,null,null,null,null,null,null,null,null,null,null,null,null,null,null,null,null,null,null,null,null,null,null,null,null,null,null,null,null,null,null,null,null,null,null,null,null,null,null,null,null,null,null,null,null,null,null,null,null,null,null,null,null,null,null,null,null,null,null,null,null,null,null,null,null,null,null,null,null,null,null,null,null,null,null,null,null,null,null,null,null,null,null,null,null,null,null,null,null,null,null,null,null,null,null,null,null,null,null,null,null,null,null,null,null,null,null,null,null,null,null,null,null,null,null,null,null,null,null,null,null,null,null,null,null,null,null,null,null,null,null,null,null,null,null,null,null,null,null,null,null,null,null,null,null,null,null,null,null,null,null,null,null,null,null,null,null,null,null,null,null,null,null,null,null,null,null,null,null,null,null,null,null,null,null,null,null,null,null,null,null,null,null,null,null,null,null,null,null,null,null,null,null,null,null,null,null,null,null,null,null,null,null,null,null,null,null,null,null,null,null,null,null,null,null,null,null,null,null,{"$f":"IF(D11=\"\",\"\",\"si\")","v":"si"},"no",{"$f":"COUNTIF(ND11:ND19,\"si\")","v":8},null,"2T",2,null,null,null,{"$f":"IF(AND(ND11=\"si\",NE11=\"no\"),\"ok\",\"\")","v":"ok"}]
[2,null,{"$f":"IF(LISTA!B8=\"\",\"\",LISTA!B8)","v":4},{"$f":"IF(F12=\"\",\"\",LISTA!C8)","v":"6B"},null,{"$f":"IF(LISTA!D8=\"\",\"\",LISTA!D8)","v":"SCIENCE"},null,{"$f":"#REF!","v":{"$error":"#REF!"}},null,null,{"$f":"IF(M12=\"\",\"\",MO13)","v":{"$error":"#REF!"}},null,{"$f":"IF(#REF!=\"\",\"\",#REF!)","v":{"$error":"#REF!"}},null,{"$f":"COUNTIF(R12:AP12,\"R\")-COUNTIF(R12:AP12,\"=0\")","v":0},{"$f":"COUNTIF(R12:AP12,\"X\")-COUNTIF(R12:AP12,\"=0\")","v":0},null,null,null,null,null,null,null,null,null,null,null,null,null,null,null,null,null,null,null,null,null,null,null,null,null,null,null,null,null,{"$f":"IF(AV12=\"\",\"\",MO13)","v":{"$error":"#REF!"}},null,{"$f":"IF(#REF!=\"\",\"\",#REF!)","v":{"$error":"#REF!"}},null,{"$f":"COUNTIF(BA12:BY12,\"R\")-COUNTIF(BA12:BY12,\"=0\")","v":0},{"$f":"COUNTIF(BA12:BY12,\"X\")-COUNTIF(BA12:BY12,\"=0\")","v":0},null,null,null,null,null,null,null,null,null,null,null,null,null,null,null,null,null,null,null,null,null,null,null,null,null,null,null,null,null,{"$f":"IF(CE12=\"\",\"\",MO13)","v":{"$error":"#REF!"}},null,{"$f":"IF(#REF!=\"\",\"\",#REF!)","v":{"$error":"#REF!"}},null,{"$f":"COUNTIF(CJ12:DH12,\"R\")-COUNTIF(CJ12:DH12,\"=0\")","v":0},{"$f":"COUNTIF(CJ12:DH12,\"X\")-COUNTIF(CJ12:DH12,\"=0\")","v":0},null,null,null,null,null,null,null,null,null,null,null,null,null,null,null,null,null,null,null,null,null,null,null,null,null,null,null,null,null,{"$f":"IF(DN12=\"\",\"\",MO13)","v":{"$error":"#REF!"}},null,{"$f":"IF(#REF!=\"\",\"\",#REF!)","v":{"$error":"#REF!"}},null,{"$f":"COUNTIF(DS12:EQ12,\"R\")-COUNTIF(DS12:EQ12,\"=0\")","v":0},{"$f":"COUNTIF(DS12:EQ12,\"X\")-COUNTIF(DS12:EQ12,\"=0\")","v":0},null,null,null,null,null,null,null,null,null,null,null,null,null,null,null,null,null,null,null,null,null,null,null,null,null,null,null,null,null,{"$f":"IF(EW12=\"\",\"\",MO13)","v":{"$error":"#REF!"}},null,{"$f":"IF(#REF!=\"\",\"\",#REF!)","v":{"$error":"#REF!"}},null,{"$f":"COUNTIF(FB12:FZ12,\"R\")-COUNTIF(FB12:FZ12,\"=0\")","v":0},{"$f":"COUNTIF(FB12:FZ12,\"X\")-COUNTIF(FB12:FZ12,\"=0\")","v":0},null,null,null,null,null,null,null,null,null,null,null,null,null,null,null,null,null,null,null,null,null,null,null,null,null,null,null,null,null,{"$f":"IF(GF12=\"\",\"\",MO13)","v":{"$error":"#REF!"}},null,{"$f":"IF(#REF!=\"\",\"\",#REF!)","v":{"$error":"#REF!"}},null,{"$f":"COUNTIF(GK12:HI12,\"R\")-COUNTIF(GK12:HI12,\"=0\")","v":0},{"$f":"COUNTIF(GK12:HI12,\"X\")-COUNTIF(GK12:HI12,\"=0\")","v":0},null,null,null,null,null,null,null,null,null,null,null,null,null,null,null,null,null,null,null,null,null,null,null,null,null,null,null,null,null,{"$f":"IF(HO12=\"\",\"\",MO13)","v":{"$error":"#REF!"}},null,{"$f":"IF(#REF!=\"\",\"\",#REF!)","v":{"$error":"#REF!"}},null,{"$f":"COUNTIF(HT12:IR12,\"R\")-COUNTIF(HT12:IR12,\"=0\")","v":0},{"$f":"COUNTIF(HT12:IR12,\"X\")-COUNTIF(HT12:IR12,\"=0\")","v":0},null,null,null,null,null,null,null,null,null,null,null,null,null,null,null,null,null,null,null,null,null,null,null,null,null,null,null,null,null,{"$f":"IF(IX12=\"\",\"\",MO13)","v":{"$error":"#REF!"}},null,{"$f":"IF(#REF!=\"\",\"\",#REF!)","v":{"$error":"#REF!"}},null,{"$f":"COUNTIF(JC12:KA12,\"R\")-COUNTIF(JC12:KA12,\"=0\")","v":0},{"$f":"COUNTIF(JC12:KA12,\"X\")-COUNTIF(JC12:KA12,\"=0\")","v":0},null,null,null,null,null,null,null,null,null,null,null,null,null,null,null,null,null,null,null,null,null,null,null,null,null,null,null,null,null,{"$f":"IF(KG12=\"\",\"\",MO13)","v":1},null,{"$f":"IF(Hoja9!D21=\"\",\"\",Hoja9!D21)","v":"I"},null,{"$f":"COUNTIF(KL12:LJ12,\"R\")-COUNTIF(KL12:LJ12,\"=0\")","v":0},{"$f":"COUNTIF(KL12:LJ12,\"X\")-COUNTIF(KL12:LJ12,\"=0\")","v":0},null,null,null,null,null,null,null,null,null,null,null,null,null,null,null,null,null,null,null,null,null,null,null,null,null,null,null,null,null,null,null,null,null,null,null,null,null,null,null,null,null,null,null,null,null,null,null,null,null,null,null,null,null,null,null,null,null,null,null,null,"ASISTENCIA",null,null,null,null,null,null,null,null,null,null,"si","no",{"$f":"COUNTIF(NM11:NM19,\"ok\")","v":8},null,"3T",3,null,null,null,{"$f":"IF(AND(ND12=\"si\",NE12=\"no\"),\"ok\",\"\")","v":"ok"}]
[3,null,{"$f":"IF(LISTA!B9=\"\",\"\",LISTA!B9)","v":4},{"$f":"IF(F13=\"\",\"\",LISTA!C9)","v":"6B"},null,{"$f":"IF(LISTA!D9=\"\",\"\",LISTA!D9)","v":"INGLES"},null,{"$f":"#REF!","v":{"$error":"#REF!"}},null,null,{"$error":"#REF!"},null,{"$f":"IF(#REF!=\"\",\"\",#REF!)","v":{"$error":"#REF!"}},null,{"$f":"COUNTIF(R13:AP13,\"R\")-COUNTIF(R13:AP13,\"=0\")","v":0},{"$f":"COUNTIF(R13:AP13,\"X\")-COUNTIF(R13:AP13,\"=0\")","v":0},null,null,null,null,null,null,null,null,null,null,null,null,null,null,null,null,null,null,null,null,null,null,null,null,null,null,null,null,null,{"$error":"#REF!"},null,{"$f":"IF(#REF!=\"\",\"\",#REF!)","v":{"$error":"#REF!"}},null,{"$f":"COUNTIF(BA13:BY13,\"R\")-COUNTIF(BA13:BY13,\"=0\")","v":0},{"$f":"COUNTIF(BA13:BY13,\"X\")-COUNTIF(BA13:BY13,\"=0\")","v":0},null,null,null,null,null,null,null,null,null,null,null,null,null,null,null,null,null,null,null,null,null,null,null,null,null,null,null,null,null,{"$error":"#REF!"},null,{"$f":"IF(#REF!=\"\",\"\",#REF!)","v":{"$error":"#REF!"}},null,{"$f":"COUNTIF(CJ13:DH13,\"R\")-COUNTIF(CJ13:DH13,\"=0\")","v":0},{"$f":"COUNTIF(CJ13:DH13,\"X\")-COUNTIF(CJ13:DH13,\"=0\")","v":0},null,null,null,null,null,null,null,null,null,null,null,null,null,null,null,null,null,null,null,null,null,null,null,null,null,null,null,null,null,{"$error":"#REF!"},null,{"$f":"IF(#REF!=\"\",\"\",#REF!)","v":{"$error":"#REF!"}},null,{"$f":"COUNTIF(DS13:EQ13,\"R\")-COUNTIF(DS13:EQ13,\"=0\")","v":0},{"$f":"COUNTIF(DS13:EQ13,\"X\")-COUNTIF(DS13:EQ13,\"=0\")","v":0},null,null,null,null,null,null,null,null,null,null,null,null,null,null,null,null,null,null,null,null,null,null,null,null,null,null,null,null,null,{"$error":"#REF!"},null,{"$f":"IF(#REF!=\"\",\"\",#REF!)","v":{"$error":"#REF!"}},null,{"$f":"COUNTIF(FB13:FZ13,\"R\")-COUNTIF(FB13:FZ13,\"=0\")","v":0},{"$f":"COUNTIF(FB13:FZ13,\"X\")-COUNTIF(FB13:FZ13,\"=0\")","v":0},null,null,null,null,null,null,null,null,null,null,null,null,null,null,null,null,null,null,null,null,null,null,null,null,null,null,null,null,null,{"$error":"#REF!"},null,{"$f":"IF(#REF!=\"\",\"\",#REF!)","v":{"$error":"#REF!"}},null,{"$f":"COUNTIF(GK13:HI13,\"R\")-COUNTIF(GK13:HI13,\"=0\")","v":0},{"$f":"COUNTIF(GK13:HI13,\"X\")-COUNTIF(GK13:HI13,\"=0\")","v":1},null,null,null,null,null,null,null,null,"x",null,null,null,null,null,null,null,null,null,null,null,null,null,null,null,null,null,null,null,null,{"$f":"IF(HO13=\"\",\"\",MO14)","v":{"$error":"#REF!"}},null,{"$f":"IF(#REF!=\"\",\"\",#REF!)","v":{"$error":"#REF!"}},null,{"$f":"COUNTIF(HT13:IR13,\"R\")-COUNTIF(HT13:IR13,\"=0\")","v":0},{"$f":"COUNTIF(HT13:IR13,\"X\")-COUNTIF(HT13:IR13,\"=0\")","v":0},null,null,null,null,null,null,null,null,null,null,null,null,null,null,null,null,null,null,null,null,null,null,null,null,null,null,null,null,null,{"$error":"#REF!"},null,{"$f":"IF(#REF!=\"\",\"\",#REF!)","v":{"$error":"#REF!"}},null,{"$f":"COUNTIF(JC13:KA13,\"R\")-COUNTIF(JC13:KA13,\"=0\")","v":0},{"$f":"COUNTIF(JC13:KA13,\"X\")-COUNTIF(JC13:KA13,\"=0\")","v":0},null,null,null,null,null,null,null,null,null,null,null,null,null,null,null,null,null,null,null,null,null,null,null,null,null,null,null,null,null,"",null,{"$f":"IF(Hoja9!D22=\"\",\"\",Hoja9!D22)","v":""},null,{"$f":"COUNTIF(KL13:LJ13,\"R\")-COUNTIF(KL13:LJ13,\"=0\")","v":0},{"$f":"COUNTIF(KL13:LJ13,\"X\")-COUNTIF(KL13:LJ13,\"=0\")","v":0},null,null,null,null,null,null,null,null,null,null,null,null,null,null,null,null,null,null,null,null,null,null,null,null,null,null,null,null,null,null,"L","M","M","J","V","L","M","M","J","V","L","M","M","J","V","L","M","M","J","V","L","M","M","J","V",null,1,null,null,null,null,null,null,null,null,null,null,null,null,null,null,"si","no",{"$f":"IF(NF11=NF12,\"Ok\",\"\")","v":"Ok"},"DATOS DE SIGECOL GUARDADOS",null,null,null,null,null,"ok"]
[4,null,{"$f":"IF(LISTA!B10=\"\",\"\",LISTA!B10)","v":4},{"$f":"IF(F14=\"\",\"\",LISTA!C10)","v":"6A"},null,{"$f":"IF(LISTA!D10=\"\",\"\",LISTA!D10)","v":"SCIENCE"},null,{"$f":"#REF!","v":{"$error":"#REF!"}},null,null,{"$error":"#REF!"},null,{"$f":"IF(#REF!=\"\",\"\",#REF!)","v":{"$error":"#REF!"}},null,0,{"$f":"COUNTIF(R14:AP14,\"X\")-COUNTIF(R14:AP14,\"=0\")","v":0},null,null,null,null,null,null,null,null,null,null,null,null,null,null,null,null,null,null,null,null,null,null,null,null,null,null,null,null,null,{"$error":"#REF!"},null,{"$f":"IF(#REF!=\"\",\"\",#REF!)","v":{"$error":"#REF!"}},null,0,{"$f":"COUNTIF(BA14:BY14,\"X\")-COUNTIF(BA14:BY14,\"=0\")","v":0},null,null,null,null,null,null,null,null,null,null,null,null,null,null,null,null,null,null,null,null,null,null,null,null,null,null,null,null,null,{"$error":"#REF!"},null,{"$f":"IF(#REF!=\"\",\"\",#REF!)","v":{"$error":"#REF!"}},null,0,{"$f":"COUNTIF(CJ14:DH14,\"X\")-COUNTIF(CJ14:DH14,\"=0\")","v":0},null,null,null,null,null,null,null,null,null,null,null,null,null,null,null,null,null,null,null,null,null,null,null,null,null,null,null,null,null,{"$error":"#REF!"},null,{"$f":"IF(#REF!=\"\",\"\",#REF!)","v":{"$error":"#REF!"}},null,0,{"$f":"COUNTIF(DS14:EQ14,\"X\")-COUNTIF(DS14:EQ14,\"=0\")","v":0},null,null,null,null,null,null,null,null,null,null,null,null,null,null,null,null,null,null,null,null,null,null,null,null,null,null,null,null,null,{"$error":"#REF!"},null,{"$f":"IF(#REF!=\"\",\"\",#REF!)","v":{"$error":"#REF!"}},null,0,{"$f":"COUNTIF(FB14:FZ14,\"X\")-COUNTIF(FB14:FZ14,\"=0\")","v":0},null,null,null,null,null,null,null,null,null,null,null,null,null,null,null,null,null,null,null,null,null,null,null,null,null,null,null,null,null,{"$error":"#REF!"},null,{"$f":"IF(#REF!=\"\",\"\",#REF!)","v":{"$error":"#REF!"}},null,0,{"$f":"COUNTIF(GK14:HI14,\"X\")-COUNTIF(GK14:HI14,\"=0\")","v":1},null,null,null,null,null,null,null,null,null,null,null,null,null,null,null,"x",null,null,null,null,null,null,null,null,null,null,null,null,null,{"$error":"#REF!"},null,{"$f":"IF(#REF!=\"\",\"\",#REF!)","v":{"$error":"#REF!"}},null,0,{"$f":"COUNTIF(HT14:IR14,\"X\")-COUNTIF(HT14:IR14,\"=0\")","v":0},null,null,null,null,null,null,null,null,null,null,null,null,null,null,null,null,null,null,null,null,null,null,null,null,null,null,null,null,null,{"$error":"#REF!"},null,{"$f":"IF(#REF!=\"\",\"\",#REF!)","v":{"$error":"#REF!"}},null,0,{"$f":"COUNTIF(JC14:KA14,\"X\")-COUNTIF(JC14:KA14,\"=0\")","v":0},null,null,null,null,null,null,null,null,null,null,null,null,null,null,null,null,null,null,null,null,null,null,null,null,null,null,null,null,null,"",null,{"$f":"IF(Hoja9!D23=\"\",\"\",Hoja9!D23)","v":""},null,0,{"$f":"COUNTIF(KL14:LJ14,\"X\")-COUNTIF(KL14:LJ14,\"=0\")","v":0},null,null,null,null,null,null,null,null,null,null,null,null,null,null,null,null,null,null,null,null,null,null,null,null,null,null,null,null,null,"FEBRERO",5,6,7,8,9,12,13,14,15,16,19,20,21,22,23,26,27,28,1,2,null,null,null,null,null,null,2,null,null,null,null,null,null,null,null,null,null,null,null,null,null,"si","no",null,null,"PRIMER TRIMESTRE",null,null,null,null,"ok"]
[5,null,{"$f":"IF(LISTA!B11=\"\",\"\",LISTA!B11)","v":4},{"$f":"IF(F15=\"\",\"\",LISTA!C11)","v":"6A"},null,{"$f":"IF(LISTA!D11=\"\",\"\",LISTA!D11)","v":"INGLES"},null,{"$f":"#REF!","v":{"$error":"#REF!"}},null,null,{"$error":"#REF!"},null,{"$f":"IF(#REF!=\"\",\"\",#REF!)","v":{"$error":"#REF!"}},null,0,{"$f":"COUNTIF(R15:AP15,\"X\")-COUNTIF(R15:AP15,\"=0\")","v":0},null,null,null,null,null,null,null,null,null,null,null,null,null,null,null,null,null,null,null,null,null,null,null,null,null,null,null,null,null,{"$error":"#REF!"},null,{"$f":"IF(#REF!=\"\",\"\",#REF!)","v":{"$error":"#REF!"}},null,0,{"$f":"COUNTIF(BA15:BY15,\"X\")-COUNTIF(BA15:BY15,\"=0\")","v":0},null,null,null,null,null,null,null,null,null,null,null,null,null,null,null,null,null,null,null,null,null,null,null,null,null,null,null,null,null,{"$error":"#REF!"},null,{"$f":"IF(#REF!=\"\",\"\",#REF!)","v":{"$error":"#REF!"}},null,0,{"$f":"COUNTIF(CJ15:DH15,\"X\")-COUNTIF(CJ15:DH15,\"=0\")","v":0},null,null,null,null,null,null,null,null,null,null,null,null,null,null,null,null,null,null,null,null,null,null,null,null,null,null,null,null,null,{"$error":"#REF!"},null,{"$f":"IF(#REF!=\"\",\"\",#REF!)","v":{"$error":"#REF!"}},null,0,{"$f":"COUNTIF(DS15:EQ15,\"X\")-COUNTIF(DS15:EQ15,\"=0\")","v":0},null,null,null,null,null,null,null,null,null,null,null,null,null,null,null,null,null,null,null,null,null,null,null,null,null,null,null,null,null,{"$error":"#REF!"},null,{"$f":"IF(#REF!=\"\",\"\",#REF!)","v":{"$error":"#REF!"}},null,0,{"$f":"COUNTIF(FB15:FZ15,\"X\")-COUNTIF(FB15:FZ15,\"=0\")","v":0},null,null,null,null,null,null,null,null,null,null,null,null,null,null,null,null,null,null,null,null,null,null,null,null,null,null,null,null,null,{"$error":"#REF!"},null,{"$f":"IF(#REF!=\"\",\"\",#REF!)","v":{"$error":"#REF!"}},null,0,{"$f":"COUNTIF(GK15:HI15,\"X\")-COUNTIF(GK15:HI15,\"=0\")","v":0},null,null,null,null,null,null,null,null,null,null,null,null,null,null,null,null,null,null,null,null,null,null,null,null,null,null,null,null,null,{"$error":"#REF!"},null,{"$f":"IF(#REF!=\"\",\"\",#REF!)","v":{"$error":"#REF!"}},null,0,{"$f":"COUNTIF(HT15:IR15,\"X\")-COUNTIF(HT15:IR15,\"=0\")","v":0},null,null,null,null,null,null,null,null,null,null,null,null,null,null,null,null,null,null,null,null,null,null,null,null,null,null,null,null,null,{"$error":"#REF!"},null,{"$f":"IF(#REF!=\"\",\"\",#REF!)","v":{"$error":"#REF!"}},null,0,{"$f":"COUNTIF(JC15:KA15,\"X\")-COUNTIF(JC15:KA15,\"=0\")","v":0},null,null,null,null,null,null,null,null,null,null,null,null,null,null,null,null,null,null,null,null,null,null,null,null,null,null,null,null,null,"",null,{"$f":"IF(Hoja9!D24=\"\",\"\",Hoja9!D24)","v":""},null,0,{"$f":"COUNTIF(KL15:LJ15,\"X\")-COUNTIF(KL15:LJ15,\"=0\")","v":0},null,null,null,null,null,null,null,null,null,null,null,null,null,null,null,null,null,null,null,null,null,null,null,null,null,null,null,null,null,"MARZO",5,6,7,8,9,12,13,14,15,16,"F",20,21,22,23,"R","R","R","R","R",null,null,null,null,null,null,3,null,null,null,null,null,null,null,null,null,null,null,null,null,null,"si","no",null,null,"SEGUNDO TRIMESTRE",null,null,null,null,"ok"]
[6,null,{"$f":"IF(LISTA!B12=\"\",\"\",LISTA!B12)","v":3},{"$f":"IF(F16=\"\",\"\",LISTA!C12)","v":"5A"},null,{"$f":"IF(LISTA!D12=\"\",\"\",LISTA!D12)","v":"SCIENCE"},null,{"$f":"#REF!","v":{"$error":"#REF!"}},null,null,{"$error":"#REF!"},null,{"$f":"IF(#REF!=\"\",\"\",#REF!)","v":{"$error":"#REF!"}},null,0,{"$f":"COUNTIF(R16:AP16,\"X\")-COUNTIF(R16:AP16,\"=0\")","v":0},null,null,null,null,null,null,null,null,null,null,null,null,null,null,null,null,null,null,null,null,null,null,null,null,null,null,null,null,null,{"$error":"#REF!"},null,{"$f":"IF(#REF!=\"\",\"\",#REF!)","v":{"$error":"#REF!"}},null,0,{"$f":"COUNTIF(BA16:BY16,\"X\")-COUNTIF(BA16:BY16,\"=0\")","v":0},null,null,null,null,null,null,null,null,null,null,null,null,null,null,null,null,null,null,null,null,null,null,null,null,null,null,null,null,null,{"$error":"#REF!"},null,{"$f":"IF(#REF!=\"\",\"\",#REF!)","v":{"$error":"#REF!"}},null,0,{"$f":"COUNTIF(CJ16:DH16,\"X\")-COUNTIF(CJ16:DH16,\"=0\")","v":0},null,null,null,null,null,null,null,null,null,null,null,null,null,null,null,null,null,null,null,null,null,null,null,null,null,null,null,null,null,{"$error":"#REF!"},null,{"$f":"IF(#REF!=\"\",\"\",#REF!)","v":{"$error":"#REF!"}},null,0,{"$f":"COUNTIF(DS16:EQ16,\"X\")-COUNTIF(DS16:EQ16,\"=0\")","v":0},null,null,null,null,null,null,null,null,null,null,null,null,null,null,null,null,null,null,null,null,null,null,null,null,null,null,null,null,null,{"$error":"#REF!"},null,{"$f":"IF(#REF!=\"\",\"\",#REF!)","v":{"$error":"#REF!"}},null,0,{"$f":"COUNTIF(FB16:FZ16,\"X\")-COUNTIF(FB16:FZ16,\"=0\")","v":0},null,null,null,null,null,null,null,null,null,null,null,null,null,null,null,null,null,null,null,null,null,null,null,null,null,null,null,null,null,{"$error":"#REF!"},null,{"$f":"IF(#REF!=\"\",\"\",#REF!)","v":{"$error":"#REF!"}},null,0,{"$f":"COUNTIF(GK16:HI16,\"X\")-COUNTIF(GK16:HI16,\"=0\")","v":0},null,null,null,null,null,null,null,null,null,null,null,null,null,null,null,null,null,null,null,null,null,null,null,null,null,null,null,null,null,{"$error":"#REF!"},null,{"$f":"IF(#REF!=\"\",\"\",#REF!)","v":{"$error":"#REF!"}},null,0,{"$f":"COUNTIF(HT16:IR16,\"X\")-COUNTIF(HT16:IR16,\"=0\")","v":0},null,null,null,null,null,null,null,null,null,null,null,null,null,null,null,null,null,null,null,null,null,null,null,null,null,null,null,null,null,{"$error":"#REF!"},null,{"$f":"IF(#REF!=\"\",\"\",#REF!)","v":{"$error":"#REF!"}},null,0,{"$f":"COUNTIF(JC16:KA16,\"X\")-COUNTIF(JC16:KA16,\"=0\")","v":0},null,null,null,null,null,null,null,null,null,null,null,null,null,null,null,null,null,null,null,null,null,null,null,null,null,null,null,null,null,"",null,{"$f":"IF(Hoja9!D25=\"\",\"\",Hoja9!D25)","v":""},null,0,{"$f":"COUNTIF(KL16:LJ16,\"X\")-COUNTIF(KL16:LJ16,\"=0\")","v":0},null,null,null,null,null,null,null,null,null,null,null,null,null,null,null,null,null,null,null,null,null,null,null,null,null,null,null,null,null,"ABRIL",2,3,4,5,6,9,10,11,12,13,16,17,18,19,20,23,24,25,26,27,30,null,null,null,null,null,4,null,null,null,null,null,null,null,null,null,null,null,null,null,null,"si","no",null,null,"TERCER TRIMESTRE",null,null,null,null,"ok"]
[7,null,{"$f":"IF(LISTA!B13=\"\",\"\",LISTA!B13)","v":3},{"$f":"IF(F17=\"\",\"\",LISTA!C13)","v":"5A"},null,{"$f":"IF(LISTA!D13=\"\",\"\",LISTA!D13)","v":"INGLES"},null,{"$f":"#REF!","v":{"$error":"#REF!"}},null,null,{"$error":"#REF!"},null,{"$f":"IF(#REF!=\"\",\"\",#REF!)","v":{"$error":"#REF!"}},null,0,{"$f":"COUNTIF(R17:AP17,\"X\")-COUNTIF(R17:AP17,\"=0\")","v":0},null,null,null,null,null,null,null,null,null,null,null,null,null,null,null,null,null,null,null,null,null,null,null,null,null,null,null,null,null,{"$error":"#REF!"},null,{"$f":"IF(#REF!=\"\",\"\",#REF!)","v":{"$error":"#REF!"}},null,0,{"$f":"COUNTIF(BA17:BY17,\"X\")-COUNTIF(BA17:BY17,\"=0\")","v":0},null,null,null,null,null,null,null,null,null,null,null,null,null,null,null,null,null,null,null,null,null,null,null,null,null,null,null,null,null,{"$error":"#REF!"},null,{"$f":"IF(#REF!=\"\",\"\",#REF!)","v":{"$error":"#REF!"}},null,0,{"$f":"COUNTIF(CJ17:DH17,\"X\")-COUNTIF(CJ17:DH17,\"=0\")","v":0},null,null,null,null,null,null,null,null,null,null,null,null,null,null,null,null,null,null,null,null,null,null,null,null,null,null,null,null,null,{"$error":"#REF!"},null,{"$f":"IF(#REF!=\"\",\"\",#REF!)","v":{"$error":"#REF!"}},null,0,{"$f":"COUNTIF(DS17:EQ17,\"X\")-COUNTIF(DS17:EQ17,\"=0\")","v":0},null,null,null,null,null,null,null,null,null,null,null,null,null,null,null,null,null,null,null,null,null,null,null,null,null,null,null,null,null,{"$error":"#REF!"},null,{"$f":"IF(#REF!=\"\",\"\",#REF!)","v":{"$error":"#REF!"}},null,0,{"$f":"COUNTIF(FB17:FZ17,\"X\")-COUNTIF(FB17:FZ17,\"=0\")","v":0},null,null,null,null,null,null,null,null,null,null,null,null,null,null,null,null,null,null,null,null,null,null,null,null,null,null,null,null,null,{"$error":"#REF!"},null,{"$f":"IF(#REF!=\"\",\"\",#REF!)","v":{"$error":"#REF!"}},null,0,{"$f":"COUNTIF(GK17:HI17,\"X\")-COUNTIF(GK17:HI17,\"=0\")","v":0},null,null,null,null,null,null,null,null,null,null,null,null,null,null,null,null,null,null,null,null,null,null,null,null,null,null,null,null,null,{"$error":"#REF!"},null,{"$f":"IF(#REF!=\"\",\"\",#REF!)","v":{"$error":"#REF!"}},null,0,{"$f":"COUNTIF(HT17:IR17,\"X\")-COUNTIF(HT17:IR17,\"=0\")","v":0},null,null,null,null,null,null,null,null,null,null,null,null,null,null,null,null,null,null,null,null,null,null,null,null,null,null,null,null,null,{"$error":"#REF!"},null,{"$f":"IF(#REF!=\"\",\"\",#REF!)","v":{"$error":"#REF!"}},null,0,{"$f":"COUNTIF(JC17:KA17,\"X\")-COUNTIF(JC17:KA17,\"=0\")","v":0},null,null,null,null,null,null,null,null,null,null,null,null,null,null,null,null,null,null,null,null,null,null,null,null,null,null,null,null,null,"",null,{"$f":"IF(Hoja9!D26=\"\",\"\",Hoja9!D26)","v":""},null,0,{"$f":"COUNTIF(KL17:LJ17,\"X\")-COUNTIF(KL17:LJ17,\"=0\")","v":0},null,null,null,null,null,null,null,null,null,null,null,null,null,null,null,null,null,null,null,null,null,null,null,null,null,null,null,null,null,"MAYO",null,"F",2,3,4,7,8,9,10,11,"F",15,16,17,18,21,22,23,24,25,28,29,30,31,null,null,5,null,null,null,null,null,null,null,null,null,null,null,null,null,null,"si","no",null,null,null,null,null,null,null,"ok"]
[8,null,{"$f":"IF(LISTA!B14=\"\",\"\",LISTA!B14)","v":3},{"$f":"IF(F18=\"\",\"\",LISTA!C14)","v":"4A"},null,{"$f":"IF(LISTA!D14=\"\",\"\",LISTA!D14)","v":"SCIENCE"},null,{"$f":"#REF!","v":{"$error":"#REF!"}},null,null,{"$error":"#REF!"},null,{"$f":"IF(#REF!=\"\",\"\",#REF!)","v":{"$error":"#REF!"}},null,0,0,null,null,null,null,null,null,null,null,null,null,null,null,null,null,null,null,null,null,null,null,null,null,null,null,null,null,null,null,null,{"$error":"#REF!"},null,{"$f":"IF(#REF!=\"\",\"\",#REF!)","v":{"$error":"#REF!"}},null,0,0,null,null,null,null,null,null,null,null,null,null,null,null,null,null,null,null,null,null,null,null,null,null,null,null,null,null,null,null,null,{"$error":"#REF!"},null,{"$f":"IF(#REF!=\"\",\"\",#REF!)","v":{"$error":"#REF!"}},null,0,0,null,null,null,null,null,null,null,null,null,null,null,null,null,null,null,null,null,null,null,null,null,null,null,null,null,null,null,null,null,{"$error":"#REF!"},null,{"$f":"IF(#REF!=\"\",\"\",#REF!)","v":{"$error":"#REF!"}},null,0,0,null,null,null,null,null,null,null,null,null,null,null,null,null,null,null,null,null,null,null,null,null,null,null,null,null,null,null,null,null,{"$error":"#REF!"},null,{"$f":"IF(#REF!=\"\",\"\",#REF!)","v":{"$error":"#REF!"}},null,0,0,null,null,null,null,null,null,null,null,null,null,null,null,null,null,null,null,null,null,null,null,null,null,null,null,null,null,null,null,null,{"$error":"#REF!"},null,{"$f":"IF(#REF!=\"\",\"\",#REF!)","v":{"$error":"#REF!"}},null,0,0,null,null,null,null,null,null,null,null,null,null,null,null,null,null,null,null,null,null,null,null,null,null,null,null,null,null,null,null,null,{"$error":"#REF!"},null,{"$f":"IF(#REF!=\"\",\"\",#REF!)","v":{"$error":"#REF!"}},null,0,0,null,null,null,null,null,null,null,null,null,null,null,null,null,null,null,null,null,null,null,null,null,null,null,null,null,null,null,null,null,{"$error":"#REF!"},null,{"$f":"IF(#REF!=\"\",\"\",#REF!)","v":{"$error":"#REF!"}},null,0,0,null,null,null,null,null,null,null,null,null,null,null,null,null,null,null,null,null,null,null,null,null,null,null,null,null,null,null,null,null,"",null,{"$f":"IF(Hoja9!D27=\"\",\"\",Hoja9!D27)","v":""},null,0,0,null,null,null,null,null,null,null,null,null,null,null,null,null,null,null,null,null,null,null,null,null,null,null,null,null,null,null,null,null,"JUNIO",null,null,null,null,1,"F",5,6,7,8,"F",12,13,14,15,"R","R","R","R","R","R","R","R","R","R",null,6,null,null,null,null,null,null,null,null,null,null,null,null,null,null,"si","no",null,null,null,null,null,null,null,"ok"]
[9,null,{"$f":"IF(LISTA!B15=\"\",\"\",LISTA!B15)","v":""},{"$f":"IF(F19=\"\",\"\",LISTA!C15)","v":""},null,{"$f":"IF(LISTA!D15=\"\",\"\",LISTA!D15)","v":""},null,null,null,null,{"$error":"#REF!"},null,{"$f":"IF(#REF!=\"\",\"\",#REF!)","v":{"$error":"#REF!"}},null,0,0,null,null,null,null,null,null,null,null,null,null,null,null,null,null,null,null,null,null,null,null,null,null,null,null,null,null,null,null,null,{"$error":"#REF!"},null,{"$f":"IF(#REF!=\"\",\"\",#REF!)","v":{"$error":"#REF!"}},null,0,0,null,null,null,null,null,null,null,null,null,null,null,null,null,null,null,null,null,null,null,null,null,null,null,null,null,null,null,null,null,{"$error":"#REF!"},null,{"$f":"IF(#REF!=\"\",\"\",#REF!)","v":{"$error":"#REF!"}},null,0,0,null,null,null,null,null,null,null,null,null,null,null,null,null,null,null,null,null,null,null,null,null,null,null,null,null,null,null,null,null,{"$error":"#REF!"},null,{"$f":"IF(#REF!=\"\",\"\",#REF!)","v":{"$error":"#REF!"}},null,0,0,null,null,null,null,null,null,null,null,null,null,null,null,null,null,null,null,null,null,null,null,null,null,null,null,null,null,null,null,null,{"$error":"#REF!"},null,{"$f":"IF(#REF!=\"\",\"\",#REF!)","v":{"$error":"#REF!"}},null,0,0,null,null,null,null,null,null,null,null,null,null,null,null,null,null,null,null,null,null,null,null,null,null,null,null,null,null,null,null,null,{"$error":"#REF!"},null,{"$f":"IF(#REF!=\"\",\"\",#REF!)","v":{"$error":"#REF!"}},null,0,0,null,null,null,null,null,null,null,null,null,null,null,null,null,null,null,null,null,null,null,null,null,null,null,null,null,null,null,null,null,{"$error":"#REF!"},null,{"$f":"IF(#REF!=\"\",\"\",#REF!)","v":{"$error":"#REF!"}},null,0,0,null,null,null,null,null,null,null,null,null,null,null,null,null,null,null,null,null,null,null,null,null,null,null,null,null,null,null,null,null,{"$error":"#REF!"},null,{"$f":"IF(#REF!=\"\",\"\",#REF!)","v":{"$error":"#REF!"}},null,0,0,null,null,null,null,null,null,null,null,null,null,null,null,null,null,null,null,null,null,null,null,null,null,null,null,null,null,null,null,null,"",null,{"$f":"IF(Hoja9!D28=\"\",\"\",Hoja9!D28)","v":""},null,0,0,null,null,null,null,null,null,null,null,null,null,null,null,null,null,null,null,null,null,null,null,null,null,null,null,null,null,null,null,null,"JULIO","F",3,4,5,6,9,10,11,12,13,16,17,18,19,"F",23,24,25,26,27,30,31,null,null,null,null,7,null,null,null,null,null,null,null,null,null,null,null,null,null,null,"","no",null,null,null,null,null,null,null,{"$f":"IF(AND(ND19=\"si\",NE19=\"no\"),\"ok\",\"\")","v":""}]
[null,null,null,null,null,null,null,null,null,null,{"$error":"#REF!"},null,{"$f":"IF(#REF!=\"\",\"\",#REF!)","v":{"$error":"#REF!"}},null,0,0,null,null,null,null,null,null,null,null,null,null,null,null,null,null,null,null,null,null,null,null,null,null,null,null,null,null,null,null,null,{"$error":"#REF!"},null,{"$f":"IF(#REF!=\"\",\"\",#REF!)","v":{"$error":"#REF!"}},null,0,0,null,null,null,null,null,null,null,null,null,null,null,null,null,null,null,null,null,null,null,null,null,null,null,null,null,null,null,null,null,{"$error":"#REF!"},null,{"$f":"IF(#REF!=\"\",\"\",#REF!)","v":{"$error":"#REF!"}},null,0,0,null,null,null,null,null,null,null,null,null,null,null,null,null,null,null,null,null,null,null,null,null,null,null,null,null,null,null,null,null,{"$error":"#REF!"},null,{"$f":"IF(#REF!=\"\",\"\",#REF!)","v":{"$error":"#REF!"}},null,0,0,null,null,null,null,null,null,null,null,null,null,null,null,null,null,null,null,null,null,null,null,null,null,null,null,null,null,null,null,null,{"$error":"#REF!"},null,{"$f":"IF(#REF!=\"\",\"\",#REF!)","v":{"$error":"#REF!"}},null,0,0,null,null,null,null,null,null,null,null,null,null,null,null,null,null,null,null,null,null,null,null,null,null,null,null,null,null,null,null,null,{"$error":"#REF!"},null,{"$f":"IF(#REF!=\"\",\"\",#REF!)","v":{"$error":"#REF!"}},null,0,0,null,null,null,null,null,null,null,null,null,null,null,null,null,null,null,null,null,null,null,null,null,null,null,null,null,null,null,null,null,{"$error":"#REF!"},null,{"$f":"IF(#REF!=\"\",\"\",#REF!)","v":{"$error":"#REF!"}},null,0,0,null,null,null,null,null,null,null,null,null,null,null,null,null,null,null,null,null,null,null,null,null,null,null,null,null,null,null,null,null,{"$error":"#REF!"},null,{"$f":"IF(#REF!=\"\",\"\",#REF!)","v":{"$error":"#REF!"}},null,0,0,null,null,null,null,null,null,null,null,null,null,null,null,null,null,null,null,null,null,null,null,null,null,null,null,null,null,null,null,null,"",null,{"$f":"IF(Hoja9!D29=\"\",\"\",Hoja9!D29)","v":""},null,0,0,null,null,null,null,null,null,null,null,null,null,null,null,null,null,null,null,null,null,null,null,null,null,null,null,null,null,null,null,null,"AGOSTO",null,null,1,2,3,6,"F",8,9,10,13,14,15,16,17,"F",21,22,23,24,27,28,29,30,31,null,8]
[null,null,null,null,null,null,null,null,null,null,{"$error":"#REF!"},null,{"$f":"IF(#REF!=\"\",\"\",#REF!)","v":{"$error":"#REF!"}},null,0,0,null,null,null,null,null,null,null,null,null,null,null,null,null,null,null,null,null,null,null,null,null,null,null,null,null,null,null,null,null,{"$error":"#REF!"},null,{"$f":"IF(#REF!=\"\",\"\",#REF!)","v":{"$error":"#REF!"}},null,0,0,null,null,null,null,null,null,null,null,null,null,null,null,null,null,null,null,null,null,null,null,null,null,null,null,null,null,null,null,null,{"$error":"#REF!"},null,{"$f":"IF(#REF!=\"\",\"\",#REF!)","v":{"$error":"#REF!"}},null,0,0,null,null,null,null,null,null,null,null,null,null,null,null,null,null,null,null,null,null,null,null,null,null,null,null,null,null,null,null,null,{"$error":"#REF!"},null,{"$f":"IF(#REF!=\"\",\"\",#REF!)","v":{"$error":"#REF!"}},null,0,0,null,null,null,null,null,null,null,null,null,null,null,null,null,null,null,null,null,null,null,null,null,null,null,null,null,null,null,null,null,{"$error":"#REF!"},null,{"$f":"IF(#REF!=\"\",\"\",#REF!)","v":{"$error":"#REF!"}},null,0,0,null,null,null,null,null,null,null,null,null,null,null,null,null,null,null,null,null,null,null,null,null,null,null,null,null,null,null,null,null,{"$error":"#REF!"},null,{"$f":"IF(#REF!=\"\",\"\",#REF!)","v":{"$error":"#REF!"}},null,0,0,null,null,null,null,null,null,null,null,null,null,null,null,null,null,null,null,null,null,null,null,null,null,null,null,null,null,null,null,null,{"$error":"#REF!"},null,{"$f":"IF(#REF!=\"\",\"\",#REF!)","v":{"$error":"#REF!"}},null,0,0,null,null,null,null,null,null,null,null,null,null,null,null,null,null,null,null,null,null,null,null,null,null,null,null,null,null,null,null,null,{"$error":"#REF!"},null,{"$f":"IF(#REF!=\"\",\"\",#REF!)","v":{"$error":"#REF!"}},null,0,0,null,null,null,null,null,null,null,null,null,null,null,null,null,null,null,null,null,null,null,null,null,null,null,null,null,null,null,null,null,"",null,{"$f":"IF(Hoja9!D30=\"\",\"\",Hoja9!D30)","v":""},null,0,0,null,null,null,null,null,null,null,null,null,null,null,null,null,null,null,null,null,null,null,null,null,null,null,null,null,null,null,null,null,"SEPTIEMBRE",3,4,5,6,7,10,11,12,13,14,17,18,19,20,21,24,25,26,27,28,null,null,null,null,null,null,9]
[null,"COMANDOS",null,null,null,null,null,null,null,null,{"$error":"#REF!"},null,{"$f":"IF(#REF!=\"\",\"\",#REF!)","v":{"$error":"#REF!"}},null,0,0,null,null,null,null,null,null,null,null,null,null,null,null,null,null,null,null,null,null,null,null,null,null,null,null,null,null,null,null,null,{"$error":"#REF!"},null,{"$f":"IF(#REF!=\"\",\"\",#REF!)","v":{"$error":"#REF!"}},null,0,0,null,null,null,null,null,null,null,null,null,null,null,null,null,null,null,null,null,null,null,null,null,null,null,null,null,null,null,null,null,{"$error":"#REF!"},null,{"$f":"IF(#REF!=\"\",\"\",#REF!)","v":{"$error":"#REF!"}},null,0,0,null,null,null,null,null,null,null,null,null,null,null,null,null,null,null,null,null,null,null,null,null,null,null,null,null,null,null,null,null,{"$error":"#REF!"},null,{"$f":"IF(#REF!=\"\",\"\",#REF!)","v":{"$error":"#REF!"}},null,0,0,null,null,null,null,null,null,null,null,null,null,null,null,null,null,null,null,null,null,null,null,null,null,null,null,null,null,null,null,null,{"$error":"#REF!"},null,{"$f":"IF(#REF!=\"\",\"\",#REF!)","v":{"$error":"#REF!"}},null,0,0,null,null,null,null,null,null,null,null,null,null,null,null,null,null,null,null,null,null,null,null,null,null,null,null,null,null,null,null,null,{"$error":"#REF!"},null,{"$f":"IF(#REF!=\"\",\"\",#REF!)","v":{"$error":"#REF!"}},null,0,0,null,null,null,null,null,null,null,null,null,null,null,null,null,null,null,null,null,null,null,null,null,null,null,null,null,null,null,null,null,{"$error":"#REF!"},null,{"$f":"IF(#REF!=\"\",\"\",#REF!)","v":{"$error":"#REF!"}},null,0,0,null,null,null,null,null,null,null,null,null,null,null,null,null,null,null,null,null,null,null,null,null,null,null,null,null,null,null,null,null,{"$error":"#REF!"},null,{"$f":"IF(#REF!=\"\",\"\",#REF!)","v":{"$error":"#REF!"}},null,0,0,null,null,null,null,null,null,null,null,null,null,null,null,null,null,null,null,null,null,null,null,null,null,null,null,null,null,null,null,null,"",null,{"$f":"IF(Hoja9!D31=\"\",\"\",Hoja9!D31)","v":""},null,0,0,null,null,null,null,null,null,null,null,null,null,null,null,null,null,null,null,null,null,null,null,null,null,null,null,null,null,null,null,null,"OCTUBRE",1,2,3,4,5,"R","R","R","R","R","F",16,17,18,19,22,23,24,25,26,29,30,31,null,null,null,10]
[null,null,null,null,null,null,null,null,null,null,{"$error":"#REF!"},null,{"$f":"IF(#REF!=\"\",\"\",#REF!)","v":{"$error":"#REF!"}},null,0,0,null,null,null,null,null,null,null,null,null,null,null,null,null,null,null,null,null,null,null,null,null,null,null,null,null,null,null,null,null,{"$error":"#REF!"},null,{"$f":"IF(#REF!=\"\",\"\",#REF!)","v":{"$error":"#REF!"}},null,0,0,null,null,null,null,null,null,null,null,null,null,null,null,null,null,null,null,null,null,null,null,null,null,null,null,null,null,null,null,null,{"$error":"#REF!"},null,{"$f":"IF(#REF!=\"\",\"\",#REF!)","v":{"$error":"#REF!"}},null,0,0,null,null,null,null,null,null,null,null,null,null,null,null,null,null,null,null,null,null,null,null,null,null,null,null,null,null,null,null,null,{"$error":"#REF!"},null,{"$f":"IF(#REF!=\"\",\"\",#REF!)","v":{"$error":"#REF!"}},null,0,0,null,null,null,null,null,null,null,null,null,null,null,null,null,null,null,null,null,null,null,null,null,null,null,null,null,null,null,null,null,{"$error":"#REF!"},null,{"$f":"IF(#REF!=\"\",\"\",#REF!)","v":{"$error":"#REF!"}},null,0,0,null,null,null,null,null,null,null,null,null,null,null,null,null,null,null,null,null,null,null,null,null,null,null,null,null,null,null,null,null,{"$error":"#REF!"},null,{"$f":"IF(#REF!=\"\",\"\",#REF!)","v":{"$error":"#REF!"}},null,0,1,null,null,null,null,null,null,null,null,null,null,null,null,null,"x",null,null,null,null,null,null,null,null,null,null,null,null,null,null,null,{"$error":"#REF!"},null,{"$f":"IF(#REF!=\"\",\"\",#REF!)","v":{"$error":"#REF!"}},null,0,0,null,null,null,null,null,null,null,null,null,null,null,null,null,null,null,null,null,null,null,null,null,null,null,null,null,null,null,null,null,{"$error":"#REF!"},null,{"$f":"IF(#REF!=\"\",\"\",#REF!)","v":{"$error":"#REF!"}},null,0,0,null,null,null,null,null,null,null,null,null,null,null,null,null,null,null,null,null,null,null,null,null,null,null,null,null,null,null,null,null,"",null,{"$f":"IF(Hoja9!D32=\"\",\"\",Hoja9!D32)","v":""},null,0,0,null,null,null,null,null,null,null,null,null,null,null,null,null,null,null,null,null,null,null,null,null,null,null,null,null,null,null,null,null,"NOVIEMBRE",null,null,null,1,2,"F",6,7,8,9,"F",13,14,15,16,19,20,21,22,23,26,27,28,29,30,null,11]
[null,null,null,null,null,null,null,null,null,null,{"$error":"#REF!"},null,{"$f":"IF(#REF!=\"\",\"\",#REF!)","v":{"$error":"#REF!"}},null,0,0,null,null,null,null,null,null,null,null,null,null,null,null,null,null,null,null,null,null,null,null,null,null,null,null,null,null,null,null,null,{"$error":"#REF!"},null,{"$f":"IF(#REF!=\"\",\"\",#REF!)","v":{"$error":"#REF!"}},null,0,0,null,null,null,null,null,null,null,null,null,null,null,null,null,null,null,null,null,null,null,null,null,null,null,null,null,null,null,null,null,{"$error":"#REF!"},null,{"$f":"IF(#REF!=\"\",\"\",#REF!)","v":{"$error":"#REF!"}},null,0,1,null,null,null,null,null,null,null,null,null,"x",null,null,null,null,null,null,null,null,null,null,null,null,null,null,null,null,null,null,null,{"$error":"#REF!"},null,{"$f":"IF(#REF!=\"\",\"\",#REF!)","v":{"$error":"#REF!"}},null,0,0,null,null,null,null,null,null,null,null,null,null,null,null,null,null,null,null,null,null,null,null,null,null,null,null,null,null,null,null,null,{"$error":"#REF!"},null,{"$f":"IF(#REF!=\"\",\"\",#REF!)","v":{"$error":"#REF!"}},null,0,0,null,null,null,null,null,null,null,null,null,null,null,null,null,null,null,null,null,null,null,null,null,null,null,null,null,null,null,null,null,{"$error":"#REF!"},null,{"$f":"IF(#REF!=\"\",\"\",#REF!)","v":{"$error":"#REF!"}},null,0,0,null,null,null,null,null,null,null,null,null,null,null,null,null,null,null,null,null,null,null,null,null,null,null,null,null,null,null,null,null,{"$error":"#REF!"},null,{"$f":"IF(#REF!=\"\",\"\",#REF!)","v":{"$error":"#REF!"}},null,0,0,null,null,null,null,null,null,null,null,null,null,null,null,null,null,null,null,null,null,null,null,null,null,null,null,null,null,null,null,null,{"$error":"#REF!"},null,{"$f":"IF(#REF!=\"\",\"\",#REF!)","v":{"$error":"#REF!"}},null,0,0,null,null,null,null,null,null,null,null,null,null,null,null,null,null,null,null,null,null,null,null,null,null,null,null,null,null,null,null,null,"",null,{"$f":"IF(Hoja9!D33=\"\",\"\",Hoja9!D33)","v":""},null,0,0,null,null,null,null,null,null,null,null,null,null,null,null,null,null,null,null,null,null,null,null,null,null,null,null,null,null,null,null,null,"DICIEMBRE",null,null,null,null,null,null,null,null,null,null,null,null,null,null,null,null,null,null,null,null,null,null,null,null,null,null,12]
[null,null,null,null,null,null,null,null,null,null,{"$error":"#REF!"},null,{"$f":"IF(#REF!=\"\",\"\",#REF!)","v":{"$error":"#REF!"}},null,0,0,null,null,null,null,null,null,null,null,null,null,null,null,null,null,null,null,null,null,null,null,null,null,null,null,null,null,null,null,null,{"$error":"#REF!"},null,{"$f":"IF(#REF!=\"\",\"\",#REF!)","v":{"$error":"#REF!"}},null,0,0,null,null,null,null,null,null,null,null,null,null,null,null,null,null,null,null,null,null,null,null,null,null,null,null,null,null,null,null,null,{"$error":"#REF!"},null,{"$f":"IF(#REF!=\"\",\"\",#REF!)","v":{"$error":"#REF!"}},null,0,0,null,null,null,null,null,null,null,null,null,null,null,null,null,null,null,null,null,null,null,null,null,null,null,null,null,null,null,null,null,{"$error":"#REF!"},null,{"$f":"IF(#REF!=\"\",\"\",#REF!)","v":{"$error":"#REF!"}},null,0,0,null,null,null,null,null,null,null,null,null,null,null,null,null,null,null,null,null,null,null,null,null,null,null,null,null,null,null,null,null,{"$error":"#REF!"},null,{"$f":"IF(#REF!=\"\",\"\",#REF!)","v":{"$error":"#REF!"}},null,0,0,null,null,null,null,null,null,null,null,null,null,null,null,null,null,null,null,null,null,null,null,null,null,null,null,null,null,null,null,null,{"$error":"#REF!"},null,{"$f":"IF(#REF!=\"\",\"\",#REF!)","v":{"$error":"#REF!"}},null,0,0,null,null,null,null,null,null,null,null,null,null,null,null,null,null,null,null,null,null,null,null,null,null,null,null,null,null,null,null,null,{"$error":"#REF!"},null,{"$f":"IF(#REF!=\"\",\"\",#REF!)","v":{"$error":"#REF!"}},null,0,0,null,null,null,null,null,null,null,null,null,null,null,null,null,null,null,null,null,null,null,null,null,null,null,null,null,null,null,null,null,{"$error":"#REF!"},null,{"$f":"IF(#REF!=\"\",\"\",#REF!)","v":{"$error":"#REF!"}},null,0,0,null,null,null,null,null,null,null,null,null,null,null,null,null,null,null,null,null,null,null,null,null,null,null,null,null,null,null,null,null,"",null,{"$f":"IF(Hoja9!D34=\"\",\"\",Hoja9!D34)","v":""},null,0,0,null,null,null,null,null,null,null,null,null,null,null,null,null,null,null,null,null,null,null,null,null,null,null,null,null,null,null,null,null,null,null,null,null,null,null,null,null,null,null,null,null,null,null,null,null,null,null,null,null,null,null,null,null,null,null,null,13]
[null,null,null,null,null,null,null,null,null,null,{"$error":"#REF!"},null,{"$f":"IF(#REF!=\"\",\"\",#REF!)","v":{"$error":"#REF!"}},null,0,0,null,null,null,null,null,null,null,null,null,null,null,null,null,null,null,null,null,null,null,null,null,null,null,null,null,null,null,null,null,{"$error":"#REF!"},null,{"$f":"IF(#REF!=\"\",\"\",#REF!)","v":{"$error":"#REF!"}},null,0,0,null,null,null,null,null,null,null,null,null,null,null,null,null,null,null,null,null,null,null,null,null,null,null,null,null,null,null,null,null,{"$error":"#REF!"},null,{"$f":"IF(#REF!=\"\",\"\",#REF!)","v":{"$error":"#REF!"}},null,0,0,null,null,null,null,null,null,null,null,null,null,null,null,null,null,null,null,null,null,null,null,null,null,null,null,null,null,null,null,null,{"$error":"#REF!"},null,{"$f":"IF(#REF!=\"\",\"\",#REF!)","v":{"$error":"#REF!"}},null,0,0,null,null,null,null,null,null,null,null,null,null,null,null,null,null,null,null,null,null,null,null,null,null,null,null,null,null,null,null,null,{"$error":"#REF!"},null,{"$f":"IF(#REF!=\"\",\"\",#REF!)","v":{"$error":"#REF!"}},null,0,0,null,null,null,null,null,null,null,null,null,null,null,null,null,null,null,null,null,null,null,null,null,null,null,null,null,null,null,null,null,{"$error":"#REF!"},null,{"$f":"IF(#REF!=\"\",\"\",#REF!)","v":{"$error":"#REF!"}},null,0,0,null,null,null,null,null,null,null,null,null,null,null,null,null,null,null,null,null,null,null,null,null,null,null,null,null,null,null,null,null,{"$error":"#REF!"},null,{"$f":"IF(#REF!=\"\",\"\",#REF!)","v":{"$error":"#REF!"}},null,0,0,null,null,null,null,null,null,null,null,null,null,null,null,null,null,null,null,null,null,null,null,null,null,null,null,null,null,null,null,null,{"$error":"#REF!"},null,{"$f":"IF(#REF!=\"\",\"\",#REF!)","v":{"$error":"#REF!"}},null,0,0,null,null,null,null,null,null,null,null,null,null,null,null,null,null,null,null,null,null,null,null,null,null,null,null,null,null,null,null,null,"",null,{"$f":"IF(Hoja9!D35=\"\",\"\",Hoja9!D35)","v":""},null,0,0,null,null,null,null,null,null,null,null,null,null,null,null,null,null,null,null,null,null,null,null,null,null,null,null,null,null,null,null,null,null,null,null,null,null,null,null,null,null,null,null,null,null,null,null,null,null,null,null,null,null,null,null,null,null,null,null,14]
[null,null,null,null,null,null,null,null,null,null,{"$error":"#REF!"},null,{"$f":"IF(#REF!=\"\",\"\",#REF!)","v":{"$error":"#REF!"}},null,0,0,null,null,null,null,null,null,null,null,null,null,null,null,null,null,null,null,null,null,null,null,null,null,null,null,null,null,null,null,null,{"$error":"#REF!"},null,{"$f":"IF(#REF!=\"\",\"\",#REF!)","v":{"$error":"#REF!"}},null,0,0,null,null,null,null,null,null,null,null,null,null,null,null,null,null,null,null,null,null,null,null,null,null,null,null,null,null,null,null,null,{"$error":"#REF!"},null,{"$f":"IF(#REF!=\"\",\"\",#REF!)","v":{"$error":"#REF!"}},null,0,0,null,null,null,null,null,null,null,null,null,null,null,null,null,null,null,null,null,null,null,null,null,null,null,null,null,null,null,null,null,{"$error":"#REF!"},null,{"$f":"IF(#REF!=\"\",\"\",#REF!)","v":{"$error":"#REF!"}},null,0,0,null,null,null,null,null,null,null,null,null,null,null,null,null,null,null,null,null,null,null,null,null,null,null,null,null,null,null,null,null,{"$error":"#REF!"},null,{"$f":"IF(#REF!=\"\",\"\",#REF!)","v":{"$error":"#REF!"}},null,0,0,null,null,null,null,null,null,null,null,null,null,null,null,null,null,null,null,null,null,null,null,null,null,null,null,null,null,null,null,null,{"$error":"#REF!"},null,{"$f":"IF(#REF!=\"\",\"\",#REF!)","v":{"$error":"#REF!"}},null,0,0,null,null,null,null,null,null,null,null,null,null,null,null,null,null,null,null,null,null,null,null,null,null,null,null,null,null,null,null,null,{"$error":"#REF!"},null,{"$f":"IF(#REF!=\"\",\"\",#REF!)","v":{"$error":"#REF!"}},null,0,0,null,null,null,null,null,null,null,null,null,null,null,null,null,null,null,null,null,null,null,null,null,null,null,null,null,null,null,null,null,{"$error":"#REF!"},null,{"$f":"IF(#REF!=\"\",\"\",#REF!)","v":{"$error":"#REF!"}},null,0,0,null,null,null,null,null,null,null,null,null,null,null,null,null,null,null,null,null,null,null,null,null,null,null,null,null,null,null,null,null,"",null,{"$f":"IF(Hoja9!D36=\"\",\"\",Hoja9!D36)","v":""},null,0,0,null,null,null,null,null,null,null,null,null,null,null,null,null,null,null,null,null,null,null,null,null,null,null,null,null,null,null,null,null,null,null,null,null,null,null,null,null,null,null,null,null,null,null,null,null,null,null,null,null,null,null,null,null,null,null,null,15]
[null,null,null,null,null,null,null,null,null,null,{"$error":"#REF!"},null,{"$f":"IF(#REF!=\"\",\"\",#REF!)","v":{"$error":"#REF!"}},null,0,0,null,null,null,null,null,null,null,null,null,null,null,null,null,null,null,null,null,null,null,null,null,null,null,null,null,null,null,null,null,{"$error":"#REF!"},null,{"$f":"IF(#REF!=\"\",\"\",#REF!)","v":{"$error":"#REF!"}},null,0,0,null,null,null,null,null,null,null,null,null,null,null,null,null,null,null,null,null,null,null,null,null,null,null,null,null,null,null,null,null,{"$error":"#REF!"},null,{"$f":"IF(#REF!=\"\",\"\",#REF!)","v":{"$error":"#REF!"}},null,0,0,null,null,null,null,null,null,null,null,null,null,null,null,null,null,null,null,null,null,null,null,null,null,null,null,null,null,null,null,null,{"$error":"#REF!"},null,{"$f":"IF(#REF!=\"\",\"\",#REF!)","v":{"$error":"#REF!"}},null,0,0,null,null,null,null,null,null,null,null,null,null,null,null,null,null,null,null,null,null,null,null,null,null,null,null,null,null,null,null,null,{"$error":"#REF!"},null,{"$f":"IF(#REF!=\"\",\"\",#REF!)","v":{"$error":"#REF!"}},null,0,0,null,null,null,null,null,null,null,null,null,null,null,null,null,null,null,null,null,null,null,null,null,null,null,null,null,null,null,null,null,{"$error":"#REF!"},null,{"$f":"IF(#REF!=\"\",\"\",#REF!)","v":{"$error":"#REF!"}},null,0,0,null,null,null,null,null,null,null,null,null,null,null,null,null,null,null,null,null,null,null,null,null,null,null,null,null,null,null,null,null,{"$error":"#REF!"},null,{"$f":"IF(#REF!=\"\",\"\",#REF!)","v":{"$error":"#REF!"}},null,0,0,null,null,null,null,null,null,null,null,null,null,null,null,null,null,null,null,null,null,null,null,null,null,null,null,null,null,null,null,null,{"$error":"#REF!"},null,{"$f":"IF(#REF!=\"\",\"\",#REF!)","v":{"$error":"#REF!"}},null,0,0,null,null,null,null,null,null,null,null,null,null,null,null,null,null,null,null,null,null,null,null,null,null,null,null,null,null,null,null,null,"",null,{"$f":"IF(Hoja9!D37=\"\",\"\",Hoja9!D37)","v":""},null,0,0,null,null,null,null,null,null,null,null,null,null,null,null,null,null,null,null,null,null,null,null,null,null,null,null,null,null,null,null,null,null,null,null,null,null,null,null,null,null,null,null,null,null,null,null,null,null,null,null,null,null,null,null,null,null,null,null,16,null,null,null,null,null,null,null,null,null,null,null,{"$f":"F11&D11","v":"D.COOPERATIVA6B"},null,null,null,null,null,null,null,null,null,null,null,null,null,null,null,null,null,{"$f":"F12&D12","v":"SCIENCE6B"},null,null,null,null,null,null,null,null,null,null,null,null,null,null,null,null,null,{"$f":"F13&D13","v":"INGLES6B"},null,null,null,null,null,null,null,null,null,null,null,null,null,null,null,null,null,{"$f":"F14&D14","v":"SCIENCE6A"},null,null,null,null,null,null,null,null,null,null,null,null,null,null,null,null,null,{"$f":"F15&D15","v":"INGLES6A"},null,null,null,null,null,null,null,null,null,null,null,null,null,null,null,null,null,{"$f":"F16&D16","v":"SCIENCE5A"},null,null,null,null,null,null,null,null,null,null,null,null,null,null,null,null,null,{"$f":"F17&D17","v":"INGLES5A"},null,null,null,null,null,null,null,null,null,null,null,null,null,null,null,null,null,{"$f":"F18&D18","v":"SCIENCE4A"},null,null,null,null,null,null,null,null,null,null,null,null,null,null,null,null,null,{"$f":"F19&D19","v":""}]
[null,null,null,null,null,null,null,null,null,null,{"$error":"#REF!"},null,{"$f":"IF(#REF!=\"\",\"\",#REF!)","v":{"$error":"#REF!"}},null,0,0,null,null,null,null,null,null,null,null,null,null,null,null,null,null,null,null,null,null,null,null,null,null,null,null,null,null,null,null,null,{"$error":"#REF!"},null,{"$f":"IF(#REF!=\"\",\"\",#REF!)","v":{"$error":"#REF!"}},null,0,0,null,null,null,null,null,null,null,null,null,null,null,null,null,null,null,null,null,null,null,null,null,null,null,null,null,null,null,null,null,{"$error":"#REF!"},null,{"$f":"IF(#REF!=\"\",\"\",#REF!)","v":{"$error":"#REF!"}},null,0,0,null,null,null,null,null,null,null,null,null,null,null,null,null,null,null,null,null,null,null,null,null,null,null,null,null,null,null,null,null,{"$error":"#REF!"},null,{"$f":"IF(#REF!=\"\",\"\",#REF!)","v":{"$error":"#REF!"}},null,0,1,null,null,null,null,null,null,null,null,null,null,null,null,null,null,null,null,"x",null,null,null,null,null,null,null,null,null,null,null,null,{"$error":"#REF!"},null,{"$f":"IF(#REF!=\"\",\"\",#REF!)","v":{"$error":"#REF!"}},null,0,0,null,null,null,null,null,null,null,null,null,null,null,null,null,null,null,null,null,null,null,null,null,null,null,null,null,null,null,null,null,{"$error":"#REF!"},null,{"$f":"IF(#REF!=\"\",\"\",#REF!)","v":{"$error":"#REF!"}},null,0,0,null,null,null,null,null,null,null,null,null,null,null,null,null,null,null,null,null,null,null,null,null,null,null,null,null,null,null,null,null,{"$error":"#REF!"},null,{"$f":"IF(#REF!=\"\",\"\",#REF!)","v":{"$error":"#REF!"}},null,0,0,null,null,null,null,null,null,null,null,null,null,null,null,null,null,null,null,null,null,null,null,null,null,null,null,null,null,null,null,null,{"$error":"#REF!"},null,{"$f":"IF(#REF!=\"\",\"\",#REF!)","v":{"$error":"#REF!"}},null,0,0,null,null,null,null,null,null,null,null,null,null,null,null,null,null,null,null,null,null,null,null,null,null,null,null,null,null,null,null,null,"",null,{"$f":"IF(Hoja9!D38=\"\",\"\",Hoja9!D38)","v":""},null,0,0,null,null,null,null,null,null,null,null,null,null,null,null,null,null,null,null,null,null,null,null,null,null,null,null,null,null,null,null,null,null,null,null,null,null,null,null,null,null,null,null,null,null,null,null,null,null,null,null,null,null,null,null,null,null,null,null,17,null,null,null,null,null,null,null,null,null,null,null,"RESULTADOS PLANES DE POYO",null,null,null,null,null,null,null,null,null,null,null,null,null,null,null,null,null,"RESULTADOS PLANES DE POYO",null,null,null,null,null,null,null,null,null,null,null,null,null,null,null,null,null,"RESULTADOS PLANES DE POYO",null,null,null,null,null,null,null,null,null,null,null,null,null,null,null,null,null,"RESULTADOS PLANES DE POYO",null,null,null,null,null,null,null,null,null,null,null,null,null,null,null,null,null,"RESULTADOS PLANES DE POYO",null,null,null,null,null,null,null,null,null,null,null,null,null,null,null,null,null,"RESULTADOS PLANES DE POYO",null,null,null,null,null,null,null,null,null,null,null,null,null,null,null,null,null,"RESULTADOS PLANES DE POYO",null,null,null,null,null,null,null,null,null,null,null,null,null,null,null,null,null,"RESULTADOS PLANES DE POYO",null,null,null,null,null,null,null,null,null,null,null,null,null,null,null,null,null,"RESULTADOS PLANES DE POYO"]
[null,{"$f":"IF($NF$13=\"OK\",$NG$13,\"\")","v":"DATOS DE SIGECOL GUARDADOS"},null,null,null,null,null,null,null,null,{"$error":"#REF!"},null,{"$f":"IF(#REF!=\"\",\"\",#REF!)","v":{"$error":"#REF!"}},null,0,0,null,null,null,null,null,null,null,null,null,null,null,null,null,null,null,null,null,null,null,null,null,null,null,null,null,null,null,null,null,{"$error":"#REF!"},null,{"$f":"IF(#REF!=\"\",\"\",#REF!)","v":{"$error":"#REF!"}},null,0,0,null,null,null,null,null,null,null,null,null,null,null,null,null,null,null,null,null,null,null,null,null,null,null,null,null,null,null,null,null,{"$error":"#REF!"},null,{"$f":"IF(#REF!=\"\",\"\",#REF!)","v":{"$error":"#REF!"}},null,0,0,null,null,null,null,null,null,null,null,null,null,null,null,null,null,null,null,null,null,null,null,null,null,null,null,null,null,null,null,null,{"$error":"#REF!"},null,{"$f":"IF(#REF!=\"\",\"\",#REF!)","v":{"$error":"#REF!"}},null,0,0,null,null,null,null,null,null,null,null,null,null,null,null,null,null,null,null,null,null,null,null,null,null,null,null,null,null,null,null,null,{"$error":"#REF!"},null,{"$f":"IF(#REF!=\"\",\"\",#REF!)","v":{"$error":"#REF!"}},null,0,0,null,null,null,null,null,null,null,null,null,null,null,null,null,null,null,null,null,null,null,null,null,null,null,null,null,null,null,null,null,{"$error":"#REF!"},null,{"$f":"IF(#REF!=\"\",\"\",#REF!)","v":{"$error":"#REF!"}},null,0,0,null,null,null,null,null,null,null,null,null,null,null,null,null,null,null,null,null,null,null,null,null,null,null,null,null,null,null,null,null,{"$error":"#REF!"},null,{"$f":"IF(#REF!=\"\",\"\",#REF!)","v":{"$error":"#REF!"}},null,0,0,null,null,null,null,null,null,null,null,null,null,null,null,null,null,null,null,null,null,null,null,null,null,null,null,null,null,null,null,null,{"$error":"#REF!"},null,{"$f":"IF(#REF!=\"\",\"\",#REF!)","v":{"$error":"#REF!"}},null,0,0,null,null,null,null,null,null,null,null,null,null,null,null,null,null,null,null,null,null,null,null,null,null,null,null,null,null,null,null,null,"",null,{"$f":"IF(Hoja9!D39=\"\",\"\",Hoja9!D39)","v":""},null,0,0,null,null,null,null,null,null,null,null,null,null,null,null,null,null,null,null,null,null,null,null,null,null,null,null,null,null,null,null,null,null,null,null,null,null,null,null,null,null,null,null,null,null,null,null,null,null,null,null,null,null,null,null,null,null,null,null,18,null,null,null,null,null,null,null,null,null,null,null,"1T",null,null,null,null,null,null,"2T",null,null,null,null,null,null,null,null,null,null,"1T",null,null,null,null,null,null,"2T",null,null,null,null,null,null,null,null,null,null,"1T",null,null,null,null,null,null,"2T",null,null,null,null,null,null,null,null,null,null,"1T",null,null,null,null,null,null,"2T",null,null,null,null,null,null,null,null,null,null,"1T",null,null,null,null,null,null,"2T",null,null,null,null,null,null,null,null,null,null,"1T",null,null,null,null,null,null,"2T",null,null,null,null,null,null,null,null,null,null,"1T",null,null,null,null,null,null,"2T",null,null,null,null,null,null,null,null,null,null,"1T",null,null,null,null,null,null,"2T",null,null,null,null,null,null,null,null,null,null,"1T",null,null,null,null,null,null,"2T"]
[null,null,null,null,null,null,null,null,null,null,{"$error":"#REF!"},null,{"$f":"IF(#REF!=\"\",\"\",#REF!)","v":{"$error":"#REF!"}},null,0,0,null,null,null,null,null,null,null,null,null,null,null,null,null,null,null,null,null,null,null,null,null,null,null,null,null,null,null,null,null,{"$error":"#REF!"},null,{"$f":"IF(#REF!=\"\",\"\",#REF!)","v":{"$error":"#REF!"}},null,0,0,null,null,null,null,null,null,null,null,null,null,null,null,null,null,null,null,null,null,null,null,null,null,null,null,null,null,null,null,null,{"$error":"#REF!"},null,{"$f":"IF(#REF!=\"\",\"\",#REF!)","v":{"$error":"#REF!"}},null,0,0,null,null,null,null,null,null,null,null,null,null,null,null,null,null,null,null,null,null,null,null,null,null,null,null,null,null,null,null,null,{"$error":"#REF!"},null,{"$f":"IF(#REF!=\"\",\"\",#REF!)","v":{"$error":"#REF!"}},null,0,0,null,null,null,null,null,null,null,null,null,null,null,null,null,null,null,null,null,null,null,null,null,null,null,null,null,null,null,null,null,{"$error":"#REF!"},null,{"$f":"IF(#REF!=\"\",\"\",#REF!)","v":{"$error":"#REF!"}},null,0,1,null,null,"x",null,null,null,null,null,null,null,null,null,null,null,null,null,null,null,null,null,null,null,null,null,null,null,null,null,null,{"$error":"#REF!"},null,{"$f":"IF(#REF!=\"\",\"\",#REF!)","v":{"$error":"#REF!"}},null,0,0,null,null,null,null,null,null,null,null,null,null,null,null,null,null,null,null,null,null,null,null,null,null,null,null,null,null,null,null,null,{"$error":"#REF!"},null,{"$f":"IF(#REF!=\"\",\"\",#REF!)","v":{"$error":"#REF!"}},null,0,0,null,null,null,null,null,null,null,null,null,null,null,null,null,null,null,null,null,null,null,null,null,null,null,null,null,null,null,null,null,{"$error":"#REF!"},null,{"$f":"IF(#REF!=\"\",\"\",#REF!)","v":{"$error":"#REF!"}},null,0,0,null,null,null,null,null,null,null,null,null,null,null,null,null,null,null,null,null,null,null,null,null,null,null,null,null,null,null,null,null,"",null,{"$f":"IF(Hoja9!D40=\"\",\"\",Hoja9!D40)","v":""},null,0,0,null,null,null,null,null,null,null,null,null,null,null,null,null,null,null,null,null,null,null,null,null,null,null,null,null,null,null,null,null,null,null,null,null,null,null,null,null,null,null,null,null,null,null,null,null,null,null,null,null,null,null,null,null,null,null,null,19,null,null,null,null,null,null,null,null,null,"CD","N","L1","L2","L3","L4","L5","CD","N","L1","L2","L3","L4","L5",null,null,null,null,"CD","N","L1","L2","L3","L4","L5","CD","N","L1","L2","L3","L4","L5",null,null,null,null,"CD","N","L1","L2","L3","L4","L5","CD","N","L1","L2","L3","L4","L5",null,null,null,null,"CD","N","L1","L2","L3","L4","L5","CD","N","L1","L2","L3","L4","L5",null,null,null,null,"CD","N","L1","L2","L3","L4","L5","CD","N","L1","L2","L3","L4","L5",null,null,null,null,"CD","N","L1","L2","L3","L4","L5","CD","N","L1","L2","L3","L4","L5",null,null,null,null,"CD","N","L1","L2","L3","L4","L5","CD","N","L1","L2","L3","L4","L5",null,null,null,null,"CD","N","L1","L2","L3","L4","L5","CD","N","L1","L2","L3","L4","L5",null,null,null,null,"CD","N","L1","L2","L3","L4","L5","CD","N","L1","L2","L3","L4","L5"]
[null,null,null,null,null,null,null,null,null,null,{"$error":"#REF!"},null,{"$f":"IF(#REF!=\"\",\"\",#REF!)","v":{"$error":"#REF!"}},null,0,0,null,null,null,null,null,null,null,null,null,null,null,null,null,null,null,null,null,null,null,null,null,null,null,null,null,null,null,null,null,{"$error":"#REF!"},null,{"$f":"IF(#REF!=\"\",\"\",#REF!)","v":{"$error":"#REF!"}},null,0,0,null,null,null,null,null,null,null,null,null,null,null,null,null,null,null,null,null,null,null,null,null,null,null,null,null,null,null,null,null,{"$error":"#REF!"},null,{"$f":"IF(#REF!=\"\",\"\",#REF!)","v":{"$error":"#REF!"}},null,0,0,null,null,null,null,null,null,null,null,null,null,null,null,null,null,null,null,null,null,null,null,null,null,null,null,null,null,null,null,null,{"$error":"#REF!"},null,{"$f":"IF(#REF!=\"\",\"\",#REF!)","v":{"$error":"#REF!"}},null,0,1,null,null,null,null,null,null,null,null,null,null,null,null,null,null,null,null,"x",null,null,null,null,null,null,null,null,null,null,null,null,{"$error":"#REF!"},null,{"$f":"IF(#REF!=\"\",\"\",#REF!)","v":{"$error":"#REF!"}},null,0,0,null,null,null,null,null,null,null,null,null,null,null,null,null,null,null,null,null,null,null,null,null,null,null,null,null,null,null,null,null,{"$error":"#REF!"},null,{"$f":"IF(#REF!=\"\",\"\",#REF!)","v":{"$error":"#REF!"}},null,0,0,null,null,null,null,null,null,null,null,null,null,null,null,null,null,null,null,null,null,null,null,null,null,null,null,null,null,null,null,null,{"$error":"#REF!"},null,{"$f":"IF(#REF!=\"\",\"\",#REF!)","v":{"$error":"#REF!"}},null,0,0,null,null,null,null,null,null,null,null,null,null,null,null,null,null,null,null,null,null,null,null,null,null,null,null,null,null,null,null,null,{"$error":"#REF!"},null,{"$f":"IF(#REF!=\"\",\"\",#REF!)","v":{"$error":"#REF!"}},null,0,0,null,null,null,null,null,null,null,null,null,null,null,null,null,null,null,null,null,null,null,null,null,null,null,null,null,null,null,null,null,"",null,{"$f":"IF(Hoja9!D41=\"\",\"\",Hoja9!D41)","v":""},null,0,0,null,null,null,null,null,null,null,null,null,null,null,null,null,null,null,null,null,null,null,null,null,null,null,null,null,null,null,null,null,null,null,null,null,null,null,null,null,null,null,null,null,null,null,null,null,null,null,null,null,null,null,null,null,null,null,null,20,null,null,null,null,null,null,null,null,1,{"$f":"IF(MZ32=\"\",\"\",$MX32)","v":""},null,null,null,null,null,null,{"$f":"IF(NG32=\"\",\"\",$BD32)","v":""},null,null,null,null,null,null,null,null,null,null,{"$f":"IF(NR32=\"\",\"\",$BD32)","v":""},null,null,null,null,null,null,{"$f":"IF(NY32=\"\",\"\",$BD32)","v":""},null,null,null,null,null,null,null,null,null,null,null,null,null,null,null,null,null,{"$f":"IF(OQ32=\"\",\"\",$BD32)","v":""},null,null,null,null,null,null,null,null,null,null,{"$f":"IF(PB32=\"\",\"\",$BD32)","v":""},null,null,null,null,null,null,{"$f":"IF(PI32=\"\",\"\",$BD32)","v":""},null,null,null,null,null,null,null,null,null,null,{"$f":"IF(PT32=\"\",\"\",$BD32)","v":""},null,null,null,null,null,null,{"$f":"IF(QA32=\"\",\"\",$BD32)","v":""},null,null,null,null,null,null,null,null,null,null,{"$f":"IF(QL32=\"\",\"\",$BD32)","v":""},null,null,null,null,null,null,{"$f":"IF(QS32=\"\",\"\",$BD32)","v":""},null,null,null,null,null,null,null,null,null,null,{"$f":"IF(RD32=\"\",\"\",$BD32)","v":""},null,null,null,null,null,null,{"$f":"IF(RK32=\"\",\"\",$BD32)","v":""},null,null,null,null,null,null,null,null,null,null,{"$f":"IF(RV32=\"\",\"\",$BD32)","v":""},null,null,null,null,null,null,{"$f":"IF(SC32=\"\",\"\",$BD32)","v":""},null,null,null,null,null,null,null,null,null,null,{"$f":"IF(SN32=\"\",\"\",$BD32)","v":""},null,null,null,null,null,null,{"$f":"IF(SU32=\"\",\"\",$BD32)","v":""}]
[null,null,null,null,null,null,null,null,null,null,{"$error":"#REF!"},null,{"$f":"IF(#REF!=\"\",\"\",#REF!)","v":{"$error":"#REF!"}},null,0,0,null,null,null,null,null,null,null,null,null,null,null,null,null,null,null,null,null,null,null,null,null,null,null,null,null,null,null,null,null,{"$error":"#REF!"},null,{"$f":"IF(#REF!=\"\",\"\",#REF!)","v":{"$error":"#REF!"}},null,0,0,null,null,null,null,null,null,null,null,null,null,null,null,null,null,null,null,null,null,null,null,null,null,null,null,null,null,null,null,null,{"$error":"#REF!"},null,{"$f":"IF(#REF!=\"\",\"\",#REF!)","v":{"$error":"#REF!"}},null,0,0,null,null,null,null,null,null,null,null,null,null,null,null,null,null,null,null,null,null,null,null,null,null,null,null,null,null,null,null,null,{"$error":"#REF!"},null,{"$f":"IF(#REF!=\"\",\"\",#REF!)","v":{"$error":"#REF!"}},null,0,0,null,null,null,null,null,null,null,null,null,null,null,null,null,null,null,null,null,null,null,null,null,null,null,null,null,null,null,null,null,{"$error":"#REF!"},null,{"$f":"IF(#REF!=\"\",\"\",#REF!)","v":{"$error":"#REF!"}},null,0,0,null,null,null,null,null,null,null,null,null,null,null,null,null,null,null,null,null,null,null,null,null,null,null,null,null,null,null,null,null,{"$error":"#REF!"},null,{"$f":"IF(#REF!=\"\",\"\",#REF!)","v":{"$error":"#REF!"}},null,0,0,null,null,null,null,null,null,null,null,null,null,null,null,null,null,null,null,null,null,null,null,null,null,null,null,null,null,null,null,null,{"$error":"#REF!"},null,{"$f":"IF(#REF!=\"\",\"\",#REF!)","v":{"$error":"#REF!"}},null,0,0,null,null,null,null,null,null,null,null,null,null,null,null,null,null,null,null,null,null,null,null,null,null,null,null,null,null,null,null,null,{"$error":"#REF!"},null,{"$f":"IF(#REF!=\"\",\"\",#REF!)","v":{"$error":"#REF!"}},null,0,0,null,null,null,null,null,null,null,null,null,null,null,null,null,null,null,null,null,null,null,null,null,null,null,null,null,null,null,null,null,"",null,{"$f":"IF(Hoja9!D42=\"\",\"\",Hoja9!D42)","v":""},null,0,0,null,null,null,null,null,null,null,null,null,null,null,null,null,null,null,null,null,null,null,null,null,null,null,null,null,null,null,null,null,null,null,null,null,null,null,null,null,null,null,null,null,null,null,null,null,null,null,null,null,null,null,null,null,null,null,null,21,null,null,null,null,null,null,null,null,2,{"$f":"IF(MZ33=\"\",\"\",$MX33)","v":""},null,null,null,null,null,null,{"$f":"IF(NG33=\"\",\"\",$BD33)","v":""},null,null,null,null,null,null,null,null,null,null,"",null,null,null,null,null,null,{"$f":"IF(NY33=\"\",\"\",$BD33)","v":""},null,null,null,null,null,null,null,null,null,null,null,null,null,null,null,null,null,{"$f":"IF(OQ33=\"\",\"\",$BD33)","v":""},null,null,null,null,null,null,null,null,null,null,{"$f":"IF(PB33=\"\",\"\",$BD33)","v":""},null,null,null,null,null,null,{"$f":"IF(PI33=\"\",\"\",$BD33)","v":""},null,null,null,null,null,null,null,null,null,null,{"$f":"IF(PT33=\"\",\"\",$BD33)","v":""},null,null,null,null,null,null,{"$f":"IF(QA33=\"\",\"\",$BD33)","v":""},null,null,null,null,null,null,null,null,null,null,{"$f":"IF(QL33=\"\",\"\",$BD33)","v":""},null,null,null,null,null,null,{"$f":"IF(QS33=\"\",\"\",$BD33)","v":""},null,null,null,null,null,null,null,null,null,null,{"$f":"IF(RD33=\"\",\"\",$BD33)","v":""},null,null,null,null,null,null,{"$f":"IF(RK33=\"\",\"\",$BD33)","v":""},null,null,null,null,null,null,null,null,null,null,{"$f":"IF(RV33=\"\",\"\",$BD33)","v":""},null,null,null,null,null,null,{"$f":"IF(SC33=\"\",\"\",$BD33)","v":""},null,null,null,null,null,null,null,null,null,null,{"$f":"IF(SN33=\"\",\"\",$BD33)","v":""},null,null,null,null,null,null,{"$f":"IF(SU33=\"\",\"\",$BD33)","v":""}]
[null,null,null,null,null,null,null,null,null,null,{"$error":"#REF!"},null,{"$f":"IF(#REF!=\"\",\"\",#REF!)","v":{"$error":"#REF!"}},null,0,1,null,null,null,null,null,null,null,null,null,null,null,"x",null,null,null,null,null,null,null,null,null,null,null,null,null,null,null,null,null,{"$error":"#REF!"},null,{"$f":"IF(#REF!=\"\",\"\",#REF!)","v":{"$error":"#REF!"}},null,0,0,null,null,null,null,null,null,null,null,null,null,null,null,null,null,null,null,null,null,null,null,null,null,null,null,null,null,null,null,null,{"$error":"#REF!"},null,{"$f":"IF(#REF!=\"\",\"\",#REF!)","v":{"$error":"#REF!"}},null,0,0,null,null,null,null,null,null,null,null,null,null,null,null,null,null,null,null,null,null,null,null,null,null,null,null,null,null,null,null,null,{"$error":"#REF!"},null,{"$f":"IF(#REF!=\"\",\"\",#REF!)","v":{"$error":"#REF!"}},null,0,0,null,null,null,null,null,null,null,null,null,null,null,null,null,null,null,null,null,null,null,null,null,null,null,null,null,null,null,null,null,{"$error":"#REF!"},null,{"$f":"IF(#REF!=\"\",\"\",#REF!)","v":{"$error":"#REF!"}},null,0,0,null,null,null,null,null,null,null,null,null,null,null,null,null,null,null,null,null,null,null,null,null,null,null,null,null,null,null,null,null,{"$error":"#REF!"},null,{"$f":"IF(#REF!=\"\",\"\",#REF!)","v":{"$error":"#REF!"}},null,0,0,null,null,null,null,null,null,null,null,null,null,null,null,null,null,null,null,null,null,null,null,null,null,null,null,null,null,null,null,null,{"$error":"#REF!"},null,{"$f":"IF(#REF!=\"\",\"\",#REF!)","v":{"$error":"#REF!"}},null,0,0,null,null,null,null,null,null,null,null,null,null,null,null,null,null,null,null,null,null,null,null,null,null,null,null,null,null,null,null,null,{"$error":"#REF!"},null,{"$f":"IF(#REF!=\"\",\"\",#REF!)","v":{"$error":"#REF!"}},null,0,0,null,null,null,null,null,null,null,null,null,null,null,null,null,null,null,null,null,null,null,null,null,null,null,null,null,null,null,null,null,"",null,{"$f":"IF(Hoja9!D43=\"\",\"\",Hoja9!D43)","v":""},null,0,0,null,null,null,null,null,null,null,null,null,null,null,null,null,null,null,null,null,null,null,null,null,null,null,null,null,null,null,null,null,null,null,null,null,null,null,null,null,null,null,null,null,null,null,null,null,null,null,null,null,null,null,null,null,null,null,null,22,null,null,null,null,null,null,null,null,3,"",null,null,null,null,null,null,"",null,null,null,null,null,null,null,null,null,null,"",null,null,null,null,null,null,"",null,null,null,null,null,null,null,null,null,null,null,null,null,null,null,null,null,"",null,null,null,null,null,null,null,null,null,null,"",null,null,null,null,null,null,"",null,null,null,null,null,null,null,null,null,null,"",null,null,null,null,null,null,"",null,null,null,null,null,null,null,null,null,null,"",null,null,null,null,null,null,"",null,null,null,null,null,null,null,null,null,null,"",null,null,null,null,null,null,"",null,null,null,null,null,null,null,null,null,null,"",null,null,null,null,null,null,"",null,null,null,null,null,null,null,null,null,null,"",null,null,null,null,null,null,""]
[null,null,null,null,null,null,null,null,null,null,{"$error":"#REF!"},null,{"$f":"IF(#REF!=\"\",\"\",#REF!)","v":{"$error":"#REF!"}},null,0,0,null,null,null,null,null,null,null,null,null,null,null,null,null,null,null,null,null,null,null,null,null,null,null,null,null,null,null,null,null,{"$error":"#REF!"},null,{"$f":"IF(#REF!=\"\",\"\",#REF!)","v":{"$error":"#REF!"}},null,0,0,null,null,null,null,null,null,null,null,null,null,null,null,null,null,null,null,null,null,null,null,null,null,null,null,null,null,null,null,null,{"$error":"#REF!"},null,{"$f":"IF(#REF!=\"\",\"\",#REF!)","v":{"$error":"#REF!"}},null,0,0,null,null,null,null,null,null,null,null,null,null,null,null,null,null,null,null,null,null,null,null,null,null,null,null,null,null,null,null,null,{"$error":"#REF!"},null,{"$f":"IF(#REF!=\"\",\"\",#REF!)","v":{"$error":"#REF!"}},null,0,0,null,null,null,null,null,null,null,null,null,null,null,null,null,null,null,null,null,null,null,null,null,null,null,null,null,null,null,null,null,{"$error":"#REF!"},null,{"$f":"IF(#REF!=\"\",\"\",#REF!)","v":{"$error":"#REF!"}},null,0,0,null,null,null,null,null,null,null,null,null,null,null,null,null,null,null,null,null,null,null,null,null,null,null,null,null,null,null,null,null,{"$error":"#REF!"},null,{"$f":"IF(#REF!=\"\",\"\",#REF!)","v":{"$error":"#REF!"}},null,0,0,null,null,null,null,null,null,null,null,null,null,null,null,null,null,null,null,null,null,null,null,null,null,null,null,null,null,null,null,null,{"$error":"#REF!"},null,{"$f":"IF(#REF!=\"\",\"\",#REF!)","v":{"$error":"#REF!"}},null,0,0,null,null,null,null,null,null,null,null,null,null,null,null,null,null,null,null,null,null,null,null,null,null,null,null,null,null,null,null,null,{"$error":"#REF!"},null,{"$f":"IF(#REF!=\"\",\"\",#REF!)","v":{"$error":"#REF!"}},null,0,0,null,null,null,null,null,null,null,null,null,null,null,null,null,null,null,null,null,null,null,null,null,null,null,null,null,null,null,null,null,"",null,{"$f":"IF(Hoja9!D44=\"\",\"\",Hoja9!D44)","v":""},null,0,0,null,null,null,null,null,null,null,null,null,null,null,null,null,null,null,null,null,null,null,null,null,null,null,null,null,null,null,null,null,null,null,null,null,null,null,null,null,null,null,null,null,null,null,null,null,null,null,null,null,null,null,null,null,null,null,null,23,null,null,null,null,null,null,null,null,4,"",null,null,null,null,null,null,"",null,null,null,null,null,null,null,null,null,null,"",null,null,null,null,null,null,"",null,null,null,null,null,null,null,null,null,null,null,null,null,null,null,null,null,"",null,null,null,null,null,null,null,null,null,null,"",null,null,null,null,null,null,"",null,null,null,null,null,null,null,null,null,null,"",null,null,null,null,null,null,"",null,null,null,null,null,null,null,null,null,null,"",null,null,null,null,null,null,"",null,null,null,null,null,null,null,null,null,null,"",null,null,null,null,null,null,"",null,null,null,null,null,null,null,null,null,null,"",null,null,null,null,null,null,"",null,null,null,null,null,null,null,null,null,null,"",null,null,null,null,null,null,""]
[null,null,null,null,null,null,null,null,null,null,{"$error":"#REF!"},null,{"$f":"IF(#REF!=\"\",\"\",#REF!)","v":{"$error":"#REF!"}},null,0,0,null,null,null,null,null,null,null,null,null,null,null,null,null,null,null,null,null,null,null,null,null,null,null,null,null,null,null,null,null,{"$error":"#REF!"},null,{"$f":"IF(#REF!=\"\",\"\",#REF!)","v":{"$error":"#REF!"}},null,0,0,null,null,null,null,null,null,null,null,null,null,null,null,null,null,null,null,null,null,null,null,null,null,null,null,null,null,null,null,null,{"$error":"#REF!"},null,{"$f":"IF(#REF!=\"\",\"\",#REF!)","v":{"$error":"#REF!"}},null,0,0,null,null,null,null,null,null,null,null,null,null,null,null,null,null,null,null,null,null,null,null,null,null,null,null,null,null,null,null,null,{"$error":"#REF!"},null,{"$f":"IF(#REF!=\"\",\"\",#REF!)","v":{"$error":"#REF!"}},null,0,0,null,null,null,null,null,null,null,null,null,null,null,null,null,null,null,null,null,null,null,null,null,null,null,null,null,null,null,null,null,{"$error":"#REF!"},null,{"$f":"IF(#REF!=\"\",\"\",#REF!)","v":{"$error":"#REF!"}},null,0,0,null,null,null,null,null,null,null,null,null,null,null,null,null,null,null,null,null,null,null,null,null,null,null,null,null,null,null,null,null,{"$error":"#REF!"},null,{"$f":"IF(#REF!=\"\",\"\",#REF!)","v":{"$error":"#REF!"}},null,0,0,null,null,null,null,null,null,null,null,null,null,null,null,null,null,null,null,null,null,null,null,null,null,null,null,null,null,null,null,null,{"$error":"#REF!"},null,{"$f":"IF(#REF!=\"\",\"\",#REF!)","v":{"$error":"#REF!"}},null,0,0,null,null,null,null,null,null,null,null,null,null,null,null,null,null,null,null,null,null,null,null,null,null,null,null,null,null,null,null,null,{"$error":"#REF!"},null,{"$f":"IF(#REF!=\"\",\"\",#REF!)","v":{"$error":"#REF!"}},null,0,0,null,null,null,null,null,null,null,null,null,null,null,null,null,null,null,null,null,null,null,null,null,null,null,null,null,null,null,null,null,"",null,{"$f":"IF(Hoja9!D45=\"\",\"\",Hoja9!D45)","v":""},null,0,0,null,null,null,null,null,null,null,null,null,null,null,null,null,null,null,null,null,null,null,null,null,null,null,null,null,null,null,null,null,null,null,null,null,null,null,null,null,null,null,null,null,null,null,null,null,null,null,null,null,null,null,null,null,null,null,null,24,null,null,null,null,null,null,null,null,5,"",null,null,null,null,null,null,"",null,null,null,null,null,null,null,null,null,null,"",null,null,null,null,null,null,"",null,null,null,null,null,null,null,null,null,null,null,null,null,null,null,null,null,"",null,null,null,null,null,null,null,null,null,null,"",null,null,null,null,null,null,"",null,null,null,null,null,null,null,null,null,null,"",null,null,null,null,null,null,"",null,null,null,null,null,null,null,null,null,null,"",null,null,null,null,null,null,"",null,null,null,null,null,null,null,null,null,null,"",null,null,null,null,null,null,"",null,null,null,null,null,null,null,null,null,null,"",null,null,null,null,null,null,"",null,null,null,null,null,null,null,null,null,null,"",null,null,null,null,null,null,""]
[null,null,null,null,null,null,null,null,null,null,{"$error":"#REF!"},null,{"$f":"IF(#REF!=\"\",\"\",#REF!)","v":{"$error":"#REF!"}},null,0,0,null,null,null,null,null,null,null,null,null,null,null,null,null,null,null,null,null,null,null,null,null,null,null,null,null,null,null,null,null,{"$error":"#REF!"},null,{"$f":"IF(#REF!=\"\",\"\",#REF!)","v":{"$error":"#REF!"}},null,0,0,null,null,null,null,null,null,null,null,null,null,null,null,null,null,null,null,null,null,null,null,null,null,null,null,null,null,null,null,null,{"$error":"#REF!"},null,{"$f":"IF(#REF!=\"\",\"\",#REF!)","v":{"$error":"#REF!"}},null,0,0,null,null,null,null,null,null,null,null,null,null,null,null,null,null,null,null,null,null,null,null,null,null,null,null,null,null,null,null,null,{"$error":"#REF!"},null,{"$f":"IF(#REF!=\"\",\"\",#REF!)","v":{"$error":"#REF!"}},null,0,1,null,null,null,null,null,null,null,null,null,null,null,null,null,null,null,null,"x",null,null,null,null,null,null,null,null,null,null,null,null,{"$error":"#REF!"},null,{"$f":"IF(#REF!=\"\",\"\",#REF!)","v":{"$error":"#REF!"}},null,0,0,null,null,null,null,null,null,null,null,null,null,null,null,null,null,null,null,null,null,null,null,null,null,null,null,null,null,null,null,null,{"$error":"#REF!"},null,{"$f":"IF(#REF!=\"\",\"\",#REF!)","v":{"$error":"#REF!"}},null,0,1,null,null,null,null,null,null,null,null,"x",null,null,null,null,null,null,null,null,null,null,null,null,null,null,null,null,null,null,null,null,{"$error":"#REF!"},null,{"$f":"IF(#REF!=\"\",\"\",#REF!)","v":{"$error":"#REF!"}},null,0,0,null,null,null,null,null,null,null,null,null,null,null,null,null,null,null,null,null,null,null,null,null,null,null,null,null,null,null,null,null,{"$error":"#REF!"},null,{"$f":"IF(#REF!=\"\",\"\",#REF!)","v":{"$error":"#REF!"}},null,0,1,null,null,null,null,null,null,null,null,null,null,null,null,"x",null,null,null,null,null,null,null,null,null,null,null,null,null,null,null,null,"",null,{"$f":"IF(Hoja9!D46=\"\",\"\",Hoja9!D46)","v":""},null,0,0,null,null,null,null,null,null,null,null,null,null,null,null,null,null,null,null,null,null,null,null,null,null,null,null,null,null,null,null,null,null,null,null,null,null,null,null,null,null,null,null,null,null,null,null,null,null,null,null,null,null,null,null,null,null,null,null,25,null,null,null,null,null,null,null,null,6,"",null,null,null,null,null,null,"",null,null,null,null,null,null,null,null,null,null,"",null,null,null,null,null,null,"",null,null,null,null,null,null,null,null,null,null,null,null,null,null,null,null,null,"",null,null,null,null,null,null,null,null,null,null,"",null,null,null,null,null,null,"",null,null,null,null,null,null,null,null,null,null,"",null,null,null,null,null,null,"",null,null,null,null,null,null,null,null,null,null,"",null,null,null,null,null,null,"",null,null,null,null,null,null,null,null,null,null,"",null,null,null,null,null,null,"",null,null,null,null,null,null,null,null,null,null,"",null,null,null,null,null,null,"",null,null,null,null,null,null,null,null,null,null,"",null,null,null,null,null,null,""]
[null,null,null,null,null,null,null,null,null,null,{"$error":"#REF!"},null,{"$f":"IF(#REF!=\"\",\"\",#REF!)","v":{"$error":"#REF!"}},null,0,0,null,null,null,null,null,null,null,null,null,null,null,null,null,null,null,null,null,null,null,null,null,null,null,null,null,null,null,null,null,{"$error":"#REF!"},null,{"$f":"IF(#REF!=\"\",\"\",#REF!)","v":{"$error":"#REF!"}},null,0,0,null,null,null,null,null,null,null,null,null,null,null,null,null,null,null,null,null,null,null,null,null,null,null,null,null,null,null,null,null,{"$error":"#REF!"},null,{"$f":"IF(#REF!=\"\",\"\",#REF!)","v":{"$error":"#REF!"}},null,0,0,null,null,null,null,null,null,null,null,null,null,null,null,null,null,null,null,null,null,null,null,null,null,null,null,null,null,null,null,null,{"$error":"#REF!"},null,{"$f":"IF(#REF!=\"\",\"\",#REF!)","v":{"$error":"#REF!"}},null,0,0,null,null,null,null,null,null,null,null,null,null,null,null,null,null,null,null,null,null,null,null,null,null,null,null,null,null,null,null,null,{"$error":"#REF!"},null,{"$f":"IF(#REF!=\"\",\"\",#REF!)","v":{"$error":"#REF!"}},null,0,1,null,null,"x",null,null,null,null,null,null,null,null,null,null,null,null,null,null,null,null,null,null,null,null,null,null,null,null,null,null,{"$error":"#REF!"},null,{"$f":"IF(#REF!=\"\",\"\",#REF!)","v":{"$error":"#REF!"}},null,0,2,null,null,null,null,null,null,null,null,"x",null,null,null,null,null,null,"x",null,null,null,null,null,null,null,null,null,null,null,null,null,{"$error":"#REF!"},null,{"$f":"IF(#REF!=\"\",\"\",#REF!)","v":{"$error":"#REF!"}},null,0,0,null,null,null,null,null,null,null,null,null,null,null,null,null,null,null,null,null,null,null,null,null,null,null,null,null,null,null,null,null,{"$error":"#REF!"},null,{"$f":"IF(#REF!=\"\",\"\",#REF!)","v":{"$error":"#REF!"}},null,0,0,null,null,null,null,null,null,null,null,null,null,null,null,null,null,null,null,null,null,null,null,null,null,null,null,null,null,null,null,null,"",null,{"$f":"IF(Hoja9!D47=\"\",\"\",Hoja9!D47)","v":""},null,0,0,null,null,null,null,null,null,null,null,null,null,null,null,null,null,null,null,null,null,null,null,null,null,null,null,null,null,null,null,null,null,null,null,null,null,null,null,null,null,null,null,null,null,null,null,null,null,null,null,null,null,null,null,null,null,null,null,26,null,null,null,null,null,null,null,null,7,"",null,null,null,null,null,null,"",null,null,null,null,null,null,null,null,null,null,"",null,null,null,null,null,null,"",null,null,null,null,null,null,null,null,null,null,null,null,null,null,null,null,null,"",null,null,null,null,null,null,null,null,null,null,"",null,null,null,null,null,null,"",null,null,null,null,null,null,null,null,null,null,"",null,null,null,null,null,null,"",null,null,null,null,null,null,null,null,null,null,"",null,null,null,null,null,null,"",null,null,null,null,null,null,null,null,null,null,"",null,null,null,null,null,null,"",null,null,null,null,null,null,null,null,null,null,"",null,null,null,null,null,null,"",null,null,null,null,null,null,null,null,null,null,"",null,null,null,null,null,null,""]
[null,null,null,null,null,null,null,null,null,null,{"$error":"#REF!"},null,{"$f":"IF(#REF!=\"\",\"\",#REF!)","v":{"$error":"#REF!"}},null,0,0,null,null,null,null,null,null,null,null,null,null,null,null,null,null,null,null,null,null,null,null,null,null,null,null,null,null,null,null,null,{"$error":"#REF!"},null,{"$f":"IF(#REF!=\"\",\"\",#REF!)","v":{"$error":"#REF!"}},null,0,0,null,null,null,null,null,null,null,null,null,null,null,null,null,null,null,null,null,null,null,null,null,null,null,null,null,null,null,null,null,{"$error":"#REF!"},null,{"$f":"IF(#REF!=\"\",\"\",#REF!)","v":{"$error":"#REF!"}},null,0,0,null,null,null,null,null,null,null,null,null,null,null,null,null,null,null,null,null,null,null,null,null,null,null,null,null,null,null,null,null,{"$error":"#REF!"},null,{"$f":"IF(#REF!=\"\",\"\",#REF!)","v":{"$error":"#REF!"}},null,0,0,null,null,null,null,null,null,null,null,null,null,null,null,null,null,null,null,null,null,null,null,null,null,null,null,null,null,null,null,null,{"$error":"#REF!"},null,{"$f":"IF(#REF!=\"\",\"\",#REF!)","v":{"$error":"#REF!"}},null,0,0,null,null,null,null,null,null,null,null,null,null,null,null,null,null,null,null,null,null,null,null,null,null,null,null,null,null,null,null,null,{"$error":"#REF!"},null,{"$f":"IF(#REF!=\"\",\"\",#REF!)","v":{"$error":"#REF!"}},null,0,0,null,null,null,null,null,null,null,null,null,null,null,null,null,null,null,null,null,null,null,null,null,null,null,null,null,null,null,null,null,{"$error":"#REF!"},null,{"$f":"IF(#REF!=\"\",\"\",#REF!)","v":{"$error":"#REF!"}},null,0,0,null,null,null,null,null,null,null,null,null,null,null,null,null,null,null,null,null,null,null,null,null,null,null,null,null,null,null,null,null,{"$error":"#REF!"},null,{"$f":"IF(#REF!=\"\",\"\",#REF!)","v":{"$error":"#REF!"}},null,0,0,null,null,null,null,null,null,null,null,null,null,null,null,null,null,null,null,null,null,null,null,null,null,null,null,null,null,null,null,null,"",null,{"$f":"IF(Hoja9!D48=\"\",\"\",Hoja9!D48)","v":""},null,0,0,null,null,null,null,null,null,null,null,null,null,null,null,null,null,null,null,null,null,null,null,null,null,null,null,null,null,null,null,null,null,null,null,null,null,null,null,null,null,null,null,null,null,null,null,null,null,null,null,null,null,null,null,null,null,null,null,27,null,null,null,null,null,null,null,null,8,"",null,null,null,null,null,null,"",null,null,null,null,null,null,null,null,null,null,"",null,null,null,null,null,null,"",null,null,null,null,null,null,null,null,null,null,null,null,null,null,null,null,null,"",null,null,null,null,null,null,null,null,null,null,"",null,null,null,null,null,null,"",null,null,null,null,null,null,null,null,null,null,"",null,null,null,null,null,null,"",null,null,null,null,null,null,null,null,null,null,"",null,null,null,null,null,null,"",null,null,null,null,null,null,null,null,null,null,"",null,null,null,null,null,null,"",null,null,null,null,null,null,null,null,null,null,"",null,null,null,null,null,null,"",null,null,null,null,null,null,null,null,null,null,"",null,null,null,null,null,null,""]
[null,null,null,null,null,null,null,null,null,null,{"$error":"#REF!"},null,{"$f":"IF(#REF!=\"\",\"\",#REF!)","v":{"$error":"#REF!"}},null,0,0,null,null,null,null,null,null,null,null,null,null,null,null,null,null,null,null,null,null,null,null,null,null,null,null,null,null,null,null,null,{"$error":"#REF!"},null,{"$f":"IF(#REF!=\"\",\"\",#REF!)","v":{"$error":"#REF!"}},null,0,0,null,null,null,null,null,null,null,null,null,null,null,null,null,null,null,null,null,null,null,null,null,null,null,null,null,null,null,null,null,{"$error":"#REF!"},null,{"$f":"IF(#REF!=\"\",\"\",#REF!)","v":{"$error":"#REF!"}},null,0,0,null,null,null,null,null,null,null,null,null,null,null,null,null,null,null,null,null,null,null,null,null,null,null,null,null,null,null,null,null,{"$error":"#REF!"},null,{"$f":"IF(#REF!=\"\",\"\",#REF!)","v":{"$error":"#REF!"}},null,0,0,null,null,null,null,null,null,null,null,null,null,null,null,null,null,null,null,null,null,null,null,null,null,null,null,null,null,null,null,null,{"$error":"#REF!"},null,{"$f":"IF(#REF!=\"\",\"\",#REF!)","v":{"$error":"#REF!"}},null,0,0,null,null,null,null,null,null,null,null,null,null,null,null,null,null,null,null,null,null,null,null,null,null,null,null,null,null,null,null,null,{"$error":"#REF!"},null,{"$f":"IF(#REF!=\"\",\"\",#REF!)","v":{"$error":"#REF!"}},null,0,0,null,null,null,null,null,null,null,null,null,null,null,null,null,null,null,null,null,null,null,null,null,null,null,null,null,null,null,null,null,{"$error":"#REF!"},null,{"$f":"IF(#REF!=\"\",\"\",#REF!)","v":{"$error":"#REF!"}},null,0,0,null,null,null,null,null,null,null,null,null,null,null,null,null,null,null,null,null,null,null,null,null,null,null,null,null,null,null,null,null,{"$error":"#REF!"},null,{"$f":"IF(#REF!=\"\",\"\",#REF!)","v":{"$error":"#REF!"}},null,0,0,null,null,null,null,null,null,null,null,null,null,null,null,null,null,null,null,null,null,null,null,null,null,null,null,null,null,null,null,null,"",null,{"$f":"IF(Hoja9!D49=\"\",\"\",Hoja9!D49)","v":""},null,0,0,null,null,null,null,null,null,null,null,null,null,null,null,null,null,null,null,null,null,null,null,null,null,null,null,null,null,null,null,null,null,null,null,null,null,null,null,null,null,null,null,null,null,null,null,null,null,null,null,null,null,null,null,null,null,null,null,28,null,null,null,null,null,null,null,null,9,"",null,null,null,null,null,null,"",null,null,null,null,null,null,null,null,null,null,"",null,null,null,null,null,null,"",null,null,null,null,null,null,null,null,null,null,null,null,null,null,null,null,null,"",null,null,null,null,null,null,null,null,null,null,"",null,null,null,null,null,null,"",null,null,null,null,null,null,null,null,null,null,"",null,null,null,null,null,null,"",null,null,null,null,null,null,null,null,null,null,"",null,null,null,null,null,null,"",null,null,null,null,null,null,null,null,null,null,"",null,null,null,null,null,null,"",null,null,null,null,null,null,null,null,null,null,"",null,null,null,null,null,null,"",null,null,null,null,null,null,null,null,null,null,"",null,null,null,null,null,null,""]
[null,null,null,null,null,null,null,null,null,null,{"$error":"#REF!"},null,{"$f":"IF(#REF!=\"\",\"\",#REF!)","v":{"$error":"#REF!"}},null,0,0,null,null,null,null,null,null,null,null,null,null,null,null,null,null,null,null,null,null,null,null,null,null,null,null,null,null,null,null,null,{"$error":"#REF!"},null,{"$f":"IF(#REF!=\"\",\"\",#REF!)","v":{"$error":"#REF!"}},null,0,0,null,null,null,null,null,null,null,null,null,null,null,null,null,null,null,null,null,null,null,null,null,null,null,null,null,null,null,null,null,{"$error":"#REF!"},null,{"$f":"IF(#REF!=\"\",\"\",#REF!)","v":{"$error":"#REF!"}},null,0,0,null,null,null,null,null,null,null,null,null,null,null,null,null,null,null,null,null,null,null,null,null,null,null,null,null,null,null,null,null,{"$error":"#REF!"},null,{"$f":"IF(#REF!=\"\",\"\",#REF!)","v":{"$error":"#REF!"}},null,0,0,null,null,null,null,null,null,null,null,null,null,null,null,null,null,null,null,null,null,null,null,null,null,null,null,null,null,null,null,null,{"$error":"#REF!"},null,{"$f":"IF(#REF!=\"\",\"\",#REF!)","v":{"$error":"#REF!"}},null,0,0,null,null,null,null,null,null,null,null,null,null,null,null,null,null,null,null,null,null,null,null,null,null,null,null,null,null,null,null,null,{"$error":"#REF!"},null,{"$f":"IF(#REF!=\"\",\"\",#REF!)","v":{"$error":"#REF!"}},null,0,0,null,null,null,null,null,null,null,null,null,null,null,null,null,null,null,null,null,null,null,null,null,null,null,null,null,null,null,null,null,{"$error":"#REF!"},null,{"$f":"IF(#REF!=\"\",\"\",#REF!)","v":{"$error":"#REF!"}},null,0,0,null,null,null,null,null,null,null,null,null,null,null,null,null,null,null,null,null,null,null,null,null,null,null,null,null,null,null,null,null,{"$error":"#REF!"},null,{"$f":"IF(#REF!=\"\",\"\",#REF!)","v":{"$error":"#REF!"}},null,0,0,null,null,null,null,null,null,null,null,null,null,null,null,null,null,null,null,null,null,null,null,null,null,null,null,null,null,null,null,null,"",null,{"$f":"IF(Hoja9!D50=\"\",\"\",Hoja9!D50)","v":""},null,0,0,null,null,null,null,null,null,null,null,null,null,null,null,null,null,null,null,null,null,null,null,null,null,null,null,null,null,null,null,null,null,null,null,null,null,null,null,null,null,null,null,null,null,null,null,null,null,null,null,null,null,null,null,null,null,null,null,29,null,null,null,null,null,null,null,null,10,"",null,null,null,null,null,null,"",null,null,null,null,null,null,null,null,null,null,"",null,null,null,null,null,null,"",null,null,null,null,null,null,null,null,null,null,null,null,null,null,null,null,null,"",null,null,null,null,null,null,null,null,null,null,"",null,null,null,null,null,null,"",null,null,null,null,null,null,null,null,null,null,"",null,null,null,null,null,null,"",null,null,null,null,null,null,null,null,null,null,"",null,null,null,null,null,null,"",null,null,null,null,null,null,null,null,null,null,"",null,null,null,null,null,null,"",null,null,null,null,null,null,null,null,null,null,"",null,null,null,null,null,null,"",null,null,null,null,null,null,null,null,null,null,"",null,null,null,null,null,null,""]
[null,null,null,null,null,null,null,null,null,null,{"$error":"#REF!"},null,{"$f":"IF(#REF!=\"\",\"\",#REF!)","v":{"$error":"#REF!"}},null,0,0,null,null,null,null,null,null,null,null,null,null,null,null,null,null,null,null,null,null,null,null,null,null,null,null,null,null,null,null,null,{"$error":"#REF!"},null,{"$f":"IF(#REF!=\"\",\"\",#REF!)","v":{"$error":"#REF!"}},null,0,0,null,null,null,null,null,null,null,null,null,null,null,null,null,null,null,null,null,null,null,null,null,null,null,null,null,null,null,null,null,{"$error":"#REF!"},null,{"$f":"IF(#REF!=\"\",\"\",#REF!)","v":{"$error":"#REF!"}},null,0,0,null,null,null,null,null,null,null,null,null,null,null,null,null,null,null,null,null,null,null,null,null,null,null,null,null,null,null,null,null,{"$error":"#REF!"},null,{"$f":"IF(#REF!=\"\",\"\",#REF!)","v":{"$error":"#REF!"}},null,0,0,null,null,null,null,null,null,null,null,null,null,null,null,null,null,null,null,null,null,null,null,null,null,null,null,null,null,null,null,null,{"$error":"#REF!"},null,{"$f":"IF(#REF!=\"\",\"\",#REF!)","v":{"$error":"#REF!"}},null,0,0,null,null,null,null,null,null,null,null,null,null,null,null,null,null,null,null,null,null,null,null,null,null,null,null,null,null,null,null,null,{"$error":"#REF!"},null,{"$f":"IF(#REF!=\"\",\"\",#REF!)","v":{"$error":"#REF!"}},null,0,0,null,null,null,null,null,null,null,null,null,null,null,null,null,null,null,null,null,null,null,null,null,null,null,null,null,null,null,null,null,{"$error":"#REF!"},null,{"$f":"IF(#REF!=\"\",\"\",#REF!)","v":{"$error":"#REF!"}},null,0,0,null,null,null,null,null,null,null,null,null,null,null,null,null,null,null,null,null,null,null,null,null,null,null,null,null,null,null,null,null,{"$error":"#REF!"},null,{"$f":"IF(#REF!=\"\",\"\",#REF!)","v":{"$error":"#REF!"}},null,0,0,null,null,null,null,null,null,null,null,null,null,null,null,null,null,null,null,null,null,null,null,null,null,null,null,null,null,null,null,null,"",null,{"$f":"IF(Hoja9!D51=\"\",\"\",Hoja9!D51)","v":""},null,0,0,null,null,null,null,null,null,null,null,null,null,null,null,null,null,null,null,null,null,null,null,null,null,null,null,null,null,null,null,null,null,null,null,null,null,null,null,null,null,null,null,null,null,null,null,null,null,null,null,null,null,null,null,null,null,null,null,30,null,null,null,null,null,null,null,null,11,"",null,null,null,null,null,null,"",null,null,null,null,null,null,null,null,null,null,"",null,null,null,null,null,null,"",null,null,null,null,null,null,null,null,null,null,null,null,null,null,null,null,null,"",null,null,null,null,null,null,null,null,null,null,"",null,null,null,null,null,null,"",null,null,null,null,null,null,null,null,null,null,"",null,null,null,null,null,null,"",null,null,null,null,null,null,null,null,null,null,"",null,null,null,null,null,null,"",null,null,null,null,null,null,null,null,null,null,"",null,null,null,null,null,null,"",null,null,null,null,null,null,null,null,null,null,"",null,null,null,null,null,null,"",null,null,null,null,null,null,null,null,null,null,"",null,null,null,null,null,null,""]
[null,null,null,null,null,null,null,null,null,null,{"$error":"#REF!"},null,{"$f":"IF(#REF!=\"\",\"\",#REF!)","v":{"$error":"#REF!"}},null,0,0,null,null,null,null,null,null,null,null,null,null,null,null,null,null,null,null,null,null,null,null,null,null,null,null,null,null,null,null,null,{"$error":"#REF!"},null,{"$f":"IF(#REF!=\"\",\"\",#REF!)","v":{"$error":"#REF!"}},null,0,0,null,null,null,null,null,null,null,null,null,null,null,null,null,null,null,null,null,null,null,null,null,null,null,null,null,null,null,null,null,{"$error":"#REF!"},null,{"$f":"IF(#REF!=\"\",\"\",#REF!)","v":{"$error":"#REF!"}},null,0,0,null,null,null,null,null,null,null,null,null,null,null,null,null,null,null,null,null,null,null,null,null,null,null,null,null,null,null,null,null,{"$error":"#REF!"},null,{"$f":"IF(#REF!=\"\",\"\",#REF!)","v":{"$error":"#REF!"}},null,0,0,null,null,null,null,null,null,null,null,null,null,null,null,null,null,null,null,null,null,null,null,null,null,null,null,null,null,null,null,null,{"$error":"#REF!"},null,{"$f":"IF(#REF!=\"\",\"\",#REF!)","v":{"$error":"#REF!"}},null,0,0,null,null,null,null,null,null,null,null,null,null,null,null,null,null,null,null,null,null,null,null,null,null,null,null,null,null,null,null,null,{"$error":"#REF!"},null,{"$f":"IF(#REF!=\"\",\"\",#REF!)","v":{"$error":"#REF!"}},null,0,0,null,null,null,null,null,null,null,null,null,null,null,null,null,null,null,null,null,null,null,null,null,null,null,null,null,null,null,null,null,{"$error":"#REF!"},null,{"$f":"IF(#REF!=\"\",\"\",#REF!)","v":{"$error":"#REF!"}},null,0,0,null,null,null,null,null,null,null,null,null,null,null,null,null,null,null,null,null,null,null,null,null,null,null,null,null,null,null,null,null,{"$error":"#REF!"},null,{"$f":"IF(#REF!=\"\",\"\",#REF!)","v":{"$error":"#REF!"}},null,0,0,null,null,null,null,null,null,null,null,null,null,null,null,null,null,null,null,null,null,null,null,null,null,null,null,null,null,null,null,null,"",null,{"$f":"IF(Hoja9!D52=\"\",\"\",Hoja9!D52)","v":""},null,0,0,null,null,null,null,null,null,null,null,null,null,null,null,null,null,null,null,null,null,null,null,null,null,null,null,null,null,null,null,null,null,null,null,null,null,null,null,null,null,null,null,null,null,null,null,null,null,null,null,null,null,null,null,null,null,null,null,31,null,null,null,null,null,null,null,null,12,"",null,null,null,null,null,null,"",null,null,null,null,null,null,null,null,null,null,"",null,null,null,null,null,null,"",null,null,null,null,null,null,null,null,null,null,null,null,null,null,null,null,null,"",null,null,null,null,null,null,null,null,null,null,"",null,null,null,null,null,null,"",null,null,null,null,null,null,null,null,null,null,"",null,null,null,null,null,null,"",null,null,null,null,null,null,null,null,null,null,"",null,null,null,null,null,null,"",null,null,null,null,null,null,null,null,null,null,"",null,null,null,null,null,null,"",null,null,null,null,null,null,null,null,null,null,"",null,null,null,null,null,null,"",null,null,null,null,null,null,null,null,null,null,"",null,null,null,null,null,null,""]
[null,null,null,null,null,null,null,null,null,null,{"$error":"#REF!"},null,{"$f":"IF(#REF!=\"\",\"\",#REF!)","v":{"$error":"#REF!"}},null,0,0,null,null,null,null,null,null,null,null,null,null,null,null,null,null,null,null,null,null,null,null,null,null,null,null,null,null,null,null,null,{"$error":"#REF!"},null,{"$f":"IF(#REF!=\"\",\"\",#REF!)","v":{"$error":"#REF!"}},null,0,0,null,null,null,null,null,null,null,null,null,null,null,null,null,null,null,null,null,null,null,null,null,null,null,null,null,null,null,null,null,{"$error":"#REF!"},null,{"$f":"IF(#REF!=\"\",\"\",#REF!)","v":{"$error":"#REF!"}},null,0,0,null,null,null,null,null,null,null,null,null,null,null,null,null,null,null,null,null,null,null,null,null,null,null,null,null,null,null,null,null,{"$error":"#REF!"},null,{"$f":"IF(#REF!=\"\",\"\",#REF!)","v":{"$error":"#REF!"}},null,0,0,null,null,null,null,null,null,null,null,null,null,null,null,null,null,null,null,null,null,null,null,null,null,null,null,null,null,null,null,null,{"$error":"#REF!"},null,{"$f":"IF(#REF!=\"\",\"\",#REF!)","v":{"$error":"#REF!"}},null,0,0,null,null,null,null,null,null,null,null,null,null,null,null,null,null,null,null,null,null,null,null,null,null,null,null,null,null,null,null,null,{"$error":"#REF!"},null,{"$f":"IF(#REF!=\"\",\"\",#REF!)","v":{"$error":"#REF!"}},null,0,0,null,null,null,null,null,null,null,null,null,null,null,null,null,null,null,null,null,null,null,null,null,null,null,null,null,null,null,null,null,{"$error":"#REF!"},null,{"$f":"IF(#REF!=\"\",\"\",#REF!)","v":{"$error":"#REF!"}},null,0,0,null,null,null,null,null,null,null,null,null,null,null,null,null,null,null,null,null,null,null,null,null,null,null,null,null,null,null,null,null,{"$error":"#REF!"},null,{"$f":"IF(#REF!=\"\",\"\",#REF!)","v":{"$error":"#REF!"}},null,0,0,null,null,null,null,null,null,null,null,null,null,null,null,null,null,null,null,null,null,null,null,null,null,null,null,null,null,null,null,null,"",null,{"$f":"IF(Hoja9!D53=\"\",\"\",Hoja9!D53)","v":""},null,0,0,null,null,null,null,null,null,null,null,null,null,null,null,null,null,null,null,null,null,null,null,null,null,null,null,null,null,null,null,null,null,null,null,null,null,null,null,null,null,null,null,null,null,null,null,null,null,null,null,null,null,null,null,null,null,null,null,32,null,null,null,null,null,null,null,null,13,"",null,null,null,null,null,null,"",null,null,null,null,null,null,null,null,null,null,"",null,null,null,null,null,null,"",null,null,null,null,null,null,null,null,null,null,null,null,null,null,null,null,null,"",null,null,null,null,null,null,null,null,null,null,"",null,null,null,null,null,null,"",null,null,null,null,null,null,null,null,null,null,"",null,null,null,null,null,null,"",null,null,null,null,null,null,null,null,null,null,"",null,null,null,null,null,null,"",null,null,null,null,null,null,null,null,null,null,"",null,null,null,null,null,null,"",null,null,null,null,null,null,null,null,null,null,"",null,null,null,null,null,null,"",null,null,null,null,null,null,null,null,null,null,"",null,null,null,null,null,null,""]
[null,null,null,null,null,null,null,null,null,null,{"$error":"#REF!"},null,{"$f":"IF(#REF!=\"\",\"\",#REF!)","v":{"$error":"#REF!"}},null,0,1,null,null,null,null,null,null,null,null,null,null,null,"x",null,null,null,null,null,null,null,null,null,null,null,null,null,null,null,null,null,{"$error":"#REF!"},null,{"$f":"IF(#REF!=\"\",\"\",#REF!)","v":{"$error":"#REF!"}},null,0,0,null,null,null,null,null,null,null,null,null,null,null,null,null,null,null,null,null,null,null,null,null,null,null,null,null,null,null,null,null,{"$error":"#REF!"},null,{"$f":"IF(#REF!=\"\",\"\",#REF!)","v":{"$error":"#REF!"}},null,0,0,null,null,null,null,null,null,null,null,null,null,null,null,null,null,null,null,null,null,null,null,null,null,null,null,null,null,null,null,null,{"$error":"#REF!"},null,{"$f":"IF(#REF!=\"\",\"\",#REF!)","v":{"$error":"#REF!"}},null,0,0,null,null,null,null,null,null,null,null,null,null,null,null,null,null,null,null,null,null,null,null,null,null,null,null,null,null,null,null,null,{"$error":"#REF!"},null,{"$f":"IF(#REF!=\"\",\"\",#REF!)","v":{"$error":"#REF!"}},null,0,0,null,null,null,null,null,null,null,null,null,null,null,null,null,null,null,null,null,null,null,null,null,null,null,null,null,null,null,null,null,{"$error":"#REF!"},null,{"$f":"IF(#REF!=\"\",\"\",#REF!)","v":{"$error":"#REF!"}},null,0,0,null,null,null,null,null,null,null,null,null,null,null,null,null,null,null,null,null,null,null,null,null,null,null,null,null,null,null,null,null,{"$error":"#REF!"},null,{"$f":"IF(#REF!=\"\",\"\",#REF!)","v":{"$error":"#REF!"}},null,0,0,null,null,null,null,null,null,null,null,null,null,null,null,null,null,null,null,null,null,null,null,null,null,null,null,null,null,null,null,null,{"$error":"#REF!"},null,{"$f":"IF(#REF!=\"\",\"\",#REF!)","v":{"$error":"#REF!"}},null,0,0,null,null,null,null,null,null,null,null,null,null,null,null,null,null,null,null,null,null,null,null,null,null,null,null,null,null,null,null,null,"",null,{"$f":"IF(Hoja9!D54=\"\",\"\",Hoja9!D54)","v":""},null,0,0,null,null,null,null,null,null,null,null,null,null,null,null,null,null,null,null,null,null,null,null,null,null,null,null,null,null,null,null,null,null,null,null,null,null,null,null,null,null,null,null,null,null,null,null,null,null,null,null,null,null,null,null,null,null,null,null,33,null,null,null,null,null,null,null,null,14,"",null,null,null,null,null,null,"",null,null,null,null,null,null,null,null,null,null,"",null,null,null,null,null,null,"",null,null,null,null,null,null,null,null,null,null,null,null,null,null,null,null,null,"",null,null,null,null,null,null,null,null,null,null,"",null,null,null,null,null,null,"",null,null,null,null,null,null,null,null,null,null,"",null,null,null,null,null,null,"",null,null,null,null,null,null,null,null,null,null,"",null,null,null,null,null,null,"",null,null,null,null,null,null,null,null,null,null,"",null,null,null,null,null,null,"",null,null,null,null,null,null,null,null,null,null,"",null,null,null,null,null,null,"",null,null,null,null,null,null,null,null,null,null,"",null,null,null,null,null,null,""]
[null,null,null,null,null,null,null,null,null,null,{"$error":"#REF!"},null,{"$f":"IF(#REF!=\"\",\"\",#REF!)","v":{"$error":"#REF!"}},null,0,0,null,null,null,null,null,null,null,null,null,null,null,null,null,null,null,null,null,null,null,null,null,null,null,null,null,null,null,null,null,{"$error":"#REF!"},null,{"$f":"IF(#REF!=\"\",\"\",#REF!)","v":{"$error":"#REF!"}},null,0,0,null,null,null,null,null,null,null,null,null,null,null,null,null,null,null,null,null,null,null,null,null,null,null,null,null,null,null,null,null,{"$error":"#REF!"},null,{"$f":"IF(#REF!=\"\",\"\",#REF!)","v":{"$error":"#REF!"}},null,0,0,null,null,null,null,null,null,null,null,null,null,null,null,null,null,null,null,null,null,null,null,null,null,null,null,null,null,null,null,null,{"$error":"#REF!"},null,{"$f":"IF(#REF!=\"\",\"\",#REF!)","v":{"$error":"#REF!"}},null,0,0,null,null,null,null,null,null,null,null,null,null,null,null,null,null,null,null,null,null,null,null,null,null,null,null,null,null,null,null,null,{"$error":"#REF!"},null,{"$f":"IF(#REF!=\"\",\"\",#REF!)","v":{"$error":"#REF!"}},null,0,0,null,null,null,null,null,null,null,null,null,null,null,null,null,null,null,null,null,null,null,null,null,null,null,null,null,null,null,null,null,{"$error":"#REF!"},null,{"$f":"IF(#REF!=\"\",\"\",#REF!)","v":{"$error":"#REF!"}},null,0,1,null,null,null,null,null,null,null,null,null,null,null,null,"x",null,null,null,null,null,null,null,null,null,null,null,null,null,null,null,null,{"$error":"#REF!"},null,{"$f":"IF(#REF!=\"\",\"\",#REF!)","v":{"$error":"#REF!"}},null,0,0,null,null,null,null,null,null,null,null,null,null,null,null,null,null,null,null,null,null,null,null,null,null,null,null,null,null,null,null,null,{"$error":"#REF!"},null,{"$f":"IF(#REF!=\"\",\"\",#REF!)","v":{"$error":"#REF!"}},null,0,1,null,null,null,null,null,null,null,null,null,null,null,null,"x",null,null,null,null,null,null,null,null,null,null,null,null,null,null,null,null,"",null,{"$f":"IF(Hoja9!D55=\"\",\"\",Hoja9!D55)","v":""},null,0,0,null,null,null,null,null,null,null,null,null,null,null,null,null,null,null,null,null,null,null,null,null,null,null,null,null,null,null,null,null,null,null,null,null,null,null,null,null,null,null,null,null,null,null,null,null,null,null,null,null,null,null,null,null,null,null,null,34,null,null,null,null,null,null,null,null,15,"",null,null,null,null,null,null,"",null,null,null,null,null,null,null,null,null,null,"",null,null,null,null,null,null,"",null,null,null,null,null,null,null,null,null,null,null,null,null,null,null,null,null,"",null,null,null,null,null,null,null,null,null,null,"",null,null,null,null,null,null,"",null,null,null,null,null,null,null,null,null,null,"",null,null,null,null,null,null,"",null,null,null,null,null,null,null,null,null,null,"",null,null,null,null,null,null,"",null,null,null,null,null,null,null,null,null,null,"",null,null,null,null,null,null,"",null,null,null,null,null,null,null,null,null,null,"",null,null,null,null,null,null,"",null,null,null,null,null,null,null,null,null,null,"",null,null,null,null,null,null,""]
[null,null,null,null,null,null,null,null,null,null,{"$error":"#REF!"},null,{"$f":"IF(#REF!=\"\",\"\",#REF!)","v":{"$error":"#REF!"}},null,0,0,null,null,null,null,null,null,null,null,null,null,null,null,null,null,null,null,null,null,null,null,null,null,null,null,null,null,null,null,null,{"$error":"#REF!"},null,{"$f":"IF(#REF!=\"\",\"\",#REF!)","v":{"$error":"#REF!"}},null,0,0,null,null,null,null,null,null,null,null,null,null,null,null,null,null,null,null,null,null,null,null,null,null,null,null,null,null,null,null,null,{"$error":"#REF!"},null,{"$f":"IF(#REF!=\"\",\"\",#REF!)","v":{"$error":"#REF!"}},null,0,0,null,null,null,null,null,null,null,null,null,null,null,null,null,null,null,null,null,null,null,null,null,null,null,null,null,null,null,null,null,{"$error":"#REF!"},null,{"$f":"IF(#REF!=\"\",\"\",#REF!)","v":{"$error":"#REF!"}},null,0,0,null,null,null,null,null,null,null,null,null,null,null,null,null,null,null,null,null,null,null,null,null,null,null,null,null,null,null,null,null,{"$error":"#REF!"},null,{"$f":"IF(#REF!=\"\",\"\",#REF!)","v":{"$error":"#REF!"}},null,0,0,null,null,null,null,null,null,null,null,null,null,null,null,null,null,null,null,null,null,null,null,null,null,null,null,null,null,null,null,null,{"$error":"#REF!"},null,{"$f":"IF(#REF!=\"\",\"\",#REF!)","v":{"$error":"#REF!"}},null,0,0,null,null,null,null,null,null,null,null,null,null,null,null,null,null,null,null,null,null,null,null,null,null,null,null,null,null,null,null,null,{"$error":"#REF!"},null,{"$f":"IF(#REF!=\"\",\"\",#REF!)","v":{"$error":"#REF!"}},null,0,0,null,null,null,null,null,null,null,null,null,null,null,null,null,null,null,null,null,null,null,null,null,null,null,null,null,null,null,null,null,{"$error":"#REF!"},null,{"$f":"IF(#REF!=\"\",\"\",#REF!)","v":{"$error":"#REF!"}},null,0,1,null,null,"X",null,null,null,null,null,null,null,null,null,null,null,null,null,null,null,null,null,null,null,null,null,null,null,null,null,null,"",null,{"$f":"IF(Hoja9!D56=\"\",\"\",Hoja9!D56)","v":""},null,0,0,null,null,null,null,null,null,null,null,null,null,null,null,null,null,null,null,null,null,null,null,null,null,null,null,null,null,null,null,null,null,null,null,null,null,null,null,null,null,null,null,null,null,null,null,null,null,null,null,null,null,null,null,null,null,null,null,35,null,null,null,null,null,null,null,null,16,"",null,null,null,null,null,null,"",null,null,null,null,null,null,null,null,null,null,"",null,null,null,null,null,null,"",null,null,null,null,null,null,null,null,null,null,null,null,null,null,null,null,null,"",null,null,null,null,null,null,null,null,null,null,"",null,null,null,null,null,null,"",null,null,null,null,null,null,null,null,null,null,"",null,null,null,null,null,null,"",null,null,null,null,null,null,null,null,null,null,"",null,null,null,null,null,null,"",null,null,null,null,null,null,null,null,null,null,"",null,null,null,null,null,null,"",null,null,null,null,null,null,null,null,null,null,"",null,null,null,null,null,null,"",null,null,null,null,null,null,null,null,null,null,"",null,null,null,null,null,null,""]
[null,null,null,null,null,null,null,null,null,null,{"$error":"#REF!"},null,{"$f":"IF(#REF!=\"\",\"\",#REF!)","v":{"$error":"#REF!"}},null,0,0,null,null,null,null,null,null,null,null,null,null,null,null,null,null,null,null,null,null,null,null,null,null,null,null,null,null,null,null,null,{"$error":"#REF!"},null,{"$f":"IF(#REF!=\"\",\"\",#REF!)","v":{"$error":"#REF!"}},null,0,0,null,null,null,null,null,null,null,null,null,null,null,null,null,null,null,null,null,null,null,null,null,null,null,null,null,null,null,null,null,{"$error":"#REF!"},null,{"$f":"IF(#REF!=\"\",\"\",#REF!)","v":{"$error":"#REF!"}},null,0,0,null,null,null,null,null,null,null,null,null,null,null,null,null,null,null,null,null,null,null,null,null,null,null,null,null,null,null,null,null,{"$error":"#REF!"},null,{"$f":"IF(#REF!=\"\",\"\",#REF!)","v":{"$error":"#REF!"}},null,0,0,null,null,null,null,null,null,null,null,null,null,null,null,null,null,null,null,null,null,null,null,null,null,null,null,null,null,null,null,null,{"$error":"#REF!"},null,{"$f":"IF(#REF!=\"\",\"\",#REF!)","v":{"$error":"#REF!"}},null,0,0,null,null,null,null,null,null,null,null,null,null,null,null,null,null,null,null,null,null,null,null,null,null,null,null,null,null,null,null,null,{"$error":"#REF!"},null,{"$f":"IF(#REF!=\"\",\"\",#REF!)","v":{"$error":"#REF!"}},null,0,0,null,null,null,null,null,null,null,null,null,null,null,null,null,null,null,null,null,null,null,null,null,null,null,null,null,null,null,null,null,{"$error":"#REF!"},null,{"$f":"IF(#REF!=\"\",\"\",#REF!)","v":{"$error":"#REF!"}},null,0,0,null,null,null,null,null,null,null,null,null,null,null,null,null,null,null,null,null,null,null,null,null,null,null,null,null,null,null,null,null,{"$error":"#REF!"},null,{"$f":"IF(#REF!=\"\",\"\",#REF!)","v":{"$error":"#REF!"}},null,0,0,null,null,null,null,null,null,null,null,null,null,null,null,null,null,null,null,null,null,null,null,null,null,null,null,null,null,null,null,null,"",null,{"$f":"IF(Hoja9!D57=\"\",\"\",Hoja9!D57)","v":""},null,0,0,null,null,null,null,null,null,null,null,null,null,null,null,null,null,null,null,null,null,null,null,null,null,null,null,null,null,null,null,null,null,null,null,null,null,null,null,null,null,null,null,null,null,null,null,null,null,null,null,null,null,null,null,null,null,null,null,36,null,null,null,null,null,null,null,null,17,"",null,null,null,null,null,null,"",null,null,null,null,null,null,null,null,null,null,"",null,null,null,null,null,null,"",null,null,null,null,null,null,null,null,null,null,null,null,null,null,null,null,null,"",null,null,null,null,null,null,null,null,null,null,"",null,null,null,null,null,null,"",null,null,null,null,null,null,null,null,null,null,"",null,null,null,null,null,null,"",null,null,null,null,null,null,null,null,null,null,"",null,null,null,null,null,null,"",null,null,null,null,null,null,null,null,null,null,"",null,null,null,null,null,null,"",null,null,null,null,null,null,null,null,null,null,"",null,null,null,null,null,null,"",null,null,null,null,null,null,null,null,null,null,"",null,null,null,null,null,null,""]
[null,null,null,null,null,null,null,null,null,null,{"$error":"#REF!"},null,{"$f":"IF(#REF!=\"\",\"\",#REF!)","v":{"$error":"#REF!"}},null,0,0,null,null,null,null,null,null,null,null,null,null,null,null,null,null,null,null,null,null,null,null,null,null,null,null,null,null,null,null,null,{"$error":"#REF!"},null,{"$f":"IF(#REF!=\"\",\"\",#REF!)","v":{"$error":"#REF!"}},null,0,0,null,null,null,null,null,null,null,null,null,null,null,null,null,null,null,null,null,null,null,null,null,null,null,null,null,null,null,null,null,{"$error":"#REF!"},null,{"$f":"IF(#REF!=\"\",\"\",#REF!)","v":{"$error":"#REF!"}},null,0,0,null,null,null,null,null,null,null,null,null,null,null,null,null,null,null,null,null,null,null,null,null,null,null,null,null,null,null,null,null,{"$error":"#REF!"},null,{"$f":"IF(#REF!=\"\",\"\",#REF!)","v":{"$error":"#REF!"}},null,0,0,null,null,null,null,null,null,null,null,null,null,null,null,null,null,null,null,null,null,null,null,null,null,null,null,null,null,null,null,null,{"$error":"#REF!"},null,{"$f":"IF(#REF!=\"\",\"\",#REF!)","v":{"$error":"#REF!"}},null,0,0,null,null,null,null,null,null,null,null,null,null,null,null,null,null,null,null,null,null,null,null,null,null,null,null,null,null,null,null,null,{"$error":"#REF!"},null,{"$f":"IF(#REF!=\"\",\"\",#REF!)","v":{"$error":"#REF!"}},null,0,1,null,null,null,null,null,null,null,null,null,null,null,null,null,null,null,"x",null,null,null,null,null,null,null,null,null,null,null,null,null,{"$f":"IF(HO49=\"\",\"\",MO50)","v":{"$error":"#REF!"}},null,{"$f":"IF(#REF!=\"\",\"\",#REF!)","v":{"$error":"#REF!"}},null,0,0,null,null,null,null,null,null,null,null,null,null,null,null,null,null,null,null,null,null,null,null,null,null,null,null,null,null,null,null,null,{"$error":"#REF!"},null,{"$f":"IF(#REF!=\"\",\"\",#REF!)","v":{"$error":"#REF!"}},null,0,0,null,null,null,null,null,null,null,null,null,null,null,null,null,null,null,null,null,null,null,null,null,null,null,null,null,null,null,null,null,"",null,{"$f":"IF(Hoja9!D58=\"\",\"\",Hoja9!D58)","v":""},null,0,0,null,null,null,null,null,null,null,null,null,null,null,null,null,null,null,null,null,null,null,null,null,null,null,null,null,null,null,null,null,null,null,null,null,null,null,null,null,null,null,null,null,null,null,null,null,null,null,null,null,null,null,null,null,null,null,null,37,null,null,null,null,null,null,null,null,18,"",null,null,null,null,null,null,"",null,null,null,null,null,null,null,null,null,null,"",null,null,null,null,null,null,"",null,null,null,null,null,null,null,null,null,null,null,null,null,null,null,null,null,"",null,null,null,null,null,null,null,null,null,null,"",null,null,null,null,null,null,"",null,null,null,null,null,null,null,null,null,null,"",null,null,null,null,null,null,"",null,null,null,null,null,null,null,null,null,null,"",null,null,null,null,null,null,"",null,null,null,null,null,null,null,null,null,null,"",null,null,null,null,null,null,"",null,null,null,null,null,null,null,null,null,null,"",null,null,null,null,null,null,"",null,null,null,null,null,null,null,null,null,null,"",null,null,null,null,null,null,""]
[null,null,null,null,null,null,null,null,null,null,{"$error":"#REF!"},null,{"$f":"IF(#REF!=\"\",\"\",#REF!)","v":{"$error":"#REF!"}},null,0,0,null,null,null,null,null,null,null,null,null,null,null,null,null,null,null,null,null,null,null,null,null,null,null,null,null,null,null,null,null,{"$error":"#REF!"},null,{"$f":"IF(#REF!=\"\",\"\",#REF!)","v":{"$error":"#REF!"}},null,0,0,null,null,null,null,null,null,null,null,null,null,null,null,null,null,null,null,null,null,null,null,null,null,null,null,null,null,null,null,null,{"$error":"#REF!"},null,{"$f":"IF(#REF!=\"\",\"\",#REF!)","v":{"$error":"#REF!"}},null,0,0,null,null,null,null,null,null,null,null,null,null,null,null,null,null,null,null,null,null,null,null,null,null,null,null,null,null,null,null,null,{"$error":"#REF!"},null,{"$f":"IF(#REF!=\"\",\"\",#REF!)","v":{"$error":"#REF!"}},null,0,0,null,null,null,null,null,null,null,null,null,null,null,null,null,null,null,null,null,null,null,null,null,null,null,null,null,null,null,null,null,{"$error":"#REF!"},null,{"$f":"IF(#REF!=\"\",\"\",#REF!)","v":{"$error":"#REF!"}},null,0,0,null,null,null,null,null,null,null,null,null,null,null,null,null,null,null,null,null,null,null,null,null,null,null,null,null,null,null,null,null,{"$error":"#REF!"},null,{"$f":"IF(#REF!=\"\",\"\",#REF!)","v":{"$error":"#REF!"}},null,0,0,null,null,null,null,null,null,null,null,null,null,null,null,null,null,null,null,null,null,null,null,null,null,null,null,null,null,null,null,null,{"$error":"#REF!"},null,{"$f":"IF(#REF!=\"\",\"\",#REF!)","v":{"$error":"#REF!"}},null,0,0,null,null,null,null,null,null,null,null,null,null,null,null,null,null,null,null,null,null,null,null,null,null,null,null,null,null,null,null,null,{"$error":"#REF!"},null,{"$f":"IF(#REF!=\"\",\"\",#REF!)","v":{"$error":"#REF!"}},null,0,0,null,null,null,null,null,null,null,null,null,null,null,null,null,null,null,null,null,null,null,null,null,null,null,null,null,null,null,null,null,"",null,{"$f":"IF(Hoja9!D59=\"\",\"\",Hoja9!D59)","v":""},null,0,0,null,null,null,null,null,null,null,null,null,null,null,null,null,null,null,null,null,null,null,null,null,null,null,null,null,null,null,null,null,null,null,null,null,null,null,null,null,null,null,null,null,null,null,null,null,null,null,null,null,null,null,null,null,null,null,null,38,null,null,null,null,null,null,null,null,19,"",null,null,null,null,null,null,"",null,null,null,null,null,null,null,null,null,null,"",null,null,null,null,null,null,"",null,null,null,null,null,null,null,null,null,null,null,null,null,null,null,null,null,"",null,null,null,null,null,null,null,null,null,null,"",null,null,null,null,null,null,"",null,null,null,null,null,null,null,null,null,null,"",null,null,null,null,null,null,"",null,null,null,null,null,null,null,null,null,null,"",null,null,null,null,null,null,"",null,null,null,null,null,null,null,null,null,null,"",null,null,null,null,null,null,"",null,null,null,null,null,null,null,null,null,null,"",null,null,null,null,null,null,"",null,null,null,null,null,null,null,null,null,null,"",null,null,null,null,null,null,""]
[null,null,null,null,null,null,null,null,null,null,{"$error":"#REF!"},null,{"$f":"IF(#REF!=\"\",\"\",#REF!)","v":{"$error":"#REF!"}},null,0,0,null,null,null,null,null,null,null,null,null,null,null,null,null,null,null,null,null,null,null,null,null,null,null,null,null,null,null,null,null,{"$error":"#REF!"},null,{"$f":"IF(#REF!=\"\",\"\",#REF!)","v":{"$error":"#REF!"}},null,0,0,null,null,null,null,null,null,null,null,null,null,null,null,null,null,null,null,null,null,null,null,null,null,null,null,null,null,null,null,null,{"$error":"#REF!"},null,{"$f":"IF(#REF!=\"\",\"\",#REF!)","v":{"$error":"#REF!"}},null,0,0,null,null,null,null,null,null,null,null,null,null,null,null,null,null,null,null,null,null,null,null,null,null,null,null,null,null,null,null,null,{"$error":"#REF!"},null,{"$f":"IF(#REF!=\"\",\"\",#REF!)","v":{"$error":"#REF!"}},null,0,0,null,null,null,null,null,null,null,null,null,null,null,null,null,null,null,null,null,null,null,null,null,null,null,null,null,null,null,null,null,{"$error":"#REF!"},null,{"$f":"IF(#REF!=\"\",\"\",#REF!)","v":{"$error":"#REF!"}},null,0,0,null,null,null,null,null,null,null,null,null,null,null,null,null,null,null,null,null,null,null,null,null,null,null,null,null,null,null,null,null,{"$error":"#REF!"},null,{"$f":"IF(#REF!=\"\",\"\",#REF!)","v":{"$error":"#REF!"}},null,0,0,null,null,null,null,null,null,null,null,null,null,null,null,null,null,null,null,null,null,null,null,null,null,null,null,null,null,null,null,null,{"$f":"IF(HO51=\"\",\"\",MO52)","v":{"$error":"#REF!"}},null,{"$f":"IF(#REF!=\"\",\"\",#REF!)","v":{"$error":"#REF!"}},null,0,0,null,null,null,null,null,null,null,null,null,null,null,null,null,null,null,null,null,null,null,null,null,null,null,null,null,null,null,null,null,{"$error":"#REF!"},null,{"$f":"IF(#REF!=\"\",\"\",#REF!)","v":{"$error":"#REF!"}},null,0,0,null,null,null,null,null,null,null,null,null,null,null,null,null,null,null,null,null,null,null,null,null,null,null,null,null,null,null,null,null,"",null,{"$f":"IF(Hoja9!D60=\"\",\"\",Hoja9!D60)","v":""},null,0,0,null,null,null,null,null,null,null,null,null,null,null,null,null,null,null,null,null,null,null,null,null,null,null,null,null,null,null,null,null,null,null,null,null,null,null,null,null,null,null,null,null,null,null,null,null,null,null,null,null,null,null,null,null,null,null,null,39,null,null,null,null,null,null,null,null,20,"",null,null,null,null,null,null,"",null,null,null,null,null,null,null,null,null,null,"",null,null,null,null,null,null,"",null,null,null,null,null,null,null,null,null,null,null,null,null,null,null,null,null,"",null,null,null,null,null,null,null,null,null,null,"",null,null,null,null,null,null,"",null,null,null,null,null,null,null,null,null,null,"",null,null,null,null,null,null,"",null,null,null,null,null,null,null,null,null,null,"",null,null,null,null,null,null,"",null,null,null,null,null,null,null,null,null,null,"",null,null,null,null,null,null,"",null,null,null,null,null,null,null,null,null,null,"",null,null,null,null,null,null,"",null,null,null,null,null,null,null,null,null,null,"",null,null,null,null,null,null,""]
[null,null,null,null,null,null,null,null,null,null,{"$error":"#REF!"},null,{"$f":"IF(#REF!=\"\",\"\",#REF!)","v":{"$error":"#REF!"}},null,0,0,null,null,null,null,null,null,null,null,null,null,null,null,null,null,null,null,null,null,null,null,null,null,null,null,null,null,null,null,null,{"$error":"#REF!"},null,{"$f":"IF(#REF!=\"\",\"\",#REF!)","v":{"$error":"#REF!"}},null,0,0,null,null,null,null,null,null,null,null,null,null,null,null,null,null,null,null,null,null,null,null,null,null,null,null,null,null,null,null,null,{"$error":"#REF!"},null,{"$f":"IF(#REF!=\"\",\"\",#REF!)","v":{"$error":"#REF!"}},null,0,0,null,null,null,null,null,null,null,null,null,null,null,null,null,null,null,null,null,null,null,null,null,null,null,null,null,null,null,null,null,{"$error":"#REF!"},null,{"$f":"IF(#REF!=\"\",\"\",#REF!)","v":{"$error":"#REF!"}},null,0,0,null,null,null,null,null,null,null,null,null,null,null,null,null,null,null,null,null,null,null,null,null,null,null,null,null,null,null,null,null,{"$error":"#REF!"},null,{"$f":"IF(#REF!=\"\",\"\",#REF!)","v":{"$error":"#REF!"}},null,0,0,null,null,null,null,null,null,null,null,null,null,null,null,null,null,null,null,null,null,null,null,null,null,null,null,null,null,null,null,null,{"$error":"#REF!"},null,{"$f":"IF(#REF!=\"\",\"\",#REF!)","v":{"$error":"#REF!"}},null,0,0,null,null,null,null,null,null,null,null,null,null,null,null,null,null,null,null,null,null,null,null,null,null,null,null,null,null,null,null,null,{"$error":"#REF!"},null,{"$f":"IF(#REF!=\"\",\"\",#REF!)","v":{"$error":"#REF!"}},null,0,0,null,null,null,null,null,null,null,null,null,null,null,null,null,null,null,null,null,null,null,null,null,null,null,null,null,null,null,null,null,{"$error":"#REF!"},null,{"$f":"IF(#REF!=\"\",\"\",#REF!)","v":{"$error":"#REF!"}},null,0,0,null,null,null,null,null,null,null,null,null,null,null,null,null,null,null,null,null,null,null,null,null,null,null,null,null,null,null,null,null,"",null,{"$f":"IF(Hoja9!D61=\"\",\"\",Hoja9!D61)","v":""},null,0,0,null,null,null,null,null,null,null,null,null,null,null,null,null,null,null,null,null,null,null,null,null,null,null,null,null,null,null,null,null,null,null,null,null,null,null,null,null,null,null,null,null,null,null,null,null,null,null,null,null,null,null,null,null,null,null,null,40,null,null,null,null,null,null,null,null,21,"",null,null,null,null,null,null,"",null,null,null,null,null,null,null,null,null,null,"",null,null,null,null,null,null,"",null,null,null,null,null,null,null,null,null,null,null,null,null,null,null,null,null,"",null,null,null,null,null,null,null,null,null,null,"",null,null,null,null,null,null,"",null,null,null,null,null,null,null,null,null,null,"",null,null,null,null,null,null,"",null,null,null,null,null,null,null,null,null,null,"",null,null,null,null,null,null,"",null,null,null,null,null,null,null,null,null,null,"",null,null,null,null,null,null,"",null,null,null,null,null,null,null,null,null,null,"",null,null,null,null,null,null,"",null,null,null,null,null,null,null,null,null,null,"",null,null,null,null,null,null,""]
[null,null,null,null,null,null,null,null,null,null,{"$error":"#REF!"},null,{"$f":"IF(#REF!=\"\",\"\",#REF!)","v":{"$error":"#REF!"}},null,0,0,null,null,null,null,null,null,null,null,null,null,null,null,null,null,null,null,null,null,null,null,null,null,null,null,null,null,null,null,null,{"$error":"#REF!"},null,{"$f":"IF(#REF!=\"\",\"\",#REF!)","v":{"$error":"#REF!"}},null,0,0,null,null,null,null,null,null,null,null,null,null,null,null,null,null,null,null,null,null,null,null,null,null,null,null,null,null,null,null,null,{"$error":"#REF!"},null,{"$f":"IF(#REF!=\"\",\"\",#REF!)","v":{"$error":"#REF!"}},null,0,0,null,null,null,null,null,null,null,null,null,null,null,null,null,null,null,null,null,null,null,null,null,null,null,null,null,null,null,null,null,{"$error":"#REF!"},null,{"$f":"IF(#REF!=\"\",\"\",#REF!)","v":{"$error":"#REF!"}},null,0,0,null,null,null,null,null,null,null,null,null,null,null,null,null,null,null,null,null,null,null,null,null,null,null,null,null,null,null,null,null,{"$error":"#REF!"},null,{"$f":"IF(#REF!=\"\",\"\",#REF!)","v":{"$error":"#REF!"}},null,0,0,null,null,null,null,null,null,null,null,null,null,null,null,null,null,null,null,null,null,null,null,null,null,null,null,null,null,null,null,null,{"$error":"#REF!"},null,{"$f":"IF(#REF!=\"\",\"\",#REF!)","v":{"$error":"#REF!"}},null,0,0,null,null,null,null,null,null,null,null,null,null,null,null,null,null,null,null,null,null,null,null,null,null,null,null,null,null,null,null,null,{"$f":"IF(HO53=\"\",\"\",MO54)","v":{"$error":"#REF!"}},null,{"$f":"IF(#REF!=\"\",\"\",#REF!)","v":{"$error":"#REF!"}},null,0,0,null,null,null,null,null,null,null,null,null,null,null,null,null,null,null,null,null,null,null,null,null,null,null,null,null,null,null,null,null,{"$error":"#REF!"},null,{"$f":"IF(#REF!=\"\",\"\",#REF!)","v":{"$error":"#REF!"}},null,0,0,null,null,null,null,null,null,null,null,null,null,null,null,null,null,null,null,null,null,null,null,null,null,null,null,null,null,null,null,null,"",null,{"$f":"IF(Hoja9!D62=\"\",\"\",Hoja9!D62)","v":""},null,0,0,null,null,null,null,null,null,null,null,null,null,null,null,null,null,null,null,null,null,null,null,null,null,null,null,null,null,null,null,null,null,null,null,null,null,null,null,null,null,null,null,null,null,null,null,null,null,null,null,null,null,null,null,null,null,null,null,41,null,null,null,null,null,null,null,null,22,"",null,null,null,null,null,null,"",null,null,null,null,null,null,null,null,null,null,"",null,null,null,null,null,null,"",null,null,null,null,null,null,null,null,null,null,null,null,null,null,null,null,null,"",null,null,null,null,null,null,null,null,null,null,"",null,null,null,null,null,null,"",null,null,null,null,null,null,null,null,null,null,"",null,null,null,null,null,null,"",null,null,null,null,null,null,null,null,null,null,"",null,null,null,null,null,null,"",null,null,null,null,null,null,null,null,null,null,"",null,null,null,null,null,null,"",null,null,null,null,null,null,null,null,null,null,"",null,null,null,null,null,null,"",null,null,null,null,null,null,null,null,null,null,"",null,null,null,null,null,null,""]
[null,null,null,null,null,null,null,null,null,null,{"$error":"#REF!"},null,{"$f":"IF(#REF!=\"\",\"\",#REF!)","v":{"$error":"#REF!"}},null,0,0,null,null,null,null,null,null,null,null,null,null,null,null,null,null,null,null,null,null,null,null,null,null,null,null,null,null,null,null,null,{"$error":"#REF!"},null,{"$f":"IF(#REF!=\"\",\"\",#REF!)","v":{"$error":"#REF!"}},null,0,0,null,null,null,null,null,null,null,null,null,null,null,null,null,null,null,null,null,null,null,null,null,null,null,null,null,null,null,null,null,{"$error":"#REF!"},null,{"$f":"IF(#REF!=\"\",\"\",#REF!)","v":{"$error":"#REF!"}},null,0,0,null,null,null,null,null,null,null,null,null,null,null,null,null,null,null,null,null,null,null,null,null,null,null,null,null,null,null,null,null,{"$error":"#REF!"},null,{"$f":"IF(#REF!=\"\",\"\",#REF!)","v":{"$error":"#REF!"}},null,0,0,null,null,null,null,null,null,null,null,null,null,null,null,null,null,null,null,null,null,null,null,null,null,null,null,null,null,null,null,null,{"$error":"#REF!"},null,{"$f":"IF(#REF!=\"\",\"\",#REF!)","v":{"$error":"#REF!"}},null,0,0,null,null,null,null,null,null,null,null,null,null,null,null,null,null,null,null,null,null,null,null,null,null,null,null,null,null,null,null,null,{"$error":"#REF!"},null,{"$f":"IF(#REF!=\"\",\"\",#REF!)","v":{"$error":"#REF!"}},null,0,0,null,null,null,null,null,null,null,null,null,null,null,null,null,null,null,null,null,null,null,null,null,null,null,null,null,null,null,null,null,{"$f":"IF(HO54=\"\",\"\",MO55)","v":{"$error":"#REF!"}},null,{"$f":"IF(#REF!=\"\",\"\",#REF!)","v":{"$error":"#REF!"}},null,0,0,null,null,null,null,null,null,null,null,null,null,null,null,null,null,null,null,null,null,null,null,null,null,null,null,null,null,null,null,null,{"$error":"#REF!"},null,{"$f":"IF(#REF!=\"\",\"\",#REF!)","v":{"$error":"#REF!"}},null,0,0,null,null,null,null,null,null,null,null,null,null,null,null,null,null,null,null,null,null,null,null,null,null,null,null,null,null,null,null,null,"",null,{"$f":"IF(Hoja9!D63=\"\",\"\",Hoja9!D63)","v":""},null,0,0,null,null,null,null,null,null,null,null,null,null,null,null,null,null,null,null,null,null,null,null,null,null,null,null,null,null,null,null,null,null,null,null,null,null,null,null,null,null,null,null,null,null,null,null,null,null,null,null,null,null,null,null,null,null,null,null,42,null,null,null,null,null,null,null,null,23,"",null,null,null,null,null,null,"",null,null,null,null,null,null,null,null,null,null,"",null,null,null,null,null,null,"",null,null,null,null,null,null,null,null,null,null,null,null,null,null,null,null,null,"",null,null,null,null,null,null,null,null,null,null,"",null,null,null,null,null,null,"",null,null,null,null,null,null,null,null,null,null,"",null,null,null,null,null,null,"",null,null,null,null,null,null,null,null,null,null,"",null,null,null,null,null,null,"",null,null,null,null,null,null,null,null,null,null,"",null,null,null,null,null,null,"",null,null,null,null,null,null,null,null,null,null,"",null,null,null,null,null,null,"",null,null,null,null,null,null,null,null,null,null,"",null,null,null,null,null,null,""]
[null,null,null,null,null,null,null,null,null,null,{"$error":"#REF!"},null,{"$f":"IF(#REF!=\"\",\"\",#REF!)","v":{"$error":"#REF!"}},null,null,null,null,null,null,null,null,null,null,null,null,null,null,null,null,null,null,null,null,null,null,null,null,null,null,null,null,null,null,null,null,{"$error":"#REF!"},null,{"$f":"IF(#REF!=\"\",\"\",#REF!)","v":{"$error":"#REF!"}},null,null,null,null,null,null,null,null,null,null,null,null,null,null,null,null,null,null,null,null,null,null,null,null,null,null,null,null,null,null,null,null,{"$error":"#REF!"},null,{"$f":"IF(#REF!=\"\",\"\",#REF!)","v":{"$error":"#REF!"}},null,null,null,null,null,null,null,null,null,null,null,null,null,null,null,null,null,null,null,null,null,null,null,null,null,null,null,null,null,null,null,null,{"$error":"#REF!"},null,{"$f":"IF(#REF!=\"\",\"\",#REF!)","v":{"$error":"#REF!"}},null,null,null,null,null,null,null,null,null,null,null,null,null,null,null,null,null,null,null,null,null,null,null,null,null,null,null,null,null,null,null,null,{"$error":"#REF!"},null,{"$f":"IF(#REF!=\"\",\"\",#REF!)","v":{"$error":"#REF!"}},null,null,null,null,null,null,null,null,null,null,null,null,null,null,null,null,null,null,null,null,null,null,null,null,null,null,null,null,null,null,null,null,{"$error":"#REF!"},null,{"$f":"IF(#REF!=\"\",\"\",#REF!)","v":{"$error":"#REF!"}},null,null,null,null,null,null,null,null,null,null,null,null,null,null,null,null,null,null,null,null,null,null,null,null,null,null,null,null,null,null,null,null,{"$error":"#REF!"},null,{"$f":"IF(#REF!=\"\",\"\",#REF!)","v":{"$error":"#REF!"}},null,null,null,null,null,null,null,null,null,null,null,null,null,null,null,null,null,null,null,null,null,null,null,null,null,null,null,null,null,null,null,null,{"$error":"#REF!"},null,{"$f":"IF(#REF!=\"\",\"\",#REF!)","v":{"$error":"#REF!"}},null,null,null,null,null,null,null,null,null,null,null,null,null,null,null,null,null,null,null,null,null,null,null,null,null,null,null,null,null,null,null,null,"",null,{"$f":"IF(Hoja9!D64=\"\",\"\",Hoja9!D64)","v":""},null,null,null,null,null,null,null,null,null,null,null,null,null,null,null,null,null,null,null,null,null,null,null,null,null,null,null,null,null,null,null,null,null,null,null,null,null,null,null,null,null,null,null,null,null,null,null,null,null,null,null,null,null,null,null,null,null,null,null,43]
[null,null,null,null,null,null,null,null,null,null,{"$error":"#REF!"},null,{"$f":"IF(#REF!=\"\",\"\",#REF!)","v":{"$error":"#REF!"}},null,null,null,null,null,null,null,null,null,null,null,null,null,null,null,null,null,null,null,null,null,null,null,null,null,null,null,null,null,null,null,null,{"$error":"#REF!"},null,{"$f":"IF(#REF!=\"\",\"\",#REF!)","v":{"$error":"#REF!"}},null,null,null,null,null,null,null,null,null,null,null,null,null,null,null,null,null,null,null,null,null,null,null,null,null,null,null,null,null,null,null,null,{"$error":"#REF!"},null,{"$f":"IF(#REF!=\"\",\"\",#REF!)","v":{"$error":"#REF!"}},null,null,null,null,null,null,null,null,null,null,null,null,null,null,null,null,null,null,null,null,null,null,null,null,null,null,null,null,null,null,null,null,{"$error":"#REF!"},null,{"$f":"IF(#REF!=\"\",\"\",#REF!)","v":{"$error":"#REF!"}},null,null,null,null,null,null,null,null,null,null,null,null,null,null,null,null,null,null,null,null,null,null,null,null,null,null,null,null,null,null,null,null,{"$error":"#REF!"},null,{"$f":"IF(#REF!=\"\",\"\",#REF!)","v":{"$error":"#REF!"}},null,null,null,null,null,null,null,null,null,null,null,null,null,null,null,null,null,null,null,null,null,null,null,null,null,null,null,null,null,null,null,null,{"$error":"#REF!"},null,{"$f":"IF(#REF!=\"\",\"\",#REF!)","v":{"$error":"#REF!"}},null,null,null,null,null,null,null,null,null,null,null,null,null,null,null,null,null,null,null,null,null,null,null,null,null,null,null,null,null,null,null,null,{"$error":"#REF!"},null,{"$f":"IF(#REF!=\"\",\"\",#REF!)","v":{"$error":"#REF!"}},null,null,null,null,null,null,null,null,null,null,null,null,null,null,null,null,null,null,null,null,null,null,null,null,null,null,null,null,null,null,null,null,{"$error":"#REF!"},null,{"$f":"IF(#REF!=\"\",\"\",#REF!)","v":{"$error":"#REF!"}},null,null,null,null,null,null,null,null,null,null,null,null,null,null,null,null,null,null,null,null,null,null,null,null,null,null,null,null,null,null,null,null,"",null,{"$f":"IF(Hoja9!D65=\"\",\"\",Hoja9!D65)","v":""},null,null,null,null,null,null,null,null,null,null,null,null,null,null,null,null,null,null,null,null,null,null,null,null,null,null,null,null,null,null,null,null,null,null,null,null,null,null,null,null,null,null,null,null,null,null,null,null,null,null,null,null,null,null,null,null,null,null,null,44]
[null,null,null,null,null,null,null,null,null,null,{"$error":"#REF!"},null,{"$f":"IF(#REF!=\"\",\"\",#REF!)","v":{"$error":"#REF!"}},null,null,null,null,null,null,null,null,null,null,null,null,null,null,null,null,null,null,null,null,null,null,null,null,null,null,null,null,null,null,null,null,{"$error":"#REF!"},null,{"$f":"IF(#REF!=\"\",\"\",#REF!)","v":{"$error":"#REF!"}},null,null,null,null,null,null,null,null,null,null,null,null,null,null,null,null,null,null,null,null,null,null,null,null,null,null,null,null,null,null,null,null,{"$error":"#REF!"},null,{"$f":"IF(#REF!=\"\",\"\",#REF!)","v":{"$error":"#REF!"}},null,null,null,null,null,null,null,null,null,null,null,null,null,null,null,null,null,null,null,null,null,null,null,null,null,null,null,null,null,null,null,null,{"$error":"#REF!"},null,{"$f":"IF(#REF!=\"\",\"\",#REF!)","v":{"$error":"#REF!"}},null,null,null,null,null,null,null,null,null,null,null,null,null,null,null,null,null,null,null,null,null,null,null,null,null,null,null,null,null,null,null,null,{"$error":"#REF!"},null,{"$f":"IF(#REF!=\"\",\"\",#REF!)","v":{"$error":"#REF!"}},null,null,null,null,null,null,null,null,null,null,null,null,null,null,null,null,null,null,null,null,null,null,null,null,null,null,null,null,null,null,null,null,{"$error":"#REF!"},null,{"$f":"IF(#REF!=\"\",\"\",#REF!)","v":{"$error":"#REF!"}},null,null,null,null,null,null,null,null,null,null,null,null,null,null,null,null,null,null,null,null,null,null,null,null,null,null,null,null,null,null,null,null,{"$f":"IF(HO57=\"\",\"\",MO58)","v":{"$error":"#REF!"}},null,{"$f":"IF(#REF!=\"\",\"\",#REF!)","v":{"$error":"#REF!"}},null,null,null,null,null,null,null,null,null,null,null,null,null,null,null,null,null,null,null,null,null,null,null,null,null,null,null,null,null,null,null,null,{"$error":"#REF!"},null,{"$f":"IF(#REF!=\"\",\"\",#REF!)","v":{"$error":"#REF!"}},null,null,null,null,null,null,null,null,null,null,null,null,null,null,null,null,null,null,null,null,null,null,null,null,null,null,null,null,null,null,null,null,"",null,{"$f":"IF(Hoja9!D66=\"\",\"\",Hoja9!D66)","v":""},null,null,null,null,null,null,null,null,null,null,null,null,null,null,null,null,null,null,null,null,null,null,null,null,null,null,null,null,null,null,null,null,null,null,null,null,null,null,null,null,null,null,null,null,null,null,null,null,null,null,null,null,null,null,null,null,null,null,null,45]
[null,null,null,null,null,null,null,null,null,null,{"$error":"#REF!"},null,{"$f":"IF(#REF!=\"\",\"\",#REF!)","v":{"$error":"#REF!"}},null,0,0,null,null,null,null,null,null,null,null,null,null,null,null,null,null,null,null,null,null,null,null,null,null,null,null,null,null,null,null,null,{"$error":"#REF!"},null,{"$f":"IF(#REF!=\"\",\"\",#REF!)","v":{"$error":"#REF!"}},null,0,0,null,null,null,null,null,null,null,null,null,null,null,null,null,null,null,null,null,null,null,null,null,null,null,null,null,null,null,null,null,{"$error":"#REF!"},null,{"$f":"IF(#REF!=\"\",\"\",#REF!)","v":{"$error":"#REF!"}},null,0,0,null,null,null,null,null,null,null,null,null,null,null,null,null,null,null,null,null,null,null,null,null,null,null,null,null,null,null,null,null,{"$error":"#REF!"},null,{"$f":"IF(#REF!=\"\",\"\",#REF!)","v":{"$error":"#REF!"}},null,0,0,null,null,null,null,null,null,null,null,null,null,null,null,null,null,null,null,null,null,null,null,null,null,null,null,null,null,null,null,null,{"$error":"#REF!"},null,{"$f":"IF(#REF!=\"\",\"\",#REF!)","v":{"$error":"#REF!"}},null,0,0,null,null,null,null,null,null,null,null,null,null,null,null,null,null,null,null,null,null,null,null,null,null,null,null,null,null,null,null,null,{"$error":"#REF!"},null,{"$f":"IF(#REF!=\"\",\"\",#REF!)","v":{"$error":"#REF!"}},null,0,0,null,null,null,null,null,null,null,null,null,null,null,null,null,null,null,null,null,null,null,null,null,null,null,null,null,null,null,null,null,{"$error":"#REF!"},null,{"$f":"IF(#REF!=\"\",\"\",#REF!)","v":{"$error":"#REF!"}},null,0,0,null,null,null,null,null,null,null,null,null,null,null,null,null,null,null,null,null,null,null,null,null,null,null,null,null,null,null,null,null,{"$error":"#REF!"},null,{"$f":"IF(#REF!=\"\",\"\",#REF!)","v":{"$error":"#REF!"}},null,0,0,null,null,null,null,null,null,null,null,null,null,null,null,null,null,null,null,null,null,null,null,null,null,null,null,null,null,null,null,null,"",null,{"$f":"IF(Hoja9!D67=\"\",\"\",Hoja9!D67)","v":""},null,0,0,null,null,null,null,null,null,null,null,null,null,null,null,null,null,null,null,null,null,null,null,null,null,null,null,null,null,null,null,null,null,null,null,null,null,null,null,null,null,null,null,null,null,null,null,null,null,null,null,null,null,null,null,null,null,null,null,46,null,null,null,null,null,null,null,null,24,"",null,null,null,null,null,null,"",null,null,null,null,null,null,null,null,null,null,"",null,null,null,null,null,null,"",null,null,null,null,null,null,null,null,null,null,null,null,null,null,null,null,null,"",null,null,null,null,null,null,null,null,null,null,"",null,null,null,null,null,null,"",null,null,null,null,null,null,null,null,null,null,"",null,null,null,null,null,null,"",null,null,null,null,null,null,null,null,null,null,"",null,null,null,null,null,null,"",null,null,null,null,null,null,null,null,null,null,"",null,null,null,null,null,null,"",null,null,null,null,null,null,null,null,null,null,"",null,null,null,null,null,null,"",null,null,null,null,null,null,null,null,null,null,"",null,null,null,null,null,null,""]
[null,null,null,null,null,null,null,null,null,null,{"$error":"#REF!"},null,{"$f":"IF(#REF!=\"\",\"\",#REF!)","v":{"$error":"#REF!"}},null,{"$f":"COUNTIF(R59:AP59,\"R\")-COUNTIF(R59:AP59,\"=0\")","v":0},0,null,null,null,null,null,null,null,null,null,null,null,null,null,null,null,null,null,null,null,null,null,null,null,null,null,null,null,null,null,{"$error":"#REF!"},null,{"$f":"IF(#REF!=\"\",\"\",#REF!)","v":{"$error":"#REF!"}},null,{"$f":"COUNTIF(BA59:BY59,\"R\")-COUNTIF(BA59:BY59,\"=0\")","v":0},0,null,null,null,null,null,null,null,null,null,null,null,null,null,null,null,null,null,null,null,null,null,null,null,null,null,null,null,null,null,{"$error":"#REF!"},null,{"$f":"IF(#REF!=\"\",\"\",#REF!)","v":{"$error":"#REF!"}},null,{"$f":"COUNTIF(CJ59:DH59,\"R\")-COUNTIF(CJ59:DH59,\"=0\")","v":0},0,null,null,null,null,null,null,null,null,null,null,null,null,null,null,null,null,null,null,null,null,null,null,null,null,null,null,null,null,null,{"$error":"#REF!"},null,{"$f":"IF(#REF!=\"\",\"\",#REF!)","v":{"$error":"#REF!"}},null,{"$f":"COUNTIF(DS59:EQ59,\"R\")-COUNTIF(DS59:EQ59,\"=0\")","v":0},0,null,null,null,null,null,null,null,null,null,null,null,null,null,null,null,null,null,null,null,null,null,null,null,null,null,null,null,null,null,{"$error":"#REF!"},null,{"$f":"IF(#REF!=\"\",\"\",#REF!)","v":{"$error":"#REF!"}},null,{"$f":"COUNTIF(FB59:FZ59,\"R\")-COUNTIF(FB59:FZ59,\"=0\")","v":0},0,null,null,null,null,null,null,null,null,null,null,null,null,null,null,null,null,null,null,null,null,null,null,null,null,null,null,null,null,null,{"$error":"#REF!"},null,{"$f":"IF(#REF!=\"\",\"\",#REF!)","v":{"$error":"#REF!"}},null,{"$f":"COUNTIF(GK59:HI59,\"R\")-COUNTIF(GK59:HI59,\"=0\")","v":0},0,null,null,null,null,null,null,null,null,null,null,null,null,null,null,null,null,null,null,null,null,null,null,null,null,null,null,null,null,null,{"$error":"#REF!"},null,{"$f":"IF(#REF!=\"\",\"\",#REF!)","v":{"$error":"#REF!"}},null,{"$f":"COUNTIF(HT59:IR59,\"R\")-COUNTIF(HT59:IR59,\"=0\")","v":0},0,null,null,null,null,null,null,null,null,null,null,null,null,null,null,null,null,null,null,null,null,null,null,null,null,null,null,null,null,null,{"$error":"#REF!"},null,{"$f":"IF(#REF!=\"\",\"\",#REF!)","v":{"$error":"#REF!"}},null,{"$f":"COUNTIF(JC59:KA59,\"R\")-COUNTIF(JC59:KA59,\"=0\")","v":0},0,null,null,null,null,null,null,null,null,null,null,null,null,null,null,null,null,null,null,null,null,null,null,null,null,null,null,null,null,null,"",null,{"$f":"IF(Hoja9!D68=\"\",\"\",Hoja9!D68)","v":""},null,{"$f":"COUNTIF(KL59:LJ59,\"R\")-COUNTIF(KL59:LJ59,\"=0\")","v":0},0,null,null,null,null,null,null,null,null,null,null,null,null,null,null,null,null,null,null,null,null,null,null,null,null,null,null,null,null,null,null,null,null,null,null,null,null,null,null,null,null,null,null,null,null,null,null,null,null,null,null,null,null,null,null,null,null,47,null,null,null,null,null,null,null,null,25,"",null,null,null,null,null,null,"",null,null,null,null,null,null,null,null,null,null,"",null,null,null,null,null,null,"",null,null,null,null,null,null,null,null,null,null,null,null,null,null,null,null,null,"",null,null,null,null,null,null,null,null,null,null,"",null,null,null,null,null,null,"",null,null,null,null,null,null,null,null,null,null,"",null,null,null,null,null,null,"",null,null,null,null,null,null,null,null,null,null,"",null,null,null,null,null,null,"",null,null,null,null,null,null,null,null,null,null,"",null,null,null,null,null,null,"",null,null,null,null,null,null,null,null,null,null,"",null,null,null,null,null,null,"",null,null,null,null,null,null,null,null,null,null,"",null,null,null,null,null,null,""]
[null,null,null,null,null,null,null,null,null,null,null,null,null,null,null,null,null,null,null,null,null,null,null,null,null,null,null,null,null,null,null,null,null,null,null,null,null,null,null,null,null,null,null,null,null,null,null,null,null,null,null,null,null,null,null,null,null,null,null,null,null,null,null,null,null,null,null,null,null,null,null,null,null,null,null,null,null,null,null,null,null,null,null,null,null,null,null,null,null,null,null,null,null,null,null,null,null,null,null,null,null,null,null,null,null,null,null,null,null,null,null,null,null,null,null,null,null,null,null,null,null,null,null,null,null,null,null,null,null,null,null,null,null,null,null,null,null,null,null,null,null,null,null,null,null,null,null,null,null,null,null,null,null,null,null,null,null,null,null,null,null,null,null,null,null,null,null,null,null,null,null,null,null,null,null,null,null,null,null,null,null,null,null,null,null,null,null,null,null,null,null,null,null,null,null,null,null,null,null,null,null,null,null,null,null,null,null,null,null,null,null,null,null,null,null,null,null,null,null,null,null,null,null,null,null,null,null,null,null,null,null,null,null,null,null,null,null,null,null,null,null,null,null,null,null,null,null,null,null,null,null,null,null,null,null,null,null,null,null,null,null,null,null,null,null,null,null,null,null,null,null,null,null,null,null,null,null,null,null,null,null,null,null,null,null,null,null,null,null,null,null,null,null,null,null,null,null,null,null,null,null,null,null,null,null,null,null,null,null,null,null,null,null,null,null,null,null,null,null,null,null,null,null,null,null,null,null,null,null,null,null,null,null,null,null,null,null,null,null,null,null,null,null,null,null,null,null,null,null,null,null,null,48,null,null,null,null,null,null,null,null,26,"",null,null,null,null,null,null,"",null,null,null,null,null,null,null,null,null,null,"",null,null,null,null,null,null,"",null,null,null,null,null,null,null,null,null,null,null,null,null,null,null,null,null,"",null,null,null,null,null,null,null,null,null,null,"",null,null,null,null,null,null,"",null,null,null,null,null,null,null,null,null,null,"",null,null,null,null,null,null,"",null,null,null,null,null,null,null,null,null,null,"",null,null,null,null,null,null,"",null,null,null,null,null,null,null,null,null,null,"",null,null,null,null,null,null,"",null,null,null,null,null,null,null,null,null,null,"",null,null,null,null,null,null,"",null,null,null,null,null,null,null,null,null,null,"",null,null,null,null,null,null,""]
[null,null,null,null,null,null,null,null,null,null,null,null,null,null,null,null,null,null,null,null,null,null,null,null,null,null,null,null,null,null,null,null,null,null,null,null,null,null,null,null,null,null,null,null,null,null,null,null,null,null,null,null,null,null,null,null,null,null,null,null,null,null,null,null,null,null,null,null,null,null,null,null,null,null,null,null,null,null,null,null,null,null,null,null,null,null,null,null,null,null,null,null,null,null,null,null,null,null,null,null,null,null,null,null,null,null,null,null,null,null,null,null,null,null,null,null,null,null,null,null,null,null,null,null,null,null,null,null,null,null,null,null,null,null,null,null,null,null,null,null,null,null,null,null,null,null,null,null,null,null,null,null,null,null,null,null,null,null,null,null,null,null,null,null,null,null,null,null,null,null,null,null,null,null,null,null,null,null,null,null,null,null,null,null,null,null,null,null,null,null,null,null,null,null,null,null,null,null,null,null,null,null,null,null,null,null,null,null,null,null,null,null,null,null,null,null,null,null,null,null,null,null,null,null,null,null,null,null,null,null,null,null,null,null,null,null,null,null,null,null,null,null,null,null,null,null,null,null,null,null,null,null,null,null,null,null,null,null,null,null,null,null,null,null,null,null,null,null,null,null,null,null,null,null,null,null,null,null,null,null,null,null,null,null,null,null,null,null,null,null,null,null,null,null,null,null,null,null,null,null,null,null,null,null,null,null,null,null,null,null,null,null,null,null,null,null,null,null,null,null,null,null,null,null,null,null,null,null,null,null,null,null,null,null,null,null,null,null,null,null,null,null,null,null,null,null,null,null,null,null,null,null,49,null,null,null,null,null,null,null,null,27,"",null,null,null,null,null,null,"",null,null,null,null,null,null,null,null,null,null,"",null,null,null,null,null,null,"",null,null,null,null,null,null,null,null,null,null,null,null,null,null,null,null,null,"",null,null,null,null,null,null,null,null,null,null,"",null,null,null,null,null,null,"",null,null,null,null,null,null,null,null,null,null,"",null,null,null,null,null,null,"",null,null,null,null,null,null,null,null,null,null,"",null,null,null,null,null,null,"",null,null,null,null,null,null,null,null,null,null,"",null,null,null,null,null,null,"",null,null,null,null,null,null,null,null,null,null,"",null,null,null,null,null,null,"",null,null,null,null,null,null,null,null,null,null,"",null,null,null,null,null,null,""]
[null,null,null,null,null,null,null,null,null,null,null,null,null,null,null,null,null,null,null,null,null,null,null,null,null,null,null,null,null,null,null,null,null,null,null,null,null,null,null,null,null,null,null,null,null,null,null,null,null,null,null,null,null,null,null,null,null,null,null,null,null,null,null,null,null,null,null,null,null,null,null,null,null,null,null,null,null,null,null,null,null,null,null,null,null,null,null,null,null,null,null,null,null,null,null,null,null,null,null,null,null,null,null,null,null,null,null,null,null,null,null,null,null,null,null,null,null,null,null,null,null,null,null,null,null,null,null,null,null,null,null,null,null,null,null,null,null,null,null,null,null,null,null,null,null,null,null,null,null,null,null,null,null,null,null,null,null,null,null,null,null,null,null,null,null,null,null,null,null,null,null,null,null,null,null,null,null,null,null,null,null,null,null,null,null,null,null,null,null,null,null,null,null,null,null,null,null,null,null,null,null,null,null,null,null,null,null,null,null,null,null,null,null,null,null,null,null,null,null,null,null,null,null,null,null,null,null,null,null,null,null,null,null,null,null,null,null,null,null,null,null,null,null,null,null,null,null,null,null,null,null,null,null,null,null,null,null,null,null,null,null,null,null,null,null,null,null,null,null,null,null,null,null,null,null,null,null,null,null,null,null,null,null,null,null,null,null,null,null,null,null,null,null,null,null,null,null,null,null,null,null,null,null,null,null,null,null,null,null,null,null,null,null,null,null,null,null,null,null,null,null,null,null,null,null,null,null,null,null,null,null,null,null,null,null,null,null,null,null,null,null,null,null,null,null,null,null,null,null,null,null,null,50,null,null,null,null,null,null,null,null,28,"",null,null,null,null,null,null,"",null,null,null,null,null,null,null,null,null,null,"",null,null,null,null,null,null,"",null,null,null,null,null,null,null,null,null,null,null,null,null,null,null,null,null,"",null,null,null,null,null,null,null,null,null,null,"",null,null,null,null,null,null,"",null,null,null,null,null,null,null,null,null,null,"",null,null,null,null,null,null,"",null,null,null,null,null,null,null,null,null,null,"",null,null,null,null,null,null,"",null,null,null,null,null,null,null,null,null,null,"",null,null,null,null,null,null,"",null,null,null,null,null,null,null,null,null,null,"",null,null,null,null,null,null,"",null,null,null,null,null,null,null,null,null,null,"",null,null,null,null,null,null,""]
[null,null,null,null,null,null,null,null,null,null,null,null,null,null,null,null,null,null,null,null,null,null,null,null,null,null,null,null,null,null,null,null,null,null,null,null,null,null,null,null,null,null,null,null,null,null,null,null,null,null,null,null,null,null,null,null,null,null,null,null,null,null,null,null,null,null,null,null,null,null,null,null,null,null,null,null,null,null,null,null,null,null,null,null,null,null,null,null,null,null,null,null,null,null,null,null,null,null,null,null,null,null,null,null,null,null,null,null,null,null,null,null,null,null,null,null,null,null,null,null,null,null,null,null,null,null,null,null,null,null,null,null,null,null,null,null,null,null,null,null,null,null,null,null,null,null,null,null,null,null,null,null,null,null,null,null,null,null,null,null,null,null,null,null,null,null,null,null,null,null,null,null,null,null,null,null,null,null,null,null,null,null,null,null,null,null,null,null,null,null,null,null,null,null,null,null,null,null,null,null,null,null,null,null,null,null,null,null,null,null,null,null,null,null,null,null,null,null,null,null,null,null,null,null,null,null,null,null,null,null,null,null,null,null,null,null,null,null,null,null,null,null,null,null,null,null,null,null,null,null,null,null,null,null,null,null,null,null,null,null,null,null,null,null,null,null,null,null,null,null,null,null,null,null,null,null,null,null,null,null,null,null,null,null,null,null,null,null,null,null,null,null,null,null,null,null,null,null,null,null,null,null,null,null,null,null,null,null,null,null,null,null,null,null,null,null,null,null,null,null,null,null,null,null,null,null,null,null,null,null,null,null,null,null,null,null,null,null,null,null,null,null,null,null,null,null,null,null,null,null,null,null,null,null,null,null,null,null,null,null,null,29,"",null,null,null,null,null,null,"",null,null,null,null,null,null,null,null,null,null,"",null,null,null,null,null,null,"",null,null,null,null,null,null,null,null,null,null,null,null,null,null,null,null,null,"",null,null,null,null,null,null,null,null,null,null,"",null,null,null,null,null,null,"",null,null,null,null,null,null,null,null,null,null,"",null,null,null,null,null,null,"",null,null,null,null,null,null,null,null,null,null,"",null,null,null,null,null,null,"",null,null,null,null,null,null,null,null,null,null,"",null,null,null,null,null,null,"",null,null,null,null,null,null,null,null,null,null,"",null,null,null,null,null,null,"",null,null,null,null,null,null,null,null,null,null,"",null,null,null,null,null,null,""]
[null,null,null,null,null,null,null,null,null,null,null,null,null,null,null,null,null,null,null,null,null,null,null,null,null,null,null,null,null,null,null,null,null,null,null,null,null,null,null,null,null,null,null,null,null,null,null,null,null,null,null,null,null,null,null,null,null,null,null,null,null,null,null,null,null,null,null,null,null,null,null,null,null,null,null,null,null,null,null,null,null,null,null,null,null,null,null,null,null,null,null,null,null,null,null,null,null,null,null,null,null,null,null,null,null,null,null,null,null,null,null,null,null,null,null,null,null,null,null,null,null,null,null,null,null,null,null,null,null,null,null,null,null,null,null,null,null,null,null,null,null,null,null,null,null,null,null,null,null,null,null,null,null,null,null,null,null,null,null,null,null,null,null,null,null,null,null,null,null,null,null,null,null,null,null,null,null,null,null,null,null,null,null,null,null,null,null,null,null,null,null,null,null,null,null,null,null,null,null,null,null,null,null,null,null,null,null,null,null,null,null,null,null,null,null,null,null,null,null,null,null,null,null,null,null,null,null,null,null,null,null,null,null,null,null,null,null,null,null,null,null,null,null,null,null,null,null,null,null,null,null,null,null,null,null,null,null,null,null,null,null,null,null,null,null,null,null,null,null,null,null,null,null,null,null,null,null,null,null,null,null,null,null,null,null,null,null,null,null,null,null,null,null,null,null,null,null,null,null,null,null,null,null,null,null,null,null,null,null,null,null,null,null,null,null,null,null,null,null,null,null,null,null,null,null,null,null,null,null,null,null,null,null,null,null,null,null,null,null,null,null,null,null,null,null,null,null,null,null,null,null,null,null,null,null,null,null,null,null,null,null,30,"",null,null,null,null,null,null,"",null,null,null,null,null,null,null,null,null,null,"",null,null,null,null,null,null,"",null,null,null,null,null,null,null,null,null,null,null,null,null,null,null,null,null,"",null,null,null,null,null,null,null,null,null,null,"",null,null,null,null,null,null,"",null,null,null,null,null,null,null,null,null,null,"",null,null,null,null,null,null,"",null,null,null,null,null,null,null,null,null,null,"",null,null,null,null,null,null,"",null,null,null,null,null,null,null,null,null,null,"",null,null,null,null,null,null,"",null,null,null,null,null,null,null,null,null,null,"",null,null,null,null,null,null,"",null,null,null,null,null,null,null,null,null,null,"",null,null,null,null,null,null,""]
[null,null,null,null,null,null,null,null,null,null,null,null,null,null,null,null,null,null,null,null,null,null,null,null,null,null,null,null,null,null,null,null,null,null,null,null,null,null,null,null,null,null,null,null,null,null,null,null,null,null,null,null,null,null,null,null,null,null,null,null,null,null,null,null,null,null,null,null,null,null,null,null,null,null,null,null,null,null,null,null,null,null,null,null,null,null,null,null,null,null,null,null,null,null,null,null,null,null,null,null,null,null,null,null,null,null,null,null,null,null,null,null,null,null,null,null,null,null,null,null,null,null,null,null,null,null,null,null,null,null,null,null,null,null,null,null,null,null,null,null,null,null,null,null,null,null,null,null,null,null,null,null,null,null,null,null,null,null,null,null,null,null,null,null,null,null,null,null,null,null,null,null,null,null,null,null,null,null,null,null,null,null,null,null,null,null,null,null,null,null,null,null,null,null,null,null,null,null,null,null,null,null,null,null,null,null,null,null,null,null,null,null,null,null,null,null,null,null,null,null,null,null,null,null,null,null,null,null,null,null,null,null,null,null,null,null,null,null,null,null,null,null,null,null,null,null,null,null,null,null,null,null,null,null,null,null,null,null,null,null,null,null,null,null,null,null,null,null,null,null,null,null,null,null,null,null,null,null,null,null,null,null,null,null,null,null,null,null,null,null,null,null,null,null,null,null,null,null,null,null,null,null,null,null,null,null,null,null,null,null,null,null,null,null,null,null,null,null,null,null,null,null,null,null,null,null,null,null,null,null,null,null,null,null,null,null,null,null,null,null,null,null,null,null,null,null,null,null,null,null,null,null,null,null,null,null,null,null,null,null,null,31,"",null,null,null,null,null,null,"",null,null,null,null,null,null,null,null,null,null,"",null,null,null,null,null,null,"",null,null,null,null,null,null,null,null,null,null,null,null,null,null,null,null,null,"",null,null,null,null,null,null,null,null,null,null,"",null,null,null,null,null,null,"",null,null,null,null,null,null,null,null,null,null,"",null,null,null,null,null,null,"",null,null,null,null,null,null,null,null,null,null,"",null,null,null,null,null,null,"",null,null,null,null,null,null,null,null,null,null,"",null,null,null,null,null,null,"",null,null,null,null,null,null,null,null,null,null,"",null,null,null,null,null,null,"",null,null,null,null,null,null,null,null,null,null,"",null,null,null,null,null,null,""]
[null,null,null,null,null,null,null,null,null,null,null,null,null,null,null,null,null,null,null,null,null,null,null,null,null,null,null,null,null,null,null,null,null,null,null,null,null,null,null,null,null,null,null,null,null,null,null,null,null,null,null,null,null,null,null,null,null,null,null,null,null,null,null,null,null,null,null,null,null,null,null,null,null,null,null,null,null,null,null,null,null,null,null,null,null,null,null,null,null,null,null,null,null,null,null,null,null,null,null,null,null,null,null,null,null,null,null,null,null,null,null,null,null,null,null,null,null,null,null,null,null,null,null,null,null,null,null,null,null,null,null,null,null,null,null,null,null,null,null,null,null,null,null,null,null,null,null,null,null,null,null,null,null,null,null,null,null,null,null,null,null,null,null,null,null,null,null,null,null,null,null,null,null,null,null,null,null,null,null,null,null,null,null,null,null,null,null,null,null,null,null,null,null,null,null,null,null,null,null,null,null,null,null,null,null,null,null,null,null,null,null,null,null,null,null,null,null,null,null,null,null,null,null,null,null,null,null,null,null,null,null,null,null,null,null,null,null,null,null,null,null,null,null,null,null,null,null,null,null,null,null,null,null,null,null,null,null,null,null,null,null,null,null,null,null,null,null,null,null,null,null,null,null,null,null,null,null,null,null,null,null,null,null,null,null,null,null,null,null,null,null,null,null,null,null,null,null,null,null,null,null,null,null,null,null,null,null,null,null,null,null,null,null,null,null,null,null,null,null,null,null,null,null,null,null,null,null,null,null,null,null,null,null,null,null,null,null,null,null,null,null,null,null,null,null,null,null,null,null,null,null,null,null,null,null,null,null,null,null,null,null,32,"",null,null,null,null,null,null,"",null,null,null,null,null,null,null,null,null,null,"",null,null,null,null,null,null,"",null,null,null,null,null,null,null,null,null,null,null,null,null,null,null,null,null,"",null,null,null,null,null,null,null,null,null,null,"",null,null,null,null,null,null,"",null,null,null,null,null,null,null,null,null,null,"",null,null,null,null,null,null,"",null,null,null,null,null,null,null,null,null,null,"",null,null,null,null,null,null,"",null,null,null,null,null,null,null,null,null,null,"",null,null,null,null,null,null,"",null,null,null,null,null,null,null,null,null,null,"",null,null,null,null,null,null,"",null,null,null,null,null,null,null,null,null,null,"",null,null,null,null,null,null,""]
[null,null,null,null,null,null,null,null,null,null,null,null,null,null,null,null,null,null,null,null,null,null,null,null,null,null,null,null,null,null,null,null,null,null,null,null,null,null,null,null,null,null,null,null,null,null,null,null,null,null,null,null,null,null,null,null,null,null,null,null,null,null,null,null,null,null,null,null,null,null,null,null,null,null,null,null,null,null,null,null,null,null,null,null,null,null,null,null,null,null,null,null,null,null,null,null,null,null,null,null,null,null,null,null,null,null,null,null,null,null,null,null,null,null,null,null,null,null,null,null,null,null,null,null,null,null,null,null,null,null,null,null,null,null,null,null,null,null,null,null,null,null,null,null,null,null,null,null,null,null,null,null,null,null,null,null,null,null,null,null,null,null,null,null,null,null,null,null,null,null,null,null,null,null,null,null,null,null,null,null,null,null,null,null,null,null,null,null,null,null,null,null,null,null,null,null,null,null,null,null,null,null,null,null,null,null,null,null,null,null,null,null,null,null,null,null,null,null,null,null,null,null,null,null,null,null,null,null,null,null,null,null,null,null,null,null,null,null,null,null,null,null,null,null,null,null,null,null,null,null,null,null,null,null,null,null,null,null,null,null,null,null,null,null,null,null,null,null,null,null,null,null,null,null,null,null,null,null,null,null,null,null,null,null,null,null,null,null,null,null,null,null,null,null,null,null,null,null,null,null,null,null,null,null,null,null,null,null,null,null,null,null,null,null,null,null,null,null,null,null,null,null,null,null,null,null,null,null,null,null,null,null,null,null,null,null,null,null,null,null,null,null,null,null,null,null,null,null,null,null,null,null,null,null,null,null,null,null,null,null,null,33,"",null,null,null,null,null,null,"",null,null,null,null,null,null,null,null,null,null,"",null,null,null,null,null,null,"",null,null,null,null,null,null,null,null,null,null,null,null,null,null,null,null,null,"",null,null,null,null,null,null,null,null,null,null,"",null,null,null,null,null,null,"",null,null,null,null,null,null,null,null,null,null,"",null,null,null,null,null,null,"",null,null,null,null,null,null,null,null,null,null,"",null,null,null,null,null,null,"",null,null,null,null,null,null,null,null,null,null,"",null,null,null,null,null,null,"",null,null,null,null,null,null,null,null,null,null,"",null,null,null,null,null,null,"",null,null,null,null,null,null,null,null,null,null,"",null,null,null,null,null,null,""]
[null,null,null,null,null,null,null,null,null,null,null,null,null,null,null,null,null,null,null,null,null,null,null,null,null,null,null,null,null,null,null,null,null,null,null,null,null,null,null,null,null,null,null,null,null,null,null,null,null,null,null,null,null,null,null,null,null,null,null,null,null,null,null,null,null,null,null,null,null,null,null,null,null,null,null,null,null,null,null,null,null,null,null,null,null,null,null,null,null,null,null,null,null,null,null,null,null,null,null,null,null,null,null,null,null,null,null,null,null,null,null,null,null,null,null,null,null,null,null,null,null,null,null,null,null,null,null,null,null,null,null,null,null,null,null,null,null,null,null,null,null,null,null,null,null,null,null,null,null,null,null,null,null,null,null,null,null,null,null,null,null,null,null,null,null,null,null,null,null,null,null,null,null,null,null,null,null,null,null,null,null,null,null,null,null,null,null,null,null,null,null,null,null,null,null,null,null,null,null,null,null,null,null,null,null,null,null,null,null,null,null,null,null,null,null,null,null,null,null,null,null,null,null,null,null,null,null,null,null,null,null,null,null,null,null,null,null,null,null,null,null,null,null,null,null,null,null,null,null,null,null,null,null,null,null,null,null,null,null,null,null,null,null,null,null,null,null,null,null,null,null,null,null,null,null,null,null,null,null,null,null,null,null,null,null,null,null,null,null,null,null,null,null,null,null,null,null,null,null,null,null,null,null,null,null,null,null,null,null,null,null,null,null,null,null,null,null,null,null,null,null,null,null,null,null,null,null,null,null,null,null,null,null,null,null,null,null,null,null,null,null,null,null,null,null,null,null,null,null,null,null,null,null,null,null,null,null,null,null,null,null,34,"",null,null,null,null,null,null,"",null,null,null,null,null,null,null,null,null,null,"",null,null,null,null,null,null,"",null,null,null,null,null,null,null,null,null,null,null,null,null,null,null,null,null,"",null,null,null,null,null,null,null,null,null,null,"",null,null,null,null,null,null,"",null,null,null,null,null,null,null,null,null,null,"",null,null,null,null,null,null,"",null,null,null,null,null,null,null,null,null,null,"",null,null,null,null,null,null,"",null,null,null,null,null,null,null,null,null,null,"",null,null,null,null,null,null,"",null,null,null,null,null,null,null,null,null,null,"",null,null,null,null,null,null,"",null,null,null,null,null,null,null,null,null,null,"",null,null,null,null,null,null,""]
[null,null,null,null,null,null,null,null,null,null,null,null,null,null,null,null,null,null,null,null,null,null,null,null,null,null,null,null,null,null,null,null,null,null,null,null,null,null,null,null,null,null,null,null,null,null,null,null,null,null,null,null,null,null,null,null,null,null,null,null,null,null,null,null,null,null,null,null,null,null,null,null,null,null,null,null,null,null,null,null,null,null,null,null,null,null,null,null,null,null,null,null,null,null,null,null,null,null,null,null,null,null,null,null,null,null,null,null,null,null,null,null,null,null,null,null,null,null,null,null,null,null,null,null,null,null,null,null,null,null,null,null,null,null,null,null,null,null,null,null,null,null,null,null,null,null,null,null,null,null,null,null,null,null,null,null,null,null,null,null,null,null,null,null,null,null,null,null,null,null,null,null,null,null,null,null,null,null,null,null,null,null,null,null,null,null,null,null,null,null,null,null,null,null,null,null,null,null,null,null,null,null,null,null,null,null,null,null,null,null,null,null,null,null,null,null,null,null,null,null,null,null,null,null,null,null,null,null,null,null,null,null,null,null,null,null,null,null,null,null,null,null,null,null,null,null,null,null,null,null,null,null,null,null,null,null,null,null,null,null,null,null,null,null,null,null,null,null,null,null,null,null,null,null,null,null,null,null,null,null,null,null,null,null,null,null,null,null,null,null,null,null,null,null,null,null,null,null,null,null,null,null,null,null,null,null,null,null,null,null,null,null,null,null,null,null,null,null,null,null,null,null,null,null,null,null,null,null,null,null,null,null,null,null,null,null,null,null,null,null,null,null,null,null,null,null,null,null,null,null,null,null,null,null,null,null,null,null,null,null,null,35,"",null,null,null,null,null,null,"",null,null,null,null,null,null,null,null,null,null,"",null,null,null,null,null,null,"",null,null,null,null,null,null,null,null,null,null,null,null,null,null,null,null,null,"",null,null,null,null,null,null,null,null,null,null,"",null,null,null,null,null,null,"",null,null,null,null,null,null,null,null,null,null,"",null,null,null,null,null,null,"",null,null,null,null,null,null,null,null,null,null,"",null,null,null,null,null,null,"",null,null,null,null,null,null,null,null,null,null,"",null,null,null,null,null,null,"",null,null,null,null,null,null,null,null,null,null,"",null,null,null,null,null,null,"",null,null,null,null,null,null,null,null,null,null,"",null,null,null,null,null,null,""]
[null,null,null,null,null,null,null,null,null,null,null,null,null,null,null,null,null,null,null,null,null,null,null,null,null,null,null,null,null,null,null,null,null,null,null,null,null,null,null,null,null,null,null,null,null,null,null,null,null,null,null,null,null,null,null,null,null,null,null,null,null,null,null,null,null,null,null,null,null,null,null,null,null,null,null,null,null,null,null,null,null,null,null,null,null,null,null,null,null,null,null,null,null,null,null,null,null,null,null,null,null,null,null,null,null,null,null,null,null,null,null,null,null,null,null,null,null,null,null,null,null,null,null,null,null,null,null,null,null,null,null,null,null,null,null,null,null,null,null,null,null,null,null,null,null,null,null,null,null,null,null,null,null,null,null,null,null,null,null,null,null,null,null,null,null,null,null,null,null,null,null,null,null,null,null,null,null,null,null,null,null,null,null,null,null,null,null,null,null,null,null,null,null,null,null,null,null,null,null,null,null,null,null,null,null,null,null,null,null,null,null,null,null,null,null,null,null,null,null,null,null,null,null,null,null,null,null,null,null,null,null,null,null,null,null,null,null,null,null,null,null,null,null,null,null,null,null,null,null,null,null,null,null,null,null,null,null,null,null,null,null,null,null,null,null,null,null,null,null,null,null,null,null,null,null,null,null,null,null,null,null,null,null,null,null,null,null,null,null,null,null,null,null,null,null,null,null,null,null,null,null,null,null,null,null,null,null,null,null,null,null,null,null,null,null,null,null,null,null,null,null,null,null,null,null,null,null,null,null,null,null,null,null,null,null,null,null,null,null,null,null,null,null,null,null,null,null,null,null,null,null,null,null,null,null,null,null,null,null,null,null,36,"",null,null,null,null,null,null,"",null,null,null,null,null,null,null,null,null,null,"",null,null,null,null,null,null,"",null,null,null,null,null,null,null,null,null,null,null,null,null,null,null,null,null,"",null,null,null,null,null,null,null,null,null,null,"",null,null,null,null,null,null,"",null,null,null,null,null,null,null,null,null,null,"",null,null,null,null,null,null,"",null,null,null,null,null,null,null,null,null,null,"",null,null,null,null,null,null,"",null,null,null,null,null,null,null,null,null,null,"",null,null,null,null,null,null,"",null,null,null,null,null,null,null,null,null,null,"",null,null,null,null,null,null,"",null,null,null,null,null,null,null,null,null,null,"",null,null,null,null,null,null,""]
[null,null,null,null,null,null,null,null,null,null,null,null,null,null,null,null,null,null,null,null,null,null,null,null,null,null,null,null,null,null,null,null,null,null,null,null,null,null,null,null,null,null,null,null,null,null,null,null,null,null,null,null,null,null,null,null,null,null,null,null,null,null,null,null,null,null,null,null,null,null,null,null,null,null,null,null,null,null,null,null,null,null,null,null,null,null,null,null,null,null,null,null,null,null,null,null,null,null,null,null,null,null,null,null,null,null,null,null,null,null,null,null,null,null,null,null,null,null,null,null,null,null,null,null,null,null,null,null,null,null,null,null,null,null,null,null,null,null,null,null,null,null,null,null,null,null,null,null,null,null,null,null,null,null,null,null,null,null,null,null,null,null,null,null,null,null,null,null,null,null,null,null,null,null,null,null,null,null,null,null,null,null,null,null,null,null,null,null,null,null,null,null,null,null,null,null,null,null,null,null,null,null,null,null,null,null,null,null,null,null,null,null,null,null,null,null,null,null,null,null,null,null,null,null,null,null,null,null,null,null,null,null,null,null,null,null,null,null,null,null,null,null,null,null,null,null,null,null,null,null,null,null,null,null,null,null,null,null,null,null,null,null,null,null,null,null,null,null,null,null,null,null,null,null,null,null,null,null,null,null,null,null,null,null,null,null,null,null,null,null,null,null,null,null,null,null,null,null,null,null,null,null,null,null,null,null,null,null,null,null,null,null,null,null,null,null,null,null,null,null,null,null,null,null,null,null,null,null,null,null,null,null,null,null,null,null,null,null,null,null,null,null,null,null,null,null,null,null,null,null,null,null,null,null,null,null,null,null,null,null,null,37,"",null,null,null,null,null,null,"",null,null,null,null,null,null,null,null,null,null,"",null,null,null,null,null,null,"",null,null,null,null,null,null,null,null,null,null,null,null,null,null,null,null,null,"",null,null,null,null,null,null,null,null,null,null,"",null,null,null,null,null,null,"",null,null,null,null,null,null,null,null,null,null,"",null,null,null,null,null,null,"",null,null,null,null,null,null,null,null,null,null,"",null,null,null,null,null,null,"",null,null,null,null,null,null,null,null,null,null,"",null,null,null,null,null,null,"",null,null,null,null,null,null,null,null,null,null,"",null,null,null,null,null,null,"",null,null,null,null,null,null,null,null,null,null,"",null,null,null,null,null,null,""]
[null,null,null,null,null,null,null,null,null,null,null,null,null,null,null,null,null,null,null,null,null,null,null,null,null,null,null,null,null,null,null,null,null,null,null,null,null,null,null,null,null,null,null,null,null,null,null,null,null,null,null,null,null,null,null,null,null,null,null,null,null,null,null,null,null,null,null,null,null,null,null,null,null,null,null,null,null,null,null,null,null,null,null,null,null,null,null,null,null,null,null,null,null,null,null,null,null,null,null,null,null,null,null,null,null,null,null,null,null,null,null,null,null,null,null,null,null,null,null,null,null,null,null,null,null,null,null,null,null,null,null,null,null,null,null,null,null,null,null,null,null,null,null,null,null,null,null,null,null,null,null,null,null,null,null,null,null,null,null,null,null,null,null,null,null,null,null,null,null,null,null,null,null,null,null,null,null,null,null,null,null,null,null,null,null,null,null,null,null,null,null,null,null,null,null,null,null,null,null,null,null,null,null,null,null,null,null,null,null,null,null,null,null,null,null,null,null,null,null,null,null,null,null,null,null,null,null,null,null,null,null,null,null,null,null,null,null,null,null,null,null,null,null,null,null,null,null,null,null,null,null,null,null,null,null,null,null,null,null,null,null,null,null,null,null,null,null,null,null,null,null,null,null,null,null,null,null,null,null,null,null,null,null,null,null,null,null,null,null,null,null,null,null,null,null,null,null,null,null,null,null,null,null,null,null,null,null,null,null,null,null,null,null,null,null,null,null,null,null,null,null,null,null,null,null,null,null,null,null,null,null,null,null,null,null,null,null,null,null,null,null,null,null,null,null,null,null,null,null,null,null,null,null,null,null,null,null,null,null,null,null,38,"",null,null,null,null,null,null,"",null,null,null,null,null,null,null,null,null,null,"",null,null,null,null,null,null,"",null,null,null,null,null,null,null,null,null,null,null,null,null,null,null,null,null,"",null,null,null,null,null,null,null,null,null,null,"",null,null,null,null,null,null,"",null,null,null,null,null,null,null,null,null,null,"",null,null,null,null,null,null,"",null,null,null,null,null,null,null,null,null,null,"",null,null,null,null,null,null,"",null,null,null,null,null,null,null,null,null,null,"",null,null,null,null,null,null,"",null,null,null,null,null,null,null,null,null,null,"",null,null,null,null,null,null,"",null,null,null,null,null,null,null,null,null,null,"",null,null,null,null,null,null,""]
[null,null,null,null,null,null,null,null,null,null,null,null,null,null,null,null,null,null,null,null,null,null,null,null,null,null,null,null,null,null,null,null,null,null,null,null,null,null,null,null,null,null,null,null,null,null,null,null,null,null,null,null,null,null,null,null,null,null,null,null,null,null,null,null,null,null,null,null,null,null,null,null,null,null,null,null,null,null,null,null,null,null,null,null,null,null,null,null,null,null,null,null,null,null,null,null,null,null,null,null,null,null,null,null,null,null,null,null,null,null,null,null,null,null,null,null,null,null,null,null,null,null,null,null,null,null,null,null,null,null,null,null,null,null,null,null,null,null,null,null,null,null,null,null,null,null,null,null,null,null,null,null,null,null,null,null,null,null,null,null,null,null,null,null,null,null,null,null,null,null,null,null,null,null,null,null,null,null,null,null,null,null,null,null,null,null,null,null,null,null,null,null,null,null,null,null,null,null,null,null,null,null,null,null,null,null,null,null,null,null,null,null,null,null,null,null,null,null,null,null,null,null,null,null,null,null,null,null,null,null,null,null,null,null,null,null,null,null,null,null,null,null,null,null,null,null,null,null,null,null,null,null,null,null,null,null,null,null,null,null,null,null,null,null,null,null,null,null,null,null,null,null,null,null,null,null,null,null,null,null,null,null,null,null,null,null,null,null,null,null,null,null,null,null,null,null,null,null,null,null,null,null,null,null,null,null,null,null,null,null,null,null,null,null,null,null,null,null,null,null,null,null,null,null,null,null,null,null,null,null,null,null,null,null,null,null,null,null,null,null,null,null,null,null,null,null,null,null,null,null,null,null,null,null,null,null,null,null,null,null,null,39,"",null,null,null,null,null,null,"",null,null,null,null,null,null,null,null,null,null,"",null,null,null,null,null,null,"",null,null,null,null,null,null,null,null,null,null,null,null,null,null,null,null,null,"",null,null,null,null,null,null,null,null,null,null,"",null,null,null,null,null,null,"",null,null,null,null,null,null,null,null,null,null,"",null,null,null,null,null,null,"",null,null,null,null,null,null,null,null,null,null,"",null,null,null,null,null,null,"",null,null,null,null,null,null,null,null,null,null,"",null,null,null,null,null,null,"",null,null,null,null,null,null,null,null,null,null,"",null,null,null,null,null,null,"",null,null,null,null,null,null,null,null,null,null,"",null,null,null,null,null,null,""]
[null,null,null,null,null,null,null,null,null,null,null,null,null,null,null,null,null,null,null,null,null,null,null,null,null,null,null,null,null,null,null,null,null,null,null,null,null,null,null,null,null,null,null,null,null,null,null,null,null,null,null,null,null,null,null,null,null,null,null,null,null,null,null,null,null,null,null,null,null,null,null,null,null,null,null,null,null,null,null,null,null,null,null,null,null,null,null,null,null,null,null,null,null,null,null,null,null,null,null,null,null,null,null,null,null,null,null,null,null,null,null,null,null,null,null,null,null,null,null,null,null,null,null,null,null,null,null,null,null,null,null,null,null,null,null,null,null,null,null,null,null,null,null,null,null,null,null,null,null,null,null,null,null,null,null,null,null,null,null,null,null,null,null,null,null,null,null,null,null,null,null,null,null,null,null,null,null,null,null,null,null,null,null,null,null,null,null,null,null,null,null,null,null,null,null,null,null,null,null,null,null,null,null,null,null,null,null,null,null,null,null,null,null,null,null,null,null,null,null,null,null,null,null,null,null,null,null,null,null,null,null,null,null,null,null,null,null,null,null,null,null,null,null,null,null,null,null,null,null,null,null,null,null,null,null,null,null,null,null,null,null,null,null,null,null,null,null,null,null,null,null,null,null,null,null,null,null,null,null,null,null,null,null,null,null,null,null,null,null,null,null,null,null,null,null,null,null,null,null,null,null,null,null,null,null,null,null,null,null,null,null,null,null,null,null,null,null,null,null,null,null,null,null,null,null,null,null,null,null,null,null,null,null,null,null,null,null,null,null,null,null,null,null,null,null,null,null,null,null,null,null,null,null,null,null,null,null,null,null,null,null,40,"",null,null,null,null,null,null,"",null,null,null,null,null,null,null,null,null,null,"",null,null,null,null,null,null,"",null,null,null,null,null,null,null,null,null,null,null,null,null,null,null,null,null,"",null,null,null,null,null,null,null,null,null,null,"",null,null,null,null,null,null,"",null,null,null,null,null,null,null,null,null,null,"",null,null,null,null,null,null,"",null,null,null,null,null,null,null,null,null,null,"",null,null,null,null,null,null,"",null,null,null,null,null,null,null,null,null,null,"",null,null,null,null,null,null,"",null,null,null,null,null,null,null,null,null,null,"",null,null,null,null,null,null,"",null,null,null,null,null,null,null,null,null,null,"",null,null,null,null,null,null,""]
[null,null,null,null,null,null,null,null,null,null,null,null,null,null,null,null,null,null,null,null,null,null,null,null,null,null,null,null,null,null,null,null,null,null,null,null,null,null,null,null,null,null,null,null,null,null,null,null,null,null,null,null,null,null,null,null,null,null,null,null,null,null,null,null,null,null,null,null,null,null,null,null,null,null,null,null,null,null,null,null,null,null,null,null,null,null,null,null,null,null,null,null,null,null,null,null,null,null,null,null,null,null,null,null,null,null,null,null,null,null,null,null,null,null,null,null,null,null,null,null,null,null,null,null,null,null,null,null,null,null,null,null,null,null,null,null,null,null,null,null,null,null,null,null,null,null,null,null,null,null,null,null,null,null,null,null,null,null,null,null,null,null,null,null,null,null,null,null,null,null,null,null,null,null,null,null,null,null,null,null,null,null,null,null,null,null,null,null,null,null,null,null,null,null,null,null,null,null,null,null,null,null,null,null,null,null,null,null,null,null,null,null,null,null,null,null,null,null,null,null,null,null,null,null,null,null,null,null,null,null,null,null,null,null,null,null,null,null,null,null,null,null,null,null,null,null,null,null,null,null,null,null,null,null,null,null,null,null,null,null,null,null,null,null,null,null,null,null,null,null,null,null,null,null,null,null,null,null,null,null,null,null,null,null,null,null,null,null,null,null,null,null,null,null,null,null,null,null,null,null,null,null,null,null,null,null,null,null,null,null,null,null,null,null,null,null,null,null,null,null,null,null,null,null,null,null,null,null,null,null,null,null,null,null,null,null,null,null,null,null,null,null,null,null,null,null,null,null,null,null,null,null,null,null,null,null,null,null,null,null,null,41,"",null,null,null,null,null,null,"",null,null,null,null,null,null,null,null,null,null,"",null,null,null,null,null,null,"",null,null,null,null,null,null,null,null,null,null,null,null,null,null,null,null,null,"",null,null,null,null,null,null,null,null,null,null,"",null,null,null,null,null,null,"",null,null,null,null,null,null,null,null,null,null,"",null,null,null,null,null,null,"",null,null,null,null,null,null,null,null,null,null,"",null,null,null,null,null,null,"",null,null,null,null,null,null,null,null,null,null,"",null,null,null,null,null,null,"",null,null,null,null,null,null,null,null,null,null,"",null,null,null,null,null,null,"",null,null,null,null,null,null,null,null,null,null,"",null,null,null,null,null,null,""]
[null,null,null,null,null,null,null,null,null,null,null,null,null,null,null,null,null,null,null,null,null,null,null,null,null,null,null,null,null,null,null,null,null,null,null,null,null,null,null,null,null,null,null,null,null,null,null,null,null,null,null,null,null,null,null,null,null,null,null,null,null,null,null,null,null,null,null,null,null,null,null,null,null,null,null,null,null,null,null,null,null,null,null,null,null,null,null,null,null,null,null,null,null,null,null,null,null,null,null,null,null,null,null,null,null,null,null,null,null,null,null,null,null,null,null,null,null,null,null,null,null,null,null,null,null,null,null,null,null,null,null,null,null,null,null,null,null,null,null,null,null,null,null,null,null,null,null,null,null,null,null,null,null,null,null,null,null,null,null,null,null,null,null,null,null,null,null,null,null,null,null,null,null,null,null,null,null,null,null,null,null,null,null,null,null,null,null,null,null,null,null,null,null,null,null,null,null,null,null,null,null,null,null,null,null,null,null,null,null,null,null,null,null,null,null,null,null,null,null,null,null,null,null,null,null,null,null,null,null,null,null,null,null,null,null,null,null,null,null,null,null,null,null,null,null,null,null,null,null,null,null,null,null,null,null,null,null,null,null,null,null,null,null,null,null,null,null,null,null,null,null,null,null,null,null,null,null,null,null,null,null,null,null,null,null,null,null,null,null,null,null,null,null,null,null,null,null,null,null,null,null,null,null,null,null,null,null,null,null,null,null,null,null,null,null,null,null,null,null,null,null,null,null,null,null,null,null,null,null,null,null,null,null,null,null,null,null,null,null,null,null,null,null,null,null,null,null,null,null,null,null,null,null,null,null,null,null,null,null,null,null,42,"",null,null,null,null,null,null,"",null,null,null,null,null,null,null,null,null,null,"",null,null,null,null,null,null,"",null,null,null,null,null,null,null,null,null,null,null,null,null,null,null,null,null,"",null,null,null,null,null,null,null,null,null,null,"",null,null,null,null,null,null,"",null,null,null,null,null,null,null,null,null,null,"",null,null,null,null,null,null,"",null,null,null,null,null,null,null,null,null,null,"",null,null,null,null,null,null,"",null,null,null,null,null,null,null,null,null,null,"",null,null,null,null,null,null,"",null,null,null,null,null,null,null,null,null,null,"",null,null,null,null,null,null,"",null,null,null,null,null,null,null,null,null,null,"",null,null,null,null,null,null,""]
[null,null,null,null,null,null,null,null,null,null,null,null,null,null,null,null,null,null,null,null,null,null,null,null,null,null,null,null,null,null,null,null,null,null,null,null,null,null,null,null,null,null,null,null,null,null,null,null,null,null,null,null,null,null,null,null,null,null,null,null,null,null,null,null,null,null,null,null,null,null,null,null,null,null,null,null,null,null,null,null,null,null,null,null,null,null,null,null,null,null,null,null,null,null,null,null,null,null,null,null,null,null,null,null,null,null,null,null,null,null,null,null,null,null,null,null,null,null,null,null,null,null,null,null,null,null,null,null,null,null,null,null,null,null,null,null,null,null,null,null,null,null,null,null,null,null,null,null,null,null,null,null,null,null,null,null,null,null,null,null,null,null,null,null,null,null,null,null,null,null,null,null,null,null,null,null,null,null,null,null,null,null,null,null,null,null,null,null,null,null,null,null,null,null,null,null,null,null,null,null,null,null,null,null,null,null,null,null,null,null,null,null,null,null,null,null,null,null,null,null,null,null,null,null,null,null,null,null,null,null,null,null,null,null,null,null,null,null,null,null,null,null,null,null,null,null,null,null,null,null,null,null,null,null,null,null,null,null,null,null,null,null,null,null,null,null,null,null,null,null,null,null,null,null,null,null,null,null,null,null,null,null,null,null,null,null,null,null,null,null,null,null,null,null,null,null,null,null,null,null,null,null,null,null,null,null,null,null,null,null,null,null,null,null,null,null,null,null,null,null,null,null,null,null,null,null,null,null,null,null,null,null,null,null,null,null,null,null,null,null,null,null,null,null,null,null,null,null,null,null,null,null,null,null,null,null,null,null,null,null,null,43,"",null,null,null,null,null,null,"",null,null,null,null,null,null,null,null,null,null,"",null,null,null,null,null,null,"",null,null,null,null,null,null,null,null,null,null,null,null,null,null,null,null,null,"",null,null,null,null,null,null,null,null,null,null,"",null,null,null,null,null,null,"",null,null,null,null,null,null,null,null,null,null,"",null,null,null,null,null,null,"",null,null,null,null,null,null,null,null,null,null,"",null,null,null,null,null,null,"",null,null,null,null,null,null,null,null,null,null,"",null,null,null,null,null,null,"",null,null,null,null,null,null,null,null,null,null,"",null,null,null,null,null,null,"",null,null,null,null,null,null,null,null,null,null,"",null,null,null,null,null,null,""]
[null,null,null,null,null,null,null,null,null,null,null,null,null,null,null,null,null,null,null,null,null,null,null,null,null,null,null,null,null,null,null,null,null,null,null,null,null,null,null,null,null,null,null,null,null,null,null,null,null,null,null,null,null,null,null,null,null,null,null,null,null,null,null,null,null,null,null,null,null,null,null,null,null,null,null,null,null,null,null,null,null,null,null,null,null,null,null,null,null,null,null,null,null,null,null,null,null,null,null,null,null,null,null,null,null,null,null,null,null,null,null,null,null,null,null,null,null,null,null,null,null,null,null,null,null,null,null,null,null,null,null,null,null,null,null,null,null,null,null,null,null,null,null,null,null,null,null,null,null,null,null,null,null,null,null,null,null,null,null,null,null,null,null,null,null,null,null,null,null,null,null,null,null,null,null,null,null,null,null,null,null,null,null,null,null,null,null,null,null,null,null,null,null,null,null,null,null,null,null,null,null,null,null,null,null,null,null,null,null,null,null,null,null,null,null,null,null,null,null,null,null,null,null,null,null,null,null,null,null,null,null,null,null,null,null,null,null,null,null,null,null,null,null,null,null,null,null,null,null,null,null,null,null,null,null,null,null,null,null,null,null,null,null,null,null,null,null,null,null,null,null,null,null,null,null,null,null,null,null,null,null,null,null,null,null,null,null,null,null,null,null,null,null,null,null,null,null,null,null,null,null,null,null,null,null,null,null,null,null,null,null,null,null,null,null,null,null,null,null,null,null,null,null,null,null,null,null,null,null,null,null,null,null,null,null,null,null,null,null,null,null,null,null,null,null,null,null,null,null,null,null,null,null,null,null,null,null,null,null,null,null,44,"",null,null,null,null,null,null,"",null,null,null,null,null,null,null,null,null,null,"",null,null,null,null,null,null,"",null,null,null,null,null,null,null,null,null,null,null,null,null,null,null,null,null,"",null,null,null,null,null,null,null,null,null,null,"",null,null,null,null,null,null,"",null,null,null,null,null,null,null,null,null,null,"",null,null,null,null,null,null,"",null,null,null,null,null,null,null,null,null,null,"",null,null,null,null,null,null,"",null,null,null,null,null,null,null,null,null,null,"",null,null,null,null,null,null,"",null,null,null,null,null,null,null,null,null,null,"",null,null,null,null,null,null,"",null,null,null,null,null,null,null,null,null,null,"",null,null,null,null,null,null,""]
[null,null,null,null,null,null,null,null,null,null,null,null,null,null,null,null,null,null,null,null,null,null,null,null,null,null,null,null,null,null,null,null,null,null,null,null,null,null,null,null,null,null,null,null,null,null,null,null,null,null,null,null,null,null,null,null,null,null,null,null,null,null,null,null,null,null,null,null,null,null,null,null,null,null,null,null,null,null,null,null,null,null,null,null,null,null,null,null,null,null,null,null,null,null,null,null,null,null,null,null,null,null,null,null,null,null,null,null,null,null,null,null,null,null,null,null,null,null,null,null,null,null,null,null,null,null,null,null,null,null,null,null,null,null,null,null,null,null,null,null,null,null,null,null,null,null,null,null,null,null,null,null,null,null,null,null,null,null,null,null,null,null,null,null,null,null,null,null,null,null,null,null,null,null,null,null,null,null,null,null,null,null,null,null,null,null,null,null,null,null,null,null,null,null,null,null,null,null,null,null,null,null,null,null,null,null,null,null,null,null,null,null,null,null,null,null,null,null,null,null,null,null,null,null,null,null,null,null,null,null,null,null,null,null,null,null,null,null,null,null,null,null,null,null,null,null,null,null,null,null,null,null,null,null,null,null,null,null,null,null,null,null,null,null,null,null,null,null,null,null,null,null,null,null,null,null,null,null,null,null,null,null,null,null,null,null,null,null,null,null,null,null,null,null,null,null,null,null,null,null,null,null,null,null,null,null,null,null,null,null,null,null,null,null,null,null,null,null,null,null,null,null,null,null,null,null,null,null,null,null,null,null,null,null,null,null,null,null,null,null,null,null,null,null,null,null,null,null,null,null,null,null,null,null,null,null,null,null,null,null,null,45,"",null,null,null,null,null,null,"",null,null,null,null,null,null,null,null,null,null,"",null,null,null,null,null,null,"",null,null,null,null,null,null,null,null,null,null,null,null,null,null,null,null,null,"",null,null,null,null,null,null,null,null,null,null,"",null,null,null,null,null,null,"",null,null,null,null,null,null,null,null,null,null,"",null,null,null,null,null,null,"",null,null,null,null,null,null,null,null,null,null,"",null,null,null,null,null,null,"",null,null,null,null,null,null,null,null,null,null,"",null,null,null,null,null,null,"",null,null,null,null,null,null,null,null,null,null,"",null,null,null,null,null,null,"",null,null,null,null,null,null,null,null,null,null,"",null,null,null,null,null,null,""]
[null,null,null,null,null,null,null,null,null,null,null,null,null,null,null,null,null,null,null,null,null,null,null,null,null,null,null,null,null,null,null,null,null,null,null,null,null,null,null,null,null,null,null,null,null,null,null,null,null,null,null,null,null,null,null,null,null,null,null,null,null,null,null,null,null,null,null,null,null,null,null,null,null,null,null,null,null,null,null,null,null,null,null,null,null,null,null,null,null,null,null,null,null,null,null,null,null,null,null,null,null,null,null,null,null,null,null,null,null,null,null,null,null,null,null,null,null,null,null,null,null,null,null,null,null,null,null,null,null,null,null,null,null,null,null,null,null,null,null,null,null,null,null,null,null,null,null,null,null,null,null,null,null,null,null,null,null,null,null,null,null,null,null,null,null,null,null,null,null,null,null,null,null,null,null,null,null,null,null,null,null,null,null,null,null,null,null,null,null,null,null,null,null,null,null,null,null,null,null,null,null,null,null,null,null,null,null,null,null,null,null,null,null,null,null,null,null,null,null,null,null,null,null,null,null,null,null,null,null,null,null,null,null,null,null,null,null,null,null,null,null,null,null,null,null,null,null,null,null,null,null,null,null,null,null,null,null,null,null,null,null,null,null,null,null,null,null,null,null,null,null,null,null,null,null,null,null,null,null,null,null,null,null,null,null,null,null,null,null,null,null,null,null,null,null,null,null,null,null,null,null,null,null,null,null,null,null,null,null,null,null,null,null,null,null,null,null,null,null,null,null,null,null,null,null,null,null,null,null,null,null,null,null,null,null,null,null,null,null,null,null,null,null,null,null,null,null,null,null,null,null,null,null,null,null,null,null,null,null,null,null,46,"",null,null,null,null,null,null,"",null,null,null,null,null,null,null,null,null,null,"",null,null,null,null,null,null,"",null,null,null,null,null,null,null,null,null,null,null,null,null,null,null,null,null,"",null,null,null,null,null,null,null,null,null,null,"",null,null,null,null,null,null,"",null,null,null,null,null,null,null,null,null,null,"",null,null,null,null,null,null,"",null,null,null,null,null,null,null,null,null,null,"",null,null,null,null,null,null,"",null,null,null,null,null,null,null,null,null,null,"",null,null,null,null,null,null,"",null,null,null,null,null,null,null,null,null,null,"",null,null,null,null,null,null,"",null,null,null,null,null,null,null,null,null,null,"",null,null,null,null,null,null,""]
[null,null,null,null,null,null,null,null,null,null,null,null,null,null,null,null,null,null,null,null,null,null,null,null,null,null,null,null,null,null,null,null,null,null,null,null,null,null,null,null,null,null,null,null,null,null,null,null,null,null,null,null,null,null,null,null,null,null,null,null,null,null,null,null,null,null,null,null,null,null,null,null,null,null,null,null,null,null,null,null,null,null,null,null,null,null,null,null,null,null,null,null,null,null,null,null,null,null,null,null,null,null,null,null,null,null,null,null,null,null,null,null,null,null,null,null,null,null,null,null,null,null,null,null,null,null,null,null,null,null,null,null,null,null,null,null,null,null,null,null,null,null,null,null,null,null,null,null,null,null,null,null,null,null,null,null,null,null,null,null,null,null,null,null,null,null,null,null,null,null,null,null,null,null,null,null,null,null,null,null,null,null,null,null,null,null,null,null,null,null,null,null,null,null,null,null,null,null,null,null,null,null,null,null,null,null,null,null,null,null,null,null,null,null,null,null,null,null,null,null,null,null,null,null,null,null,null,null,null,null,null,null,null,null,null,null,null,null,null,null,null,null,null,null,null,null,null,null,null,null,null,null,null,null,null,null,null,null,null,null,null,null,null,null,null,null,null,null,null,null,null,null,null,null,null,null,null,null,null,null,null,null,null,null,null,null,null,null,null,null,null,null,null,null,null,null,null,null,null,null,null,null,null,null,null,null,null,null,null,null,null,null,null,null,null,null,null,null,null,null,null,null,null,null,null,null,null,null,null,null,null,null,null,null,null,null,null,null,null,null,null,null,null,null,null,null,null,null,null,null,null,null,null,null,null,null,null,null,null,null,null,47,"",null,null,null,null,null,null,"",null,null,null,null,null,null,null,null,null,null,"",null,null,null,null,null,null,"",null,null,null,null,null,null,null,null,null,null,null,null,null,null,null,null,null,"",null,null,null,null,null,null,null,null,null,null,"",null,null,null,null,null,null,"",null,null,null,null,null,null,null,null,null,null,"",null,null,null,null,null,null,"",null,null,null,null,null,null,null,null,null,null,"",null,null,null,null,null,null,"",null,null,null,null,null,null,null,null,null,null,"",null,null,null,null,null,null,"",null,null,null,null,null,null,null,null,null,null,"",null,null,null,null,null,null,"",null,null,null,null,null,null,null,null,null,null,"",null,null,null,null,null,null,""]
[null,null,null,null,null,null,null,null,null,null,null,null,null,null,null,null,null,null,null,null,null,null,null,null,null,null,null,null,null,null,null,null,null,null,null,null,null,null,null,null,null,null,null,null,null,null,null,null,null,null,null,null,null,null,null,null,null,null,null,null,null,null,null,null,null,null,null,null,null,null,null,null,null,null,null,null,null,null,null,null,null,null,null,null,null,null,null,null,null,null,null,null,null,null,null,null,null,null,null,null,null,null,null,null,null,null,null,null,null,null,null,null,null,null,null,null,null,null,null,null,null,null,null,null,null,null,null,null,null,null,null,null,null,null,null,null,null,null,null,null,null,null,null,null,null,null,null,null,null,null,null,null,null,null,null,null,null,null,null,null,null,null,null,null,null,null,null,null,null,null,null,null,null,null,null,null,null,null,null,null,null,null,null,null,null,null,null,null,null,null,null,null,null,null,null,null,null,null,null,null,null,null,null,null,null,null,null,null,null,null,null,null,null,null,null,null,null,null,null,null,null,null,null,null,null,null,null,null,null,null,null,null,null,null,null,null,null,null,null,null,null,null,null,null,null,null,null,null,null,null,null,null,null,null,null,null,null,null,null,null,null,null,null,null,null,null,null,null,null,null,null,null,null,null,null,null,null,null,null,null,null,null,null,null,null,null,null,null,null,null,null,null,null,null,null,null,null,null,null,null,null,null,null,null,null,null,null,null,null,null,null,null,null,null,null,null,null,null,null,null,null,null,null,null,null,null,null,null,null,null,null,null,null,null,null,null,null,null,null,null,null,null,null,null,null,null,null,null,null,null,null,null,null,null,null,null,null,null,null,null,null,48,"",null,null,null,null,null,null,"",null,null,null,null,null,null,null,null,null,null,"",null,null,null,null,null,null,"",null,null,null,null,null,null,null,null,null,null,null,null,null,null,null,null,null,"",null,null,null,null,null,null,null,null,null,null,"",null,null,null,null,null,null,"",null,null,null,null,null,null,null,null,null,null,"",null,null,null,null,null,null,"",null,null,null,null,null,null,null,null,null,null,"",null,null,null,null,null,null,"",null,null,null,null,null,null,null,null,null,null,"",null,null,null,null,null,null,"",null,null,null,null,null,null,null,null,null,null,"",null,null,null,null,null,null,"",null,null,null,null,null,null,null,null,null,null,"",null,null,null,null,null,null,""]
[null,null,null,null,null,null,null,null,null,null,null,null,null,null,null,null,null,null,null,null,null,null,null,null,null,null,null,null,null,null,null,null,null,null,null,null,null,null,null,null,null,null,null,null,null,null,null,null,null,null,null,null,null,null,null,null,null,null,null,null,null,null,null,null,null,null,null,null,null,null,null,null,null,null,null,null,null,null,null,null,null,null,null,null,null,null,null,null,null,null,null,null,null,null,null,null,null,null,null,null,null,null,null,null,null,null,null,null,null,null,null,null,null,null,null,null,null,null,null,null,null,null,null,null,null,null,null,null,null,null,null,null,null,null,null,null,null,null,null,null,null,null,null,null,null,null,null,null,null,null,null,null,null,null,null,null,null,null,null,null,null,null,null,null,null,null,null,null,null,null,null,null,null,null,null,null,null,null,null,null,null,null,null,null,null,null,null,null,null,null,null,null,null,null,null,null,null,null,null,null,null,null,null,null,null,null,null,null,null,null,null,null,null,null,null,null,null,null,null,null,null,null,null,null,null,null,null,null,null,null,null,null,null,null,null,null,null,null,null,null,null,null,null,null,null,null,null,null,null,null,null,null,null,null,null,null,null,null,null,null,null,null,null,null,null,null,null,null,null,null,null,null,null,null,null,null,null,null,null,null,null,null,null,null,null,null,null,null,null,null,null,null,null,null,null,null,null,null,null,null,null,null,null,null,null,null,null,null,null,null,null,null,null,null,null,null,null,null,null,null,null,null,null,null,null,null,null,null,null,null,null,null,null,null,null,null,null,null,null,null,null,null,null,null,null,null,null,null,null,null,null,null,null,null,null,null,null,null,null,null,null,49,"",null,null,null,null,null,null,"",null,null,null,null,null,null,null,null,null,null,"",null,null,null,null,null,null,"",null,null,null,null,null,null,null,null,null,null,null,null,null,null,null,null,null,"",null,null,null,null,null,null,null,null,null,null,"",null,null,null,null,null,null,"",null,null,null,null,null,null,null,null,null,null,"",null,null,null,null,null,null,"",null,null,null,null,null,null,null,null,null,null,"",null,null,null,null,null,null,"",null,null,null,null,null,null,null,null,null,null,"",null,null,null,null,null,null,"",null,null,null,null,null,null,null,null,null,null,"",null,null,null,null,null,null,"",null,null,null,null,null,null,null,null,null,null,"",null,null,null,null,null,null,""]
[null,null,null,null,null,null,null,null,null,null,null,null,null,null,null,null,null,null,null,null,null,null,null,null,null,null,null,null,null,null,null,null,null,null,null,null,null,null,null,null,null,null,null,null,null,null,null,null,null,null,null,null,null,null,null,null,null,null,null,null,null,null,null,null,null,null,null,null,null,null,null,null,null,null,null,null,null,null,null,null,null,null,null,null,null,null,null,null,null,null,null,null,null,null,null,null,null,null,null,null,null,null,null,null,null,null,null,null,null,null,null,null,null,null,null,null,null,null,null,null,null,null,null,null,null,null,null,null,null,null,null,null,null,null,null,null,null,null,null,null,null,null,null,null,null,null,null,null,null,null,null,null,null,null,null,null,null,null,null,null,null,null,null,null,null,null,null,null,null,null,null,null,null,null,null,null,null,null,null,null,null,null,null,null,null,null,null,null,null,null,null,null,null,null,null,null,null,null,null,null,null,null,null,null,null,null,null,null,null,null,null,null,null,null,null,null,null,null,null,null,null,null,null,null,null,null,null,null,null,null,null,null,null,null,null,null,null,null,null,null,null,null,null,null,null,null,null,null,null,null,null,null,null,null,null,null,null,null,null,null,null,null,null,null,null,null,null,null,null,null,null,null,null,null,null,null,null,null,null,null,null,null,null,null,null,null,null,null,null,null,null,null,null,null,null,null,null,null,null,null,null,null,null,null,null,null,null,null,null,null,null,null,null,null,null,null,null,null,null,null,null,null,null,null,null,null,null,null,null,null,null,null,null,null,null,null,null,null,null,null,null,null,null,null,null,null,null,null,null,null,null,null,null,null,null,null,null,null,null,null,null,50,{"$f":"IF(MZ84=\"\",\"\",$MX84)","v":""},null,null,null,null,null,null,"",null,null,null,null,null,null,null,null,null,null,"",null,null,null,null,null,null,"",null,null,null,null,null,null,null,null,null,null,null,null,null,null,null,null,null,"",null,null,null,null,null,null,null,null,null,null,"",null,null,null,null,null,null,"",null,null,null,null,null,null,null,null,null,null,"",null,null,null,null,null,null,"",null,null,null,null,null,null,null,null,null,null,"",null,null,null,null,null,null,"",null,null,null,null,null,null,null,null,null,null,"",null,null,null,null,null,null,"",null,null,null,null,null,null,null,null,null,null,"",null,null,null,null,null,null,{"$f":"IF(SC84=\"\",\"\",$BD84)","v":""},null,null,null,null,null,null,null,null,null,null,"",null,null,null,null,null,null,{"$f":"IF(SU84=\"\",\"\",$BD84)","v":""}]
[null,null,null,null,null,null,null,null,null,null,null,null,null,null,null,null,null,null,null,null,null,null,null,null,null,null,null,null,null,null,null,null,null,null,null,null,null,null,null,null,null,null,null,null,null,null,null,null,null,null,null,null,null,null,null,null,null,null,null,null,null,null,null,null,null,null,null,null,null,null,null,null,null,null,null,null,null,null,null,null,null,null,null,null,null,null,null,null,null,null,null,null,null,null,null,null,null,null,null,null,null,null,null,null,null,null,null,null,null,null,null,null,null,null,null,null,null,null,null,null,null,null,null,null,null,null,null,null,null,null,null,null,null,null,null,null,null,null,null,null,null,null,null,null,null,null,null,null,null,null,null,null,null,null,null,null,null,null,null,null,null,null,null,null,null,null,null,null,null,null,null,null,null,null,null,null,null,null,null,null,null,null,null,null,null,null,null,null,null,null,null,null,null,null,null,null,null,null,null,null,null,null,null,null,null,null,null,null,null,null,null,null,null,null,null,null,null,null,null,null,null,null,null,null,null,null,null,null,null,null,null,null,null,null,null,null,null,null,null,null,null,null,null,null,null,null,null,null,null,null,null,null,null,null,null,null,null,null,null,null,null,null,null,null,null,null,null,null,null,null,null,null,null,null,null,null,null,null,null,null,null,null,null,null,null,null,null,null,null,null,null,null,null,null,null,null,null,null,null,null,null,null,null,null,null,null,null,null,null,null,null,null,null,null,null,null,null,null,null,null,null,null,null,null,null,null,null,null,null,null,null,null,null,null,null,null,null,null,null,null,null,null,null,null,null,null,null,null,null,null,null,null,null,null,null,null,null,null,null,null,"APLAN DE POYO OBLIGATORIO"]
[null,null,null,null,null,null,null,null,null,null,null,null,null,null,null,null,null,null,null,null,null,null,null,null,null,null,null,null,null,null,null,null,null,null,null,null,null,null,null,null,null,null,null,null,null,null,null,null,null,null,null,null,null,null,null,null,null,null,null,null,null,null,null,null,null,null,null,null,null,null,null,null,null,null,null,null,null,null,null,null,null,null,null,null,null,null,null,null,null,null,null,null,null,null,null,null,null,null,null,null,null,null,null,null,null,null,null,null,null,null,null,null,null,null,null,null,null,null,null,null,null,null,null,null,null,null,null,null,null,null,null,null,null,null,null,null,null,null,null,null,null,null,null,null,null,null,null,null,null,null,null,null,null,null,null,null,null,null,null,null,null,null,null,null,null,null,null,null,null,null,null,null,null,null,null,null,null,null,null,null,null,null,null,null,null,null,null,null,null,null,null,null,null,null,null,null,null,null,null,null,null,null,null,null,null,null,null,null,null,null,null,null,null,null,null,null,null,null,null,null,null,null,null,null,null,null,null,null,null,null,null,null,null,null,null,null,null,null,null,null,null,null,null,null,null,null,null,null,null,null,null,null,null,null,null,null,null,null,null,null,null,null,null,null,null,null,null,null,null,null,null,null,null,null,null,null,null,null,null,null,null,null,null,null,null,null,null,null,null,null,null,null,null,null,null,null,null,null,null,null,null,null,null,null,null,null,null,null,null,null,null,null,null,null,null,null,null,null,null,null,null,null,null,null,null,null,null,null,null,null,null,null,null,null,null,null,null,null,null,null,null,null,null,null,null,null,null,null,null,null,null,null,null,null,null,null,null,null,null,null,"QUE PRESENTARON"]
[null,null,null,null,null,null,null,null,null,null,null,null,null,null,null,null,null,null,null,null,null,null,null,null,null,null,null,null,null,null,null,null,null,null,null,null,null,null,null,null,null,null,null,null,null,null,null,null,null,null,null,null,null,null,null,null,null,null,null,null,null,null,null,null,null,null,null,null,null,null,null,null,null,null,null,null,null,null,null,null,null,null,null,null,null,null,null,null,null,null,null,null,null,null,null,null,null,null,null,null,null,null,null,null,null,null,null,null,null,null,null,null,null,null,null,null,null,null,null,null,null,null,null,null,null,null,null,null,null,null,null,null,null,null,null,null,null,null,null,null,null,null,null,null,null,null,null,null,null,null,null,null,null,null,null,null,null,null,null,null,null,null,null,null,null,null,null,null,null,null,null,null,null,null,null,null,null,null,null,null,null,null,null,null,null,null,null,null,null,null,null,null,null,null,null,null,null,null,null,null,null,null,null,null,null,null,null,null,null,null,null,null,null,null,null,null,null,null,null,null,null,null,null,null,null,null,null,null,null,null,null,null,null,null,null,null,null,null,null,null,null,null,null,null,null,null,null,null,null,null,null,null,null,null,null,null,null,null,null,null,null,null,null,null,null,null,null,null,null,null,null,null,null,null,null,null,null,null,null,null,null,null,null,null,null,null,null,null,null,null,null,null,null,null,null,null,null,null,null,null,null,null,null,null,null,null,null,null,null,null,null,null,null,null,null,null,null,null,null,null,null,null,null,null,null,null,null,null,null,null,null,null,null,null,null,null,null,null,null,null,null,null,null,null,null,null,null,null,null,null,null,null,null,null,null,null,null,null,null,null," REPROBADOS"]
[]
[]
[]
[]
[]
[]
[]
[]
[]
[]
[]
[]
[]
[]
[]
[null,null,"REGISTRO PLANEACION"]
[null,null,null,null,"A",{"$f":"F11&D11","v":"D.COOPERATIVA6B"},"UNO"]
[null,null,null,null,"B",{"$f":"F12&D12","v":"SCIENCE6B"},"DOS",{"$f":"9-COUNTIF(F104:F112,\"\")","v":8}]
[null,null,null,null,"C","INGLES6B","TRES"]
[null,null,null,null,"D","SCIENCE6A","CUATRO"]
[null,null,null,null,"E","INGLES6A","CINCO"]
[null,null,null,null,"F","SCIENCE5A","SEIS"]
[null,null,null,null,"G","INGLES5A","SIETE"]
[null,null,null,null,"H","SCIENCE4A","OCHO"]
[null,null,null,null,"I",{"$f":"F19&D19","v":""},"NUEVE"]
[null,null,null,null,null,4]
[]
[]
[null,null,"FEB"]
[null,null,"MAR"]
[null,null,"ABR"]
[null,null,"MAY"]
[null,null,"JUN",null,null,"BASE DE DATOS CHECKPOINT"]
[null,null,"JUL"]
[null,null,"AGO",null,null,{"$f":"F11&D11","v":"D.COOPERATIVA6B"},"DIEZ"]
[null,null,"SEP",null,null,{"$f":"F12&D12","v":"SCIENCE6B"},"ONCE"]
[null,null,"OCT",null,null,"INGLES6B","DOCE"]
[null,null,"NOV",null,null,"SCIENCE6A","TRECE"]
[null,null,"DIC",null,null,"INGLES6A","CATORCE"]
[null,null,null,null,null,"SCIENCE5A","QUINCE"]
[null,null,null,null,null,"INGLES5A","DIEZSEIS"]
[null,null,null,null,null,"SCIENCE4A","DIEZSIETE"]
[null,null,null,null,null,"","DIEZOCHO"]
[null,null,null,null,null,1]
[]
[null,null,null,null,null,"BASE DE DATOS SEGICOL",null,"Curso"]
[null,null,null,null,null,{"$f":"F11&D11","v":"D.COOPERATIVA6B"},"ASIG1",{"$f":"D11","v":"6B"},1]
[null,null,null,null,null,{"$f":"F12&D12","v":"SCIENCE6B"},"ASIG2",{"$f":"D12","v":"6B"},2]
[null,null,null,null,null,"INGLES6B","ASIG3","6B",3]
[null,null,null,null,null,"SCIENCE6A","ASIG4","6A",4]
[null,null,null,null,null,"INGLES6A","ASIG5","6A",5]
[null,null,null,null,null,"SCIENCE5A","ASIG6","5A",6]
[null,null,null,null,null,"INGLES5A","ASIG7","5A",7]
[null,null,null,null,null,"SCIENCE4A","ASIG8","4A",8]
[null,null,null,null,null,"","ASIG9","",9]
[null,null,null,null,null,1]

{"sheet":"LISTA","index":2,"n_rows":59,"n_cols":37,"rows_kept":59,"cut":false,"hidden":false,"merged":[[5,19,5,20],[5,22,5,23],[5,25,5,26],[5,28,5,29],[5,31,5,32],[5,16,5,17],[4,1,4,3],[1,3,1,6],[5,7,5,8],[5,10,5,11],[5,13,5,14]]}
[]
["PRO",null,"DOCENTE","GERFRIED PINTO"]
[null,null,"AÑO",2018]
[]
[null,"CARGA ACADEMICA"]
[null,"CICLO","CURSO","ASIGNATURA",null,null,null,{"$f":"D7&C7","v":"D.COOPERATIVA6B"},null,null,{"$f":"D8&C8","v":"SCIENCE6B"},null,null,{"$f":"D9&C9","v":"INGLES6B"},null,null,{"$f":"D10&C10","v":"SCIENCE6A"},null,null,{"$f":"D11&C11","v":"INGLES6A"},null,null,{"$f":"D12&C12","v":"SCIENCE5A"},null,null,{"$f":"D13&C13","v":"INGLES5A"},null,null,{"$f":"D14&C14","v":"SCIENCE4A"},null,null,{"$f":"D15&C15","v":""}]
[null,4,"6B","D.COOPERATIVA",null,null,null,"CD","ESTUDIANTES",null,"CD","ESTUDIANTES",null,"CD","ESTUDIANTES",null,"CD","ESTUDIANTES",null,"CD","ESTUDIANTES",null,"CD","ESTUDIANTES",null,"CD","ESTUDIANTES",null,"CD","ESTUDIANTES",null,"CD","ESTUDIANTES"]
[null,4,"6B","SCIENCE",null,null,null,{"$f":"IF(I8=\"\",\"\",AK8)","v":1},"AMAYA GONZALEZ  DANIEL FELIPE",null,{"$f":"IF(L8=\"\",\"\",AK8)","v":1},"AMAYA GONZALEZ  DANIEL FELIPE",null,{"$f":"IF(O8=\"\",\"\",AK8)","v":1},"AMAYA GONZALEZ  DANIEL FELIPE",null,{"$f":"IF(R8=\"\",\"\",AK8)","v":1},"D",null,{"$f":"IF(U8=\"\",\"\",AK8)","v":1},"ESTUDIANTES",null,{"$f":"IF(X8=\"\",\"\",AK8)","v":1},"F",null,{"$f":"IF(AA8=\"\",\"\",AK8)","v":1},"G",null,{"$f":"IF(AD8=\"\",\"\",AK8)","v":1},"H",null,{"$f":"IF(AG8=\"\",\"\",AK8)","v":1},"I",null,null,null,1]
[null,4,"6B","INGLES",null,null,null,{"$f":"IF(I9=\"\",\"\",AK9)","v":2},"BARRETO MORALES ANDRES FELIPE",null,{"$f":"IF(L9=\"\",\"\",AK9)","v":2},"BARRETO MORALES ANDRES FELIPE",null,{"$f":"IF(O9=\"\",\"\",AK9)","v":2},"BARRETO MORALES ANDRES FELIPE",null,{"$f":"IF(R9=\"\",\"\",AK9)","v":""},null,null,{"$f":"IF(U9=\"\",\"\",AK9)","v":""},null,null,{"$f":"IF(X9=\"\",\"\",AK9)","v":""},null,null,{"$f":"IF(AA9=\"\",\"\",AK9)","v":""},null,null,{"$f":"IF(AD9=\"\",\"\",AK9)","v":""},null,null,{"$f":"IF(AG9=\"\",\"\",AK9)","v":""},null,null,null,null,2]
[null,4,"6A","SCIENCE",null,null,null,3,"BECERRA BARRERA NICOLE STEPHANY",null,3,"BECERRA BARRERA NICOLE STEPHANY",null,3,"BECERRA BARRERA NICOLE STEPHANY",null,"",null,null,"",null,null,"",null,null,"",null,null,"",null,null,"",null,null,null,null,3]
[null,4,"6A","INGLES",null,null,null,4,"CARDENAS PERALTA LEIDY JOHANA",null,4,"CARDENAS PERALTA LEIDY JOHANA",null,4,"CARDENAS PERALTA LEIDY JOHANA",null,"",null,null,"",null,null,"",null,null,"",null,null,"",null,null,"",null,null,null,null,4]
[null,3,"5A","SCIENCE",null,null,null,5,"CASTILLO CASTILLO JESSICA ALEJANDRA",null,5,"CASTILLO CASTILLO JESSICA ALEJANDRA",null,5,"CASTILLO CASTILLO JESSICA ALEJANDRA",null,"",null,null,"",null,null,"",null,null,"",null,null,"",null,null,"",null,null,null,null,5]
[null,3,"5A","INGLES",null,null,null,6,"CHIPATECUA LOPEZ DANIELA",null,6,"CHIPATECUA LOPEZ DANIELA",null,6,"CHIPATECUA LOPEZ DANIELA",null,"",null,null,"",null,null,"",null,null,"",null,null,"",null,null,"",null,null,null,null,6]
[null,3,"4A","SCIENCE",null,null,null,7,"CUERVO RAMIREZ JUAN PABLO",null,7,"CUERVO RAMIREZ JUAN PABLO",null,7,"CUERVO RAMIREZ JUAN PABLO",null,"",null,null,"",null,null,"",null,null,"",null,null,"",null,null,"",null,null,null,null,7]
[null,null,null,null,null,null,null,8,"ESCORCIA SOLANO JOSÉ CAMILO",null,8,"ESCORCIA SOLANO JOSÉ CAMILO",null,8,"ESCORCIA SOLANO JOSÉ CAMILO",null,"",null,null,"",null,null,"",null,null,"",null,null,"",null,null,"",null,null,null,null,8]
[null,null,null,null,null,null,null,9,"FONSECA PICO ANGELICA VIVIANA",null,9,"FONSECA PICO ANGELICA VIVIANA",null,9,"FONSECA PICO ANGELICA VIVIANA",null,"",null,null,"",null,null,"",null,null,"",null,null,"",null,null,"",null,null,null,null,9]
[null,null,null,null,null,null,null,10,"GALVIS GARCIA MARIANA",null,10,"GALVIS GARCIA MARIANA",null,10,"GALVIS GARCIA MARIANA",null,"",null,null,"",null,null,"",null,null,"",null,null,"",null,null,"",null,null,null,null,10]
[null,null,null,null,null,null,null,11,"GIL MORALES JAIME MAURICIO",null,11,"GIL MORALES JAIME MAURICIO",null,11,"GIL MORALES JAIME MAURICIO",null,"",null,null,"",null,null,"",null,null,"",null,null,"",null,null,"",null,null,null,null,11]
[null,null,null,null,null,null,null,12,"GONZALEZ CASTAÑO JUAN PABLO",null,12,"GONZALEZ CASTAÑO JUAN PABLO",null,12,"GONZALEZ CASTAÑO JUAN PABLO",null,"",null,null,"",null,null,"",null,null,"",null,null,"",null,null,"",null,null,null,null,12]
[null,null,null,null,null,null,null,13,"HURTADO HERNANDEZ JESSICA JULIETH",null,"",null,null,13,"AMAYA GONZALEZ  DANIEL FELIPE",null,"",null,null,"",null,null,"",null,null,"",null,null,"",null,null,"",null,null,null,null,13]
[null,null,null,null,null,null,null,14,"HURTADO HERNANDEZ JUAN ANDRES",null,"",null,null,14,"BARRETO MORALES ANDRES FELIPE",null,"",null,null,"",null,null,"",null,null,"",null,null,"",null,null,"",null,null,null,null,14]
[null,null,null,null,null,null,null,15,"INSUASTY CANTOR JENNIFER NATALIA",null,"",null,null,15,"BECERRA BARRERA NICOLE STEPHANY",null,"",null,null,"",null,null,"",null,null,"",null,null,"",null,null,"",null,null,null,null,15]
[null,null,null,null,null,null,null,16,"LOPEZ TOCANCHON CHRISTOPHER",null,"",null,null,16,"CARDENAS PERALTA LEIDY JOHANA",null,"",null,null,"",null,null,"",null,null,"",null,null,"",null,null,"",null,null,null,null,16]
[null,null,null,null,null,null,null,17,"MARTINEZ CARDENAS PAULA ANDREA",null,"",null,null,17,"CASTILLO CASTILLO JESSICA ALEJANDRA",null,"",null,null,"",null,null,"",null,null,"",null,null,"",null,null,"",null,null,null,null,17]
[null,null,null,null,null,null,null,18,"MOLINA GOMEZ JOSE LUIS",null,"",null,null,18,"CHIPATECUA LOPEZ DANIELA",null,"",null,null,"",null,null,"",null,null,"",null,null,"",null,null,"",null,null,null,null,18]
[null,null,null,null,null,null,null,19,"MUÑOZ PARRA CAROL JULITH",null,"",null,null,19,"CUERVO RAMIREZ JUAN PABLO",null,"",null,null,"",null,null,"",null,null,"",null,null,"",null,null,"",null,null,null,null,19]
[null,null,null,null,null,null,null,20,"OCHOA DÍAZ LIZETH LORENA",null,"",null,null,20,"ESCORCIA SOLANO JOSÉ CAMILO",null,"",null,null,"",null,null,"",null,null,"",null,null,"",null,null,"",null,null,null,null,20]
[null,null,null,null,null,null,null,21,"ORTIZ FAJARDO SANTIAGO EULICES",null,"",null,null,21,"FONSECA PICO ANGELICA VIVIANA",null,"",null,null,"",null,null,"",null,null,"",null,null,"",null,null,"",null,null,null,null,21]
[null,null,null,null,null,null,null,22,"PAEZ MONTEJO DAYANNA VANESSA",null,"",null,null,22,"GALVIS GARCIA MARIANA",null,"",null,null,"",null,null,"",null,null,"",null,null,"",null,null,"",null,null,null,null,22]
[null,null,null,null,null,null,null,23,"PARDO FUENTES PAULA DANIELA",null,"",null,null,23,"GIL MORALES JAIME MAURICIO",null,"",null,null,"",null,null,"",null,null,"",null,null,"",null,null,"",null,null,null,null,23]
[null,null,null,null,null,null,null,24,"PEÑA GALAN YEISON STHIVEN",null,"",null,null,24,"GONZALEZ CASTAÑO JUAN PABLO",null,"",null,null,"",null,null,"",null,null,"",null,null,"",null,null,"",null,null,null,null,24]
[null,null,null,null,null,null,null,25,"PERILLA LAVERDE MELLANY",null,"",null,null,25,"AMAYA GONZALEZ  DANIEL FELIPE",null,"",null,null,"",null,null,"",null,null,"",null,null,"",null,null,"",null,null,null,null,25]
[null,null,null,null,null,null,null,26,"PICO VENEGAS MARIBEL",null,"",null,null,26,"BARRETO MORALES ANDRES FELIPE",null,"",null,null,"",null,null,"",null,null,"",null,null,"",null,null,"",null,null,null,null,26]
[null,null,null,null,null,null,null,27,"PLAZAS MORA MATEO ALEXANDER",null,"",null,null,27,"BECERRA BARRERA NICOLE STEPHANY",null,"",null,null,"",null,null,"",null,null,"",null,null,"",null,null,"",null,null,null,null,27]
[null,null,null,null,null,null,null,28,"RAMIREZ ORTIZ FABIAN ANDRES",null,"",null,null,28,"CARDENAS PERALTA LEIDY JOHANA",null,"",null,null,"",null,null,"",null,null,"",null,null,"",null,null,"",null,null,null,null,28]
[null,null,null,null,null,null,null,29,"SALAS MESA ANDRES FELIPE",null,"",null,null,29,"CASTILLO CASTILLO JESSICA ALEJANDRA",null,"",null,null,"",null,null,"",null,null,"",null,null,"",null,null,"",null,null,null,null,29]
[null,null,null,null,null,null,null,30,"SALINAS ESPITIA JUAN ESTEBAN ",null,"",null,null,30,"CHIPATECUA LOPEZ DANIELA",null,"",null,null,"",null,null,"",null,null,"",null,null,"",null,null,"",null,null,null,null,30]
[null,null,null,null,null,null,null,31,"SIERRA ZAMORA MARIA FERNANDA",null,"",null,null,31,"CUERVO RAMIREZ JUAN PABLO",null,"",null,null,"",null,null,"",null,null,"",null,null,"",null,null,"",null,null,null,null,31]
[null,null,null,null,null,null,null,32,"URBINA PEDRAZA ENLLY VALENTINA",null,"",null,null,32,"ESCORCIA SOLANO JOSÉ CAMILO",null,"",null,null,"",null,null,"",null,null,"",null,null,"",null,null,"",null,null,null,null,32]
[null,null,null,null,null,null,null,33,"URREGO NUÑEZ DAFNE KARINA",null,"",null,null,33,"FONSECA PICO ANGELICA VIVIANA",null,"",null,null,"",null,null,"",null,null,"",null,null,"",null,null,"",null,null,null,null,33]
[null,null,null,null,null,null,null,34,"VARGAS GOMEZ LIZETH",null,"",null,null,34,"GALVIS GARCIA MARIANA",null,"",null,null,"",null,null,"",null,null,"",null,null,"",null,null,"",null,null,null,null,34]
[null,null,null,null,null,null,null,35,"VEGA CRUZ TANIA VALENTINA",null,"",null,null,35,"GIL MORALES JAIME MAURICIO",null,"",null,null,"",null,null,"",null,null,"",null,null,"",null,null,"",null,null,null,null,35]
[null,null,null,null,null,null,null,36,"ZAMORA LOPEZ NICOLAS",null,"",null,null,36,"GONZALEZ CASTAÑO JUAN PABLO",null,"",null,null,"",null,null,"",null,null,"",null,null,"",null,null,"",null,null,null,null,36]
[null,null,null,null,null,null,null,"",null,null,"",null,null,37,"AMAYA GONZALEZ  DANIEL FELIPE",null,"",null,null,"",null,null,"",null,null,"",null,null,"",null,null,"",null,null,null,null,37]
[null,null,null,null,null,null,null,"",null,null,"",null,null,38,"BARRETO MORALES ANDRES FELIPE",null,"",null,null,"",null,null,"",null,null,"",null,null,"",null,null,"",null,null,null,null,38]
[null,null,null,null,null,null,null,"",null,null,"",null,null,39,"BECERRA BARRERA NICOLE STEPHANY",null,"",null,null,"",null,null,"",null,null,"",null,null,"",null,null,"",null,null,null,null,39]
[null,null,null,null,null,null,null,"",null,null,"",null,null,40,"CARDENAS PERALTA LEIDY JOHANA",null,"",null,null,"",null,null,"",null,null,"",null,null,"",null,null,"",null,null,null,null,40]
[null,null,null,null,null,null,null,"",null,null,"",null,null,41,"CASTILLO CASTILLO JESSICA ALEJANDRA",null,"",null,null,"",null,null,"",null,null,"",null,null,"",null,null,"",null,null,null,null,41]
[null,null,null,null,null,null,null,"",null,null,"",null,null,42,"CHIPATECUA LOPEZ DANIELA",null,"",null,null,"",null,null,"",null,null,"",null,null,"",null,null,"",null,null,null,null,42]
[null,null,null,null,null,null,null,"",null,null,"",null,null,43,"CUERVO RAMIREZ JUAN PABLO",null,"",null,null,"",null,null,"",null,null,"",null,null,"",null,null,"",null,null,null,null,43]
[null,null,null,null,null,null,null,"",null,null,"",null,null,44,"ESCORCIA SOLANO JOSÉ CAMILO",null,"",null,null,"",null,null,"",null,null,"",null,null,"",null,null,"",null,null,null,null,44]
[null,null,null,null,null,null,null,"",null,null,"",null,null,45,"FONSECA PICO ANGELICA VIVIANA",null,"",null,null,"",null,null,"",null,null,"",null,null,"",null,null,"",null,null,null,null,45]
[null,null,null,null,null,null,null,"",null,null,"",null,null,46,"GALVIS GARCIA MARIANA",null,"",null,null,"",null,null,"",null,null,"",null,null,"",null,null,"",null,null,null,null,46]
[null,null,null,null,null,null,null,"",null,null,"",null,null,47,"GIL MORALES JAIME MAURICIO",null,"",null,null,"",null,null,"",null,null,"",null,null,"",null,null,"",null,null,null,null,47]
[null,null,null,null,null,null,null,"",null,null,"",null,null,48,"GONZALEZ CASTAÑO JUAN PABLO",null,"",null,null,"",null,null,"",null,null,"",null,null,"",null,null,"",null,null,null,null,48]
[null,null,null,null,null,null,null,"",null,null,"",null,null,"",null,null,"",null,null,"",null,null,"",null,null,"",null,null,"",null,null,"",null,null,null,null,49]
[null,null,null,null,null,null,null,{"$f":"IF(I57=\"\",\"\",AK57)","v":""},null,null,"",null,null,"",null,null,"",null,null,"",null,null,"",null,null,"",null,null,"",null,null,{"$f":"IF(AG57=\"\",\"\",AK57)","v":""},null,null,null,null,50]
[]
[null,null,null,null,null,null,null,{"$f":"COUNT(H8:H57)","v":36},null,null,{"$f":"COUNT(K8:K57)","v":12},null,null,{"$f":"COUNT(N8:N57)","v":48},null,null,{"$f":"COUNT(Q8:Q57)","v":1},null,null,{"$f":"COUNT(T8:T57)","v":1},null,null,{"$f":"COUNT(W8:W57)","v":1},null,null,{"$f":"COUNT(Z8:Z57)","v":1},null,null,{"$f":"COUNT(AC8:AC57)","v":1},null,null,{"$f":"COUNT(AF8:AF57)","v":1}]

{"sheet":"PLAN","index":3,"n_rows":248,"n_cols":113,"rows_kept":248,"cut":false,"hidden":false,"merged":[[172,30,172,32],[199,30,199,32],[226,30,226,32],[37,30,37,32],[64,30,64,32],[91,30,91,32],[118,30,118,32],[145,30,145,32],[10,12,10,17],[10,19,10,24],[16,1,20,1],[11,1,15,1],[35,44,35,48],[10,30,10,32],[4,2,4,4],[7,3,7,5],[34,3,34,5],[21,1,25,1],[10,1,10,3],[10,5,10,10],[10,39,10,42],[61,3,61,5],[64,1,64,3],[64,5,64,9],[37,1,37,3],[37,5,37,9],[38,1,42,1],[65,1,69,1],[70,1,74,1],[75,1,79,1],[43,1,47,1],[48,1,52,1],[115,3,115,5],[118,1,118,3],[118,5,118,9],[88,3,88,5],[91,1,91,3],[91,5,91,9],[119,1,123,1],[124,1,128,1],[129,1,133,1],[92,1,96,1],[97,1,101,1],[102,1,106,1],[237,1,241,1],[1,1,1,7],[172,12,172,17],[172,19,172,24],[178,1,182,1],[183,1,187,1],[196,3,196,5],[146,1,150,1],[151,1,155,1],[156,1,160,1],[169,3,169,5],[172,1,172,3],[172,5,172,9],[142,3,142,5],[145,1,145,3],[145,12,145,17],[173,1,177,1],[199,1,199,3],[199,5,199,9],[145,5,145,9],[232,1,236,1],[227,1,231,1],[200,1,204,1],[205,1,209,1],[210,1,214,1],[223,3,223,5],[226,1,226,3],[226,5,226,9],[3,18,4,24],[5,35,5,36],[8,44,8,48],[226,19,226,24],[199,12,199,17],[199,19,199,24],[226,12,226,17],[145,19,145,24],[118,12,118,17],[118,19,118,24],[91,12,91,17],[91,19,91,24],[64,12,64,17],[64,19,64,24],[37,12,37,17],[37,19,37,24],[62,44,62,48],[89,44,89,48],[116,44,116,48],[37,39,37,42],[226,39,226,42],[118,39,118,42],[145,39,145,42],[172,39,172,42],[64,39,64,42],[91,39,91,42],[143,44,143,48],[170,44,170,48],[197,44,197,48],[224,44,224,48],[199,39,199,42],[226,100,226,105],[226,106,226,111],[226,112,226,117],[91,100,91,105],[91,106,91,111],[91,112,91,117],[118,100,118,105],[118,106,118,111],[118,112,118,117],[145,100,145,105],[145,106,145,111],[145,112,145,117],[9,97,9,117],[36,97,36,117],[63,97,63,117],[90,97,90,117],[117,97,117,117],[144,97,144,117],[171,97,171,117],[198,97,198,117],[225,97,225,117],[172,100,172,105],[172,106,172,111],[172,112,172,117],[199,100,199,105],[199,106,199,111],[199,112,199,117],[10,100,10,105],[10,106,10,111],[10,112,10,117],[37,100,37,105],[37,106,37,111],[37,112,37,117],[64,100,64,105],[64,106,64,111],[64,112,64,117]]}
[]
[null,"PLANEACION AÑO 2018",null,null,null,null,null,null,null,null,null,null,null,null,null,null,null,null,null,null,null,null,null,null,null,null,null,null,"L1","L2","L3","L4","L5"]
[]
[null,null,null,null,null,null,null,null,null,null,null,null,null,null,null,null,null,null,{"$f":"IF($AD$6=\"\",$AD$8,$AD$6)","v":"RESTART OK!!"},null,null,null,null,null,null,null,null,null,null,null,null,null,null,null,null,null,null,null,null,null,null,null,null,null,null,null,null,null,null,null,null,null,null,null,null,"Planeacion del 1T  Guardada.                                Seleccione Segundo Trimestre"]
[null,"DOCENTE",{"$f":"IF(INICIO!$E$4=\"\",\"\",INICIO!$E$4)","v":"GERFRIED PINTO"},null,null,null,null,null,null,null,null,null,null,null,null,null,null,null,null,null,null,null,null,null,null,null,null,null,null,null,null,null,null,null,null,null,null,null,null,null,null,null,null,null,null,null,null,null,null,null,null,null,null,null,null,"Planeacion del 2T  Guardada.                                Seleccione Tercer Trimestre"]
[null,null,null,null,null,null,null,null,null,null,null,null,null,null,null,null,null,null,null,null,null,null,null,null,null,null,null,null,null,"RESTART OK!!",null,null,null,null,null,null,null,null,null,null,null,null,null,null,null,null,null,null,null,null,null,null,null,null,null,"Planeacion del 3T  Guardada.                                Continue con la Siguente Asignatura"]
[]
[null,null,null,{"$f":"#REF!&#REF!","v":{"$error":"#REF!"}},null,null,null,null,null,null,null,null,null,null,null,null,null,null,null,null,null,null,null,null,null,null,null,null,null,"BASE DE DATOS DE PLANEACIÓN GENERAL DEL AÑO"]
[null,null,null,null,null,null,null,null,null,null,null,null,null,null,null,null,null,null,null,null,null,null,null,null,null,null,null,null,null,"DATOS GUARDADOS",null,null,null,null,null,null,null,null,null,null,null,null,null,null,"INDICADORES SELECCIONADOS",null,null,null,null,null,{"$f":"#REF!","v":{"$error":"#REF!"}},null,null,null,null,{"$f":"#REF!","v":{"$error":"#REF!"}},null,null,null,null,{"$f":"#REF!","v":{"$error":"#REF!"}},null,null,null,null,null,"1."]
[null,null,null,null,{"$f":"IF(INICIO!$H$2=\"1T\",INICIO!$NH$14,\"\")","v":"PRIMER TRIMESTRE"},null,{"$f":"IF(E10=\"PRIMER TRIMESTRE\",B12,\"\")","v":"1T"},null,null,null,null,{"$f":"IF(INICIO!$H$2=\"2T\",INICIO!$NH$15,\"\")","v":""},null,{"$f":"IF(L10=\"SEGUNDO TRIMESTRE\",B17,\"\")","v":""},null,null,null,null,{"$f":"IF(INICIO!$H$2=\"3T\",INICIO!$NH$16,\"\")","v":""},null,{"$f":"IF(S10=\"TERCER TRIMESTRE\",B22,\"\")","v":""},null,null,null,null,null,null,null,null,"RESTART OK!!",{"$f":"G10","v":"1T"},{"$f":"N10","v":""},{"$f":"U10","v":""},null,null,null,null,null,null,null,null,null,null,null,"L1","L2","L3","L4","L5","L1","L2","L3","L4","L5","L1","L2","L3","L4","L5","L1","L2","L3","L4","L5",null,null,"1.1",null,null,null,null,null,null,null,null,null,null,null,null,null,null,null,null,null,null,null,null,null,null,null,null,null,null,null,null,null,null,"Copia de datos empleados durante el año, en las actividades"]
[null,"LOGROS",null,null,"ACTIVIDADES 1T","INDICADORES 1T",null,null,null,null,null,"ACTIVIDADES 2T","INDICADORES 2T",null,null,null,null,null,"ACTIVIDADES 3T","INDICADORES 3T",null,null,null,null,null,null,"FECHAS 1T","FECHAS 2T","FECHAS 3T",null,"LOGOS X ACTIVIDAD",null,null,null,null,null,null,"x",null,"LOGROS SELECCIONADOS",null,null,null,null,{"$f":"#REF!","v":{"$error":"#REF!"}},{"$f":"#REF!","v":{"$error":"#REF!"}},{"$f":"#REF!","v":{"$error":"#REF!"}},{"$f":"#REF!","v":{"$error":"#REF!"}},{"$f":"#REF!","v":{"$error":"#REF!"}},"1.1","","","","","","","","","","","","","","",null,null,"1.2",null,null,null,null,null,null,{"$f":"PLAN!AX11","v":"1.1"},{"$f":"PLAN!AY11","v":""},{"$f":"PLAN!AZ11","v":""},{"$f":"PLAN!BA11","v":""},{"$f":"PLAN!BB11","v":""},{"$f":"PLAN!BC11","v":""},{"$f":"PLAN!BD11","v":""},{"$f":"PLAN!BE11","v":""},{"$f":"PLAN!BF11","v":""},{"$f":"PLAN!BG11","v":""},{"$f":"PLAN!BH11","v":""},{"$f":"PLAN!BI11","v":""},{"$f":"PLAN!BJ11","v":""},{"$f":"PLAN!BK11","v":""},{"$f":"PLAN!BL11","v":""},null,null,null,null,null,{"$f":"IF(PLAN!E39=\"\",\"\",PLAN!E39)","v":{"$error":"#REF!"}},{"$f":"IF(PLAN!F39=\"\",\"\",PLAN!F39)","v":{"$error":"#REF!"}},{"$f":"IF(PLAN!G39=\"\",\"\",PLAN!G39)","v":{"$error":"#REF!"}},"# de","1T","2T","3T","Indicadores 1t",null,null,null,null,null,"Indicadores 2t",null,null,null,null,null,"Indicadores 3t"]
[null,"1T",{"$f":"IF(D12=\"\",\"\",$AB$27)","v":"L1"},"DEDE",{"$f":"IF(#REF!=\"\",\"\",#REF!)","v":{"$error":"#REF!"}},{"$f":"IF(CW12=\"\",#REF!,CW12)","v":"1.1"},{"$f":"IF(CX12=\"\",#REF!,CX12)","v":{"$error":"#REF!"}},{"$f":"IF(CY12=\"\",#REF!,CY12)","v":{"$error":"#REF!"}},{"$f":"IF(CZ12=\"\",#REF!,CZ12)","v":{"$error":"#REF!"}},{"$f":"IF(DA12=\"\",#REF!,DA12)","v":{"$error":"#REF!"}},{"$f":"IF(DB12=\"\",#REF!,DB12)","v":{"$error":"#REF!"}},{"$f":"IF(#REF!=\"\",\"\",#REF!)","v":{"$error":"#REF!"}},{"$f":"IF(DC12=\"\",#REF!,DC12)","v":{"$error":"#REF!"}},{"$f":"IF(DD12=\"\",#REF!,DD12)","v":{"$error":"#REF!"}},{"$f":"IF(DE12=\"\",#REF!,DE12)","v":{"$error":"#REF!"}},{"$f":"IF(DF12=\"\",#REF!,DF12)","v":{"$error":"#REF!"}},{"$f":"IF(DG12=\"\",#REF!,DG12)","v":{"$error":"#REF!"}},{"$f":"IF(DH12=\"\",#REF!,DH12)","v":{"$error":"#REF!"}},{"$f":"IF(#REF!=\"\",\"\",#REF!)","v":{"$error":"#REF!"}},{"$f":"IF(DI12=\"\",#REF!,DI12)","v":{"$error":"#REF!"}},{"$f":"IF(DJ12=\"\",#REF!,DJ12)","v":{"$error":"#REF!"}},{"$f":"IF(DK12=\"\",#REF!,DK12)","v":{"$error":"#REF!"}},{"$f":"IF(DL12=\"\",#REF!,DL12)","v":{"$error":"#REF!"}},{"$f":"IF(DM12=\"\",#REF!,DM12)","v":{"$error":"#REF!"}},{"$f":"IF(DN12=\"\",#REF!,DN12)","v":{"$error":"#REF!"}},null,43143,null,null,null,{"$f":"IF(F12=0,\"\",IF(OR(F12=\"1.1\",F12=\"1.2\",F12=\"1.3\",F12=\"1.4\",F12=\"1.5\",F12=\"1.6\"), $AC$2,IF(OR(F12=\"2.1\",F12=\"2.2\",F12=\"2.3\",F12=\"2.4\",F12=\"2.5\",F12=\"2.6\"),$AD$2,IF(OR(F12=\"3.1\",F12=\"3.2\",F12=\"3.3\",F12=\"3.4\",F12=\"3.5\",F12=\"3.6\"),$AE$2,IF(OR(F12=\"4.1\",F12=\"4.2\",F12=\"4.3\",F12=\"4.4\",F12=\"4.5\",F12=\"4.6\"),$AF$2,IF(OR(F12=\"5.1\",F12=\"5.2\",F12=\"5.3\",F12=\"5.4\",F12=\"5.5\",F12=\"5.6\"),$AG$2))))))","v":"L1"},{"$f":"IF(M12=0,\"\",IF(OR(M12=\"1.1\",M12=\"1.2\",M12=\"1.3\",M12=\"1.4\",M12=\"1.5\",M12=\"1.6\"), $AC$2,IF(OR(M12=\"2.1\",M12=\"2.2\",M12=\"2.3\",M12=\"2.4\",M12=\"2.5\",M12=\"2.6\"),$AD$2,IF(OR(M12=\"3.1\",M12=\"3.2\",M12=\"3.3\",M12=\"3.4\",M12=\"3.5\",M12=\"3.6\"),$AE$2,IF(OR(M12=\"4.1\",M12=\"4.2\",M12=\"4.3\",M12=\"4.4\",M12=\"4.5\",M12=\"4.6\"),$AF$2,IF(OR(M12=\"5.1\",M12=\"5.2\",M12=\"5.3\",M12=\"5.4\",M12=\"5.5\",M12=\"5.6\"),$AG$2))))))","v":{"$error":"#REF!"}},{"$f":"IF(T12=0,\"\",IF(OR(T12=\"1.1\",T12=\"1.2\",T12=\"1.3\",T12=\"1.4\",T12=\"1.5\",T12=\"1.6\"), $AC$2,IF(OR(T12=\"2.1\",T12=\"2.2\",T12=\"2.3\",T12=\"2.4\",T12=\"2.5\",T12=\"2.6\"),$AD$2,IF(OR(T12=\"3.1\",T12=\"3.2\",T12=\"3.3\",T12=\"3.4\",T12=\"3.5\",T12=\"3.6\"),$AE$2,IF(OR(T12=\"4.1\",T12=\"4.2\",T12=\"4.3\",T12=\"4.4\",T12=\"4.5\",T12=\"4.6\"),$AF$2,IF(OR(T12=\"5.1\",T12=\"5.2\",T12=\"5.3\",T12=\"5.4\",T12=\"5.5\",T12=\"5.6\"),$AG$2))))))","v":{"$error":"#REF!"}},null,null,null,null,{"$f":"#REF!","v":{"$error":"#REF!"}},"1.",{"$f":"IF(AL12=\"x\",#REF!,\"\")","v":{"$error":"#REF!"}},null,null,null,null,{"$f":"#REF!","v":{"$error":"#REF!"}},{"$f":"#REF!","v":{"$error":"#REF!"}},{"$f":"#REF!","v":{"$error":"#REF!"}},{"$f":"#REF!","v":{"$error":"#REF!"}},{"$f":"#REF!","v":{"$error":"#REF!"}},"1.2","","","","","","","","","","","","","","",null,null,"1.3",null,null,null,null,null,null,null,null,null,null,null,null,null,null,null,null,null,null,null,null,null,null,null,null,{"$f":"IF(PLAN!$C12=\"\",\"\",PLAN!$C12)","v":"L1"},null,null,null,null,1,"Actividad. La celula. (tarea cuadro comparativo)",null,null,"1.1"]
[null,null,{"$f":"IF(D13=\"\",\"\",$AB$28)","v":"L2"},"DEDE",{"$f":"IF(#REF!=\"\",\"\",#REF!)","v":{"$error":"#REF!"}},{"$f":"IF(CW13=\"\",#REF!,CW13)","v":"1.2"},{"$f":"IF(CX13=\"\",#REF!,CX13)","v":{"$error":"#REF!"}},{"$f":"IF(CY13=\"\",#REF!,CY13)","v":{"$error":"#REF!"}},{"$f":"IF(CZ13=\"\",#REF!,CZ13)","v":{"$error":"#REF!"}},{"$f":"IF(DA13=\"\",#REF!,DA13)","v":{"$error":"#REF!"}},{"$f":"IF(DB13=\"\",#REF!,DB13)","v":{"$error":"#REF!"}},{"$f":"IF(#REF!=\"\",\"\",#REF!)","v":{"$error":"#REF!"}},{"$f":"IF(DC13=\"\",#REF!,DC13)","v":{"$error":"#REF!"}},{"$f":"IF(DD13=\"\",#REF!,DD13)","v":{"$error":"#REF!"}},{"$f":"IF(DE13=\"\",#REF!,DE13)","v":{"$error":"#REF!"}},{"$f":"IF(DF13=\"\",#REF!,DF13)","v":{"$error":"#REF!"}},{"$f":"IF(DG13=\"\",#REF!,DG13)","v":{"$error":"#REF!"}},{"$f":"IF(DH13=\"\",#REF!,DH13)","v":{"$error":"#REF!"}},{"$f":"IF(#REF!=\"\",\"\",#REF!)","v":{"$error":"#REF!"}},{"$f":"IF(DI13=\"\",#REF!,DI13)","v":{"$error":"#REF!"}},{"$f":"IF(DJ13=\"\",#REF!,DJ13)","v":{"$error":"#REF!"}},{"$f":"IF(DK13=\"\",#REF!,DK13)","v":{"$error":"#REF!"}},{"$f":"IF(DL13=\"\",#REF!,DL13)","v":{"$error":"#REF!"}},{"$f":"IF(DM13=\"\",#REF!,DM13)","v":{"$error":"#REF!"}},{"$f":"IF(DN13=\"\",#REF!,DN13)","v":{"$error":"#REF!"}},null,43150,null,null,null,{"$f":"IF(F13=0,\"\",IF(OR(F13=\"1.1\",F13=\"1.2\",F13=\"1.3\",F13=\"1.4\",F13=\"1.5\",F13=\"1.6\"), $AC$2,IF(OR(F13=\"2.1\",F13=\"2.2\",F13=\"2.3\",F13=\"2.4\",F13=\"2.5\",F13=\"2.6\"),$AD$2,IF(OR(F13=\"3.1\",F13=\"3.2\",F13=\"3.3\",F13=\"3.4\",F13=\"3.5\",F13=\"3.6\"),$AE$2,IF(OR(F13=\"4.1\",F13=\"4.2\",F13=\"4.3\",F13=\"4.4\",F13=\"4.5\",F13=\"4.6\"),$AF$2,IF(OR(F13=\"5.1\",F13=\"5.2\",F13=\"5.3\",F13=\"5.4\",F13=\"5.5\",F13=\"5.6\"),$AG$2))))))","v":"L1"},{"$f":"IF(M13=0,\"\",IF(OR(M13=\"1.1\",M13=\"1.2\",M13=\"1.3\",M13=\"1.4\",M13=\"1.5\",M13=\"1.6\"), $AC$2,IF(OR(M13=\"2.1\",M13=\"2.2\",M13=\"2.3\",M13=\"2.4\",M13=\"2.5\",M13=\"2.6\"),$AD$2,IF(OR(M13=\"3.1\",M13=\"3.2\",M13=\"3.3\",M13=\"3.4\",M13=\"3.5\",M13=\"3.6\"),$AE$2,IF(OR(M13=\"4.1\",M13=\"4.2\",M13=\"4.3\",M13=\"4.4\",M13=\"4.5\",M13=\"4.6\"),$AF$2,IF(OR(M13=\"5.1\",M13=\"5.2\",M13=\"5.3\",M13=\"5.4\",M13=\"5.5\",M13=\"5.6\"),$AG$2))))))","v":{"$error":"#REF!"}},{"$error":"#REF!"},null,null,null,null,{"$f":"#REF!","v":{"$error":"#REF!"}},"2.",{"$f":"IF(AL13=\"x\",#REF!,\"\")","v":{"$error":"#REF!"}},null,null,null,null,{"$f":"#REF!","v":{"$error":"#REF!"}},{"$f":"#REF!","v":{"$error":"#REF!"}},{"$f":"#REF!","v":{"$error":"#REF!"}},{"$f":"#REF!","v":{"$error":"#REF!"}},{"$f":"#REF!","v":{"$error":"#REF!"}},"1.3","2.3","","","","","","","","","","","","","",null,null,"1.4",null,null,null,null,null,null,null,null,null,null,null,null,null,null,null,null,null,null,null,null,null,null,null,null,{"$f":"IF(PLAN!$C13=\"\",\"\",PLAN!$C13)","v":"L2"},null,null,null,null,2,"Actividad. Taller La celula (Actividad en clase)",null,null,"1.2"]
[null,null,{"$f":"IF(D14=\"\",\"\",$AB$29)","v":"L3"},"EDED",{"$f":"IF(#REF!=\"\",\"\",#REF!)","v":{"$error":"#REF!"}},{"$f":"IF(CW14=\"\",#REF!,CW14)","v":"1.3"},{"$f":"IF(CX14=\"\",#REF!,CX14)","v":{"$error":"#REF!"}},{"$f":"IF(CY14=\"\",#REF!,CY14)","v":{"$error":"#REF!"}},{"$f":"IF(CZ14=\"\",#REF!,CZ14)","v":{"$error":"#REF!"}},{"$f":"IF(DA14=\"\",#REF!,DA14)","v":{"$error":"#REF!"}},{"$f":"IF(DB14=\"\",#REF!,DB14)","v":{"$error":"#REF!"}},{"$f":"IF(#REF!=\"\",\"\",#REF!)","v":{"$error":"#REF!"}},{"$f":"IF(DC14=\"\",#REF!,DC14)","v":{"$error":"#REF!"}},{"$f":"IF(DD14=\"\",#REF!,DD14)","v":{"$error":"#REF!"}},{"$f":"IF(DE14=\"\",#REF!,DE14)","v":{"$error":"#REF!"}},{"$f":"IF(DF14=\"\",#REF!,DF14)","v":{"$error":"#REF!"}},{"$f":"IF(DG14=\"\",#REF!,DG14)","v":{"$error":"#REF!"}},{"$f":"IF(DH14=\"\",#REF!,DH14)","v":{"$error":"#REF!"}},{"$f":"IF(#REF!=\"\",\"\",#REF!)","v":{"$error":"#REF!"}},{"$f":"IF(DI14=\"\",#REF!,DI14)","v":{"$error":"#REF!"}},{"$f":"IF(DJ14=\"\",#REF!,DJ14)","v":{"$error":"#REF!"}},{"$f":"IF(DK14=\"\",#REF!,DK14)","v":{"$error":"#REF!"}},{"$f":"IF(DL14=\"\",#REF!,DL14)","v":{"$error":"#REF!"}},{"$f":"IF(DM14=\"\",#REF!,DM14)","v":{"$error":"#REF!"}},{"$f":"IF(DN14=\"\",#REF!,DN14)","v":{"$error":"#REF!"}},null,43157,null,null,null,{"$f":"IF(F14=0,\"\",IF(OR(F14=\"1.1\",F14=\"1.2\",F14=\"1.3\",F14=\"1.4\",F14=\"1.5\",F14=\"1.6\"), $AC$2,IF(OR(F14=\"2.1\",F14=\"2.2\",F14=\"2.3\",F14=\"2.4\",F14=\"2.5\",F14=\"2.6\"),$AD$2,IF(OR(F14=\"3.1\",F14=\"3.2\",F14=\"3.3\",F14=\"3.4\",F14=\"3.5\",F14=\"3.6\"),$AE$2,IF(OR(F14=\"4.1\",F14=\"4.2\",F14=\"4.3\",F14=\"4.4\",F14=\"4.5\",F14=\"4.6\"),$AF$2,IF(OR(F14=\"5.1\",F14=\"5.2\",F14=\"5.3\",F14=\"5.4\",F14=\"5.5\",F14=\"5.6\"),$AG$2))))))","v":"L1"},{"$error":"#REF!"},{"$error":"#REF!"},null,null,null,null,{"$f":"#REF!","v":{"$error":"#REF!"}},"3.",{"$f":"IF(AL14=\"x\",#REF!,\"\")","v":{"$error":"#REF!"}},null,null,null,null,{"$f":"#REF!","v":{"$error":"#REF!"}},{"$f":"#REF!","v":{"$error":"#REF!"}},{"$f":"#REF!","v":{"$error":"#REF!"}},{"$f":"#REF!","v":{"$error":"#REF!"}},{"$f":"#REF!","v":{"$error":"#REF!"}},"1.4","2.4","","","","","","","","","","","","","",null,null,"1.5",null,null,null,null,null,null,null,null,null,null,null,null,null,null,null,null,null,null,null,null,null,null,null,null,{"$f":"IF(PLAN!$C14=\"\",\"\",PLAN!$C14)","v":"L3"},null,null,null,null,3,"Actividad. Clase (Cuestionario, sobre funciones celulares)",null,null,"1.3"]
[null,null,{"$f":"IF(D15=\"\",\"\",$AB$30)","v":""},null,{"$f":"IF(#REF!=\"\",\"\",#REF!)","v":{"$error":"#REF!"}},{"$f":"IF(CW15=\"\",#REF!,CW15)","v":"1.2"},{"$f":"IF(CX15=\"\",#REF!,CX15)","v":{"$error":"#REF!"}},{"$f":"IF(CY15=\"\",#REF!,CY15)","v":{"$error":"#REF!"}},{"$f":"IF(CZ15=\"\",#REF!,CZ15)","v":{"$error":"#REF!"}},{"$f":"IF(DA15=\"\",#REF!,DA15)","v":{"$error":"#REF!"}},{"$f":"IF(DB15=\"\",#REF!,DB15)","v":{"$error":"#REF!"}},{"$f":"IF(#REF!=\"\",\"\",#REF!)","v":{"$error":"#REF!"}},{"$f":"IF(DC15=\"\",#REF!,DC15)","v":{"$error":"#REF!"}},{"$f":"IF(DD15=\"\",#REF!,DD15)","v":{"$error":"#REF!"}},{"$f":"IF(DE15=\"\",#REF!,DE15)","v":{"$error":"#REF!"}},{"$f":"IF(DF15=\"\",#REF!,DF15)","v":{"$error":"#REF!"}},{"$f":"IF(DG15=\"\",#REF!,DG15)","v":{"$error":"#REF!"}},{"$f":"IF(DH15=\"\",#REF!,DH15)","v":{"$error":"#REF!"}},{"$f":"IF(#REF!=\"\",\"\",#REF!)","v":{"$error":"#REF!"}},{"$f":"IF(DI15=\"\",#REF!,DI15)","v":{"$error":"#REF!"}},{"$f":"IF(DJ15=\"\",#REF!,DJ15)","v":{"$error":"#REF!"}},{"$f":"IF(DK15=\"\",#REF!,DK15)","v":{"$error":"#REF!"}},{"$f":"IF(DL15=\"\",#REF!,DL15)","v":{"$error":"#REF!"}},{"$f":"IF(DM15=\"\",#REF!,DM15)","v":{"$error":"#REF!"}},{"$f":"IF(DN15=\"\",#REF!,DN15)","v":{"$error":"#REF!"}},null,43159,null,null,null,"L1",{"$error":"#REF!"},{"$error":"#REF!"},null,null,null,null,{"$f":"#REF!","v":{"$error":"#REF!"}},"4.",{"$f":"IF(AL15=\"x\",#REF!,\"\")","v":{"$error":"#REF!"}},null,null,null,null,{"$f":"#REF!","v":{"$error":"#REF!"}},{"$f":"#REF!","v":{"$error":"#REF!"}},{"$f":"#REF!","v":{"$error":"#REF!"}},{"$f":"#REF!","v":{"$error":"#REF!"}},{"$f":"#REF!","v":{"$error":"#REF!"}},"","","","","","","","","","","","","","","",null,null,"1.6",null,null,null,null,null,null,null,null,null,null,null,null,null,null,null,null,null,null,null,null,null,null,null,null,{"$f":"IF(PLAN!$C15=\"\",\"\",PLAN!$C15)","v":""},null,null,null,null,4,"Quiz.",null,null,"1.2"]
[null,null,{"$f":"IF(D16=\"\",\"\",$AB$31)","v":""},null,{"$f":"IF(#REF!=\"\",\"\",#REF!)","v":{"$error":"#REF!"}},{"$f":"IF(CW16=\"\",#REF!,CW16)","v":"1.1"},{"$f":"IF(CX16=\"\",#REF!,CX16)","v":{"$error":"#REF!"}},{"$f":"IF(CY16=\"\",#REF!,CY16)","v":{"$error":"#REF!"}},{"$f":"IF(CZ16=\"\",#REF!,CZ16)","v":{"$error":"#REF!"}},{"$f":"IF(DA16=\"\",#REF!,DA16)","v":{"$error":"#REF!"}},{"$f":"IF(DB16=\"\",#REF!,DB16)","v":{"$error":"#REF!"}},{"$f":"IF(#REF!=\"\",\"\",#REF!)","v":{"$error":"#REF!"}},{"$f":"IF(DC16=\"\",#REF!,DC16)","v":{"$error":"#REF!"}},{"$f":"IF(DD16=\"\",#REF!,DD16)","v":{"$error":"#REF!"}},{"$f":"IF(DE16=\"\",#REF!,DE16)","v":{"$error":"#REF!"}},{"$f":"IF(DF16=\"\",#REF!,DF16)","v":{"$error":"#REF!"}},{"$f":"IF(DG16=\"\",#REF!,DG16)","v":{"$error":"#REF!"}},{"$f":"IF(DH16=\"\",#REF!,DH16)","v":{"$error":"#REF!"}},{"$f":"IF(#REF!=\"\",\"\",#REF!)","v":{"$error":"#REF!"}},{"$f":"IF(DI16=\"\",#REF!,DI16)","v":{"$error":"#REF!"}},{"$f":"IF(DJ16=\"\",#REF!,DJ16)","v":{"$error":"#REF!"}},{"$f":"IF(DK16=\"\",#REF!,DK16)","v":{"$error":"#REF!"}},{"$f":"IF(DL16=\"\",#REF!,DL16)","v":{"$error":"#REF!"}},{"$f":"IF(DM16=\"\",#REF!,DM16)","v":{"$error":"#REF!"}},{"$f":"IF(DN16=\"\",#REF!,DN16)","v":{"$error":"#REF!"}},null,43159,null,null,null,"L1",{"$error":"#REF!"},{"$error":"#REF!"},null,null,null,null,{"$f":"#REF!","v":{"$error":"#REF!"}},"5.",{"$f":"IF(AL16=\"x\",#REF!,\"\")","v":{"$error":"#REF!"}},null,null,null,null,{"$f":"#REF!","v":{"$error":"#REF!"}},{"$f":"#REF!","v":{"$error":"#REF!"}},{"$f":"#REF!","v":{"$error":"#REF!"}},{"$f":"#REF!","v":{"$error":"#REF!"}},{"$f":"#REF!","v":{"$error":"#REF!"}},"","","","","","","","","","","","","","","",null,null,"2.",null,null,null,null,null,null,null,null,null,null,null,null,null,null,null,null,null,null,null,null,null,null,null,null,{"$f":"IF(PLAN!$C16=\"\",\"\",PLAN!$C16)","v":""},null,null,null,null,5,"Infograma. ",null,null,"1.1"]
[null,"2T",{"$f":"IF(D17=\"\",\"\",$AB$27)","v":""},null,{"$f":"IF(#REF!=\"\",\"\",#REF!)","v":{"$error":"#REF!"}},{"$f":"IF(CW17=\"\",#REF!,CW17)","v":"1.3"},{"$f":"IF(CX17=\"\",#REF!,CX17)","v":{"$error":"#REF!"}},{"$f":"IF(CY17=\"\",#REF!,CY17)","v":{"$error":"#REF!"}},{"$f":"IF(CZ17=\"\",#REF!,CZ17)","v":{"$error":"#REF!"}},{"$f":"IF(DA17=\"\",#REF!,DA17)","v":{"$error":"#REF!"}},{"$f":"IF(DB17=\"\",#REF!,DB17)","v":{"$error":"#REF!"}},{"$f":"IF(#REF!=\"\",\"\",#REF!)","v":{"$error":"#REF!"}},{"$f":"IF(DC17=\"\",#REF!,DC17)","v":{"$error":"#REF!"}},{"$f":"IF(DD17=\"\",#REF!,DD17)","v":{"$error":"#REF!"}},{"$f":"IF(DE17=\"\",#REF!,DE17)","v":{"$error":"#REF!"}},{"$f":"IF(DF17=\"\",#REF!,DF17)","v":{"$error":"#REF!"}},{"$f":"IF(DG17=\"\",#REF!,DG17)","v":{"$error":"#REF!"}},{"$f":"IF(DH17=\"\",#REF!,DH17)","v":{"$error":"#REF!"}},{"$f":"IF(#REF!=\"\",\"\",#REF!)","v":{"$error":"#REF!"}},{"$f":"IF(DI17=\"\",#REF!,DI17)","v":{"$error":"#REF!"}},{"$f":"IF(DJ17=\"\",#REF!,DJ17)","v":{"$error":"#REF!"}},{"$f":"IF(DK17=\"\",#REF!,DK17)","v":{"$error":"#REF!"}},{"$f":"IF(DL17=\"\",#REF!,DL17)","v":{"$error":"#REF!"}},{"$f":"IF(DM17=\"\",#REF!,DM17)","v":{"$error":"#REF!"}},{"$f":"IF(DN17=\"\",#REF!,DN17)","v":{"$error":"#REF!"}},null,43165,null,null,null,"L1",{"$error":"#REF!"},{"$error":"#REF!"},null,null,null,null,null,null,null,null,null,null,null,null,null,null,null,null,null,null,null,null,null,null,null,null,null,null,null,null,null,null,null,null,null,"2.1",null,null,null,null,null,null,null,null,null,null,null,null,null,null,null,null,null,null,null,null,null,null,null,null,{"$f":"IF(PLAN!$C17=\"\",\"\",PLAN!$C17)","v":""},null,null,null,null,6,"Video Clip.",null,null,"1.3"]
[null,null,{"$f":"IF(D18=\"\",\"\",$AB$28)","v":""},null,{"$f":"IF(#REF!=\"\",\"\",#REF!)","v":{"$error":"#REF!"}},{"$f":"IF(CW18=\"\",#REF!,CW18)","v":"2.3"},{"$f":"IF(CX18=\"\",#REF!,CX18)","v":{"$error":"#REF!"}},{"$f":"IF(CY18=\"\",#REF!,CY18)","v":{"$error":"#REF!"}},{"$f":"IF(CZ18=\"\",#REF!,CZ18)","v":{"$error":"#REF!"}},{"$f":"IF(DA18=\"\",#REF!,DA18)","v":{"$error":"#REF!"}},{"$f":"IF(DB18=\"\",#REF!,DB18)","v":{"$error":"#REF!"}},{"$f":"IF(#REF!=\"\",\"\",#REF!)","v":{"$error":"#REF!"}},{"$f":"IF(DC18=\"\",#REF!,DC18)","v":{"$error":"#REF!"}},{"$f":"IF(DD18=\"\",#REF!,DD18)","v":{"$error":"#REF!"}},{"$f":"IF(DE18=\"\",#REF!,DE18)","v":{"$error":"#REF!"}},{"$f":"IF(DF18=\"\",#REF!,DF18)","v":{"$error":"#REF!"}},{"$f":"IF(DG18=\"\",#REF!,DG18)","v":{"$error":"#REF!"}},{"$f":"IF(DH18=\"\",#REF!,DH18)","v":{"$error":"#REF!"}},{"$f":"IF(#REF!=\"\",\"\",#REF!)","v":{"$error":"#REF!"}},{"$f":"IF(DI18=\"\",#REF!,DI18)","v":{"$error":"#REF!"}},{"$f":"IF(DJ18=\"\",#REF!,DJ18)","v":{"$error":"#REF!"}},{"$f":"IF(DK18=\"\",#REF!,DK18)","v":{"$error":"#REF!"}},{"$f":"IF(DL18=\"\",#REF!,DL18)","v":{"$error":"#REF!"}},{"$f":"IF(DM18=\"\",#REF!,DM18)","v":{"$error":"#REF!"}},{"$f":"IF(DN18=\"\",#REF!,DN18)","v":{"$error":"#REF!"}},null,43179,null,null,null,"L2",{"$error":"#REF!"},{"$error":"#REF!"},null,null,null,null,null,null,null,null,null,null,null,null,null,null,null,null,null,null,null,null,null,null,null,null,null,null,null,null,null,null,null,null,null,"2.2",null,null,null,null,null,null,null,null,null,null,null,null,null,null,null,null,null,null,null,null,null,null,null,null,{"$f":"IF(PLAN!$C18=\"\",\"\",PLAN!$C18)","v":""},null,null,null,null,7,"Actividad. Digestive system. (preguntas)",null,null,"2.3"]
[null,null,{"$f":"IF(D19=\"\",\"\",$AB$29)","v":""},null,{"$f":"IF(#REF!=\"\",\"\",#REF!)","v":{"$error":"#REF!"}},{"$f":"IF(CW19=\"\",#REF!,CW19)","v":"1.4"},{"$f":"IF(CX19=\"\",#REF!,CX19)","v":{"$error":"#REF!"}},{"$f":"IF(CY19=\"\",#REF!,CY19)","v":{"$error":"#REF!"}},{"$f":"IF(CZ19=\"\",#REF!,CZ19)","v":{"$error":"#REF!"}},{"$f":"IF(DA19=\"\",#REF!,DA19)","v":{"$error":"#REF!"}},{"$f":"IF(DB19=\"\",#REF!,DB19)","v":{"$error":"#REF!"}},{"$f":"IF(#REF!=\"\",\"\",#REF!)","v":{"$error":"#REF!"}},{"$f":"IF(DC19=\"\",#REF!,DC19)","v":{"$error":"#REF!"}},{"$f":"IF(DD19=\"\",#REF!,DD19)","v":{"$error":"#REF!"}},{"$f":"IF(DE19=\"\",#REF!,DE19)","v":{"$error":"#REF!"}},{"$f":"IF(DF19=\"\",#REF!,DF19)","v":{"$error":"#REF!"}},{"$f":"IF(DG19=\"\",#REF!,DG19)","v":{"$error":"#REF!"}},{"$f":"IF(DH19=\"\",#REF!,DH19)","v":{"$error":"#REF!"}},{"$f":"IF(#REF!=\"\",\"\",#REF!)","v":{"$error":"#REF!"}},{"$f":"IF(DI19=\"\",#REF!,DI19)","v":{"$error":"#REF!"}},{"$f":"IF(DJ19=\"\",#REF!,DJ19)","v":{"$error":"#REF!"}},{"$f":"IF(DK19=\"\",#REF!,DK19)","v":{"$error":"#REF!"}},{"$f":"IF(DL19=\"\",#REF!,DL19)","v":{"$error":"#REF!"}},{"$f":"IF(DM19=\"\",#REF!,DM19)","v":{"$error":"#REF!"}},{"$f":"IF(DN19=\"\",#REF!,DN19)","v":{"$error":"#REF!"}},null,43201,null,null,null,"L1",{"$error":"#REF!"},{"$error":"#REF!"},null,null,null,null,null,null,null,null,null,null,null,null,null,null,null,null,null,null,null,null,null,null,null,null,null,null,null,null,null,null,null,null,null,"2.3",null,null,null,null,null,null,null,null,null,null,null,null,null,null,null,null,null,null,null,null,null,null,null,null,{"$f":"IF(PLAN!$C19=\"\",\"\",PLAN!$C19)","v":""},null,null,null,null,8,"Actividad investigacion. Proyecto final",null,null,"1.4"]
[null,null,{"$f":"IF(D20=\"\",\"\",$AB$30)","v":""},null,{"$f":"IF(#REF!=\"\",\"\",#REF!)","v":{"$error":"#REF!"}},{"$f":"IF(CW20=\"\",#REF!,CW20)","v":{"$error":"#REF!"}},{"$f":"IF(CX20=\"\",#REF!,CX20)","v":{"$error":"#REF!"}},{"$f":"IF(CY20=\"\",#REF!,CY20)","v":{"$error":"#REF!"}},{"$f":"IF(CZ20=\"\",#REF!,CZ20)","v":{"$error":"#REF!"}},{"$f":"IF(DA20=\"\",#REF!,DA20)","v":{"$error":"#REF!"}},{"$f":"IF(DB20=\"\",#REF!,DB20)","v":{"$error":"#REF!"}},{"$f":"IF(#REF!=\"\",\"\",#REF!)","v":{"$error":"#REF!"}},{"$f":"IF(DC20=\"\",#REF!,DC20)","v":{"$error":"#REF!"}},{"$f":"IF(DD20=\"\",#REF!,DD20)","v":{"$error":"#REF!"}},{"$f":"IF(DE20=\"\",#REF!,DE20)","v":{"$error":"#REF!"}},{"$f":"IF(DF20=\"\",#REF!,DF20)","v":{"$error":"#REF!"}},{"$f":"IF(DG20=\"\",#REF!,DG20)","v":{"$error":"#REF!"}},{"$f":"IF(DH20=\"\",#REF!,DH20)","v":{"$error":"#REF!"}},{"$f":"IF(#REF!=\"\",\"\",#REF!)","v":{"$error":"#REF!"}},{"$f":"IF(DI20=\"\",#REF!,DI20)","v":{"$error":"#REF!"}},{"$f":"IF(DJ20=\"\",#REF!,DJ20)","v":{"$error":"#REF!"}},{"$f":"IF(DK20=\"\",#REF!,DK20)","v":{"$error":"#REF!"}},{"$f":"IF(DL20=\"\",#REF!,DL20)","v":{"$error":"#REF!"}},{"$f":"IF(DM20=\"\",#REF!,DM20)","v":{"$error":"#REF!"}},{"$f":"IF(DN20=\"\",#REF!,DN20)","v":{"$error":"#REF!"}},null,null,null,null,null,{"$error":"#REF!"},{"$error":"#REF!"},{"$error":"#REF!"},null,null,null,null,null,null,null,null,null,null,null,null,null,null,null,null,null,null,null,null,null,null,null,null,null,null,null,null,null,null,null,null,null,"2.4",null,null,null,null,null,null,null,null,null,null,null,null,null,null,null,null,null,null,null,null,null,null,null,null,{"$f":"IF(PLAN!$C20=\"\",\"\",PLAN!$C20)","v":""},null,null,null,null,9]
[null,null,{"$f":"IF(D21=\"\",\"\",$AB$31)","v":""},null,{"$f":"IF(#REF!=\"\",\"\",#REF!)","v":{"$error":"#REF!"}},{"$f":"IF(CW21=\"\",#REF!,CW21)","v":{"$error":"#REF!"}},{"$f":"IF(CX21=\"\",#REF!,CX21)","v":{"$error":"#REF!"}},{"$f":"IF(CY21=\"\",#REF!,CY21)","v":{"$error":"#REF!"}},{"$f":"IF(CZ21=\"\",#REF!,CZ21)","v":{"$error":"#REF!"}},{"$f":"IF(DA21=\"\",#REF!,DA21)","v":{"$error":"#REF!"}},{"$f":"IF(DB21=\"\",#REF!,DB21)","v":{"$error":"#REF!"}},{"$f":"IF(#REF!=\"\",\"\",#REF!)","v":{"$error":"#REF!"}},{"$f":"IF(DC21=\"\",#REF!,DC21)","v":{"$error":"#REF!"}},{"$f":"IF(DD21=\"\",#REF!,DD21)","v":{"$error":"#REF!"}},{"$f":"IF(DE21=\"\",#REF!,DE21)","v":{"$error":"#REF!"}},{"$f":"IF(DF21=\"\",#REF!,DF21)","v":{"$error":"#REF!"}},{"$f":"IF(DG21=\"\",#REF!,DG21)","v":{"$error":"#REF!"}},{"$f":"IF(DH21=\"\",#REF!,DH21)","v":{"$error":"#REF!"}},{"$f":"IF(#REF!=\"\",\"\",#REF!)","v":{"$error":"#REF!"}},{"$f":"IF(DI21=\"\",#REF!,DI21)","v":{"$error":"#REF!"}},{"$f":"IF(DJ21=\"\",#REF!,DJ21)","v":{"$error":"#REF!"}},{"$f":"IF(DK21=\"\",#REF!,DK21)","v":{"$error":"#REF!"}},{"$f":"IF(DL21=\"\",#REF!,DL21)","v":{"$error":"#REF!"}},{"$f":"IF(DM21=\"\",#REF!,DM21)","v":{"$error":"#REF!"}},{"$f":"IF(DN21=\"\",#REF!,DN21)","v":{"$error":"#REF!"}},null,null,null,null,null,{"$error":"#REF!"},{"$error":"#REF!"},{"$error":"#REF!"},null,null,null,null,null,null,null,null,null,null,null,null,null,null,null,null,null,null,null,null,null,null,null,null,null,null,null,null,null,null,null,null,null,"2.5",null,null,null,null,null,null,null,null,null,null,null,null,null,null,null,null,null,null,null,null,null,null,null,null,{"$f":"IF(PLAN!$C21=\"\",\"\",PLAN!$C21)","v":""},null,null,null,null,10]
[null,"3T",{"$f":"IF(D22=\"\",\"\",$AB$27)","v":""},null,{"$f":"IF(#REF!=\"\",\"\",#REF!)","v":{"$error":"#REF!"}},{"$f":"IF(CW22=\"\",#REF!,CW22)","v":{"$error":"#REF!"}},{"$f":"IF(CX22=\"\",#REF!,CX22)","v":{"$error":"#REF!"}},{"$f":"IF(CY22=\"\",#REF!,CY22)","v":{"$error":"#REF!"}},{"$f":"IF(CZ22=\"\",#REF!,CZ22)","v":{"$error":"#REF!"}},{"$f":"IF(DA22=\"\",#REF!,DA22)","v":{"$error":"#REF!"}},{"$f":"IF(DB22=\"\",#REF!,DB22)","v":{"$error":"#REF!"}},{"$f":"IF(#REF!=\"\",\"\",#REF!)","v":{"$error":"#REF!"}},{"$f":"IF(DC22=\"\",#REF!,DC22)","v":{"$error":"#REF!"}},{"$f":"IF(DD22=\"\",#REF!,DD22)","v":{"$error":"#REF!"}},{"$f":"IF(DE22=\"\",#REF!,DE22)","v":{"$error":"#REF!"}},{"$f":"IF(DF22=\"\",#REF!,DF22)","v":{"$error":"#REF!"}},{"$f":"IF(DG22=\"\",#REF!,DG22)","v":{"$error":"#REF!"}},{"$f":"IF(DH22=\"\",#REF!,DH22)","v":{"$error":"#REF!"}},{"$f":"IF(#REF!=\"\",\"\",#REF!)","v":{"$error":"#REF!"}},{"$f":"IF(DI22=\"\",#REF!,DI22)","v":{"$error":"#REF!"}},{"$f":"IF(DJ22=\"\",#REF!,DJ22)","v":{"$error":"#REF!"}},{"$f":"IF(DK22=\"\",#REF!,DK22)","v":{"$error":"#REF!"}},{"$f":"IF(DL22=\"\",#REF!,DL22)","v":{"$error":"#REF!"}},{"$f":"IF(DM22=\"\",#REF!,DM22)","v":{"$error":"#REF!"}},{"$f":"IF(DN22=\"\",#REF!,DN22)","v":{"$error":"#REF!"}},null,null,null,null,null,{"$error":"#REF!"},{"$error":"#REF!"},{"$error":"#REF!"},null,null,null,null,null,null,null,null,null,null,null,null,null,null,null,null,null,null,null,null,null,null,null,null,null,null,null,null,null,null,null,null,null,"2.6",null,null,null,null,null,null,null,null,null,null,null,null,null,null,null,null,null,null,null,null,null,null,null,null,{"$f":"IF(PLAN!$C22=\"\",\"\",PLAN!$C22)","v":""},null,null,null,null,11]
[null,null,{"$f":"IF(D23=\"\",\"\",$AB$28)","v":""},null,{"$f":"IF(#REF!=\"\",\"\",#REF!)","v":{"$error":"#REF!"}},{"$f":"IF(CW23=\"\",#REF!,CW23)","v":{"$error":"#REF!"}},{"$f":"IF(CX23=\"\",#REF!,CX23)","v":{"$error":"#REF!"}},{"$f":"IF(CY23=\"\",#REF!,CY23)","v":{"$error":"#REF!"}},{"$f":"IF(CZ23=\"\",#REF!,CZ23)","v":{"$error":"#REF!"}},{"$f":"IF(DA23=\"\",#REF!,DA23)","v":{"$error":"#REF!"}},{"$f":"IF(DB23=\"\",#REF!,DB23)","v":{"$error":"#REF!"}},{"$f":"IF(#REF!=\"\",\"\",#REF!)","v":{"$error":"#REF!"}},{"$f":"IF(DC23=\"\",#REF!,DC23)","v":{"$error":"#REF!"}},{"$f":"IF(DD23=\"\",#REF!,DD23)","v":{"$error":"#REF!"}},{"$f":"IF(DE23=\"\",#REF!,DE23)","v":{"$error":"#REF!"}},{"$f":"IF(DF23=\"\",#REF!,DF23)","v":{"$error":"#REF!"}},{"$f":"IF(DG23=\"\",#REF!,DG23)","v":{"$error":"#REF!"}},{"$f":"IF(DH23=\"\",#REF!,DH23)","v":{"$error":"#REF!"}},{"$f":"IF(#REF!=\"\",\"\",#REF!)","v":{"$error":"#REF!"}},{"$f":"IF(DI23=\"\",#REF!,DI23)","v":{"$error":"#REF!"}},{"$f":"IF(DJ23=\"\",#REF!,DJ23)","v":{"$error":"#REF!"}},{"$f":"IF(DK23=\"\",#REF!,DK23)","v":{"$error":"#REF!"}},{"$f":"IF(DL23=\"\",#REF!,DL23)","v":{"$error":"#REF!"}},{"$f":"IF(DM23=\"\",#REF!,DM23)","v":{"$error":"#REF!"}},{"$f":"IF(DN23=\"\",#REF!,DN23)","v":{"$error":"#REF!"}},null,null,null,null,null,{"$error":"#REF!"},{"$error":"#REF!"},{"$error":"#REF!"},null,null,null,null,null,null,null,null,null,null,null,null,null,null,null,null,null,null,null,null,null,null,null,null,null,null,null,null,null,null,null,null,null,"3.",null,null,null,null,null,null,null,null,null,null,null,null,null,null,null,null,null,null,null,null,null,null,null,null,{"$f":"IF(PLAN!$C23=\"\",\"\",PLAN!$C23)","v":""},null,null,null,null,12]
[null,null,{"$f":"IF(D24=\"\",\"\",$AB$29)","v":""},null,{"$f":"IF(#REF!=\"\",\"\",#REF!)","v":{"$error":"#REF!"}},{"$f":"IF(CW24=\"\",#REF!,CW24)","v":{"$error":"#REF!"}},{"$f":"IF(CX24=\"\",#REF!,CX24)","v":{"$error":"#REF!"}},{"$f":"IF(CY24=\"\",#REF!,CY24)","v":{"$error":"#REF!"}},{"$f":"IF(CZ24=\"\",#REF!,CZ24)","v":{"$error":"#REF!"}},{"$f":"IF(DA24=\"\",#REF!,DA24)","v":{"$error":"#REF!"}},{"$f":"IF(DB24=\"\",#REF!,DB24)","v":{"$error":"#REF!"}},{"$f":"IF(#REF!=\"\",\"\",#REF!)","v":{"$error":"#REF!"}},{"$f":"IF(DC24=\"\",#REF!,DC24)","v":{"$error":"#REF!"}},{"$f":"IF(DD24=\"\",#REF!,DD24)","v":{"$error":"#REF!"}},{"$f":"IF(DE24=\"\",#REF!,DE24)","v":{"$error":"#REF!"}},{"$f":"IF(DF24=\"\",#REF!,DF24)","v":{"$error":"#REF!"}},{"$f":"IF(DG24=\"\",#REF!,DG24)","v":{"$error":"#REF!"}},{"$f":"IF(DH24=\"\",#REF!,DH24)","v":{"$error":"#REF!"}},{"$f":"IF(#REF!=\"\",\"\",#REF!)","v":{"$error":"#REF!"}},{"$f":"IF(DI24=\"\",#REF!,DI24)","v":{"$error":"#REF!"}},{"$f":"IF(DJ24=\"\",#REF!,DJ24)","v":{"$error":"#REF!"}},{"$f":"IF(DK24=\"\",#REF!,DK24)","v":{"$error":"#REF!"}},{"$f":"IF(DL24=\"\",#REF!,DL24)","v":{"$error":"#REF!"}},{"$f":"IF(DM24=\"\",#REF!,DM24)","v":{"$error":"#REF!"}},{"$f":"IF(DN24=\"\",#REF!,DN24)","v":{"$error":"#REF!"}},null,null,null,null,null,{"$error":"#REF!"},{"$error":"#REF!"},{"$error":"#REF!"},null,null,null,null,null,null,null,null,null,null,null,null,null,null,null,null,null,null,null,null,null,null,null,null,null,null,null,null,null,null,null,null,null,"3.1",null,null,null,null,null,null,null,null,null,null,null,null,null,null,null,null,null,null,null,null,null,null,null,null,{"$f":"IF(PLAN!$C24=\"\",\"\",PLAN!$C24)","v":""},null,null,null,null,13]
[null,null,{"$f":"IF(D25=\"\",\"\",$AB$30)","v":""},null,{"$f":"IF(#REF!=\"\",\"\",#REF!)","v":{"$error":"#REF!"}},{"$f":"IF(CW25=\"\",#REF!,CW25)","v":{"$error":"#REF!"}},{"$f":"IF(CX25=\"\",#REF!,CX25)","v":{"$error":"#REF!"}},{"$f":"IF(CY25=\"\",#REF!,CY25)","v":{"$error":"#REF!"}},{"$f":"IF(CZ25=\"\",#REF!,CZ25)","v":{"$error":"#REF!"}},{"$f":"IF(DA25=\"\",#REF!,DA25)","v":{"$error":"#REF!"}},{"$f":"IF(DB25=\"\",#REF!,DB25)","v":{"$error":"#REF!"}},{"$f":"IF(#REF!=\"\",\"\",#REF!)","v":{"$error":"#REF!"}},{"$f":"IF(DC25=\"\",#REF!,DC25)","v":{"$error":"#REF!"}},{"$f":"IF(DD25=\"\",#REF!,DD25)","v":{"$error":"#REF!"}},{"$f":"IF(DE25=\"\",#REF!,DE25)","v":{"$error":"#REF!"}},{"$f":"IF(DF25=\"\",#REF!,DF25)","v":{"$error":"#REF!"}},{"$f":"IF(DG25=\"\",#REF!,DG25)","v":{"$error":"#REF!"}},{"$f":"IF(DH25=\"\",#REF!,DH25)","v":{"$error":"#REF!"}},{"$f":"IF(#REF!=\"\",\"\",#REF!)","v":{"$error":"#REF!"}},{"$f":"IF(DI25=\"\",#REF!,DI25)","v":{"$error":"#REF!"}},{"$f":"IF(DJ25=\"\",#REF!,DJ25)","v":{"$error":"#REF!"}},{"$f":"IF(DK25=\"\",#REF!,DK25)","v":{"$error":"#REF!"}},{"$f":"IF(DL25=\"\",#REF!,DL25)","v":{"$error":"#REF!"}},{"$f":"IF(DM25=\"\",#REF!,DM25)","v":{"$error":"#REF!"}},{"$f":"IF(DN25=\"\",#REF!,DN25)","v":{"$error":"#REF!"}},null,null,null,null,null,{"$error":"#REF!"},{"$error":"#REF!"},{"$error":"#REF!"},null,null,null,null,null,null,null,null,null,null,null,null,null,null,null,null,null,null,null,null,null,null,null,null,null,null,null,null,null,null,null,null,null,"3.2",null,null,null,null,null,null,null,null,null,null,null,null,null,null,null,null,null,null,null,null,null,null,null,null,{"$f":"IF(PLAN!$C25=\"\",\"\",PLAN!$C25)","v":""},null,null,null,null,14]
[null,null,{"$f":"IF(D26=\"\",\"\",$AB$31)","v":""},null,{"$f":"IF(#REF!=\"\",\"\",#REF!)","v":{"$error":"#REF!"}},{"$f":"IF(CW26=\"\",#REF!,CW26)","v":{"$error":"#REF!"}},{"$f":"IF(CX26=\"\",#REF!,CX26)","v":{"$error":"#REF!"}},{"$f":"IF(CY26=\"\",#REF!,CY26)","v":{"$error":"#REF!"}},{"$f":"IF(CZ26=\"\",#REF!,CZ26)","v":{"$error":"#REF!"}},{"$f":"IF(DA26=\"\",#REF!,DA26)","v":{"$error":"#REF!"}},{"$f":"IF(DB26=\"\",#REF!,DB26)","v":{"$error":"#REF!"}},{"$f":"IF(#REF!=\"\",\"\",#REF!)","v":{"$error":"#REF!"}},{"$f":"IF(DC26=\"\",#REF!,DC26)","v":{"$error":"#REF!"}},{"$f":"IF(DD26=\"\",#REF!,DD26)","v":{"$error":"#REF!"}},{"$f":"IF(DE26=\"\",#REF!,DE26)","v":{"$error":"#REF!"}},{"$f":"IF(DF26=\"\",#REF!,DF26)","v":{"$error":"#REF!"}},{"$f":"IF(DG26=\"\",#REF!,DG26)","v":{"$error":"#REF!"}},{"$f":"IF(DH26=\"\",#REF!,DH26)","v":{"$error":"#REF!"}},{"$f":"IF(#REF!=\"\",\"\",#REF!)","v":{"$error":"#REF!"}},{"$f":"IF(DI26=\"\",#REF!,DI26)","v":{"$error":"#REF!"}},{"$f":"IF(DJ26=\"\",#REF!,DJ26)","v":{"$error":"#REF!"}},{"$f":"IF(DK26=\"\",#REF!,DK26)","v":{"$error":"#REF!"}},{"$f":"IF(DL26=\"\",#REF!,DL26)","v":{"$error":"#REF!"}},{"$f":"IF(DM26=\"\",#REF!,DM26)","v":{"$error":"#REF!"}},{"$f":"IF(DN26=\"\",#REF!,DN26)","v":{"$error":"#REF!"}},null,null,null,null,null,{"$error":"#REF!"},{"$error":"#REF!"},{"$error":"#REF!"},null,null,null,null,null,null,null,null,null,null,null,null,null,null,null,null,null,null,null,null,null,null,null,null,null,null,null,null,null,null,null,null,null,"3.3",null,null,null,null,null,null,null,null,null,null,null,null,null,null,null,null,null,null,null,null,null,null,null,null,{"$f":"IF(PLAN!$C26=\"\",\"\",PLAN!$C26)","v":""},null,null,null,null,15]
[null,null,null,null,null,null,null,null,null,null,null,null,null,null,null,null,null,null,null,null,null,null,null,null,null,null,null,"L1",null,null,null,null,null,null,null,null,null,null,null,null,null,null,null,null,null,null,null,null,null,null,null,null,null,null,null,null,null,null,null,null,null,null,null,null,null,null,"3.4"]
[null,null,null,null,null,null,null,null,null,null,null,null,null,null,null,null,null,null,null,null,null,null,null,null,null,null,null,"L2",null,null,null,null,null,null,null,null,null,null,null,null,null,null,null,null,null,null,null,null,null,null,null,null,null,null,null,null,null,null,null,null,null,null,null,null,null,null,"3.5"]
[null,null,null,null,null,null,null,null,null,null,null,null,null,null,null,null,null,null,null,null,null,null,null,null,null,null,null,"L3",null,null,null,null,null,null,null,null,null,null,null,null,null,null,null,null,null,null,null,null,null,null,null,null,null,null,null,null,null,null,null,null,null,null,null,null,null,null,"3.6"]
[null,null,null,null,null,null,null,null,null,null,null,null,null,null,null,null,null,null,null,null,null,null,null,null,null,null,null,"L4",null,null,null,null,null,null,null,null,null,null,null,null,null,null,null,null,null,null,null,null,null,null,null,null,null,null,null,null,null,null,null,null,null,null,null,null,null,null,"4."]
[null,null,null,null,null,null,null,null,null,null,null,null,null,null,null,null,null,null,null,null,null,null,null,null,null,null,null,"L5",null,null,null,null,null,null,null,null,null,null,null,null,null,null,null,null,null,null,null,null,null,null,null,null,null,null,null,null,null,null,null,null,null,null,null,null,null,null,"4.1"]
[null,null,null,null,{"$f":"15-COUNTIF(E12:E26,\"\")","v":15},null,null,null,null,null,null,{"$f":"15-COUNTIF(L12:L26,\"\")","v":15},null,null,null,null,null,null,{"$f":"15-COUNTIF(S12:S26,\"\")","v":15},null,null,null,null,null,null,null,null,null,null,null,null,null,null,null,null,null,null,null,null,null,null,null,null,null,null,null,null,null,null,null,null,null,null,null,null,null,null,null,null,null,null,null,null,null,null,null,"4.2"]
[null,null,null,null,null,null,null,null,null,null,null,null,null,null,null,null,null,null,null,null,null,null,null,null,null,null,null,null,null,null,null,null,null,null,null,null,null,null,null,null,null,null,null,null,null,null,null,null,null,null,null,null,null,null,null,null,null,null,null,null,null,null,null,null,null,null,"4.3"]
[null,null,null,null,null,null,null,null,null,null,null,null,null,null,null,null,null,null,null,null,null,null,null,null,null,null,null,null,null,null,null,null,null,null,null,null,null,null,null,null,null,null,null,null,null,null,null,null,null,null,null,null,null,null,null,null,null,null,null,null,null,null,null,null,null,null,"4.4"]
[null,null,null,{"$f":"#REF!&#REF!","v":{"$error":"#REF!"}},null,null,null,null,null,null,null,null,null,null,null,null,null,null,null,null,null,null,null,null,null,null,null,null,null,null,null,null,null,null,null,null,null,null,null,null,null,null,null,null,null,null,null,null,null,null,null,null,null,null,null,null,null,null,null,null,null,null,null,null,null,null,"4.5"]
[null,null,null,null,null,null,null,null,null,null,null,null,null,null,null,null,null,null,null,null,null,null,null,null,null,null,null,null,null,null,null,null,null,null,null,null,null,null,null,null,null,null,null,null,"INDICADORES SELECCIONADOS",null,null,null,null,null,{"$f":"#REF!","v":{"$error":"#REF!"}},null,null,null,null,{"$f":"#REF!","v":{"$error":"#REF!"}},null,null,null,null,{"$f":"#REF!","v":{"$error":"#REF!"}},null,null,null,null,null,"4.6"]
[null,null,null,null,{"$f":"IF(INICIO!$H$2=\"1T\",INICIO!$NH$14,\"\")","v":"PRIMER TRIMESTRE"},null,{"$f":"IF(E37=\"PRIMER TRIMESTRE\",B39,\"\")","v":"1T"},null,null,null,null,{"$f":"IF(INICIO!$H$2=\"2T\",INICIO!$NH$15,\"\")","v":""},null,{"$f":"IF(L37=\"SEGUNDO TRIMESTRE\",B44,\"\")","v":""},null,null,null,null,{"$f":"IF(INICIO!$H$2=\"3T\",INICIO!$NH$16,\"\")","v":""},null,{"$f":"IF(S37=\"TERCER TRIMESTRE\",B49,\"\")","v":""},null,null,null,null,null,null,null,null,null,{"$f":"G37","v":"1T"},{"$f":"N37","v":""},{"$f":"U37","v":""},null,null,null,null,null,null,null,null,null,null,null,"L1","L2","L3","L4","L5","L1","L2","L3","L4","L5","L1","L2","L3","L4","L5","L1","L2","L3","L4","L5",null,null,"5.",null,null,null,null,null,null,null,null,null,null,null,null,null,null,null,null,null,null,null,null,null,null,null,null,null,null,null,null,null,null,"Copia de datos empleados durante el año, en las actividades"]
[null,"LOGROS",null,null,"ACTIVIDADES 1T","INDICADORES 1T",null,null,null,null,null,"ACTIVIDADES 2T","INDICADORES 2T",null,null,null,null,null,"ACTIVIDADES 3T","INDICADORES 3T",null,null,null,null,null,null,"FECHAS 1T","FECHAS 2T","FECHAS 3T",null,"LOGOS X ACTIVIDAD",null,null,null,null,null,null,"x",null,"LOGROS SELECCIONADOS",null,null,null,null,{"$f":"#REF!","v":{"$error":"#REF!"}},{"$f":"#REF!","v":{"$error":"#REF!"}},{"$f":"#REF!","v":{"$error":"#REF!"}},{"$f":"#REF!","v":{"$error":"#REF!"}},{"$f":"#REF!","v":{"$error":"#REF!"}},null,null,"","","","",null,null,null,null,null,null,null,null,null,null,null,"5.1",null,null,null,null,null,null,{"$f":"PLAN!$AX38","v":0},{"$f":"PLAN!$AY38","v":0},{"$f":"PLAN!$AZ38","v":""},{"$f":"PLAN!$BA38","v":""},{"$f":"PLAN!$BB38","v":""},{"$f":"PLAN!$BC38","v":""},{"$f":"PLAN!$BD38","v":0},{"$f":"PLAN!$BE38","v":0},{"$f":"PLAN!$BF38","v":0},{"$f":"PLAN!$BG38","v":0},{"$f":"PLAN!$BH38","v":0},{"$f":"PLAN!$BI38","v":0},{"$f":"PLAN!$BJ38","v":0},{"$f":"PLAN!$BK38","v":0},{"$f":"PLAN!$BL38","v":0},null,null,null,null,null,null,null,null,"# de","1T","2T","3T","Indicadores 1t",null,null,null,null,null,"Indicadores 2t",null,null,null,null,null,"Indicadores 3t"]
[null,"1T",{"$f":"IF(D39=\"\",\"\",$AB$27)","v":""},null,{"$f":"IF(#REF!=\"\",\"\",#REF!)","v":{"$error":"#REF!"}},{"$f":"IF(CW39=\"\",#REF!,CW39)","v":{"$error":"#REF!"}},{"$f":"IF(CX39=\"\",#REF!,CX39)","v":{"$error":"#REF!"}},{"$f":"IF(CY39=\"\",#REF!,CY39)","v":{"$error":"#REF!"}},{"$f":"IF(CZ39=\"\",#REF!,CZ39)","v":{"$error":"#REF!"}},{"$f":"IF(DA39=\"\",#REF!,DA39)","v":{"$error":"#REF!"}},{"$f":"IF(DB39=\"\",#REF!,DB39)","v":{"$error":"#REF!"}},{"$f":"IF(#REF!=\"\",\"\",#REF!)","v":{"$error":"#REF!"}},{"$f":"IF(DC39=\"\",#REF!,DC39)","v":{"$error":"#REF!"}},{"$f":"IF(DD39=\"\",#REF!,DD39)","v":{"$error":"#REF!"}},{"$f":"IF(DE39=\"\",#REF!,DE39)","v":{"$error":"#REF!"}},{"$f":"IF(DF39=\"\",#REF!,DF39)","v":{"$error":"#REF!"}},{"$f":"IF(DG39=\"\",#REF!,DG39)","v":{"$error":"#REF!"}},{"$f":"IF(DH39=\"\",#REF!,DH39)","v":{"$error":"#REF!"}},{"$f":"IF(#REF!=\"\",\"\",#REF!)","v":{"$error":"#REF!"}},{"$f":"IF(DI39=\"\",#REF!,DI39)","v":{"$error":"#REF!"}},{"$f":"IF(DJ39=\"\",#REF!,DJ39)","v":{"$error":"#REF!"}},{"$f":"IF(DK39=\"\",#REF!,DK39)","v":{"$error":"#REF!"}},{"$f":"IF(DL39=\"\",#REF!,DL39)","v":{"$error":"#REF!"}},{"$f":"IF(DM39=\"\",#REF!,DM39)","v":{"$error":"#REF!"}},{"$f":"IF(DN39=\"\",#REF!,DN39)","v":{"$error":"#REF!"}},null,null,null,null,null,{"$f":"IF(F39=0,\"\",IF(OR(F39=\"1.1\",F39=\"1.2\",F39=\"1.3\",F39=\"1.4\",F39=\"1.5\",F39=\"1.6\"), $AC$2,IF(OR(F39=\"2.1\",F39=\"2.2\",F39=\"2.3\",F39=\"2.4\",F39=\"2.5\",F39=\"2.6\"),$AD$2,IF(OR(F39=\"3.1\",F39=\"3.2\",F39=\"3.3\",F39=\"3.4\",F39=\"3.5\",F39=\"3.6\"),$AE$2,IF(OR(F39=\"4.1\",F39=\"4.2\",F39=\"4.3\",F39=\"4.4\",F39=\"4.5\",F39=\"4.6\"),$AF$2,IF(OR(F39=\"5.1\",F39=\"5.2\",F39=\"5.3\",F39=\"5.4\",F39=\"5.5\",F39=\"5.6\"),$AG$2))))))","v":{"$error":"#REF!"}},{"$f":"IF(M39=0,\"\",IF(OR(M39=\"1.1\",M39=\"1.2\",M39=\"1.3\",M39=\"1.4\",M39=\"1.5\",M39=\"1.6\"), $AC$2,IF(OR(M39=\"2.1\",M39=\"2.2\",M39=\"2.3\",M39=\"2.4\",M39=\"2.5\",M39=\"2.6\"),$AD$2,IF(OR(M39=\"3.1\",M39=\"3.2\",M39=\"3.3\",M39=\"3.4\",M39=\"3.5\",M39=\"3.6\"),$AE$2,IF(OR(M39=\"4.1\",M39=\"4.2\",M39=\"4.3\",M39=\"4.4\",M39=\"4.5\",M39=\"4.6\"),$AF$2,IF(OR(M39=\"5.1\",M39=\"5.2\",M39=\"5.3\",M39=\"5.4\",M39=\"5.5\",M39=\"5.6\"),$AG$2))))))","v":{"$error":"#REF!"}},{"$f":"IF(T39=0,\"\",IF(OR(T39=\"1.1\",T39=\"1.2\",T39=\"1.3\",T39=\"1.4\",T39=\"1.5\",T39=\"1.6\"), $AC$2,IF(OR(T39=\"2.1\",T39=\"2.2\",T39=\"2.3\",T39=\"2.4\",T39=\"2.5\",T39=\"2.6\"),$AD$2,IF(OR(T39=\"3.1\",T39=\"3.2\",T39=\"3.3\",T39=\"3.4\",T39=\"3.5\",T39=\"3.6\"),$AE$2,IF(OR(T39=\"4.1\",T39=\"4.2\",T39=\"4.3\",T39=\"4.4\",T39=\"4.5\",T39=\"4.6\"),$AF$2,IF(OR(T39=\"5.1\",T39=\"5.2\",T39=\"5.3\",T39=\"5.4\",T39=\"5.5\",T39=\"5.6\"),$AG$2))))))","v":{"$error":"#REF!"}},null,null,null,null,{"$f":"#REF!","v":{"$error":"#REF!"}},"1.",{"$f":"IF(AL39=\"x\",#REF!,\"\")","v":{"$error":"#REF!"}},null,null,null,null,{"$f":"#REF!","v":{"$error":"#REF!"}},{"$f":"#REF!","v":{"$error":"#REF!"}},{"$f":"#REF!","v":{"$error":"#REF!"}},{"$f":"#REF!","v":{"$error":"#REF!"}},{"$f":"#REF!","v":{"$error":"#REF!"}},null,null,"","","","",null,null,null,null,null,null,null,null,null,null,null,"5.2",null,null,null,null,null,null,{"$f":"PLAN!$AX39","v":0},{"$f":"PLAN!$AY39","v":0},{"$f":"PLAN!$AZ39","v":""},{"$f":"PLAN!$BA39","v":""},{"$f":"PLAN!$BB39","v":""},{"$f":"PLAN!$BC39","v":""},{"$f":"PLAN!$BD39","v":0},{"$f":"PLAN!$BE39","v":0},{"$f":"PLAN!$BF39","v":0},{"$f":"PLAN!$BG39","v":0},{"$f":"PLAN!$BH39","v":0},{"$f":"PLAN!$BI39","v":0},{"$f":"PLAN!$BJ39","v":0},{"$f":"PLAN!$BK39","v":0},{"$f":"PLAN!$BL39","v":0},null,null,null,{"$f":"IF(PLAN!$C39=\"\",\"\",PLAN!$C39)","v":""},null,null,null,null,1,"x","EM"]
[null,null,{"$f":"IF(D40=\"\",\"\",$AB$28)","v":""},null,{"$f":"IF(#REF!=\"\",\"\",#REF!)","v":{"$error":"#REF!"}},{"$f":"IF(CW40=\"\",#REF!,CW40)","v":{"$error":"#REF!"}},{"$f":"IF(CX40=\"\",#REF!,CX40)","v":{"$error":"#REF!"}},{"$f":"IF(CY40=\"\",#REF!,CY40)","v":{"$error":"#REF!"}},{"$f":"IF(CZ40=\"\",#REF!,CZ40)","v":{"$error":"#REF!"}},{"$f":"IF(DA40=\"\",#REF!,DA40)","v":{"$error":"#REF!"}},{"$f":"IF(DB40=\"\",#REF!,DB40)","v":{"$error":"#REF!"}},{"$f":"IF(#REF!=\"\",\"\",#REF!)","v":{"$error":"#REF!"}},{"$f":"IF(DC40=\"\",#REF!,DC40)","v":{"$error":"#REF!"}},{"$f":"IF(DD40=\"\",#REF!,DD40)","v":{"$error":"#REF!"}},{"$f":"IF(DE40=\"\",#REF!,DE40)","v":{"$error":"#REF!"}},{"$f":"IF(DF40=\"\",#REF!,DF40)","v":{"$error":"#REF!"}},{"$f":"IF(DG40=\"\",#REF!,DG40)","v":{"$error":"#REF!"}},{"$f":"IF(DH40=\"\",#REF!,DH40)","v":{"$error":"#REF!"}},{"$f":"IF(#REF!=\"\",\"\",#REF!)","v":{"$error":"#REF!"}},{"$f":"IF(DI40=\"\",#REF!,DI40)","v":{"$error":"#REF!"}},{"$f":"IF(DJ40=\"\",#REF!,DJ40)","v":{"$error":"#REF!"}},{"$f":"IF(DK40=\"\",#REF!,DK40)","v":{"$error":"#REF!"}},{"$f":"IF(DL40=\"\",#REF!,DL40)","v":{"$error":"#REF!"}},{"$f":"IF(DM40=\"\",#REF!,DM40)","v":{"$error":"#REF!"}},{"$f":"IF(DN40=\"\",#REF!,DN40)","v":{"$error":"#REF!"}},null,null,null,null,null,{"$f":"IF(F40=0,\"\",IF(OR(F40=\"1.1\",F40=\"1.2\",F40=\"1.3\",F40=\"1.4\",F40=\"1.5\",F40=\"1.6\"), $AC$2,IF(OR(F40=\"2.1\",F40=\"2.2\",F40=\"2.3\",F40=\"2.4\",F40=\"2.5\",F40=\"2.6\"),$AD$2,IF(OR(F40=\"3.1\",F40=\"3.2\",F40=\"3.3\",F40=\"3.4\",F40=\"3.5\",F40=\"3.6\"),$AE$2,IF(OR(F40=\"4.1\",F40=\"4.2\",F40=\"4.3\",F40=\"4.4\",F40=\"4.5\",F40=\"4.6\"),$AF$2,IF(OR(F40=\"5.1\",F40=\"5.2\",F40=\"5.3\",F40=\"5.4\",F40=\"5.5\",F40=\"5.6\"),$AG$2))))))","v":{"$error":"#REF!"}},{"$f":"IF(M40=0,\"\",IF(OR(M40=\"1.1\",M40=\"1.2\",M40=\"1.3\",M40=\"1.4\",M40=\"1.5\",M40=\"1.6\"), $AC$2,IF(OR(M40=\"2.1\",M40=\"2.2\",M40=\"2.3\",M40=\"2.4\",M40=\"2.5\",M40=\"2.6\"),$AD$2,IF(OR(M40=\"3.1\",M40=\"3.2\",M40=\"3.3\",M40=\"3.4\",M40=\"3.5\",M40=\"3.6\"),$AE$2,IF(OR(M40=\"4.1\",M40=\"4.2\",M40=\"4.3\",M40=\"4.4\",M40=\"4.5\",M40=\"4.6\"),$AF$2,IF(OR(M40=\"5.1\",M40=\"5.2\",M40=\"5.3\",M40=\"5.4\",M40=\"5.5\",M40=\"5.6\"),$AG$2))))))","v":{"$error":"#REF!"}},{"$f":"IF(T40=0,\"\",IF(OR(T40=\"1.1\",T40=\"1.2\",T40=\"1.3\",T40=\"1.4\",T40=\"1.5\",T40=\"1.6\"), $AC$2,IF(OR(T40=\"2.1\",T40=\"2.2\",T40=\"2.3\",T40=\"2.4\",T40=\"2.5\",T40=\"2.6\"),$AD$2,IF(OR(T40=\"3.1\",T40=\"3.2\",T40=\"3.3\",T40=\"3.4\",T40=\"3.5\",T40=\"3.6\"),$AE$2,IF(OR(T40=\"4.1\",T40=\"4.2\",T40=\"4.3\",T40=\"4.4\",T40=\"4.5\",T40=\"4.6\"),$AF$2,IF(OR(T40=\"5.1\",T40=\"5.2\",T40=\"5.3\",T40=\"5.4\",T40=\"5.5\",T40=\"5.6\"),$AG$2))))))","v":{"$error":"#REF!"}},null,null,null,null,{"$f":"#REF!","v":{"$error":"#REF!"}},"2.",{"$f":"IF(AL40=\"x\",#REF!,\"\")","v":{"$error":"#REF!"}},null,null,null,null,{"$f":"#REF!","v":{"$error":"#REF!"}},{"$f":"#REF!","v":{"$error":"#REF!"}},{"$f":"#REF!","v":{"$error":"#REF!"}},{"$f":"#REF!","v":{"$error":"#REF!"}},{"$f":"#REF!","v":{"$error":"#REF!"}},null,null,"","","","",null,null,null,null,null,null,null,null,null,null,null,"5.3",null,null,null,null,null,null,{"$f":"PLAN!$AX40","v":0},{"$f":"PLAN!$AY40","v":0},{"$f":"PLAN!$AZ40","v":""},{"$f":"PLAN!$BA40","v":""},{"$f":"PLAN!$BB40","v":""},{"$f":"PLAN!$BC40","v":""},{"$f":"PLAN!$BD40","v":0},{"$f":"PLAN!$BE40","v":0},{"$f":"PLAN!$BF40","v":0},{"$f":"PLAN!$BG40","v":0},{"$f":"PLAN!$BH40","v":0},{"$f":"PLAN!$BI40","v":0},{"$f":"PLAN!$BJ40","v":0},{"$f":"PLAN!$BK40","v":0},{"$f":"PLAN!$BL40","v":0},null,null,null,{"$f":"IF(PLAN!$C40=\"\",\"\",PLAN!$C40)","v":""},null,null,null,null,2,"a","E"]
[null,null,{"$f":"IF(D41=\"\",\"\",$AB$29)","v":""},null,{"$f":"IF(#REF!=\"\",\"\",#REF!)","v":{"$error":"#REF!"}},{"$f":"IF(CW41=\"\",#REF!,CW41)","v":{"$error":"#REF!"}},{"$f":"IF(CX41=\"\",#REF!,CX41)","v":{"$error":"#REF!"}},{"$f":"IF(CY41=\"\",#REF!,CY41)","v":{"$error":"#REF!"}},{"$f":"IF(CZ41=\"\",#REF!,CZ41)","v":{"$error":"#REF!"}},{"$f":"IF(DA41=\"\",#REF!,DA41)","v":{"$error":"#REF!"}},{"$f":"IF(DB41=\"\",#REF!,DB41)","v":{"$error":"#REF!"}},{"$f":"IF(#REF!=\"\",\"\",#REF!)","v":{"$error":"#REF!"}},{"$f":"IF(DC41=\"\",#REF!,DC41)","v":{"$error":"#REF!"}},{"$f":"IF(DD41=\"\",#REF!,DD41)","v":{"$error":"#REF!"}},{"$f":"IF(DE41=\"\",#REF!,DE41)","v":{"$error":"#REF!"}},{"$f":"IF(DF41=\"\",#REF!,DF41)","v":{"$error":"#REF!"}},{"$f":"IF(DG41=\"\",#REF!,DG41)","v":{"$error":"#REF!"}},{"$f":"IF(DH41=\"\",#REF!,DH41)","v":{"$error":"#REF!"}},{"$f":"IF(#REF!=\"\",\"\",#REF!)","v":{"$error":"#REF!"}},{"$f":"IF(DI41=\"\",#REF!,DI41)","v":{"$error":"#REF!"}},{"$f":"IF(DJ41=\"\",#REF!,DJ41)","v":{"$error":"#REF!"}},{"$f":"IF(DK41=\"\",#REF!,DK41)","v":{"$error":"#REF!"}},{"$f":"IF(DL41=\"\",#REF!,DL41)","v":{"$error":"#REF!"}},{"$f":"IF(DM41=\"\",#REF!,DM41)","v":{"$error":"#REF!"}},{"$f":"IF(DN41=\"\",#REF!,DN41)","v":{"$error":"#REF!"}},null,null,null,null,null,{"$error":"#REF!"},{"$error":"#REF!"},{"$f":"IF(T41=0,\"\",IF(OR(T41=\"1.1\",T41=\"1.2\",T41=\"1.3\",T41=\"1.4\",T41=\"1.5\",T41=\"1.6\"), $AC$2,IF(OR(T41=\"2.1\",T41=\"2.2\",T41=\"2.3\",T41=\"2.4\",T41=\"2.5\",T41=\"2.6\"),$AD$2,IF(OR(T41=\"3.1\",T41=\"3.2\",T41=\"3.3\",T41=\"3.4\",T41=\"3.5\",T41=\"3.6\"),$AE$2,IF(OR(T41=\"4.1\",T41=\"4.2\",T41=\"4.3\",T41=\"4.4\",T41=\"4.5\",T41=\"4.6\"),$AF$2,IF(OR(T41=\"5.1\",T41=\"5.2\",T41=\"5.3\",T41=\"5.4\",T41=\"5.5\",T41=\"5.6\"),$AG$2))))))","v":{"$error":"#REF!"}},null,null,null,null,{"$f":"#REF!","v":{"$error":"#REF!"}},"3.",{"$f":"IF(AL41=\"x\",#REF!,\"\")","v":{"$error":"#REF!"}},null,null,null,null,{"$f":"#REF!","v":{"$error":"#REF!"}},{"$f":"#REF!","v":{"$error":"#REF!"}},{"$f":"#REF!","v":{"$error":"#REF!"}},{"$f":"#REF!","v":{"$error":"#REF!"}},{"$f":"#REF!","v":{"$error":"#REF!"}},null,null,"","","","",null,null,null,null,null,null,null,null,null,null,null,"5.4",null,null,null,null,null,null,{"$f":"PLAN!$AX41","v":0},{"$f":"PLAN!$AY41","v":0},{"$f":"PLAN!$AZ41","v":""},{"$f":"PLAN!$BA41","v":""},{"$f":"PLAN!$BB41","v":""},{"$f":"PLAN!$BC41","v":""},{"$f":"PLAN!$BD41","v":0},{"$f":"PLAN!$BE41","v":0},{"$f":"PLAN!$BF41","v":0},{"$f":"PLAN!$BG41","v":0},{"$f":"PLAN!$BH41","v":0},{"$f":"PLAN!$BI41","v":0},{"$f":"PLAN!$BJ41","v":0},{"$f":"PLAN!$BK41","v":0},{"$f":"PLAN!$BL41","v":0},null,null,null,{"$f":"IF(PLAN!$C41=\"\",\"\",PLAN!$C41)","v":""},null,null,null,null,3,"b","E"]
[null,null,{"$f":"IF(D42=\"\",\"\",$AB$30)","v":""},null,{"$f":"IF(#REF!=\"\",\"\",#REF!)","v":{"$error":"#REF!"}},{"$f":"IF(CW42=\"\",#REF!,CW42)","v":{"$error":"#REF!"}},{"$f":"IF(CX42=\"\",#REF!,CX42)","v":{"$error":"#REF!"}},{"$f":"IF(CY42=\"\",#REF!,CY42)","v":{"$error":"#REF!"}},{"$f":"IF(CZ42=\"\",#REF!,CZ42)","v":{"$error":"#REF!"}},{"$f":"IF(DA42=\"\",#REF!,DA42)","v":{"$error":"#REF!"}},{"$f":"IF(DB42=\"\",#REF!,DB42)","v":{"$error":"#REF!"}},{"$f":"IF(#REF!=\"\",\"\",#REF!)","v":{"$error":"#REF!"}},{"$f":"IF(DC42=\"\",#REF!,DC42)","v":{"$error":"#REF!"}},{"$f":"IF(DD42=\"\",#REF!,DD42)","v":{"$error":"#REF!"}},{"$f":"IF(DE42=\"\",#REF!,DE42)","v":{"$error":"#REF!"}},{"$f":"IF(DF42=\"\",#REF!,DF42)","v":{"$error":"#REF!"}},{"$f":"IF(DG42=\"\",#REF!,DG42)","v":{"$error":"#REF!"}},{"$f":"IF(DH42=\"\",#REF!,DH42)","v":{"$error":"#REF!"}},{"$f":"IF(#REF!=\"\",\"\",#REF!)","v":{"$error":"#REF!"}},{"$f":"IF(DI42=\"\",#REF!,DI42)","v":{"$error":"#REF!"}},{"$f":"IF(DJ42=\"\",#REF!,DJ42)","v":{"$error":"#REF!"}},{"$f":"IF(DK42=\"\",#REF!,DK42)","v":{"$error":"#REF!"}},{"$f":"IF(DL42=\"\",#REF!,DL42)","v":{"$error":"#REF!"}},{"$f":"IF(DM42=\"\",#REF!,DM42)","v":{"$error":"#REF!"}},{"$f":"IF(DN42=\"\",#REF!,DN42)","v":{"$error":"#REF!"}},null,null,null,null,null,{"$error":"#REF!"},{"$error":"#REF!"},{"$error":"#REF!"},null,null,null,null,{"$f":"#REF!","v":{"$error":"#REF!"}},"4.",{"$f":"IF(AL42=\"x\",#REF!,\"\")","v":{"$error":"#REF!"}},null,null,null,null,{"$f":"#REF!","v":{"$error":"#REF!"}},{"$f":"#REF!","v":{"$error":"#REF!"}},{"$f":"#REF!","v":{"$error":"#REF!"}},{"$f":"#REF!","v":{"$error":"#REF!"}},{"$f":"#REF!","v":{"$error":"#REF!"}},"","","","","","",null,null,null,null,null,null,null,null,null,null,null,"5.5",null,null,null,null,null,null,{"$f":"PLAN!$AX42","v":""},{"$f":"PLAN!$AY42","v":""},{"$f":"PLAN!$AZ42","v":""},{"$f":"PLAN!$BA42","v":""},{"$f":"PLAN!$BB42","v":""},{"$f":"PLAN!$BC42","v":""},{"$f":"PLAN!$BD42","v":0},{"$f":"PLAN!$BE42","v":0},{"$f":"PLAN!$BF42","v":0},{"$f":"PLAN!$BG42","v":0},{"$f":"PLAN!$BH42","v":0},{"$f":"PLAN!$BI42","v":0},{"$f":"PLAN!$BJ42","v":0},{"$f":"PLAN!$BK42","v":0},{"$f":"PLAN!$BL42","v":0},null,null,null,{"$f":"IF(PLAN!$C42=\"\",\"\",PLAN!$C42)","v":""},null,null,null,null,4,"c","E"]
[null,null,{"$f":"IF(D43=\"\",\"\",$AB$31)","v":""},null,{"$f":"IF(#REF!=\"\",\"\",#REF!)","v":{"$error":"#REF!"}},{"$f":"IF(CW43=\"\",#REF!,CW43)","v":{"$error":"#REF!"}},{"$f":"IF(CX43=\"\",#REF!,CX43)","v":{"$error":"#REF!"}},{"$f":"IF(CY43=\"\",#REF!,CY43)","v":{"$error":"#REF!"}},{"$f":"IF(CZ43=\"\",#REF!,CZ43)","v":{"$error":"#REF!"}},{"$f":"IF(DA43=\"\",#REF!,DA43)","v":{"$error":"#REF!"}},{"$f":"IF(DB43=\"\",#REF!,DB43)","v":{"$error":"#REF!"}},{"$f":"IF(#REF!=\"\",\"\",#REF!)","v":{"$error":"#REF!"}},{"$f":"IF(DC43=\"\",#REF!,DC43)","v":{"$error":"#REF!"}},{"$f":"IF(DD43=\"\",#REF!,DD43)","v":{"$error":"#REF!"}},{"$f":"IF(DE43=\"\",#REF!,DE43)","v":{"$error":"#REF!"}},{"$f":"IF(DF43=\"\",#REF!,DF43)","v":{"$error":"#REF!"}},{"$f":"IF(DG43=\"\",#REF!,DG43)","v":{"$error":"#REF!"}},{"$f":"IF(DH43=\"\",#REF!,DH43)","v":{"$error":"#REF!"}},{"$f":"IF(#REF!=\"\",\"\",#REF!)","v":{"$error":"#REF!"}},{"$f":"IF(DI43=\"\",#REF!,DI43)","v":{"$error":"#REF!"}},{"$f":"IF(DJ43=\"\",#REF!,DJ43)","v":{"$error":"#REF!"}},{"$f":"IF(DK43=\"\",#REF!,DK43)","v":{"$error":"#REF!"}},{"$f":"IF(DL43=\"\",#REF!,DL43)","v":{"$error":"#REF!"}},{"$f":"IF(DM43=\"\",#REF!,DM43)","v":{"$error":"#REF!"}},{"$f":"IF(DN43=\"\",#REF!,DN43)","v":{"$error":"#REF!"}},null,null,null,null,null,{"$error":"#REF!"},{"$error":"#REF!"},{"$error":"#REF!"},null,null,null,null,{"$f":"#REF!","v":{"$error":"#REF!"}},"5.",{"$f":"IF(AL43=\"x\",#REF!,\"\")","v":{"$error":"#REF!"}},null,null,null,null,{"$f":"#REF!","v":{"$error":"#REF!"}},{"$f":"#REF!","v":{"$error":"#REF!"}},{"$f":"#REF!","v":{"$error":"#REF!"}},{"$f":"#REF!","v":{"$error":"#REF!"}},{"$f":"#REF!","v":{"$error":"#REF!"}},"","","","","","",null,null,null,null,null,null,null,null,null,null,null,"5.6",null,null,null,null,null,null,{"$f":"PLAN!$AX43","v":""},{"$f":"PLAN!$AY43","v":""},{"$f":"PLAN!$AZ43","v":""},{"$f":"PLAN!$BA43","v":""},{"$f":"PLAN!$BB43","v":""},{"$f":"PLAN!$BC43","v":""},{"$f":"PLAN!$BD43","v":0},{"$f":"PLAN!$BE43","v":0},{"$f":"PLAN!$BF43","v":0},{"$f":"PLAN!$BG43","v":0},{"$f":"PLAN!$BH43","v":0},{"$f":"PLAN!$BI43","v":0},{"$f":"PLAN!$BJ43","v":0},{"$f":"PLAN!$BK43","v":0},{"$f":"PLAN!$BL43","v":0},null,null,null,{"$f":"IF(PLAN!$C43=\"\",\"\",PLAN!$C43)","v":""},null,null,null,null,5,"d","E"]
[null,"2T",{"$f":"IF(D44=\"\",\"\",$AB$27)","v":""},null,{"$f":"IF(#REF!=\"\",\"\",#REF!)","v":{"$error":"#REF!"}},{"$f":"IF(CW44=\"\",#REF!,CW44)","v":{"$error":"#REF!"}},{"$f":"IF(CX44=\"\",#REF!,CX44)","v":{"$error":"#REF!"}},{"$f":"IF(CY44=\"\",#REF!,CY44)","v":{"$error":"#REF!"}},{"$f":"IF(CZ44=\"\",#REF!,CZ44)","v":{"$error":"#REF!"}},{"$f":"IF(DA44=\"\",#REF!,DA44)","v":{"$error":"#REF!"}},{"$f":"IF(DB44=\"\",#REF!,DB44)","v":{"$error":"#REF!"}},{"$f":"IF(#REF!=\"\",\"\",#REF!)","v":{"$error":"#REF!"}},{"$f":"IF(DC44=\"\",#REF!,DC44)","v":{"$error":"#REF!"}},{"$f":"IF(DD44=\"\",#REF!,DD44)","v":{"$error":"#REF!"}},{"$f":"IF(DE44=\"\",#REF!,DE44)","v":{"$error":"#REF!"}},{"$f":"IF(DF44=\"\",#REF!,DF44)","v":{"$error":"#REF!"}},{"$f":"IF(DG44=\"\",#REF!,DG44)","v":{"$error":"#REF!"}},{"$f":"IF(DH44=\"\",#REF!,DH44)","v":{"$error":"#REF!"}},{"$f":"IF(#REF!=\"\",\"\",#REF!)","v":{"$error":"#REF!"}},{"$f":"IF(DI44=\"\",#REF!,DI44)","v":{"$error":"#REF!"}},{"$f":"IF(DJ44=\"\",#REF!,DJ44)","v":{"$error":"#REF!"}},{"$f":"IF(DK44=\"\",#REF!,DK44)","v":{"$error":"#REF!"}},{"$f":"IF(DL44=\"\",#REF!,DL44)","v":{"$error":"#REF!"}},{"$f":"IF(DM44=\"\",#REF!,DM44)","v":{"$error":"#REF!"}},{"$f":"IF(DN44=\"\",#REF!,DN44)","v":{"$error":"#REF!"}},null,null,null,null,null,{"$error":"#REF!"},{"$error":"#REF!"},{"$error":"#REF!"},null,null,null,null,null,null,null,null,null,null,null,null,null,null,null,null,null,null,null,null,null,null,null,null,null,null,null,null,null,null,null,null,null,null,null,null,null,null,null,null,null,null,null,null,null,null,null,null,null,null,null,null,null,null,null,null,null,null,{"$f":"IF(PLAN!$C44=\"\",\"\",PLAN!$C44)","v":""},null,null,null,null,6,"e","E"]
[null,null,{"$f":"IF(D45=\"\",\"\",$AB$28)","v":""},null,{"$f":"IF(#REF!=\"\",\"\",#REF!)","v":{"$error":"#REF!"}},{"$f":"IF(CW45=\"\",#REF!,CW45)","v":{"$error":"#REF!"}},{"$f":"IF(CX45=\"\",#REF!,CX45)","v":{"$error":"#REF!"}},{"$f":"IF(CY45=\"\",#REF!,CY45)","v":{"$error":"#REF!"}},{"$f":"IF(CZ45=\"\",#REF!,CZ45)","v":{"$error":"#REF!"}},{"$f":"IF(DA45=\"\",#REF!,DA45)","v":{"$error":"#REF!"}},{"$f":"IF(DB45=\"\",#REF!,DB45)","v":{"$error":"#REF!"}},{"$f":"IF(#REF!=\"\",\"\",#REF!)","v":{"$error":"#REF!"}},{"$f":"IF(DC45=\"\",#REF!,DC45)","v":{"$error":"#REF!"}},{"$f":"IF(DD45=\"\",#REF!,DD45)","v":{"$error":"#REF!"}},{"$f":"IF(DE45=\"\",#REF!,DE45)","v":{"$error":"#REF!"}},{"$f":"IF(DF45=\"\",#REF!,DF45)","v":{"$error":"#REF!"}},{"$f":"IF(DG45=\"\",#REF!,DG45)","v":{"$error":"#REF!"}},{"$f":"IF(DH45=\"\",#REF!,DH45)","v":{"$error":"#REF!"}},{"$f":"IF(#REF!=\"\",\"\",#REF!)","v":{"$error":"#REF!"}},{"$f":"IF(DI45=\"\",#REF!,DI45)","v":{"$error":"#REF!"}},{"$f":"IF(DJ45=\"\",#REF!,DJ45)","v":{"$error":"#REF!"}},{"$f":"IF(DK45=\"\",#REF!,DK45)","v":{"$error":"#REF!"}},{"$f":"IF(DL45=\"\",#REF!,DL45)","v":{"$error":"#REF!"}},{"$f":"IF(DM45=\"\",#REF!,DM45)","v":{"$error":"#REF!"}},{"$f":"IF(DN45=\"\",#REF!,DN45)","v":{"$error":"#REF!"}},null,null,null,null,null,{"$error":"#REF!"},{"$error":"#REF!"},{"$error":"#REF!"},null,null,null,null,null,null,null,null,null,null,null,null,null,null,null,null,null,null,null,null,null,null,null,null,null,null,null,null,null,null,null,null,null,null,null,null,null,null,null,null,null,null,null,null,null,null,null,null,null,null,null,null,null,null,null,null,null,null,{"$f":"IF(PLAN!$C45=\"\",\"\",PLAN!$C45)","v":""},null,null,null,null,7,"f"]
[null,null,{"$f":"IF(D46=\"\",\"\",$AB$29)","v":""},null,{"$f":"IF(#REF!=\"\",\"\",#REF!)","v":{"$error":"#REF!"}},{"$f":"IF(CW46=\"\",#REF!,CW46)","v":{"$error":"#REF!"}},{"$f":"IF(CX46=\"\",#REF!,CX46)","v":{"$error":"#REF!"}},{"$f":"IF(CY46=\"\",#REF!,CY46)","v":{"$error":"#REF!"}},{"$f":"IF(CZ46=\"\",#REF!,CZ46)","v":{"$error":"#REF!"}},{"$f":"IF(DA46=\"\",#REF!,DA46)","v":{"$error":"#REF!"}},{"$f":"IF(DB46=\"\",#REF!,DB46)","v":{"$error":"#REF!"}},{"$f":"IF(#REF!=\"\",\"\",#REF!)","v":{"$error":"#REF!"}},{"$f":"IF(DC46=\"\",#REF!,DC46)","v":{"$error":"#REF!"}},{"$f":"IF(DD46=\"\",#REF!,DD46)","v":{"$error":"#REF!"}},{"$f":"IF(DE46=\"\",#REF!,DE46)","v":{"$error":"#REF!"}},{"$f":"IF(DF46=\"\",#REF!,DF46)","v":{"$error":"#REF!"}},{"$f":"IF(DG46=\"\",#REF!,DG46)","v":{"$error":"#REF!"}},{"$f":"IF(DH46=\"\",#REF!,DH46)","v":{"$error":"#REF!"}},{"$f":"IF(#REF!=\"\",\"\",#REF!)","v":{"$error":"#REF!"}},{"$f":"IF(DI46=\"\",#REF!,DI46)","v":{"$error":"#REF!"}},{"$f":"IF(DJ46=\"\",#REF!,DJ46)","v":{"$error":"#REF!"}},{"$f":"IF(DK46=\"\",#REF!,DK46)","v":{"$error":"#REF!"}},{"$f":"IF(DL46=\"\",#REF!,DL46)","v":{"$error":"#REF!"}},{"$f":"IF(DM46=\"\",#REF!,DM46)","v":{"$error":"#REF!"}},{"$f":"IF(DN46=\"\",#REF!,DN46)","v":{"$error":"#REF!"}},null,null,null,null,null,{"$error":"#REF!"},{"$error":"#REF!"},{"$error":"#REF!"},null,null,null,null,null,null,null,null,null,null,null,null,null,null,null,null,null,null,null,null,null,null,null,null,null,null,null,null,null,null,null,null,null,null,null,null,null,null,null,null,null,null,null,null,null,null,null,null,null,null,null,null,null,null,null,null,null,null,{"$f":"IF(PLAN!$C46=\"\",\"\",PLAN!$C46)","v":""},null,null,null,null,8,"g"]
[null,null,{"$f":"IF(D47=\"\",\"\",$AB$30)","v":""},null,{"$f":"IF(#REF!=\"\",\"\",#REF!)","v":{"$error":"#REF!"}},{"$f":"IF(CW47=\"\",#REF!,CW47)","v":{"$error":"#REF!"}},{"$f":"IF(CX47=\"\",#REF!,CX47)","v":{"$error":"#REF!"}},{"$f":"IF(CY47=\"\",#REF!,CY47)","v":{"$error":"#REF!"}},{"$f":"IF(CZ47=\"\",#REF!,CZ47)","v":{"$error":"#REF!"}},{"$f":"IF(DA47=\"\",#REF!,DA47)","v":{"$error":"#REF!"}},{"$f":"IF(DB47=\"\",#REF!,DB47)","v":{"$error":"#REF!"}},{"$f":"IF(#REF!=\"\",\"\",#REF!)","v":{"$error":"#REF!"}},{"$f":"IF(DC47=\"\",#REF!,DC47)","v":{"$error":"#REF!"}},{"$f":"IF(DD47=\"\",#REF!,DD47)","v":{"$error":"#REF!"}},{"$f":"IF(DE47=\"\",#REF!,DE47)","v":{"$error":"#REF!"}},{"$f":"IF(DF47=\"\",#REF!,DF47)","v":{"$error":"#REF!"}},{"$f":"IF(DG47=\"\",#REF!,DG47)","v":{"$error":"#REF!"}},{"$f":"IF(DH47=\"\",#REF!,DH47)","v":{"$error":"#REF!"}},{"$f":"IF(#REF!=\"\",\"\",#REF!)","v":{"$error":"#REF!"}},{"$f":"IF(DI47=\"\",#REF!,DI47)","v":{"$error":"#REF!"}},{"$f":"IF(DJ47=\"\",#REF!,DJ47)","v":{"$error":"#REF!"}},{"$f":"IF(DK47=\"\",#REF!,DK47)","v":{"$error":"#REF!"}},{"$f":"IF(DL47=\"\",#REF!,DL47)","v":{"$error":"#REF!"}},{"$f":"IF(DM47=\"\",#REF!,DM47)","v":{"$error":"#REF!"}},{"$f":"IF(DN47=\"\",#REF!,DN47)","v":{"$error":"#REF!"}},null,null,null,null,null,{"$error":"#REF!"},{"$error":"#REF!"},{"$error":"#REF!"},null,null,null,null,null,null,null,null,null,null,null,null,null,null,null,null,null,null,null,null,null,null,null,null,null,null,null,null,null,null,null,null,null,null,null,null,null,null,null,null,null,null,null,null,null,null,null,null,null,null,null,null,null,null,null,null,null,null,{"$f":"IF(PLAN!$C47=\"\",\"\",PLAN!$C47)","v":""},null,null,null,null,9,"h"]
[null,null,{"$f":"IF(D48=\"\",\"\",$AB$31)","v":""},null,{"$f":"IF(#REF!=\"\",\"\",#REF!)","v":{"$error":"#REF!"}},{"$f":"IF(CW48=\"\",#REF!,CW48)","v":{"$error":"#REF!"}},{"$f":"IF(CX48=\"\",#REF!,CX48)","v":{"$error":"#REF!"}},{"$f":"IF(CY48=\"\",#REF!,CY48)","v":{"$error":"#REF!"}},{"$f":"IF(CZ48=\"\",#REF!,CZ48)","v":{"$error":"#REF!"}},{"$f":"IF(DA48=\"\",#REF!,DA48)","v":{"$error":"#REF!"}},{"$f":"IF(DB48=\"\",#REF!,DB48)","v":{"$error":"#REF!"}},{"$f":"IF(#REF!=\"\",\"\",#REF!)","v":{"$error":"#REF!"}},{"$f":"IF(DC48=\"\",#REF!,DC48)","v":{"$error":"#REF!"}},{"$f":"IF(DD48=\"\",#REF!,DD48)","v":{"$error":"#REF!"}},{"$f":"IF(DE48=\"\",#REF!,DE48)","v":{"$error":"#REF!"}},{"$f":"IF(DF48=\"\",#REF!,DF48)","v":{"$error":"#REF!"}},{"$f":"IF(DG48=\"\",#REF!,DG48)","v":{"$error":"#REF!"}},{"$f":"IF(DH48=\"\",#REF!,DH48)","v":{"$error":"#REF!"}},{"$f":"IF(#REF!=\"\",\"\",#REF!)","v":{"$error":"#REF!"}},{"$f":"IF(DI48=\"\",#REF!,DI48)","v":{"$error":"#REF!"}},{"$f":"IF(DJ48=\"\",#REF!,DJ48)","v":{"$error":"#REF!"}},{"$f":"IF(DK48=\"\",#REF!,DK48)","v":{"$error":"#REF!"}},{"$f":"IF(DL48=\"\",#REF!,DL48)","v":{"$error":"#REF!"}},{"$f":"IF(DM48=\"\",#REF!,DM48)","v":{"$error":"#REF!"}},{"$f":"IF(DN48=\"\",#REF!,DN48)","v":{"$error":"#REF!"}},null,null,null,null,null,{"$error":"#REF!"},{"$error":"#REF!"},{"$error":"#REF!"},null,null,null,null,null,null,null,null,null,null,null,null,null,null,null,null,null,null,null,null,null,null,null,null,null,null,null,null,null,null,null,null,null,null,null,null,null,null,null,null,null,null,null,null,null,null,null,null,null,null,null,null,null,null,null,null,null,null,{"$f":"IF(PLAN!$C48=\"\",\"\",PLAN!$C48)","v":""},null,null,null,null,10,"i"]
[null,"3T",{"$f":"IF(D49=\"\",\"\",$AB$27)","v":""},null,{"$f":"IF(#REF!=\"\",\"\",#REF!)","v":{"$error":"#REF!"}},{"$f":"IF(CW49=\"\",#REF!,CW49)","v":{"$error":"#REF!"}},{"$f":"IF(CX49=\"\",#REF!,CX49)","v":{"$error":"#REF!"}},{"$f":"IF(CY49=\"\",#REF!,CY49)","v":{"$error":"#REF!"}},{"$f":"IF(CZ49=\"\",#REF!,CZ49)","v":{"$error":"#REF!"}},{"$f":"IF(DA49=\"\",#REF!,DA49)","v":{"$error":"#REF!"}},{"$f":"IF(DB49=\"\",#REF!,DB49)","v":{"$error":"#REF!"}},{"$f":"IF(#REF!=\"\",\"\",#REF!)","v":{"$error":"#REF!"}},{"$f":"IF(DC49=\"\",#REF!,DC49)","v":{"$error":"#REF!"}},{"$f":"IF(DD49=\"\",#REF!,DD49)","v":{"$error":"#REF!"}},{"$f":"IF(DE49=\"\",#REF!,DE49)","v":{"$error":"#REF!"}},{"$f":"IF(DF49=\"\",#REF!,DF49)","v":{"$error":"#REF!"}},{"$f":"IF(DG49=\"\",#REF!,DG49)","v":{"$error":"#REF!"}},{"$f":"IF(DH49=\"\",#REF!,DH49)","v":{"$error":"#REF!"}},{"$f":"IF(#REF!=\"\",\"\",#REF!)","v":{"$error":"#REF!"}},{"$f":"IF(DI49=\"\",#REF!,DI49)","v":{"$error":"#REF!"}},{"$f":"IF(DJ49=\"\",#REF!,DJ49)","v":{"$error":"#REF!"}},{"$f":"IF(DK49=\"\",#REF!,DK49)","v":{"$error":"#REF!"}},{"$f":"IF(DL49=\"\",#REF!,DL49)","v":{"$error":"#REF!"}},{"$f":"IF(DM49=\"\",#REF!,DM49)","v":{"$error":"#REF!"}},{"$f":"IF(DN49=\"\",#REF!,DN49)","v":{"$error":"#REF!"}},null,null,null,null,null,{"$error":"#REF!"},{"$error":"#REF!"},{"$error":"#REF!"},null,null,null,null,null,null,null,null,null,null,null,null,null,null,null,null,null,null,null,null,null,null,null,null,null,null,null,null,null,null,null,null,null,null,null,null,null,null,null,null,null,null,null,null,null,null,null,null,null,null,null,null,null,null,null,null,null,null,{"$f":"IF(PLAN!$C49=\"\",\"\",PLAN!$C49)","v":""},null,null,null,null,11,"j"]
[null,null,{"$f":"IF(D50=\"\",\"\",$AB$28)","v":""},null,{"$f":"IF(#REF!=\"\",\"\",#REF!)","v":{"$error":"#REF!"}},{"$f":"IF(CW50=\"\",#REF!,CW50)","v":{"$error":"#REF!"}},{"$f":"IF(CX50=\"\",#REF!,CX50)","v":{"$error":"#REF!"}},{"$f":"IF(CY50=\"\",#REF!,CY50)","v":{"$error":"#REF!"}},{"$f":"IF(CZ50=\"\",#REF!,CZ50)","v":{"$error":"#REF!"}},{"$f":"IF(DA50=\"\",#REF!,DA50)","v":{"$error":"#REF!"}},{"$f":"IF(DB50=\"\",#REF!,DB50)","v":{"$error":"#REF!"}},{"$f":"IF(#REF!=\"\",\"\",#REF!)","v":{"$error":"#REF!"}},{"$f":"IF(DC50=\"\",#REF!,DC50)","v":{"$error":"#REF!"}},{"$f":"IF(DD50=\"\",#REF!,DD50)","v":{"$error":"#REF!"}},{"$f":"IF(DE50=\"\",#REF!,DE50)","v":{"$error":"#REF!"}},{"$f":"IF(DF50=\"\",#REF!,DF50)","v":{"$error":"#REF!"}},{"$f":"IF(DG50=\"\",#REF!,DG50)","v":{"$error":"#REF!"}},{"$f":"IF(DH50=\"\",#REF!,DH50)","v":{"$error":"#REF!"}},{"$f":"IF(#REF!=\"\",\"\",#REF!)","v":{"$error":"#REF!"}},{"$f":"IF(DI50=\"\",#REF!,DI50)","v":{"$error":"#REF!"}},{"$f":"IF(DJ50=\"\",#REF!,DJ50)","v":{"$error":"#REF!"}},{"$f":"IF(DK50=\"\",#REF!,DK50)","v":{"$error":"#REF!"}},{"$f":"IF(DL50=\"\",#REF!,DL50)","v":{"$error":"#REF!"}},{"$f":"IF(DM50=\"\",#REF!,DM50)","v":{"$error":"#REF!"}},{"$f":"IF(DN50=\"\",#REF!,DN50)","v":{"$error":"#REF!"}},null,null,null,null,null,{"$error":"#REF!"},{"$error":"#REF!"},{"$error":"#REF!"},null,null,null,null,null,null,null,null,null,null,null,null,null,null,null,null,null,null,null,null,null,null,null,null,null,null,null,null,null,null,null,null,null,null,null,null,null,null,null,null,null,null,null,null,null,null,null,null,null,null,null,null,null,null,null,null,null,null,{"$f":"IF(PLAN!$C50=\"\",\"\",PLAN!$C50)","v":""},null,null,null,null,12,"k"]
[null,null,{"$f":"IF(D51=\"\",\"\",$AB$29)","v":""},null,{"$f":"IF(#REF!=\"\",\"\",#REF!)","v":{"$error":"#REF!"}},{"$f":"IF(CW51=\"\",#REF!,CW51)","v":{"$error":"#REF!"}},{"$f":"IF(CX51=\"\",#REF!,CX51)","v":{"$error":"#REF!"}},{"$f":"IF(CY51=\"\",#REF!,CY51)","v":{"$error":"#REF!"}},{"$f":"IF(CZ51=\"\",#REF!,CZ51)","v":{"$error":"#REF!"}},{"$f":"IF(DA51=\"\",#REF!,DA51)","v":{"$error":"#REF!"}},{"$f":"IF(DB51=\"\",#REF!,DB51)","v":{"$error":"#REF!"}},{"$f":"IF(#REF!=\"\",\"\",#REF!)","v":{"$error":"#REF!"}},{"$f":"IF(DC51=\"\",#REF!,DC51)","v":{"$error":"#REF!"}},{"$f":"IF(DD51=\"\",#REF!,DD51)","v":{"$error":"#REF!"}},{"$f":"IF(DE51=\"\",#REF!,DE51)","v":{"$error":"#REF!"}},{"$f":"IF(DF51=\"\",#REF!,DF51)","v":{"$error":"#REF!"}},{"$f":"IF(DG51=\"\",#REF!,DG51)","v":{"$error":"#REF!"}},{"$f":"IF(DH51=\"\",#REF!,DH51)","v":{"$error":"#REF!"}},{"$f":"IF(#REF!=\"\",\"\",#REF!)","v":{"$error":"#REF!"}},{"$f":"IF(DI51=\"\",#REF!,DI51)","v":{"$error":"#REF!"}},{"$f":"IF(DJ51=\"\",#REF!,DJ51)","v":{"$error":"#REF!"}},{"$f":"IF(DK51=\"\",#REF!,DK51)","v":{"$error":"#REF!"}},{"$f":"IF(DL51=\"\",#REF!,DL51)","v":{"$error":"#REF!"}},{"$f":"IF(DM51=\"\",#REF!,DM51)","v":{"$error":"#REF!"}},{"$f":"IF(DN51=\"\",#REF!,DN51)","v":{"$error":"#REF!"}},null,null,null,null,null,{"$error":"#REF!"},{"$error":"#REF!"},{"$error":"#REF!"},null,null,null,null,null,null,null,null,null,null,null,null,null,null,null,null,null,null,null,null,null,null,null,null,null,null,null,null,null,null,null,null,null,null,null,null,null,null,null,null,null,null,null,null,null,null,null,null,null,null,null,null,null,null,null,null,null,null,{"$f":"IF(PLAN!$C51=\"\",\"\",PLAN!$C51)","v":""},null,null,null,null,13,"l"]
[null,null,{"$f":"IF(D52=\"\",\"\",$AB$30)","v":""},"",{"$f":"IF(#REF!=\"\",\"\",#REF!)","v":{"$error":"#REF!"}},{"$f":"IF(CW52=\"\",#REF!,CW52)","v":{"$error":"#REF!"}},{"$f":"IF(CX52=\"\",#REF!,CX52)","v":{"$error":"#REF!"}},{"$f":"IF(CY52=\"\",#REF!,CY52)","v":{"$error":"#REF!"}},{"$f":"IF(CZ52=\"\",#REF!,CZ52)","v":{"$error":"#REF!"}},{"$f":"IF(DA52=\"\",#REF!,DA52)","v":{"$error":"#REF!"}},{"$f":"IF(DB52=\"\",#REF!,DB52)","v":{"$error":"#REF!"}},{"$f":"IF(#REF!=\"\",\"\",#REF!)","v":{"$error":"#REF!"}},{"$f":"IF(DC52=\"\",#REF!,DC52)","v":{"$error":"#REF!"}},{"$f":"IF(DD52=\"\",#REF!,DD52)","v":{"$error":"#REF!"}},{"$f":"IF(DE52=\"\",#REF!,DE52)","v":{"$error":"#REF!"}},{"$f":"IF(DF52=\"\",#REF!,DF52)","v":{"$error":"#REF!"}},{"$f":"IF(DG52=\"\",#REF!,DG52)","v":{"$error":"#REF!"}},{"$f":"IF(DH52=\"\",#REF!,DH52)","v":{"$error":"#REF!"}},{"$f":"IF(#REF!=\"\",\"\",#REF!)","v":{"$error":"#REF!"}},{"$f":"IF(DI52=\"\",#REF!,DI52)","v":{"$error":"#REF!"}},{"$f":"IF(DJ52=\"\",#REF!,DJ52)","v":{"$error":"#REF!"}},{"$f":"IF(DK52=\"\",#REF!,DK52)","v":{"$error":"#REF!"}},{"$f":"IF(DL52=\"\",#REF!,DL52)","v":{"$error":"#REF!"}},{"$f":"IF(DM52=\"\",#REF!,DM52)","v":{"$error":"#REF!"}},{"$f":"IF(DN52=\"\",#REF!,DN52)","v":{"$error":"#REF!"}},null,null,null,null,null,{"$error":"#REF!"},{"$error":"#REF!"},{"$error":"#REF!"},null,null,null,null,null,null,null,null,null,null,null,null,null,null,null,null,null,null,null,null,null,null,null,null,null,null,null,null,null,null,null,null,null,null,null,null,null,null,null,null,null,null,null,null,null,null,null,null,null,null,null,null,null,null,null,null,null,null,{"$f":"IF(PLAN!$C52=\"\",\"\",PLAN!$C52)","v":""},null,null,null,null,14,"m"]
[null,null,{"$f":"IF(D53=\"\",\"\",$AB$31)","v":""},"",{"$f":"IF(#REF!=\"\",\"\",#REF!)","v":{"$error":"#REF!"}},{"$f":"IF(CW53=\"\",#REF!,CW53)","v":{"$error":"#REF!"}},{"$f":"IF(CX53=\"\",#REF!,CX53)","v":{"$error":"#REF!"}},{"$f":"IF(CY53=\"\",#REF!,CY53)","v":{"$error":"#REF!"}},{"$f":"IF(CZ53=\"\",#REF!,CZ53)","v":{"$error":"#REF!"}},{"$f":"IF(DA53=\"\",#REF!,DA53)","v":{"$error":"#REF!"}},{"$f":"IF(DB53=\"\",#REF!,DB53)","v":{"$error":"#REF!"}},{"$f":"IF(#REF!=\"\",\"\",#REF!)","v":{"$error":"#REF!"}},{"$f":"IF(DC53=\"\",#REF!,DC53)","v":{"$error":"#REF!"}},{"$f":"IF(DD53=\"\",#REF!,DD53)","v":{"$error":"#REF!"}},{"$f":"IF(DE53=\"\",#REF!,DE53)","v":{"$error":"#REF!"}},{"$f":"IF(DF53=\"\",#REF!,DF53)","v":{"$error":"#REF!"}},{"$f":"IF(DG53=\"\",#REF!,DG53)","v":{"$error":"#REF!"}},{"$f":"IF(DH53=\"\",#REF!,DH53)","v":{"$error":"#REF!"}},{"$f":"IF(#REF!=\"\",\"\",#REF!)","v":{"$error":"#REF!"}},{"$f":"IF(DI53=\"\",#REF!,DI53)","v":{"$error":"#REF!"}},{"$f":"IF(DJ53=\"\",#REF!,DJ53)","v":{"$error":"#REF!"}},{"$f":"IF(DK53=\"\",#REF!,DK53)","v":{"$error":"#REF!"}},{"$f":"IF(DL53=\"\",#REF!,DL53)","v":{"$error":"#REF!"}},{"$f":"IF(DM53=\"\",#REF!,DM53)","v":{"$error":"#REF!"}},{"$f":"IF(DN53=\"\",#REF!,DN53)","v":{"$error":"#REF!"}},null,null,null,null,null,{"$error":"#REF!"},{"$error":"#REF!"},{"$error":"#REF!"},null,null,null,null,null,null,null,null,null,null,null,null,null,null,null,null,null,null,null,null,null,null,null,null,null,null,null,null,null,null,null,null,null,null,null,null,null,null,null,null,null,null,null,null,null,null,null,null,null,null,null,null,null,null,null,null,null,null,{"$f":"IF(PLAN!$C53=\"\",\"\",PLAN!$C53)","v":""},null,null,null,null,15,"x"]
[]
[]
[]
[]
[]
[null,null,null,null,{"$f":"15-COUNTIF(E39:E53,\"\")","v":15},null,null,null,null,null,null,{"$f":"15-COUNTIF(L39:L53,\"\")","v":15},null,null,null,null,null,null,{"$f":"15-COUNTIF(S39:S53,\"\")","v":15}]
[]
[]
[null,null,null,{"$f":"#REF!&#REF!","v":{"$error":"#REF!"}}]
[null,null,null,null,null,null,null,null,null,null,null,null,null,null,null,null,null,null,null,null,null,null,null,null,null,null,null,null,null,null,null,null,null,null,null,null,null,null,null,null,null,null,null,null,"INDICADORES SELECCIONADOS",null,null,null,null,null,{"$f":"#REF!","v":{"$error":"#REF!"}},null,null,null,null,{"$f":"#REF!","v":{"$error":"#REF!"}},null,null,null,null,{"$f":"#REF!","v":{"$error":"#REF!"}}]
[null,null,null,null,{"$f":"IF(INICIO!$H$2=\"1T\",INICIO!$NH$14,\"\")","v":"PRIMER TRIMESTRE"},null,{"$f":"IF(E64=\"PRIMER TRIMESTRE\",B66,\"\")","v":"1T"},null,null,null,null,{"$f":"IF(INICIO!$H$2=\"2T\",INICIO!$NH$15,\"\")","v":""},null,{"$f":"IF(L64=\"SEGUNDO TRIMESTRE\",B71,\"\")","v":""},null,null,null,null,{"$f":"IF(INICIO!$H$2=\"3T\",INICIO!$NH$16,\"\")","v":""},null,{"$f":"IF(S64=\"TERCER TRIMESTRE\",B76,\"\")","v":""},null,null,null,null,null,null,null,null,null,{"$f":"G64","v":"1T"},{"$f":"N64","v":""},{"$f":"U64","v":""},null,null,null,null,null,null,null,null,null,null,null,"L1","L2","L3","L4","L5","L1","L2","L3","L4","L5","L1","L2","L3","L4","L5","L1","L2","L3","L4","L5",null,null,null,null,null,null,null,null,null,null,null,null,null,null,null,null,null,null,null,null,null,null,null,null,null,null,null,null,null,null,null,null,null,"Copia de datos empleados durante el año, en las actividades"]
[null,"LOGROS",null,null,"ACTIVIDADES 1T","INDICADORES 1T",null,null,null,null,null,"ACTIVIDADES 2T","INDICADORES 2T",null,null,null,null,null,"ACTIVIDADES 3T","INDICADORES 3T",null,null,null,null,null,null,"FECHAS 1T","FECHAS 2T","FECHAS 3T",null,"LOGOS X ACTIVIDAD",null,null,null,null,null,null,"x",null,"LOGROS SELECCIONADOS",null,null,null,null,{"$f":"#REF!","v":{"$error":"#REF!"}},{"$f":"#REF!","v":{"$error":"#REF!"}},{"$f":"#REF!","v":{"$error":"#REF!"}},{"$f":"#REF!","v":{"$error":"#REF!"}},null,null,null,null,null,null,null,null,null,null,null,null,null,null,null,"",null,null,null,null,null,null,null,null,null,{"$f":"PLAN!$AX65","v":0},{"$f":"PLAN!$AY65","v":0},{"$f":"PLAN!$AZ65","v":0},{"$f":"PLAN!$BA65","v":0},{"$f":"PLAN!$BB65","v":0},{"$f":"PLAN!$BC65","v":0},{"$f":"PLAN!$BD65","v":0},{"$f":"PLAN!$BE65","v":0},{"$f":"PLAN!$BF65","v":0},{"$f":"PLAN!$BG65","v":0},{"$f":"PLAN!$BH65","v":0},{"$f":"PLAN!$BI65","v":0},{"$f":"PLAN!$BJ65","v":0},{"$f":"PLAN!$BK65","v":0},{"$f":"PLAN!$BL65","v":""},null,null,null,null,null,null,null,null,"# de","1T","2T","3T","Indicadores 1t",null,null,null,null,null,"Indicadores 2t",null,null,null,null,null,"Indicadores 3t"]
[null,"1T",{"$f":"IF(D66=\"\",\"\",$AB$27)","v":""},null,{"$f":"IF(#REF!=\"\",\"\",#REF!)","v":{"$error":"#REF!"}},{"$f":"IF(CW66=\"\",#REF!,CW66)","v":{"$error":"#REF!"}},{"$f":"IF(CX66=\"\",#REF!,CX66)","v":{"$error":"#REF!"}},{"$f":"IF(CY66=\"\",#REF!,CY66)","v":{"$error":"#REF!"}},{"$f":"IF(CZ66=\"\",#REF!,CZ66)","v":{"$error":"#REF!"}},{"$f":"IF(DA66=\"\",#REF!,DA66)","v":{"$error":"#REF!"}},{"$f":"IF(DB66=\"\",#REF!,DB66)","v":{"$error":"#REF!"}},{"$f":"IF(#REF!=\"\",\"\",#REF!)","v":{"$error":"#REF!"}},{"$f":"IF(DC66=\"\",#REF!,DC66)","v":{"$error":"#REF!"}},{"$f":"IF(DD66=\"\",#REF!,DD66)","v":{"$error":"#REF!"}},{"$f":"IF(DE66=\"\",#REF!,DE66)","v":{"$error":"#REF!"}},{"$f":"IF(DF66=\"\",#REF!,DF66)","v":{"$error":"#REF!"}},{"$f":"IF(DG66=\"\",#REF!,DG66)","v":{"$error":"#REF!"}},{"$f":"IF(DH66=\"\",#REF!,DH66)","v":{"$error":"#REF!"}},{"$f":"IF(#REF!=\"\",\"\",#REF!)","v":{"$error":"#REF!"}},{"$f":"IF(DI66=\"\",#REF!,DI66)","v":{"$error":"#REF!"}},{"$f":"IF(DJ66=\"\",#REF!,DJ66)","v":{"$error":"#REF!"}},{"$f":"IF(DK66=\"\",#REF!,DK66)","v":{"$error":"#REF!"}},{"$f":"IF(DL66=\"\",#REF!,DL66)","v":{"$error":"#REF!"}},{"$f":"IF(DM66=\"\",#REF!,DM66)","v":{"$error":"#REF!"}},{"$f":"IF(DN66=\"\",#REF!,DN66)","v":{"$error":"#REF!"}},null,null,null,null,null,{"$f":"IF(F66=0,\"\",IF(OR(F66=\"1.1\",F66=\"1.2\",F66=\"1.3\",F66=\"1.4\",F66=\"1.5\",F66=\"1.6\"), $AC$2,IF(OR(F66=\"2.1\",F66=\"2.2\",F66=\"2.3\",F66=\"2.4\",F66=\"2.5\",F66=\"2.6\"),$AD$2,IF(OR(F66=\"3.1\",F66=\"3.2\",F66=\"3.3\",F66=\"3.4\",F66=\"3.5\",F66=\"3.6\"),$AE$2,IF(OR(F66=\"4.1\",F66=\"4.2\",F66=\"4.3\",F66=\"4.4\",F66=\"4.5\",F66=\"4.6\"),$AF$2,IF(OR(F66=\"5.1\",F66=\"5.2\",F66=\"5.3\",F66=\"5.4\",F66=\"5.5\",F66=\"5.6\"),$AG$2))))))","v":{"$error":"#REF!"}},{"$f":"IF(M66=0,\"\",IF(OR(M66=\"1.1\",M66=\"1.2\",M66=\"1.3\",M66=\"1.4\",M66=\"1.5\",M66=\"1.6\"), $AC$2,IF(OR(M66=\"2.1\",M66=\"2.2\",M66=\"2.3\",M66=\"2.4\",M66=\"2.5\",M66=\"2.6\"),$AD$2,IF(OR(M66=\"3.1\",M66=\"3.2\",M66=\"3.3\",M66=\"3.4\",M66=\"3.5\",M66=\"3.6\"),$AE$2,IF(OR(M66=\"4.1\",M66=\"4.2\",M66=\"4.3\",M66=\"4.4\",M66=\"4.5\",M66=\"4.6\"),$AF$2,IF(OR(M66=\"5.1\",M66=\"5.2\",M66=\"5.3\",M66=\"5.4\",M66=\"5.5\",M66=\"5.6\"),$AG$2))))))","v":{"$error":"#REF!"}},{"$f":"IF(T66=0,\"\",IF(OR(T66=\"1.1\",T66=\"1.2\",T66=\"1.3\",T66=\"1.4\",T66=\"1.5\",T66=\"1.6\"), $AC$2,IF(OR(T66=\"2.1\",T66=\"2.2\",T66=\"2.3\",T66=\"2.4\",T66=\"2.5\",T66=\"2.6\"),$AD$2,IF(OR(T66=\"3.1\",T66=\"3.2\",T66=\"3.3\",T66=\"3.4\",T66=\"3.5\",T66=\"3.6\"),$AE$2,IF(OR(T66=\"4.1\",T66=\"4.2\",T66=\"4.3\",T66=\"4.4\",T66=\"4.5\",T66=\"4.6\"),$AF$2,IF(OR(T66=\"5.1\",T66=\"5.2\",T66=\"5.3\",T66=\"5.4\",T66=\"5.5\",T66=\"5.6\"),$AG$2))))))","v":{"$error":"#REF!"}},null,null,null,null,{"$f":"#REF!","v":{"$error":"#REF!"}},"1.",{"$f":"IF(AL66=\"x\",#REF!,\"\")","v":{"$error":"#REF!"}},null,null,null,null,{"$f":"#REF!","v":{"$error":"#REF!"}},{"$f":"#REF!","v":{"$error":"#REF!"}},{"$f":"#REF!","v":{"$error":"#REF!"}},{"$f":"#REF!","v":{"$error":"#REF!"}},null,null,null,null,null,null,null,null,null,null,null,null,null,null,null,"",null,null,1,{"$f":"IF(PLAN!$G$64=\"1T\",PLAN!F66,IF(PLAN!$N$64=\"2T\",PLAN!M66,IF(PLAN!$U$64=\"3T\",PLAN!T66,\"\")))","v":{"$error":"#REF!"}},null,null,null,null,null,{"$f":"PLAN!$AX66","v":0},{"$f":"PLAN!$AY66","v":0},{"$f":"PLAN!$AZ66","v":0},{"$f":"PLAN!$BA66","v":0},{"$f":"PLAN!$BB66","v":0},{"$f":"PLAN!$BC66","v":0},{"$f":"PLAN!$BD66","v":0},{"$f":"PLAN!$BE66","v":0},{"$f":"PLAN!$BF66","v":0},{"$f":"PLAN!$BG66","v":0},{"$f":"PLAN!$BH66","v":0},{"$f":"PLAN!$BI66","v":0},{"$f":"PLAN!$BJ66","v":0},{"$f":"PLAN!$BK66","v":0},{"$f":"PLAN!$BL66","v":""},null,null,null,{"$f":"IF(PLAN!$C66=\"\",\"\",PLAN!$C66)","v":""},null,null,null,null,1,"x","EM"]
[null,null,{"$f":"IF(D67=\"\",\"\",$AB$28)","v":""},null,{"$f":"IF(#REF!=\"\",\"\",#REF!)","v":{"$error":"#REF!"}},{"$f":"IF(CW67=\"\",#REF!,CW67)","v":{"$error":"#REF!"}},{"$f":"IF(CX67=\"\",#REF!,CX67)","v":{"$error":"#REF!"}},{"$f":"IF(CY67=\"\",#REF!,CY67)","v":{"$error":"#REF!"}},{"$f":"IF(CZ67=\"\",#REF!,CZ67)","v":{"$error":"#REF!"}},{"$f":"IF(DA67=\"\",#REF!,DA67)","v":{"$error":"#REF!"}},{"$f":"IF(DB67=\"\",#REF!,DB67)","v":{"$error":"#REF!"}},{"$f":"IF(#REF!=\"\",\"\",#REF!)","v":{"$error":"#REF!"}},{"$f":"IF(DC67=\"\",#REF!,DC67)","v":{"$error":"#REF!"}},{"$f":"IF(DD67=\"\",#REF!,DD67)","v":{"$error":"#REF!"}},{"$f":"IF(DE67=\"\",#REF!,DE67)","v":{"$error":"#REF!"}},{"$f":"IF(DF67=\"\",#REF!,DF67)","v":{"$error":"#REF!"}},{"$f":"IF(DG67=\"\",#REF!,DG67)","v":{"$error":"#REF!"}},{"$f":"IF(DH67=\"\",#REF!,DH67)","v":{"$error":"#REF!"}},{"$f":"IF(#REF!=\"\",\"\",#REF!)","v":{"$error":"#REF!"}},{"$f":"IF(DI67=\"\",#REF!,DI67)","v":{"$error":"#REF!"}},{"$f":"IF(DJ67=\"\",#REF!,DJ67)","v":{"$error":"#REF!"}},{"$f":"IF(DK67=\"\",#REF!,DK67)","v":{"$error":"#REF!"}},{"$f":"IF(DL67=\"\",#REF!,DL67)","v":{"$error":"#REF!"}},{"$f":"IF(DM67=\"\",#REF!,DM67)","v":{"$error":"#REF!"}},{"$f":"IF(DN67=\"\",#REF!,DN67)","v":{"$error":"#REF!"}},null,null,null,null,null,{"$f":"IF(F67=0,\"\",IF(OR(F67=\"1.1\",F67=\"1.2\",F67=\"1.3\",F67=\"1.4\",F67=\"1.5\",F67=\"1.6\"), $AC$2,IF(OR(F67=\"2.1\",F67=\"2.2\",F67=\"2.3\",F67=\"2.4\",F67=\"2.5\",F67=\"2.6\"),$AD$2,IF(OR(F67=\"3.1\",F67=\"3.2\",F67=\"3.3\",F67=\"3.4\",F67=\"3.5\",F67=\"3.6\"),$AE$2,IF(OR(F67=\"4.1\",F67=\"4.2\",F67=\"4.3\",F67=\"4.4\",F67=\"4.5\",F67=\"4.6\"),$AF$2,IF(OR(F67=\"5.1\",F67=\"5.2\",F67=\"5.3\",F67=\"5.4\",F67=\"5.5\",F67=\"5.6\"),$AG$2))))))","v":{"$error":"#REF!"}},{"$f":"IF(M67=0,\"\",IF(OR(M67=\"1.1\",M67=\"1.2\",M67=\"1.3\",M67=\"1.4\",M67=\"1.5\",M67=\"1.6\"), $AC$2,IF(OR(M67=\"2.1\",M67=\"2.2\",M67=\"2.3\",M67=\"2.4\",M67=\"2.5\",M67=\"2.6\"),$AD$2,IF(OR(M67=\"3.1\",M67=\"3.2\",M67=\"3.3\",M67=\"3.4\",M67=\"3.5\",M67=\"3.6\"),$AE$2,IF(OR(M67=\"4.1\",M67=\"4.2\",M67=\"4.3\",M67=\"4.4\",M67=\"4.5\",M67=\"4.6\"),$AF$2,IF(OR(M67=\"5.1\",M67=\"5.2\",M67=\"5.3\",M67=\"5.4\",M67=\"5.5\",M67=\"5.6\"),$AG$2))))))","v":{"$error":"#REF!"}},{"$f":"IF(T67=0,\"\",IF(OR(T67=\"1.1\",T67=\"1.2\",T67=\"1.3\",T67=\"1.4\",T67=\"1.5\",T67=\"1.6\"), $AC$2,IF(OR(T67=\"2.1\",T67=\"2.2\",T67=\"2.3\",T67=\"2.4\",T67=\"2.5\",T67=\"2.6\"),$AD$2,IF(OR(T67=\"3.1\",T67=\"3.2\",T67=\"3.3\",T67=\"3.4\",T67=\"3.5\",T67=\"3.6\"),$AE$2,IF(OR(T67=\"4.1\",T67=\"4.2\",T67=\"4.3\",T67=\"4.4\",T67=\"4.5\",T67=\"4.6\"),$AF$2,IF(OR(T67=\"5.1\",T67=\"5.2\",T67=\"5.3\",T67=\"5.4\",T67=\"5.5\",T67=\"5.6\"),$AG$2))))))","v":{"$error":"#REF!"}},null,null,null,null,{"$f":"#REF!","v":{"$error":"#REF!"}},"2.",{"$f":"IF(AL67=\"x\",#REF!,\"\")","v":{"$error":"#REF!"}},null,null,null,null,{"$f":"#REF!","v":{"$error":"#REF!"}},{"$f":"#REF!","v":{"$error":"#REF!"}},{"$f":"#REF!","v":{"$error":"#REF!"}},{"$f":"#REF!","v":{"$error":"#REF!"}},null,null,null,null,null,null,null,null,null,null,null,null,null,null,null,"",null,null,2,{"$f":"IF(PLAN!$G$64=\"1T\",PLAN!F67,IF(PLAN!$N$64=\"2T\",PLAN!M67,IF(PLAN!$U$64=\"3T\",PLAN!T67,\"\")))","v":{"$error":"#REF!"}},null,null,null,null,null,{"$f":"PLAN!$AX67","v":0},{"$f":"PLAN!$AY67","v":0},{"$f":"PLAN!$AZ67","v":0},{"$f":"PLAN!$BA67","v":0},{"$f":"PLAN!$BB67","v":0},{"$f":"PLAN!$BC67","v":0},{"$f":"PLAN!$BD67","v":0},{"$f":"PLAN!$BE67","v":0},{"$f":"PLAN!$BF67","v":0},{"$f":"PLAN!$BG67","v":0},{"$f":"PLAN!$BH67","v":0},{"$f":"PLAN!$BI67","v":0},{"$f":"PLAN!$BJ67","v":0},{"$f":"PLAN!$BK67","v":0},{"$f":"PLAN!$BL67","v":""},null,null,null,{"$f":"IF(PLAN!$C67=\"\",\"\",PLAN!$C67)","v":""},null,null,null,null,2,"a","E"]
[null,null,{"$f":"IF(D68=\"\",\"\",$AB$29)","v":""},null,{"$f":"IF(#REF!=\"\",\"\",#REF!)","v":{"$error":"#REF!"}},{"$f":"IF(CW68=\"\",#REF!,CW68)","v":{"$error":"#REF!"}},{"$f":"IF(CX68=\"\",#REF!,CX68)","v":{"$error":"#REF!"}},{"$f":"IF(CY68=\"\",#REF!,CY68)","v":{"$error":"#REF!"}},{"$f":"IF(CZ68=\"\",#REF!,CZ68)","v":{"$error":"#REF!"}},{"$f":"IF(DA68=\"\",#REF!,DA68)","v":{"$error":"#REF!"}},{"$f":"IF(DB68=\"\",#REF!,DB68)","v":{"$error":"#REF!"}},{"$f":"IF(#REF!=\"\",\"\",#REF!)","v":{"$error":"#REF!"}},{"$f":"IF(DC68=\"\",#REF!,DC68)","v":{"$error":"#REF!"}},{"$f":"IF(DD68=\"\",#REF!,DD68)","v":{"$error":"#REF!"}},{"$f":"IF(DE68=\"\",#REF!,DE68)","v":{"$error":"#REF!"}},{"$f":"IF(DF68=\"\",#REF!,DF68)","v":{"$error":"#REF!"}},{"$f":"IF(DG68=\"\",#REF!,DG68)","v":{"$error":"#REF!"}},{"$f":"IF(DH68=\"\",#REF!,DH68)","v":{"$error":"#REF!"}},{"$f":"IF(#REF!=\"\",\"\",#REF!)","v":{"$error":"#REF!"}},{"$f":"IF(DI68=\"\",#REF!,DI68)","v":{"$error":"#REF!"}},{"$f":"IF(DJ68=\"\",#REF!,DJ68)","v":{"$error":"#REF!"}},{"$f":"IF(DK68=\"\",#REF!,DK68)","v":{"$error":"#REF!"}},{"$f":"IF(DL68=\"\",#REF!,DL68)","v":{"$error":"#REF!"}},{"$f":"IF(DM68=\"\",#REF!,DM68)","v":{"$error":"#REF!"}},{"$f":"IF(DN68=\"\",#REF!,DN68)","v":{"$error":"#REF!"}},null,null,null,null,null,{"$error":"#REF!"},{"$error":"#REF!"},{"$error":"#REF!"},null,null,null,null,{"$f":"#REF!","v":{"$error":"#REF!"}},"3.",{"$f":"IF(AL68=\"x\",#REF!,\"\")","v":{"$error":"#REF!"}},null,null,null,null,{"$f":"#REF!","v":{"$error":"#REF!"}},{"$f":"#REF!","v":{"$error":"#REF!"}},{"$f":"#REF!","v":{"$error":"#REF!"}},{"$f":"#REF!","v":{"$error":"#REF!"}},null,null,null,null,null,null,null,null,null,null,null,null,null,null,null,"",null,null,3,{"$f":"IF(PLAN!$G$64=\"1T\",PLAN!F68,IF(PLAN!$N$64=\"2T\",PLAN!M68,IF(PLAN!$U$64=\"3T\",PLAN!T68,\"\")))","v":{"$error":"#REF!"}},null,null,null,null,null,{"$f":"PLAN!$AX68","v":0},{"$f":"PLAN!$AY68","v":0},{"$f":"PLAN!$AZ68","v":0},{"$f":"PLAN!$BA68","v":0},{"$f":"PLAN!$BB68","v":0},{"$f":"PLAN!$BC68","v":0},{"$f":"PLAN!$BD68","v":0},{"$f":"PLAN!$BE68","v":0},{"$f":"PLAN!$BF68","v":0},{"$f":"PLAN!$BG68","v":0},{"$f":"PLAN!$BH68","v":0},{"$f":"PLAN!$BI68","v":0},{"$f":"PLAN!$BJ68","v":0},{"$f":"PLAN!$BK68","v":0},{"$f":"PLAN!$BL68","v":""},null,null,null,{"$f":"IF(PLAN!$C68=\"\",\"\",PLAN!$C68)","v":""},null,null,null,null,3,"b","E"]
[null,null,{"$f":"IF(D69=\"\",\"\",$AB$30)","v":""},null,{"$f":"IF(#REF!=\"\",\"\",#REF!)","v":{"$error":"#REF!"}},{"$f":"IF(CW69=\"\",#REF!,CW69)","v":{"$error":"#REF!"}},{"$f":"IF(CX69=\"\",#REF!,CX69)","v":{"$error":"#REF!"}},{"$f":"IF(CY69=\"\",#REF!,CY69)","v":{"$error":"#REF!"}},{"$f":"IF(CZ69=\"\",#REF!,CZ69)","v":{"$error":"#REF!"}},{"$f":"IF(DA69=\"\",#REF!,DA69)","v":{"$error":"#REF!"}},{"$f":"IF(DB69=\"\",#REF!,DB69)","v":{"$error":"#REF!"}},{"$f":"IF(#REF!=\"\",\"\",#REF!)","v":{"$error":"#REF!"}},{"$f":"IF(DC69=\"\",#REF!,DC69)","v":{"$error":"#REF!"}},{"$f":"IF(DD69=\"\",#REF!,DD69)","v":{"$error":"#REF!"}},{"$f":"IF(DE69=\"\",#REF!,DE69)","v":{"$error":"#REF!"}},{"$f":"IF(DF69=\"\",#REF!,DF69)","v":{"$error":"#REF!"}},{"$f":"IF(DG69=\"\",#REF!,DG69)","v":{"$error":"#REF!"}},{"$f":"IF(DH69=\"\",#REF!,DH69)","v":{"$error":"#REF!"}},{"$f":"IF(#REF!=\"\",\"\",#REF!)","v":{"$error":"#REF!"}},{"$f":"IF(DI69=\"\",#REF!,DI69)","v":{"$error":"#REF!"}},{"$f":"IF(DJ69=\"\",#REF!,DJ69)","v":{"$error":"#REF!"}},{"$f":"IF(DK69=\"\",#REF!,DK69)","v":{"$error":"#REF!"}},{"$f":"IF(DL69=\"\",#REF!,DL69)","v":{"$error":"#REF!"}},{"$f":"IF(DM69=\"\",#REF!,DM69)","v":{"$error":"#REF!"}},{"$f":"IF(DN69=\"\",#REF!,DN69)","v":{"$error":"#REF!"}},null,null,null,null,null,{"$error":"#REF!"},{"$error":"#REF!"},{"$error":"#REF!"},null,null,null,null,{"$f":"#REF!","v":{"$error":"#REF!"}},"4.",{"$f":"IF(AL69=\"x\",#REF!,\"\")","v":{"$error":"#REF!"}},null,null,null,null,{"$f":"#REF!","v":{"$error":"#REF!"}},{"$f":"#REF!","v":{"$error":"#REF!"}},{"$f":"#REF!","v":{"$error":"#REF!"}},{"$f":"#REF!","v":{"$error":"#REF!"}},null,null,null,null,null,null,null,null,null,null,null,null,null,null,null,"",null,null,4,{"$f":"IF(PLAN!$G$64=\"1T\",PLAN!F69,IF(PLAN!$N$64=\"2T\",PLAN!M69,IF(PLAN!$U$64=\"3T\",PLAN!T69,\"\")))","v":{"$error":"#REF!"}},null,null,null,null,null,{"$f":"PLAN!$AX69","v":0},{"$f":"PLAN!$AY69","v":0},{"$f":"PLAN!$AZ69","v":0},{"$f":"PLAN!$BA69","v":0},{"$f":"PLAN!$BB69","v":0},{"$f":"PLAN!$BC69","v":0},{"$f":"PLAN!$BD69","v":0},{"$f":"PLAN!$BE69","v":0},{"$f":"PLAN!$BF69","v":0},{"$f":"PLAN!$BG69","v":0},{"$f":"PLAN!$BH69","v":0},{"$f":"PLAN!$BI69","v":0},{"$f":"PLAN!$BJ69","v":0},{"$f":"PLAN!$BK69","v":0},{"$f":"PLAN!$BL69","v":""},null,null,null,{"$f":"IF(PLAN!$C69=\"\",\"\",PLAN!$C69)","v":""},null,null,null,null,4,"c","E"]
[null,null,{"$f":"IF(D70=\"\",\"\",$AB$31)","v":""},null,{"$f":"IF(#REF!=\"\",\"\",#REF!)","v":{"$error":"#REF!"}},{"$f":"IF(CW70=\"\",#REF!,CW70)","v":{"$error":"#REF!"}},{"$f":"IF(CX70=\"\",#REF!,CX70)","v":{"$error":"#REF!"}},{"$f":"IF(CY70=\"\",#REF!,CY70)","v":{"$error":"#REF!"}},{"$f":"IF(CZ70=\"\",#REF!,CZ70)","v":{"$error":"#REF!"}},{"$f":"IF(DA70=\"\",#REF!,DA70)","v":{"$error":"#REF!"}},{"$f":"IF(DB70=\"\",#REF!,DB70)","v":{"$error":"#REF!"}},{"$f":"IF(#REF!=\"\",\"\",#REF!)","v":{"$error":"#REF!"}},{"$f":"IF(DC70=\"\",#REF!,DC70)","v":{"$error":"#REF!"}},{"$f":"IF(DD70=\"\",#REF!,DD70)","v":{"$error":"#REF!"}},{"$f":"IF(DE70=\"\",#REF!,DE70)","v":{"$error":"#REF!"}},{"$f":"IF(DF70=\"\",#REF!,DF70)","v":{"$error":"#REF!"}},{"$f":"IF(DG70=\"\",#REF!,DG70)","v":{"$error":"#REF!"}},{"$f":"IF(DH70=\"\",#REF!,DH70)","v":{"$error":"#REF!"}},{"$f":"IF(#REF!=\"\",\"\",#REF!)","v":{"$error":"#REF!"}},{"$f":"IF(DI70=\"\",#REF!,DI70)","v":{"$error":"#REF!"}},{"$f":"IF(DJ70=\"\",#REF!,DJ70)","v":{"$error":"#REF!"}},{"$f":"IF(DK70=\"\",#REF!,DK70)","v":{"$error":"#REF!"}},{"$f":"IF(DL70=\"\",#REF!,DL70)","v":{"$error":"#REF!"}},{"$f":"IF(DM70=\"\",#REF!,DM70)","v":{"$error":"#REF!"}},{"$f":"IF(DN70=\"\",#REF!,DN70)","v":{"$error":"#REF!"}},null,null,null,null,null,{"$error":"#REF!"},{"$error":"#REF!"},{"$error":"#REF!"},null,null,null,null,{"$f":"#REF!","v":{"$error":"#REF!"}},"5.",{"$f":"IF(AL70=\"x\",#REF!,\"\")","v":{"$error":"#REF!"}},null,null,null,null,{"$f":"#REF!","v":{"$error":"#REF!"}},{"$f":"#REF!","v":{"$error":"#REF!"}},{"$f":"#REF!","v":{"$error":"#REF!"}},{"$f":"#REF!","v":{"$error":"#REF!"}},{"$f":"#REF!","v":{"$error":"#REF!"}},"","","","","","","","","","","","","","","",null,null,5,{"$f":"IF(PLAN!$G$64=\"1T\",PLAN!F70,IF(PLAN!$N$64=\"2T\",PLAN!M70,IF(PLAN!$U$64=\"3T\",PLAN!T70,\"\")))","v":{"$error":"#REF!"}},null,null,null,null,null,{"$f":"PLAN!$AX70","v":""},{"$f":"PLAN!$AY70","v":""},{"$f":"PLAN!$AZ70","v":""},{"$f":"PLAN!$BA70","v":""},{"$f":"PLAN!$BB70","v":""},{"$f":"PLAN!$BC70","v":""},{"$f":"PLAN!$BD70","v":""},{"$f":"PLAN!$BE70","v":""},{"$f":"PLAN!$BF70","v":""},{"$f":"PLAN!$BG70","v":""},{"$f":"PLAN!$BH70","v":""},{"$f":"PLAN!$BI70","v":""},{"$f":"PLAN!$BJ70","v":""},{"$f":"PLAN!$BK70","v":""},{"$f":"PLAN!$BL70","v":""},null,null,null,{"$f":"IF(PLAN!$C70=\"\",\"\",PLAN!$C70)","v":""},null,null,null,null,5,"d","E"]
[null,"2T",{"$f":"IF(D71=\"\",\"\",$AB$27)","v":""},"",{"$f":"IF(#REF!=\"\",\"\",#REF!)","v":{"$error":"#REF!"}},{"$f":"IF(CW71=\"\",#REF!,CW71)","v":{"$error":"#REF!"}},{"$f":"IF(CX71=\"\",#REF!,CX71)","v":{"$error":"#REF!"}},{"$f":"IF(CY71=\"\",#REF!,CY71)","v":{"$error":"#REF!"}},{"$f":"IF(CZ71=\"\",#REF!,CZ71)","v":{"$error":"#REF!"}},{"$f":"IF(DA71=\"\",#REF!,DA71)","v":{"$error":"#REF!"}},{"$f":"IF(DB71=\"\",#REF!,DB71)","v":{"$error":"#REF!"}},{"$f":"IF(#REF!=\"\",\"\",#REF!)","v":{"$error":"#REF!"}},{"$f":"IF(DC71=\"\",#REF!,DC71)","v":{"$error":"#REF!"}},{"$f":"IF(DD71=\"\",#REF!,DD71)","v":{"$error":"#REF!"}},{"$f":"IF(DE71=\"\",#REF!,DE71)","v":{"$error":"#REF!"}},{"$f":"IF(DF71=\"\",#REF!,DF71)","v":{"$error":"#REF!"}},{"$f":"IF(DG71=\"\",#REF!,DG71)","v":{"$error":"#REF!"}},{"$f":"IF(DH71=\"\",#REF!,DH71)","v":{"$error":"#REF!"}},{"$f":"IF(#REF!=\"\",\"\",#REF!)","v":{"$error":"#REF!"}},{"$f":"IF(DI71=\"\",#REF!,DI71)","v":{"$error":"#REF!"}},{"$f":"IF(DJ71=\"\",#REF!,DJ71)","v":{"$error":"#REF!"}},{"$f":"IF(DK71=\"\",#REF!,DK71)","v":{"$error":"#REF!"}},{"$f":"IF(DL71=\"\",#REF!,DL71)","v":{"$error":"#REF!"}},{"$f":"IF(DM71=\"\",#REF!,DM71)","v":{"$error":"#REF!"}},{"$f":"IF(DN71=\"\",#REF!,DN71)","v":{"$error":"#REF!"}},null,null,null,null,null,{"$error":"#REF!"},{"$error":"#REF!"},{"$error":"#REF!"},null,null,null,null,null,null,{"$f":"IF(S63=\"1T\",\"PT\",\"\")","v":""},{"$f":"IF(Z63=\"2T\",\"ST\",\"\")","v":""},{"$f":"IF(DJ63=\"3T\",\"TT\",\"\")","v":""},null,null,null,null,null,null,null,null,null,null,null,null,null,null,null,null,null,null,null,null,null,null,null,null,6,{"$f":"IF(PLAN!$G$64=\"1T\",PLAN!F71,IF(PLAN!$N$64=\"2T\",PLAN!M71,IF(PLAN!$U$64=\"3T\",PLAN!T71,\"\")))","v":{"$error":"#REF!"}},null,null,null,null,null,null,null,null,null,null,null,null,null,null,null,null,null,null,null,null,null,null,null,{"$f":"IF(PLAN!$C71=\"\",\"\",PLAN!$C71)","v":""},null,null,null,null,6,"e","E"]
[null,null,{"$f":"IF(D72=\"\",\"\",$AB$28)","v":""},"",{"$f":"IF(#REF!=\"\",\"\",#REF!)","v":{"$error":"#REF!"}},{"$f":"IF(CW72=\"\",#REF!,CW72)","v":{"$error":"#REF!"}},{"$f":"IF(CX72=\"\",#REF!,CX72)","v":{"$error":"#REF!"}},{"$f":"IF(CY72=\"\",#REF!,CY72)","v":{"$error":"#REF!"}},{"$f":"IF(CZ72=\"\",#REF!,CZ72)","v":{"$error":"#REF!"}},{"$f":"IF(DA72=\"\",#REF!,DA72)","v":{"$error":"#REF!"}},{"$f":"IF(DB72=\"\",#REF!,DB72)","v":{"$error":"#REF!"}},{"$f":"IF(#REF!=\"\",\"\",#REF!)","v":{"$error":"#REF!"}},{"$f":"IF(DC72=\"\",#REF!,DC72)","v":{"$error":"#REF!"}},{"$f":"IF(DD72=\"\",#REF!,DD72)","v":{"$error":"#REF!"}},{"$f":"IF(DE72=\"\",#REF!,DE72)","v":{"$error":"#REF!"}},{"$f":"IF(DF72=\"\",#REF!,DF72)","v":{"$error":"#REF!"}},{"$f":"IF(DG72=\"\",#REF!,DG72)","v":{"$error":"#REF!"}},{"$f":"IF(DH72=\"\",#REF!,DH72)","v":{"$error":"#REF!"}},{"$f":"IF(#REF!=\"\",\"\",#REF!)","v":{"$error":"#REF!"}},{"$f":"IF(DI72=\"\",#REF!,DI72)","v":{"$error":"#REF!"}},{"$f":"IF(DJ72=\"\",#REF!,DJ72)","v":{"$error":"#REF!"}},{"$f":"IF(DK72=\"\",#REF!,DK72)","v":{"$error":"#REF!"}},{"$f":"IF(DL72=\"\",#REF!,DL72)","v":{"$error":"#REF!"}},{"$f":"IF(DM72=\"\",#REF!,DM72)","v":{"$error":"#REF!"}},{"$f":"IF(DN72=\"\",#REF!,DN72)","v":{"$error":"#REF!"}},null,null,null,null,null,{"$error":"#REF!"},{"$error":"#REF!"},{"$error":"#REF!"},null,null,null,null,null,null,null,null,null,null,null,null,null,null,null,null,null,null,null,null,null,null,null,null,null,null,null,null,null,null,null,null,null,7,{"$f":"IF(PLAN!$G$64=\"1T\",PLAN!F72,IF(PLAN!$N$64=\"2T\",PLAN!M72,IF(PLAN!$U$64=\"3T\",PLAN!T72,\"\")))","v":{"$error":"#REF!"}},null,null,null,null,null,null,null,null,null,null,null,null,null,null,null,null,null,null,null,null,null,null,null,{"$f":"IF(PLAN!$C72=\"\",\"\",PLAN!$C72)","v":""},null,null,null,null,7,"f"]
[null,null,{"$f":"IF(D73=\"\",\"\",$AB$29)","v":""},"",{"$f":"IF(#REF!=\"\",\"\",#REF!)","v":{"$error":"#REF!"}},{"$f":"IF(CW73=\"\",#REF!,CW73)","v":{"$error":"#REF!"}},{"$f":"IF(CX73=\"\",#REF!,CX73)","v":{"$error":"#REF!"}},{"$f":"IF(CY73=\"\",#REF!,CY73)","v":{"$error":"#REF!"}},{"$f":"IF(CZ73=\"\",#REF!,CZ73)","v":{"$error":"#REF!"}},{"$f":"IF(DA73=\"\",#REF!,DA73)","v":{"$error":"#REF!"}},{"$f":"IF(DB73=\"\",#REF!,DB73)","v":{"$error":"#REF!"}},{"$f":"IF(#REF!=\"\",\"\",#REF!)","v":{"$error":"#REF!"}},{"$f":"IF(DC73=\"\",#REF!,DC73)","v":{"$error":"#REF!"}},{"$f":"IF(DD73=\"\",#REF!,DD73)","v":{"$error":"#REF!"}},{"$f":"IF(DE73=\"\",#REF!,DE73)","v":{"$error":"#REF!"}},{"$f":"IF(DF73=\"\",#REF!,DF73)","v":{"$error":"#REF!"}},{"$f":"IF(DG73=\"\",#REF!,DG73)","v":{"$error":"#REF!"}},{"$f":"IF(DH73=\"\",#REF!,DH73)","v":{"$error":"#REF!"}},{"$f":"IF(#REF!=\"\",\"\",#REF!)","v":{"$error":"#REF!"}},{"$f":"IF(DI73=\"\",#REF!,DI73)","v":{"$error":"#REF!"}},{"$f":"IF(DJ73=\"\",#REF!,DJ73)","v":{"$error":"#REF!"}},{"$f":"IF(DK73=\"\",#REF!,DK73)","v":{"$error":"#REF!"}},{"$f":"IF(DL73=\"\",#REF!,DL73)","v":{"$error":"#REF!"}},{"$f":"IF(DM73=\"\",#REF!,DM73)","v":{"$error":"#REF!"}},{"$f":"IF(DN73=\"\",#REF!,DN73)","v":{"$error":"#REF!"}},null,null,null,null,null,{"$error":"#REF!"},{"$error":"#REF!"},{"$error":"#REF!"},null,null,null,null,null,null,null,null,null,null,null,null,null,null,null,null,null,null,null,null,null,null,null,null,null,null,null,null,null,null,null,null,null,8,{"$f":"IF(PLAN!$G$64=\"1T\",PLAN!F73,IF(PLAN!$N$64=\"2T\",PLAN!M73,IF(PLAN!$U$64=\"3T\",PLAN!T73,\"\")))","v":{"$error":"#REF!"}},null,null,null,null,null,null,null,null,null,null,null,null,null,null,null,null,null,null,null,null,null,null,null,{"$f":"IF(PLAN!$C73=\"\",\"\",PLAN!$C73)","v":""},null,null,null,null,8,"g"]
[null,null,{"$f":"IF(D74=\"\",\"\",$AB$30)","v":""},"",{"$f":"IF(#REF!=\"\",\"\",#REF!)","v":{"$error":"#REF!"}},{"$f":"IF(CW74=\"\",#REF!,CW74)","v":{"$error":"#REF!"}},{"$f":"IF(CX74=\"\",#REF!,CX74)","v":{"$error":"#REF!"}},{"$f":"IF(CY74=\"\",#REF!,CY74)","v":{"$error":"#REF!"}},{"$f":"IF(CZ74=\"\",#REF!,CZ74)","v":{"$error":"#REF!"}},{"$f":"IF(DA74=\"\",#REF!,DA74)","v":{"$error":"#REF!"}},{"$f":"IF(DB74=\"\",#REF!,DB74)","v":{"$error":"#REF!"}},{"$f":"IF(#REF!=\"\",\"\",#REF!)","v":{"$error":"#REF!"}},{"$f":"IF(DC74=\"\",#REF!,DC74)","v":{"$error":"#REF!"}},{"$f":"IF(DD74=\"\",#REF!,DD74)","v":{"$error":"#REF!"}},{"$f":"IF(DE74=\"\",#REF!,DE74)","v":{"$error":"#REF!"}},{"$f":"IF(DF74=\"\",#REF!,DF74)","v":{"$error":"#REF!"}},{"$f":"IF(DG74=\"\",#REF!,DG74)","v":{"$error":"#REF!"}},{"$f":"IF(DH74=\"\",#REF!,DH74)","v":{"$error":"#REF!"}},{"$f":"IF(#REF!=\"\",\"\",#REF!)","v":{"$error":"#REF!"}},{"$f":"IF(DI74=\"\",#REF!,DI74)","v":{"$error":"#REF!"}},{"$f":"IF(DJ74=\"\",#REF!,DJ74)","v":{"$error":"#REF!"}},{"$f":"IF(DK74=\"\",#REF!,DK74)","v":{"$error":"#REF!"}},{"$f":"IF(DL74=\"\",#REF!,DL74)","v":{"$error":"#REF!"}},{"$f":"IF(DM74=\"\",#REF!,DM74)","v":{"$error":"#REF!"}},{"$f":"IF(DN74=\"\",#REF!,DN74)","v":{"$error":"#REF!"}},null,null,null,null,null,{"$error":"#REF!"},{"$error":"#REF!"},{"$error":"#REF!"},null,null,null,null,null,null,null,null,null,null,null,null,null,null,null,null,null,null,null,null,null,null,null,null,null,null,null,null,null,null,null,null,null,9,{"$f":"IF(PLAN!$G$64=\"1T\",PLAN!F74,IF(PLAN!$N$64=\"2T\",PLAN!M74,IF(PLAN!$U$64=\"3T\",PLAN!T74,\"\")))","v":{"$error":"#REF!"}},null,null,null,null,null,null,null,null,null,null,null,null,null,null,null,null,null,null,null,null,null,null,null,{"$f":"IF(PLAN!$C74=\"\",\"\",PLAN!$C74)","v":""},null,null,null,null,9,"h"]
[null,null,{"$f":"IF(D75=\"\",\"\",$AB$31)","v":""},"",{"$f":"IF(#REF!=\"\",\"\",#REF!)","v":{"$error":"#REF!"}},{"$f":"IF(CW75=\"\",#REF!,CW75)","v":{"$error":"#REF!"}},{"$f":"IF(CX75=\"\",#REF!,CX75)","v":{"$error":"#REF!"}},{"$f":"IF(CY75=\"\",#REF!,CY75)","v":{"$error":"#REF!"}},{"$f":"IF(CZ75=\"\",#REF!,CZ75)","v":{"$error":"#REF!"}},{"$f":"IF(DA75=\"\",#REF!,DA75)","v":{"$error":"#REF!"}},{"$f":"IF(DB75=\"\",#REF!,DB75)","v":{"$error":"#REF!"}},{"$f":"IF(#REF!=\"\",\"\",#REF!)","v":{"$error":"#REF!"}},{"$f":"IF(DC75=\"\",#REF!,DC75)","v":{"$error":"#REF!"}},{"$f":"IF(DD75=\"\",#REF!,DD75)","v":{"$error":"#REF!"}},{"$f":"IF(DE75=\"\",#REF!,DE75)","v":{"$error":"#REF!"}},{"$f":"IF(DF75=\"\",#REF!,DF75)","v":{"$error":"#REF!"}},{"$f":"IF(DG75=\"\",#REF!,DG75)","v":{"$error":"#REF!"}},{"$f":"IF(DH75=\"\",#REF!,DH75)","v":{"$error":"#REF!"}},{"$f":"IF(#REF!=\"\",\"\",#REF!)","v":{"$error":"#REF!"}},{"$f":"IF(DI75=\"\",#REF!,DI75)","v":{"$error":"#REF!"}},{"$f":"IF(DJ75=\"\",#REF!,DJ75)","v":{"$error":"#REF!"}},{"$f":"IF(DK75=\"\",#REF!,DK75)","v":{"$error":"#REF!"}},{"$f":"IF(DL75=\"\",#REF!,DL75)","v":{"$error":"#REF!"}},{"$f":"IF(DM75=\"\",#REF!,DM75)","v":{"$error":"#REF!"}},{"$f":"IF(DN75=\"\",#REF!,DN75)","v":{"$error":"#REF!"}},null,null,null,null,null,{"$error":"#REF!"},{"$error":"#REF!"},{"$error":"#REF!"},null,null,null,null,null,null,null,null,null,null,null,null,null,null,null,null,null,null,null,null,null,null,null,null,null,null,null,null,null,null,null,null,null,10,{"$f":"IF(PLAN!$G$64=\"1T\",PLAN!F75,IF(PLAN!$N$64=\"2T\",PLAN!M75,IF(PLAN!$U$64=\"3T\",PLAN!T75,\"\")))","v":{"$error":"#REF!"}},null,null,null,null,null,null,null,null,null,null,null,null,null,null,null,null,null,null,null,null,null,null,null,{"$f":"IF(PLAN!$C75=\"\",\"\",PLAN!$C75)","v":""},null,null,null,null,10,"i"]
[null,"3T",{"$f":"IF(D76=\"\",\"\",$AB$27)","v":""},"",{"$f":"IF(#REF!=\"\",\"\",#REF!)","v":{"$error":"#REF!"}},{"$f":"IF(CW76=\"\",#REF!,CW76)","v":{"$error":"#REF!"}},{"$f":"IF(CX76=\"\",#REF!,CX76)","v":{"$error":"#REF!"}},{"$f":"IF(CY76=\"\",#REF!,CY76)","v":{"$error":"#REF!"}},{"$f":"IF(CZ76=\"\",#REF!,CZ76)","v":{"$error":"#REF!"}},{"$f":"IF(DA76=\"\",#REF!,DA76)","v":{"$error":"#REF!"}},{"$f":"IF(DB76=\"\",#REF!,DB76)","v":{"$error":"#REF!"}},{"$f":"IF(#REF!=\"\",\"\",#REF!)","v":{"$error":"#REF!"}},{"$f":"IF(DC76=\"\",#REF!,DC76)","v":{"$error":"#REF!"}},{"$f":"IF(DD76=\"\",#REF!,DD76)","v":{"$error":"#REF!"}},{"$f":"IF(DE76=\"\",#REF!,DE76)","v":{"$error":"#REF!"}},{"$f":"IF(DF76=\"\",#REF!,DF76)","v":{"$error":"#REF!"}},{"$f":"IF(DG76=\"\",#REF!,DG76)","v":{"$error":"#REF!"}},{"$f":"IF(DH76=\"\",#REF!,DH76)","v":{"$error":"#REF!"}},{"$f":"IF(#REF!=\"\",\"\",#REF!)","v":{"$error":"#REF!"}},{"$f":"IF(DI76=\"\",#REF!,DI76)","v":{"$error":"#REF!"}},{"$f":"IF(DJ76=\"\",#REF!,DJ76)","v":{"$error":"#REF!"}},{"$f":"IF(DK76=\"\",#REF!,DK76)","v":{"$error":"#REF!"}},{"$f":"IF(DL76=\"\",#REF!,DL76)","v":{"$error":"#REF!"}},{"$f":"IF(DM76=\"\",#REF!,DM76)","v":{"$error":"#REF!"}},{"$f":"IF(DN76=\"\",#REF!,DN76)","v":{"$error":"#REF!"}},null,null,null,null,null,{"$error":"#REF!"},{"$error":"#REF!"},{"$error":"#REF!"},null,null,null,null,null,null,null,null,null,null,null,null,null,null,null,null,null,null,null,null,null,null,null,null,null,null,null,null,null,null,null,null,null,11,{"$f":"IF(PLAN!$G$64=\"1T\",PLAN!F76,IF(PLAN!$N$64=\"2T\",PLAN!M76,IF(PLAN!$U$64=\"3T\",PLAN!T76,\"\")))","v":{"$error":"#REF!"}},null,null,null,null,null,null,null,null,null,null,null,null,null,null,null,null,null,null,null,null,null,null,null,{"$f":"IF(PLAN!$C76=\"\",\"\",PLAN!$C76)","v":""},null,null,null,null,11,"j"]
[null,null,{"$f":"IF(D77=\"\",\"\",$AB$28)","v":""},"",{"$f":"IF(#REF!=\"\",\"\",#REF!)","v":{"$error":"#REF!"}},{"$f":"IF(CW77=\"\",#REF!,CW77)","v":{"$error":"#REF!"}},{"$f":"IF(CX77=\"\",#REF!,CX77)","v":{"$error":"#REF!"}},{"$f":"IF(CY77=\"\",#REF!,CY77)","v":{"$error":"#REF!"}},{"$f":"IF(CZ77=\"\",#REF!,CZ77)","v":{"$error":"#REF!"}},{"$f":"IF(DA77=\"\",#REF!,DA77)","v":{"$error":"#REF!"}},{"$f":"IF(DB77=\"\",#REF!,DB77)","v":{"$error":"#REF!"}},{"$f":"IF(#REF!=\"\",\"\",#REF!)","v":{"$error":"#REF!"}},{"$f":"IF(DC77=\"\",#REF!,DC77)","v":{"$error":"#REF!"}},{"$f":"IF(DD77=\"\",#REF!,DD77)","v":{"$error":"#REF!"}},{"$f":"IF(DE77=\"\",#REF!,DE77)","v":{"$error":"#REF!"}},{"$f":"IF(DF77=\"\",#REF!,DF77)","v":{"$error":"#REF!"}},{"$f":"IF(DG77=\"\",#REF!,DG77)","v":{"$error":"#REF!"}},{"$f":"IF(DH77=\"\",#REF!,DH77)","v":{"$error":"#REF!"}},{"$f":"IF(#REF!=\"\",\"\",#REF!)","v":{"$error":"#REF!"}},{"$f":"IF(DI77=\"\",#REF!,DI77)","v":{"$error":"#REF!"}},{"$f":"IF(DJ77=\"\",#REF!,DJ77)","v":{"$error":"#REF!"}},{"$f":"IF(DK77=\"\",#REF!,DK77)","v":{"$error":"#REF!"}},{"$f":"IF(DL77=\"\",#REF!,DL77)","v":{"$error":"#REF!"}},{"$f":"IF(DM77=\"\",#REF!,DM77)","v":{"$error":"#REF!"}},{"$f":"IF(DN77=\"\",#REF!,DN77)","v":{"$error":"#REF!"}},null,null,null,null,null,{"$error":"#REF!"},{"$error":"#REF!"},{"$error":"#REF!"},null,null,null,null,null,null,null,null,null,null,null,null,null,null,null,null,null,null,null,null,null,null,null,null,null,null,null,null,null,null,null,null,null,12,{"$f":"IF(PLAN!$G$64=\"1T\",PLAN!F77,IF(PLAN!$N$64=\"2T\",PLAN!M77,IF(PLAN!$U$64=\"3T\",PLAN!T77,\"\")))","v":{"$error":"#REF!"}},null,null,null,null,null,null,null,null,null,null,null,null,null,null,null,null,null,null,null,null,null,null,null,{"$f":"IF(PLAN!$C77=\"\",\"\",PLAN!$C77)","v":""},null,null,null,null,12,"k"]
[null,null,{"$f":"IF(D78=\"\",\"\",$AB$29)","v":""},"",{"$f":"IF(#REF!=\"\",\"\",#REF!)","v":{"$error":"#REF!"}},{"$f":"IF(CW78=\"\",#REF!,CW78)","v":{"$error":"#REF!"}},{"$f":"IF(CX78=\"\",#REF!,CX78)","v":{"$error":"#REF!"}},{"$f":"IF(CY78=\"\",#REF!,CY78)","v":{"$error":"#REF!"}},{"$f":"IF(CZ78=\"\",#REF!,CZ78)","v":{"$error":"#REF!"}},{"$f":"IF(DA78=\"\",#REF!,DA78)","v":{"$error":"#REF!"}},{"$f":"IF(DB78=\"\",#REF!,DB78)","v":{"$error":"#REF!"}},{"$f":"IF(#REF!=\"\",\"\",#REF!)","v":{"$error":"#REF!"}},{"$f":"IF(DC78=\"\",#REF!,DC78)","v":{"$error":"#REF!"}},{"$f":"IF(DD78=\"\",#REF!,DD78)","v":{"$error":"#REF!"}},{"$f":"IF(DE78=\"\",#REF!,DE78)","v":{"$error":"#REF!"}},{"$f":"IF(DF78=\"\",#REF!,DF78)","v":{"$error":"#REF!"}},{"$f":"IF(DG78=\"\",#REF!,DG78)","v":{"$error":"#REF!"}},{"$f":"IF(DH78=\"\",#REF!,DH78)","v":{"$error":"#REF!"}},{"$f":"IF(#REF!=\"\",\"\",#REF!)","v":{"$error":"#REF!"}},{"$f":"IF(DI78=\"\",#REF!,DI78)","v":{"$error":"#REF!"}},{"$f":"IF(DJ78=\"\",#REF!,DJ78)","v":{"$error":"#REF!"}},{"$f":"IF(DK78=\"\",#REF!,DK78)","v":{"$error":"#REF!"}},{"$f":"IF(DL78=\"\",#REF!,DL78)","v":{"$error":"#REF!"}},{"$f":"IF(DM78=\"\",#REF!,DM78)","v":{"$error":"#REF!"}},{"$f":"IF(DN78=\"\",#REF!,DN78)","v":{"$error":"#REF!"}},null,null,null,null,null,{"$error":"#REF!"},{"$error":"#REF!"},{"$error":"#REF!"},null,null,null,null,null,null,null,null,null,null,null,null,null,null,null,null,null,null,null,null,null,null,null,null,null,null,null,null,null,null,null,null,null,13,{"$f":"IF(PLAN!$G$64=\"1T\",PLAN!F78,IF(PLAN!$N$64=\"2T\",PLAN!M78,IF(PLAN!$U$64=\"3T\",PLAN!T78,\"\")))","v":{"$error":"#REF!"}},null,null,null,null,null,null,null,null,null,null,null,null,null,null,null,null,null,null,null,null,null,null,null,{"$f":"IF(PLAN!$C78=\"\",\"\",PLAN!$C78)","v":""},null,null,null,null,13,"l"]
[null,null,{"$f":"IF(D79=\"\",\"\",$AB$30)","v":""},"",{"$f":"IF(#REF!=\"\",\"\",#REF!)","v":{"$error":"#REF!"}},{"$f":"IF(CW79=\"\",#REF!,CW79)","v":{"$error":"#REF!"}},{"$f":"IF(CX79=\"\",#REF!,CX79)","v":{"$error":"#REF!"}},{"$f":"IF(CY79=\"\",#REF!,CY79)","v":{"$error":"#REF!"}},{"$f":"IF(CZ79=\"\",#REF!,CZ79)","v":{"$error":"#REF!"}},{"$f":"IF(DA79=\"\",#REF!,DA79)","v":{"$error":"#REF!"}},{"$f":"IF(DB79=\"\",#REF!,DB79)","v":{"$error":"#REF!"}},{"$f":"IF(#REF!=\"\",\"\",#REF!)","v":{"$error":"#REF!"}},{"$f":"IF(DC79=\"\",#REF!,DC79)","v":{"$error":"#REF!"}},{"$f":"IF(DD79=\"\",#REF!,DD79)","v":{"$error":"#REF!"}},{"$f":"IF(DE79=\"\",#REF!,DE79)","v":{"$error":"#REF!"}},{"$f":"IF(DF79=\"\",#REF!,DF79)","v":{"$error":"#REF!"}},{"$f":"IF(DG79=\"\",#REF!,DG79)","v":{"$error":"#REF!"}},{"$f":"IF(DH79=\"\",#REF!,DH79)","v":{"$error":"#REF!"}},{"$f":"IF(#REF!=\"\",\"\",#REF!)","v":{"$error":"#REF!"}},{"$f":"IF(DI79=\"\",#REF!,DI79)","v":{"$error":"#REF!"}},{"$f":"IF(DJ79=\"\",#REF!,DJ79)","v":{"$error":"#REF!"}},{"$f":"IF(DK79=\"\",#REF!,DK79)","v":{"$error":"#REF!"}},{"$f":"IF(DL79=\"\",#REF!,DL79)","v":{"$error":"#REF!"}},{"$f":"IF(DM79=\"\",#REF!,DM79)","v":{"$error":"#REF!"}},{"$f":"IF(DN79=\"\",#REF!,DN79)","v":{"$error":"#REF!"}},null,null,null,null,null,{"$error":"#REF!"},{"$error":"#REF!"},{"$error":"#REF!"},null,null,null,null,null,null,null,null,null,null,null,null,null,null,null,null,null,null,null,null,null,null,null,null,null,null,null,null,null,null,null,null,null,14,{"$f":"IF(PLAN!$G$64=\"1T\",PLAN!F79,IF(PLAN!$N$64=\"2T\",PLAN!M79,IF(PLAN!$U$64=\"3T\",PLAN!T79,\"\")))","v":{"$error":"#REF!"}},null,null,null,null,null,null,null,null,null,null,null,null,null,null,null,null,null,null,null,null,null,null,null,{"$f":"IF(PLAN!$C79=\"\",\"\",PLAN!$C79)","v":""},null,null,null,null,14,"m"]
[null,null,{"$f":"IF(D80=\"\",\"\",$AB$31)","v":""},"",{"$f":"IF(#REF!=\"\",\"\",#REF!)","v":{"$error":"#REF!"}},{"$f":"IF(CW80=\"\",#REF!,CW80)","v":{"$error":"#REF!"}},{"$f":"IF(CX80=\"\",#REF!,CX80)","v":{"$error":"#REF!"}},{"$f":"IF(CY80=\"\",#REF!,CY80)","v":{"$error":"#REF!"}},{"$f":"IF(CZ80=\"\",#REF!,CZ80)","v":{"$error":"#REF!"}},{"$f":"IF(DA80=\"\",#REF!,DA80)","v":{"$error":"#REF!"}},{"$f":"IF(DB80=\"\",#REF!,DB80)","v":{"$error":"#REF!"}},{"$f":"IF(#REF!=\"\",\"\",#REF!)","v":{"$error":"#REF!"}},{"$f":"IF(DC80=\"\",#REF!,DC80)","v":{"$error":"#REF!"}},{"$f":"IF(DD80=\"\",#REF!,DD80)","v":{"$error":"#REF!"}},{"$f":"IF(DE80=\"\",#REF!,DE80)","v":{"$error":"#REF!"}},{"$f":"IF(DF80=\"\",#REF!,DF80)","v":{"$error":"#REF!"}},{"$f":"IF(DG80=\"\",#REF!,DG80)","v":{"$error":"#REF!"}},{"$f":"IF(DH80=\"\",#REF!,DH80)","v":{"$error":"#REF!"}},{"$f":"IF(#REF!=\"\",\"\",#REF!)","v":{"$error":"#REF!"}},{"$f":"IF(DI80=\"\",#REF!,DI80)","v":{"$error":"#REF!"}},{"$f":"IF(DJ80=\"\",#REF!,DJ80)","v":{"$error":"#REF!"}},{"$f":"IF(DK80=\"\",#REF!,DK80)","v":{"$error":"#REF!"}},{"$f":"IF(DL80=\"\",#REF!,DL80)","v":{"$error":"#REF!"}},{"$f":"IF(DM80=\"\",#REF!,DM80)","v":{"$error":"#REF!"}},{"$f":"IF(DN80=\"\",#REF!,DN80)","v":{"$error":"#REF!"}},null,null,null,null,null,{"$error":"#REF!"},{"$error":"#REF!"},{"$error":"#REF!"},null,null,null,null,null,null,null,null,null,null,null,null,null,null,null,null,null,null,null,null,null,null,null,null,null,null,null,null,null,null,null,null,null,15,{"$f":"IF(PLAN!$G$64=\"1T\",PLAN!F80,IF(PLAN!$N$64=\"2T\",PLAN!M80,IF(PLAN!$U$64=\"3T\",PLAN!T80,\"\")))","v":{"$error":"#REF!"}},null,null,null,null,null,null,null,null,null,null,null,null,null,null,null,null,null,null,null,null,null,null,null,{"$f":"IF(PLAN!$C80=\"\",\"\",PLAN!$C80)","v":""},null,null,null,null,15,"x"]
[]
[]
[]
[]
[]
[null,null,null,null,{"$f":"15-COUNTIF(E66:E80,\"\")","v":15},null,null,null,null,null,null,{"$f":"15-COUNTIF(L66:L80,\"\")","v":15},null,null,null,null,null,null,{"$f":"15-COUNTIF(S66:S80,\"\")","v":15}]
[]
[]
[null,null,null,{"$f":"#REF!&#REF!","v":{"$error":"#REF!"}}]
[null,null,null,null,null,null,null,null,null,null,null,null,null,null,null,null,null,null,null,null,null,null,null,null,null,null,null,null,null,null,null,null,null,null,null,null,null,null,null,null,null,null,null,null,"INDICADORES SELECCIONADOS",null,null,null,null,null,{"$f":"#REF!","v":{"$error":"#REF!"}},null,null,null,null,{"$f":"#REF!","v":{"$error":"#REF!"}},null,null,null,null,{"$f":"#REF!","v":{"$error":"#REF!"}}]
[null,null,null,null,{"$f":"IF(INICIO!$H$2=\"1T\",INICIO!$NH$14,\"\")","v":"PRIMER TRIMESTRE"},null,{"$f":"IF(E91=\"PRIMER TRIMESTRE\",B93,\"\")","v":"1T"},null,null,null,null,{"$f":"IF(INICIO!$H$2=\"2T\",INICIO!$NH$15,\"\")","v":""},null,{"$f":"IF(L91=\"SEGUNDO TRIMESTRE\",B98,\"\")","v":""},null,null,null,null,{"$f":"IF(INICIO!$H$2=\"3T\",INICIO!$NH$16,\"\")","v":""},null,{"$f":"IF(S91=\"TERCER TRIMESTRE\",B103,\"\")","v":""},null,null,null,null,null,null,null,null,null,{"$f":"G91","v":"1T"},{"$f":"N91","v":""},{"$f":"U91","v":""},null,null,null,null,null,null,null,null,null,null,null,"L1","L2","L3","L4","L5","L1","L2","L3","L4","L5","L1","L2","L3","L4","L5","L1","L2","L3","L4","L5",null,null,null,null,null,null,null,null,null,null,null,null,null,null,null,null,null,null,null,null,null,null,null,null,null,null,null,null,null,null,null,null,null,"Copia de datos empleados durante el año, en las actividades"]
[null,"LOGROS",null,null,"ACTIVIDADES 1T","INDICADORES 1T",null,null,null,null,null,"ACTIVIDADES 2T","INDICADORES 2T",null,null,null,null,null,"ACTIVIDADES 3T","INDICADORES 3T",null,null,null,null,null,null,"FECHAS 1T","FECHAS 2T","FECHAS 3T",null,"LOGOS X ACTIVIDAD",null,null,null,null,null,null,"x",null,"LOGROS SELECCIONADOS",null,null,null,null,{"$f":"#REF!","v":{"$error":"#REF!"}},{"$f":"#REF!","v":{"$error":"#REF!"}},{"$f":"#REF!","v":{"$error":"#REF!"}},{"$f":"#REF!","v":{"$error":"#REF!"}},{"$f":"#REF!","v":{"$error":"#REF!"}},null,null,null,null,null,null,null,null,null,null,null,null,null,null,"",null,null,null,null,null,null,null,null,null,{"$f":"PLAN!$AX92","v":0},{"$f":"PLAN!$AY92","v":0},{"$f":"PLAN!$AZ92","v":0},{"$f":"PLAN!$BA92","v":0},{"$f":"PLAN!$BB92","v":0},{"$f":"PLAN!$BC92","v":0},{"$f":"PLAN!$BD92","v":0},{"$f":"PLAN!$BE92","v":0},{"$f":"PLAN!$BF92","v":0},{"$f":"PLAN!$BG92","v":0},{"$f":"PLAN!$BH92","v":0},{"$f":"PLAN!$BI92","v":0},{"$f":"PLAN!$BJ92","v":0},{"$f":"PLAN!$BK92","v":0},{"$f":"PLAN!$BL92","v":""},null,null,null,null,null,null,null,null,"# de","1T","2T","3T","Indicadores 1t",null,null,null,null,null,"Indicadores 2t",null,null,null,null,null,"Indicadores 3t"]
[null,"1T",{"$f":"IF(D93=\"\",\"\",$AB$27)","v":""},null,{"$f":"IF(#REF!=\"\",\"\",#REF!)","v":{"$error":"#REF!"}},{"$f":"IF(CW93=\"\",#REF!,CW93)","v":{"$error":"#REF!"}},{"$f":"IF(CX93=\"\",#REF!,CX93)","v":{"$error":"#REF!"}},{"$f":"IF(CY93=\"\",#REF!,CY93)","v":{"$error":"#REF!"}},{"$f":"IF(CZ93=\"\",#REF!,CZ93)","v":{"$error":"#REF!"}},{"$f":"IF(DA93=\"\",#REF!,DA93)","v":{"$error":"#REF!"}},{"$f":"IF(DB93=\"\",#REF!,DB93)","v":{"$error":"#REF!"}},{"$f":"IF(#REF!=\"\",\"\",#REF!)","v":{"$error":"#REF!"}},{"$f":"IF(DC93=\"\",#REF!,DC93)","v":{"$error":"#REF!"}},{"$f":"IF(DD93=\"\",#REF!,DD93)","v":{"$error":"#REF!"}},{"$f":"IF(DE93=\"\",#REF!,DE93)","v":{"$error":"#REF!"}},{"$f":"IF(DF93=\"\",#REF!,DF93)","v":{"$error":"#REF!"}},{"$f":"IF(DG93=\"\",#REF!,DG93)","v":{"$error":"#REF!"}},{"$f":"IF(DH93=\"\",#REF!,DH93)","v":{"$error":"#REF!"}},{"$f":"IF(#REF!=\"\",\"\",#REF!)","v":{"$error":"#REF!"}},{"$f":"IF(DI93=\"\",#REF!,DI93)","v":{"$error":"#REF!"}},{"$f":"IF(DJ93=\"\",#REF!,DJ93)","v":{"$error":"#REF!"}},{"$f":"IF(DK93=\"\",#REF!,DK93)","v":{"$error":"#REF!"}},{"$f":"IF(DL93=\"\",#REF!,DL93)","v":{"$error":"#REF!"}},{"$f":"IF(DM93=\"\",#REF!,DM93)","v":{"$error":"#REF!"}},{"$f":"IF(DN93=\"\",#REF!,DN93)","v":{"$error":"#REF!"}},null,null,null,null,null,{"$f":"IF(F93=0,\"\",IF(OR(F93=\"1.1\",F93=\"1.2\",F93=\"1.3\",F93=\"1.4\",F93=\"1.5\",F93=\"1.6\"), $AC$2,IF(OR(F93=\"2.1\",F93=\"2.2\",F93=\"2.3\",F93=\"2.4\",F93=\"2.5\",F93=\"2.6\"),$AD$2,IF(OR(F93=\"3.1\",F93=\"3.2\",F93=\"3.3\",F93=\"3.4\",F93=\"3.5\",F93=\"3.6\"),$AE$2,IF(OR(F93=\"4.1\",F93=\"4.2\",F93=\"4.3\",F93=\"4.4\",F93=\"4.5\",F93=\"4.6\"),$AF$2,IF(OR(F93=\"5.1\",F93=\"5.2\",F93=\"5.3\",F93=\"5.4\",F93=\"5.5\",F93=\"5.6\"),$AG$2))))))","v":{"$error":"#REF!"}},{"$f":"IF(M93=0,\"\",IF(OR(M93=\"1.1\",M93=\"1.2\",M93=\"1.3\",M93=\"1.4\",M93=\"1.5\",M93=\"1.6\"), $AC$2,IF(OR(M93=\"2.1\",M93=\"2.2\",M93=\"2.3\",M93=\"2.4\",M93=\"2.5\",M93=\"2.6\"),$AD$2,IF(OR(M93=\"3.1\",M93=\"3.2\",M93=\"3.3\",M93=\"3.4\",M93=\"3.5\",M93=\"3.6\"),$AE$2,IF(OR(M93=\"4.1\",M93=\"4.2\",M93=\"4.3\",M93=\"4.4\",M93=\"4.5\",M93=\"4.6\"),$AF$2,IF(OR(M93=\"5.1\",M93=\"5.2\",M93=\"5.3\",M93=\"5.4\",M93=\"5.5\",M93=\"5.6\"),$AG$2))))))","v":{"$error":"#REF!"}},{"$f":"IF(T93=0,\"\",IF(OR(T93=\"1.1\",T93=\"1.2\",T93=\"1.3\",T93=\"1.4\",T93=\"1.5\",T93=\"1.6\"), $AC$2,IF(OR(T93=\"2.1\",T93=\"2.2\",T93=\"2.3\",T93=\"2.4\",T93=\"2.5\",T93=\"2.6\"),$AD$2,IF(OR(T93=\"3.1\",T93=\"3.2\",T93=\"3.3\",T93=\"3.4\",T93=\"3.5\",T93=\"3.6\"),$AE$2,IF(OR(T93=\"4.1\",T93=\"4.2\",T93=\"4.3\",T93=\"4.4\",T93=\"4.5\",T93=\"4.6\"),$AF$2,IF(OR(T93=\"5.1\",T93=\"5.2\",T93=\"5.3\",T93=\"5.4\",T93=\"5.5\",T93=\"5.6\"),$AG$2))))))","v":{"$error":"#REF!"}},null,null,null,null,{"$f":"#REF!","v":{"$error":"#REF!"}},"1.",{"$f":"IF(AL93=\"x\",#REF!,\"\")","v":{"$error":"#REF!"}},null,null,null,null,{"$f":"#REF!","v":{"$error":"#REF!"}},{"$f":"#REF!","v":{"$error":"#REF!"}},{"$f":"#REF!","v":{"$error":"#REF!"}},{"$f":"#REF!","v":{"$error":"#REF!"}},{"$f":"#REF!","v":{"$error":"#REF!"}},null,null,null,null,null,null,null,null,null,null,null,null,null,null,"",null,null,1,{"$f":"IF(PLAN!$G$91=\"1T\",PLAN!F93,IF(PLAN!$N$91=\"2T\",PLAN!M93,IF(PLAN!$U$91=\"3T\",PLAN!T93,\"\")))","v":{"$error":"#REF!"}},null,null,null,null,null,{"$f":"PLAN!$AX93","v":0},{"$f":"PLAN!$AY93","v":0},{"$f":"PLAN!$AZ93","v":0},{"$f":"PLAN!$BA93","v":0},{"$f":"PLAN!$BB93","v":0},{"$f":"PLAN!$BC93","v":0},{"$f":"PLAN!$BD93","v":0},{"$f":"PLAN!$BE93","v":0},{"$f":"PLAN!$BF93","v":0},{"$f":"PLAN!$BG93","v":0},{"$f":"PLAN!$BH93","v":0},{"$f":"PLAN!$BI93","v":0},{"$f":"PLAN!$BJ93","v":0},{"$f":"PLAN!$BK93","v":0},{"$f":"PLAN!$BL93","v":""},null,null,null,{"$f":"IF(PLAN!$C93=\"\",\"\",PLAN!$C93)","v":""},null,null,null,null,1,"x","EM"]
[null,null,{"$f":"IF(D94=\"\",\"\",$AB$28)","v":""},null,{"$f":"IF(#REF!=\"\",\"\",#REF!)","v":{"$error":"#REF!"}},{"$f":"IF(CW94=\"\",#REF!,CW94)","v":{"$error":"#REF!"}},{"$f":"IF(CX94=\"\",#REF!,CX94)","v":{"$error":"#REF!"}},{"$f":"IF(CY94=\"\",#REF!,CY94)","v":{"$error":"#REF!"}},{"$f":"IF(CZ94=\"\",#REF!,CZ94)","v":{"$error":"#REF!"}},{"$f":"IF(DA94=\"\",#REF!,DA94)","v":{"$error":"#REF!"}},{"$f":"IF(DB94=\"\",#REF!,DB94)","v":{"$error":"#REF!"}},{"$f":"IF(#REF!=\"\",\"\",#REF!)","v":{"$error":"#REF!"}},{"$f":"IF(DC94=\"\",#REF!,DC94)","v":{"$error":"#REF!"}},{"$f":"IF(DD94=\"\",#REF!,DD94)","v":{"$error":"#REF!"}},{"$f":"IF(DE94=\"\",#REF!,DE94)","v":{"$error":"#REF!"}},{"$f":"IF(DF94=\"\",#REF!,DF94)","v":{"$error":"#REF!"}},{"$f":"IF(DG94=\"\",#REF!,DG94)","v":{"$error":"#REF!"}},{"$f":"IF(DH94=\"\",#REF!,DH94)","v":{"$error":"#REF!"}},{"$f":"IF(#REF!=\"\",\"\",#REF!)","v":{"$error":"#REF!"}},{"$f":"IF(DI94=\"\",#REF!,DI94)","v":{"$error":"#REF!"}},{"$f":"IF(DJ94=\"\",#REF!,DJ94)","v":{"$error":"#REF!"}},{"$f":"IF(DK94=\"\",#REF!,DK94)","v":{"$error":"#REF!"}},{"$f":"IF(DL94=\"\",#REF!,DL94)","v":{"$error":"#REF!"}},{"$f":"IF(DM94=\"\",#REF!,DM94)","v":{"$error":"#REF!"}},{"$f":"IF(DN94=\"\",#REF!,DN94)","v":{"$error":"#REF!"}},null,null,null,null,null,{"$f":"IF(F94=0,\"\",IF(OR(F94=\"1.1\",F94=\"1.2\",F94=\"1.3\",F94=\"1.4\",F94=\"1.5\",F94=\"1.6\"), $AC$2,IF(OR(F94=\"2.1\",F94=\"2.2\",F94=\"2.3\",F94=\"2.4\",F94=\"2.5\",F94=\"2.6\"),$AD$2,IF(OR(F94=\"3.1\",F94=\"3.2\",F94=\"3.3\",F94=\"3.4\",F94=\"3.5\",F94=\"3.6\"),$AE$2,IF(OR(F94=\"4.1\",F94=\"4.2\",F94=\"4.3\",F94=\"4.4\",F94=\"4.5\",F94=\"4.6\"),$AF$2,IF(OR(F94=\"5.1\",F94=\"5.2\",F94=\"5.3\",F94=\"5.4\",F94=\"5.5\",F94=\"5.6\"),$AG$2))))))","v":{"$error":"#REF!"}},{"$f":"IF(M94=0,\"\",IF(OR(M94=\"1.1\",M94=\"1.2\",M94=\"1.3\",M94=\"1.4\",M94=\"1.5\",M94=\"1.6\"), $AC$2,IF(OR(M94=\"2.1\",M94=\"2.2\",M94=\"2.3\",M94=\"2.4\",M94=\"2.5\",M94=\"2.6\"),$AD$2,IF(OR(M94=\"3.1\",M94=\"3.2\",M94=\"3.3\",M94=\"3.4\",M94=\"3.5\",M94=\"3.6\"),$AE$2,IF(OR(M94=\"4.1\",M94=\"4.2\",M94=\"4.3\",M94=\"4.4\",M94=\"4.5\",M94=\"4.6\"),$AF$2,IF(OR(M94=\"5.1\",M94=\"5.2\",M94=\"5.3\",M94=\"5.4\",M94=\"5.5\",M94=\"5.6\"),$AG$2))))))","v":{"$error":"#REF!"}},{"$f":"IF(T94=0,\"\",IF(OR(T94=\"1.1\",T94=\"1.2\",T94=\"1.3\",T94=\"1.4\",T94=\"1.5\",T94=\"1.6\"), $AC$2,IF(OR(T94=\"2.1\",T94=\"2.2\",T94=\"2.3\",T94=\"2.4\",T94=\"2.5\",T94=\"2.6\"),$AD$2,IF(OR(T94=\"3.1\",T94=\"3.2\",T94=\"3.3\",T94=\"3.4\",T94=\"3.5\",T94=\"3.6\"),$AE$2,IF(OR(T94=\"4.1\",T94=\"4.2\",T94=\"4.3\",T94=\"4.4\",T94=\"4.5\",T94=\"4.6\"),$AF$2,IF(OR(T94=\"5.1\",T94=\"5.2\",T94=\"5.3\",T94=\"5.4\",T94=\"5.5\",T94=\"5.6\"),$AG$2))))))","v":{"$error":"#REF!"}},null,null,null,null,{"$f":"#REF!","v":{"$error":"#REF!"}},"2.",{"$f":"IF(AL94=\"x\",#REF!,\"\")","v":{"$error":"#REF!"}},null,null,null,null,{"$f":"#REF!","v":{"$error":"#REF!"}},{"$f":"#REF!","v":{"$error":"#REF!"}},{"$f":"#REF!","v":{"$error":"#REF!"}},{"$f":"#REF!","v":{"$error":"#REF!"}},{"$f":"#REF!","v":{"$error":"#REF!"}},null,null,null,null,null,null,null,null,null,null,null,null,null,null,"",null,null,2,{"$f":"IF(PLAN!$G$91=\"1T\",PLAN!F94,IF(PLAN!$N$91=\"2T\",PLAN!M94,IF(PLAN!$U$91=\"3T\",PLAN!T94,\"\")))","v":{"$error":"#REF!"}},null,null,null,null,null,{"$f":"PLAN!$AX94","v":0},{"$f":"PLAN!$AY94","v":0},{"$f":"PLAN!$AZ94","v":0},{"$f":"PLAN!$BA94","v":0},{"$f":"PLAN!$BB94","v":0},{"$f":"PLAN!$BC94","v":0},{"$f":"PLAN!$BD94","v":0},{"$f":"PLAN!$BE94","v":0},{"$f":"PLAN!$BF94","v":0},{"$f":"PLAN!$BG94","v":0},{"$f":"PLAN!$BH94","v":0},{"$f":"PLAN!$BI94","v":0},{"$f":"PLAN!$BJ94","v":0},{"$f":"PLAN!$BK94","v":0},{"$f":"PLAN!$BL94","v":""},null,null,null,{"$f":"IF(PLAN!$C94=\"\",\"\",PLAN!$C94)","v":""},null,null,null,null,2,"a","E"]
[null,null,{"$f":"IF(D95=\"\",\"\",$AB$29)","v":""},null,{"$f":"IF(#REF!=\"\",\"\",#REF!)","v":{"$error":"#REF!"}},{"$f":"IF(CW95=\"\",#REF!,CW95)","v":{"$error":"#REF!"}},{"$f":"IF(CX95=\"\",#REF!,CX95)","v":{"$error":"#REF!"}},{"$f":"IF(CY95=\"\",#REF!,CY95)","v":{"$error":"#REF!"}},{"$f":"IF(CZ95=\"\",#REF!,CZ95)","v":{"$error":"#REF!"}},{"$f":"IF(DA95=\"\",#REF!,DA95)","v":{"$error":"#REF!"}},{"$f":"IF(DB95=\"\",#REF!,DB95)","v":{"$error":"#REF!"}},{"$f":"IF(#REF!=\"\",\"\",#REF!)","v":{"$error":"#REF!"}},{"$f":"IF(DC95=\"\",#REF!,DC95)","v":{"$error":"#REF!"}},{"$f":"IF(DD95=\"\",#REF!,DD95)","v":{"$error":"#REF!"}},{"$f":"IF(DE95=\"\",#REF!,DE95)","v":{"$error":"#REF!"}},{"$f":"IF(DF95=\"\",#REF!,DF95)","v":{"$error":"#REF!"}},{"$f":"IF(DG95=\"\",#REF!,DG95)","v":{"$error":"#REF!"}},{"$f":"IF(DH95=\"\",#REF!,DH95)","v":{"$error":"#REF!"}},{"$f":"IF(#REF!=\"\",\"\",#REF!)","v":{"$error":"#REF!"}},{"$f":"IF(DI95=\"\",#REF!,DI95)","v":{"$error":"#REF!"}},{"$f":"IF(DJ95=\"\",#REF!,DJ95)","v":{"$error":"#REF!"}},{"$f":"IF(DK95=\"\",#REF!,DK95)","v":{"$error":"#REF!"}},{"$f":"IF(DL95=\"\",#REF!,DL95)","v":{"$error":"#REF!"}},{"$f":"IF(DM95=\"\",#REF!,DM95)","v":{"$error":"#REF!"}},{"$f":"IF(DN95=\"\",#REF!,DN95)","v":{"$error":"#REF!"}},null,null,null,null,null,{"$error":"#REF!"},{"$error":"#REF!"},{"$error":"#REF!"},null,null,null,null,{"$f":"#REF!","v":{"$error":"#REF!"}},"3.",{"$f":"IF(AL95=\"x\",#REF!,\"\")","v":{"$error":"#REF!"}},null,null,null,null,{"$f":"#REF!","v":{"$error":"#REF!"}},{"$f":"#REF!","v":{"$error":"#REF!"}},{"$f":"#REF!","v":{"$error":"#REF!"}},{"$f":"#REF!","v":{"$error":"#REF!"}},{"$f":"#REF!","v":{"$error":"#REF!"}},null,null,null,null,null,null,null,null,null,null,null,null,null,null,"",null,null,3,{"$f":"IF(PLAN!$G$91=\"1T\",PLAN!F95,IF(PLAN!$N$91=\"2T\",PLAN!M95,IF(PLAN!$U$91=\"3T\",PLAN!T95,\"\")))","v":{"$error":"#REF!"}},null,null,null,null,null,{"$f":"PLAN!$AX95","v":0},{"$f":"PLAN!$AY95","v":0},{"$f":"PLAN!$AZ95","v":0},{"$f":"PLAN!$BA95","v":0},{"$f":"PLAN!$BB95","v":0},{"$f":"PLAN!$BC95","v":0},{"$f":"PLAN!$BD95","v":0},{"$f":"PLAN!$BE95","v":0},{"$f":"PLAN!$BF95","v":0},{"$f":"PLAN!$BG95","v":0},{"$f":"PLAN!$BH95","v":0},{"$f":"PLAN!$BI95","v":0},{"$f":"PLAN!$BJ95","v":0},{"$f":"PLAN!$BK95","v":0},{"$f":"PLAN!$BL95","v":""},null,null,null,{"$f":"IF(PLAN!$C95=\"\",\"\",PLAN!$C95)","v":""},null,null,null,null,3,"b","E"]
[null,null,{"$f":"IF(D96=\"\",\"\",$AB$30)","v":""},null,{"$f":"IF(#REF!=\"\",\"\",#REF!)","v":{"$error":"#REF!"}},{"$f":"IF(CW96=\"\",#REF!,CW96)","v":{"$error":"#REF!"}},{"$f":"IF(CX96=\"\",#REF!,CX96)","v":{"$error":"#REF!"}},{"$f":"IF(CY96=\"\",#REF!,CY96)","v":{"$error":"#REF!"}},{"$f":"IF(CZ96=\"\",#REF!,CZ96)","v":{"$error":"#REF!"}},{"$f":"IF(DA96=\"\",#REF!,DA96)","v":{"$error":"#REF!"}},{"$f":"IF(DB96=\"\",#REF!,DB96)","v":{"$error":"#REF!"}},{"$f":"IF(#REF!=\"\",\"\",#REF!)","v":{"$error":"#REF!"}},{"$f":"IF(DC96=\"\",#REF!,DC96)","v":{"$error":"#REF!"}},{"$f":"IF(DD96=\"\",#REF!,DD96)","v":{"$error":"#REF!"}},{"$f":"IF(DE96=\"\",#REF!,DE96)","v":{"$error":"#REF!"}},{"$f":"IF(DF96=\"\",#REF!,DF96)","v":{"$error":"#REF!"}},{"$f":"IF(DG96=\"\",#REF!,DG96)","v":{"$error":"#REF!"}},{"$f":"IF(DH96=\"\",#REF!,DH96)","v":{"$error":"#REF!"}},{"$f":"IF(#REF!=\"\",\"\",#REF!)","v":{"$error":"#REF!"}},{"$f":"IF(DI96=\"\",#REF!,DI96)","v":{"$error":"#REF!"}},{"$f":"IF(DJ96=\"\",#REF!,DJ96)","v":{"$error":"#REF!"}},{"$f":"IF(DK96=\"\",#REF!,DK96)","v":{"$error":"#REF!"}},{"$f":"IF(DL96=\"\",#REF!,DL96)","v":{"$error":"#REF!"}},{"$f":"IF(DM96=\"\",#REF!,DM96)","v":{"$error":"#REF!"}},{"$f":"IF(DN96=\"\",#REF!,DN96)","v":{"$error":"#REF!"}},null,null,null,null,null,{"$error":"#REF!"},{"$error":"#REF!"},{"$error":"#REF!"},null,null,null,null,{"$f":"#REF!","v":{"$error":"#REF!"}},"4.",{"$f":"IF(AL96=\"x\",#REF!,\"\")","v":{"$error":"#REF!"}},null,null,null,null,{"$f":"#REF!","v":{"$error":"#REF!"}},{"$f":"#REF!","v":{"$error":"#REF!"}},{"$f":"#REF!","v":{"$error":"#REF!"}},{"$f":"#REF!","v":{"$error":"#REF!"}},{"$f":"#REF!","v":{"$error":"#REF!"}},null,null,null,null,null,null,null,null,null,null,null,null,null,null,"",null,null,4,{"$f":"IF(PLAN!$G$91=\"1T\",PLAN!F96,IF(PLAN!$N$91=\"2T\",PLAN!M96,IF(PLAN!$U$91=\"3T\",PLAN!T96,\"\")))","v":{"$error":"#REF!"}},null,null,null,null,null,{"$f":"PLAN!$AX96","v":0},{"$f":"PLAN!$AY96","v":0},{"$f":"PLAN!$AZ96","v":0},{"$f":"PLAN!$BA96","v":0},{"$f":"PLAN!$BB96","v":0},{"$f":"PLAN!$BC96","v":0},{"$f":"PLAN!$BD96","v":0},{"$f":"PLAN!$BE96","v":0},{"$f":"PLAN!$BF96","v":0},{"$f":"PLAN!$BG96","v":0},{"$f":"PLAN!$BH96","v":0},{"$f":"PLAN!$BI96","v":0},{"$f":"PLAN!$BJ96","v":0},{"$f":"PLAN!$BK96","v":0},{"$f":"PLAN!$BL96","v":""},null,null,null,{"$f":"IF(PLAN!$C96=\"\",\"\",PLAN!$C96)","v":""},null,null,null,null,4,"c","E"]
[null,null,{"$f":"IF(D97=\"\",\"\",$AB$31)","v":""},null,{"$f":"IF(#REF!=\"\",\"\",#REF!)","v":{"$error":"#REF!"}},{"$f":"IF(CW97=\"\",#REF!,CW97)","v":{"$error":"#REF!"}},{"$f":"IF(CX97=\"\",#REF!,CX97)","v":{"$error":"#REF!"}},{"$f":"IF(CY97=\"\",#REF!,CY97)","v":{"$error":"#REF!"}},{"$f":"IF(CZ97=\"\",#REF!,CZ97)","v":{"$error":"#REF!"}},{"$f":"IF(DA97=\"\",#REF!,DA97)","v":{"$error":"#REF!"}},{"$f":"IF(DB97=\"\",#REF!,DB97)","v":{"$error":"#REF!"}},{"$f":"IF(#REF!=\"\",\"\",#REF!)","v":{"$error":"#REF!"}},{"$f":"IF(DC97=\"\",#REF!,DC97)","v":{"$error":"#REF!"}},{"$f":"IF(DD97=\"\",#REF!,DD97)","v":{"$error":"#REF!"}},{"$f":"IF(DE97=\"\",#REF!,DE97)","v":{"$error":"#REF!"}},{"$f":"IF(DF97=\"\",#REF!,DF97)","v":{"$error":"#REF!"}},{"$f":"IF(DG97=\"\",#REF!,DG97)","v":{"$error":"#REF!"}},{"$f":"IF(DH97=\"\",#REF!,DH97)","v":{"$error":"#REF!"}},{"$f":"IF(#REF!=\"\",\"\",#REF!)","v":{"$error":"#REF!"}},{"$f":"IF(DI97=\"\",#REF!,DI97)","v":{"$error":"#REF!"}},{"$f":"IF(DJ97=\"\",#REF!,DJ97)","v":{"$error":"#REF!"}},{"$f":"IF(DK97=\"\",#REF!,DK97)","v":{"$error":"#REF!"}},{"$f":"IF(DL97=\"\",#REF!,DL97)","v":{"$error":"#REF!"}},{"$f":"IF(DM97=\"\",#REF!,DM97)","v":{"$error":"#REF!"}},{"$f":"IF(DN97=\"\",#REF!,DN97)","v":{"$error":"#REF!"}},null,null,null,null,null,{"$error":"#REF!"},{"$error":"#REF!"},{"$error":"#REF!"},null,null,null,null,{"$f":"#REF!","v":{"$error":"#REF!"}},"5.",{"$f":"IF(AL97=\"x\",#REF!,\"\")","v":{"$error":"#REF!"}},null,null,null,null,{"$f":"#REF!","v":{"$error":"#REF!"}},{"$f":"#REF!","v":{"$error":"#REF!"}},{"$f":"#REF!","v":{"$error":"#REF!"}},{"$f":"#REF!","v":{"$error":"#REF!"}},{"$f":"#REF!","v":{"$error":"#REF!"}},null,null,null,null,null,null,null,null,null,null,null,null,null,null,"",null,null,5,{"$f":"IF(PLAN!$G$91=\"1T\",PLAN!F97,IF(PLAN!$N$91=\"2T\",PLAN!M97,IF(PLAN!$U$91=\"3T\",PLAN!T97,\"\")))","v":{"$error":"#REF!"}},null,null,null,null,null,{"$f":"PLAN!$AX97","v":0},{"$f":"PLAN!$AY97","v":0},{"$f":"PLAN!$AZ97","v":0},{"$f":"PLAN!$BA97","v":0},{"$f":"PLAN!$BB97","v":0},{"$f":"PLAN!$BC97","v":0},{"$f":"PLAN!$BD97","v":0},{"$f":"PLAN!$BE97","v":0},{"$f":"PLAN!$BF97","v":0},{"$f":"PLAN!$BG97","v":0},{"$f":"PLAN!$BH97","v":0},{"$f":"PLAN!$BI97","v":0},{"$f":"PLAN!$BJ97","v":0},{"$f":"PLAN!$BK97","v":0},{"$f":"PLAN!$BL97","v":""},null,null,null,{"$f":"IF(PLAN!$C97=\"\",\"\",PLAN!$C97)","v":""},null,null,null,null,5,"d","E"]
[null,"2T",{"$f":"IF(D98=\"\",\"\",$AB$27)","v":""},"",{"$f":"IF(#REF!=\"\",\"\",#REF!)","v":{"$error":"#REF!"}},{"$f":"IF(CW98=\"\",#REF!,CW98)","v":{"$error":"#REF!"}},{"$f":"IF(CX98=\"\",#REF!,CX98)","v":{"$error":"#REF!"}},{"$f":"IF(CY98=\"\",#REF!,CY98)","v":{"$error":"#REF!"}},{"$f":"IF(CZ98=\"\",#REF!,CZ98)","v":{"$error":"#REF!"}},{"$f":"IF(DA98=\"\",#REF!,DA98)","v":{"$error":"#REF!"}},{"$f":"IF(DB98=\"\",#REF!,DB98)","v":{"$error":"#REF!"}},{"$f":"IF(#REF!=\"\",\"\",#REF!)","v":{"$error":"#REF!"}},{"$f":"IF(DC98=\"\",#REF!,DC98)","v":{"$error":"#REF!"}},{"$f":"IF(DD98=\"\",#REF!,DD98)","v":{"$error":"#REF!"}},{"$f":"IF(DE98=\"\",#REF!,DE98)","v":{"$error":"#REF!"}},{"$f":"IF(DF98=\"\",#REF!,DF98)","v":{"$error":"#REF!"}},{"$f":"IF(DG98=\"\",#REF!,DG98)","v":{"$error":"#REF!"}},{"$f":"IF(DH98=\"\",#REF!,DH98)","v":{"$error":"#REF!"}},{"$f":"IF(#REF!=\"\",\"\",#REF!)","v":{"$error":"#REF!"}},{"$f":"IF(DI98=\"\",#REF!,DI98)","v":{"$error":"#REF!"}},{"$f":"IF(DJ98=\"\",#REF!,DJ98)","v":{"$error":"#REF!"}},{"$f":"IF(DK98=\"\",#REF!,DK98)","v":{"$error":"#REF!"}},{"$f":"IF(DL98=\"\",#REF!,DL98)","v":{"$error":"#REF!"}},{"$f":"IF(DM98=\"\",#REF!,DM98)","v":{"$error":"#REF!"}},{"$f":"IF(DN98=\"\",#REF!,DN98)","v":{"$error":"#REF!"}},null,null,null,null,null,{"$error":"#REF!"},{"$error":"#REF!"},{"$error":"#REF!"},null,null,null,null,null,null,{"$f":"IF(S90=\"1T\",\"PT\",\"\")","v":""},{"$f":"IF(Z90=\"2T\",\"ST\",\"\")","v":""},{"$f":"IF(DJ90=\"3T\",\"TT\",\"\")","v":""},null,null,null,null,null,null,null,null,null,null,null,null,null,null,null,null,null,null,null,null,null,null,null,null,6,{"$f":"IF(PLAN!$G$91=\"1T\",PLAN!F98,IF(PLAN!$N$91=\"2T\",PLAN!M98,IF(PLAN!$U$91=\"3T\",PLAN!T98,\"\")))","v":{"$error":"#REF!"}},null,null,null,null,null,null,null,null,null,null,null,null,null,null,null,null,null,null,null,null,null,null,null,{"$f":"IF(PLAN!$C98=\"\",\"\",PLAN!$C98)","v":""},null,null,null,null,6,"e","E"]
[null,null,{"$f":"IF(D99=\"\",\"\",$AB$28)","v":""},null,{"$f":"IF(#REF!=\"\",\"\",#REF!)","v":{"$error":"#REF!"}},{"$f":"IF(CW99=\"\",#REF!,CW99)","v":{"$error":"#REF!"}},{"$f":"IF(CX99=\"\",#REF!,CX99)","v":{"$error":"#REF!"}},{"$f":"IF(CY99=\"\",#REF!,CY99)","v":{"$error":"#REF!"}},{"$f":"IF(CZ99=\"\",#REF!,CZ99)","v":{"$error":"#REF!"}},{"$f":"IF(DA99=\"\",#REF!,DA99)","v":{"$error":"#REF!"}},{"$f":"IF(DB99=\"\",#REF!,DB99)","v":{"$error":"#REF!"}},{"$f":"IF(#REF!=\"\",\"\",#REF!)","v":{"$error":"#REF!"}},{"$f":"IF(DC99=\"\",#REF!,DC99)","v":{"$error":"#REF!"}},{"$f":"IF(DD99=\"\",#REF!,DD99)","v":{"$error":"#REF!"}},{"$f":"IF(DE99=\"\",#REF!,DE99)","v":{"$error":"#REF!"}},{"$f":"IF(DF99=\"\",#REF!,DF99)","v":{"$error":"#REF!"}},{"$f":"IF(DG99=\"\",#REF!,DG99)","v":{"$error":"#REF!"}},{"$f":"IF(DH99=\"\",#REF!,DH99)","v":{"$error":"#REF!"}},{"$f":"IF(#REF!=\"\",\"\",#REF!)","v":{"$error":"#REF!"}},{"$f":"IF(DI99=\"\",#REF!,DI99)","v":{"$error":"#REF!"}},{"$f":"IF(DJ99=\"\",#REF!,DJ99)","v":{"$error":"#REF!"}},{"$f":"IF(DK99=\"\",#REF!,DK99)","v":{"$error":"#REF!"}},{"$f":"IF(DL99=\"\",#REF!,DL99)","v":{"$error":"#REF!"}},{"$f":"IF(DM99=\"\",#REF!,DM99)","v":{"$error":"#REF!"}},{"$f":"IF(DN99=\"\",#REF!,DN99)","v":{"$error":"#REF!"}},null,null,null,null,null,{"$error":"#REF!"},{"$error":"#REF!"},{"$error":"#REF!"},null,null,null,null,null,null,null,null,null,null,null,null,null,null,null,null,null,null,null,null,null,null,null,null,null,null,null,null,null,null,null,null,null,7,{"$f":"IF(PLAN!$G$91=\"1T\",PLAN!F99,IF(PLAN!$N$91=\"2T\",PLAN!M99,IF(PLAN!$U$91=\"3T\",PLAN!T99,\"\")))","v":{"$error":"#REF!"}},null,null,null,null,null,null,null,null,null,null,null,null,null,null,null,null,null,null,null,null,null,null,null,{"$f":"IF(PLAN!$C99=\"\",\"\",PLAN!$C99)","v":""},null,null,null,null,7,"f"]
[null,null,{"$f":"IF(D100=\"\",\"\",$AB$29)","v":""},null,{"$f":"IF(#REF!=\"\",\"\",#REF!)","v":{"$error":"#REF!"}},{"$f":"IF(CW100=\"\",#REF!,CW100)","v":{"$error":"#REF!"}},{"$f":"IF(CX100=\"\",#REF!,CX100)","v":{"$error":"#REF!"}},{"$f":"IF(CY100=\"\",#REF!,CY100)","v":{"$error":"#REF!"}},{"$f":"IF(CZ100=\"\",#REF!,CZ100)","v":{"$error":"#REF!"}},{"$f":"IF(DA100=\"\",#REF!,DA100)","v":{"$error":"#REF!"}},{"$f":"IF(DB100=\"\",#REF!,DB100)","v":{"$error":"#REF!"}},{"$f":"IF(#REF!=\"\",\"\",#REF!)","v":{"$error":"#REF!"}},{"$f":"IF(DC100=\"\",#REF!,DC100)","v":{"$error":"#REF!"}},{"$f":"IF(DD100=\"\",#REF!,DD100)","v":{"$error":"#REF!"}},{"$f":"IF(DE100=\"\",#REF!,DE100)","v":{"$error":"#REF!"}},{"$f":"IF(DF100=\"\",#REF!,DF100)","v":{"$error":"#REF!"}},{"$f":"IF(DG100=\"\",#REF!,DG100)","v":{"$error":"#REF!"}},{"$f":"IF(DH100=\"\",#REF!,DH100)","v":{"$error":"#REF!"}},{"$f":"IF(#REF!=\"\",\"\",#REF!)","v":{"$error":"#REF!"}},{"$f":"IF(DI100=\"\",#REF!,DI100)","v":{"$error":"#REF!"}},{"$f":"IF(DJ100=\"\",#REF!,DJ100)","v":{"$error":"#REF!"}},{"$f":"IF(DK100=\"\",#REF!,DK100)","v":{"$error":"#REF!"}},{"$f":"IF(DL100=\"\",#REF!,DL100)","v":{"$error":"#REF!"}},{"$f":"IF(DM100=\"\",#REF!,DM100)","v":{"$error":"#REF!"}},{"$f":"IF(DN100=\"\",#REF!,DN100)","v":{"$error":"#REF!"}},null,null,null,null,null,{"$error":"#REF!"},{"$error":"#REF!"},{"$error":"#REF!"},null,null,null,null,null,null,null,null,null,null,null,null,null,null,null,null,null,null,null,null,null,null,null,null,null,null,null,null,null,null,null,null,null,8,{"$f":"IF(PLAN!$G$91=\"1T\",PLAN!F100,IF(PLAN!$N$91=\"2T\",PLAN!M100,IF(PLAN!$U$91=\"3T\",PLAN!T100,\"\")))","v":{"$error":"#REF!"}},null,null,null,null,null,null,null,null,null,null,null,null,null,null,null,null,null,null,null,null,null,null,null,{"$f":"IF(PLAN!$C100=\"\",\"\",PLAN!$C100)","v":""},null,null,null,null,8,"g"]
[null,null,{"$f":"IF(D101=\"\",\"\",$AB$30)","v":""},null,{"$f":"IF(#REF!=\"\",\"\",#REF!)","v":{"$error":"#REF!"}},{"$f":"IF(CW101=\"\",#REF!,CW101)","v":{"$error":"#REF!"}},{"$f":"IF(CX101=\"\",#REF!,CX101)","v":{"$error":"#REF!"}},{"$f":"IF(CY101=\"\",#REF!,CY101)","v":{"$error":"#REF!"}},{"$f":"IF(CZ101=\"\",#REF!,CZ101)","v":{"$error":"#REF!"}},{"$f":"IF(DA101=\"\",#REF!,DA101)","v":{"$error":"#REF!"}},{"$f":"IF(DB101=\"\",#REF!,DB101)","v":{"$error":"#REF!"}},{"$f":"IF(#REF!=\"\",\"\",#REF!)","v":{"$error":"#REF!"}},{"$f":"IF(DC101=\"\",#REF!,DC101)","v":{"$error":"#REF!"}},{"$f":"IF(DD101=\"\",#REF!,DD101)","v":{"$error":"#REF!"}},{"$f":"IF(DE101=\"\",#REF!,DE101)","v":{"$error":"#REF!"}},{"$f":"IF(DF101=\"\",#REF!,DF101)","v":{"$error":"#REF!"}},{"$f":"IF(DG101=\"\",#REF!,DG101)","v":{"$error":"#REF!"}},{"$f":"IF(DH101=\"\",#REF!,DH101)","v":{"$error":"#REF!"}},{"$f":"IF(#REF!=\"\",\"\",#REF!)","v":{"$error":"#REF!"}},{"$f":"IF(DI101=\"\",#REF!,DI101)","v":{"$error":"#REF!"}},{"$f":"IF(DJ101=\"\",#REF!,DJ101)","v":{"$error":"#REF!"}},{"$f":"IF(DK101=\"\",#REF!,DK101)","v":{"$error":"#REF!"}},{"$f":"IF(DL101=\"\",#REF!,DL101)","v":{"$error":"#REF!"}},{"$f":"IF(DM101=\"\",#REF!,DM101)","v":{"$error":"#REF!"}},{"$f":"IF(DN101=\"\",#REF!,DN101)","v":{"$error":"#REF!"}},null,null,null,null,null,{"$error":"#REF!"},{"$error":"#REF!"},{"$error":"#REF!"},null,null,null,null,null,null,null,null,null,null,null,null,null,null,null,null,null,null,null,null,null,null,null,null,null,null,null,null,null,null,null,null,null,9,{"$f":"IF(PLAN!$G$91=\"1T\",PLAN!F101,IF(PLAN!$N$91=\"2T\",PLAN!M101,IF(PLAN!$U$91=\"3T\",PLAN!T101,\"\")))","v":{"$error":"#REF!"}},null,null,null,null,null,null,null,null,null,null,null,null,null,null,null,null,null,null,null,null,null,null,null,{"$f":"IF(PLAN!$C101=\"\",\"\",PLAN!$C101)","v":""},null,null,null,null,9,"h"]
[null,null,{"$f":"IF(D102=\"\",\"\",$AB$31)","v":""},null,{"$f":"IF(#REF!=\"\",\"\",#REF!)","v":{"$error":"#REF!"}},{"$f":"IF(CW102=\"\",#REF!,CW102)","v":{"$error":"#REF!"}},{"$f":"IF(CX102=\"\",#REF!,CX102)","v":{"$error":"#REF!"}},{"$f":"IF(CY102=\"\",#REF!,CY102)","v":{"$error":"#REF!"}},{"$f":"IF(CZ102=\"\",#REF!,CZ102)","v":{"$error":"#REF!"}},{"$f":"IF(DA102=\"\",#REF!,DA102)","v":{"$error":"#REF!"}},{"$f":"IF(DB102=\"\",#REF!,DB102)","v":{"$error":"#REF!"}},{"$f":"IF(#REF!=\"\",\"\",#REF!)","v":{"$error":"#REF!"}},{"$f":"IF(DC102=\"\",#REF!,DC102)","v":{"$error":"#REF!"}},{"$f":"IF(DD102=\"\",#REF!,DD102)","v":{"$error":"#REF!"}},{"$f":"IF(DE102=\"\",#REF!,DE102)","v":{"$error":"#REF!"}},{"$f":"IF(DF102=\"\",#REF!,DF102)","v":{"$error":"#REF!"}},{"$f":"IF(DG102=\"\",#REF!,DG102)","v":{"$error":"#REF!"}},{"$f":"IF(DH102=\"\",#REF!,DH102)","v":{"$error":"#REF!"}},{"$f":"IF(#REF!=\"\",\"\",#REF!)","v":{"$error":"#REF!"}},{"$f":"IF(DI102=\"\",#REF!,DI102)","v":{"$error":"#REF!"}},{"$f":"IF(DJ102=\"\",#REF!,DJ102)","v":{"$error":"#REF!"}},{"$f":"IF(DK102=\"\",#REF!,DK102)","v":{"$error":"#REF!"}},{"$f":"IF(DL102=\"\",#REF!,DL102)","v":{"$error":"#REF!"}},{"$f":"IF(DM102=\"\",#REF!,DM102)","v":{"$error":"#REF!"}},{"$f":"IF(DN102=\"\",#REF!,DN102)","v":{"$error":"#REF!"}},null,null,null,null,null,{"$error":"#REF!"},{"$error":"#REF!"},{"$error":"#REF!"},null,null,null,null,null,null,null,null,null,null,null,null,null,null,null,null,null,null,null,null,null,null,null,null,null,null,null,null,null,null,null,null,null,10,{"$f":"IF(PLAN!$G$91=\"1T\",PLAN!F102,IF(PLAN!$N$91=\"2T\",PLAN!M102,IF(PLAN!$U$91=\"3T\",PLAN!T102,\"\")))","v":{"$error":"#REF!"}},null,null,null,null,null,null,null,null,null,null,null,null,null,null,null,null,null,null,null,null,null,null,null,{"$f":"IF(PLAN!$C102=\"\",\"\",PLAN!$C102)","v":""},null,null,null,null,10,"i"]
[null,"3T",{"$f":"IF(D103=\"\",\"\",$AB$27)","v":""},null,{"$f":"IF(#REF!=\"\",\"\",#REF!)","v":{"$error":"#REF!"}},{"$f":"IF(CW103=\"\",#REF!,CW103)","v":{"$error":"#REF!"}},{"$f":"IF(CX103=\"\",#REF!,CX103)","v":{"$error":"#REF!"}},{"$f":"IF(CY103=\"\",#REF!,CY103)","v":{"$error":"#REF!"}},{"$f":"IF(CZ103=\"\",#REF!,CZ103)","v":{"$error":"#REF!"}},{"$f":"IF(DA103=\"\",#REF!,DA103)","v":{"$error":"#REF!"}},{"$f":"IF(DB103=\"\",#REF!,DB103)","v":{"$error":"#REF!"}},{"$f":"IF(#REF!=\"\",\"\",#REF!)","v":{"$error":"#REF!"}},{"$f":"IF(DC103=\"\",#REF!,DC103)","v":{"$error":"#REF!"}},{"$f":"IF(DD103=\"\",#REF!,DD103)","v":{"$error":"#REF!"}},{"$f":"IF(DE103=\"\",#REF!,DE103)","v":{"$error":"#REF!"}},{"$f":"IF(DF103=\"\",#REF!,DF103)","v":{"$error":"#REF!"}},{"$f":"IF(DG103=\"\",#REF!,DG103)","v":{"$error":"#REF!"}},{"$f":"IF(DH103=\"\",#REF!,DH103)","v":{"$error":"#REF!"}},{"$f":"IF(#REF!=\"\",\"\",#REF!)","v":{"$error":"#REF!"}},{"$f":"IF(DI103=\"\",#REF!,DI103)","v":{"$error":"#REF!"}},{"$f":"IF(DJ103=\"\",#REF!,DJ103)","v":{"$error":"#REF!"}},{"$f":"IF(DK103=\"\",#REF!,DK103)","v":{"$error":"#REF!"}},{"$f":"IF(DL103=\"\",#REF!,DL103)","v":{"$error":"#REF!"}},{"$f":"IF(DM103=\"\",#REF!,DM103)","v":{"$error":"#REF!"}},{"$f":"IF(DN103=\"\",#REF!,DN103)","v":{"$error":"#REF!"}},null,null,null,null,null,{"$error":"#REF!"},{"$error":"#REF!"},{"$error":"#REF!"},null,null,null,null,null,null,null,null,null,null,null,null,null,null,null,null,null,null,null,null,null,null,null,null,null,null,null,null,null,null,null,null,null,11,{"$f":"IF(PLAN!$G$91=\"1T\",PLAN!F103,IF(PLAN!$N$91=\"2T\",PLAN!M103,IF(PLAN!$U$91=\"3T\",PLAN!T103,\"\")))","v":{"$error":"#REF!"}},null,null,null,null,null,null,null,null,null,null,null,null,null,null,null,null,null,null,null,null,null,null,null,{"$f":"IF(PLAN!$C103=\"\",\"\",PLAN!$C103)","v":""},null,null,null,null,11,"j"]
[null,null,{"$f":"IF(D104=\"\",\"\",$AB$28)","v":""},null,{"$f":"IF(#REF!=\"\",\"\",#REF!)","v":{"$error":"#REF!"}},{"$f":"IF(CW104=\"\",#REF!,CW104)","v":{"$error":"#REF!"}},{"$f":"IF(CX104=\"\",#REF!,CX104)","v":{"$error":"#REF!"}},{"$f":"IF(CY104=\"\",#REF!,CY104)","v":{"$error":"#REF!"}},{"$f":"IF(CZ104=\"\",#REF!,CZ104)","v":{"$error":"#REF!"}},{"$f":"IF(DA104=\"\",#REF!,DA104)","v":{"$error":"#REF!"}},{"$f":"IF(DB104=\"\",#REF!,DB104)","v":{"$error":"#REF!"}},{"$f":"IF(#REF!=\"\",\"\",#REF!)","v":{"$error":"#REF!"}},{"$f":"IF(DC104=\"\",#REF!,DC104)","v":{"$error":"#REF!"}},{"$f":"IF(DD104=\"\",#REF!,DD104)","v":{"$error":"#REF!"}},{"$f":"IF(DE104=\"\",#REF!,DE104)","v":{"$error":"#REF!"}},{"$f":"IF(DF104=\"\",#REF!,DF104)","v":{"$error":"#REF!"}},{"$f":"IF(DG104=\"\",#REF!,DG104)","v":{"$error":"#REF!"}},{"$f":"IF(DH104=\"\",#REF!,DH104)","v":{"$error":"#REF!"}},{"$f":"IF(#REF!=\"\",\"\",#REF!)","v":{"$error":"#REF!"}},{"$f":"IF(DI104=\"\",#REF!,DI104)","v":{"$error":"#REF!"}},{"$f":"IF(DJ104=\"\",#REF!,DJ104)","v":{"$error":"#REF!"}},{"$f":"IF(DK104=\"\",#REF!,DK104)","v":{"$error":"#REF!"}},{"$f":"IF(DL104=\"\",#REF!,DL104)","v":{"$error":"#REF!"}},{"$f":"IF(DM104=\"\",#REF!,DM104)","v":{"$error":"#REF!"}},{"$f":"IF(DN104=\"\",#REF!,DN104)","v":{"$error":"#REF!"}},null,null,null,null,null,{"$error":"#REF!"},{"$error":"#REF!"},{"$error":"#REF!"},null,null,null,null,null,null,null,null,null,null,null,null,null,null,null,null,null,null,null,null,null,null,null,null,null,null,null,null,null,null,null,null,null,12,{"$f":"IF(PLAN!$G$91=\"1T\",PLAN!F104,IF(PLAN!$N$91=\"2T\",PLAN!M104,IF(PLAN!$U$91=\"3T\",PLAN!T104,\"\")))","v":{"$error":"#REF!"}},null,null,null,null,null,null,null,null,null,null,null,null,null,null,null,null,null,null,null,null,null,null,null,{"$f":"IF(PLAN!$C104=\"\",\"\",PLAN!$C104)","v":""},null,null,null,null,12,"k"]
[null,null,{"$f":"IF(D105=\"\",\"\",$AB$29)","v":""},null,{"$f":"IF(#REF!=\"\",\"\",#REF!)","v":{"$error":"#REF!"}},{"$f":"IF(CW105=\"\",#REF!,CW105)","v":{"$error":"#REF!"}},{"$f":"IF(CX105=\"\",#REF!,CX105)","v":{"$error":"#REF!"}},{"$f":"IF(CY105=\"\",#REF!,CY105)","v":{"$error":"#REF!"}},{"$f":"IF(CZ105=\"\",#REF!,CZ105)","v":{"$error":"#REF!"}},{"$f":"IF(DA105=\"\",#REF!,DA105)","v":{"$error":"#REF!"}},{"$f":"IF(DB105=\"\",#REF!,DB105)","v":{"$error":"#REF!"}},{"$f":"IF(#REF!=\"\",\"\",#REF!)","v":{"$error":"#REF!"}},{"$f":"IF(DC105=\"\",#REF!,DC105)","v":{"$error":"#REF!"}},{"$f":"IF(DD105=\"\",#REF!,DD105)","v":{"$error":"#REF!"}},{"$f":"IF(DE105=\"\",#REF!,DE105)","v":{"$error":"#REF!"}},{"$f":"IF(DF105=\"\",#REF!,DF105)","v":{"$error":"#REF!"}},{"$f":"IF(DG105=\"\",#REF!,DG105)","v":{"$error":"#REF!"}},{"$f":"IF(DH105=\"\",#REF!,DH105)","v":{"$error":"#REF!"}},{"$f":"IF(#REF!=\"\",\"\",#REF!)","v":{"$error":"#REF!"}},{"$f":"IF(DI105=\"\",#REF!,DI105)","v":{"$error":"#REF!"}},{"$f":"IF(DJ105=\"\",#REF!,DJ105)","v":{"$error":"#REF!"}},{"$f":"IF(DK105=\"\",#REF!,DK105)","v":{"$error":"#REF!"}},{"$f":"IF(DL105=\"\",#REF!,DL105)","v":{"$error":"#REF!"}},{"$f":"IF(DM105=\"\",#REF!,DM105)","v":{"$error":"#REF!"}},{"$f":"IF(DN105=\"\",#REF!,DN105)","v":{"$error":"#REF!"}},null,null,null,null,null,{"$error":"#REF!"},{"$error":"#REF!"},{"$error":"#REF!"},null,null,null,null,null,null,null,null,null,null,null,null,null,null,null,null,null,null,null,null,null,null,null,null,null,null,null,null,null,null,null,null,null,13,{"$f":"IF(PLAN!$G$91=\"1T\",PLAN!F105,IF(PLAN!$N$91=\"2T\",PLAN!M105,IF(PLAN!$U$91=\"3T\",PLAN!T105,\"\")))","v":{"$error":"#REF!"}},null,null,null,null,null,null,null,null,null,null,null,null,null,null,null,null,null,null,null,null,null,null,null,{"$f":"IF(PLAN!$C105=\"\",\"\",PLAN!$C105)","v":""},null,null,null,null,13,"l"]
[null,null,{"$f":"IF(D106=\"\",\"\",$AB$30)","v":""},"",{"$f":"IF(#REF!=\"\",\"\",#REF!)","v":{"$error":"#REF!"}},{"$f":"IF(CW106=\"\",#REF!,CW106)","v":{"$error":"#REF!"}},{"$f":"IF(CX106=\"\",#REF!,CX106)","v":{"$error":"#REF!"}},{"$f":"IF(CY106=\"\",#REF!,CY106)","v":{"$error":"#REF!"}},{"$f":"IF(CZ106=\"\",#REF!,CZ106)","v":{"$error":"#REF!"}},{"$f":"IF(DA106=\"\",#REF!,DA106)","v":{"$error":"#REF!"}},{"$f":"IF(DB106=\"\",#REF!,DB106)","v":{"$error":"#REF!"}},{"$f":"IF(#REF!=\"\",\"\",#REF!)","v":{"$error":"#REF!"}},{"$f":"IF(DC106=\"\",#REF!,DC106)","v":{"$error":"#REF!"}},{"$f":"IF(DD106=\"\",#REF!,DD106)","v":{"$error":"#REF!"}},{"$f":"IF(DE106=\"\",#REF!,DE106)","v":{"$error":"#REF!"}},{"$f":"IF(DF106=\"\",#REF!,DF106)","v":{"$error":"#REF!"}},{"$f":"IF(DG106=\"\",#REF!,DG106)","v":{"$error":"#REF!"}},{"$f":"IF(DH106=\"\",#REF!,DH106)","v":{"$error":"#REF!"}},{"$f":"IF(#REF!=\"\",\"\",#REF!)","v":{"$error":"#REF!"}},{"$f":"IF(DI106=\"\",#REF!,DI106)","v":{"$error":"#REF!"}},{"$f":"IF(DJ106=\"\",#REF!,DJ106)","v":{"$error":"#REF!"}},{"$f":"IF(DK106=\"\",#REF!,DK106)","v":{"$error":"#REF!"}},{"$f":"IF(DL106=\"\",#REF!,DL106)","v":{"$error":"#REF!"}},{"$f":"IF(DM106=\"\",#REF!,DM106)","v":{"$error":"#REF!"}},{"$f":"IF(DN106=\"\",#REF!,DN106)","v":{"$error":"#REF!"}},null,null,null,null,null,{"$error":"#REF!"},{"$error":"#REF!"},{"$error":"#REF!"},null,null,null,null,null,null,null,null,null,null,null,null,null,null,null,null,null,null,null,null,null,null,null,null,null,null,null,null,null,null,null,null,null,14,{"$f":"IF(PLAN!$G$91=\"1T\",PLAN!F106,IF(PLAN!$N$91=\"2T\",PLAN!M106,IF(PLAN!$U$91=\"3T\",PLAN!T106,\"\")))","v":{"$error":"#REF!"}},null,null,null,null,null,null,null,null,null,null,null,null,null,null,null,null,null,null,null,null,null,null,null,{"$f":"IF(PLAN!$C106=\"\",\"\",PLAN!$C106)","v":""},null,null,null,null,14,"m"]
[null,null,{"$f":"IF(D107=\"\",\"\",$AB$31)","v":""},"",{"$f":"IF(#REF!=\"\",\"\",#REF!)","v":{"$error":"#REF!"}},{"$f":"IF(CW107=\"\",#REF!,CW107)","v":{"$error":"#REF!"}},{"$f":"IF(CX107=\"\",#REF!,CX107)","v":{"$error":"#REF!"}},{"$f":"IF(CY107=\"\",#REF!,CY107)","v":{"$error":"#REF!"}},{"$f":"IF(CZ107=\"\",#REF!,CZ107)","v":{"$error":"#REF!"}},{"$f":"IF(DA107=\"\",#REF!,DA107)","v":{"$error":"#REF!"}},{"$f":"IF(DB107=\"\",#REF!,DB107)","v":{"$error":"#REF!"}},{"$f":"IF(#REF!=\"\",\"\",#REF!)","v":{"$error":"#REF!"}},{"$f":"IF(DC107=\"\",#REF!,DC107)","v":{"$error":"#REF!"}},{"$f":"IF(DD107=\"\",#REF!,DD107)","v":{"$error":"#REF!"}},{"$f":"IF(DE107=\"\",#REF!,DE107)","v":{"$error":"#REF!"}},{"$f":"IF(DF107=\"\",#REF!,DF107)","v":{"$error":"#REF!"}},{"$f":"IF(DG107=\"\",#REF!,DG107)","v":{"$error":"#REF!"}},{"$f":"IF(DH107=\"\",#REF!,DH107)","v":{"$error":"#REF!"}},{"$f":"IF(#REF!=\"\",\"\",#REF!)","v":{"$error":"#REF!"}},{"$f":"IF(DI107=\"\",#REF!,DI107)","v":{"$error":"#REF!"}},{"$f":"IF(DJ107=\"\",#REF!,DJ107)","v":{"$error":"#REF!"}},{"$f":"IF(DK107=\"\",#REF!,DK107)","v":{"$error":"#REF!"}},{"$f":"IF(DL107=\"\",#REF!,DL107)","v":{"$error":"#REF!"}},{"$f":"IF(DM107=\"\",#REF!,DM107)","v":{"$error":"#REF!"}},{"$f":"IF(DN107=\"\",#REF!,DN107)","v":{"$error":"#REF!"}},null,null,null,null,null,{"$error":"#REF!"},{"$error":"#REF!"},{"$error":"#REF!"},null,null,null,null,null,null,null,null,null,null,null,null,null,null,null,null,null,null,null,null,null,null,null,null,null,null,null,null,null,null,null,null,null,15,{"$f":"IF(PLAN!$G$91=\"1T\",PLAN!F107,IF(PLAN!$N$91=\"2T\",PLAN!M107,IF(PLAN!$U$91=\"3T\",PLAN!T107,\"\")))","v":{"$error":"#REF!"}},null,null,null,null,null,null,null,null,null,null,null,null,null,null,null,null,null,null,null,null,null,null,null,{"$f":"IF(PLAN!$C107=\"\",\"\",PLAN!$C107)","v":""},null,null,null,null,15,"x"]
[]
[]
[]
[]
[]
[null,null,null,null,{"$f":"15-COUNTIF(E93:E107,\"\")","v":15},null,null,null,null,null,null,{"$f":"15-COUNTIF(L93:L107,\"\")","v":15},null,null,null,null,null,null,{"$f":"15-COUNTIF(S93:S107,\"\")","v":15}]
[]
[]
[null,null,null,{"$f":"#REF!&#REF!","v":{"$error":"#REF!"}}]
[null,null,null,null,null,null,null,null,null,null,null,null,null,null,null,null,null,null,null,null,null,null,null,null,null,null,null,null,null,null,null,null,null,null,null,null,null,null,null,null,null,null,null,null,"INDICADORES SELECCIONADOS",null,null,null,null,null,{"$f":"#REF!","v":{"$error":"#REF!"}},null,null,null,null,{"$f":"#REF!","v":{"$error":"#REF!"}},null,null,null,null,{"$f":"#REF!","v":{"$error":"#REF!"}}]
[null,null,null,null,{"$f":"IF(INICIO!$H$2=\"1T\",INICIO!$NH$14,\"\")","v":"PRIMER TRIMESTRE"},null,{"$f":"IF(E118=\"PRIMER TRIMESTRE\",B120,\"\")","v":"1T"},null,null,null,null,{"$f":"IF(INICIO!$H$2=\"2T\",INICIO!$NH$15,\"\")","v":""},null,{"$f":"IF(L118=\"SEGUNDO TRIMESTRE\",B125,\"\")","v":""},null,null,null,null,{"$f":"IF(INICIO!$H$2=\"3T\",INICIO!$NH$16,\"\")","v":""},null,{"$f":"IF(S118=\"TERCER TRIMESTRE\",B130,\"\")","v":""},null,null,null,null,null,null,null,null,null,{"$f":"G118","v":"1T"},{"$f":"N118","v":""},{"$f":"U118","v":""},null,null,null,null,null,null,null,null,null,null,null,"L1","L2","L3","L4","L5","L1","L2","L3","L4","L5","L1","L2","L3","L4","L5","L1","L2","L3","L4","L5",null,null,null,null,null,null,null,null,null,null,null,null,null,null,null,null,null,null,null,null,null,null,null,null,null,null,null,null,null,null,null,null,null,"Copia de datos empleados durante el año, en las actividades"]
[null,"LOGROS",null,null,"ACTIVIDADES 1T","INDICADORES 1T",null,null,null,null,null,"ACTIVIDADES 2T","INDICADORES 2T",null,null,null,null,null,"ACTIVIDADES 3T","INDICADORES 3T",null,null,null,null,null,null,"FECHAS 1T","FECHAS 2T","FECHAS 3T",null,"LOGOS X ACTIVIDAD",null,null,null,null,null,null,"x",null,"LOGROS SELECCIONADOS",null,null,null,null,{"$f":"#REF!","v":{"$error":"#REF!"}},{"$f":"#REF!","v":{"$error":"#REF!"}},{"$f":"#REF!","v":{"$error":"#REF!"}},{"$f":"#REF!","v":{"$error":"#REF!"}},{"$f":"#REF!","v":{"$error":"#REF!"}},null,null,null,null,null,null,null,null,null,null,null,null,null,null,null,null,null,null,null,null,null,null,null,null,{"$f":"PLAN!$AX119","v":0},{"$f":"PLAN!$AY119","v":0},{"$f":"PLAN!$AZ119","v":0},{"$f":"PLAN!$BA119","v":0},{"$f":"PLAN!$BB119","v":0},{"$f":"PLAN!$BC119","v":0},{"$f":"PLAN!$BD119","v":0},{"$f":"PLAN!$BE119","v":0},{"$f":"PLAN!$BF119","v":0},{"$f":"PLAN!$BG119","v":0},{"$f":"PLAN!$BH119","v":0},{"$f":"PLAN!$BI119","v":0},{"$f":"PLAN!$BJ119","v":0},{"$f":"PLAN!$BK119","v":0},{"$f":"PLAN!$BL119","v":0},null,null,null,null,null,null,null,null,"# de","1T","2T","3T","Indicadores 1t",null,null,null,null,null,"Indicadores 2t",null,null,null,null,null,"Indicadores 3t"]
[null,"1T",{"$f":"IF(D120=\"\",\"\",$AB$27)","v":""},null,{"$f":"IF(#REF!=\"\",\"\",#REF!)","v":{"$error":"#REF!"}},{"$f":"IF(CW120=\"\",#REF!,CW120)","v":{"$error":"#REF!"}},{"$f":"IF(CX120=\"\",#REF!,CX120)","v":{"$error":"#REF!"}},{"$f":"IF(CY120=\"\",#REF!,CY120)","v":{"$error":"#REF!"}},{"$f":"IF(CZ120=\"\",#REF!,CZ120)","v":{"$error":"#REF!"}},{"$f":"IF(DA120=\"\",#REF!,DA120)","v":{"$error":"#REF!"}},{"$f":"IF(DB120=\"\",#REF!,DB120)","v":{"$error":"#REF!"}},{"$f":"IF(#REF!=\"\",\"\",#REF!)","v":{"$error":"#REF!"}},{"$f":"IF(DC120=\"\",#REF!,DC120)","v":{"$error":"#REF!"}},{"$f":"IF(DD120=\"\",#REF!,DD120)","v":{"$error":"#REF!"}},{"$f":"IF(DE120=\"\",#REF!,DE120)","v":{"$error":"#REF!"}},{"$f":"IF(DF120=\"\",#REF!,DF120)","v":{"$error":"#REF!"}},{"$f":"IF(DG120=\"\",#REF!,DG120)","v":{"$error":"#REF!"}},{"$f":"IF(DH120=\"\",#REF!,DH120)","v":{"$error":"#REF!"}},{"$f":"IF(#REF!=\"\",\"\",#REF!)","v":{"$error":"#REF!"}},{"$f":"IF(DI120=\"\",#REF!,DI120)","v":{"$error":"#REF!"}},{"$f":"IF(DJ120=\"\",#REF!,DJ120)","v":{"$error":"#REF!"}},{"$f":"IF(DK120=\"\",#REF!,DK120)","v":{"$error":"#REF!"}},{"$f":"IF(DL120=\"\",#REF!,DL120)","v":{"$error":"#REF!"}},{"$f":"IF(DM120=\"\",#REF!,DM120)","v":{"$error":"#REF!"}},{"$f":"IF(DN120=\"\",#REF!,DN120)","v":{"$error":"#REF!"}},null,null,null,null,null,{"$f":"IF(F120=0,\"\",IF(OR(F120=\"1.1\",F120=\"1.2\",F120=\"1.3\",F120=\"1.4\",F120=\"1.5\",F120=\"1.6\"), $AC$2,IF(OR(F120=\"2.1\",F120=\"2.2\",F120=\"2.3\",F120=\"2.4\",F120=\"2.5\",F120=\"2.6\"),$AD$2,IF(OR(F120=\"3.1\",F120=\"3.2\",F120=\"3.3\",F120=\"3.4\",F120=\"3.5\",F120=\"3.6\"),$AE$2,IF(OR(F120=\"4.1\",F120=\"4.2\",F120=\"4.3\",F120=\"4.4\",F120=\"4.5\",F120=\"4.6\"),$AF$2,IF(OR(F120=\"5.1\",F120=\"5.2\",F120=\"5.3\",F120=\"5.4\",F120=\"5.5\",F120=\"5.6\"),$AG$2))))))","v":{"$error":"#REF!"}},{"$f":"IF(M120=0,\"\",IF(OR(M120=\"1.1\",M120=\"1.2\",M120=\"1.3\",M120=\"1.4\",M120=\"1.5\",M120=\"1.6\"), $AC$2,IF(OR(M120=\"2.1\",M120=\"2.2\",M120=\"2.3\",M120=\"2.4\",M120=\"2.5\",M120=\"2.6\"),$AD$2,IF(OR(M120=\"3.1\",M120=\"3.2\",M120=\"3.3\",M120=\"3.4\",M120=\"3.5\",M120=\"3.6\"),$AE$2,IF(OR(M120=\"4.1\",M120=\"4.2\",M120=\"4.3\",M120=\"4.4\",M120=\"4.5\",M120=\"4.6\"),$AF$2,IF(OR(M120=\"5.1\",M120=\"5.2\",M120=\"5.3\",M120=\"5.4\",M120=\"5.5\",M120=\"5.6\"),$AG$2))))))","v":{"$error":"#REF!"}},{"$f":"IF(T120=0,\"\",IF(OR(T120=\"1.1\",T120=\"1.2\",T120=\"1.3\",T120=\"1.4\",T120=\"1.5\",T120=\"1.6\"), $AC$2,IF(OR(T120=\"2.1\",T120=\"2.2\",T120=\"2.3\",T120=\"2.4\",T120=\"2.5\",T120=\"2.6\"),$AD$2,IF(OR(T120=\"3.1\",T120=\"3.2\",T120=\"3.3\",T120=\"3.4\",T120=\"3.5\",T120=\"3.6\"),$AE$2,IF(OR(T120=\"4.1\",T120=\"4.2\",T120=\"4.3\",T120=\"4.4\",T120=\"4.5\",T120=\"4.6\"),$AF$2,IF(OR(T120=\"5.1\",T120=\"5.2\",T120=\"5.3\",T120=\"5.4\",T120=\"5.5\",T120=\"5.6\"),$AG$2))))))","v":{"$error":"#REF!"}},null,null,null,null,{"$f":"#REF!","v":{"$error":"#REF!"}},"1.",{"$f":"IF(AL120=\"x\",#REF!,\"\")","v":{"$error":"#REF!"}},null,null,null,null,{"$f":"#REF!","v":{"$error":"#REF!"}},{"$f":"#REF!","v":{"$error":"#REF!"}},{"$f":"#REF!","v":{"$error":"#REF!"}},{"$f":"#REF!","v":{"$error":"#REF!"}},{"$f":"#REF!","v":{"$error":"#REF!"}},null,null,null,null,null,null,null,null,null,null,null,null,null,null,null,null,null,1,{"$f":"IF(PLAN!$G$118=\"1T\",PLAN!F120,IF(PLAN!$N$118=\"2T\",PLAN!M120,IF(PLAN!$U$118=\"3T\",PLAN!T120,\"\")))","v":{"$error":"#REF!"}},null,null,null,null,null,{"$f":"PLAN!$AX120","v":0},{"$f":"PLAN!$AY120","v":0},{"$f":"PLAN!$AZ120","v":0},{"$f":"PLAN!$BA120","v":0},{"$f":"PLAN!$BB120","v":0},{"$f":"PLAN!$BC120","v":0},{"$f":"PLAN!$BD120","v":0},{"$f":"PLAN!$BE120","v":0},{"$f":"PLAN!$BF120","v":0},{"$f":"PLAN!$BG120","v":0},{"$f":"PLAN!$BH120","v":0},{"$f":"PLAN!$BI120","v":0},{"$f":"PLAN!$BJ120","v":0},{"$f":"PLAN!$BK120","v":0},{"$f":"PLAN!$BL120","v":0},null,null,null,{"$f":"IF(PLAN!$C120=\"\",\"\",PLAN!$C120)","v":""},null,null,null,null,1,"x","EM"]
[null,null,{"$f":"IF(D121=\"\",\"\",$AB$28)","v":""},null,{"$f":"IF(#REF!=\"\",\"\",#REF!)","v":{"$error":"#REF!"}},{"$f":"IF(CW121=\"\",#REF!,CW121)","v":{"$error":"#REF!"}},{"$f":"IF(CX121=\"\",#REF!,CX121)","v":{"$error":"#REF!"}},{"$f":"IF(CY121=\"\",#REF!,CY121)","v":{"$error":"#REF!"}},{"$f":"IF(CZ121=\"\",#REF!,CZ121)","v":{"$error":"#REF!"}},{"$f":"IF(DA121=\"\",#REF!,DA121)","v":{"$error":"#REF!"}},{"$f":"IF(DB121=\"\",#REF!,DB121)","v":{"$error":"#REF!"}},{"$f":"IF(#REF!=\"\",\"\",#REF!)","v":{"$error":"#REF!"}},{"$f":"IF(DC121=\"\",#REF!,DC121)","v":{"$error":"#REF!"}},{"$f":"IF(DD121=\"\",#REF!,DD121)","v":{"$error":"#REF!"}},{"$f":"IF(DE121=\"\",#REF!,DE121)","v":{"$error":"#REF!"}},{"$f":"IF(DF121=\"\",#REF!,DF121)","v":{"$error":"#REF!"}},{"$f":"IF(DG121=\"\",#REF!,DG121)","v":{"$error":"#REF!"}},{"$f":"IF(DH121=\"\",#REF!,DH121)","v":{"$error":"#REF!"}},{"$f":"IF(#REF!=\"\",\"\",#REF!)","v":{"$error":"#REF!"}},{"$f":"IF(DI121=\"\",#REF!,DI121)","v":{"$error":"#REF!"}},{"$f":"IF(DJ121=\"\",#REF!,DJ121)","v":{"$error":"#REF!"}},{"$f":"IF(DK121=\"\",#REF!,DK121)","v":{"$error":"#REF!"}},{"$f":"IF(DL121=\"\",#REF!,DL121)","v":{"$error":"#REF!"}},{"$f":"IF(DM121=\"\",#REF!,DM121)","v":{"$error":"#REF!"}},{"$f":"IF(DN121=\"\",#REF!,DN121)","v":{"$error":"#REF!"}},null,null,null,null,null,{"$f":"IF(F121=0,\"\",IF(OR(F121=\"1.1\",F121=\"1.2\",F121=\"1.3\",F121=\"1.4\",F121=\"1.5\",F121=\"1.6\"), $AC$2,IF(OR(F121=\"2.1\",F121=\"2.2\",F121=\"2.3\",F121=\"2.4\",F121=\"2.5\",F121=\"2.6\"),$AD$2,IF(OR(F121=\"3.1\",F121=\"3.2\",F121=\"3.3\",F121=\"3.4\",F121=\"3.5\",F121=\"3.6\"),$AE$2,IF(OR(F121=\"4.1\",F121=\"4.2\",F121=\"4.3\",F121=\"4.4\",F121=\"4.5\",F121=\"4.6\"),$AF$2,IF(OR(F121=\"5.1\",F121=\"5.2\",F121=\"5.3\",F121=\"5.4\",F121=\"5.5\",F121=\"5.6\"),$AG$2))))))","v":{"$error":"#REF!"}},{"$f":"IF(M121=0,\"\",IF(OR(M121=\"1.1\",M121=\"1.2\",M121=\"1.3\",M121=\"1.4\",M121=\"1.5\",M121=\"1.6\"), $AC$2,IF(OR(M121=\"2.1\",M121=\"2.2\",M121=\"2.3\",M121=\"2.4\",M121=\"2.5\",M121=\"2.6\"),$AD$2,IF(OR(M121=\"3.1\",M121=\"3.2\",M121=\"3.3\",M121=\"3.4\",M121=\"3.5\",M121=\"3.6\"),$AE$2,IF(OR(M121=\"4.1\",M121=\"4.2\",M121=\"4.3\",M121=\"4.4\",M121=\"4.5\",M121=\"4.6\"),$AF$2,IF(OR(M121=\"5.1\",M121=\"5.2\",M121=\"5.3\",M121=\"5.4\",M121=\"5.5\",M121=\"5.6\"),$AG$2))))))","v":{"$error":"#REF!"}},{"$f":"IF(T121=0,\"\",IF(OR(T121=\"1.1\",T121=\"1.2\",T121=\"1.3\",T121=\"1.4\",T121=\"1.5\",T121=\"1.6\"), $AC$2,IF(OR(T121=\"2.1\",T121=\"2.2\",T121=\"2.3\",T121=\"2.4\",T121=\"2.5\",T121=\"2.6\"),$AD$2,IF(OR(T121=\"3.1\",T121=\"3.2\",T121=\"3.3\",T121=\"3.4\",T121=\"3.5\",T121=\"3.6\"),$AE$2,IF(OR(T121=\"4.1\",T121=\"4.2\",T121=\"4.3\",T121=\"4.4\",T121=\"4.5\",T121=\"4.6\"),$AF$2,IF(OR(T121=\"5.1\",T121=\"5.2\",T121=\"5.3\",T121=\"5.4\",T121=\"5.5\",T121=\"5.6\"),$AG$2))))))","v":{"$error":"#REF!"}},null,null,null,null,{"$f":"#REF!","v":{"$error":"#REF!"}},"2.",{"$f":"IF(AL121=\"x\",#REF!,\"\")","v":{"$error":"#REF!"}},null,null,null,null,{"$f":"#REF!","v":{"$error":"#REF!"}},{"$f":"#REF!","v":{"$error":"#REF!"}},{"$f":"#REF!","v":{"$error":"#REF!"}},{"$f":"#REF!","v":{"$error":"#REF!"}},{"$f":"#REF!","v":{"$error":"#REF!"}},null,null,null,null,null,null,null,null,null,null,null,null,null,null,null,null,null,2,{"$f":"IF(PLAN!$G$118=\"1T\",PLAN!F121,IF(PLAN!$N$118=\"2T\",PLAN!M121,IF(PLAN!$U$118=\"3T\",PLAN!T121,\"\")))","v":{"$error":"#REF!"}},null,null,null,null,null,{"$f":"PLAN!$AX121","v":0},{"$f":"PLAN!$AY121","v":0},{"$f":"PLAN!$AZ121","v":0},{"$f":"PLAN!$BA121","v":0},{"$f":"PLAN!$BB121","v":0},{"$f":"PLAN!$BC121","v":0},{"$f":"PLAN!$BD121","v":0},{"$f":"PLAN!$BE121","v":0},{"$f":"PLAN!$BF121","v":0},{"$f":"PLAN!$BG121","v":0},{"$f":"PLAN!$BH121","v":0},{"$f":"PLAN!$BI121","v":0},{"$f":"PLAN!$BJ121","v":0},{"$f":"PLAN!$BK121","v":0},{"$f":"PLAN!$BL121","v":0},null,null,null,{"$f":"IF(PLAN!$C121=\"\",\"\",PLAN!$C121)","v":""},null,null,null,null,2,"a","E"]
[null,null,{"$f":"IF(D122=\"\",\"\",$AB$29)","v":""},null,{"$f":"IF(#REF!=\"\",\"\",#REF!)","v":{"$error":"#REF!"}},{"$f":"IF(CW122=\"\",#REF!,CW122)","v":{"$error":"#REF!"}},{"$f":"IF(CX122=\"\",#REF!,CX122)","v":{"$error":"#REF!"}},{"$f":"IF(CY122=\"\",#REF!,CY122)","v":{"$error":"#REF!"}},{"$f":"IF(CZ122=\"\",#REF!,CZ122)","v":{"$error":"#REF!"}},{"$f":"IF(DA122=\"\",#REF!,DA122)","v":{"$error":"#REF!"}},{"$f":"IF(DB122=\"\",#REF!,DB122)","v":{"$error":"#REF!"}},{"$f":"IF(#REF!=\"\",\"\",#REF!)","v":{"$error":"#REF!"}},{"$f":"IF(DC122=\"\",#REF!,DC122)","v":{"$error":"#REF!"}},{"$f":"IF(DD122=\"\",#REF!,DD122)","v":{"$error":"#REF!"}},{"$f":"IF(DE122=\"\",#REF!,DE122)","v":{"$error":"#REF!"}},{"$f":"IF(DF122=\"\",#REF!,DF122)","v":{"$error":"#REF!"}},{"$f":"IF(DG122=\"\",#REF!,DG122)","v":{"$error":"#REF!"}},{"$f":"IF(DH122=\"\",#REF!,DH122)","v":{"$error":"#REF!"}},{"$f":"IF(#REF!=\"\",\"\",#REF!)","v":{"$error":"#REF!"}},{"$f":"IF(DI122=\"\",#REF!,DI122)","v":{"$error":"#REF!"}},{"$f":"IF(DJ122=\"\",#REF!,DJ122)","v":{"$error":"#REF!"}},{"$f":"IF(DK122=\"\",#REF!,DK122)","v":{"$error":"#REF!"}},{"$f":"IF(DL122=\"\",#REF!,DL122)","v":{"$error":"#REF!"}},{"$f":"IF(DM122=\"\",#REF!,DM122)","v":{"$error":"#REF!"}},{"$f":"IF(DN122=\"\",#REF!,DN122)","v":{"$error":"#REF!"}},null,null,null,null,null,{"$error":"#REF!"},{"$error":"#REF!"},{"$error":"#REF!"},null,null,null,null,{"$f":"#REF!","v":{"$error":"#REF!"}},"3.",{"$f":"IF(AL122=\"x\",#REF!,\"\")","v":{"$error":"#REF!"}},null,null,null,null,{"$f":"#REF!","v":{"$error":"#REF!"}},{"$f":"#REF!","v":{"$error":"#REF!"}},{"$f":"#REF!","v":{"$error":"#REF!"}},{"$f":"#REF!","v":{"$error":"#REF!"}},{"$f":"#REF!","v":{"$error":"#REF!"}},null,null,null,null,null,null,null,null,null,null,null,null,null,null,null,null,null,3,{"$f":"IF(PLAN!$G$118=\"1T\",PLAN!F122,IF(PLAN!$N$118=\"2T\",PLAN!M122,IF(PLAN!$U$118=\"3T\",PLAN!T122,\"\")))","v":{"$error":"#REF!"}},null,null,null,null,null,{"$f":"PLAN!$AX122","v":0},{"$f":"PLAN!$AY122","v":0},{"$f":"PLAN!$AZ122","v":0},{"$f":"PLAN!$BA122","v":0},{"$f":"PLAN!$BB122","v":0},{"$f":"PLAN!$BC122","v":0},{"$f":"PLAN!$BD122","v":0},{"$f":"PLAN!$BE122","v":0},{"$f":"PLAN!$BF122","v":0},{"$f":"PLAN!$BG122","v":0},{"$f":"PLAN!$BH122","v":0},{"$f":"PLAN!$BI122","v":0},{"$f":"PLAN!$BJ122","v":0},{"$f":"PLAN!$BK122","v":0},{"$f":"PLAN!$BL122","v":0},null,null,null,{"$f":"IF(PLAN!$C122=\"\",\"\",PLAN!$C122)","v":""},null,null,null,null,3,"b","E"]
[null,null,{"$f":"IF(D123=\"\",\"\",$AB$30)","v":""},null,{"$f":"IF(#REF!=\"\",\"\",#REF!)","v":{"$error":"#REF!"}},{"$f":"IF(CW123=\"\",#REF!,CW123)","v":{"$error":"#REF!"}},{"$f":"IF(CX123=\"\",#REF!,CX123)","v":{"$error":"#REF!"}},{"$f":"IF(CY123=\"\",#REF!,CY123)","v":{"$error":"#REF!"}},{"$f":"IF(CZ123=\"\",#REF!,CZ123)","v":{"$error":"#REF!"}},{"$f":"IF(DA123=\"\",#REF!,DA123)","v":{"$error":"#REF!"}},{"$f":"IF(DB123=\"\",#REF!,DB123)","v":{"$error":"#REF!"}},{"$f":"IF(#REF!=\"\",\"\",#REF!)","v":{"$error":"#REF!"}},{"$f":"IF(DC123=\"\",#REF!,DC123)","v":{"$error":"#REF!"}},{"$f":"IF(DD123=\"\",#REF!,DD123)","v":{"$error":"#REF!"}},{"$f":"IF(DE123=\"\",#REF!,DE123)","v":{"$error":"#REF!"}},{"$f":"IF(DF123=\"\",#REF!,DF123)","v":{"$error":"#REF!"}},{"$f":"IF(DG123=\"\",#REF!,DG123)","v":{"$error":"#REF!"}},{"$f":"IF(DH123=\"\",#REF!,DH123)","v":{"$error":"#REF!"}},{"$f":"IF(#REF!=\"\",\"\",#REF!)","v":{"$error":"#REF!"}},{"$f":"IF(DI123=\"\",#REF!,DI123)","v":{"$error":"#REF!"}},{"$f":"IF(DJ123=\"\",#REF!,DJ123)","v":{"$error":"#REF!"}},{"$f":"IF(DK123=\"\",#REF!,DK123)","v":{"$error":"#REF!"}},{"$f":"IF(DL123=\"\",#REF!,DL123)","v":{"$error":"#REF!"}},{"$f":"IF(DM123=\"\",#REF!,DM123)","v":{"$error":"#REF!"}},{"$f":"IF(DN123=\"\",#REF!,DN123)","v":{"$error":"#REF!"}},null,null,null,null,null,{"$error":"#REF!"},{"$error":"#REF!"},{"$error":"#REF!"},null,null,null,null,{"$f":"#REF!","v":{"$error":"#REF!"}},"4.",{"$f":"IF(AL123=\"x\",#REF!,\"\")","v":{"$error":"#REF!"}},null,null,null,null,{"$f":"#REF!","v":{"$error":"#REF!"}},{"$f":"#REF!","v":{"$error":"#REF!"}},{"$f":"#REF!","v":{"$error":"#REF!"}},{"$f":"#REF!","v":{"$error":"#REF!"}},{"$f":"#REF!","v":{"$error":"#REF!"}},null,null,null,null,null,null,null,null,null,null,null,null,null,null,null,null,null,4,{"$f":"IF(PLAN!$G$118=\"1T\",PLAN!F123,IF(PLAN!$N$118=\"2T\",PLAN!M123,IF(PLAN!$U$118=\"3T\",PLAN!T123,\"\")))","v":{"$error":"#REF!"}},null,null,null,null,null,{"$f":"PLAN!$AX123","v":0},{"$f":"PLAN!$AY123","v":0},{"$f":"PLAN!$AZ123","v":0},{"$f":"PLAN!$BA123","v":0},{"$f":"PLAN!$BB123","v":0},{"$f":"PLAN!$BC123","v":0},{"$f":"PLAN!$BD123","v":0},{"$f":"PLAN!$BE123","v":0},{"$f":"PLAN!$BF123","v":0},{"$f":"PLAN!$BG123","v":0},{"$f":"PLAN!$BH123","v":0},{"$f":"PLAN!$BI123","v":0},{"$f":"PLAN!$BJ123","v":0},{"$f":"PLAN!$BK123","v":0},{"$f":"PLAN!$BL123","v":0},null,null,null,{"$f":"IF(PLAN!$C123=\"\",\"\",PLAN!$C123)","v":""},null,null,null,null,4,"c","E"]
[null,null,{"$f":"IF(D124=\"\",\"\",$AB$31)","v":""},null,{"$f":"IF(#REF!=\"\",\"\",#REF!)","v":{"$error":"#REF!"}},{"$f":"IF(CW124=\"\",#REF!,CW124)","v":{"$error":"#REF!"}},{"$f":"IF(CX124=\"\",#REF!,CX124)","v":{"$error":"#REF!"}},{"$f":"IF(CY124=\"\",#REF!,CY124)","v":{"$error":"#REF!"}},{"$f":"IF(CZ124=\"\",#REF!,CZ124)","v":{"$error":"#REF!"}},{"$f":"IF(DA124=\"\",#REF!,DA124)","v":{"$error":"#REF!"}},{"$f":"IF(DB124=\"\",#REF!,DB124)","v":{"$error":"#REF!"}},{"$f":"IF(#REF!=\"\",\"\",#REF!)","v":{"$error":"#REF!"}},{"$f":"IF(DC124=\"\",#REF!,DC124)","v":{"$error":"#REF!"}},{"$f":"IF(DD124=\"\",#REF!,DD124)","v":{"$error":"#REF!"}},{"$f":"IF(DE124=\"\",#REF!,DE124)","v":{"$error":"#REF!"}},{"$f":"IF(DF124=\"\",#REF!,DF124)","v":{"$error":"#REF!"}},{"$f":"IF(DG124=\"\",#REF!,DG124)","v":{"$error":"#REF!"}},{"$f":"IF(DH124=\"\",#REF!,DH124)","v":{"$error":"#REF!"}},{"$f":"IF(#REF!=\"\",\"\",#REF!)","v":{"$error":"#REF!"}},{"$f":"IF(DI124=\"\",#REF!,DI124)","v":{"$error":"#REF!"}},{"$f":"IF(DJ124=\"\",#REF!,DJ124)","v":{"$error":"#REF!"}},{"$f":"IF(DK124=\"\",#REF!,DK124)","v":{"$error":"#REF!"}},{"$f":"IF(DL124=\"\",#REF!,DL124)","v":{"$error":"#REF!"}},{"$f":"IF(DM124=\"\",#REF!,DM124)","v":{"$error":"#REF!"}},{"$f":"IF(DN124=\"\",#REF!,DN124)","v":{"$error":"#REF!"}},null,null,null,null,null,{"$error":"#REF!"},{"$error":"#REF!"},{"$error":"#REF!"},null,null,null,null,{"$f":"#REF!","v":{"$error":"#REF!"}},"5.",{"$f":"IF(AL124=\"x\",#REF!,\"\")","v":{"$error":"#REF!"}},null,null,null,null,{"$f":"#REF!","v":{"$error":"#REF!"}},{"$f":"#REF!","v":{"$error":"#REF!"}},{"$f":"#REF!","v":{"$error":"#REF!"}},{"$f":"#REF!","v":{"$error":"#REF!"}},{"$f":"#REF!","v":{"$error":"#REF!"}},null,null,null,null,null,null,null,null,null,null,null,null,null,null,null,null,null,5,{"$f":"IF(PLAN!$G$118=\"1T\",PLAN!F124,IF(PLAN!$N$118=\"2T\",PLAN!M124,IF(PLAN!$U$118=\"3T\",PLAN!T124,\"\")))","v":{"$error":"#REF!"}},null,null,null,null,null,{"$f":"PLAN!$AX124","v":0},{"$f":"PLAN!$AY124","v":0},{"$f":"PLAN!$AZ124","v":0},{"$f":"PLAN!$BA124","v":0},{"$f":"PLAN!$BB124","v":0},{"$f":"PLAN!$BC124","v":0},{"$f":"PLAN!$BD124","v":0},{"$f":"PLAN!$BE124","v":0},{"$f":"PLAN!$BF124","v":0},{"$f":"PLAN!$BG124","v":0},{"$f":"PLAN!$BH124","v":0},{"$f":"PLAN!$BI124","v":0},{"$f":"PLAN!$BJ124","v":0},{"$f":"PLAN!$BK124","v":0},{"$f":"PLAN!$BL124","v":0},null,null,null,{"$f":"IF(PLAN!$C124=\"\",\"\",PLAN!$C124)","v":""},null,null,null,null,5,"d","E"]
[null,"2T",{"$f":"IF(D125=\"\",\"\",$AB$27)","v":""},null,{"$f":"IF(#REF!=\"\",\"\",#REF!)","v":{"$error":"#REF!"}},{"$f":"IF(CW125=\"\",#REF!,CW125)","v":{"$error":"#REF!"}},{"$f":"IF(CX125=\"\",#REF!,CX125)","v":{"$error":"#REF!"}},{"$f":"IF(CY125=\"\",#REF!,CY125)","v":{"$error":"#REF!"}},{"$f":"IF(CZ125=\"\",#REF!,CZ125)","v":{"$error":"#REF!"}},{"$f":"IF(DA125=\"\",#REF!,DA125)","v":{"$error":"#REF!"}},{"$f":"IF(DB125=\"\",#REF!,DB125)","v":{"$error":"#REF!"}},{"$f":"IF(#REF!=\"\",\"\",#REF!)","v":{"$error":"#REF!"}},{"$f":"IF(DC125=\"\",#REF!,DC125)","v":{"$error":"#REF!"}},{"$f":"IF(DD125=\"\",#REF!,DD125)","v":{"$error":"#REF!"}},{"$f":"IF(DE125=\"\",#REF!,DE125)","v":{"$error":"#REF!"}},{"$f":"IF(DF125=\"\",#REF!,DF125)","v":{"$error":"#REF!"}},{"$f":"IF(DG125=\"\",#REF!,DG125)","v":{"$error":"#REF!"}},{"$f":"IF(DH125=\"\",#REF!,DH125)","v":{"$error":"#REF!"}},{"$f":"IF(#REF!=\"\",\"\",#REF!)","v":{"$error":"#REF!"}},{"$f":"IF(DI125=\"\",#REF!,DI125)","v":{"$error":"#REF!"}},{"$f":"IF(DJ125=\"\",#REF!,DJ125)","v":{"$error":"#REF!"}},{"$f":"IF(DK125=\"\",#REF!,DK125)","v":{"$error":"#REF!"}},{"$f":"IF(DL125=\"\",#REF!,DL125)","v":{"$error":"#REF!"}},{"$f":"IF(DM125=\"\",#REF!,DM125)","v":{"$error":"#REF!"}},{"$f":"IF(DN125=\"\",#REF!,DN125)","v":{"$error":"#REF!"}},null,null,null,null,null,{"$error":"#REF!"},{"$error":"#REF!"},{"$error":"#REF!"},null,null,null,null,null,null,{"$f":"IF(S117=\"1T\",\"PT\",\"\")","v":""},{"$f":"IF(Z117=\"2T\",\"ST\",\"\")","v":""},{"$f":"IF(DJ117=\"3T\",\"TT\",\"\")","v":""},null,null,null,null,null,null,null,null,null,null,null,null,null,null,null,null,null,null,null,null,null,null,null,null,6,{"$f":"IF(PLAN!$G$118=\"1T\",PLAN!F125,IF(PLAN!$N$118=\"2T\",PLAN!M125,IF(PLAN!$U$118=\"3T\",PLAN!T125,\"\")))","v":{"$error":"#REF!"}},null,null,null,null,null,null,null,null,null,null,null,null,null,null,null,null,null,null,null,null,null,null,null,{"$f":"IF(PLAN!$C125=\"\",\"\",PLAN!$C125)","v":""},null,null,null,null,6,"e","E"]
[null,null,{"$f":"IF(D126=\"\",\"\",$AB$28)","v":""},null,{"$f":"IF(#REF!=\"\",\"\",#REF!)","v":{"$error":"#REF!"}},{"$f":"IF(CW126=\"\",#REF!,CW126)","v":{"$error":"#REF!"}},{"$f":"IF(CX126=\"\",#REF!,CX126)","v":{"$error":"#REF!"}},{"$f":"IF(CY126=\"\",#REF!,CY126)","v":{"$error":"#REF!"}},{"$f":"IF(CZ126=\"\",#REF!,CZ126)","v":{"$error":"#REF!"}},{"$f":"IF(DA126=\"\",#REF!,DA126)","v":{"$error":"#REF!"}},{"$f":"IF(DB126=\"\",#REF!,DB126)","v":{"$error":"#REF!"}},{"$f":"IF(#REF!=\"\",\"\",#REF!)","v":{"$error":"#REF!"}},{"$f":"IF(DC126=\"\",#REF!,DC126)","v":{"$error":"#REF!"}},{"$f":"IF(DD126=\"\",#REF!,DD126)","v":{"$error":"#REF!"}},{"$f":"IF(DE126=\"\",#REF!,DE126)","v":{"$error":"#REF!"}},{"$f":"IF(DF126=\"\",#REF!,DF126)","v":{"$error":"#REF!"}},{"$f":"IF(DG126=\"\",#REF!,DG126)","v":{"$error":"#REF!"}},{"$f":"IF(DH126=\"\",#REF!,DH126)","v":{"$error":"#REF!"}},{"$f":"IF(#REF!=\"\",\"\",#REF!)","v":{"$error":"#REF!"}},{"$f":"IF(DI126=\"\",#REF!,DI126)","v":{"$error":"#REF!"}},{"$f":"IF(DJ126=\"\",#REF!,DJ126)","v":{"$error":"#REF!"}},{"$f":"IF(DK126=\"\",#REF!,DK126)","v":{"$error":"#REF!"}},{"$f":"IF(DL126=\"\",#REF!,DL126)","v":{"$error":"#REF!"}},{"$f":"IF(DM126=\"\",#REF!,DM126)","v":{"$error":"#REF!"}},{"$f":"IF(DN126=\"\",#REF!,DN126)","v":{"$error":"#REF!"}},null,null,null,null,null,{"$error":"#REF!"},{"$error":"#REF!"},{"$error":"#REF!"},null,null,null,null,null,null,null,null,null,null,null,null,null,null,null,null,null,null,null,null,null,null,null,null,null,null,null,null,null,null,null,null,null,7,{"$f":"IF(PLAN!$G$118=\"1T\",PLAN!F126,IF(PLAN!$N$118=\"2T\",PLAN!M126,IF(PLAN!$U$118=\"3T\",PLAN!T126,\"\")))","v":{"$error":"#REF!"}},null,null,null,null,null,null,null,null,null,null,null,null,null,null,null,null,null,null,null,null,null,null,null,{"$f":"IF(PLAN!$C126=\"\",\"\",PLAN!$C126)","v":""},null,null,null,null,7,"f"]
[null,null,{"$f":"IF(D127=\"\",\"\",$AB$29)","v":""},null,{"$f":"IF(#REF!=\"\",\"\",#REF!)","v":{"$error":"#REF!"}},{"$f":"IF(CW127=\"\",#REF!,CW127)","v":{"$error":"#REF!"}},{"$f":"IF(CX127=\"\",#REF!,CX127)","v":{"$error":"#REF!"}},{"$f":"IF(CY127=\"\",#REF!,CY127)","v":{"$error":"#REF!"}},{"$f":"IF(CZ127=\"\",#REF!,CZ127)","v":{"$error":"#REF!"}},{"$f":"IF(DA127=\"\",#REF!,DA127)","v":{"$error":"#REF!"}},{"$f":"IF(DB127=\"\",#REF!,DB127)","v":{"$error":"#REF!"}},{"$f":"IF(#REF!=\"\",\"\",#REF!)","v":{"$error":"#REF!"}},{"$f":"IF(DC127=\"\",#REF!,DC127)","v":{"$error":"#REF!"}},{"$f":"IF(DD127=\"\",#REF!,DD127)","v":{"$error":"#REF!"}},{"$f":"IF(DE127=\"\",#REF!,DE127)","v":{"$error":"#REF!"}},{"$f":"IF(DF127=\"\",#REF!,DF127)","v":{"$error":"#REF!"}},{"$f":"IF(DG127=\"\",#REF!,DG127)","v":{"$error":"#REF!"}},{"$f":"IF(DH127=\"\",#REF!,DH127)","v":{"$error":"#REF!"}},{"$f":"IF(#REF!=\"\",\"\",#REF!)","v":{"$error":"#REF!"}},{"$f":"IF(DI127=\"\",#REF!,DI127)","v":{"$error":"#REF!"}},{"$f":"IF(DJ127=\"\",#REF!,DJ127)","v":{"$error":"#REF!"}},{"$f":"IF(DK127=\"\",#REF!,DK127)","v":{"$error":"#REF!"}},{"$f":"IF(DL127=\"\",#REF!,DL127)","v":{"$error":"#REF!"}},{"$f":"IF(DM127=\"\",#REF!,DM127)","v":{"$error":"#REF!"}},{"$f":"IF(DN127=\"\",#REF!,DN127)","v":{"$error":"#REF!"}},null,null,null,null,null,{"$error":"#REF!"},{"$error":"#REF!"},{"$error":"#REF!"},null,null,null,null,null,null,null,null,null,null,null,null,null,null,null,null,null,null,null,null,null,null,null,null,null,null,null,null,null,null,null,null,null,8,{"$f":"IF(PLAN!$G$118=\"1T\",PLAN!F127,IF(PLAN!$N$118=\"2T\",PLAN!M127,IF(PLAN!$U$118=\"3T\",PLAN!T127,\"\")))","v":{"$error":"#REF!"}},null,null,null,null,null,null,null,null,null,null,null,null,null,null,null,null,null,null,null,null,null,null,null,{"$f":"IF(PLAN!$C127=\"\",\"\",PLAN!$C127)","v":""},null,null,null,null,8,"g"]
[null,null,{"$f":"IF(D128=\"\",\"\",$AB$30)","v":""},null,{"$f":"IF(#REF!=\"\",\"\",#REF!)","v":{"$error":"#REF!"}},{"$f":"IF(CW128=\"\",#REF!,CW128)","v":{"$error":"#REF!"}},{"$f":"IF(CX128=\"\",#REF!,CX128)","v":{"$error":"#REF!"}},{"$f":"IF(CY128=\"\",#REF!,CY128)","v":{"$error":"#REF!"}},{"$f":"IF(CZ128=\"\",#REF!,CZ128)","v":{"$error":"#REF!"}},{"$f":"IF(DA128=\"\",#REF!,DA128)","v":{"$error":"#REF!"}},{"$f":"IF(DB128=\"\",#REF!,DB128)","v":{"$error":"#REF!"}},{"$f":"IF(#REF!=\"\",\"\",#REF!)","v":{"$error":"#REF!"}},{"$f":"IF(DC128=\"\",#REF!,DC128)","v":{"$error":"#REF!"}},{"$f":"IF(DD128=\"\",#REF!,DD128)","v":{"$error":"#REF!"}},{"$f":"IF(DE128=\"\",#REF!,DE128)","v":{"$error":"#REF!"}},{"$f":"IF(DF128=\"\",#REF!,DF128)","v":{"$error":"#REF!"}},{"$f":"IF(DG128=\"\",#REF!,DG128)","v":{"$error":"#REF!"}},{"$f":"IF(DH128=\"\",#REF!,DH128)","v":{"$error":"#REF!"}},{"$f":"IF(#REF!=\"\",\"\",#REF!)","v":{"$error":"#REF!"}},{"$f":"IF(DI128=\"\",#REF!,DI128)","v":{"$error":"#REF!"}},{"$f":"IF(DJ128=\"\",#REF!,DJ128)","v":{"$error":"#REF!"}},{"$f":"IF(DK128=\"\",#REF!,DK128)","v":{"$error":"#REF!"}},{"$f":"IF(DL128=\"\",#REF!,DL128)","v":{"$error":"#REF!"}},{"$f":"IF(DM128=\"\",#REF!,DM128)","v":{"$error":"#REF!"}},{"$f":"IF(DN128=\"\",#REF!,DN128)","v":{"$error":"#REF!"}},null,null,null,null,null,{"$error":"#REF!"},{"$error":"#REF!"},{"$error":"#REF!"},null,null,null,null,null,null,null,null,null,null,null,null,null,null,null,null,null,null,null,null,null,null,null,null,null,null,null,null,null,null,null,null,null,9,{"$f":"IF(PLAN!$G$118=\"1T\",PLAN!F128,IF(PLAN!$N$118=\"2T\",PLAN!M128,IF(PLAN!$U$118=\"3T\",PLAN!T128,\"\")))","v":{"$error":"#REF!"}},null,null,null,null,null,null,null,null,null,null,null,null,null,null,null,null,null,null,null,null,null,null,null,{"$f":"IF(PLAN!$C128=\"\",\"\",PLAN!$C128)","v":""},null,null,null,null,9,"h"]
[null,null,{"$f":"IF(D129=\"\",\"\",$AB$31)","v":""},null,{"$f":"IF(#REF!=\"\",\"\",#REF!)","v":{"$error":"#REF!"}},{"$f":"IF(CW129=\"\",#REF!,CW129)","v":{"$error":"#REF!"}},{"$f":"IF(CX129=\"\",#REF!,CX129)","v":{"$error":"#REF!"}},{"$f":"IF(CY129=\"\",#REF!,CY129)","v":{"$error":"#REF!"}},{"$f":"IF(CZ129=\"\",#REF!,CZ129)","v":{"$error":"#REF!"}},{"$f":"IF(DA129=\"\",#REF!,DA129)","v":{"$error":"#REF!"}},{"$f":"IF(DB129=\"\",#REF!,DB129)","v":{"$error":"#REF!"}},{"$f":"IF(#REF!=\"\",\"\",#REF!)","v":{"$error":"#REF!"}},{"$f":"IF(DC129=\"\",#REF!,DC129)","v":{"$error":"#REF!"}},{"$f":"IF(DD129=\"\",#REF!,DD129)","v":{"$error":"#REF!"}},{"$f":"IF(DE129=\"\",#REF!,DE129)","v":{"$error":"#REF!"}},{"$f":"IF(DF129=\"\",#REF!,DF129)","v":{"$error":"#REF!"}},{"$f":"IF(DG129=\"\",#REF!,DG129)","v":{"$error":"#REF!"}},{"$f":"IF(DH129=\"\",#REF!,DH129)","v":{"$error":"#REF!"}},{"$f":"IF(#REF!=\"\",\"\",#REF!)","v":{"$error":"#REF!"}},{"$f":"IF(DI129=\"\",#REF!,DI129)","v":{"$error":"#REF!"}},{"$f":"IF(DJ129=\"\",#REF!,DJ129)","v":{"$error":"#REF!"}},{"$f":"IF(DK129=\"\",#REF!,DK129)","v":{"$error":"#REF!"}},{"$f":"IF(DL129=\"\",#REF!,DL129)","v":{"$error":"#REF!"}},{"$f":"IF(DM129=\"\",#REF!,DM129)","v":{"$error":"#REF!"}},{"$f":"IF(DN129=\"\",#REF!,DN129)","v":{"$error":"#REF!"}},null,null,null,null,null,{"$error":"#REF!"},{"$error":"#REF!"},{"$error":"#REF!"},null,null,null,null,null,null,null,null,null,null,null,null,null,null,null,null,null,null,null,null,null,null,null,null,null,null,null,null,null,null,null,null,null,10,{"$f":"IF(PLAN!$G$118=\"1T\",PLAN!F129,IF(PLAN!$N$118=\"2T\",PLAN!M129,IF(PLAN!$U$118=\"3T\",PLAN!T129,\"\")))","v":{"$error":"#REF!"}},null,null,null,null,null,null,null,null,null,null,null,null,null,null,null,null,null,null,null,null,null,null,null,{"$f":"IF(PLAN!$C129=\"\",\"\",PLAN!$C129)","v":""},null,null,null,null,10,"i"]
[null,"3T",{"$f":"IF(D130=\"\",\"\",$AB$27)","v":""},null,{"$f":"IF(#REF!=\"\",\"\",#REF!)","v":{"$error":"#REF!"}},{"$f":"IF(CW130=\"\",#REF!,CW130)","v":{"$error":"#REF!"}},{"$f":"IF(CX130=\"\",#REF!,CX130)","v":{"$error":"#REF!"}},{"$f":"IF(CY130=\"\",#REF!,CY130)","v":{"$error":"#REF!"}},{"$f":"IF(CZ130=\"\",#REF!,CZ130)","v":{"$error":"#REF!"}},{"$f":"IF(DA130=\"\",#REF!,DA130)","v":{"$error":"#REF!"}},{"$f":"IF(DB130=\"\",#REF!,DB130)","v":{"$error":"#REF!"}},{"$f":"IF(#REF!=\"\",\"\",#REF!)","v":{"$error":"#REF!"}},{"$f":"IF(DC130=\"\",#REF!,DC130)","v":{"$error":"#REF!"}},{"$f":"IF(DD130=\"\",#REF!,DD130)","v":{"$error":"#REF!"}},{"$f":"IF(DE130=\"\",#REF!,DE130)","v":{"$error":"#REF!"}},{"$f":"IF(DF130=\"\",#REF!,DF130)","v":{"$error":"#REF!"}},{"$f":"IF(DG130=\"\",#REF!,DG130)","v":{"$error":"#REF!"}},{"$f":"IF(DH130=\"\",#REF!,DH130)","v":{"$error":"#REF!"}},{"$f":"IF(#REF!=\"\",\"\",#REF!)","v":{"$error":"#REF!"}},{"$f":"IF(DI130=\"\",#REF!,DI130)","v":{"$error":"#REF!"}},{"$f":"IF(DJ130=\"\",#REF!,DJ130)","v":{"$error":"#REF!"}},{"$f":"IF(DK130=\"\",#REF!,DK130)","v":{"$error":"#REF!"}},{"$f":"IF(DL130=\"\",#REF!,DL130)","v":{"$error":"#REF!"}},{"$f":"IF(DM130=\"\",#REF!,DM130)","v":{"$error":"#REF!"}},{"$f":"IF(DN130=\"\",#REF!,DN130)","v":{"$error":"#REF!"}},null,null,null,null,null,{"$error":"#REF!"},{"$error":"#REF!"},{"$error":"#REF!"},null,null,null,null,null,null,null,null,null,null,null,null,null,null,null,null,null,null,null,null,null,null,null,null,null,null,null,null,null,null,null,null,null,11,{"$f":"IF(PLAN!$G$118=\"1T\",PLAN!F130,IF(PLAN!$N$118=\"2T\",PLAN!M130,IF(PLAN!$U$118=\"3T\",PLAN!T130,\"\")))","v":{"$error":"#REF!"}},null,null,null,null,null,null,null,null,null,null,null,null,null,null,null,null,null,null,null,null,null,null,null,{"$f":"IF(PLAN!$C130=\"\",\"\",PLAN!$C130)","v":""},null,null,null,null,11,"j"]
[null,null,{"$f":"IF(D131=\"\",\"\",$AB$28)","v":""},null,{"$f":"IF(#REF!=\"\",\"\",#REF!)","v":{"$error":"#REF!"}},{"$f":"IF(CW131=\"\",#REF!,CW131)","v":{"$error":"#REF!"}},{"$f":"IF(CX131=\"\",#REF!,CX131)","v":{"$error":"#REF!"}},{"$f":"IF(CY131=\"\",#REF!,CY131)","v":{"$error":"#REF!"}},{"$f":"IF(CZ131=\"\",#REF!,CZ131)","v":{"$error":"#REF!"}},{"$f":"IF(DA131=\"\",#REF!,DA131)","v":{"$error":"#REF!"}},{"$f":"IF(DB131=\"\",#REF!,DB131)","v":{"$error":"#REF!"}},{"$f":"IF(#REF!=\"\",\"\",#REF!)","v":{"$error":"#REF!"}},{"$f":"IF(DC131=\"\",#REF!,DC131)","v":{"$error":"#REF!"}},{"$f":"IF(DD131=\"\",#REF!,DD131)","v":{"$error":"#REF!"}},{"$f":"IF(DE131=\"\",#REF!,DE131)","v":{"$error":"#REF!"}},{"$f":"IF(DF131=\"\",#REF!,DF131)","v":{"$error":"#REF!"}},{"$f":"IF(DG131=\"\",#REF!,DG131)","v":{"$error":"#REF!"}},{"$f":"IF(DH131=\"\",#REF!,DH131)","v":{"$error":"#REF!"}},{"$f":"IF(#REF!=\"\",\"\",#REF!)","v":{"$error":"#REF!"}},{"$f":"IF(DI131=\"\",#REF!,DI131)","v":{"$error":"#REF!"}},{"$f":"IF(DJ131=\"\",#REF!,DJ131)","v":{"$error":"#REF!"}},{"$f":"IF(DK131=\"\",#REF!,DK131)","v":{"$error":"#REF!"}},{"$f":"IF(DL131=\"\",#REF!,DL131)","v":{"$error":"#REF!"}},{"$f":"IF(DM131=\"\",#REF!,DM131)","v":{"$error":"#REF!"}},{"$f":"IF(DN131=\"\",#REF!,DN131)","v":{"$error":"#REF!"}},null,null,null,null,null,{"$error":"#REF!"},{"$error":"#REF!"},{"$error":"#REF!"},null,null,null,null,null,null,null,null,null,null,null,null,null,null,null,null,null,null,null,null,null,null,null,null,null,null,null,null,null,null,null,null,null,12,{"$f":"IF(PLAN!$G$118=\"1T\",PLAN!F131,IF(PLAN!$N$118=\"2T\",PLAN!M131,IF(PLAN!$U$118=\"3T\",PLAN!T131,\"\")))","v":{"$error":"#REF!"}},null,null,null,null,null,null,null,null,null,null,null,null,null,null,null,null,null,null,null,null,null,null,null,{"$f":"IF(PLAN!$C131=\"\",\"\",PLAN!$C131)","v":""},null,null,null,null,12,"k"]
[null,null,{"$f":"IF(D132=\"\",\"\",$AB$29)","v":""},null,{"$f":"IF(#REF!=\"\",\"\",#REF!)","v":{"$error":"#REF!"}},{"$f":"IF(CW132=\"\",#REF!,CW132)","v":{"$error":"#REF!"}},{"$f":"IF(CX132=\"\",#REF!,CX132)","v":{"$error":"#REF!"}},{"$f":"IF(CY132=\"\",#REF!,CY132)","v":{"$error":"#REF!"}},{"$f":"IF(CZ132=\"\",#REF!,CZ132)","v":{"$error":"#REF!"}},{"$f":"IF(DA132=\"\",#REF!,DA132)","v":{"$error":"#REF!"}},{"$f":"IF(DB132=\"\",#REF!,DB132)","v":{"$error":"#REF!"}},{"$f":"IF(#REF!=\"\",\"\",#REF!)","v":{"$error":"#REF!"}},{"$f":"IF(DC132=\"\",#REF!,DC132)","v":{"$error":"#REF!"}},{"$f":"IF(DD132=\"\",#REF!,DD132)","v":{"$error":"#REF!"}},{"$f":"IF(DE132=\"\",#REF!,DE132)","v":{"$error":"#REF!"}},{"$f":"IF(DF132=\"\",#REF!,DF132)","v":{"$error":"#REF!"}},{"$f":"IF(DG132=\"\",#REF!,DG132)","v":{"$error":"#REF!"}},{"$f":"IF(DH132=\"\",#REF!,DH132)","v":{"$error":"#REF!"}},{"$f":"IF(#REF!=\"\",\"\",#REF!)","v":{"$error":"#REF!"}},{"$f":"IF(DI132=\"\",#REF!,DI132)","v":{"$error":"#REF!"}},{"$f":"IF(DJ132=\"\",#REF!,DJ132)","v":{"$error":"#REF!"}},{"$f":"IF(DK132=\"\",#REF!,DK132)","v":{"$error":"#REF!"}},{"$f":"IF(DL132=\"\",#REF!,DL132)","v":{"$error":"#REF!"}},{"$f":"IF(DM132=\"\",#REF!,DM132)","v":{"$error":"#REF!"}},{"$f":"IF(DN132=\"\",#REF!,DN132)","v":{"$error":"#REF!"}},null,null,null,null,null,{"$error":"#REF!"},{"$error":"#REF!"},{"$error":"#REF!"},null,null,null,null,null,null,null,null,null,null,null,null,null,null,null,null,null,null,null,null,null,null,null,null,null,null,null,null,null,null,null,null,null,13,{"$f":"IF(PLAN!$G$118=\"1T\",PLAN!F132,IF(PLAN!$N$118=\"2T\",PLAN!M132,IF(PLAN!$U$118=\"3T\",PLAN!T132,\"\")))","v":{"$error":"#REF!"}},null,null,null,null,null,null,null,null,null,null,null,null,null,null,null,null,null,null,null,null,null,null,null,{"$f":"IF(PLAN!$C132=\"\",\"\",PLAN!$C132)","v":""},null,null,null,null,13,"l"]
[null,null,{"$f":"IF(D133=\"\",\"\",$AB$30)","v":""},null,{"$f":"IF(#REF!=\"\",\"\",#REF!)","v":{"$error":"#REF!"}},{"$f":"IF(CW133=\"\",#REF!,CW133)","v":{"$error":"#REF!"}},{"$f":"IF(CX133=\"\",#REF!,CX133)","v":{"$error":"#REF!"}},{"$f":"IF(CY133=\"\",#REF!,CY133)","v":{"$error":"#REF!"}},{"$f":"IF(CZ133=\"\",#REF!,CZ133)","v":{"$error":"#REF!"}},{"$f":"IF(DA133=\"\",#REF!,DA133)","v":{"$error":"#REF!"}},{"$f":"IF(DB133=\"\",#REF!,DB133)","v":{"$error":"#REF!"}},{"$f":"IF(#REF!=\"\",\"\",#REF!)","v":{"$error":"#REF!"}},{"$f":"IF(DC133=\"\",#REF!,DC133)","v":{"$error":"#REF!"}},{"$f":"IF(DD133=\"\",#REF!,DD133)","v":{"$error":"#REF!"}},{"$f":"IF(DE133=\"\",#REF!,DE133)","v":{"$error":"#REF!"}},{"$f":"IF(DF133=\"\",#REF!,DF133)","v":{"$error":"#REF!"}},{"$f":"IF(DG133=\"\",#REF!,DG133)","v":{"$error":"#REF!"}},{"$f":"IF(DH133=\"\",#REF!,DH133)","v":{"$error":"#REF!"}},{"$f":"IF(#REF!=\"\",\"\",#REF!)","v":{"$error":"#REF!"}},{"$f":"IF(DI133=\"\",#REF!,DI133)","v":{"$error":"#REF!"}},{"$f":"IF(DJ133=\"\",#REF!,DJ133)","v":{"$error":"#REF!"}},{"$f":"IF(DK133=\"\",#REF!,DK133)","v":{"$error":"#REF!"}},{"$f":"IF(DL133=\"\",#REF!,DL133)","v":{"$error":"#REF!"}},{"$f":"IF(DM133=\"\",#REF!,DM133)","v":{"$error":"#REF!"}},{"$f":"IF(DN133=\"\",#REF!,DN133)","v":{"$error":"#REF!"}},null,null,null,null,null,{"$error":"#REF!"},{"$error":"#REF!"},{"$error":"#REF!"},null,null,null,null,null,null,null,null,null,null,null,null,null,null,null,null,null,null,null,null,null,null,null,null,null,null,null,null,null,null,null,null,null,14,{"$f":"IF(PLAN!$G$118=\"1T\",PLAN!F133,IF(PLAN!$N$118=\"2T\",PLAN!M133,IF(PLAN!$U$118=\"3T\",PLAN!T133,\"\")))","v":{"$error":"#REF!"}},null,null,null,null,null,null,null,null,null,null,null,null,null,null,null,null,null,null,null,null,null,null,null,{"$f":"IF(PLAN!$C133=\"\",\"\",PLAN!$C133)","v":""},null,null,null,null,14,"m"]
[null,null,{"$f":"IF(D134=\"\",\"\",$AB$31)","v":""},null,{"$f":"IF(#REF!=\"\",\"\",#REF!)","v":{"$error":"#REF!"}},{"$f":"IF(CW134=\"\",#REF!,CW134)","v":{"$error":"#REF!"}},{"$f":"IF(CX134=\"\",#REF!,CX134)","v":{"$error":"#REF!"}},{"$f":"IF(CY134=\"\",#REF!,CY134)","v":{"$error":"#REF!"}},{"$f":"IF(CZ134=\"\",#REF!,CZ134)","v":{"$error":"#REF!"}},{"$f":"IF(DA134=\"\",#REF!,DA134)","v":{"$error":"#REF!"}},{"$f":"IF(DB134=\"\",#REF!,DB134)","v":{"$error":"#REF!"}},{"$f":"IF(#REF!=\"\",\"\",#REF!)","v":{"$error":"#REF!"}},{"$f":"IF(DC134=\"\",#REF!,DC134)","v":{"$error":"#REF!"}},{"$f":"IF(DD134=\"\",#REF!,DD134)","v":{"$error":"#REF!"}},{"$f":"IF(DE134=\"\",#REF!,DE134)","v":{"$error":"#REF!"}},{"$f":"IF(DF134=\"\",#REF!,DF134)","v":{"$error":"#REF!"}},{"$f":"IF(DG134=\"\",#REF!,DG134)","v":{"$error":"#REF!"}},{"$f":"IF(DH134=\"\",#REF!,DH134)","v":{"$error":"#REF!"}},{"$f":"IF(#REF!=\"\",\"\",#REF!)","v":{"$error":"#REF!"}},{"$f":"IF(DI134=\"\",#REF!,DI134)","v":{"$error":"#REF!"}},{"$f":"IF(DJ134=\"\",#REF!,DJ134)","v":{"$error":"#REF!"}},{"$f":"IF(DK134=\"\",#REF!,DK134)","v":{"$error":"#REF!"}},{"$f":"IF(DL134=\"\",#REF!,DL134)","v":{"$error":"#REF!"}},{"$f":"IF(DM134=\"\",#REF!,DM134)","v":{"$error":"#REF!"}},{"$f":"IF(DN134=\"\",#REF!,DN134)","v":{"$error":"#REF!"}},null,null,null,null,null,{"$error":"#REF!"},{"$error":"#REF!"},{"$error":"#REF!"},null,null,null,null,null,null,null,null,null,null,null,null,null,null,null,null,null,null,null,null,null,null,null,null,null,null,null,null,null,null,null,null,null,15,{"$f":"IF(PLAN!$G$118=\"1T\",PLAN!F134,IF(PLAN!$N$118=\"2T\",PLAN!M134,IF(PLAN!$U$118=\"3T\",PLAN!T134,\"\")))","v":{"$error":"#REF!"}},null,null,null,null,null,null,null,null,null,null,null,null,null,null,null,null,null,null,null,null,null,null,null,{"$f":"IF(PLAN!$C134=\"\",\"\",PLAN!$C134)","v":""},null,null,null,null,15,"x"]
[]
[]
[]
[]
[]
[null,null,null,null,{"$f":"15-COUNTIF(E120:E134,\"\")","v":15},null,null,null,null,null,null,{"$f":"15-COUNTIF(L120:L134,\"\")","v":15},null,null,null,null,null,null,{"$f":"15-COUNTIF(S120:S134,\"\")","v":15}]
[]
[]
[null,null,null,{"$f":"#REF!&#REF!","v":{"$error":"#REF!"}}]
[null,null,null,null,null,null,null,null,null,null,null,null,null,null,null,null,null,null,null,null,null,null,null,null,null,null,null,null,null,null,null,null,null,null,null,null,null,null,null,null,null,null,null,null,"INDICADORES SELECCIONADOS",null,null,null,null,null,{"$f":"#REF!","v":{"$error":"#REF!"}},null,null,null,null,{"$f":"#REF!","v":{"$error":"#REF!"}},null,null,null,null,{"$f":"#REF!","v":{"$error":"#REF!"}}]
[null,null,null,null,{"$f":"IF(INICIO!$H$2=\"1T\",INICIO!$NH$14,\"\")","v":"PRIMER TRIMESTRE"},null,{"$f":"IF(E145=\"PRIMER TRIMESTRE\",B147,\"\")","v":"1T"},null,null,null,null,{"$f":"IF(INICIO!$H$2=\"2T\",INICIO!$NH$15,\"\")","v":""},null,{"$f":"IF(L145=\"SEGUNDO TRIMESTRE\",B152,\"\")","v":""},null,null,null,null,{"$f":"IF(INICIO!$H$2=\"3T\",INICIO!$NH$16,\"\")","v":""},null,{"$f":"IF(S145=\"TERCER TRIMESTRE\",B157,\"\")","v":""},null,null,null,null,null,null,null,null,null,{"$f":"G145","v":"1T"},{"$f":"N145","v":""},{"$f":"U145","v":""},null,null,null,null,null,null,null,null,null,null,null,"L1","L2","L3","L4","L5","L1","L2","L3","L4","L5","L1","L2","L3","L4","L5","L1","L2","L3","L4","L5",null,null,null,null,null,null,null,null,null,null,null,null,null,null,null,null,null,null,null,null,null,null,null,null,null,null,null,null,null,null,null,null,null,"Copia de datos empleados durante el año, en las actividades"]
[null,"LOGROS",null,null,"ACTIVIDADES 1T","INDICADORES 1T",null,null,null,null,null,"ACTIVIDADES 2T","INDICADORES 2T",null,null,null,null,null,"ACTIVIDADES 3T","INDICADORES 3T",null,null,null,null,null,null,"FECHAS 1T","FECHAS 2T","FECHAS 3T",null,"LOGOS X ACTIVIDAD",null,null,null,null,null,null,"x",null,"LOGROS SELECCIONADOS",null,null,null,null,{"$f":"#REF!","v":{"$error":"#REF!"}},{"$f":"#REF!","v":{"$error":"#REF!"}},{"$f":"#REF!","v":{"$error":"#REF!"}},{"$f":"#REF!","v":{"$error":"#REF!"}},{"$f":"#REF!","v":{"$error":"#REF!"}},null,null,null,null,null,null,null,null,null,null,null,null,null,null,null,null,null,null,null,null,null,null,null,null,{"$f":"PLAN!$AX146","v":0},{"$f":"PLAN!$AY146","v":0},{"$f":"PLAN!$AZ146","v":0},{"$f":"PLAN!$BA146","v":0},{"$f":"PLAN!$BB146","v":0},{"$f":"PLAN!$BC146","v":0},{"$f":"PLAN!$BD146","v":0},{"$f":"PLAN!$BE146","v":0},{"$f":"PLAN!$BF146","v":0},{"$f":"PLAN!$BG146","v":0},{"$f":"PLAN!$BH146","v":0},{"$f":"PLAN!$BI146","v":0},{"$f":"PLAN!$BJ146","v":0},{"$f":"PLAN!$BK146","v":0},{"$f":"PLAN!$BL146","v":0},null,null,null,null,null,null,null,null,"# de","1T","2T","3T","Indicadores 1t",null,null,null,null,null,"Indicadores 2t",null,null,null,null,null,"Indicadores 3t"]
[null,"1T",{"$f":"IF(D147=\"\",\"\",$AB$27)","v":""},null,{"$f":"IF(#REF!=\"\",\"\",#REF!)","v":{"$error":"#REF!"}},{"$f":"IF(CW147=\"\",#REF!,CW147)","v":{"$error":"#REF!"}},{"$f":"IF(CX147=\"\",#REF!,CX147)","v":{"$error":"#REF!"}},{"$f":"IF(CY147=\"\",#REF!,CY147)","v":{"$error":"#REF!"}},{"$f":"IF(CZ147=\"\",#REF!,CZ147)","v":{"$error":"#REF!"}},{"$f":"IF(DA147=\"\",#REF!,DA147)","v":{"$error":"#REF!"}},{"$f":"IF(DB147=\"\",#REF!,DB147)","v":{"$error":"#REF!"}},{"$f":"IF(#REF!=\"\",\"\",#REF!)","v":{"$error":"#REF!"}},{"$f":"IF(DC147=\"\",#REF!,DC147)","v":{"$error":"#REF!"}},{"$f":"IF(DD147=\"\",#REF!,DD147)","v":{"$error":"#REF!"}},{"$f":"IF(DE147=\"\",#REF!,DE147)","v":{"$error":"#REF!"}},{"$f":"IF(DF147=\"\",#REF!,DF147)","v":{"$error":"#REF!"}},{"$f":"IF(DG147=\"\",#REF!,DG147)","v":{"$error":"#REF!"}},{"$f":"IF(DH147=\"\",#REF!,DH147)","v":{"$error":"#REF!"}},{"$f":"IF(#REF!=\"\",\"\",#REF!)","v":{"$error":"#REF!"}},{"$f":"IF(DI147=\"\",#REF!,DI147)","v":{"$error":"#REF!"}},{"$f":"IF(DJ147=\"\",#REF!,DJ147)","v":{"$error":"#REF!"}},{"$f":"IF(DK147=\"\",#REF!,DK147)","v":{"$error":"#REF!"}},{"$f":"IF(DL147=\"\",#REF!,DL147)","v":{"$error":"#REF!"}},{"$f":"IF(DM147=\"\",#REF!,DM147)","v":{"$error":"#REF!"}},{"$f":"IF(DN147=\"\",#REF!,DN147)","v":{"$error":"#REF!"}},null,null,null,null,null,{"$f":"IF(F147=0,\"\",IF(OR(F147=\"1.1\",F147=\"1.2\",F147=\"1.3\",F147=\"1.4\",F147=\"1.5\",F147=\"1.6\"), $AC$2,IF(OR(F147=\"2.1\",F147=\"2.2\",F147=\"2.3\",F147=\"2.4\",F147=\"2.5\",F147=\"2.6\"),$AD$2,IF(OR(F147=\"3.1\",F147=\"3.2\",F147=\"3.3\",F147=\"3.4\",F147=\"3.5\",F147=\"3.6\"),$AE$2,IF(OR(F147=\"4.1\",F147=\"4.2\",F147=\"4.3\",F147=\"4.4\",F147=\"4.5\",F147=\"4.6\"),$AF$2,IF(OR(F147=\"5.1\",F147=\"5.2\",F147=\"5.3\",F147=\"5.4\",F147=\"5.5\",F147=\"5.6\"),$AG$2))))))","v":{"$error":"#REF!"}},{"$f":"IF(M147=0,\"\",IF(OR(M147=\"1.1\",M147=\"1.2\",M147=\"1.3\",M147=\"1.4\",M147=\"1.5\",M147=\"1.6\"), $AC$2,IF(OR(M147=\"2.1\",M147=\"2.2\",M147=\"2.3\",M147=\"2.4\",M147=\"2.5\",M147=\"2.6\"),$AD$2,IF(OR(M147=\"3.1\",M147=\"3.2\",M147=\"3.3\",M147=\"3.4\",M147=\"3.5\",M147=\"3.6\"),$AE$2,IF(OR(M147=\"4.1\",M147=\"4.2\",M147=\"4.3\",M147=\"4.4\",M147=\"4.5\",M147=\"4.6\"),$AF$2,IF(OR(M147=\"5.1\",M147=\"5.2\",M147=\"5.3\",M147=\"5.4\",M147=\"5.5\",M147=\"5.6\"),$AG$2))))))","v":{"$error":"#REF!"}},{"$f":"IF(T147=0,\"\",IF(OR(T147=\"1.1\",T147=\"1.2\",T147=\"1.3\",T147=\"1.4\",T147=\"1.5\",T147=\"1.6\"), $AC$2,IF(OR(T147=\"2.1\",T147=\"2.2\",T147=\"2.3\",T147=\"2.4\",T147=\"2.5\",T147=\"2.6\"),$AD$2,IF(OR(T147=\"3.1\",T147=\"3.2\",T147=\"3.3\",T147=\"3.4\",T147=\"3.5\",T147=\"3.6\"),$AE$2,IF(OR(T147=\"4.1\",T147=\"4.2\",T147=\"4.3\",T147=\"4.4\",T147=\"4.5\",T147=\"4.6\"),$AF$2,IF(OR(T147=\"5.1\",T147=\"5.2\",T147=\"5.3\",T147=\"5.4\",T147=\"5.5\",T147=\"5.6\"),$AG$2))))))","v":{"$error":"#REF!"}},null,null,null,null,{"$f":"#REF!","v":{"$error":"#REF!"}},"1.",{"$f":"IF(AL147=\"x\",#REF!,\"\")","v":{"$error":"#REF!"}},null,null,null,null,{"$f":"#REF!","v":{"$error":"#REF!"}},{"$f":"#REF!","v":{"$error":"#REF!"}},{"$f":"#REF!","v":{"$error":"#REF!"}},{"$f":"#REF!","v":{"$error":"#REF!"}},{"$f":"#REF!","v":{"$error":"#REF!"}},null,null,null,null,null,null,null,null,null,null,null,null,null,null,null,null,null,1,{"$f":"IF(PLAN!$G$145=\"1T\",PLAN!F147,IF(PLAN!$N$145=\"2T\",PLAN!M147,IF(PLAN!$U$145=\"3T\",PLAN!T147,\"\")))","v":{"$error":"#REF!"}},null,null,null,null,null,{"$f":"PLAN!$AX147","v":0},{"$f":"PLAN!$AY147","v":0},{"$f":"PLAN!$AZ147","v":0},{"$f":"PLAN!$BA147","v":0},{"$f":"PLAN!$BB147","v":0},{"$f":"PLAN!$BC147","v":0},{"$f":"PLAN!$BD147","v":0},{"$f":"PLAN!$BE147","v":0},{"$f":"PLAN!$BF147","v":0},{"$f":"PLAN!$BG147","v":0},{"$f":"PLAN!$BH147","v":0},{"$f":"PLAN!$BI147","v":0},{"$f":"PLAN!$BJ147","v":0},{"$f":"PLAN!$BK147","v":0},{"$f":"PLAN!$BL147","v":0},null,null,null,{"$f":"IF(PLAN!$C147=\"\",\"\",PLAN!$C147)","v":""},null,null,null,null,1,"x","EM"]
[null,null,{"$f":"IF(D148=\"\",\"\",$AB$28)","v":""},null,{"$f":"IF(#REF!=\"\",\"\",#REF!)","v":{"$error":"#REF!"}},{"$f":"IF(CW148=\"\",#REF!,CW148)","v":{"$error":"#REF!"}},{"$f":"IF(CX148=\"\",#REF!,CX148)","v":{"$error":"#REF!"}},{"$f":"IF(CY148=\"\",#REF!,CY148)","v":{"$error":"#REF!"}},{"$f":"IF(CZ148=\"\",#REF!,CZ148)","v":{"$error":"#REF!"}},{"$f":"IF(DA148=\"\",#REF!,DA148)","v":{"$error":"#REF!"}},{"$f":"IF(DB148=\"\",#REF!,DB148)","v":{"$error":"#REF!"}},{"$f":"IF(#REF!=\"\",\"\",#REF!)","v":{"$error":"#REF!"}},{"$f":"IF(DC148=\"\",#REF!,DC148)","v":{"$error":"#REF!"}},{"$f":"IF(DD148=\"\",#REF!,DD148)","v":{"$error":"#REF!"}},{"$f":"IF(DE148=\"\",#REF!,DE148)","v":{"$error":"#REF!"}},{"$f":"IF(DF148=\"\",#REF!,DF148)","v":{"$error":"#REF!"}},{"$f":"IF(DG148=\"\",#REF!,DG148)","v":{"$error":"#REF!"}},{"$f":"IF(DH148=\"\",#REF!,DH148)","v":{"$error":"#REF!"}},{"$f":"IF(#REF!=\"\",\"\",#REF!)","v":{"$error":"#REF!"}},{"$f":"IF(DI148=\"\",#REF!,DI148)","v":{"$error":"#REF!"}},{"$f":"IF(DJ148=\"\",#REF!,DJ148)","v":{"$error":"#REF!"}},{"$f":"IF(DK148=\"\",#REF!,DK148)","v":{"$error":"#REF!"}},{"$f":"IF(DL148=\"\",#REF!,DL148)","v":{"$error":"#REF!"}},{"$f":"IF(DM148=\"\",#REF!,DM148)","v":{"$error":"#REF!"}},{"$f":"IF(DN148=\"\",#REF!,DN148)","v":{"$error":"#REF!"}},null,null,null,null,null,{"$f":"IF(F148=0,\"\",IF(OR(F148=\"1.1\",F148=\"1.2\",F148=\"1.3\",F148=\"1.4\",F148=\"1.5\",F148=\"1.6\"), $AC$2,IF(OR(F148=\"2.1\",F148=\"2.2\",F148=\"2.3\",F148=\"2.4\",F148=\"2.5\",F148=\"2.6\"),$AD$2,IF(OR(F148=\"3.1\",F148=\"3.2\",F148=\"3.3\",F148=\"3.4\",F148=\"3.5\",F148=\"3.6\"),$AE$2,IF(OR(F148=\"4.1\",F148=\"4.2\",F148=\"4.3\",F148=\"4.4\",F148=\"4.5\",F148=\"4.6\"),$AF$2,IF(OR(F148=\"5.1\",F148=\"5.2\",F148=\"5.3\",F148=\"5.4\",F148=\"5.5\",F148=\"5.6\"),$AG$2))))))","v":{"$error":"#REF!"}},{"$f":"IF(M148=0,\"\",IF(OR(M148=\"1.1\",M148=\"1.2\",M148=\"1.3\",M148=\"1.4\",M148=\"1.5\",M148=\"1.6\"), $AC$2,IF(OR(M148=\"2.1\",M148=\"2.2\",M148=\"2.3\",M148=\"2.4\",M148=\"2.5\",M148=\"2.6\"),$AD$2,IF(OR(M148=\"3.1\",M148=\"3.2\",M148=\"3.3\",M148=\"3.4\",M148=\"3.5\",M148=\"3.6\"),$AE$2,IF(OR(M148=\"4.1\",M148=\"4.2\",M148=\"4.3\",M148=\"4.4\",M148=\"4.5\",M148=\"4.6\"),$AF$2,IF(OR(M148=\"5.1\",M148=\"5.2\",M148=\"5.3\",M148=\"5.4\",M148=\"5.5\",M148=\"5.6\"),$AG$2))))))","v":{"$error":"#REF!"}},{"$f":"IF(T148=0,\"\",IF(OR(T148=\"1.1\",T148=\"1.2\",T148=\"1.3\",T148=\"1.4\",T148=\"1.5\",T148=\"1.6\"), $AC$2,IF(OR(T148=\"2.1\",T148=\"2.2\",T148=\"2.3\",T148=\"2.4\",T148=\"2.5\",T148=\"2.6\"),$AD$2,IF(OR(T148=\"3.1\",T148=\"3.2\",T148=\"3.3\",T148=\"3.4\",T148=\"3.5\",T148=\"3.6\"),$AE$2,IF(OR(T148=\"4.1\",T148=\"4.2\",T148=\"4.3\",T148=\"4.4\",T148=\"4.5\",T148=\"4.6\"),$AF$2,IF(OR(T148=\"5.1\",T148=\"5.2\",T148=\"5.3\",T148=\"5.4\",T148=\"5.5\",T148=\"5.6\"),$AG$2))))))","v":{"$error":"#REF!"}},null,null,null,null,{"$f":"#REF!","v":{"$error":"#REF!"}},"2.",{"$f":"IF(AL148=\"x\",#REF!,\"\")","v":{"$error":"#REF!"}},null,null,null,null,{"$f":"#REF!","v":{"$error":"#REF!"}},{"$f":"#REF!","v":{"$error":"#REF!"}},{"$f":"#REF!","v":{"$error":"#REF!"}},{"$f":"#REF!","v":{"$error":"#REF!"}},{"$f":"#REF!","v":{"$error":"#REF!"}},null,null,null,null,null,null,null,null,null,null,null,null,null,null,null,null,null,2,{"$f":"IF(PLAN!$G$145=\"1T\",PLAN!F148,IF(PLAN!$N$145=\"2T\",PLAN!M148,IF(PLAN!$U$145=\"3T\",PLAN!T148,\"\")))","v":{"$error":"#REF!"}},null,null,null,null,null,{"$f":"PLAN!$AX148","v":0},{"$f":"PLAN!$AY148","v":0},{"$f":"PLAN!$AZ148","v":0},{"$f":"PLAN!$BA148","v":0},{"$f":"PLAN!$BB148","v":0},{"$f":"PLAN!$BC148","v":0},{"$f":"PLAN!$BD148","v":0},{"$f":"PLAN!$BE148","v":0},{"$f":"PLAN!$BF148","v":0},{"$f":"PLAN!$BG148","v":0},{"$f":"PLAN!$BH148","v":0},{"$f":"PLAN!$BI148","v":0},{"$f":"PLAN!$BJ148","v":0},{"$f":"PLAN!$BK148","v":0},{"$f":"PLAN!$BL148","v":0},null,null,null,{"$f":"IF(PLAN!$C148=\"\",\"\",PLAN!$C148)","v":""},null,null,null,null,2,"a","E"]
[null,null,{"$f":"IF(D149=\"\",\"\",$AB$29)","v":""},null,{"$f":"IF(#REF!=\"\",\"\",#REF!)","v":{"$error":"#REF!"}},{"$f":"IF(CW149=\"\",#REF!,CW149)","v":{"$error":"#REF!"}},{"$f":"IF(CX149=\"\",#REF!,CX149)","v":{"$error":"#REF!"}},{"$f":"IF(CY149=\"\",#REF!,CY149)","v":{"$error":"#REF!"}},{"$f":"IF(CZ149=\"\",#REF!,CZ149)","v":{"$error":"#REF!"}},{"$f":"IF(DA149=\"\",#REF!,DA149)","v":{"$error":"#REF!"}},{"$f":"IF(DB149=\"\",#REF!,DB149)","v":{"$error":"#REF!"}},{"$f":"IF(#REF!=\"\",\"\",#REF!)","v":{"$error":"#REF!"}},{"$f":"IF(DC149=\"\",#REF!,DC149)","v":{"$error":"#REF!"}},{"$f":"IF(DD149=\"\",#REF!,DD149)","v":{"$error":"#REF!"}},{"$f":"IF(DE149=\"\",#REF!,DE149)","v":{"$error":"#REF!"}},{"$f":"IF(DF149=\"\",#REF!,DF149)","v":{"$error":"#REF!"}},{"$f":"IF(DG149=\"\",#REF!,DG149)","v":{"$error":"#REF!"}},{"$f":"IF(DH149=\"\",#REF!,DH149)","v":{"$error":"#REF!"}},{"$f":"IF(#REF!=\"\",\"\",#REF!)","v":{"$error":"#REF!"}},{"$f":"IF(DI149=\"\",#REF!,DI149)","v":{"$error":"#REF!"}},{"$f":"IF(DJ149=\"\",#REF!,DJ149)","v":{"$error":"#REF!"}},{"$f":"IF(DK149=\"\",#REF!,DK149)","v":{"$error":"#REF!"}},{"$f":"IF(DL149=\"\",#REF!,DL149)","v":{"$error":"#REF!"}},{"$f":"IF(DM149=\"\",#REF!,DM149)","v":{"$error":"#REF!"}},{"$f":"IF(DN149=\"\",#REF!,DN149)","v":{"$error":"#REF!"}},null,null,null,null,null,{"$error":"#REF!"},{"$error":"#REF!"},{"$error":"#REF!"},null,null,null,null,{"$f":"#REF!","v":{"$error":"#REF!"}},"3.",{"$f":"IF(AL149=\"x\",#REF!,\"\")","v":{"$error":"#REF!"}},null,null,null,null,{"$f":"#REF!","v":{"$error":"#REF!"}},{"$f":"#REF!","v":{"$error":"#REF!"}},{"$f":"#REF!","v":{"$error":"#REF!"}},{"$f":"#REF!","v":{"$error":"#REF!"}},{"$f":"#REF!","v":{"$error":"#REF!"}},null,null,null,null,null,null,null,null,null,null,null,null,null,null,null,null,null,3,{"$f":"IF(PLAN!$G$145=\"1T\",PLAN!F149,IF(PLAN!$N$145=\"2T\",PLAN!M149,IF(PLAN!$U$145=\"3T\",PLAN!T149,\"\")))","v":{"$error":"#REF!"}},null,null,null,null,null,{"$f":"PLAN!$AX149","v":0},{"$f":"PLAN!$AY149","v":0},{"$f":"PLAN!$AZ149","v":0},{"$f":"PLAN!$BA149","v":0},{"$f":"PLAN!$BB149","v":0},{"$f":"PLAN!$BC149","v":0},{"$f":"PLAN!$BD149","v":0},{"$f":"PLAN!$BE149","v":0},{"$f":"PLAN!$BF149","v":0},{"$f":"PLAN!$BG149","v":0},{"$f":"PLAN!$BH149","v":0},{"$f":"PLAN!$BI149","v":0},{"$f":"PLAN!$BJ149","v":0},{"$f":"PLAN!$BK149","v":0},{"$f":"PLAN!$BL149","v":0},null,null,null,{"$f":"IF(PLAN!$C149=\"\",\"\",PLAN!$C149)","v":""},null,null,null,null,3,"b","E"]
[null,null,{"$f":"IF(D150=\"\",\"\",$AB$30)","v":""},null,{"$f":"IF(#REF!=\"\",\"\",#REF!)","v":{"$error":"#REF!"}},{"$f":"IF(CW150=\"\",#REF!,CW150)","v":{"$error":"#REF!"}},{"$f":"IF(CX150=\"\",#REF!,CX150)","v":{"$error":"#REF!"}},{"$f":"IF(CY150=\"\",#REF!,CY150)","v":{"$error":"#REF!"}},{"$f":"IF(CZ150=\"\",#REF!,CZ150)","v":{"$error":"#REF!"}},{"$f":"IF(DA150=\"\",#REF!,DA150)","v":{"$error":"#REF!"}},{"$f":"IF(DB150=\"\",#REF!,DB150)","v":{"$error":"#REF!"}},{"$f":"IF(#REF!=\"\",\"\",#REF!)","v":{"$error":"#REF!"}},{"$f":"IF(DC150=\"\",#REF!,DC150)","v":{"$error":"#REF!"}},{"$f":"IF(DD150=\"\",#REF!,DD150)","v":{"$error":"#REF!"}},{"$f":"IF(DE150=\"\",#REF!,DE150)","v":{"$error":"#REF!"}},{"$f":"IF(DF150=\"\",#REF!,DF150)","v":{"$error":"#REF!"}},{"$f":"IF(DG150=\"\",#REF!,DG150)","v":{"$error":"#REF!"}},{"$f":"IF(DH150=\"\",#REF!,DH150)","v":{"$error":"#REF!"}},{"$f":"IF(#REF!=\"\",\"\",#REF!)","v":{"$error":"#REF!"}},{"$f":"IF(DI150=\"\",#REF!,DI150)","v":{"$error":"#REF!"}},{"$f":"IF(DJ150=\"\",#REF!,DJ150)","v":{"$error":"#REF!"}},{"$f":"IF(DK150=\"\",#REF!,DK150)","v":{"$error":"#REF!"}},{"$f":"IF(DL150=\"\",#REF!,DL150)","v":{"$error":"#REF!"}},{"$f":"IF(DM150=\"\",#REF!,DM150)","v":{"$error":"#REF!"}},{"$f":"IF(DN150=\"\",#REF!,DN150)","v":{"$error":"#REF!"}},null,null,null,null,null,{"$error":"#REF!"},{"$error":"#REF!"},{"$error":"#REF!"},null,null,null,null,{"$f":"#REF!","v":{"$error":"#REF!"}},"4.",{"$f":"IF(AL150=\"x\",#REF!,\"\")","v":{"$error":"#REF!"}},null,null,null,null,{"$f":"#REF!","v":{"$error":"#REF!"}},{"$f":"#REF!","v":{"$error":"#REF!"}},{"$f":"#REF!","v":{"$error":"#REF!"}},{"$f":"#REF!","v":{"$error":"#REF!"}},{"$f":"#REF!","v":{"$error":"#REF!"}},null,null,null,null,null,null,null,null,null,null,null,null,null,null,null,null,null,4,{"$f":"IF(PLAN!$G$145=\"1T\",PLAN!F150,IF(PLAN!$N$145=\"2T\",PLAN!M150,IF(PLAN!$U$145=\"3T\",PLAN!T150,\"\")))","v":{"$error":"#REF!"}},null,null,null,null,null,{"$f":"PLAN!$AX150","v":0},{"$f":"PLAN!$AY150","v":0},{"$f":"PLAN!$AZ150","v":0},{"$f":"PLAN!$BA150","v":0},{"$f":"PLAN!$BB150","v":0},{"$f":"PLAN!$BC150","v":0},{"$f":"PLAN!$BD150","v":0},{"$f":"PLAN!$BE150","v":0},{"$f":"PLAN!$BF150","v":0},{"$f":"PLAN!$BG150","v":0},{"$f":"PLAN!$BH150","v":0},{"$f":"PLAN!$BI150","v":0},{"$f":"PLAN!$BJ150","v":0},{"$f":"PLAN!$BK150","v":0},{"$f":"PLAN!$BL150","v":0},null,null,null,{"$f":"IF(PLAN!$C150=\"\",\"\",PLAN!$C150)","v":""},null,null,null,null,4,"c","E"]
[null,null,{"$f":"IF(D151=\"\",\"\",$AB$31)","v":""},null,{"$f":"IF(#REF!=\"\",\"\",#REF!)","v":{"$error":"#REF!"}},{"$f":"IF(CW151=\"\",#REF!,CW151)","v":{"$error":"#REF!"}},{"$f":"IF(CX151=\"\",#REF!,CX151)","v":{"$error":"#REF!"}},{"$f":"IF(CY151=\"\",#REF!,CY151)","v":{"$error":"#REF!"}},{"$f":"IF(CZ151=\"\",#REF!,CZ151)","v":{"$error":"#REF!"}},{"$f":"IF(DA151=\"\",#REF!,DA151)","v":{"$error":"#REF!"}},{"$f":"IF(DB151=\"\",#REF!,DB151)","v":{"$error":"#REF!"}},{"$f":"IF(#REF!=\"\",\"\",#REF!)","v":{"$error":"#REF!"}},{"$f":"IF(DC151=\"\",#REF!,DC151)","v":{"$error":"#REF!"}},{"$f":"IF(DD151=\"\",#REF!,DD151)","v":{"$error":"#REF!"}},{"$f":"IF(DE151=\"\",#REF!,DE151)","v":{"$error":"#REF!"}},{"$f":"IF(DF151=\"\",#REF!,DF151)","v":{"$error":"#REF!"}},{"$f":"IF(DG151=\"\",#REF!,DG151)","v":{"$error":"#REF!"}},{"$f":"IF(DH151=\"\",#REF!,DH151)","v":{"$error":"#REF!"}},{"$f":"IF(#REF!=\"\",\"\",#REF!)","v":{"$error":"#REF!"}},{"$f":"IF(DI151=\"\",#REF!,DI151)","v":{"$error":"#REF!"}},{"$f":"IF(DJ151=\"\",#REF!,DJ151)","v":{"$error":"#REF!"}},{"$f":"IF(DK151=\"\",#REF!,DK151)","v":{"$error":"#REF!"}},{"$f":"IF(DL151=\"\",#REF!,DL151)","v":{"$error":"#REF!"}},{"$f":"IF(DM151=\"\",#REF!,DM151)","v":{"$error":"#REF!"}},{"$f":"IF(DN151=\"\",#REF!,DN151)","v":{"$error":"#REF!"}},null,null,null,null,null,{"$error":"#REF!"},{"$error":"#REF!"},{"$error":"#REF!"},null,null,null,null,{"$f":"#REF!","v":{"$error":"#REF!"}},"5.",{"$f":"IF(AL151=\"x\",#REF!,\"\")","v":{"$error":"#REF!"}},null,null,null,null,{"$f":"#REF!","v":{"$error":"#REF!"}},{"$f":"#REF!","v":{"$error":"#REF!"}},{"$f":"#REF!","v":{"$error":"#REF!"}},{"$f":"#REF!","v":{"$error":"#REF!"}},{"$f":"#REF!","v":{"$error":"#REF!"}},null,null,null,null,null,null,null,null,null,null,null,null,null,null,null,null,null,5,{"$f":"IF(PLAN!$G$145=\"1T\",PLAN!F151,IF(PLAN!$N$145=\"2T\",PLAN!M151,IF(PLAN!$U$145=\"3T\",PLAN!T151,\"\")))","v":{"$error":"#REF!"}},null,null,null,null,null,{"$f":"PLAN!$AX151","v":0},{"$f":"PLAN!$AY151","v":0},{"$f":"PLAN!$AZ151","v":0},{"$f":"PLAN!$BA151","v":0},{"$f":"PLAN!$BB151","v":0},{"$f":"PLAN!$BC151","v":0},{"$f":"PLAN!$BD151","v":0},{"$f":"PLAN!$BE151","v":0},{"$f":"PLAN!$BF151","v":0},{"$f":"PLAN!$BG151","v":0},{"$f":"PLAN!$BH151","v":0},{"$f":"PLAN!$BI151","v":0},{"$f":"PLAN!$BJ151","v":0},{"$f":"PLAN!$BK151","v":0},{"$f":"PLAN!$BL151","v":0},null,null,null,{"$f":"IF(PLAN!$C151=\"\",\"\",PLAN!$C151)","v":""},null,null,null,null,5,"d","E"]
[null,"2T",{"$f":"IF(D152=\"\",\"\",$AB$27)","v":""},null,{"$f":"IF(#REF!=\"\",\"\",#REF!)","v":{"$error":"#REF!"}},{"$f":"IF(CW152=\"\",#REF!,CW152)","v":{"$error":"#REF!"}},{"$f":"IF(CX152=\"\",#REF!,CX152)","v":{"$error":"#REF!"}},{"$f":"IF(CY152=\"\",#REF!,CY152)","v":{"$error":"#REF!"}},{"$f":"IF(CZ152=\"\",#REF!,CZ152)","v":{"$error":"#REF!"}},{"$f":"IF(DA152=\"\",#REF!,DA152)","v":{"$error":"#REF!"}},{"$f":"IF(DB152=\"\",#REF!,DB152)","v":{"$error":"#REF!"}},{"$f":"IF(#REF!=\"\",\"\",#REF!)","v":{"$error":"#REF!"}},{"$f":"IF(DC152=\"\",#REF!,DC152)","v":{"$error":"#REF!"}},{"$f":"IF(DD152=\"\",#REF!,DD152)","v":{"$error":"#REF!"}},{"$f":"IF(DE152=\"\",#REF!,DE152)","v":{"$error":"#REF!"}},{"$f":"IF(DF152=\"\",#REF!,DF152)","v":{"$error":"#REF!"}},{"$f":"IF(DG152=\"\",#REF!,DG152)","v":{"$error":"#REF!"}},{"$f":"IF(DH152=\"\",#REF!,DH152)","v":{"$error":"#REF!"}},{"$f":"IF(#REF!=\"\",\"\",#REF!)","v":{"$error":"#REF!"}},{"$f":"IF(DI152=\"\",#REF!,DI152)","v":{"$error":"#REF!"}},{"$f":"IF(DJ152=\"\",#REF!,DJ152)","v":{"$error":"#REF!"}},{"$f":"IF(DK152=\"\",#REF!,DK152)","v":{"$error":"#REF!"}},{"$f":"IF(DL152=\"\",#REF!,DL152)","v":{"$error":"#REF!"}},{"$f":"IF(DM152=\"\",#REF!,DM152)","v":{"$error":"#REF!"}},{"$f":"IF(DN152=\"\",#REF!,DN152)","v":{"$error":"#REF!"}},null,null,null,null,null,{"$error":"#REF!"},{"$error":"#REF!"},{"$error":"#REF!"},null,null,null,null,null,null,{"$f":"IF(S144=\"1T\",\"PT\",\"\")","v":""},{"$f":"IF(Z144=\"2T\",\"ST\",\"\")","v":""},{"$f":"IF(DJ144=\"3T\",\"TT\",\"\")","v":""},null,null,null,null,null,null,null,null,null,null,null,null,null,null,null,null,null,null,null,null,null,null,null,null,6,{"$f":"IF(PLAN!$G$145=\"1T\",PLAN!F152,IF(PLAN!$N$145=\"2T\",PLAN!M152,IF(PLAN!$U$145=\"3T\",PLAN!T152,\"\")))","v":{"$error":"#REF!"}},null,null,null,null,null,null,null,null,null,null,null,null,null,null,null,null,null,null,null,null,null,null,null,{"$f":"IF(PLAN!$C152=\"\",\"\",PLAN!$C152)","v":""},null,null,null,null,6,"e","E"]
[null,null,{"$f":"IF(D153=\"\",\"\",$AB$28)","v":""},null,{"$f":"IF(#REF!=\"\",\"\",#REF!)","v":{"$error":"#REF!"}},{"$f":"IF(CW153=\"\",#REF!,CW153)","v":{"$error":"#REF!"}},{"$f":"IF(CX153=\"\",#REF!,CX153)","v":{"$error":"#REF!"}},{"$f":"IF(CY153=\"\",#REF!,CY153)","v":{"$error":"#REF!"}},{"$f":"IF(CZ153=\"\",#REF!,CZ153)","v":{"$error":"#REF!"}},{"$f":"IF(DA153=\"\",#REF!,DA153)","v":{"$error":"#REF!"}},{"$f":"IF(DB153=\"\",#REF!,DB153)","v":{"$error":"#REF!"}},{"$f":"IF(#REF!=\"\",\"\",#REF!)","v":{"$error":"#REF!"}},{"$f":"IF(DC153=\"\",#REF!,DC153)","v":{"$error":"#REF!"}},{"$f":"IF(DD153=\"\",#REF!,DD153)","v":{"$error":"#REF!"}},{"$f":"IF(DE153=\"\",#REF!,DE153)","v":{"$error":"#REF!"}},{"$f":"IF(DF153=\"\",#REF!,DF153)","v":{"$error":"#REF!"}},{"$f":"IF(DG153=\"\",#REF!,DG153)","v":{"$error":"#REF!"}},{"$f":"IF(DH153=\"\",#REF!,DH153)","v":{"$error":"#REF!"}},{"$f":"IF(#REF!=\"\",\"\",#REF!)","v":{"$error":"#REF!"}},{"$f":"IF(DI153=\"\",#REF!,DI153)","v":{"$error":"#REF!"}},{"$f":"IF(DJ153=\"\",#REF!,DJ153)","v":{"$error":"#REF!"}},{"$f":"IF(DK153=\"\",#REF!,DK153)","v":{"$error":"#REF!"}},{"$f":"IF(DL153=\"\",#REF!,DL153)","v":{"$error":"#REF!"}},{"$f":"IF(DM153=\"\",#REF!,DM153)","v":{"$error":"#REF!"}},{"$f":"IF(DN153=\"\",#REF!,DN153)","v":{"$error":"#REF!"}},null,null,null,null,null,{"$error":"#REF!"},{"$error":"#REF!"},{"$error":"#REF!"},null,null,null,null,null,null,null,null,null,null,null,null,null,null,null,null,null,null,null,null,null,null,null,null,null,null,null,null,null,null,null,null,null,7,{"$f":"IF(PLAN!$G$145=\"1T\",PLAN!F153,IF(PLAN!$N$145=\"2T\",PLAN!M153,IF(PLAN!$U$145=\"3T\",PLAN!T153,\"\")))","v":{"$error":"#REF!"}},null,null,null,null,null,null,null,null,null,null,null,null,null,null,null,null,null,null,null,null,null,null,null,{"$f":"IF(PLAN!$C153=\"\",\"\",PLAN!$C153)","v":""},null,null,null,null,7,"f"]
[null,null,{"$f":"IF(D154=\"\",\"\",$AB$29)","v":""},null,{"$f":"IF(#REF!=\"\",\"\",#REF!)","v":{"$error":"#REF!"}},{"$f":"IF(CW154=\"\",#REF!,CW154)","v":{"$error":"#REF!"}},{"$f":"IF(CX154=\"\",#REF!,CX154)","v":{"$error":"#REF!"}},{"$f":"IF(CY154=\"\",#REF!,CY154)","v":{"$error":"#REF!"}},{"$f":"IF(CZ154=\"\",#REF!,CZ154)","v":{"$error":"#REF!"}},{"$f":"IF(DA154=\"\",#REF!,DA154)","v":{"$error":"#REF!"}},{"$f":"IF(DB154=\"\",#REF!,DB154)","v":{"$error":"#REF!"}},{"$f":"IF(#REF!=\"\",\"\",#REF!)","v":{"$error":"#REF!"}},{"$f":"IF(DC154=\"\",#REF!,DC154)","v":{"$error":"#REF!"}},{"$f":"IF(DD154=\"\",#REF!,DD154)","v":{"$error":"#REF!"}},{"$f":"IF(DE154=\"\",#REF!,DE154)","v":{"$error":"#REF!"}},{"$f":"IF(DF154=\"\",#REF!,DF154)","v":{"$error":"#REF!"}},{"$f":"IF(DG154=\"\",#REF!,DG154)","v":{"$error":"#REF!"}},{"$f":"IF(DH154=\"\",#REF!,DH154)","v":{"$error":"#REF!"}},{"$f":"IF(#REF!=\"\",\"\",#REF!)","v":{"$error":"#REF!"}},{"$f":"IF(DI154=\"\",#REF!,DI154)","v":{"$error":"#REF!"}},{"$f":"IF(DJ154=\"\",#REF!,DJ154)","v":{"$error":"#REF!"}},{"$f":"IF(DK154=\"\",#REF!,DK154)","v":{"$error":"#REF!"}},{"$f":"IF(DL154=\"\",#REF!,DL154)","v":{"$error":"#REF!"}},{"$f":"IF(DM154=\"\",#REF!,DM154)","v":{"$error":"#REF!"}},{"$f":"IF(DN154=\"\",#REF!,DN154)","v":{"$error":"#REF!"}},null,null,null,null,null,{"$error":"#REF!"},{"$error":"#REF!"},{"$error":"#REF!"},null,null,null,null,null,null,null,null,null,null,null,null,null,null,null,null,null,null,null,null,null,null,null,null,null,null,null,null,null,null,null,null,null,8,{"$f":"IF(PLAN!$G$145=\"1T\",PLAN!F154,IF(PLAN!$N$145=\"2T\",PLAN!M154,IF(PLAN!$U$145=\"3T\",PLAN!T154,\"\")))","v":{"$error":"#REF!"}},null,null,null,null,null,null,null,null,null,null,null,null,null,null,null,null,null,null,null,null,null,null,null,{"$f":"IF(PLAN!$C154=\"\",\"\",PLAN!$C154)","v":""},null,null,null,null,8,"g"]
[null,null,{"$f":"IF(D155=\"\",\"\",$AB$30)","v":""},null,{"$f":"IF(#REF!=\"\",\"\",#REF!)","v":{"$error":"#REF!"}},{"$f":"IF(CW155=\"\",#REF!,CW155)","v":{"$error":"#REF!"}},{"$f":"IF(CX155=\"\",#REF!,CX155)","v":{"$error":"#REF!"}},{"$f":"IF(CY155=\"\",#REF!,CY155)","v":{"$error":"#REF!"}},{"$f":"IF(CZ155=\"\",#REF!,CZ155)","v":{"$error":"#REF!"}},{"$f":"IF(DA155=\"\",#REF!,DA155)","v":{"$error":"#REF!"}},{"$f":"IF(DB155=\"\",#REF!,DB155)","v":{"$error":"#REF!"}},{"$f":"IF(#REF!=\"\",\"\",#REF!)","v":{"$error":"#REF!"}},{"$f":"IF(DC155=\"\",#REF!,DC155)","v":{"$error":"#REF!"}},{"$f":"IF(DD155=\"\",#REF!,DD155)","v":{"$error":"#REF!"}},{"$f":"IF(DE155=\"\",#REF!,DE155)","v":{"$error":"#REF!"}},{"$f":"IF(DF155=\"\",#REF!,DF155)","v":{"$error":"#REF!"}},{"$f":"IF(DG155=\"\",#REF!,DG155)","v":{"$error":"#REF!"}},{"$f":"IF(DH155=\"\",#REF!,DH155)","v":{"$error":"#REF!"}},{"$f":"IF(#REF!=\"\",\"\",#REF!)","v":{"$error":"#REF!"}},{"$f":"IF(DI155=\"\",#REF!,DI155)","v":{"$error":"#REF!"}},{"$f":"IF(DJ155=\"\",#REF!,DJ155)","v":{"$error":"#REF!"}},{"$f":"IF(DK155=\"\",#REF!,DK155)","v":{"$error":"#REF!"}},{"$f":"IF(DL155=\"\",#REF!,DL155)","v":{"$error":"#REF!"}},{"$f":"IF(DM155=\"\",#REF!,DM155)","v":{"$error":"#REF!"}},{"$f":"IF(DN155=\"\",#REF!,DN155)","v":{"$error":"#REF!"}},null,null,null,null,null,{"$error":"#REF!"},{"$error":"#REF!"},{"$error":"#REF!"},null,null,null,null,null,null,null,null,null,null,null,null,null,null,null,null,null,null,null,null,null,null,null,null,null,null,null,null,null,null,null,null,null,9,{"$f":"IF(PLAN!$G$145=\"1T\",PLAN!F155,IF(PLAN!$N$145=\"2T\",PLAN!M155,IF(PLAN!$U$145=\"3T\",PLAN!T155,\"\")))","v":{"$error":"#REF!"}},null,null,null,null,null,null,null,null,null,null,null,null,null,null,null,null,null,null,null,null,null,null,null,{"$f":"IF(PLAN!$C155=\"\",\"\",PLAN!$C155)","v":""},null,null,null,null,9,"h"]
[null,null,{"$f":"IF(D156=\"\",\"\",$AB$31)","v":""},null,{"$f":"IF(#REF!=\"\",\"\",#REF!)","v":{"$error":"#REF!"}},{"$f":"IF(CW156=\"\",#REF!,CW156)","v":{"$error":"#REF!"}},{"$f":"IF(CX156=\"\",#REF!,CX156)","v":{"$error":"#REF!"}},{"$f":"IF(CY156=\"\",#REF!,CY156)","v":{"$error":"#REF!"}},{"$f":"IF(CZ156=\"\",#REF!,CZ156)","v":{"$error":"#REF!"}},{"$f":"IF(DA156=\"\",#REF!,DA156)","v":{"$error":"#REF!"}},{"$f":"IF(DB156=\"\",#REF!,DB156)","v":{"$error":"#REF!"}},{"$f":"IF(#REF!=\"\",\"\",#REF!)","v":{"$error":"#REF!"}},{"$f":"IF(DC156=\"\",#REF!,DC156)","v":{"$error":"#REF!"}},{"$f":"IF(DD156=\"\",#REF!,DD156)","v":{"$error":"#REF!"}},{"$f":"IF(DE156=\"\",#REF!,DE156)","v":{"$error":"#REF!"}},{"$f":"IF(DF156=\"\",#REF!,DF156)","v":{"$error":"#REF!"}},{"$f":"IF(DG156=\"\",#REF!,DG156)","v":{"$error":"#REF!"}},{"$f":"IF(DH156=\"\",#REF!,DH156)","v":{"$error":"#REF!"}},{"$f":"IF(#REF!=\"\",\"\",#REF!)","v":{"$error":"#REF!"}},{"$f":"IF(DI156=\"\",#REF!,DI156)","v":{"$error":"#REF!"}},{"$f":"IF(DJ156=\"\",#REF!,DJ156)","v":{"$error":"#REF!"}},{"$f":"IF(DK156=\"\",#REF!,DK156)","v":{"$error":"#REF!"}},{"$f":"IF(DL156=\"\",#REF!,DL156)","v":{"$error":"#REF!"}},{"$f":"IF(DM156=\"\",#REF!,DM156)","v":{"$error":"#REF!"}},{"$f":"IF(DN156=\"\",#REF!,DN156)","v":{"$error":"#REF!"}},null,null,null,null,null,{"$error":"#REF!"},{"$error":"#REF!"},{"$error":"#REF!"},null,null,null,null,null,null,null,null,null,null,null,null,null,null,null,null,null,null,null,null,null,null,null,null,null,null,null,null,null,null,null,null,null,10,{"$f":"IF(PLAN!$G$145=\"1T\",PLAN!F156,IF(PLAN!$N$145=\"2T\",PLAN!M156,IF(PLAN!$U$145=\"3T\",PLAN!T156,\"\")))","v":{"$error":"#REF!"}},null,null,null,null,null,null,null,null,null,null,null,null,null,null,null,null,null,null,null,null,null,null,null,{"$f":"IF(PLAN!$C156=\"\",\"\",PLAN!$C156)","v":""},null,null,null,null,10,"i"]
[null,"3T",{"$f":"IF(D157=\"\",\"\",$AB$27)","v":""},null,{"$f":"IF(#REF!=\"\",\"\",#REF!)","v":{"$error":"#REF!"}},{"$f":"IF(CW157=\"\",#REF!,CW157)","v":{"$error":"#REF!"}},{"$f":"IF(CX157=\"\",#REF!,CX157)","v":{"$error":"#REF!"}},{"$f":"IF(CY157=\"\",#REF!,CY157)","v":{"$error":"#REF!"}},{"$f":"IF(CZ157=\"\",#REF!,CZ157)","v":{"$error":"#REF!"}},{"$f":"IF(DA157=\"\",#REF!,DA157)","v":{"$error":"#REF!"}},{"$f":"IF(DB157=\"\",#REF!,DB157)","v":{"$error":"#REF!"}},{"$f":"IF(#REF!=\"\",\"\",#REF!)","v":{"$error":"#REF!"}},{"$f":"IF(DC157=\"\",#REF!,DC157)","v":{"$error":"#REF!"}},{"$f":"IF(DD157=\"\",#REF!,DD157)","v":{"$error":"#REF!"}},{"$f":"IF(DE157=\"\",#REF!,DE157)","v":{"$error":"#REF!"}},{"$f":"IF(DF157=\"\",#REF!,DF157)","v":{"$error":"#REF!"}},{"$f":"IF(DG157=\"\",#REF!,DG157)","v":{"$error":"#REF!"}},{"$f":"IF(DH157=\"\",#REF!,DH157)","v":{"$error":"#REF!"}},{"$f":"IF(#REF!=\"\",\"\",#REF!)","v":{"$error":"#REF!"}},{"$f":"IF(DI157=\"\",#REF!,DI157)","v":{"$error":"#REF!"}},{"$f":"IF(DJ157=\"\",#REF!,DJ157)","v":{"$error":"#REF!"}},{"$f":"IF(DK157=\"\",#REF!,DK157)","v":{"$error":"#REF!"}},{"$f":"IF(DL157=\"\",#REF!,DL157)","v":{"$error":"#REF!"}},{"$f":"IF(DM157=\"\",#REF!,DM157)","v":{"$error":"#REF!"}},{"$f":"IF(DN157=\"\",#REF!,DN157)","v":{"$error":"#REF!"}},null,null,null,null,null,{"$error":"#REF!"},{"$error":"#REF!"},{"$error":"#REF!"},null,null,null,null,null,null,null,null,null,null,null,null,null,null,null,null,null,null,null,null,null,null,null,null,null,null,null,null,null,null,null,null,null,11,{"$f":"IF(PLAN!$G$145=\"1T\",PLAN!F157,IF(PLAN!$N$145=\"2T\",PLAN!M157,IF(PLAN!$U$145=\"3T\",PLAN!T157,\"\")))","v":{"$error":"#REF!"}},null,null,null,null,null,null,null,null,null,null,null,null,null,null,null,null,null,null,null,null,null,null,null,{"$f":"IF(PLAN!$C157=\"\",\"\",PLAN!$C157)","v":""},null,null,null,null,11,"j"]
[null,null,{"$f":"IF(D158=\"\",\"\",$AB$28)","v":""},null,{"$f":"IF(#REF!=\"\",\"\",#REF!)","v":{"$error":"#REF!"}},{"$f":"IF(CW158=\"\",#REF!,CW158)","v":{"$error":"#REF!"}},{"$f":"IF(CX158=\"\",#REF!,CX158)","v":{"$error":"#REF!"}},{"$f":"IF(CY158=\"\",#REF!,CY158)","v":{"$error":"#REF!"}},{"$f":"IF(CZ158=\"\",#REF!,CZ158)","v":{"$error":"#REF!"}},{"$f":"IF(DA158=\"\",#REF!,DA158)","v":{"$error":"#REF!"}},{"$f":"IF(DB158=\"\",#REF!,DB158)","v":{"$error":"#REF!"}},{"$f":"IF(#REF!=\"\",\"\",#REF!)","v":{"$error":"#REF!"}},{"$f":"IF(DC158=\"\",#REF!,DC158)","v":{"$error":"#REF!"}},{"$f":"IF(DD158=\"\",#REF!,DD158)","v":{"$error":"#REF!"}},{"$f":"IF(DE158=\"\",#REF!,DE158)","v":{"$error":"#REF!"}},{"$f":"IF(DF158=\"\",#REF!,DF158)","v":{"$error":"#REF!"}},{"$f":"IF(DG158=\"\",#REF!,DG158)","v":{"$error":"#REF!"}},{"$f":"IF(DH158=\"\",#REF!,DH158)","v":{"$error":"#REF!"}},{"$f":"IF(#REF!=\"\",\"\",#REF!)","v":{"$error":"#REF!"}},{"$f":"IF(DI158=\"\",#REF!,DI158)","v":{"$error":"#REF!"}},{"$f":"IF(DJ158=\"\",#REF!,DJ158)","v":{"$error":"#REF!"}},{"$f":"IF(DK158=\"\",#REF!,DK158)","v":{"$error":"#REF!"}},{"$f":"IF(DL158=\"\",#REF!,DL158)","v":{"$error":"#REF!"}},{"$f":"IF(DM158=\"\",#REF!,DM158)","v":{"$error":"#REF!"}},{"$f":"IF(DN158=\"\",#REF!,DN158)","v":{"$error":"#REF!"}},null,null,null,null,null,{"$error":"#REF!"},{"$error":"#REF!"},{"$error":"#REF!"},null,null,null,null,null,null,null,null,null,null,null,null,null,null,null,null,null,null,null,null,null,null,null,null,null,null,null,null,null,null,null,null,null,12,{"$f":"IF(PLAN!$G$145=\"1T\",PLAN!F158,IF(PLAN!$N$145=\"2T\",PLAN!M158,IF(PLAN!$U$145=\"3T\",PLAN!T158,\"\")))","v":{"$error":"#REF!"}},null,null,null,null,null,null,null,null,null,null,null,null,null,null,null,null,null,null,null,null,null,null,null,{"$f":"IF(PLAN!$C158=\"\",\"\",PLAN!$C158)","v":""},null,null,null,null,12,"k"]
[null,null,{"$f":"IF(D159=\"\",\"\",$AB$29)","v":""},null,{"$f":"IF(#REF!=\"\",\"\",#REF!)","v":{"$error":"#REF!"}},{"$f":"IF(CW159=\"\",#REF!,CW159)","v":{"$error":"#REF!"}},{"$f":"IF(CX159=\"\",#REF!,CX159)","v":{"$error":"#REF!"}},{"$f":"IF(CY159=\"\",#REF!,CY159)","v":{"$error":"#REF!"}},{"$f":"IF(CZ159=\"\",#REF!,CZ159)","v":{"$error":"#REF!"}},{"$f":"IF(DA159=\"\",#REF!,DA159)","v":{"$error":"#REF!"}},{"$f":"IF(DB159=\"\",#REF!,DB159)","v":{"$error":"#REF!"}},{"$f":"IF(#REF!=\"\",\"\",#REF!)","v":{"$error":"#REF!"}},{"$f":"IF(DC159=\"\",#REF!,DC159)","v":{"$error":"#REF!"}},{"$f":"IF(DD159=\"\",#REF!,DD159)","v":{"$error":"#REF!"}},{"$f":"IF(DE159=\"\",#REF!,DE159)","v":{"$error":"#REF!"}},{"$f":"IF(DF159=\"\",#REF!,DF159)","v":{"$error":"#REF!"}},{"$f":"IF(DG159=\"\",#REF!,DG159)","v":{"$error":"#REF!"}},{"$f":"IF(DH159=\"\",#REF!,DH159)","v":{"$error":"#REF!"}},{"$f":"IF(#REF!=\"\",\"\",#REF!)","v":{"$error":"#REF!"}},{"$f":"IF(DI159=\"\",#REF!,DI159)","v":{"$error":"#REF!"}},{"$f":"IF(DJ159=\"\",#REF!,DJ159)","v":{"$error":"#REF!"}},{"$f":"IF(DK159=\"\",#REF!,DK159)","v":{"$error":"#REF!"}},{"$f":"IF(DL159=\"\",#REF!,DL159)","v":{"$error":"#REF!"}},{"$f":"IF(DM159=\"\",#REF!,DM159)","v":{"$error":"#REF!"}},{"$f":"IF(DN159=\"\",#REF!,DN159)","v":{"$error":"#REF!"}},null,null,null,null,null,{"$error":"#REF!"},{"$error":"#REF!"},{"$error":"#REF!"},null,null,null,null,null,null,null,null,null,null,null,null,null,null,null,null,null,null,null,null,null,null,null,null,null,null,null,null,null,null,null,null,null,13,{"$f":"IF(PLAN!$G$145=\"1T\",PLAN!F159,IF(PLAN!$N$145=\"2T\",PLAN!M159,IF(PLAN!$U$145=\"3T\",PLAN!T159,\"\")))","v":{"$error":"#REF!"}},null,null,null,null,null,null,null,null,null,null,null,null,null,null,null,null,null,null,null,null,null,null,null,{"$f":"IF(PLAN!$C159=\"\",\"\",PLAN!$C159)","v":""},null,null,null,null,13,"l"]
[null,null,{"$f":"IF(D160=\"\",\"\",$AB$30)","v":""},null,{"$f":"IF(#REF!=\"\",\"\",#REF!)","v":{"$error":"#REF!"}},{"$f":"IF(CW160=\"\",#REF!,CW160)","v":{"$error":"#REF!"}},{"$f":"IF(CX160=\"\",#REF!,CX160)","v":{"$error":"#REF!"}},{"$f":"IF(CY160=\"\",#REF!,CY160)","v":{"$error":"#REF!"}},{"$f":"IF(CZ160=\"\",#REF!,CZ160)","v":{"$error":"#REF!"}},{"$f":"IF(DA160=\"\",#REF!,DA160)","v":{"$error":"#REF!"}},{"$f":"IF(DB160=\"\",#REF!,DB160)","v":{"$error":"#REF!"}},{"$f":"IF(#REF!=\"\",\"\",#REF!)","v":{"$error":"#REF!"}},{"$f":"IF(DC160=\"\",#REF!,DC160)","v":{"$error":"#REF!"}},{"$f":"IF(DD160=\"\",#REF!,DD160)","v":{"$error":"#REF!"}},{"$f":"IF(DE160=\"\",#REF!,DE160)","v":{"$error":"#REF!"}},{"$f":"IF(DF160=\"\",#REF!,DF160)","v":{"$error":"#REF!"}},{"$f":"IF(DG160=\"\",#REF!,DG160)","v":{"$error":"#REF!"}},{"$f":"IF(DH160=\"\",#REF!,DH160)","v":{"$error":"#REF!"}},{"$f":"IF(#REF!=\"\",\"\",#REF!)","v":{"$error":"#REF!"}},{"$f":"IF(DI160=\"\",#REF!,DI160)","v":{"$error":"#REF!"}},{"$f":"IF(DJ160=\"\",#REF!,DJ160)","v":{"$error":"#REF!"}},{"$f":"IF(DK160=\"\",#REF!,DK160)","v":{"$error":"#REF!"}},{"$f":"IF(DL160=\"\",#REF!,DL160)","v":{"$error":"#REF!"}},{"$f":"IF(DM160=\"\",#REF!,DM160)","v":{"$error":"#REF!"}},{"$f":"IF(DN160=\"\",#REF!,DN160)","v":{"$error":"#REF!"}},null,null,null,null,null,{"$error":"#REF!"},{"$error":"#REF!"},{"$error":"#REF!"},null,null,null,null,null,null,null,null,null,null,null,null,null,null,null,null,null,null,null,null,null,null,null,null,null,null,null,null,null,null,null,null,null,14,{"$f":"IF(PLAN!$G$145=\"1T\",PLAN!F160,IF(PLAN!$N$145=\"2T\",PLAN!M160,IF(PLAN!$U$145=\"3T\",PLAN!T160,\"\")))","v":{"$error":"#REF!"}},null,null,null,null,null,null,null,null,null,null,null,null,null,null,null,null,null,null,null,null,null,null,null,{"$f":"IF(PLAN!$C160=\"\",\"\",PLAN!$C160)","v":""},null,null,null,null,14,"m"]
[null,null,{"$f":"IF(D161=\"\",\"\",$AB$31)","v":""},"",{"$f":"IF(#REF!=\"\",\"\",#REF!)","v":{"$error":"#REF!"}},{"$f":"IF(CW161=\"\",#REF!,CW161)","v":{"$error":"#REF!"}},{"$f":"IF(CX161=\"\",#REF!,CX161)","v":{"$error":"#REF!"}},{"$f":"IF(CY161=\"\",#REF!,CY161)","v":{"$error":"#REF!"}},{"$f":"IF(CZ161=\"\",#REF!,CZ161)","v":{"$error":"#REF!"}},{"$f":"IF(DA161=\"\",#REF!,DA161)","v":{"$error":"#REF!"}},{"$f":"IF(DB161=\"\",#REF!,DB161)","v":{"$error":"#REF!"}},{"$f":"IF(#REF!=\"\",\"\",#REF!)","v":{"$error":"#REF!"}},{"$f":"IF(DC161=\"\",#REF!,DC161)","v":{"$error":"#REF!"}},{"$f":"IF(DD161=\"\",#REF!,DD161)","v":{"$error":"#REF!"}},{"$f":"IF(DE161=\"\",#REF!,DE161)","v":{"$error":"#REF!"}},{"$f":"IF(DF161=\"\",#REF!,DF161)","v":{"$error":"#REF!"}},{"$f":"IF(DG161=\"\",#REF!,DG161)","v":{"$error":"#REF!"}},{"$f":"IF(DH161=\"\",#REF!,DH161)","v":{"$error":"#REF!"}},{"$f":"IF(#REF!=\"\",\"\",#REF!)","v":{"$error":"#REF!"}},{"$f":"IF(DI161=\"\",#REF!,DI161)","v":{"$error":"#REF!"}},{"$f":"IF(DJ161=\"\",#REF!,DJ161)","v":{"$error":"#REF!"}},{"$f":"IF(DK161=\"\",#REF!,DK161)","v":{"$error":"#REF!"}},{"$f":"IF(DL161=\"\",#REF!,DL161)","v":{"$error":"#REF!"}},{"$f":"IF(DM161=\"\",#REF!,DM161)","v":{"$error":"#REF!"}},{"$f":"IF(DN161=\"\",#REF!,DN161)","v":{"$error":"#REF!"}},null,null,null,null,null,{"$error":"#REF!"},{"$error":"#REF!"},{"$error":"#REF!"},null,null,null,null,null,null,null,null,null,null,null,null,null,null,null,null,null,null,null,null,null,null,null,null,null,null,null,null,null,null,null,null,null,15,{"$f":"IF(PLAN!$G$145=\"1T\",PLAN!F161,IF(PLAN!$N$145=\"2T\",PLAN!M161,IF(PLAN!$U$145=\"3T\",PLAN!T161,\"\")))","v":{"$error":"#REF!"}},null,null,null,null,null,null,null,null,null,null,null,null,null,null,null,null,null,null,null,null,null,null,null,{"$f":"IF(PLAN!$C161=\"\",\"\",PLAN!$C161)","v":""},null,null,null,null,15,"x"]
[]
[]
[]
[]
[]
[null,null,null,null,{"$f":"15-COUNTIF(E147:E161,\"\")","v":15},null,null,null,null,null,null,{"$f":"15-COUNTIF(L147:L161,\"\")","v":15},null,null,null,null,null,null,{"$f":"15-COUNTIF(S147:S161,\"\")","v":15}]
[]
[]
[null,null,null,{"$f":"#REF!&#REF!","v":{"$error":"#REF!"}}]
[null,null,null,null,null,null,null,null,null,null,null,null,null,null,null,null,null,null,null,null,null,null,null,null,null,null,null,null,null,null,null,null,null,null,null,null,null,null,null,null,null,null,null,null,"INDICADORES SELECCIONADOS",null,null,null,null,null,{"$f":"#REF!","v":{"$error":"#REF!"}},null,null,null,null,{"$f":"#REF!","v":{"$error":"#REF!"}},null,null,null,null,{"$f":"#REF!","v":{"$error":"#REF!"}}]
[null,null,null,null,{"$f":"IF(INICIO!$H$2=\"1T\",INICIO!$NH$14,\"\")","v":"PRIMER TRIMESTRE"},null,{"$f":"IF(E172=\"PRIMER TRIMESTRE\",B174,\"\")","v":"1T"},null,null,null,null,{"$f":"IF(INICIO!$H$2=\"2T\",INICIO!$NH$15,\"\")","v":""},null,{"$f":"IF(L172=\"SEGUNDO TRIMESTRE\",B179,\"\")","v":""},null,null,null,null,{"$f":"IF(INICIO!$H$2=\"3T\",INICIO!$NH$16,\"\")","v":""},null,{"$f":"IF(S172=\"TERCER TRIMESTRE\",B184,\"\")","v":""},null,null,null,null,null,null,null,null,null,{"$f":"G172","v":"1T"},{"$f":"N172","v":""},{"$f":"U172","v":""},null,null,null,null,null,null,null,null,null,null,null,"L1","L2","L3","L4","L5","L1","L2","L3","L4","L5","L1","L2","L3","L4","L5","L1","L2","L3","L4","L5",null,null,null,null,null,null,null,null,null,null,null,null,null,null,null,null,null,null,null,null,null,null,null,null,null,null,null,null,null,null,null,null,null,"Copia de datos empleados durante el año, en las actividades"]
[null,"LOGROS",null,null,"ACTIVIDADES 1T","INDICADORES 1T",null,null,null,null,null,"ACTIVIDADES 2T","INDICADORES 2T",null,null,null,null,null,"ACTIVIDADES 3T","INDICADORES 3T",null,null,null,null,null,null,"FECHAS 1T","FECHAS 2T","FECHAS 3T",null,"LOGOS X ACTIVIDAD",null,null,null,null,null,null,"x",null,"LOGROS SELECCIONADOS",null,null,null,null,{"$f":"#REF!","v":{"$error":"#REF!"}},{"$f":"#REF!","v":{"$error":"#REF!"}},{"$f":"#REF!","v":{"$error":"#REF!"}},{"$f":"#REF!","v":{"$error":"#REF!"}},{"$f":"#REF!","v":{"$error":"#REF!"}},null,null,null,null,null,null,null,null,null,null,null,null,null,null,null,null,null,null,null,null,null,null,null,null,{"$f":"PLAN!$AX173","v":0},{"$f":"PLAN!$AY173","v":0},{"$f":"PLAN!$AZ173","v":0},{"$f":"PLAN!$BA173","v":0},{"$f":"PLAN!$BB173","v":0},{"$f":"PLAN!$BC173","v":0},{"$f":"PLAN!$BD173","v":0},{"$f":"PLAN!$BE173","v":0},{"$f":"PLAN!$BF173","v":0},{"$f":"PLAN!$BG173","v":0},{"$f":"PLAN!$BH173","v":0},{"$f":"PLAN!$BI173","v":0},{"$f":"PLAN!$BJ173","v":0},{"$f":"PLAN!$BK173","v":0},{"$f":"PLAN!$BL173","v":0},null,null,null,null,null,null,null,null,"# de","1T","2T","3T","Indicadores 1t",null,null,null,null,null,"Indicadores 2t",null,null,null,null,null,"Indicadores 3t"]
[null,"1T",{"$f":"IF(D174=\"\",\"\",$AB$27)","v":""},null,{"$f":"IF(#REF!=\"\",\"\",#REF!)","v":{"$error":"#REF!"}},{"$f":"IF(CW174=\"\",#REF!,CW174)","v":{"$error":"#REF!"}},{"$f":"IF(CX174=\"\",#REF!,CX174)","v":{"$error":"#REF!"}},{"$f":"IF(CY174=\"\",#REF!,CY174)","v":{"$error":"#REF!"}},{"$f":"IF(CZ174=\"\",#REF!,CZ174)","v":{"$error":"#REF!"}},{"$f":"IF(DA174=\"\",#REF!,DA174)","v":{"$error":"#REF!"}},{"$f":"IF(DB174=\"\",#REF!,DB174)","v":{"$error":"#REF!"}},{"$f":"IF(#REF!=\"\",\"\",#REF!)","v":{"$error":"#REF!"}},{"$f":"IF(DC174=\"\",#REF!,DC174)","v":{"$error":"#REF!"}},{"$f":"IF(DD174=\"\",#REF!,DD174)","v":{"$error":"#REF!"}},{"$f":"IF(DE174=\"\",#REF!,DE174)","v":{"$error":"#REF!"}},{"$f":"IF(DF174=\"\",#REF!,DF174)","v":{"$error":"#REF!"}},{"$f":"IF(DG174=\"\",#REF!,DG174)","v":{"$error":"#REF!"}},{"$f":"IF(DH174=\"\",#REF!,DH174)","v":{"$error":"#REF!"}},{"$f":"IF(#REF!=\"\",\"\",#REF!)","v":{"$error":"#REF!"}},{"$f":"IF(DI174=\"\",#REF!,DI174)","v":{"$error":"#REF!"}},{"$f":"IF(DJ174=\"\",#REF!,DJ174)","v":{"$error":"#REF!"}},{"$f":"IF(DK174=\"\",#REF!,DK174)","v":{"$error":"#REF!"}},{"$f":"IF(DL174=\"\",#REF!,DL174)","v":{"$error":"#REF!"}},{"$f":"IF(DM174=\"\",#REF!,DM174)","v":{"$error":"#REF!"}},{"$f":"IF(DN174=\"\",#REF!,DN174)","v":{"$error":"#REF!"}},null,null,null,null,null,{"$f":"IF(F174=0,\"\",IF(OR(F174=\"1.1\",F174=\"1.2\",F174=\"1.3\",F174=\"1.4\",F174=\"1.5\",F174=\"1.6\"), $AC$2,IF(OR(F174=\"2.1\",F174=\"2.2\",F174=\"2.3\",F174=\"2.4\",F174=\"2.5\",F174=\"2.6\"),$AD$2,IF(OR(F174=\"3.1\",F174=\"3.2\",F174=\"3.3\",F174=\"3.4\",F174=\"3.5\",F174=\"3.6\"),$AE$2,IF(OR(F174=\"4.1\",F174=\"4.2\",F174=\"4.3\",F174=\"4.4\",F174=\"4.5\",F174=\"4.6\"),$AF$2,IF(OR(F174=\"5.1\",F174=\"5.2\",F174=\"5.3\",F174=\"5.4\",F174=\"5.5\",F174=\"5.6\"),$AG$2))))))","v":{"$error":"#REF!"}},{"$f":"IF(M174=0,\"\",IF(OR(M174=\"1.1\",M174=\"1.2\",M174=\"1.3\",M174=\"1.4\",M174=\"1.5\",M174=\"1.6\"), $AC$2,IF(OR(M174=\"2.1\",M174=\"2.2\",M174=\"2.3\",M174=\"2.4\",M174=\"2.5\",M174=\"2.6\"),$AD$2,IF(OR(M174=\"3.1\",M174=\"3.2\",M174=\"3.3\",M174=\"3.4\",M174=\"3.5\",M174=\"3.6\"),$AE$2,IF(OR(M174=\"4.1\",M174=\"4.2\",M174=\"4.3\",M174=\"4.4\",M174=\"4.5\",M174=\"4.6\"),$AF$2,IF(OR(M174=\"5.1\",M174=\"5.2\",M174=\"5.3\",M174=\"5.4\",M174=\"5.5\",M174=\"5.6\"),$AG$2))))))","v":{"$error":"#REF!"}},{"$f":"IF(T174=0,\"\",IF(OR(T174=\"1.1\",T174=\"1.2\",T174=\"1.3\",T174=\"1.4\",T174=\"1.5\",T174=\"1.6\"), $AC$2,IF(OR(T174=\"2.1\",T174=\"2.2\",T174=\"2.3\",T174=\"2.4\",T174=\"2.5\",T174=\"2.6\"),$AD$2,IF(OR(T174=\"3.1\",T174=\"3.2\",T174=\"3.3\",T174=\"3.4\",T174=\"3.5\",T174=\"3.6\"),$AE$2,IF(OR(T174=\"4.1\",T174=\"4.2\",T174=\"4.3\",T174=\"4.4\",T174=\"4.5\",T174=\"4.6\"),$AF$2,IF(OR(T174=\"5.1\",T174=\"5.2\",T174=\"5.3\",T174=\"5.4\",T174=\"5.5\",T174=\"5.6\"),$AG$2))))))","v":{"$error":"#REF!"}},null,null,null,null,{"$f":"#REF!","v":{"$error":"#REF!"}},"1.",{"$f":"IF(AL174=\"x\",#REF!,\"\")","v":{"$error":"#REF!"}},null,null,null,null,{"$f":"#REF!","v":{"$error":"#REF!"}},{"$f":"#REF!","v":{"$error":"#REF!"}},{"$f":"#REF!","v":{"$error":"#REF!"}},{"$f":"#REF!","v":{"$error":"#REF!"}},{"$f":"#REF!","v":{"$error":"#REF!"}},null,null,null,null,null,null,null,null,null,null,null,null,null,null,null,null,null,1,{"$f":"IF(PLAN!$G$172=\"1T\",PLAN!F174,IF(PLAN!$N$172=\"2T\",PLAN!M174,IF(PLAN!$U$172=\"3T\",PLAN!T174,\"\")))","v":{"$error":"#REF!"}},null,null,null,null,null,{"$f":"PLAN!$AX174","v":0},{"$f":"PLAN!$AY174","v":0},{"$f":"PLAN!$AZ174","v":0},{"$f":"PLAN!$BA174","v":0},{"$f":"PLAN!$BB174","v":0},{"$f":"PLAN!$BC174","v":0},{"$f":"PLAN!$BD174","v":0},{"$f":"PLAN!$BE174","v":0},{"$f":"PLAN!$BF174","v":0},{"$f":"PLAN!$BG174","v":0},{"$f":"PLAN!$BH174","v":0},{"$f":"PLAN!$BI174","v":0},{"$f":"PLAN!$BJ174","v":0},{"$f":"PLAN!$BK174","v":0},{"$f":"PLAN!$BL174","v":0},null,null,null,{"$f":"IF(PLAN!$C174=\"\",\"\",PLAN!$C174)","v":""},null,null,null,null,1,"x","EM"]
[null,null,{"$f":"IF(D175=\"\",\"\",$AB$28)","v":""},null,{"$f":"IF(#REF!=\"\",\"\",#REF!)","v":{"$error":"#REF!"}},{"$f":"IF(CW175=\"\",#REF!,CW175)","v":{"$error":"#REF!"}},{"$f":"IF(CX175=\"\",#REF!,CX175)","v":{"$error":"#REF!"}},{"$f":"IF(CY175=\"\",#REF!,CY175)","v":{"$error":"#REF!"}},{"$f":"IF(CZ175=\"\",#REF!,CZ175)","v":{"$error":"#REF!"}},{"$f":"IF(DA175=\"\",#REF!,DA175)","v":{"$error":"#REF!"}},{"$f":"IF(DB175=\"\",#REF!,DB175)","v":{"$error":"#REF!"}},{"$f":"IF(#REF!=\"\",\"\",#REF!)","v":{"$error":"#REF!"}},{"$f":"IF(DC175=\"\",#REF!,DC175)","v":{"$error":"#REF!"}},{"$f":"IF(DD175=\"\",#REF!,DD175)","v":{"$error":"#REF!"}},{"$f":"IF(DE175=\"\",#REF!,DE175)","v":{"$error":"#REF!"}},{"$f":"IF(DF175=\"\",#REF!,DF175)","v":{"$error":"#REF!"}},{"$f":"IF(DG175=\"\",#REF!,DG175)","v":{"$error":"#REF!"}},{"$f":"IF(DH175=\"\",#REF!,DH175)","v":{"$error":"#REF!"}},{"$f":"IF(#REF!=\"\",\"\",#REF!)","v":{"$error":"#REF!"}},{"$f":"IF(DI175=\"\",#REF!,DI175)","v":{"$error":"#REF!"}},{"$f":"IF(DJ175=\"\",#REF!,DJ175)","v":{"$error":"#REF!"}},{"$f":"IF(DK175=\"\",#REF!,DK175)","v":{"$error":"#REF!"}},{"$f":"IF(DL175=\"\",#REF!,DL175)","v":{"$error":"#REF!"}},{"$f":"IF(DM175=\"\",#REF!,DM175)","v":{"$error":"#REF!"}},{"$f":"IF(DN175=\"\",#REF!,DN175)","v":{"$error":"#REF!"}},null,null,null,null,null,{"$f":"IF(F175=0,\"\",IF(OR(F175=\"1.1\",F175=\"1.2\",F175=\"1.3\",F175=\"1.4\",F175=\"1.5\",F175=\"1.6\"), $AC$2,IF(OR(F175=\"2.1\",F175=\"2.2\",F175=\"2.3\",F175=\"2.4\",F175=\"2.5\",F175=\"2.6\"),$AD$2,IF(OR(F175=\"3.1\",F175=\"3.2\",F175=\"3.3\",F175=\"3.4\",F175=\"3.5\",F175=\"3.6\"),$AE$2,IF(OR(F175=\"4.1\",F175=\"4.2\",F175=\"4.3\",F175=\"4.4\",F175=\"4.5\",F175=\"4.6\"),$AF$2,IF(OR(F175=\"5.1\",F175=\"5.2\",F175=\"5.3\",F175=\"5.4\",F175=\"5.5\",F175=\"5.6\"),$AG$2))))))","v":{"$error":"#REF!"}},{"$f":"IF(M175=0,\"\",IF(OR(M175=\"1.1\",M175=\"1.2\",M175=\"1.3\",M175=\"1.4\",M175=\"1.5\",M175=\"1.6\"), $AC$2,IF(OR(M175=\"2.1\",M175=\"2.2\",M175=\"2.3\",M175=\"2.4\",M175=\"2.5\",M175=\"2.6\"),$AD$2,IF(OR(M175=\"3.1\",M175=\"3.2\",M175=\"3.3\",M175=\"3.4\",M175=\"3.5\",M175=\"3.6\"),$AE$2,IF(OR(M175=\"4.1\",M175=\"4.2\",M175=\"4.3\",M175=\"4.4\",M175=\"4.5\",M175=\"4.6\"),$AF$2,IF(OR(M175=\"5.1\",M175=\"5.2\",M175=\"5.3\",M175=\"5.4\",M175=\"5.5\",M175=\"5.6\"),$AG$2))))))","v":{"$error":"#REF!"}},{"$f":"IF(T175=0,\"\",IF(OR(T175=\"1.1\",T175=\"1.2\",T175=\"1.3\",T175=\"1.4\",T175=\"1.5\",T175=\"1.6\"), $AC$2,IF(OR(T175=\"2.1\",T175=\"2.2\",T175=\"2.3\",T175=\"2.4\",T175=\"2.5\",T175=\"2.6\"),$AD$2,IF(OR(T175=\"3.1\",T175=\"3.2\",T175=\"3.3\",T175=\"3.4\",T175=\"3.5\",T175=\"3.6\"),$AE$2,IF(OR(T175=\"4.1\",T175=\"4.2\",T175=\"4.3\",T175=\"4.4\",T175=\"4.5\",T175=\"4.6\"),$AF$2,IF(OR(T175=\"5.1\",T175=\"5.2\",T175=\"5.3\",T175=\"5.4\",T175=\"5.5\",T175=\"5.6\"),$AG$2))))))","v":{"$error":"#REF!"}},null,null,null,null,{"$f":"#REF!","v":{"$error":"#REF!"}},"2.",{"$f":"IF(AL175=\"x\",#REF!,\"\")","v":{"$error":"#REF!"}},null,null,null,null,{"$f":"#REF!","v":{"$error":"#REF!"}},{"$f":"#REF!","v":{"$error":"#REF!"}},{"$f":"#REF!","v":{"$error":"#REF!"}},{"$f":"#REF!","v":{"$error":"#REF!"}},{"$f":"#REF!","v":{"$error":"#REF!"}},null,null,null,null,null,null,null,null,null,null,null,null,null,null,null,null,null,2,{"$f":"IF(PLAN!$G$172=\"1T\",PLAN!F175,IF(PLAN!$N$172=\"2T\",PLAN!M175,IF(PLAN!$U$172=\"3T\",PLAN!T175,\"\")))","v":{"$error":"#REF!"}},null,null,null,null,null,{"$f":"PLAN!$AX175","v":0},{"$f":"PLAN!$AY175","v":0},{"$f":"PLAN!$AZ175","v":0},{"$f":"PLAN!$BA175","v":0},{"$f":"PLAN!$BB175","v":0},{"$f":"PLAN!$BC175","v":0},{"$f":"PLAN!$BD175","v":0},{"$f":"PLAN!$BE175","v":0},{"$f":"PLAN!$BF175","v":0},{"$f":"PLAN!$BG175","v":0},{"$f":"PLAN!$BH175","v":0},{"$f":"PLAN!$BI175","v":0},{"$f":"PLAN!$BJ175","v":0},{"$f":"PLAN!$BK175","v":0},{"$f":"PLAN!$BL175","v":0},null,null,null,{"$f":"IF(PLAN!$C175=\"\",\"\",PLAN!$C175)","v":""},null,null,null,null,2,"a","E"]
[null,null,{"$f":"IF(D176=\"\",\"\",$AB$29)","v":""},null,{"$f":"IF(#REF!=\"\",\"\",#REF!)","v":{"$error":"#REF!"}},{"$f":"IF(CW176=\"\",#REF!,CW176)","v":{"$error":"#REF!"}},{"$f":"IF(CX176=\"\",#REF!,CX176)","v":{"$error":"#REF!"}},{"$f":"IF(CY176=\"\",#REF!,CY176)","v":{"$error":"#REF!"}},{"$f":"IF(CZ176=\"\",#REF!,CZ176)","v":{"$error":"#REF!"}},{"$f":"IF(DA176=\"\",#REF!,DA176)","v":{"$error":"#REF!"}},{"$f":"IF(DB176=\"\",#REF!,DB176)","v":{"$error":"#REF!"}},{"$f":"IF(#REF!=\"\",\"\",#REF!)","v":{"$error":"#REF!"}},{"$f":"IF(DC176=\"\",#REF!,DC176)","v":{"$error":"#REF!"}},{"$f":"IF(DD176=\"\",#REF!,DD176)","v":{"$error":"#REF!"}},{"$f":"IF(DE176=\"\",#REF!,DE176)","v":{"$error":"#REF!"}},{"$f":"IF(DF176=\"\",#REF!,DF176)","v":{"$error":"#REF!"}},{"$f":"IF(DG176=\"\",#REF!,DG176)","v":{"$error":"#REF!"}},{"$f":"IF(DH176=\"\",#REF!,DH176)","v":{"$error":"#REF!"}},{"$f":"IF(#REF!=\"\",\"\",#REF!)","v":{"$error":"#REF!"}},{"$f":"IF(DI176=\"\",#REF!,DI176)","v":{"$error":"#REF!"}},{"$f":"IF(DJ176=\"\",#REF!,DJ176)","v":{"$error":"#REF!"}},{"$f":"IF(DK176=\"\",#REF!,DK176)","v":{"$error":"#REF!"}},{"$f":"IF(DL176=\"\",#REF!,DL176)","v":{"$error":"#REF!"}},{"$f":"IF(DM176=\"\",#REF!,DM176)","v":{"$error":"#REF!"}},{"$f":"IF(DN176=\"\",#REF!,DN176)","v":{"$error":"#REF!"}},null,null,null,null,null,{"$error":"#REF!"},{"$error":"#REF!"},{"$error":"#REF!"},null,null,null,null,{"$f":"#REF!","v":{"$error":"#REF!"}},"3.",{"$f":"IF(AL176=\"x\",#REF!,\"\")","v":{"$error":"#REF!"}},null,null,null,null,{"$f":"#REF!","v":{"$error":"#REF!"}},{"$f":"#REF!","v":{"$error":"#REF!"}},{"$f":"#REF!","v":{"$error":"#REF!"}},{"$f":"#REF!","v":{"$error":"#REF!"}},{"$f":"#REF!","v":{"$error":"#REF!"}},null,null,null,null,null,null,null,null,null,null,null,null,null,null,null,null,null,3,{"$f":"IF(PLAN!$G$172=\"1T\",PLAN!F176,IF(PLAN!$N$172=\"2T\",PLAN!M176,IF(PLAN!$U$172=\"3T\",PLAN!T176,\"\")))","v":{"$error":"#REF!"}},null,null,null,null,null,{"$f":"PLAN!$AX176","v":0},{"$f":"PLAN!$AY176","v":0},{"$f":"PLAN!$AZ176","v":0},{"$f":"PLAN!$BA176","v":0},{"$f":"PLAN!$BB176","v":0},{"$f":"PLAN!$BC176","v":0},{"$f":"PLAN!$BD176","v":0},{"$f":"PLAN!$BE176","v":0},{"$f":"PLAN!$BF176","v":0},{"$f":"PLAN!$BG176","v":0},{"$f":"PLAN!$BH176","v":0},{"$f":"PLAN!$BI176","v":0},{"$f":"PLAN!$BJ176","v":0},{"$f":"PLAN!$BK176","v":0},{"$f":"PLAN!$BL176","v":0},null,null,null,{"$f":"IF(PLAN!$C176=\"\",\"\",PLAN!$C176)","v":""},null,null,null,null,3,"b","E"]
[null,null,{"$f":"IF(D177=\"\",\"\",$AB$30)","v":""},null,{"$f":"IF(#REF!=\"\",\"\",#REF!)","v":{"$error":"#REF!"}},{"$f":"IF(CW177=\"\",#REF!,CW177)","v":{"$error":"#REF!"}},{"$f":"IF(CX177=\"\",#REF!,CX177)","v":{"$error":"#REF!"}},{"$f":"IF(CY177=\"\",#REF!,CY177)","v":{"$error":"#REF!"}},{"$f":"IF(CZ177=\"\",#REF!,CZ177)","v":{"$error":"#REF!"}},{"$f":"IF(DA177=\"\",#REF!,DA177)","v":{"$error":"#REF!"}},{"$f":"IF(DB177=\"\",#REF!,DB177)","v":{"$error":"#REF!"}},{"$f":"IF(#REF!=\"\",\"\",#REF!)","v":{"$error":"#REF!"}},{"$f":"IF(DC177=\"\",#REF!,DC177)","v":{"$error":"#REF!"}},{"$f":"IF(DD177=\"\",#REF!,DD177)","v":{"$error":"#REF!"}},{"$f":"IF(DE177=\"\",#REF!,DE177)","v":{"$error":"#REF!"}},{"$f":"IF(DF177=\"\",#REF!,DF177)","v":{"$error":"#REF!"}},{"$f":"IF(DG177=\"\",#REF!,DG177)","v":{"$error":"#REF!"}},{"$f":"IF(DH177=\"\",#REF!,DH177)","v":{"$error":"#REF!"}},{"$f":"IF(#REF!=\"\",\"\",#REF!)","v":{"$error":"#REF!"}},{"$f":"IF(DI177=\"\",#REF!,DI177)","v":{"$error":"#REF!"}},{"$f":"IF(DJ177=\"\",#REF!,DJ177)","v":{"$error":"#REF!"}},{"$f":"IF(DK177=\"\",#REF!,DK177)","v":{"$error":"#REF!"}},{"$f":"IF(DL177=\"\",#REF!,DL177)","v":{"$error":"#REF!"}},{"$f":"IF(DM177=\"\",#REF!,DM177)","v":{"$error":"#REF!"}},{"$f":"IF(DN177=\"\",#REF!,DN177)","v":{"$error":"#REF!"}},null,null,null,null,null,{"$error":"#REF!"},{"$error":"#REF!"},{"$error":"#REF!"},null,null,null,null,{"$f":"#REF!","v":{"$error":"#REF!"}},"4.",{"$f":"IF(AL177=\"x\",#REF!,\"\")","v":{"$error":"#REF!"}},null,null,null,null,{"$f":"#REF!","v":{"$error":"#REF!"}},{"$f":"#REF!","v":{"$error":"#REF!"}},{"$f":"#REF!","v":{"$error":"#REF!"}},{"$f":"#REF!","v":{"$error":"#REF!"}},{"$f":"#REF!","v":{"$error":"#REF!"}},null,null,null,null,null,null,null,null,null,null,null,null,null,null,null,null,null,4,{"$f":"IF(PLAN!$G$172=\"1T\",PLAN!F177,IF(PLAN!$N$172=\"2T\",PLAN!M177,IF(PLAN!$U$172=\"3T\",PLAN!T177,\"\")))","v":{"$error":"#REF!"}},null,null,null,null,null,{"$f":"PLAN!$AX177","v":0},{"$f":"PLAN!$AY177","v":0},{"$f":"PLAN!$AZ177","v":0},{"$f":"PLAN!$BA177","v":0},{"$f":"PLAN!$BB177","v":0},{"$f":"PLAN!$BC177","v":0},{"$f":"PLAN!$BD177","v":0},{"$f":"PLAN!$BE177","v":0},{"$f":"PLAN!$BF177","v":0},{"$f":"PLAN!$BG177","v":0},{"$f":"PLAN!$BH177","v":0},{"$f":"PLAN!$BI177","v":0},{"$f":"PLAN!$BJ177","v":0},{"$f":"PLAN!$BK177","v":0},{"$f":"PLAN!$BL177","v":0},null,null,null,{"$f":"IF(PLAN!$C177=\"\",\"\",PLAN!$C177)","v":""},null,null,null,null,4,"c","E"]
[null,null,{"$f":"IF(D178=\"\",\"\",$AB$31)","v":""},null,{"$f":"IF(#REF!=\"\",\"\",#REF!)","v":{"$error":"#REF!"}},{"$f":"IF(CW178=\"\",#REF!,CW178)","v":{"$error":"#REF!"}},{"$f":"IF(CX178=\"\",#REF!,CX178)","v":{"$error":"#REF!"}},{"$f":"IF(CY178=\"\",#REF!,CY178)","v":{"$error":"#REF!"}},{"$f":"IF(CZ178=\"\",#REF!,CZ178)","v":{"$error":"#REF!"}},{"$f":"IF(DA178=\"\",#REF!,DA178)","v":{"$error":"#REF!"}},{"$f":"IF(DB178=\"\",#REF!,DB178)","v":{"$error":"#REF!"}},{"$f":"IF(#REF!=\"\",\"\",#REF!)","v":{"$error":"#REF!"}},{"$f":"IF(DC178=\"\",#REF!,DC178)","v":{"$error":"#REF!"}},{"$f":"IF(DD178=\"\",#REF!,DD178)","v":{"$error":"#REF!"}},{"$f":"IF(DE178=\"\",#REF!,DE178)","v":{"$error":"#REF!"}},{"$f":"IF(DF178=\"\",#REF!,DF178)","v":{"$error":"#REF!"}},{"$f":"IF(DG178=\"\",#REF!,DG178)","v":{"$error":"#REF!"}},{"$f":"IF(DH178=\"\",#REF!,DH178)","v":{"$error":"#REF!"}},{"$f":"IF(#REF!=\"\",\"\",#REF!)","v":{"$error":"#REF!"}},{"$f":"IF(DI178=\"\",#REF!,DI178)","v":{"$error":"#REF!"}},{"$f":"IF(DJ178=\"\",#REF!,DJ178)","v":{"$error":"#REF!"}},{"$f":"IF(DK178=\"\",#REF!,DK178)","v":{"$error":"#REF!"}},{"$f":"IF(DL178=\"\",#REF!,DL178)","v":{"$error":"#REF!"}},{"$f":"IF(DM178=\"\",#REF!,DM178)","v":{"$error":"#REF!"}},{"$f":"IF(DN178=\"\",#REF!,DN178)","v":{"$error":"#REF!"}},null,null,null,null,null,{"$error":"#REF!"},{"$error":"#REF!"},{"$error":"#REF!"},null,null,null,null,{"$f":"#REF!","v":{"$error":"#REF!"}},"5.",{"$f":"IF(AL178=\"x\",#REF!,\"\")","v":{"$error":"#REF!"}},null,null,null,null,{"$f":"#REF!","v":{"$error":"#REF!"}},{"$f":"#REF!","v":{"$error":"#REF!"}},{"$f":"#REF!","v":{"$error":"#REF!"}},{"$f":"#REF!","v":{"$error":"#REF!"}},{"$f":"#REF!","v":{"$error":"#REF!"}},null,null,null,null,null,null,null,null,null,null,null,null,null,null,null,null,null,5,{"$f":"IF(PLAN!$G$172=\"1T\",PLAN!F178,IF(PLAN!$N$172=\"2T\",PLAN!M178,IF(PLAN!$U$172=\"3T\",PLAN!T178,\"\")))","v":{"$error":"#REF!"}},null,null,null,null,null,{"$f":"PLAN!$AX178","v":0},{"$f":"PLAN!$AY178","v":0},{"$f":"PLAN!$AZ178","v":0},{"$f":"PLAN!$BA178","v":0},{"$f":"PLAN!$BB178","v":0},{"$f":"PLAN!$BC178","v":0},{"$f":"PLAN!$BD178","v":0},{"$f":"PLAN!$BE178","v":0},{"$f":"PLAN!$BF178","v":0},{"$f":"PLAN!$BG178","v":0},{"$f":"PLAN!$BH178","v":0},{"$f":"PLAN!$BI178","v":0},{"$f":"PLAN!$BJ178","v":0},{"$f":"PLAN!$BK178","v":0},{"$f":"PLAN!$BL178","v":0},null,null,null,{"$f":"IF(PLAN!$C178=\"\",\"\",PLAN!$C178)","v":""},null,null,null,null,5,"d","E"]
[null,"2T",{"$f":"IF(D179=\"\",\"\",$AB$27)","v":""},null,{"$f":"IF(#REF!=\"\",\"\",#REF!)","v":{"$error":"#REF!"}},{"$f":"IF(CW179=\"\",#REF!,CW179)","v":{"$error":"#REF!"}},{"$f":"IF(CX179=\"\",#REF!,CX179)","v":{"$error":"#REF!"}},{"$f":"IF(CY179=\"\",#REF!,CY179)","v":{"$error":"#REF!"}},{"$f":"IF(CZ179=\"\",#REF!,CZ179)","v":{"$error":"#REF!"}},{"$f":"IF(DA179=\"\",#REF!,DA179)","v":{"$error":"#REF!"}},{"$f":"IF(DB179=\"\",#REF!,DB179)","v":{"$error":"#REF!"}},{"$f":"IF(#REF!=\"\",\"\",#REF!)","v":{"$error":"#REF!"}},{"$f":"IF(DC179=\"\",#REF!,DC179)","v":{"$error":"#REF!"}},{"$f":"IF(DD179=\"\",#REF!,DD179)","v":{"$error":"#REF!"}},{"$f":"IF(DE179=\"\",#REF!,DE179)","v":{"$error":"#REF!"}},{"$f":"IF(DF179=\"\",#REF!,DF179)","v":{"$error":"#REF!"}},{"$f":"IF(DG179=\"\",#REF!,DG179)","v":{"$error":"#REF!"}},{"$f":"IF(DH179=\"\",#REF!,DH179)","v":{"$error":"#REF!"}},{"$f":"IF(#REF!=\"\",\"\",#REF!)","v":{"$error":"#REF!"}},{"$f":"IF(DI179=\"\",#REF!,DI179)","v":{"$error":"#REF!"}},{"$f":"IF(DJ179=\"\",#REF!,DJ179)","v":{"$error":"#REF!"}},{"$f":"IF(DK179=\"\",#REF!,DK179)","v":{"$error":"#REF!"}},{"$f":"IF(DL179=\"\",#REF!,DL179)","v":{"$error":"#REF!"}},{"$f":"IF(DM179=\"\",#REF!,DM179)","v":{"$error":"#REF!"}},{"$f":"IF(DN179=\"\",#REF!,DN179)","v":{"$error":"#REF!"}},null,null,null,null,null,{"$error":"#REF!"},{"$error":"#REF!"},{"$error":"#REF!"},null,null,null,null,null,null,{"$f":"IF(S171=\"1T\",\"PT\",\"\")","v":""},{"$f":"IF(Z171=\"2T\",\"ST\",\"\")","v":""},{"$f":"IF(DJ171=\"3T\",\"TT\",\"\")","v":""},null,null,null,null,null,null,null,null,null,null,null,null,null,null,null,null,null,null,null,null,null,null,null,null,6,{"$f":"IF(PLAN!$G$172=\"1T\",PLAN!F179,IF(PLAN!$N$172=\"2T\",PLAN!M179,IF(PLAN!$U$172=\"3T\",PLAN!T179,\"\")))","v":{"$error":"#REF!"}},null,null,null,null,null,null,null,null,null,null,null,null,null,null,null,null,null,null,null,null,null,null,null,{"$f":"IF(PLAN!$C179=\"\",\"\",PLAN!$C179)","v":""},null,null,null,null,6,"e","E"]
[null,null,{"$f":"IF(D180=\"\",\"\",$AB$28)","v":""},null,{"$f":"IF(#REF!=\"\",\"\",#REF!)","v":{"$error":"#REF!"}},{"$f":"IF(CW180=\"\",#REF!,CW180)","v":{"$error":"#REF!"}},{"$f":"IF(CX180=\"\",#REF!,CX180)","v":{"$error":"#REF!"}},{"$f":"IF(CY180=\"\",#REF!,CY180)","v":{"$error":"#REF!"}},{"$f":"IF(CZ180=\"\",#REF!,CZ180)","v":{"$error":"#REF!"}},{"$f":"IF(DA180=\"\",#REF!,DA180)","v":{"$error":"#REF!"}},{"$f":"IF(DB180=\"\",#REF!,DB180)","v":{"$error":"#REF!"}},{"$f":"IF(#REF!=\"\",\"\",#REF!)","v":{"$error":"#REF!"}},{"$f":"IF(DC180=\"\",#REF!,DC180)","v":{"$error":"#REF!"}},{"$f":"IF(DD180=\"\",#REF!,DD180)","v":{"$error":"#REF!"}},{"$f":"IF(DE180=\"\",#REF!,DE180)","v":{"$error":"#REF!"}},{"$f":"IF(DF180=\"\",#REF!,DF180)","v":{"$error":"#REF!"}},{"$f":"IF(DG180=\"\",#REF!,DG180)","v":{"$error":"#REF!"}},{"$f":"IF(DH180=\"\",#REF!,DH180)","v":{"$error":"#REF!"}},{"$f":"IF(#REF!=\"\",\"\",#REF!)","v":{"$error":"#REF!"}},{"$f":"IF(DI180=\"\",#REF!,DI180)","v":{"$error":"#REF!"}},{"$f":"IF(DJ180=\"\",#REF!,DJ180)","v":{"$error":"#REF!"}},{"$f":"IF(DK180=\"\",#REF!,DK180)","v":{"$error":"#REF!"}},{"$f":"IF(DL180=\"\",#REF!,DL180)","v":{"$error":"#REF!"}},{"$f":"IF(DM180=\"\",#REF!,DM180)","v":{"$error":"#REF!"}},{"$f":"IF(DN180=\"\",#REF!,DN180)","v":{"$error":"#REF!"}},null,null,null,null,null,{"$error":"#REF!"},{"$error":"#REF!"},{"$error":"#REF!"},null,null,null,null,null,null,null,null,null,null,null,null,null,null,null,null,null,null,null,null,null,null,null,null,null,null,null,null,null,null,null,null,null,7,{"$f":"IF(PLAN!$G$172=\"1T\",PLAN!F180,IF(PLAN!$N$172=\"2T\",PLAN!M180,IF(PLAN!$U$172=\"3T\",PLAN!T180,\"\")))","v":{"$error":"#REF!"}},null,null,null,null,null,null,null,null,null,null,null,null,null,null,null,null,null,null,null,null,null,null,null,{"$f":"IF(PLAN!$C180=\"\",\"\",PLAN!$C180)","v":""},null,null,null,null,7,"f"]
[null,null,{"$f":"IF(D181=\"\",\"\",$AB$29)","v":""},null,{"$f":"IF(#REF!=\"\",\"\",#REF!)","v":{"$error":"#REF!"}},{"$f":"IF(CW181=\"\",#REF!,CW181)","v":{"$error":"#REF!"}},{"$f":"IF(CX181=\"\",#REF!,CX181)","v":{"$error":"#REF!"}},{"$f":"IF(CY181=\"\",#REF!,CY181)","v":{"$error":"#REF!"}},{"$f":"IF(CZ181=\"\",#REF!,CZ181)","v":{"$error":"#REF!"}},{"$f":"IF(DA181=\"\",#REF!,DA181)","v":{"$error":"#REF!"}},{"$f":"IF(DB181=\"\",#REF!,DB181)","v":{"$error":"#REF!"}},{"$f":"IF(#REF!=\"\",\"\",#REF!)","v":{"$error":"#REF!"}},{"$f":"IF(DC181=\"\",#REF!,DC181)","v":{"$error":"#REF!"}},{"$f":"IF(DD181=\"\",#REF!,DD181)","v":{"$error":"#REF!"}},{"$f":"IF(DE181=\"\",#REF!,DE181)","v":{"$error":"#REF!"}},{"$f":"IF(DF181=\"\",#REF!,DF181)","v":{"$error":"#REF!"}},{"$f":"IF(DG181=\"\",#REF!,DG181)","v":{"$error":"#REF!"}},{"$f":"IF(DH181=\"\",#REF!,DH181)","v":{"$error":"#REF!"}},{"$f":"IF(#REF!=\"\",\"\",#REF!)","v":{"$error":"#REF!"}},{"$f":"IF(DI181=\"\",#REF!,DI181)","v":{"$error":"#REF!"}},{"$f":"IF(DJ181=\"\",#REF!,DJ181)","v":{"$error":"#REF!"}},{"$f":"IF(DK181=\"\",#REF!,DK181)","v":{"$error":"#REF!"}},{"$f":"IF(DL181=\"\",#REF!,DL181)","v":{"$error":"#REF!"}},{"$f":"IF(DM181=\"\",#REF!,DM181)","v":{"$error":"#REF!"}},{"$f":"IF(DN181=\"\",#REF!,DN181)","v":{"$error":"#REF!"}},null,null,null,null,null,{"$error":"#REF!"},{"$error":"#REF!"},{"$error":"#REF!"},null,null,null,null,null,null,null,null,null,null,null,null,null,null,null,null,null,null,null,null,null,null,null,null,null,null,null,null,null,null,null,null,null,8,{"$f":"IF(PLAN!$G$172=\"1T\",PLAN!F181,IF(PLAN!$N$172=\"2T\",PLAN!M181,IF(PLAN!$U$172=\"3T\",PLAN!T181,\"\")))","v":{"$error":"#REF!"}},null,null,null,null,null,null,null,null,null,null,null,null,null,null,null,null,null,null,null,null,null,null,null,{"$f":"IF(PLAN!$C181=\"\",\"\",PLAN!$C181)","v":""},null,null,null,null,8,"g"]
[null,null,{"$f":"IF(D182=\"\",\"\",$AB$30)","v":""},null,{"$f":"IF(#REF!=\"\",\"\",#REF!)","v":{"$error":"#REF!"}},{"$f":"IF(CW182=\"\",#REF!,CW182)","v":{"$error":"#REF!"}},{"$f":"IF(CX182=\"\",#REF!,CX182)","v":{"$error":"#REF!"}},{"$f":"IF(CY182=\"\",#REF!,CY182)","v":{"$error":"#REF!"}},{"$f":"IF(CZ182=\"\",#REF!,CZ182)","v":{"$error":"#REF!"}},{"$f":"IF(DA182=\"\",#REF!,DA182)","v":{"$error":"#REF!"}},{"$f":"IF(DB182=\"\",#REF!,DB182)","v":{"$error":"#REF!"}},{"$f":"IF(#REF!=\"\",\"\",#REF!)","v":{"$error":"#REF!"}},{"$f":"IF(DC182=\"\",#REF!,DC182)","v":{"$error":"#REF!"}},{"$f":"IF(DD182=\"\",#REF!,DD182)","v":{"$error":"#REF!"}},{"$f":"IF(DE182=\"\",#REF!,DE182)","v":{"$error":"#REF!"}},{"$f":"IF(DF182=\"\",#REF!,DF182)","v":{"$error":"#REF!"}},{"$f":"IF(DG182=\"\",#REF!,DG182)","v":{"$error":"#REF!"}},{"$f":"IF(DH182=\"\",#REF!,DH182)","v":{"$error":"#REF!"}},{"$f":"IF(#REF!=\"\",\"\",#REF!)","v":{"$error":"#REF!"}},{"$f":"IF(DI182=\"\",#REF!,DI182)","v":{"$error":"#REF!"}},{"$f":"IF(DJ182=\"\",#REF!,DJ182)","v":{"$error":"#REF!"}},{"$f":"IF(DK182=\"\",#REF!,DK182)","v":{"$error":"#REF!"}},{"$f":"IF(DL182=\"\",#REF!,DL182)","v":{"$error":"#REF!"}},{"$f":"IF(DM182=\"\",#REF!,DM182)","v":{"$error":"#REF!"}},{"$f":"IF(DN182=\"\",#REF!,DN182)","v":{"$error":"#REF!"}},null,null,null,null,null,{"$error":"#REF!"},{"$error":"#REF!"},{"$error":"#REF!"},null,null,null,null,null,null,null,null,null,null,null,null,null,null,null,null,null,null,null,null,null,null,null,null,null,null,null,null,null,null,null,null,null,9,{"$f":"IF(PLAN!$G$172=\"1T\",PLAN!F182,IF(PLAN!$N$172=\"2T\",PLAN!M182,IF(PLAN!$U$172=\"3T\",PLAN!T182,\"\")))","v":{"$error":"#REF!"}},null,null,null,null,null,null,null,null,null,null,null,null,null,null,null,null,null,null,null,null,null,null,null,{"$f":"IF(PLAN!$C182=\"\",\"\",PLAN!$C182)","v":""},null,null,null,null,9,"h"]
[null,null,{"$f":"IF(D183=\"\",\"\",$AB$31)","v":""},null,{"$f":"IF(#REF!=\"\",\"\",#REF!)","v":{"$error":"#REF!"}},{"$f":"IF(CW183=\"\",#REF!,CW183)","v":{"$error":"#REF!"}},{"$f":"IF(CX183=\"\",#REF!,CX183)","v":{"$error":"#REF!"}},{"$f":"IF(CY183=\"\",#REF!,CY183)","v":{"$error":"#REF!"}},{"$f":"IF(CZ183=\"\",#REF!,CZ183)","v":{"$error":"#REF!"}},{"$f":"IF(DA183=\"\",#REF!,DA183)","v":{"$error":"#REF!"}},{"$f":"IF(DB183=\"\",#REF!,DB183)","v":{"$error":"#REF!"}},{"$f":"IF(#REF!=\"\",\"\",#REF!)","v":{"$error":"#REF!"}},{"$f":"IF(DC183=\"\",#REF!,DC183)","v":{"$error":"#REF!"}},{"$f":"IF(DD183=\"\",#REF!,DD183)","v":{"$error":"#REF!"}},{"$f":"IF(DE183=\"\",#REF!,DE183)","v":{"$error":"#REF!"}},{"$f":"IF(DF183=\"\",#REF!,DF183)","v":{"$error":"#REF!"}},{"$f":"IF(DG183=\"\",#REF!,DG183)","v":{"$error":"#REF!"}},{"$f":"IF(DH183=\"\",#REF!,DH183)","v":{"$error":"#REF!"}},{"$f":"IF(#REF!=\"\",\"\",#REF!)","v":{"$error":"#REF!"}},{"$f":"IF(DI183=\"\",#REF!,DI183)","v":{"$error":"#REF!"}},{"$f":"IF(DJ183=\"\",#REF!,DJ183)","v":{"$error":"#REF!"}},{"$f":"IF(DK183=\"\",#REF!,DK183)","v":{"$error":"#REF!"}},{"$f":"IF(DL183=\"\",#REF!,DL183)","v":{"$error":"#REF!"}},{"$f":"IF(DM183=\"\",#REF!,DM183)","v":{"$error":"#REF!"}},{"$f":"IF(DN183=\"\",#REF!,DN183)","v":{"$error":"#REF!"}},null,null,null,null,null,{"$error":"#REF!"},{"$error":"#REF!"},{"$error":"#REF!"},null,null,null,null,null,null,null,null,null,null,null,null,null,null,null,null,null,null,null,null,null,null,null,null,null,null,null,null,null,null,null,null,null,10,{"$f":"IF(PLAN!$G$172=\"1T\",PLAN!F183,IF(PLAN!$N$172=\"2T\",PLAN!M183,IF(PLAN!$U$172=\"3T\",PLAN!T183,\"\")))","v":{"$error":"#REF!"}},null,null,null,null,null,null,null,null,null,null,null,null,null,null,null,null,null,null,null,null,null,null,null,{"$f":"IF(PLAN!$C183=\"\",\"\",PLAN!$C183)","v":""},null,null,null,null,10,"i"]
[null,"3T",{"$f":"IF(D184=\"\",\"\",$AB$27)","v":""},null,{"$f":"IF(#REF!=\"\",\"\",#REF!)","v":{"$error":"#REF!"}},{"$f":"IF(CW184=\"\",#REF!,CW184)","v":{"$error":"#REF!"}},{"$f":"IF(CX184=\"\",#REF!,CX184)","v":{"$error":"#REF!"}},{"$f":"IF(CY184=\"\",#REF!,CY184)","v":{"$error":"#REF!"}},{"$f":"IF(CZ184=\"\",#REF!,CZ184)","v":{"$error":"#REF!"}},{"$f":"IF(DA184=\"\",#REF!,DA184)","v":{"$error":"#REF!"}},{"$f":"IF(DB184=\"\",#REF!,DB184)","v":{"$error":"#REF!"}},{"$f":"IF(#REF!=\"\",\"\",#REF!)","v":{"$error":"#REF!"}},{"$f":"IF(DC184=\"\",#REF!,DC184)","v":{"$error":"#REF!"}},{"$f":"IF(DD184=\"\",#REF!,DD184)","v":{"$error":"#REF!"}},{"$f":"IF(DE184=\"\",#REF!,DE184)","v":{"$error":"#REF!"}},{"$f":"IF(DF184=\"\",#REF!,DF184)","v":{"$error":"#REF!"}},{"$f":"IF(DG184=\"\",#REF!,DG184)","v":{"$error":"#REF!"}},{"$f":"IF(DH184=\"\",#REF!,DH184)","v":{"$error":"#REF!"}},{"$f":"IF(#REF!=\"\",\"\",#REF!)","v":{"$error":"#REF!"}},{"$f":"IF(DI184=\"\",#REF!,DI184)","v":{"$error":"#REF!"}},{"$f":"IF(DJ184=\"\",#REF!,DJ184)","v":{"$error":"#REF!"}},{"$f":"IF(DK184=\"\",#REF!,DK184)","v":{"$error":"#REF!"}},{"$f":"IF(DL184=\"\",#REF!,DL184)","v":{"$error":"#REF!"}},{"$f":"IF(DM184=\"\",#REF!,DM184)","v":{"$error":"#REF!"}},{"$f":"IF(DN184=\"\",#REF!,DN184)","v":{"$error":"#REF!"}},null,null,null,null,null,{"$error":"#REF!"},{"$error":"#REF!"},{"$error":"#REF!"},null,null,null,null,null,null,null,null,null,null,null,null,null,null,null,null,null,null,null,null,null,null,null,null,null,null,null,null,null,null,null,null,null,11,{"$f":"IF(PLAN!$G$172=\"1T\",PLAN!F184,IF(PLAN!$N$172=\"2T\",PLAN!M184,IF(PLAN!$U$172=\"3T\",PLAN!T184,\"\")))","v":{"$error":"#REF!"}},null,null,null,null,null,null,null,null,null,null,null,null,null,null,null,null,null,null,null,null,null,null,null,{"$f":"IF(PLAN!$C184=\"\",\"\",PLAN!$C184)","v":""},null,null,null,null,11,"j"]
[null,null,{"$f":"IF(D185=\"\",\"\",$AB$28)","v":""},null,{"$f":"IF(#REF!=\"\",\"\",#REF!)","v":{"$error":"#REF!"}},{"$f":"IF(CW185=\"\",#REF!,CW185)","v":{"$error":"#REF!"}},{"$f":"IF(CX185=\"\",#REF!,CX185)","v":{"$error":"#REF!"}},{"$f":"IF(CY185=\"\",#REF!,CY185)","v":{"$error":"#REF!"}},{"$f":"IF(CZ185=\"\",#REF!,CZ185)","v":{"$error":"#REF!"}},{"$f":"IF(DA185=\"\",#REF!,DA185)","v":{"$error":"#REF!"}},{"$f":"IF(DB185=\"\",#REF!,DB185)","v":{"$error":"#REF!"}},{"$f":"IF(#REF!=\"\",\"\",#REF!)","v":{"$error":"#REF!"}},{"$f":"IF(DC185=\"\",#REF!,DC185)","v":{"$error":"#REF!"}},{"$f":"IF(DD185=\"\",#REF!,DD185)","v":{"$error":"#REF!"}},{"$f":"IF(DE185=\"\",#REF!,DE185)","v":{"$error":"#REF!"}},{"$f":"IF(DF185=\"\",#REF!,DF185)","v":{"$error":"#REF!"}},{"$f":"IF(DG185=\"\",#REF!,DG185)","v":{"$error":"#REF!"}},{"$f":"IF(DH185=\"\",#REF!,DH185)","v":{"$error":"#REF!"}},{"$f":"IF(#REF!=\"\",\"\",#REF!)","v":{"$error":"#REF!"}},{"$f":"IF(DI185=\"\",#REF!,DI185)","v":{"$error":"#REF!"}},{"$f":"IF(DJ185=\"\",#REF!,DJ185)","v":{"$error":"#REF!"}},{"$f":"IF(DK185=\"\",#REF!,DK185)","v":{"$error":"#REF!"}},{"$f":"IF(DL185=\"\",#REF!,DL185)","v":{"$error":"#REF!"}},{"$f":"IF(DM185=\"\",#REF!,DM185)","v":{"$error":"#REF!"}},{"$f":"IF(DN185=\"\",#REF!,DN185)","v":{"$error":"#REF!"}},null,null,null,null,null,{"$error":"#REF!"},{"$error":"#REF!"},{"$error":"#REF!"},null,null,null,null,null,null,null,null,null,null,null,null,null,null,null,null,null,null,null,null,null,null,null,null,null,null,null,null,null,null,null,null,null,12,{"$f":"IF(PLAN!$G$172=\"1T\",PLAN!F185,IF(PLAN!$N$172=\"2T\",PLAN!M185,IF(PLAN!$U$172=\"3T\",PLAN!T185,\"\")))","v":{"$error":"#REF!"}},null,null,null,null,null,null,null,null,null,null,null,null,null,null,null,null,null,null,null,null,null,null,null,{"$f":"IF(PLAN!$C185=\"\",\"\",PLAN!$C185)","v":""},null,null,null,null,12,"k"]
[null,null,{"$f":"IF(D186=\"\",\"\",$AB$29)","v":""},null,{"$f":"IF(#REF!=\"\",\"\",#REF!)","v":{"$error":"#REF!"}},{"$f":"IF(CW186=\"\",#REF!,CW186)","v":{"$error":"#REF!"}},{"$f":"IF(CX186=\"\",#REF!,CX186)","v":{"$error":"#REF!"}},{"$f":"IF(CY186=\"\",#REF!,CY186)","v":{"$error":"#REF!"}},{"$f":"IF(CZ186=\"\",#REF!,CZ186)","v":{"$error":"#REF!"}},{"$f":"IF(DA186=\"\",#REF!,DA186)","v":{"$error":"#REF!"}},{"$f":"IF(DB186=\"\",#REF!,DB186)","v":{"$error":"#REF!"}},{"$f":"IF(#REF!=\"\",\"\",#REF!)","v":{"$error":"#REF!"}},{"$f":"IF(DC186=\"\",#REF!,DC186)","v":{"$error":"#REF!"}},{"$f":"IF(DD186=\"\",#REF!,DD186)","v":{"$error":"#REF!"}},{"$f":"IF(DE186=\"\",#REF!,DE186)","v":{"$error":"#REF!"}},{"$f":"IF(DF186=\"\",#REF!,DF186)","v":{"$error":"#REF!"}},{"$f":"IF(DG186=\"\",#REF!,DG186)","v":{"$error":"#REF!"}},{"$f":"IF(DH186=\"\",#REF!,DH186)","v":{"$error":"#REF!"}},{"$f":"IF(#REF!=\"\",\"\",#REF!)","v":{"$error":"#REF!"}},{"$f":"IF(DI186=\"\",#REF!,DI186)","v":{"$error":"#REF!"}},{"$f":"IF(DJ186=\"\",#REF!,DJ186)","v":{"$error":"#REF!"}},{"$f":"IF(DK186=\"\",#REF!,DK186)","v":{"$error":"#REF!"}},{"$f":"IF(DL186=\"\",#REF!,DL186)","v":{"$error":"#REF!"}},{"$f":"IF(DM186=\"\",#REF!,DM186)","v":{"$error":"#REF!"}},{"$f":"IF(DN186=\"\",#REF!,DN186)","v":{"$error":"#REF!"}},null,null,null,null,null,{"$error":"#REF!"},{"$error":"#REF!"},{"$error":"#REF!"},null,null,null,null,null,null,null,null,null,null,null,null,null,null,null,null,null,null,null,null,null,null,null,null,null,null,null,null,null,null,null,null,null,13,{"$f":"IF(PLAN!$G$172=\"1T\",PLAN!F186,IF(PLAN!$N$172=\"2T\",PLAN!M186,IF(PLAN!$U$172=\"3T\",PLAN!T186,\"\")))","v":{"$error":"#REF!"}},null,null,null,null,null,null,null,null,null,null,null,null,null,null,null,null,null,null,null,null,null,null,null,{"$f":"IF(PLAN!$C186=\"\",\"\",PLAN!$C186)","v":""},null,null,null,null,13,"l"]
[null,null,{"$f":"IF(D187=\"\",\"\",$AB$30)","v":""},null,{"$f":"IF(#REF!=\"\",\"\",#REF!)","v":{"$error":"#REF!"}},{"$f":"IF(CW187=\"\",#REF!,CW187)","v":{"$error":"#REF!"}},{"$f":"IF(CX187=\"\",#REF!,CX187)","v":{"$error":"#REF!"}},{"$f":"IF(CY187=\"\",#REF!,CY187)","v":{"$error":"#REF!"}},{"$f":"IF(CZ187=\"\",#REF!,CZ187)","v":{"$error":"#REF!"}},{"$f":"IF(DA187=\"\",#REF!,DA187)","v":{"$error":"#REF!"}},{"$f":"IF(DB187=\"\",#REF!,DB187)","v":{"$error":"#REF!"}},{"$f":"IF(#REF!=\"\",\"\",#REF!)","v":{"$error":"#REF!"}},{"$f":"IF(DC187=\"\",#REF!,DC187)","v":{"$error":"#REF!"}},{"$f":"IF(DD187=\"\",#REF!,DD187)","v":{"$error":"#REF!"}},{"$f":"IF(DE187=\"\",#REF!,DE187)","v":{"$error":"#REF!"}},{"$f":"IF(DF187=\"\",#REF!,DF187)","v":{"$error":"#REF!"}},{"$f":"IF(DG187=\"\",#REF!,DG187)","v":{"$error":"#REF!"}},{"$f":"IF(DH187=\"\",#REF!,DH187)","v":{"$error":"#REF!"}},{"$f":"IF(#REF!=\"\",\"\",#REF!)","v":{"$error":"#REF!"}},{"$f":"IF(DI187=\"\",#REF!,DI187)","v":{"$error":"#REF!"}},{"$f":"IF(DJ187=\"\",#REF!,DJ187)","v":{"$error":"#REF!"}},{"$f":"IF(DK187=\"\",#REF!,DK187)","v":{"$error":"#REF!"}},{"$f":"IF(DL187=\"\",#REF!,DL187)","v":{"$error":"#REF!"}},{"$f":"IF(DM187=\"\",#REF!,DM187)","v":{"$error":"#REF!"}},{"$f":"IF(DN187=\"\",#REF!,DN187)","v":{"$error":"#REF!"}},null,null,null,null,null,{"$error":"#REF!"},{"$error":"#REF!"},{"$error":"#REF!"},null,null,null,null,null,null,null,null,null,null,null,null,null,null,null,null,null,null,null,null,null,null,null,null,null,null,null,null,null,null,null,null,null,14,{"$f":"IF(PLAN!$G$172=\"1T\",PLAN!F187,IF(PLAN!$N$172=\"2T\",PLAN!M187,IF(PLAN!$U$172=\"3T\",PLAN!T187,\"\")))","v":{"$error":"#REF!"}},null,null,null,null,null,null,null,null,null,null,null,null,null,null,null,null,null,null,null,null,null,null,null,{"$f":"IF(PLAN!$C187=\"\",\"\",PLAN!$C187)","v":""},null,null,null,null,14,"m"]
[null,null,{"$f":"IF(D188=\"\",\"\",$AB$31)","v":""},null,{"$f":"IF(#REF!=\"\",\"\",#REF!)","v":{"$error":"#REF!"}},{"$f":"IF(CW188=\"\",#REF!,CW188)","v":{"$error":"#REF!"}},{"$f":"IF(CX188=\"\",#REF!,CX188)","v":{"$error":"#REF!"}},{"$f":"IF(CY188=\"\",#REF!,CY188)","v":{"$error":"#REF!"}},{"$f":"IF(CZ188=\"\",#REF!,CZ188)","v":{"$error":"#REF!"}},{"$f":"IF(DA188=\"\",#REF!,DA188)","v":{"$error":"#REF!"}},{"$f":"IF(DB188=\"\",#REF!,DB188)","v":{"$error":"#REF!"}},{"$f":"IF(#REF!=\"\",\"\",#REF!)","v":{"$error":"#REF!"}},{"$f":"IF(DC188=\"\",#REF!,DC188)","v":{"$error":"#REF!"}},{"$f":"IF(DD188=\"\",#REF!,DD188)","v":{"$error":"#REF!"}},{"$f":"IF(DE188=\"\",#REF!,DE188)","v":{"$error":"#REF!"}},{"$f":"IF(DF188=\"\",#REF!,DF188)","v":{"$error":"#REF!"}},{"$f":"IF(DG188=\"\",#REF!,DG188)","v":{"$error":"#REF!"}},{"$f":"IF(DH188=\"\",#REF!,DH188)","v":{"$error":"#REF!"}},{"$f":"IF(#REF!=\"\",\"\",#REF!)","v":{"$error":"#REF!"}},{"$f":"IF(DI188=\"\",#REF!,DI188)","v":{"$error":"#REF!"}},{"$f":"IF(DJ188=\"\",#REF!,DJ188)","v":{"$error":"#REF!"}},{"$f":"IF(DK188=\"\",#REF!,DK188)","v":{"$error":"#REF!"}},{"$f":"IF(DL188=\"\",#REF!,DL188)","v":{"$error":"#REF!"}},{"$f":"IF(DM188=\"\",#REF!,DM188)","v":{"$error":"#REF!"}},{"$f":"IF(DN188=\"\",#REF!,DN188)","v":{"$error":"#REF!"}},null,null,null,null,null,{"$error":"#REF!"},{"$error":"#REF!"},{"$error":"#REF!"},null,null,null,null,null,null,null,null,null,null,null,null,null,null,null,null,null,null,null,null,null,null,null,null,null,null,null,null,null,null,null,null,null,15,{"$f":"IF(PLAN!$G$172=\"1T\",PLAN!F188,IF(PLAN!$N$172=\"2T\",PLAN!M188,IF(PLAN!$U$172=\"3T\",PLAN!T188,\"\")))","v":{"$error":"#REF!"}},null,null,null,null,null,null,null,null,null,null,null,null,null,null,null,null,null,null,null,null,null,null,null,{"$f":"IF(PLAN!$C188=\"\",\"\",PLAN!$C188)","v":""},null,null,null,null,15,"x"]
[]
[]
[]
[]
[]
[null,null,null,null,{"$f":"15-COUNTIF(E174:E188,\"\")","v":15},null,null,null,null,null,null,{"$f":"15-COUNTIF(L174:L188,\"\")","v":15},null,null,null,null,null,null,{"$f":"15-COUNTIF(S174:S188,\"\")","v":15}]
[]
[]
[null,null,null,{"$f":"#REF!&#REF!","v":{"$error":"#REF!"}}]
[null,null,null,null,null,null,null,null,null,null,null,null,null,null,null,null,null,null,null,null,null,null,null,null,null,null,null,null,null,null,null,null,null,null,null,null,null,null,null,null,null,null,null,null,"INDICADORES SELECCIONADOS",null,null,null,null,null,{"$f":"#REF!","v":{"$error":"#REF!"}},null,null,null,null,{"$f":"#REF!","v":{"$error":"#REF!"}},null,null,null,null,{"$f":"#REF!","v":{"$error":"#REF!"}}]
[null,null,null,null,{"$f":"IF(INICIO!$H$2=\"1T\",INICIO!$NH$14,\"\")","v":"PRIMER TRIMESTRE"},null,{"$f":"IF(E199=\"PRIMER TRIMESTRE\",B201,\"\")","v":"1T"},null,null,null,null,{"$f":"IF(INICIO!$H$2=\"2T\",INICIO!$NH$15,\"\")","v":""},null,{"$f":"IF(L199=\"SEGUNDO TRIMESTRE\",B206,\"\")","v":""},null,null,null,null,{"$f":"IF(INICIO!$H$2=\"3T\",INICIO!$NH$16,\"\")","v":""},null,{"$f":"IF(S199=\"TERCER TRIMESTRE\",B211,\"\")","v":""},null,null,null,null,null,null,null,null,null,{"$f":"G199","v":"1T"},{"$f":"N199","v":""},{"$f":"U199","v":""},null,null,null,null,null,null,null,null,null,null,null,"L1","L2","L3","L4","L5","L1","L2","L3","L4","L5","L1","L2","L3","L4","L5","L1","L2","L3","L4","L5",null,null,null,null,null,null,null,null,null,null,null,null,null,null,null,null,null,null,null,null,null,null,null,null,null,null,null,null,null,null,null,null,null,"Copia de datos empleados durante el año, en las actividades"]
[null,"LOGROS",null,null,"ACTIVIDADES 1T","INDICADORES 1T",null,null,null,null,null,"ACTIVIDADES 2T","INDICADORES 2T",null,null,null,null,null,"ACTIVIDADES 3T","INDICADORES 3T",null,null,null,null,null,null,"FECHAS 1T","FECHAS 2T","FECHAS 3T",null,"LOGOS X ACTIVIDAD",null,null,null,null,null,null,"x",null,"LOGROS SELECCIONADOS",null,null,null,null,{"$f":"#REF!","v":{"$error":"#REF!"}},{"$f":"#REF!","v":{"$error":"#REF!"}},{"$f":"#REF!","v":{"$error":"#REF!"}},{"$f":"#REF!","v":{"$error":"#REF!"}},{"$f":"#REF!","v":{"$error":"#REF!"}},null,null,null,null,null,null,null,null,null,null,null,null,null,null,null,null,null,null,null,null,null,null,null,null,{"$f":"PLAN!$AX200","v":0},{"$f":"PLAN!$AY200","v":0},{"$f":"PLAN!$AZ200","v":0},{"$f":"PLAN!$BA200","v":0},{"$f":"PLAN!$BB200","v":0},{"$f":"PLAN!$BC200","v":0},{"$f":"PLAN!$BD200","v":0},{"$f":"PLAN!$BE200","v":0},{"$f":"PLAN!$BF200","v":0},{"$f":"PLAN!$BG200","v":0},{"$f":"PLAN!$BH200","v":0},{"$f":"PLAN!$BI200","v":0},{"$f":"PLAN!$BJ200","v":0},{"$f":"PLAN!$BK200","v":0},{"$f":"PLAN!$BL200","v":0},null,null,null,null,null,null,null,null,"# de","1T","2T","3T","Indicadores 1t",null,null,null,null,null,"Indicadores 2t",null,null,null,null,null,"Indicadores 3t"]
[null,"1T",{"$f":"IF(D201=\"\",\"\",$AB$27)","v":""},null,{"$f":"IF(#REF!=\"\",\"\",#REF!)","v":{"$error":"#REF!"}},{"$f":"IF(CW201=\"\",#REF!,CW201)","v":{"$error":"#REF!"}},{"$f":"IF(CX201=\"\",#REF!,CX201)","v":{"$error":"#REF!"}},{"$f":"IF(CY201=\"\",#REF!,CY201)","v":{"$error":"#REF!"}},{"$f":"IF(CZ201=\"\",#REF!,CZ201)","v":{"$error":"#REF!"}},{"$f":"IF(DA201=\"\",#REF!,DA201)","v":{"$error":"#REF!"}},{"$f":"IF(DB201=\"\",#REF!,DB201)","v":{"$error":"#REF!"}},{"$f":"IF(#REF!=\"\",\"\",#REF!)","v":{"$error":"#REF!"}},{"$f":"IF(DC201=\"\",#REF!,DC201)","v":{"$error":"#REF!"}},{"$f":"IF(DD201=\"\",#REF!,DD201)","v":{"$error":"#REF!"}},{"$f":"IF(DE201=\"\",#REF!,DE201)","v":{"$error":"#REF!"}},{"$f":"IF(DF201=\"\",#REF!,DF201)","v":{"$error":"#REF!"}},{"$f":"IF(DG201=\"\",#REF!,DG201)","v":{"$error":"#REF!"}},{"$f":"IF(DH201=\"\",#REF!,DH201)","v":{"$error":"#REF!"}},{"$f":"IF(#REF!=\"\",\"\",#REF!)","v":{"$error":"#REF!"}},{"$f":"IF(DI201=\"\",#REF!,DI201)","v":{"$error":"#REF!"}},{"$f":"IF(DJ201=\"\",#REF!,DJ201)","v":{"$error":"#REF!"}},{"$f":"IF(DK201=\"\",#REF!,DK201)","v":{"$error":"#REF!"}},{"$f":"IF(DL201=\"\",#REF!,DL201)","v":{"$error":"#REF!"}},{"$f":"IF(DM201=\"\",#REF!,DM201)","v":{"$error":"#REF!"}},{"$f":"IF(DN201=\"\",#REF!,DN201)","v":{"$error":"#REF!"}},null,null,null,null,null,{"$f":"IF(F201=0,\"\",IF(OR(F201=\"1.1\",F201=\"1.2\",F201=\"1.3\",F201=\"1.4\",F201=\"1.5\",F201=\"1.6\"), $AC$2,IF(OR(F201=\"2.1\",F201=\"2.2\",F201=\"2.3\",F201=\"2.4\",F201=\"2.5\",F201=\"2.6\"),$AD$2,IF(OR(F201=\"3.1\",F201=\"3.2\",F201=\"3.3\",F201=\"3.4\",F201=\"3.5\",F201=\"3.6\"),$AE$2,IF(OR(F201=\"4.1\",F201=\"4.2\",F201=\"4.3\",F201=\"4.4\",F201=\"4.5\",F201=\"4.6\"),$AF$2,IF(OR(F201=\"5.1\",F201=\"5.2\",F201=\"5.3\",F201=\"5.4\",F201=\"5.5\",F201=\"5.6\"),$AG$2))))))","v":{"$error":"#REF!"}},{"$f":"IF(M201=0,\"\",IF(OR(M201=\"1.1\",M201=\"1.2\",M201=\"1.3\",M201=\"1.4\",M201=\"1.5\",M201=\"1.6\"), $AC$2,IF(OR(M201=\"2.1\",M201=\"2.2\",M201=\"2.3\",M201=\"2.4\",M201=\"2.5\",M201=\"2.6\"),$AD$2,IF(OR(M201=\"3.1\",M201=\"3.2\",M201=\"3.3\",M201=\"3.4\",M201=\"3.5\",M201=\"3.6\"),$AE$2,IF(OR(M201=\"4.1\",M201=\"4.2\",M201=\"4.3\",M201=\"4.4\",M201=\"4.5\",M201=\"4.6\"),$AF$2,IF(OR(M201=\"5.1\",M201=\"5.2\",M201=\"5.3\",M201=\"5.4\",M201=\"5.5\",M201=\"5.6\"),$AG$2))))))","v":{"$error":"#REF!"}},{"$f":"IF(T201=0,\"\",IF(OR(T201=\"1.1\",T201=\"1.2\",T201=\"1.3\",T201=\"1.4\",T201=\"1.5\",T201=\"1.6\"), $AC$2,IF(OR(T201=\"2.1\",T201=\"2.2\",T201=\"2.3\",T201=\"2.4\",T201=\"2.5\",T201=\"2.6\"),$AD$2,IF(OR(T201=\"3.1\",T201=\"3.2\",T201=\"3.3\",T201=\"3.4\",T201=\"3.5\",T201=\"3.6\"),$AE$2,IF(OR(T201=\"4.1\",T201=\"4.2\",T201=\"4.3\",T201=\"4.4\",T201=\"4.5\",T201=\"4.6\"),$AF$2,IF(OR(T201=\"5.1\",T201=\"5.2\",T201=\"5.3\",T201=\"5.4\",T201=\"5.5\",T201=\"5.6\"),$AG$2))))))","v":{"$error":"#REF!"}},null,null,null,null,{"$f":"#REF!","v":{"$error":"#REF!"}},"1.",{"$f":"IF(AL201=\"x\",#REF!,\"\")","v":{"$error":"#REF!"}},null,null,null,null,{"$f":"#REF!","v":{"$error":"#REF!"}},{"$f":"#REF!","v":{"$error":"#REF!"}},{"$f":"#REF!","v":{"$error":"#REF!"}},{"$f":"#REF!","v":{"$error":"#REF!"}},{"$f":"#REF!","v":{"$error":"#REF!"}},null,null,null,null,null,null,null,null,null,null,null,null,null,null,null,null,null,1,{"$f":"IF(PLAN!$G$199=\"1T\",PLAN!F201,IF(PLAN!$N$199=\"2T\",PLAN!M201,IF(PLAN!$U$199=\"3T\",PLAN!T201,\"\")))","v":{"$error":"#REF!"}},null,null,null,null,null,{"$f":"PLAN!$AX201","v":0},{"$f":"PLAN!$AY201","v":0},{"$f":"PLAN!$AZ201","v":0},{"$f":"PLAN!$BA201","v":0},{"$f":"PLAN!$BB201","v":0},{"$f":"PLAN!$BC201","v":0},{"$f":"PLAN!$BD201","v":0},{"$f":"PLAN!$BE201","v":0},{"$f":"PLAN!$BF201","v":0},{"$f":"PLAN!$BG201","v":0},{"$f":"PLAN!$BH201","v":0},{"$f":"PLAN!$BI201","v":0},{"$f":"PLAN!$BJ201","v":0},{"$f":"PLAN!$BK201","v":0},{"$f":"PLAN!$BL201","v":0},null,null,null,{"$f":"IF(PLAN!$C201=\"\",\"\",PLAN!$C201)","v":""},null,null,null,null,1,"x","EM"]
[null,null,{"$f":"IF(D202=\"\",\"\",$AB$28)","v":""},null,{"$f":"IF(#REF!=\"\",\"\",#REF!)","v":{"$error":"#REF!"}},{"$f":"IF(CW202=\"\",#REF!,CW202)","v":{"$error":"#REF!"}},{"$f":"IF(CX202=\"\",#REF!,CX202)","v":{"$error":"#REF!"}},{"$f":"IF(CY202=\"\",#REF!,CY202)","v":{"$error":"#REF!"}},{"$f":"IF(CZ202=\"\",#REF!,CZ202)","v":{"$error":"#REF!"}},{"$f":"IF(DA202=\"\",#REF!,DA202)","v":{"$error":"#REF!"}},{"$f":"IF(DB202=\"\",#REF!,DB202)","v":{"$error":"#REF!"}},{"$f":"IF(#REF!=\"\",\"\",#REF!)","v":{"$error":"#REF!"}},{"$f":"IF(DC202=\"\",#REF!,DC202)","v":{"$error":"#REF!"}},{"$f":"IF(DD202=\"\",#REF!,DD202)","v":{"$error":"#REF!"}},{"$f":"IF(DE202=\"\",#REF!,DE202)","v":{"$error":"#REF!"}},{"$f":"IF(DF202=\"\",#REF!,DF202)","v":{"$error":"#REF!"}},{"$f":"IF(DG202=\"\",#REF!,DG202)","v":{"$error":"#REF!"}},{"$f":"IF(DH202=\"\",#REF!,DH202)","v":{"$error":"#REF!"}},{"$f":"IF(#REF!=\"\",\"\",#REF!)","v":{"$error":"#REF!"}},{"$f":"IF(DI202=\"\",#REF!,DI202)","v":{"$error":"#REF!"}},{"$f":"IF(DJ202=\"\",#REF!,DJ202)","v":{"$error":"#REF!"}},{"$f":"IF(DK202=\"\",#REF!,DK202)","v":{"$error":"#REF!"}},{"$f":"IF(DL202=\"\",#REF!,DL202)","v":{"$error":"#REF!"}},{"$f":"IF(DM202=\"\",#REF!,DM202)","v":{"$error":"#REF!"}},{"$f":"IF(DN202=\"\",#REF!,DN202)","v":{"$error":"#REF!"}},null,null,null,null,null,{"$f":"IF(F202=0,\"\",IF(OR(F202=\"1.1\",F202=\"1.2\",F202=\"1.3\",F202=\"1.4\",F202=\"1.5\",F202=\"1.6\"), $AC$2,IF(OR(F202=\"2.1\",F202=\"2.2\",F202=\"2.3\",F202=\"2.4\",F202=\"2.5\",F202=\"2.6\"),$AD$2,IF(OR(F202=\"3.1\",F202=\"3.2\",F202=\"3.3\",F202=\"3.4\",F202=\"3.5\",F202=\"3.6\"),$AE$2,IF(OR(F202=\"4.1\",F202=\"4.2\",F202=\"4.3\",F202=\"4.4\",F202=\"4.5\",F202=\"4.6\"),$AF$2,IF(OR(F202=\"5.1\",F202=\"5.2\",F202=\"5.3\",F202=\"5.4\",F202=\"5.5\",F202=\"5.6\"),$AG$2))))))","v":{"$error":"#REF!"}},{"$f":"IF(M202=0,\"\",IF(OR(M202=\"1.1\",M202=\"1.2\",M202=\"1.3\",M202=\"1.4\",M202=\"1.5\",M202=\"1.6\"), $AC$2,IF(OR(M202=\"2.1\",M202=\"2.2\",M202=\"2.3\",M202=\"2.4\",M202=\"2.5\",M202=\"2.6\"),$AD$2,IF(OR(M202=\"3.1\",M202=\"3.2\",M202=\"3.3\",M202=\"3.4\",M202=\"3.5\",M202=\"3.6\"),$AE$2,IF(OR(M202=\"4.1\",M202=\"4.2\",M202=\"4.3\",M202=\"4.4\",M202=\"4.5\",M202=\"4.6\"),$AF$2,IF(OR(M202=\"5.1\",M202=\"5.2\",M202=\"5.3\",M202=\"5.4\",M202=\"5.5\",M202=\"5.6\"),$AG$2))))))","v":{"$error":"#REF!"}},{"$f":"IF(T202=0,\"\",IF(OR(T202=\"1.1\",T202=\"1.2\",T202=\"1.3\",T202=\"1.4\",T202=\"1.5\",T202=\"1.6\"), $AC$2,IF(OR(T202=\"2.1\",T202=\"2.2\",T202=\"2.3\",T202=\"2.4\",T202=\"2.5\",T202=\"2.6\"),$AD$2,IF(OR(T202=\"3.1\",T202=\"3.2\",T202=\"3.3\",T202=\"3.4\",T202=\"3.5\",T202=\"3.6\"),$AE$2,IF(OR(T202=\"4.1\",T202=\"4.2\",T202=\"4.3\",T202=\"4.4\",T202=\"4.5\",T202=\"4.6\"),$AF$2,IF(OR(T202=\"5.1\",T202=\"5.2\",T202=\"5.3\",T202=\"5.4\",T202=\"5.5\",T202=\"5.6\"),$AG$2))))))","v":{"$error":"#REF!"}},null,null,null,null,{"$f":"#REF!","v":{"$error":"#REF!"}},"2.",{"$f":"IF(AL202=\"x\",#REF!,\"\")","v":{"$error":"#REF!"}},null,null,null,null,{"$f":"#REF!","v":{"$error":"#REF!"}},{"$f":"#REF!","v":{"$error":"#REF!"}},{"$f":"#REF!","v":{"$error":"#REF!"}},{"$f":"#REF!","v":{"$error":"#REF!"}},{"$f":"#REF!","v":{"$error":"#REF!"}},null,null,null,null,null,null,null,null,null,null,null,null,null,null,null,null,null,2,{"$f":"IF(PLAN!$G$199=\"1T\",PLAN!F202,IF(PLAN!$N$199=\"2T\",PLAN!M202,IF(PLAN!$U$199=\"3T\",PLAN!T202,\"\")))","v":{"$error":"#REF!"}},null,null,null,null,null,{"$f":"PLAN!$AX202","v":0},{"$f":"PLAN!$AY202","v":0},{"$f":"PLAN!$AZ202","v":0},{"$f":"PLAN!$BA202","v":0},{"$f":"PLAN!$BB202","v":0},{"$f":"PLAN!$BC202","v":0},{"$f":"PLAN!$BD202","v":0},{"$f":"PLAN!$BE202","v":0},{"$f":"PLAN!$BF202","v":0},{"$f":"PLAN!$BG202","v":0},{"$f":"PLAN!$BH202","v":0},{"$f":"PLAN!$BI202","v":0},{"$f":"PLAN!$BJ202","v":0},{"$f":"PLAN!$BK202","v":0},{"$f":"PLAN!$BL202","v":0},null,null,null,{"$f":"IF(PLAN!$C202=\"\",\"\",PLAN!$C202)","v":""},null,null,null,null,2,"a","E"]
[null,null,{"$f":"IF(D203=\"\",\"\",$AB$29)","v":""},null,{"$f":"IF(#REF!=\"\",\"\",#REF!)","v":{"$error":"#REF!"}},{"$f":"IF(CW203=\"\",#REF!,CW203)","v":{"$error":"#REF!"}},{"$f":"IF(CX203=\"\",#REF!,CX203)","v":{"$error":"#REF!"}},{"$f":"IF(CY203=\"\",#REF!,CY203)","v":{"$error":"#REF!"}},{"$f":"IF(CZ203=\"\",#REF!,CZ203)","v":{"$error":"#REF!"}},{"$f":"IF(DA203=\"\",#REF!,DA203)","v":{"$error":"#REF!"}},{"$f":"IF(DB203=\"\",#REF!,DB203)","v":{"$error":"#REF!"}},{"$f":"IF(#REF!=\"\",\"\",#REF!)","v":{"$error":"#REF!"}},{"$f":"IF(DC203=\"\",#REF!,DC203)","v":{"$error":"#REF!"}},{"$f":"IF(DD203=\"\",#REF!,DD203)","v":{"$error":"#REF!"}},{"$f":"IF(DE203=\"\",#REF!,DE203)","v":{"$error":"#REF!"}},{"$f":"IF(DF203=\"\",#REF!,DF203)","v":{"$error":"#REF!"}},{"$f":"IF(DG203=\"\",#REF!,DG203)","v":{"$error":"#REF!"}},{"$f":"IF(DH203=\"\",#REF!,DH203)","v":{"$error":"#REF!"}},{"$f":"IF(#REF!=\"\",\"\",#REF!)","v":{"$error":"#REF!"}},{"$f":"IF(DI203=\"\",#REF!,DI203)","v":{"$error":"#REF!"}},{"$f":"IF(DJ203=\"\",#REF!,DJ203)","v":{"$error":"#REF!"}},{"$f":"IF(DK203=\"\",#REF!,DK203)","v":{"$error":"#REF!"}},{"$f":"IF(DL203=\"\",#REF!,DL203)","v":{"$error":"#REF!"}},{"$f":"IF(DM203=\"\",#REF!,DM203)","v":{"$error":"#REF!"}},{"$f":"IF(DN203=\"\",#REF!,DN203)","v":{"$error":"#REF!"}},null,null,null,null,null,{"$error":"#REF!"},{"$error":"#REF!"},{"$error":"#REF!"},null,null,null,null,{"$f":"#REF!","v":{"$error":"#REF!"}},"3.",{"$f":"IF(AL203=\"x\",#REF!,\"\")","v":{"$error":"#REF!"}},null,null,null,null,{"$f":"#REF!","v":{"$error":"#REF!"}},{"$f":"#REF!","v":{"$error":"#REF!"}},{"$f":"#REF!","v":{"$error":"#REF!"}},{"$f":"#REF!","v":{"$error":"#REF!"}},{"$f":"#REF!","v":{"$error":"#REF!"}},null,null,null,null,null,null,null,null,null,null,null,null,null,null,null,null,null,3,{"$f":"IF(PLAN!$G$199=\"1T\",PLAN!F203,IF(PLAN!$N$199=\"2T\",PLAN!M203,IF(PLAN!$U$199=\"3T\",PLAN!T203,\"\")))","v":{"$error":"#REF!"}},null,null,null,null,null,{"$f":"PLAN!$AX203","v":0},{"$f":"PLAN!$AY203","v":0},{"$f":"PLAN!$AZ203","v":0},{"$f":"PLAN!$BA203","v":0},{"$f":"PLAN!$BB203","v":0},{"$f":"PLAN!$BC203","v":0},{"$f":"PLAN!$BD203","v":0},{"$f":"PLAN!$BE203","v":0},{"$f":"PLAN!$BF203","v":0},{"$f":"PLAN!$BG203","v":0},{"$f":"PLAN!$BH203","v":0},{"$f":"PLAN!$BI203","v":0},{"$f":"PLAN!$BJ203","v":0},{"$f":"PLAN!$BK203","v":0},{"$f":"PLAN!$BL203","v":0},null,null,null,{"$f":"IF(PLAN!$C203=\"\",\"\",PLAN!$C203)","v":""},null,null,null,null,3,"b","E"]
[null,null,{"$f":"IF(D204=\"\",\"\",$AB$30)","v":""},null,{"$f":"IF(#REF!=\"\",\"\",#REF!)","v":{"$error":"#REF!"}},{"$f":"IF(CW204=\"\",#REF!,CW204)","v":{"$error":"#REF!"}},{"$f":"IF(CX204=\"\",#REF!,CX204)","v":{"$error":"#REF!"}},{"$f":"IF(CY204=\"\",#REF!,CY204)","v":{"$error":"#REF!"}},{"$f":"IF(CZ204=\"\",#REF!,CZ204)","v":{"$error":"#REF!"}},{"$f":"IF(DA204=\"\",#REF!,DA204)","v":{"$error":"#REF!"}},{"$f":"IF(DB204=\"\",#REF!,DB204)","v":{"$error":"#REF!"}},{"$f":"IF(#REF!=\"\",\"\",#REF!)","v":{"$error":"#REF!"}},{"$f":"IF(DC204=\"\",#REF!,DC204)","v":{"$error":"#REF!"}},{"$f":"IF(DD204=\"\",#REF!,DD204)","v":{"$error":"#REF!"}},{"$f":"IF(DE204=\"\",#REF!,DE204)","v":{"$error":"#REF!"}},{"$f":"IF(DF204=\"\",#REF!,DF204)","v":{"$error":"#REF!"}},{"$f":"IF(DG204=\"\",#REF!,DG204)","v":{"$error":"#REF!"}},{"$f":"IF(DH204=\"\",#REF!,DH204)","v":{"$error":"#REF!"}},{"$f":"IF(#REF!=\"\",\"\",#REF!)","v":{"$error":"#REF!"}},{"$f":"IF(DI204=\"\",#REF!,DI204)","v":{"$error":"#REF!"}},{"$f":"IF(DJ204=\"\",#REF!,DJ204)","v":{"$error":"#REF!"}},{"$f":"IF(DK204=\"\",#REF!,DK204)","v":{"$error":"#REF!"}},{"$f":"IF(DL204=\"\",#REF!,DL204)","v":{"$error":"#REF!"}},{"$f":"IF(DM204=\"\",#REF!,DM204)","v":{"$error":"#REF!"}},{"$f":"IF(DN204=\"\",#REF!,DN204)","v":{"$error":"#REF!"}},null,null,null,null,null,{"$error":"#REF!"},{"$error":"#REF!"},{"$error":"#REF!"},null,null,null,null,{"$f":"#REF!","v":{"$error":"#REF!"}},"4.",{"$f":"IF(AL204=\"x\",#REF!,\"\")","v":{"$error":"#REF!"}},null,null,null,null,{"$f":"#REF!","v":{"$error":"#REF!"}},{"$f":"#REF!","v":{"$error":"#REF!"}},{"$f":"#REF!","v":{"$error":"#REF!"}},{"$f":"#REF!","v":{"$error":"#REF!"}},{"$f":"#REF!","v":{"$error":"#REF!"}},null,null,null,null,null,null,null,null,null,null,null,null,null,null,null,null,null,4,{"$f":"IF(PLAN!$G$199=\"1T\",PLAN!F204,IF(PLAN!$N$199=\"2T\",PLAN!M204,IF(PLAN!$U$199=\"3T\",PLAN!T204,\"\")))","v":{"$error":"#REF!"}},null,null,null,null,null,{"$f":"PLAN!$AX204","v":0},{"$f":"PLAN!$AY204","v":0},{"$f":"PLAN!$AZ204","v":0},{"$f":"PLAN!$BA204","v":0},{"$f":"PLAN!$BB204","v":0},{"$f":"PLAN!$BC204","v":0},{"$f":"PLAN!$BD204","v":0},{"$f":"PLAN!$BE204","v":0},{"$f":"PLAN!$BF204","v":0},{"$f":"PLAN!$BG204","v":0},{"$f":"PLAN!$BH204","v":0},{"$f":"PLAN!$BI204","v":0},{"$f":"PLAN!$BJ204","v":0},{"$f":"PLAN!$BK204","v":0},{"$f":"PLAN!$BL204","v":0},null,null,null,{"$f":"IF(PLAN!$C204=\"\",\"\",PLAN!$C204)","v":""},null,null,null,null,4,"c","E"]
[null,null,{"$f":"IF(D205=\"\",\"\",$AB$31)","v":""},null,{"$f":"IF(#REF!=\"\",\"\",#REF!)","v":{"$error":"#REF!"}},{"$f":"IF(CW205=\"\",#REF!,CW205)","v":{"$error":"#REF!"}},{"$f":"IF(CX205=\"\",#REF!,CX205)","v":{"$error":"#REF!"}},{"$f":"IF(CY205=\"\",#REF!,CY205)","v":{"$error":"#REF!"}},{"$f":"IF(CZ205=\"\",#REF!,CZ205)","v":{"$error":"#REF!"}},{"$f":"IF(DA205=\"\",#REF!,DA205)","v":{"$error":"#REF!"}},{"$f":"IF(DB205=\"\",#REF!,DB205)","v":{"$error":"#REF!"}},{"$f":"IF(#REF!=\"\",\"\",#REF!)","v":{"$error":"#REF!"}},{"$f":"IF(DC205=\"\",#REF!,DC205)","v":{"$error":"#REF!"}},{"$f":"IF(DD205=\"\",#REF!,DD205)","v":{"$error":"#REF!"}},{"$f":"IF(DE205=\"\",#REF!,DE205)","v":{"$error":"#REF!"}},{"$f":"IF(DF205=\"\",#REF!,DF205)","v":{"$error":"#REF!"}},{"$f":"IF(DG205=\"\",#REF!,DG205)","v":{"$error":"#REF!"}},{"$f":"IF(DH205=\"\",#REF!,DH205)","v":{"$error":"#REF!"}},{"$f":"IF(#REF!=\"\",\"\",#REF!)","v":{"$error":"#REF!"}},{"$f":"IF(DI205=\"\",#REF!,DI205)","v":{"$error":"#REF!"}},{"$f":"IF(DJ205=\"\",#REF!,DJ205)","v":{"$error":"#REF!"}},{"$f":"IF(DK205=\"\",#REF!,DK205)","v":{"$error":"#REF!"}},{"$f":"IF(DL205=\"\",#REF!,DL205)","v":{"$error":"#REF!"}},{"$f":"IF(DM205=\"\",#REF!,DM205)","v":{"$error":"#REF!"}},{"$f":"IF(DN205=\"\",#REF!,DN205)","v":{"$error":"#REF!"}},null,null,null,null,null,{"$error":"#REF!"},{"$error":"#REF!"},{"$error":"#REF!"},null,null,null,null,{"$f":"#REF!","v":{"$error":"#REF!"}},"5.",{"$f":"IF(AL205=\"x\",#REF!,\"\")","v":{"$error":"#REF!"}},null,null,null,null,{"$f":"#REF!","v":{"$error":"#REF!"}},{"$f":"#REF!","v":{"$error":"#REF!"}},{"$f":"#REF!","v":{"$error":"#REF!"}},{"$f":"#REF!","v":{"$error":"#REF!"}},{"$f":"#REF!","v":{"$error":"#REF!"}},null,null,null,null,null,null,null,null,null,null,null,null,null,null,null,null,null,5,{"$f":"IF(PLAN!$G$199=\"1T\",PLAN!F205,IF(PLAN!$N$199=\"2T\",PLAN!M205,IF(PLAN!$U$199=\"3T\",PLAN!T205,\"\")))","v":{"$error":"#REF!"}},null,null,null,null,null,{"$f":"PLAN!$AX205","v":0},{"$f":"PLAN!$AY205","v":0},{"$f":"PLAN!$AZ205","v":0},{"$f":"PLAN!$BA205","v":0},{"$f":"PLAN!$BB205","v":0},{"$f":"PLAN!$BC205","v":0},{"$f":"PLAN!$BD205","v":0},{"$f":"PLAN!$BE205","v":0},{"$f":"PLAN!$BF205","v":0},{"$f":"PLAN!$BG205","v":0},{"$f":"PLAN!$BH205","v":0},{"$f":"PLAN!$BI205","v":0},{"$f":"PLAN!$BJ205","v":0},{"$f":"PLAN!$BK205","v":0},{"$f":"PLAN!$BL205","v":0},null,null,null,{"$f":"IF(PLAN!$C205=\"\",\"\",PLAN!$C205)","v":""},null,null,null,null,5,"d","E"]
[null,"2T",{"$f":"IF(D206=\"\",\"\",$AB$27)","v":""},null,{"$f":"IF(#REF!=\"\",\"\",#REF!)","v":{"$error":"#REF!"}},{"$f":"IF(CW206=\"\",#REF!,CW206)","v":{"$error":"#REF!"}},{"$f":"IF(CX206=\"\",#REF!,CX206)","v":{"$error":"#REF!"}},{"$f":"IF(CY206=\"\",#REF!,CY206)","v":{"$error":"#REF!"}},{"$f":"IF(CZ206=\"\",#REF!,CZ206)","v":{"$error":"#REF!"}},{"$f":"IF(DA206=\"\",#REF!,DA206)","v":{"$error":"#REF!"}},{"$f":"IF(DB206=\"\",#REF!,DB206)","v":{"$error":"#REF!"}},{"$f":"IF(#REF!=\"\",\"\",#REF!)","v":{"$error":"#REF!"}},{"$f":"IF(DC206=\"\",#REF!,DC206)","v":{"$error":"#REF!"}},{"$f":"IF(DD206=\"\",#REF!,DD206)","v":{"$error":"#REF!"}},{"$f":"IF(DE206=\"\",#REF!,DE206)","v":{"$error":"#REF!"}},{"$f":"IF(DF206=\"\",#REF!,DF206)","v":{"$error":"#REF!"}},{"$f":"IF(DG206=\"\",#REF!,DG206)","v":{"$error":"#REF!"}},{"$f":"IF(DH206=\"\",#REF!,DH206)","v":{"$error":"#REF!"}},{"$f":"IF(#REF!=\"\",\"\",#REF!)","v":{"$error":"#REF!"}},{"$f":"IF(DI206=\"\",#REF!,DI206)","v":{"$error":"#REF!"}},{"$f":"IF(DJ206=\"\",#REF!,DJ206)","v":{"$error":"#REF!"}},{"$f":"IF(DK206=\"\",#REF!,DK206)","v":{"$error":"#REF!"}},{"$f":"IF(DL206=\"\",#REF!,DL206)","v":{"$error":"#REF!"}},{"$f":"IF(DM206=\"\",#REF!,DM206)","v":{"$error":"#REF!"}},{"$f":"IF(DN206=\"\",#REF!,DN206)","v":{"$error":"#REF!"}},null,null,null,null,null,{"$error":"#REF!"},{"$error":"#REF!"},{"$error":"#REF!"},null,null,null,null,null,null,{"$f":"IF(S198=\"1T\",\"PT\",\"\")","v":""},{"$f":"IF(Z198=\"2T\",\"ST\",\"\")","v":""},{"$f":"IF(DJ198=\"3T\",\"TT\",\"\")","v":""},null,null,null,null,null,null,null,null,null,null,null,null,null,null,null,null,null,null,null,null,null,null,null,null,6,{"$f":"IF(PLAN!$G$199=\"1T\",PLAN!F206,IF(PLAN!$N$199=\"2T\",PLAN!M206,IF(PLAN!$U$199=\"3T\",PLAN!T206,\"\")))","v":{"$error":"#REF!"}},null,null,null,null,null,null,null,null,null,null,null,null,null,null,null,null,null,null,null,null,null,null,null,{"$f":"IF(PLAN!$C206=\"\",\"\",PLAN!$C206)","v":""},null,null,null,null,6,"e","E"]
[null,null,{"$f":"IF(D207=\"\",\"\",$AB$28)","v":""},null,{"$f":"IF(#REF!=\"\",\"\",#REF!)","v":{"$error":"#REF!"}},{"$f":"IF(CW207=\"\",#REF!,CW207)","v":{"$error":"#REF!"}},{"$f":"IF(CX207=\"\",#REF!,CX207)","v":{"$error":"#REF!"}},{"$f":"IF(CY207=\"\",#REF!,CY207)","v":{"$error":"#REF!"}},{"$f":"IF(CZ207=\"\",#REF!,CZ207)","v":{"$error":"#REF!"}},{"$f":"IF(DA207=\"\",#REF!,DA207)","v":{"$error":"#REF!"}},{"$f":"IF(DB207=\"\",#REF!,DB207)","v":{"$error":"#REF!"}},{"$f":"IF(#REF!=\"\",\"\",#REF!)","v":{"$error":"#REF!"}},{"$f":"IF(DC207=\"\",#REF!,DC207)","v":{"$error":"#REF!"}},{"$f":"IF(DD207=\"\",#REF!,DD207)","v":{"$error":"#REF!"}},{"$f":"IF(DE207=\"\",#REF!,DE207)","v":{"$error":"#REF!"}},{"$f":"IF(DF207=\"\",#REF!,DF207)","v":{"$error":"#REF!"}},{"$f":"IF(DG207=\"\",#REF!,DG207)","v":{"$error":"#REF!"}},{"$f":"IF(DH207=\"\",#REF!,DH207)","v":{"$error":"#REF!"}},{"$f":"IF(#REF!=\"\",\"\",#REF!)","v":{"$error":"#REF!"}},{"$f":"IF(DI207=\"\",#REF!,DI207)","v":{"$error":"#REF!"}},{"$f":"IF(DJ207=\"\",#REF!,DJ207)","v":{"$error":"#REF!"}},{"$f":"IF(DK207=\"\",#REF!,DK207)","v":{"$error":"#REF!"}},{"$f":"IF(DL207=\"\",#REF!,DL207)","v":{"$error":"#REF!"}},{"$f":"IF(DM207=\"\",#REF!,DM207)","v":{"$error":"#REF!"}},{"$f":"IF(DN207=\"\",#REF!,DN207)","v":{"$error":"#REF!"}},null,null,null,null,null,{"$error":"#REF!"},{"$error":"#REF!"},{"$error":"#REF!"},null,null,null,null,null,null,null,null,null,null,null,null,null,null,null,null,null,null,null,null,null,null,null,null,null,null,null,null,null,null,null,null,null,7,{"$f":"IF(PLAN!$G$199=\"1T\",PLAN!F207,IF(PLAN!$N$199=\"2T\",PLAN!M207,IF(PLAN!$U$199=\"3T\",PLAN!T207,\"\")))","v":{"$error":"#REF!"}},null,null,null,null,null,null,null,null,null,null,null,null,null,null,null,null,null,null,null,null,null,null,null,{"$f":"IF(PLAN!$C207=\"\",\"\",PLAN!$C207)","v":""},null,null,null,null,7,"f"]
[null,null,{"$f":"IF(D208=\"\",\"\",$AB$29)","v":""},null,{"$f":"IF(#REF!=\"\",\"\",#REF!)","v":{"$error":"#REF!"}},{"$f":"IF(CW208=\"\",#REF!,CW208)","v":{"$error":"#REF!"}},{"$f":"IF(CX208=\"\",#REF!,CX208)","v":{"$error":"#REF!"}},{"$f":"IF(CY208=\"\",#REF!,CY208)","v":{"$error":"#REF!"}},{"$f":"IF(CZ208=\"\",#REF!,CZ208)","v":{"$error":"#REF!"}},{"$f":"IF(DA208=\"\",#REF!,DA208)","v":{"$error":"#REF!"}},{"$f":"IF(DB208=\"\",#REF!,DB208)","v":{"$error":"#REF!"}},{"$f":"IF(#REF!=\"\",\"\",#REF!)","v":{"$error":"#REF!"}},{"$f":"IF(DC208=\"\",#REF!,DC208)","v":{"$error":"#REF!"}},{"$f":"IF(DD208=\"\",#REF!,DD208)","v":{"$error":"#REF!"}},{"$f":"IF(DE208=\"\",#REF!,DE208)","v":{"$error":"#REF!"}},{"$f":"IF(DF208=\"\",#REF!,DF208)","v":{"$error":"#REF!"}},{"$f":"IF(DG208=\"\",#REF!,DG208)","v":{"$error":"#REF!"}},{"$f":"IF(DH208=\"\",#REF!,DH208)","v":{"$error":"#REF!"}},{"$f":"IF(#REF!=\"\",\"\",#REF!)","v":{"$error":"#REF!"}},{"$f":"IF(DI208=\"\",#REF!,DI208)","v":{"$error":"#REF!"}},{"$f":"IF(DJ208=\"\",#REF!,DJ208)","v":{"$error":"#REF!"}},{"$f":"IF(DK208=\"\",#REF!,DK208)","v":{"$error":"#REF!"}},{"$f":"IF(DL208=\"\",#REF!,DL208)","v":{"$error":"#REF!"}},{"$f":"IF(DM208=\"\",#REF!,DM208)","v":{"$error":"#REF!"}},{"$f":"IF(DN208=\"\",#REF!,DN208)","v":{"$error":"#REF!"}},null,null,null,null,null,{"$error":"#REF!"},{"$error":"#REF!"},{"$error":"#REF!"},null,null,null,null,null,null,null,null,null,null,null,null,null,null,null,null,null,null,null,null,null,null,null,null,null,null,null,null,null,null,null,null,null,8,{"$f":"IF(PLAN!$G$199=\"1T\",PLAN!F208,IF(PLAN!$N$199=\"2T\",PLAN!M208,IF(PLAN!$U$199=\"3T\",PLAN!T208,\"\")))","v":{"$error":"#REF!"}},null,null,null,null,null,null,null,null,null,null,null,null,null,null,null,null,null,null,null,null,null,null,null,{"$f":"IF(PLAN!$C208=\"\",\"\",PLAN!$C208)","v":""},null,null,null,null,8,"g"]
[null,null,{"$f":"IF(D209=\"\",\"\",$AB$30)","v":""},null,{"$f":"IF(#REF!=\"\",\"\",#REF!)","v":{"$error":"#REF!"}},{"$f":"IF(CW209=\"\",#REF!,CW209)","v":{"$error":"#REF!"}},{"$f":"IF(CX209=\"\",#REF!,CX209)","v":{"$error":"#REF!"}},{"$f":"IF(CY209=\"\",#REF!,CY209)","v":{"$error":"#REF!"}},{"$f":"IF(CZ209=\"\",#REF!,CZ209)","v":{"$error":"#REF!"}},{"$f":"IF(DA209=\"\",#REF!,DA209)","v":{"$error":"#REF!"}},{"$f":"IF(DB209=\"\",#REF!,DB209)","v":{"$error":"#REF!"}},{"$f":"IF(#REF!=\"\",\"\",#REF!)","v":{"$error":"#REF!"}},{"$f":"IF(DC209=\"\",#REF!,DC209)","v":{"$error":"#REF!"}},{"$f":"IF(DD209=\"\",#REF!,DD209)","v":{"$error":"#REF!"}},{"$f":"IF(DE209=\"\",#REF!,DE209)","v":{"$error":"#REF!"}},{"$f":"IF(DF209=\"\",#REF!,DF209)","v":{"$error":"#REF!"}},{"$f":"IF(DG209=\"\",#REF!,DG209)","v":{"$error":"#REF!"}},{"$f":"IF(DH209=\"\",#REF!,DH209)","v":{"$error":"#REF!"}},{"$f":"IF(#REF!=\"\",\"\",#REF!)","v":{"$error":"#REF!"}},{"$f":"IF(DI209=\"\",#REF!,DI209)","v":{"$error":"#REF!"}},{"$f":"IF(DJ209=\"\",#REF!,DJ209)","v":{"$error":"#REF!"}},{"$f":"IF(DK209=\"\",#REF!,DK209)","v":{"$error":"#REF!"}},{"$f":"IF(DL209=\"\",#REF!,DL209)","v":{"$error":"#REF!"}},{"$f":"IF(DM209=\"\",#REF!,DM209)","v":{"$error":"#REF!"}},{"$f":"IF(DN209=\"\",#REF!,DN209)","v":{"$error":"#REF!"}},null,null,null,null,null,{"$error":"#REF!"},{"$error":"#REF!"},{"$error":"#REF!"},null,null,null,null,null,null,null,null,null,null,null,null,null,null,null,null,null,null,null,null,null,null,null,null,null,null,null,null,null,null,null,null,null,9,{"$f":"IF(PLAN!$G$199=\"1T\",PLAN!F209,IF(PLAN!$N$199=\"2T\",PLAN!M209,IF(PLAN!$U$199=\"3T\",PLAN!T209,\"\")))","v":{"$error":"#REF!"}},null,null,null,null,null,null,null,null,null,null,null,null,null,null,null,null,null,null,null,null,null,null,null,{"$f":"IF(PLAN!$C209=\"\",\"\",PLAN!$C209)","v":""},null,null,null,null,9,"h"]
[null,null,{"$f":"IF(D210=\"\",\"\",$AB$31)","v":""},"",{"$f":"IF(#REF!=\"\",\"\",#REF!)","v":{"$error":"#REF!"}},{"$f":"IF(CW210=\"\",#REF!,CW210)","v":{"$error":"#REF!"}},{"$f":"IF(CX210=\"\",#REF!,CX210)","v":{"$error":"#REF!"}},{"$f":"IF(CY210=\"\",#REF!,CY210)","v":{"$error":"#REF!"}},{"$f":"IF(CZ210=\"\",#REF!,CZ210)","v":{"$error":"#REF!"}},{"$f":"IF(DA210=\"\",#REF!,DA210)","v":{"$error":"#REF!"}},{"$f":"IF(DB210=\"\",#REF!,DB210)","v":{"$error":"#REF!"}},{"$f":"IF(#REF!=\"\",\"\",#REF!)","v":{"$error":"#REF!"}},{"$f":"IF(DC210=\"\",#REF!,DC210)","v":{"$error":"#REF!"}},{"$f":"IF(DD210=\"\",#REF!,DD210)","v":{"$error":"#REF!"}},{"$f":"IF(DE210=\"\",#REF!,DE210)","v":{"$error":"#REF!"}},{"$f":"IF(DF210=\"\",#REF!,DF210)","v":{"$error":"#REF!"}},{"$f":"IF(DG210=\"\",#REF!,DG210)","v":{"$error":"#REF!"}},{"$f":"IF(DH210=\"\",#REF!,DH210)","v":{"$error":"#REF!"}},{"$f":"IF(#REF!=\"\",\"\",#REF!)","v":{"$error":"#REF!"}},{"$f":"IF(DI210=\"\",#REF!,DI210)","v":{"$error":"#REF!"}},{"$f":"IF(DJ210=\"\",#REF!,DJ210)","v":{"$error":"#REF!"}},{"$f":"IF(DK210=\"\",#REF!,DK210)","v":{"$error":"#REF!"}},{"$f":"IF(DL210=\"\",#REF!,DL210)","v":{"$error":"#REF!"}},{"$f":"IF(DM210=\"\",#REF!,DM210)","v":{"$error":"#REF!"}},{"$f":"IF(DN210=\"\",#REF!,DN210)","v":{"$error":"#REF!"}},null,null,null,null,null,{"$error":"#REF!"},{"$error":"#REF!"},{"$error":"#REF!"},null,null,null,null,null,null,null,null,null,null,null,null,null,null,null,null,null,null,null,null,null,null,null,null,null,null,null,null,null,null,null,null,null,10,{"$f":"IF(PLAN!$G$199=\"1T\",PLAN!F210,IF(PLAN!$N$199=\"2T\",PLAN!M210,IF(PLAN!$U$199=\"3T\",PLAN!T210,\"\")))","v":{"$error":"#REF!"}},null,null,null,null,null,null,null,null,null,null,null,null,null,null,null,null,null,null,null,null,null,null,null,{"$f":"IF(PLAN!$C210=\"\",\"\",PLAN!$C210)","v":""},null,null,null,null,10,"i"]
[null,"3T",{"$f":"IF(D211=\"\",\"\",$AB$27)","v":""},"",{"$f":"IF(#REF!=\"\",\"\",#REF!)","v":{"$error":"#REF!"}},{"$f":"IF(CW211=\"\",#REF!,CW211)","v":{"$error":"#REF!"}},{"$f":"IF(CX211=\"\",#REF!,CX211)","v":{"$error":"#REF!"}},{"$f":"IF(CY211=\"\",#REF!,CY211)","v":{"$error":"#REF!"}},{"$f":"IF(CZ211=\"\",#REF!,CZ211)","v":{"$error":"#REF!"}},{"$f":"IF(DA211=\"\",#REF!,DA211)","v":{"$error":"#REF!"}},{"$f":"IF(DB211=\"\",#REF!,DB211)","v":{"$error":"#REF!"}},{"$f":"IF(#REF!=\"\",\"\",#REF!)","v":{"$error":"#REF!"}},{"$f":"IF(DC211=\"\",#REF!,DC211)","v":{"$error":"#REF!"}},{"$f":"IF(DD211=\"\",#REF!,DD211)","v":{"$error":"#REF!"}},{"$f":"IF(DE211=\"\",#REF!,DE211)","v":{"$error":"#REF!"}},{"$f":"IF(DF211=\"\",#REF!,DF211)","v":{"$error":"#REF!"}},{"$f":"IF(DG211=\"\",#REF!,DG211)","v":{"$error":"#REF!"}},{"$f":"IF(DH211=\"\",#REF!,DH211)","v":{"$error":"#REF!"}},{"$f":"IF(#REF!=\"\",\"\",#REF!)","v":{"$error":"#REF!"}},{"$f":"IF(DI211=\"\",#REF!,DI211)","v":{"$error":"#REF!"}},{"$f":"IF(DJ211=\"\",#REF!,DJ211)","v":{"$error":"#REF!"}},{"$f":"IF(DK211=\"\",#REF!,DK211)","v":{"$error":"#REF!"}},{"$f":"IF(DL211=\"\",#REF!,DL211)","v":{"$error":"#REF!"}},{"$f":"IF(DM211=\"\",#REF!,DM211)","v":{"$error":"#REF!"}},{"$f":"IF(DN211=\"\",#REF!,DN211)","v":{"$error":"#REF!"}},null,null,null,null,null,{"$error":"#REF!"},{"$error":"#REF!"},{"$error":"#REF!"},null,null,null,null,null,null,null,null,null,null,null,null,null,null,null,null,null,null,null,null,null,null,null,null,null,null,null,null,null,null,null,null,null,11,{"$f":"IF(PLAN!$G$199=\"1T\",PLAN!F211,IF(PLAN!$N$199=\"2T\",PLAN!M211,IF(PLAN!$U$199=\"3T\",PLAN!T211,\"\")))","v":{"$error":"#REF!"}},null,null,null,null,null,null,null,null,null,null,null,null,null,null,null,null,null,null,null,null,null,null,null,{"$f":"IF(PLAN!$C211=\"\",\"\",PLAN!$C211)","v":""},null,null,null,null,11,"j"]
[null,null,{"$f":"IF(D212=\"\",\"\",$AB$28)","v":""},null,{"$f":"IF(#REF!=\"\",\"\",#REF!)","v":{"$error":"#REF!"}},{"$f":"IF(CW212=\"\",#REF!,CW212)","v":{"$error":"#REF!"}},{"$f":"IF(CX212=\"\",#REF!,CX212)","v":{"$error":"#REF!"}},{"$f":"IF(CY212=\"\",#REF!,CY212)","v":{"$error":"#REF!"}},{"$f":"IF(CZ212=\"\",#REF!,CZ212)","v":{"$error":"#REF!"}},{"$f":"IF(DA212=\"\",#REF!,DA212)","v":{"$error":"#REF!"}},{"$f":"IF(DB212=\"\",#REF!,DB212)","v":{"$error":"#REF!"}},{"$f":"IF(#REF!=\"\",\"\",#REF!)","v":{"$error":"#REF!"}},{"$f":"IF(DC212=\"\",#REF!,DC212)","v":{"$error":"#REF!"}},{"$f":"IF(DD212=\"\",#REF!,DD212)","v":{"$error":"#REF!"}},{"$f":"IF(DE212=\"\",#REF!,DE212)","v":{"$error":"#REF!"}},{"$f":"IF(DF212=\"\",#REF!,DF212)","v":{"$error":"#REF!"}},{"$f":"IF(DG212=\"\",#REF!,DG212)","v":{"$error":"#REF!"}},{"$f":"IF(DH212=\"\",#REF!,DH212)","v":{"$error":"#REF!"}},{"$f":"IF(#REF!=\"\",\"\",#REF!)","v":{"$error":"#REF!"}},{"$f":"IF(DI212=\"\",#REF!,DI212)","v":{"$error":"#REF!"}},{"$f":"IF(DJ212=\"\",#REF!,DJ212)","v":{"$error":"#REF!"}},{"$f":"IF(DK212=\"\",#REF!,DK212)","v":{"$error":"#REF!"}},{"$f":"IF(DL212=\"\",#REF!,DL212)","v":{"$error":"#REF!"}},{"$f":"IF(DM212=\"\",#REF!,DM212)","v":{"$error":"#REF!"}},{"$f":"IF(DN212=\"\",#REF!,DN212)","v":{"$error":"#REF!"}},null,null,null,null,null,{"$error":"#REF!"},{"$error":"#REF!"},{"$error":"#REF!"},null,null,null,null,null,null,null,null,null,null,null,null,null,null,null,null,null,null,null,null,null,null,null,null,null,null,null,null,null,null,null,null,null,12,{"$f":"IF(PLAN!$G$199=\"1T\",PLAN!F212,IF(PLAN!$N$199=\"2T\",PLAN!M212,IF(PLAN!$U$199=\"3T\",PLAN!T212,\"\")))","v":{"$error":"#REF!"}},null,null,null,null,null,null,null,null,null,null,null,null,null,null,null,null,null,null,null,null,null,null,null,{"$f":"IF(PLAN!$C212=\"\",\"\",PLAN!$C212)","v":""},null,null,null,null,12,"k"]
[null,null,{"$f":"IF(D213=\"\",\"\",$AB$29)","v":""},"",{"$f":"IF(#REF!=\"\",\"\",#REF!)","v":{"$error":"#REF!"}},{"$f":"IF(CW213=\"\",#REF!,CW213)","v":{"$error":"#REF!"}},{"$f":"IF(CX213=\"\",#REF!,CX213)","v":{"$error":"#REF!"}},{"$f":"IF(CY213=\"\",#REF!,CY213)","v":{"$error":"#REF!"}},{"$f":"IF(CZ213=\"\",#REF!,CZ213)","v":{"$error":"#REF!"}},{"$f":"IF(DA213=\"\",#REF!,DA213)","v":{"$error":"#REF!"}},{"$f":"IF(DB213=\"\",#REF!,DB213)","v":{"$error":"#REF!"}},{"$f":"IF(#REF!=\"\",\"\",#REF!)","v":{"$error":"#REF!"}},{"$f":"IF(DC213=\"\",#REF!,DC213)","v":{"$error":"#REF!"}},{"$f":"IF(DD213=\"\",#REF!,DD213)","v":{"$error":"#REF!"}},{"$f":"IF(DE213=\"\",#REF!,DE213)","v":{"$error":"#REF!"}},{"$f":"IF(DF213=\"\",#REF!,DF213)","v":{"$error":"#REF!"}},{"$f":"IF(DG213=\"\",#REF!,DG213)","v":{"$error":"#REF!"}},{"$f":"IF(DH213=\"\",#REF!,DH213)","v":{"$error":"#REF!"}},{"$f":"IF(#REF!=\"\",\"\",#REF!)","v":{"$error":"#REF!"}},{"$f":"IF(DI213=\"\",#REF!,DI213)","v":{"$error":"#REF!"}},{"$f":"IF(DJ213=\"\",#REF!,DJ213)","v":{"$error":"#REF!"}},{"$f":"IF(DK213=\"\",#REF!,DK213)","v":{"$error":"#REF!"}},{"$f":"IF(DL213=\"\",#REF!,DL213)","v":{"$error":"#REF!"}},{"$f":"IF(DM213=\"\",#REF!,DM213)","v":{"$error":"#REF!"}},{"$f":"IF(DN213=\"\",#REF!,DN213)","v":{"$error":"#REF!"}},null,null,null,null,null,{"$error":"#REF!"},{"$error":"#REF!"},{"$error":"#REF!"},null,null,null,null,null,null,null,null,null,null,null,null,null,null,null,null,null,null,null,null,null,null,null,null,null,null,null,null,null,null,null,null,null,13,{"$f":"IF(PLAN!$G$199=\"1T\",PLAN!F213,IF(PLAN!$N$199=\"2T\",PLAN!M213,IF(PLAN!$U$199=\"3T\",PLAN!T213,\"\")))","v":{"$error":"#REF!"}},null,null,null,null,null,null,null,null,null,null,null,null,null,null,null,null,null,null,null,null,null,null,null,{"$f":"IF(PLAN!$C213=\"\",\"\",PLAN!$C213)","v":""},null,null,null,null,13,"l"]
[null,null,{"$f":"IF(D214=\"\",\"\",$AB$30)","v":""},"",{"$f":"IF(#REF!=\"\",\"\",#REF!)","v":{"$error":"#REF!"}},{"$f":"IF(CW214=\"\",#REF!,CW214)","v":{"$error":"#REF!"}},{"$f":"IF(CX214=\"\",#REF!,CX214)","v":{"$error":"#REF!"}},{"$f":"IF(CY214=\"\",#REF!,CY214)","v":{"$error":"#REF!"}},{"$f":"IF(CZ214=\"\",#REF!,CZ214)","v":{"$error":"#REF!"}},{"$f":"IF(DA214=\"\",#REF!,DA214)","v":{"$error":"#REF!"}},{"$f":"IF(DB214=\"\",#REF!,DB214)","v":{"$error":"#REF!"}},{"$f":"IF(#REF!=\"\",\"\",#REF!)","v":{"$error":"#REF!"}},{"$f":"IF(DC214=\"\",#REF!,DC214)","v":{"$error":"#REF!"}},{"$f":"IF(DD214=\"\",#REF!,DD214)","v":{"$error":"#REF!"}},{"$f":"IF(DE214=\"\",#REF!,DE214)","v":{"$error":"#REF!"}},{"$f":"IF(DF214=\"\",#REF!,DF214)","v":{"$error":"#REF!"}},{"$f":"IF(DG214=\"\",#REF!,DG214)","v":{"$error":"#REF!"}},{"$f":"IF(DH214=\"\",#REF!,DH214)","v":{"$error":"#REF!"}},{"$f":"IF(#REF!=\"\",\"\",#REF!)","v":{"$error":"#REF!"}},{"$f":"IF(DI214=\"\",#REF!,DI214)","v":{"$error":"#REF!"}},{"$f":"IF(DJ214=\"\",#REF!,DJ214)","v":{"$error":"#REF!"}},{"$f":"IF(DK214=\"\",#REF!,DK214)","v":{"$error":"#REF!"}},{"$f":"IF(DL214=\"\",#REF!,DL214)","v":{"$error":"#REF!"}},{"$f":"IF(DM214=\"\",#REF!,DM214)","v":{"$error":"#REF!"}},{"$f":"IF(DN214=\"\",#REF!,DN214)","v":{"$error":"#REF!"}},null,null,null,null,null,{"$error":"#REF!"},{"$error":"#REF!"},{"$error":"#REF!"},null,null,null,null,null,null,null,null,null,null,null,null,null,null,null,null,null,null,null,null,null,null,null,null,null,null,null,null,null,null,null,null,null,14,{"$f":"IF(PLAN!$G$199=\"1T\",PLAN!F214,IF(PLAN!$N$199=\"2T\",PLAN!M214,IF(PLAN!$U$199=\"3T\",PLAN!T214,\"\")))","v":{"$error":"#REF!"}},null,null,null,null,null,null,null,null,null,null,null,null,null,null,null,null,null,null,null,null,null,null,null,{"$f":"IF(PLAN!$C214=\"\",\"\",PLAN!$C214)","v":""},null,null,null,null,14,"m"]
[null,null,{"$f":"IF(D215=\"\",\"\",$AB$31)","v":""},"",{"$f":"IF(#REF!=\"\",\"\",#REF!)","v":{"$error":"#REF!"}},{"$f":"IF(CW215=\"\",#REF!,CW215)","v":{"$error":"#REF!"}},{"$f":"IF(CX215=\"\",#REF!,CX215)","v":{"$error":"#REF!"}},{"$f":"IF(CY215=\"\",#REF!,CY215)","v":{"$error":"#REF!"}},{"$f":"IF(CZ215=\"\",#REF!,CZ215)","v":{"$error":"#REF!"}},{"$f":"IF(DA215=\"\",#REF!,DA215)","v":{"$error":"#REF!"}},{"$f":"IF(DB215=\"\",#REF!,DB215)","v":{"$error":"#REF!"}},{"$f":"IF(#REF!=\"\",\"\",#REF!)","v":{"$error":"#REF!"}},{"$f":"IF(DC215=\"\",#REF!,DC215)","v":{"$error":"#REF!"}},{"$f":"IF(DD215=\"\",#REF!,DD215)","v":{"$error":"#REF!"}},{"$f":"IF(DE215=\"\",#REF!,DE215)","v":{"$error":"#REF!"}},{"$f":"IF(DF215=\"\",#REF!,DF215)","v":{"$error":"#REF!"}},{"$f":"IF(DG215=\"\",#REF!,DG215)","v":{"$error":"#REF!"}},{"$f":"IF(DH215=\"\",#REF!,DH215)","v":{"$error":"#REF!"}},{"$f":"IF(#REF!=\"\",\"\",#REF!)","v":{"$error":"#REF!"}},{"$f":"IF(DI215=\"\",#REF!,DI215)","v":{"$error":"#REF!"}},{"$f":"IF(DJ215=\"\",#REF!,DJ215)","v":{"$error":"#REF!"}},{"$f":"IF(DK215=\"\",#REF!,DK215)","v":{"$error":"#REF!"}},{"$f":"IF(DL215=\"\",#REF!,DL215)","v":{"$error":"#REF!"}},{"$f":"IF(DM215=\"\",#REF!,DM215)","v":{"$error":"#REF!"}},{"$f":"IF(DN215=\"\",#REF!,DN215)","v":{"$error":"#REF!"}},null,null,null,null,null,{"$error":"#REF!"},{"$error":"#REF!"},{"$error":"#REF!"},null,null,null,null,null,null,null,null,null,null,null,null,null,null,null,null,null,null,null,null,null,null,null,null,null,null,null,null,null,null,null,null,null,15,{"$f":"IF(PLAN!$G$199=\"1T\",PLAN!F215,IF(PLAN!$N$199=\"2T\",PLAN!M215,IF(PLAN!$U$199=\"3T\",PLAN!T215,\"\")))","v":{"$error":"#REF!"}},null,null,null,null,null,null,null,null,null,null,null,null,null,null,null,null,null,null,null,null,null,null,null,{"$f":"IF(PLAN!$C215=\"\",\"\",PLAN!$C215)","v":""},null,null,null,null,15,"x"]
[]
[]
[]
[]
[]
[null,null,null,null,{"$f":"15-COUNTIF(E201:E215,\"\")","v":15},null,null,null,null,null,null,{"$f":"15-COUNTIF(L201:L215,\"\")","v":15},null,null,null,null,null,null,{"$f":"15-COUNTIF(S201:S215,\"\")","v":15}]
[]
[]
[null,null,null,{"$f":"Hoja9!$D$9&Hoja9!$F$9","v":""}]
[null,null,null,null,null,null,null,null,null,null,null,null,null,null,null,null,null,null,null,null,null,null,null,null,null,null,null,null,null,null,null,null,null,null,null,null,null,null,null,null,null,null,null,null,"INDICADORES SELECCIONADOS",null,null,null,null,null,{"$f":"Hoja9!$AZ$4","v":0},null,null,null,null,{"$f":"Hoja9!$AZ$5","v":0},null,null,null,null,{"$f":"Hoja9!$AZ$6","v":0}]
[null,null,null,null,{"$f":"IF(INICIO!$H$2=\"1T\",INICIO!$NH$14,\"\")","v":"PRIMER TRIMESTRE"},null,{"$f":"IF(E226=\"PRIMER TRIMESTRE\",B228,\"\")","v":"1T"},null,null,null,null,{"$f":"IF(INICIO!$H$2=\"2T\",INICIO!$NH$15,\"\")","v":""},null,{"$f":"IF(L226=\"SEGUNDO TRIMESTRE\",B233,\"\")","v":""},null,null,null,null,{"$f":"IF(INICIO!$H$2=\"3T\",INICIO!$NH$16,\"\")","v":""},null,{"$f":"IF(S226=\"TERCER TRIMESTRE\",B238,\"\")","v":""},null,null,null,null,null,null,null,null,null,{"$f":"G226","v":"1T"},{"$f":"N226","v":""},{"$f":"U226","v":""},null,null,null,null,null,null,null,null,null,null,null,"L1","L2","L3","L4","L5","L1","L2","L3","L4","L5","L1","L2","L3","L4","L5","L1","L2","L3","L4","L5",null,null,null,null,null,null,null,null,null,null,null,null,null,null,null,null,null,null,null,null,null,null,null,null,null,null,null,null,null,null,null,null,null,"Copia de datos empleados durante el año, en las actividades"]
[null,"LOGROS",null,null,"ACTIVIDADES 1T","INDICADORES 1T",null,null,null,null,null,"ACTIVIDADES 2T","INDICADORES 2T",null,null,null,null,null,"ACTIVIDADES 3T","INDICADORES 3T",null,null,null,null,null,null,"FECHAS 1T","FECHAS 2T","FECHAS 3T",null,"LOGOS X ACTIVIDAD",null,null,null,null,null,null,"x",null,"LOGROS SELECCIONADOS",null,null,null,null,{"$f":"Hoja9!$Z$219","v":""},{"$f":"Hoja9!$Z$226","v":""},{"$f":"Hoja9!$Z$233","v":""},{"$f":"Hoja9!$Z$240","v":""},{"$f":"Hoja9!$Z$247","v":""},0,0,0,0,0,null,null,null,null,null,null,null,null,null,null,null,null,null,null,null,null,null,null,null,{"$f":"PLAN!$AX227","v":0},{"$f":"PLAN!$AY227","v":0},{"$f":"PLAN!$AZ227","v":0},{"$f":"PLAN!$BA227","v":0},{"$f":"PLAN!$BB227","v":0},{"$f":"PLAN!$BC227","v":0},{"$f":"PLAN!$BD227","v":0},{"$f":"PLAN!$BE227","v":0},{"$f":"PLAN!$BF227","v":0},{"$f":"PLAN!$BG227","v":0},{"$f":"PLAN!$BH227","v":0},{"$f":"PLAN!$BI227","v":0},{"$f":"PLAN!$BJ227","v":0},{"$f":"PLAN!$BK227","v":0},{"$f":"PLAN!$BL227","v":0},null,null,null,null,null,null,null,null,"# de","1T","2T","3T","Indicadores 1t",null,null,null,null,null,"Indicadores 2t",null,null,null,null,null,"Indicadores 3t"]
[null,"1T",{"$f":"IF(D228=\"\",\"\",$AB$27)","v":""},"",{"$f":"IF(Hoja9!D272=\"\",\"\",Hoja9!D272)","v":""},{"$f":"IF(CW228=\"\",Hoja9!U272,CW228)","v":0},{"$f":"IF(CX228=\"\",Hoja9!V272,CX228)","v":0},{"$f":"IF(CY228=\"\",Hoja9!W272,CY228)","v":0},{"$f":"IF(CZ228=\"\",Hoja9!X272,CZ228)","v":0},{"$f":"IF(DA228=\"\",Hoja9!Y272,DA228)","v":0},{"$f":"IF(DB228=\"\",Hoja9!Z272,DB228)","v":0},{"$f":"IF(Hoja9!D272=\"\",\"\",Hoja9!D272)","v":""},{"$f":"IF(DC228=\"\",Hoja9!U272,DC228)","v":0},{"$f":"IF(DD228=\"\",Hoja9!V272,DD228)","v":0},{"$f":"IF(DE228=\"\",Hoja9!W272,DE228)","v":0},{"$f":"IF(DF228=\"\",Hoja9!X272,DF228)","v":0},{"$f":"IF(DG228=\"\",Hoja9!Y272,DG228)","v":0},{"$f":"IF(DH228=\"\",Hoja9!Z272,DH228)","v":0},{"$f":"IF(Hoja9!D272=\"\",\"\",Hoja9!D272)","v":""},{"$f":"IF(DI228=\"\",Hoja9!U272,DI228)","v":0},{"$f":"IF(DJ228=\"\",Hoja9!V272,DJ228)","v":0},{"$f":"IF(DK228=\"\",Hoja9!W272,DK228)","v":0},{"$f":"IF(DL228=\"\",Hoja9!X272,DL228)","v":0},{"$f":"IF(DM228=\"\",Hoja9!Y272,DM228)","v":0},{"$f":"IF(DN228=\"\",Hoja9!Z272,DN228)","v":0},null,null,null,null,null,{"$f":"IF(F228=0,\"\",IF(OR(F228=\"1.1\",F228=\"1.2\",F228=\"1.3\",F228=\"1.4\",F228=\"1.5\",F228=\"1.6\"), $AC$2,IF(OR(F228=\"2.1\",F228=\"2.2\",F228=\"2.3\",F228=\"2.4\",F228=\"2.5\",F228=\"2.6\"),$AD$2,IF(OR(F228=\"3.1\",F228=\"3.2\",F228=\"3.3\",F228=\"3.4\",F228=\"3.5\",F228=\"3.6\"),$AE$2,IF(OR(F228=\"4.1\",F228=\"4.2\",F228=\"4.3\",F228=\"4.4\",F228=\"4.5\",F228=\"4.6\"),$AF$2,IF(OR(F228=\"5.1\",F228=\"5.2\",F228=\"5.3\",F228=\"5.4\",F228=\"5.5\",F228=\"5.6\"),$AG$2))))))","v":""},{"$f":"IF(M228=0,\"\",IF(OR(M228=\"1.1\",M228=\"1.2\",M228=\"1.3\",M228=\"1.4\",M228=\"1.5\",M228=\"1.6\"), $AC$2,IF(OR(M228=\"2.1\",M228=\"2.2\",M228=\"2.3\",M228=\"2.4\",M228=\"2.5\",M228=\"2.6\"),$AD$2,IF(OR(M228=\"3.1\",M228=\"3.2\",M228=\"3.3\",M228=\"3.4\",M228=\"3.5\",M228=\"3.6\"),$AE$2,IF(OR(M228=\"4.1\",M228=\"4.2\",M228=\"4.3\",M228=\"4.4\",M228=\"4.5\",M228=\"4.6\"),$AF$2,IF(OR(M228=\"5.1\",M228=\"5.2\",M228=\"5.3\",M228=\"5.4\",M228=\"5.5\",M228=\"5.6\"),$AG$2))))))","v":""},{"$f":"IF(T228=0,\"\",IF(OR(T228=\"1.1\",T228=\"1.2\",T228=\"1.3\",T228=\"1.4\",T228=\"1.5\",T228=\"1.6\"), $AC$2,IF(OR(T228=\"2.1\",T228=\"2.2\",T228=\"2.3\",T228=\"2.4\",T228=\"2.5\",T228=\"2.6\"),$AD$2,IF(OR(T228=\"3.1\",T228=\"3.2\",T228=\"3.3\",T228=\"3.4\",T228=\"3.5\",T228=\"3.6\"),$AE$2,IF(OR(T228=\"4.1\",T228=\"4.2\",T228=\"4.3\",T228=\"4.4\",T228=\"4.5\",T228=\"4.6\"),$AF$2,IF(OR(T228=\"5.1\",T228=\"5.2\",T228=\"5.3\",T228=\"5.4\",T228=\"5.5\",T228=\"5.6\"),$AG$2))))))","v":""},null,null,null,null,{"$f":"Hoja9!$AB$218","v":0},"1.",{"$f":"IF(AL228=\"x\",Hoja9!$D$218,\"\")","v":""},null,null,null,null,{"$f":"Hoja9!$Z$220","v":""},{"$f":"Hoja9!$Z$227","v":""},{"$f":"Hoja9!$Z$234","v":""},{"$f":"Hoja9!$Z$241","v":""},{"$f":"Hoja9!$Z$248","v":""},0,0,0,0,0,null,null,null,null,null,null,null,null,null,null,null,null,1,{"$f":"IF(PLAN!$G$226=\"1T\",PLAN!F228,IF(PLAN!$N$226=\"2T\",PLAN!M228,IF(PLAN!$U$226=\"3T\",PLAN!T228,\"\")))","v":0},null,null,null,null,null,{"$f":"PLAN!$AX228","v":0},{"$f":"PLAN!$AY228","v":0},{"$f":"PLAN!$AZ228","v":0},{"$f":"PLAN!$BA228","v":0},{"$f":"PLAN!$BB228","v":0},{"$f":"PLAN!$BC228","v":0},{"$f":"PLAN!$BD228","v":0},{"$f":"PLAN!$BE228","v":0},{"$f":"PLAN!$BF228","v":0},{"$f":"PLAN!$BG228","v":0},{"$f":"PLAN!$BH228","v":0},{"$f":"PLAN!$BI228","v":0},{"$f":"PLAN!$BJ228","v":0},{"$f":"PLAN!$BK228","v":0},{"$f":"PLAN!$BL228","v":0},null,null,null,{"$f":"IF(PLAN!$C228=\"\",\"\",PLAN!$C228)","v":""},null,null,null,null,1,"x","EM"]
[null,null,{"$f":"IF(D229=\"\",\"\",$AB$28)","v":""},"",{"$f":"IF(Hoja9!D273=\"\",\"\",Hoja9!D273)","v":""},{"$f":"IF(CW229=\"\",Hoja9!U273,CW229)","v":0},{"$f":"IF(CX229=\"\",Hoja9!V273,CX229)","v":0},{"$f":"IF(CY229=\"\",Hoja9!W273,CY229)","v":0},{"$f":"IF(CZ229=\"\",Hoja9!X273,CZ229)","v":0},{"$f":"IF(DA229=\"\",Hoja9!Y273,DA229)","v":0},{"$f":"IF(DB229=\"\",Hoja9!Z273,DB229)","v":0},{"$f":"IF(Hoja9!D273=\"\",\"\",Hoja9!D273)","v":""},{"$f":"IF(DC229=\"\",Hoja9!U273,DC229)","v":0},{"$f":"IF(DD229=\"\",Hoja9!V273,DD229)","v":0},{"$f":"IF(DE229=\"\",Hoja9!W273,DE229)","v":0},{"$f":"IF(DF229=\"\",Hoja9!X273,DF229)","v":0},{"$f":"IF(DG229=\"\",Hoja9!Y273,DG229)","v":0},{"$f":"IF(DH229=\"\",Hoja9!Z273,DH229)","v":0},{"$f":"IF(Hoja9!D273=\"\",\"\",Hoja9!D273)","v":""},{"$f":"IF(DI229=\"\",Hoja9!U273,DI229)","v":0},{"$f":"IF(DJ229=\"\",Hoja9!V273,DJ229)","v":0},{"$f":"IF(DK229=\"\",Hoja9!W273,DK229)","v":0},{"$f":"IF(DL229=\"\",Hoja9!X273,DL229)","v":0},{"$f":"IF(DM229=\"\",Hoja9!Y273,DM229)","v":0},{"$f":"IF(DN229=\"\",Hoja9!Z273,DN229)","v":0},null,null,null,null,null,{"$f":"IF(F229=0,\"\",IF(OR(F229=\"1.1\",F229=\"1.2\",F229=\"1.3\",F229=\"1.4\",F229=\"1.5\",F229=\"1.6\"), $AC$2,IF(OR(F229=\"2.1\",F229=\"2.2\",F229=\"2.3\",F229=\"2.4\",F229=\"2.5\",F229=\"2.6\"),$AD$2,IF(OR(F229=\"3.1\",F229=\"3.2\",F229=\"3.3\",F229=\"3.4\",F229=\"3.5\",F229=\"3.6\"),$AE$2,IF(OR(F229=\"4.1\",F229=\"4.2\",F229=\"4.3\",F229=\"4.4\",F229=\"4.5\",F229=\"4.6\"),$AF$2,IF(OR(F229=\"5.1\",F229=\"5.2\",F229=\"5.3\",F229=\"5.4\",F229=\"5.5\",F229=\"5.6\"),$AG$2))))))","v":""},{"$f":"IF(M229=0,\"\",IF(OR(M229=\"1.1\",M229=\"1.2\",M229=\"1.3\",M229=\"1.4\",M229=\"1.5\",M229=\"1.6\"), $AC$2,IF(OR(M229=\"2.1\",M229=\"2.2\",M229=\"2.3\",M229=\"2.4\",M229=\"2.5\",M229=\"2.6\"),$AD$2,IF(OR(M229=\"3.1\",M229=\"3.2\",M229=\"3.3\",M229=\"3.4\",M229=\"3.5\",M229=\"3.6\"),$AE$2,IF(OR(M229=\"4.1\",M229=\"4.2\",M229=\"4.3\",M229=\"4.4\",M229=\"4.5\",M229=\"4.6\"),$AF$2,IF(OR(M229=\"5.1\",M229=\"5.2\",M229=\"5.3\",M229=\"5.4\",M229=\"5.5\",M229=\"5.6\"),$AG$2))))))","v":""},{"$f":"IF(T229=0,\"\",IF(OR(T229=\"1.1\",T229=\"1.2\",T229=\"1.3\",T229=\"1.4\",T229=\"1.5\",T229=\"1.6\"), $AC$2,IF(OR(T229=\"2.1\",T229=\"2.2\",T229=\"2.3\",T229=\"2.4\",T229=\"2.5\",T229=\"2.6\"),$AD$2,IF(OR(T229=\"3.1\",T229=\"3.2\",T229=\"3.3\",T229=\"3.4\",T229=\"3.5\",T229=\"3.6\"),$AE$2,IF(OR(T229=\"4.1\",T229=\"4.2\",T229=\"4.3\",T229=\"4.4\",T229=\"4.5\",T229=\"4.6\"),$AF$2,IF(OR(T229=\"5.1\",T229=\"5.2\",T229=\"5.3\",T229=\"5.4\",T229=\"5.5\",T229=\"5.6\"),$AG$2))))))","v":""},null,null,null,null,{"$f":"Hoja9!$AB$225","v":0},"2.",{"$f":"IF(AL229=\"x\",Hoja9!$D$225,\"\")","v":""},null,null,null,null,{"$f":"Hoja9!$Z$221","v":""},{"$f":"Hoja9!$Z$228","v":""},{"$f":"Hoja9!$Z$235","v":""},{"$f":"Hoja9!$Z$242","v":""},{"$f":"Hoja9!$Z$249","v":""},0,0,0,0,0,null,null,null,null,null,null,null,null,null,null,null,null,2,{"$f":"IF(PLAN!$G$226=\"1T\",PLAN!F229,IF(PLAN!$N$226=\"2T\",PLAN!M229,IF(PLAN!$U$226=\"3T\",PLAN!T229,\"\")))","v":0},null,null,null,null,null,{"$f":"PLAN!$AX229","v":0},{"$f":"PLAN!$AY229","v":0},{"$f":"PLAN!$AZ229","v":0},{"$f":"PLAN!$BA229","v":0},{"$f":"PLAN!$BB229","v":0},{"$f":"PLAN!$BC229","v":0},{"$f":"PLAN!$BD229","v":0},{"$f":"PLAN!$BE229","v":0},{"$f":"PLAN!$BF229","v":0},{"$f":"PLAN!$BG229","v":0},{"$f":"PLAN!$BH229","v":0},{"$f":"PLAN!$BI229","v":0},{"$f":"PLAN!$BJ229","v":0},{"$f":"PLAN!$BK229","v":0},{"$f":"PLAN!$BL229","v":0},null,null,null,{"$f":"IF(PLAN!$C229=\"\",\"\",PLAN!$C229)","v":""},null,null,null,null,2,"a","E"]
[null,null,{"$f":"IF(D230=\"\",\"\",$AB$29)","v":""},"",{"$f":"IF(Hoja9!D274=\"\",\"\",Hoja9!D274)","v":""},{"$f":"IF(CW230=\"\",Hoja9!U274,CW230)","v":0},{"$f":"IF(CX230=\"\",Hoja9!V274,CX230)","v":0},{"$f":"IF(CY230=\"\",Hoja9!W274,CY230)","v":0},{"$f":"IF(CZ230=\"\",Hoja9!X274,CZ230)","v":0},{"$f":"IF(DA230=\"\",Hoja9!Y274,DA230)","v":0},{"$f":"IF(DB230=\"\",Hoja9!Z274,DB230)","v":0},{"$f":"IF(Hoja9!D274=\"\",\"\",Hoja9!D274)","v":""},{"$f":"IF(DC230=\"\",Hoja9!U274,DC230)","v":0},{"$f":"IF(DD230=\"\",Hoja9!V274,DD230)","v":0},{"$f":"IF(DE230=\"\",Hoja9!W274,DE230)","v":0},{"$f":"IF(DF230=\"\",Hoja9!X274,DF230)","v":0},{"$f":"IF(DG230=\"\",Hoja9!Y274,DG230)","v":0},{"$f":"IF(DH230=\"\",Hoja9!Z274,DH230)","v":0},{"$f":"IF(Hoja9!D274=\"\",\"\",Hoja9!D274)","v":""},{"$f":"IF(DI230=\"\",Hoja9!U274,DI230)","v":0},{"$f":"IF(DJ230=\"\",Hoja9!V274,DJ230)","v":0},{"$f":"IF(DK230=\"\",Hoja9!W274,DK230)","v":0},{"$f":"IF(DL230=\"\",Hoja9!X274,DL230)","v":0},{"$f":"IF(DM230=\"\",Hoja9!Y274,DM230)","v":0},{"$f":"IF(DN230=\"\",Hoja9!Z274,DN230)","v":0},null,null,null,null,null,"","","",null,null,null,null,{"$f":"Hoja9!$AB$232","v":0},"3.",{"$f":"IF(AL230=\"x\",Hoja9!$D$232,\"\")","v":""},null,null,null,null,{"$f":"Hoja9!$Z$222","v":""},{"$f":"Hoja9!$Z$229","v":""},{"$f":"Hoja9!$Z$236","v":""},{"$f":"Hoja9!$Z$243","v":""},{"$f":"Hoja9!$Z$250","v":""},0,0,0,0,0,null,null,null,null,null,null,null,null,null,null,null,null,3,{"$f":"IF(PLAN!$G$226=\"1T\",PLAN!F230,IF(PLAN!$N$226=\"2T\",PLAN!M230,IF(PLAN!$U$226=\"3T\",PLAN!T230,\"\")))","v":0},null,null,null,null,null,{"$f":"PLAN!$AX230","v":0},{"$f":"PLAN!$AY230","v":0},{"$f":"PLAN!$AZ230","v":0},{"$f":"PLAN!$BA230","v":0},{"$f":"PLAN!$BB230","v":0},{"$f":"PLAN!$BC230","v":0},{"$f":"PLAN!$BD230","v":0},{"$f":"PLAN!$BE230","v":0},{"$f":"PLAN!$BF230","v":0},{"$f":"PLAN!$BG230","v":0},{"$f":"PLAN!$BH230","v":0},{"$f":"PLAN!$BI230","v":0},{"$f":"PLAN!$BJ230","v":0},{"$f":"PLAN!$BK230","v":0},{"$f":"PLAN!$BL230","v":0},null,null,null,{"$f":"IF(PLAN!$C230=\"\",\"\",PLAN!$C230)","v":""},null,null,null,null,3,"b","E"]
[null,null,{"$f":"IF(D231=\"\",\"\",$AB$30)","v":""},"",{"$f":"IF(Hoja9!D275=\"\",\"\",Hoja9!D275)","v":""},{"$f":"IF(CW231=\"\",Hoja9!U275,CW231)","v":0},{"$f":"IF(CX231=\"\",Hoja9!V275,CX231)","v":0},{"$f":"IF(CY231=\"\",Hoja9!W275,CY231)","v":0},{"$f":"IF(CZ231=\"\",Hoja9!X275,CZ231)","v":0},{"$f":"IF(DA231=\"\",Hoja9!Y275,DA231)","v":0},{"$f":"IF(DB231=\"\",Hoja9!Z275,DB231)","v":0},{"$f":"IF(Hoja9!D275=\"\",\"\",Hoja9!D275)","v":""},{"$f":"IF(DC231=\"\",Hoja9!U275,DC231)","v":0},{"$f":"IF(DD231=\"\",Hoja9!V275,DD231)","v":0},{"$f":"IF(DE231=\"\",Hoja9!W275,DE231)","v":0},{"$f":"IF(DF231=\"\",Hoja9!X275,DF231)","v":0},{"$f":"IF(DG231=\"\",Hoja9!Y275,DG231)","v":0},{"$f":"IF(DH231=\"\",Hoja9!Z275,DH231)","v":0},{"$f":"IF(Hoja9!D275=\"\",\"\",Hoja9!D275)","v":""},{"$f":"IF(DI231=\"\",Hoja9!U275,DI231)","v":0},{"$f":"IF(DJ231=\"\",Hoja9!V275,DJ231)","v":0},{"$f":"IF(DK231=\"\",Hoja9!W275,DK231)","v":0},{"$f":"IF(DL231=\"\",Hoja9!X275,DL231)","v":0},{"$f":"IF(DM231=\"\",Hoja9!Y275,DM231)","v":0},{"$f":"IF(DN231=\"\",Hoja9!Z275,DN231)","v":0},null,null,null,null,null,"","","",null,null,null,null,{"$f":"Hoja9!$AB$239","v":0},"4.",{"$f":"IF(AL231=\"x\",Hoja9!$D$239,\"\")","v":""},null,null,null,null,{"$f":"Hoja9!$Z$223","v":""},{"$f":"Hoja9!$Z$230","v":""},{"$f":"Hoja9!$Z$237","v":""},{"$f":"Hoja9!$Z$244","v":""},{"$f":"Hoja9!$Z$251","v":""},0,0,0,0,0,null,null,null,null,null,null,null,null,null,null,null,null,4,{"$f":"IF(PLAN!$G$226=\"1T\",PLAN!F231,IF(PLAN!$N$226=\"2T\",PLAN!M231,IF(PLAN!$U$226=\"3T\",PLAN!T231,\"\")))","v":0},null,null,null,null,null,{"$f":"PLAN!$AX231","v":0},{"$f":"PLAN!$AY231","v":0},{"$f":"PLAN!$AZ231","v":0},{"$f":"PLAN!$BA231","v":0},{"$f":"PLAN!$BB231","v":0},{"$f":"PLAN!$BC231","v":0},{"$f":"PLAN!$BD231","v":0},{"$f":"PLAN!$BE231","v":0},{"$f":"PLAN!$BF231","v":0},{"$f":"PLAN!$BG231","v":0},{"$f":"PLAN!$BH231","v":0},{"$f":"PLAN!$BI231","v":0},{"$f":"PLAN!$BJ231","v":0},{"$f":"PLAN!$BK231","v":0},{"$f":"PLAN!$BL231","v":0},null,null,null,{"$f":"IF(PLAN!$C231=\"\",\"\",PLAN!$C231)","v":""},null,null,null,null,4,"c","E"]
[null,null,{"$f":"IF(D232=\"\",\"\",$AB$31)","v":""},"",{"$f":"IF(Hoja9!D276=\"\",\"\",Hoja9!D276)","v":""},{"$f":"IF(CW232=\"\",Hoja9!U276,CW232)","v":0},{"$f":"IF(CX232=\"\",Hoja9!V276,CX232)","v":0},{"$f":"IF(CY232=\"\",Hoja9!W276,CY232)","v":0},{"$f":"IF(CZ232=\"\",Hoja9!X276,CZ232)","v":0},{"$f":"IF(DA232=\"\",Hoja9!Y276,DA232)","v":0},{"$f":"IF(DB232=\"\",Hoja9!Z276,DB232)","v":0},{"$f":"IF(Hoja9!D276=\"\",\"\",Hoja9!D276)","v":""},{"$f":"IF(DC232=\"\",Hoja9!U276,DC232)","v":0},{"$f":"IF(DD232=\"\",Hoja9!V276,DD232)","v":0},{"$f":"IF(DE232=\"\",Hoja9!W276,DE232)","v":0},{"$f":"IF(DF232=\"\",Hoja9!X276,DF232)","v":0},{"$f":"IF(DG232=\"\",Hoja9!Y276,DG232)","v":0},{"$f":"IF(DH232=\"\",Hoja9!Z276,DH232)","v":0},{"$f":"IF(Hoja9!D276=\"\",\"\",Hoja9!D276)","v":""},{"$f":"IF(DI232=\"\",Hoja9!U276,DI232)","v":0},{"$f":"IF(DJ232=\"\",Hoja9!V276,DJ232)","v":0},{"$f":"IF(DK232=\"\",Hoja9!W276,DK232)","v":0},{"$f":"IF(DL232=\"\",Hoja9!X276,DL232)","v":0},{"$f":"IF(DM232=\"\",Hoja9!Y276,DM232)","v":0},{"$f":"IF(DN232=\"\",Hoja9!Z276,DN232)","v":0},null,null,null,null,null,"","","",null,null,null,null,{"$f":"Hoja9!$AB$246","v":0},"5.",{"$f":"IF(AL232=\"x\",Hoja9!$D$246,\"\")","v":""},null,null,null,null,{"$f":"Hoja9!$Z$224","v":""},{"$f":"Hoja9!$Z$231","v":""},{"$f":"Hoja9!$Z$238","v":""},{"$f":"Hoja9!$Z$245","v":""},{"$f":"Hoja9!$Z$252","v":""},0,0,0,0,0,null,null,null,null,null,null,null,null,null,null,null,null,5,{"$f":"IF(PLAN!$G$226=\"1T\",PLAN!F232,IF(PLAN!$N$226=\"2T\",PLAN!M232,IF(PLAN!$U$226=\"3T\",PLAN!T232,\"\")))","v":0},null,null,null,null,null,{"$f":"PLAN!$AX232","v":0},{"$f":"PLAN!$AY232","v":0},{"$f":"PLAN!$AZ232","v":0},{"$f":"PLAN!$BA232","v":0},{"$f":"PLAN!$BB232","v":0},{"$f":"PLAN!$BC232","v":0},{"$f":"PLAN!$BD232","v":0},{"$f":"PLAN!$BE232","v":0},{"$f":"PLAN!$BF232","v":0},{"$f":"PLAN!$BG232","v":0},{"$f":"PLAN!$BH232","v":0},{"$f":"PLAN!$BI232","v":0},{"$f":"PLAN!$BJ232","v":0},{"$f":"PLAN!$BK232","v":0},{"$f":"PLAN!$BL232","v":0},null,null,null,{"$f":"IF(PLAN!$C232=\"\",\"\",PLAN!$C232)","v":""},null,null,null,null,5,"d","E"]
[null,"2T",{"$f":"IF(D233=\"\",\"\",$AB$27)","v":""},null,{"$f":"IF(Hoja9!D277=\"\",\"\",Hoja9!D277)","v":""},{"$f":"IF(CW233=\"\",Hoja9!U277,CW233)","v":0},{"$f":"IF(CX233=\"\",Hoja9!V277,CX233)","v":0},{"$f":"IF(CY233=\"\",Hoja9!W277,CY233)","v":0},{"$f":"IF(CZ233=\"\",Hoja9!X277,CZ233)","v":0},{"$f":"IF(DA233=\"\",Hoja9!Y277,DA233)","v":0},{"$f":"IF(DB233=\"\",Hoja9!Z277,DB233)","v":0},{"$f":"IF(Hoja9!D277=\"\",\"\",Hoja9!D277)","v":""},{"$f":"IF(DC233=\"\",Hoja9!U277,DC233)","v":0},{"$f":"IF(DD233=\"\",Hoja9!V277,DD233)","v":0},{"$f":"IF(DE233=\"\",Hoja9!W277,DE233)","v":0},{"$f":"IF(DF233=\"\",Hoja9!X277,DF233)","v":0},{"$f":"IF(DG233=\"\",Hoja9!Y277,DG233)","v":0},{"$f":"IF(DH233=\"\",Hoja9!Z277,DH233)","v":0},{"$f":"IF(Hoja9!D277=\"\",\"\",Hoja9!D277)","v":""},{"$f":"IF(DI233=\"\",Hoja9!U277,DI233)","v":0},{"$f":"IF(DJ233=\"\",Hoja9!V277,DJ233)","v":0},{"$f":"IF(DK233=\"\",Hoja9!W277,DK233)","v":0},{"$f":"IF(DL233=\"\",Hoja9!X277,DL233)","v":0},{"$f":"IF(DM233=\"\",Hoja9!Y277,DM233)","v":0},{"$f":"IF(DN233=\"\",Hoja9!Z277,DN233)","v":0},null,null,null,null,null,"","","",null,null,null,null,null,null,{"$f":"IF(S225=\"1T\",\"PT\",\"\")","v":""},{"$f":"IF(Z225=\"2T\",\"ST\",\"\")","v":""},{"$f":"IF(DJ225=\"3T\",\"TT\",\"\")","v":""},null,null,null,null,null,null,null,null,null,null,null,null,null,null,null,null,null,null,null,null,null,null,null,null,6,{"$f":"IF(PLAN!$G$226=\"1T\",PLAN!F233,IF(PLAN!$N$226=\"2T\",PLAN!M233,IF(PLAN!$U$226=\"3T\",PLAN!T233,\"\")))","v":0},null,null,null,null,null,null,null,null,null,null,null,null,null,null,null,null,null,null,null,null,null,null,null,{"$f":"IF(PLAN!$C233=\"\",\"\",PLAN!$C233)","v":""},null,null,null,null,6,"e","E"]
[null,null,{"$f":"IF(D234=\"\",\"\",$AB$28)","v":""},null,{"$f":"IF(Hoja9!D278=\"\",\"\",Hoja9!D278)","v":""},{"$f":"IF(CW234=\"\",Hoja9!U278,CW234)","v":0},{"$f":"IF(CX234=\"\",Hoja9!V278,CX234)","v":0},{"$f":"IF(CY234=\"\",Hoja9!W278,CY234)","v":0},{"$f":"IF(CZ234=\"\",Hoja9!X278,CZ234)","v":0},{"$f":"IF(DA234=\"\",Hoja9!Y278,DA234)","v":0},{"$f":"IF(DB234=\"\",Hoja9!Z278,DB234)","v":0},{"$f":"IF(Hoja9!D278=\"\",\"\",Hoja9!D278)","v":""},{"$f":"IF(DC234=\"\",Hoja9!U278,DC234)","v":0},{"$f":"IF(DD234=\"\",Hoja9!V278,DD234)","v":0},{"$f":"IF(DE234=\"\",Hoja9!W278,DE234)","v":0},{"$f":"IF(DF234=\"\",Hoja9!X278,DF234)","v":0},{"$f":"IF(DG234=\"\",Hoja9!Y278,DG234)","v":0},{"$f":"IF(DH234=\"\",Hoja9!Z278,DH234)","v":0},{"$f":"IF(Hoja9!D278=\"\",\"\",Hoja9!D278)","v":""},{"$f":"IF(DI234=\"\",Hoja9!U278,DI234)","v":0},{"$f":"IF(DJ234=\"\",Hoja9!V278,DJ234)","v":0},{"$f":"IF(DK234=\"\",Hoja9!W278,DK234)","v":0},{"$f":"IF(DL234=\"\",Hoja9!X278,DL234)","v":0},{"$f":"IF(DM234=\"\",Hoja9!Y278,DM234)","v":0},{"$f":"IF(DN234=\"\",Hoja9!Z278,DN234)","v":0},null,null,null,null,null,"","","",null,null,null,null,null,null,null,null,null,null,null,null,null,null,null,null,null,null,null,null,null,null,null,null,null,null,null,null,null,null,null,null,null,7,{"$f":"IF(PLAN!$G$226=\"1T\",PLAN!F234,IF(PLAN!$N$226=\"2T\",PLAN!M234,IF(PLAN!$U$226=\"3T\",PLAN!T234,\"\")))","v":0},null,null,null,null,null,null,null,null,null,null,null,null,null,null,null,null,null,null,null,null,null,null,null,{"$f":"IF(PLAN!$C234=\"\",\"\",PLAN!$C234)","v":""},null,null,null,null,7,"f"]
[null,null,{"$f":"IF(D235=\"\",\"\",$AB$29)","v":""},null,{"$f":"IF(Hoja9!D279=\"\",\"\",Hoja9!D279)","v":""},{"$f":"IF(CW235=\"\",Hoja9!U279,CW235)","v":0},{"$f":"IF(CX235=\"\",Hoja9!V279,CX235)","v":0},{"$f":"IF(CY235=\"\",Hoja9!W279,CY235)","v":0},{"$f":"IF(CZ235=\"\",Hoja9!X279,CZ235)","v":0},{"$f":"IF(DA235=\"\",Hoja9!Y279,DA235)","v":0},{"$f":"IF(DB235=\"\",Hoja9!Z279,DB235)","v":0},{"$f":"IF(Hoja9!D279=\"\",\"\",Hoja9!D279)","v":""},{"$f":"IF(DC235=\"\",Hoja9!U279,DC235)","v":0},{"$f":"IF(DD235=\"\",Hoja9!V279,DD235)","v":0},{"$f":"IF(DE235=\"\",Hoja9!W279,DE235)","v":0},{"$f":"IF(DF235=\"\",Hoja9!X279,DF235)","v":0},{"$f":"IF(DG235=\"\",Hoja9!Y279,DG235)","v":0},{"$f":"IF(DH235=\"\",Hoja9!Z279,DH235)","v":0},{"$f":"IF(Hoja9!D279=\"\",\"\",Hoja9!D279)","v":""},{"$f":"IF(DI235=\"\",Hoja9!U279,DI235)","v":0},{"$f":"IF(DJ235=\"\",Hoja9!V279,DJ235)","v":0},{"$f":"IF(DK235=\"\",Hoja9!W279,DK235)","v":0},{"$f":"IF(DL235=\"\",Hoja9!X279,DL235)","v":0},{"$f":"IF(DM235=\"\",Hoja9!Y279,DM235)","v":0},{"$f":"IF(DN235=\"\",Hoja9!Z279,DN235)","v":0},null,null,null,null,null,"","","",null,null,null,null,null,null,null,null,null,null,null,null,null,null,null,null,null,null,null,null,null,null,null,null,null,null,null,null,null,null,null,null,null,8,{"$f":"IF(PLAN!$G$226=\"1T\",PLAN!F235,IF(PLAN!$N$226=\"2T\",PLAN!M235,IF(PLAN!$U$226=\"3T\",PLAN!T235,\"\")))","v":0},null,null,null,null,null,null,null,null,null,null,null,null,null,null,null,null,null,null,null,null,null,null,null,{"$f":"IF(PLAN!$C235=\"\",\"\",PLAN!$C235)","v":""},null,null,null,null,8,"g"]
[null,null,{"$f":"IF(D236=\"\",\"\",$AB$30)","v":""},null,{"$f":"IF(Hoja9!D280=\"\",\"\",Hoja9!D280)","v":""},{"$f":"IF(CW236=\"\",Hoja9!U280,CW236)","v":0},{"$f":"IF(CX236=\"\",Hoja9!V280,CX236)","v":0},{"$f":"IF(CY236=\"\",Hoja9!W280,CY236)","v":0},{"$f":"IF(CZ236=\"\",Hoja9!X280,CZ236)","v":0},{"$f":"IF(DA236=\"\",Hoja9!Y280,DA236)","v":0},{"$f":"IF(DB236=\"\",Hoja9!Z280,DB236)","v":0},{"$f":"IF(Hoja9!D280=\"\",\"\",Hoja9!D280)","v":""},{"$f":"IF(DC236=\"\",Hoja9!U280,DC236)","v":0},{"$f":"IF(DD236=\"\",Hoja9!V280,DD236)","v":0},{"$f":"IF(DE236=\"\",Hoja9!W280,DE236)","v":0},{"$f":"IF(DF236=\"\",Hoja9!X280,DF236)","v":0},{"$f":"IF(DG236=\"\",Hoja9!Y280,DG236)","v":0},{"$f":"IF(DH236=\"\",Hoja9!Z280,DH236)","v":0},{"$f":"IF(Hoja9!D280=\"\",\"\",Hoja9!D280)","v":""},{"$f":"IF(DI236=\"\",Hoja9!U280,DI236)","v":0},{"$f":"IF(DJ236=\"\",Hoja9!V280,DJ236)","v":0},{"$f":"IF(DK236=\"\",Hoja9!W280,DK236)","v":0},{"$f":"IF(DL236=\"\",Hoja9!X280,DL236)","v":0},{"$f":"IF(DM236=\"\",Hoja9!Y280,DM236)","v":0},{"$f":"IF(DN236=\"\",Hoja9!Z280,DN236)","v":0},null,null,null,null,null,"","","",null,null,null,null,null,null,null,null,null,null,null,null,null,null,null,null,null,null,null,null,null,null,null,null,null,null,null,null,null,null,null,null,null,9,{"$f":"IF(PLAN!$G$226=\"1T\",PLAN!F236,IF(PLAN!$N$226=\"2T\",PLAN!M236,IF(PLAN!$U$226=\"3T\",PLAN!T236,\"\")))","v":0},null,null,null,null,null,null,null,null,null,null,null,null,null,null,null,null,null,null,null,null,null,null,null,{"$f":"IF(PLAN!$C236=\"\",\"\",PLAN!$C236)","v":""},null,null,null,null,9,"h"]
[null,null,{"$f":"IF(D237=\"\",\"\",$AB$31)","v":""},null,{"$f":"IF(Hoja9!D281=\"\",\"\",Hoja9!D281)","v":""},{"$f":"IF(CW237=\"\",Hoja9!U281,CW237)","v":0},{"$f":"IF(CX237=\"\",Hoja9!V281,CX237)","v":0},{"$f":"IF(CY237=\"\",Hoja9!W281,CY237)","v":0},{"$f":"IF(CZ237=\"\",Hoja9!X281,CZ237)","v":0},{"$f":"IF(DA237=\"\",Hoja9!Y281,DA237)","v":0},{"$f":"IF(DB237=\"\",Hoja9!Z281,DB237)","v":0},{"$f":"IF(Hoja9!D281=\"\",\"\",Hoja9!D281)","v":""},{"$f":"IF(DC237=\"\",Hoja9!U281,DC237)","v":0},{"$f":"IF(DD237=\"\",Hoja9!V281,DD237)","v":0},{"$f":"IF(DE237=\"\",Hoja9!W281,DE237)","v":0},{"$f":"IF(DF237=\"\",Hoja9!X281,DF237)","v":0},{"$f":"IF(DG237=\"\",Hoja9!Y281,DG237)","v":0},{"$f":"IF(DH237=\"\",Hoja9!Z281,DH237)","v":0},{"$f":"IF(Hoja9!D281=\"\",\"\",Hoja9!D281)","v":""},{"$f":"IF(DI237=\"\",Hoja9!U281,DI237)","v":0},{"$f":"IF(DJ237=\"\",Hoja9!V281,DJ237)","v":0},{"$f":"IF(DK237=\"\",Hoja9!W281,DK237)","v":0},{"$f":"IF(DL237=\"\",Hoja9!X281,DL237)","v":0},{"$f":"IF(DM237=\"\",Hoja9!Y281,DM237)","v":0},{"$f":"IF(DN237=\"\",Hoja9!Z281,DN237)","v":0},null,null,null,null,null,"","","",null,null,null,null,null,null,null,null,null,null,null,null,null,null,null,null,null,null,null,null,null,null,null,null,null,null,null,null,null,null,null,null,null,10,{"$f":"IF(PLAN!$G$226=\"1T\",PLAN!F237,IF(PLAN!$N$226=\"2T\",PLAN!M237,IF(PLAN!$U$226=\"3T\",PLAN!T237,\"\")))","v":0},null,null,null,null,null,null,null,null,null,null,null,null,null,null,null,null,null,null,null,null,null,null,null,{"$f":"IF(PLAN!$C237=\"\",\"\",PLAN!$C237)","v":""},null,null,null,null,10,"i"]
[null,"3T",{"$f":"IF(D238=\"\",\"\",$AB$27)","v":""},null,{"$f":"IF(Hoja9!D282=\"\",\"\",Hoja9!D282)","v":""},{"$f":"IF(CW238=\"\",Hoja9!U282,CW238)","v":0},{"$f":"IF(CX238=\"\",Hoja9!V282,CX238)","v":0},{"$f":"IF(CY238=\"\",Hoja9!W282,CY238)","v":0},{"$f":"IF(CZ238=\"\",Hoja9!X282,CZ238)","v":0},{"$f":"IF(DA238=\"\",Hoja9!Y282,DA238)","v":0},{"$f":"IF(DB238=\"\",Hoja9!Z282,DB238)","v":0},{"$f":"IF(Hoja9!D282=\"\",\"\",Hoja9!D282)","v":""},{"$f":"IF(DC238=\"\",Hoja9!U282,DC238)","v":0},{"$f":"IF(DD238=\"\",Hoja9!V282,DD238)","v":0},{"$f":"IF(DE238=\"\",Hoja9!W282,DE238)","v":0},{"$f":"IF(DF238=\"\",Hoja9!X282,DF238)","v":0},{"$f":"IF(DG238=\"\",Hoja9!Y282,DG238)","v":0},{"$f":"IF(DH238=\"\",Hoja9!Z282,DH238)","v":0},{"$f":"IF(Hoja9!D282=\"\",\"\",Hoja9!D282)","v":""},{"$f":"IF(DI238=\"\",Hoja9!U282,DI238)","v":0},{"$f":"IF(DJ238=\"\",Hoja9!V282,DJ238)","v":0},{"$f":"IF(DK238=\"\",Hoja9!W282,DK238)","v":0},{"$f":"IF(DL238=\"\",Hoja9!X282,DL238)","v":0},{"$f":"IF(DM238=\"\",Hoja9!Y282,DM238)","v":0},{"$f":"IF(DN238=\"\",Hoja9!Z282,DN238)","v":0},null,null,null,null,null,"","","",null,null,null,null,null,null,null,null,null,null,null,null,null,null,null,null,null,null,null,null,null,null,null,null,null,null,null,null,null,null,null,null,null,11,{"$f":"IF(PLAN!$G$226=\"1T\",PLAN!F238,IF(PLAN!$N$226=\"2T\",PLAN!M238,IF(PLAN!$U$226=\"3T\",PLAN!T238,\"\")))","v":0},null,null,null,null,null,null,null,null,null,null,null,null,null,null,null,null,null,null,null,null,null,null,null,{"$f":"IF(PLAN!$C238=\"\",\"\",PLAN!$C238)","v":""},null,null,null,null,11,"j"]
[null,null,{"$f":"IF(D239=\"\",\"\",$AB$28)","v":""},null,{"$f":"IF(Hoja9!D283=\"\",\"\",Hoja9!D283)","v":""},{"$f":"IF(CW239=\"\",Hoja9!U283,CW239)","v":0},{"$f":"IF(CX239=\"\",Hoja9!V283,CX239)","v":0},{"$f":"IF(CY239=\"\",Hoja9!W283,CY239)","v":0},{"$f":"IF(CZ239=\"\",Hoja9!X283,CZ239)","v":0},{"$f":"IF(DA239=\"\",Hoja9!Y283,DA239)","v":0},{"$f":"IF(DB239=\"\",Hoja9!Z283,DB239)","v":0},{"$f":"IF(Hoja9!D283=\"\",\"\",Hoja9!D283)","v":""},{"$f":"IF(DC239=\"\",Hoja9!U283,DC239)","v":0},{"$f":"IF(DD239=\"\",Hoja9!V283,DD239)","v":0},{"$f":"IF(DE239=\"\",Hoja9!W283,DE239)","v":0},{"$f":"IF(DF239=\"\",Hoja9!X283,DF239)","v":0},{"$f":"IF(DG239=\"\",Hoja9!Y283,DG239)","v":0},{"$f":"IF(DH239=\"\",Hoja9!Z283,DH239)","v":0},{"$f":"IF(Hoja9!D283=\"\",\"\",Hoja9!D283)","v":""},{"$f":"IF(DI239=\"\",Hoja9!U283,DI239)","v":0},{"$f":"IF(DJ239=\"\",Hoja9!V283,DJ239)","v":0},{"$f":"IF(DK239=\"\",Hoja9!W283,DK239)","v":0},{"$f":"IF(DL239=\"\",Hoja9!X283,DL239)","v":0},{"$f":"IF(DM239=\"\",Hoja9!Y283,DM239)","v":0},{"$f":"IF(DN239=\"\",Hoja9!Z283,DN239)","v":0},null,null,null,null,null,"","","",null,null,null,null,null,null,null,null,null,null,null,null,null,null,null,null,null,null,null,null,null,null,null,null,null,null,null,null,null,null,null,null,null,12,{"$f":"IF(PLAN!$G$226=\"1T\",PLAN!F239,IF(PLAN!$N$226=\"2T\",PLAN!M239,IF(PLAN!$U$226=\"3T\",PLAN!T239,\"\")))","v":0},null,null,null,null,null,null,null,null,null,null,null,null,null,null,null,null,null,null,null,null,null,null,null,{"$f":"IF(PLAN!$C239=\"\",\"\",PLAN!$C239)","v":""},null,null,null,null,12,"k"]
[null,null,{"$f":"IF(D240=\"\",\"\",$AB$29)","v":""},null,{"$f":"IF(Hoja9!D284=\"\",\"\",Hoja9!D284)","v":""},{"$f":"IF(CW240=\"\",Hoja9!U284,CW240)","v":0},{"$f":"IF(CX240=\"\",Hoja9!V284,CX240)","v":0},{"$f":"IF(CY240=\"\",Hoja9!W284,CY240)","v":0},{"$f":"IF(CZ240=\"\",Hoja9!X284,CZ240)","v":0},{"$f":"IF(DA240=\"\",Hoja9!Y284,DA240)","v":0},{"$f":"IF(DB240=\"\",Hoja9!Z284,DB240)","v":0},{"$f":"IF(Hoja9!D284=\"\",\"\",Hoja9!D284)","v":""},{"$f":"IF(DC240=\"\",Hoja9!U284,DC240)","v":0},{"$f":"IF(DD240=\"\",Hoja9!V284,DD240)","v":0},{"$f":"IF(DE240=\"\",Hoja9!W284,DE240)","v":0},{"$f":"IF(DF240=\"\",Hoja9!X284,DF240)","v":0},{"$f":"IF(DG240=\"\",Hoja9!Y284,DG240)","v":0},{"$f":"IF(DH240=\"\",Hoja9!Z284,DH240)","v":0},{"$f":"IF(Hoja9!D284=\"\",\"\",Hoja9!D284)","v":""},{"$f":"IF(DI240=\"\",Hoja9!U284,DI240)","v":0},{"$f":"IF(DJ240=\"\",Hoja9!V284,DJ240)","v":0},{"$f":"IF(DK240=\"\",Hoja9!W284,DK240)","v":0},{"$f":"IF(DL240=\"\",Hoja9!X284,DL240)","v":0},{"$f":"IF(DM240=\"\",Hoja9!Y284,DM240)","v":0},{"$f":"IF(DN240=\"\",Hoja9!Z284,DN240)","v":0},null,null,null,null,null,"","","",null,null,null,null,null,null,null,null,null,null,null,null,null,null,null,null,null,null,null,null,null,null,null,null,null,null,null,null,null,null,null,null,null,13,{"$f":"IF(PLAN!$G$226=\"1T\",PLAN!F240,IF(PLAN!$N$226=\"2T\",PLAN!M240,IF(PLAN!$U$226=\"3T\",PLAN!T240,\"\")))","v":0},null,null,null,null,null,null,null,null,null,null,null,null,null,null,null,null,null,null,null,null,null,null,null,{"$f":"IF(PLAN!$C240=\"\",\"\",PLAN!$C240)","v":""},null,null,null,null,13,"l"]
[null,null,{"$f":"IF(D241=\"\",\"\",$AB$30)","v":""},null,{"$f":"IF(Hoja9!D285=\"\",\"\",Hoja9!D285)","v":""},{"$f":"IF(CW241=\"\",Hoja9!U285,CW241)","v":0},{"$f":"IF(CX241=\"\",Hoja9!V285,CX241)","v":0},{"$f":"IF(CY241=\"\",Hoja9!W285,CY241)","v":0},{"$f":"IF(CZ241=\"\",Hoja9!X285,CZ241)","v":0},{"$f":"IF(DA241=\"\",Hoja9!Y285,DA241)","v":0},{"$f":"IF(DB241=\"\",Hoja9!Z285,DB241)","v":0},{"$f":"IF(Hoja9!D285=\"\",\"\",Hoja9!D285)","v":""},{"$f":"IF(DC241=\"\",Hoja9!U285,DC241)","v":0},{"$f":"IF(DD241=\"\",Hoja9!V285,DD241)","v":0},{"$f":"IF(DE241=\"\",Hoja9!W285,DE241)","v":0},{"$f":"IF(DF241=\"\",Hoja9!X285,DF241)","v":0},{"$f":"IF(DG241=\"\",Hoja9!Y285,DG241)","v":0},{"$f":"IF(DH241=\"\",Hoja9!Z285,DH241)","v":0},{"$f":"IF(Hoja9!D285=\"\",\"\",Hoja9!D285)","v":""},{"$f":"IF(DI241=\"\",Hoja9!U285,DI241)","v":0},{"$f":"IF(DJ241=\"\",Hoja9!V285,DJ241)","v":0},{"$f":"IF(DK241=\"\",Hoja9!W285,DK241)","v":0},{"$f":"IF(DL241=\"\",Hoja9!X285,DL241)","v":0},{"$f":"IF(DM241=\"\",Hoja9!Y285,DM241)","v":0},{"$f":"IF(DN241=\"\",Hoja9!Z285,DN241)","v":0},null,null,null,null,null,"","","",null,null,null,null,null,null,null,null,null,null,null,null,null,null,null,null,null,null,null,null,null,null,null,null,null,null,null,null,null,null,null,null,null,14,{"$f":"IF(PLAN!$G$226=\"1T\",PLAN!F241,IF(PLAN!$N$226=\"2T\",PLAN!M241,IF(PLAN!$U$226=\"3T\",PLAN!T241,\"\")))","v":0},null,null,null,null,null,null,null,null,null,null,null,null,null,null,null,null,null,null,null,null,null,null,null,{"$f":"IF(PLAN!$C241=\"\",\"\",PLAN!$C241)","v":""},null,null,null,null,14,"m"]
[null,null,{"$f":"IF(D242=\"\",\"\",$AB$31)","v":""},null,{"$f":"IF(Hoja9!D286=\"\",\"\",Hoja9!D286)","v":""},{"$f":"IF(CW242=\"\",Hoja9!U286,CW242)","v":0},{"$f":"IF(CX242=\"\",Hoja9!V286,CX242)","v":0},{"$f":"IF(CY242=\"\",Hoja9!W286,CY242)","v":0},{"$f":"IF(CZ242=\"\",Hoja9!X286,CZ242)","v":0},{"$f":"IF(DA242=\"\",Hoja9!Y286,DA242)","v":0},{"$f":"IF(DB242=\"\",Hoja9!Z286,DB242)","v":0},{"$f":"IF(Hoja9!D286=\"\",\"\",Hoja9!D286)","v":""},{"$f":"IF(DC242=\"\",Hoja9!U286,DC242)","v":0},{"$f":"IF(DD242=\"\",Hoja9!V286,DD242)","v":0},{"$f":"IF(DE242=\"\",Hoja9!W286,DE242)","v":0},{"$f":"IF(DF242=\"\",Hoja9!X286,DF242)","v":0},{"$f":"IF(DG242=\"\",Hoja9!Y286,DG242)","v":0},{"$f":"IF(DH242=\"\",Hoja9!Z286,DH242)","v":0},{"$f":"IF(Hoja9!D286=\"\",\"\",Hoja9!D286)","v":""},{"$f":"IF(DI242=\"\",Hoja9!U286,DI242)","v":0},{"$f":"IF(DJ242=\"\",Hoja9!V286,DJ242)","v":0},{"$f":"IF(DK242=\"\",Hoja9!W286,DK242)","v":0},{"$f":"IF(DL242=\"\",Hoja9!X286,DL242)","v":0},{"$f":"IF(DM242=\"\",Hoja9!Y286,DM242)","v":0},{"$f":"IF(DN242=\"\",Hoja9!Z286,DN242)","v":0},null,null,null,null,null,"","","",null,null,null,null,null,null,null,null,null,null,null,null,null,null,null,null,null,null,null,null,null,null,null,null,null,null,null,null,null,null,null,null,null,15,{"$f":"IF(PLAN!$G$226=\"1T\",PLAN!F242,IF(PLAN!$N$226=\"2T\",PLAN!M242,IF(PLAN!$U$226=\"3T\",PLAN!T242,\"\")))","v":0},null,null,null,null,null,null,null,null,null,null,null,null,null,null,null,null,null,null,null,null,null,null,null,{"$f":"IF(PLAN!$C242=\"\",\"\",PLAN!$C242)","v":""},null,null,null,null,15,"x"]
[]
[]
[]
[]
[]
[null,null,null,null,{"$f":"15-COUNTIF(E228:E242,\"\")","v":0},null,null,null,null,null,null,{"$f":"15-COUNTIF(L228:L242,\"\")","v":0},null,null,null,null,null,null,{"$f":"15-COUNTIF(S228:S242,\"\")","v":0}]

{"sheet":"REPORTE2","index":4,"n_rows":64,"n_cols":64,"rows_kept":64,"cut":false,"hidden":false,"merged":[[4,1,4,3],[4,5,4,11],[6,2,7,9],[9,2,10,9],[10,13,10,14]]}
[null,null,null,null,null,null,null,null,null,null,null,null,null,null,null,null,null,null,null,null,null,null,null,null,1,null,null,null,null,null,null,null,null,null,null,null,null,{"$f":"IF($X$5=$O$5,\"OK\",\"\")","v":"OK"},"OF",null,null,{"$f":"IF(INICIO!$H$2=\"\",\"\",INICIO!$H$2)","v":"1T"},{"$f":"IF(AP1=\"1T\",\"1\",IF(AP1=\"2T\",\"2\",IF(AP1=\"3T\",\"3\",\"\")))","v":"1"},null,null,null,null,null,null,null,null,null,null,null,null,null,null,null,null,null,null,null,null,"L"]
[null,null,null,null,null,null,{"$f":"INICIO!E4","v":"GERFRIED PINTO"},null,null,null,null,null,null,null,null,null,null,null,null,null,null,null,null,"ARCHIVO",2,null,null,null,null,null,null,null,null,null,null,null,null,"OF","RE","OF",null,"P",{"$f":"$AQ$1","v":"1"}]
[null,"BUSCAR ASIGNATURA",null,null,null,null,null,null,null,null,null,null,null,null,null,null,null,null,null,null,null,null,null,{"$f":"LOOKUP(INICIO!$F$143,INICIO!$I$134:$I$142,INICIO!$G$134:$G$142)","v":"ASIG1"},3,null,null,null,null,null,null,null,null,null,null,null,null,"CONTINUE CON LA SIGUIENTE ASIGNATURA"]
[null,null,null,null,null,null,null,null,null,null,null,null,null,null,null,null,null,null,null,null,null,null,null,null,4,null,null,null,null,null,null,null,null,null,null,null,null,"L"]
[null,{"$f":"IF($AL$2=\"\",$AL$3,\"\")","v":""},null,null,null,{"$f":"VLOOKUP($X$5,INDIRECT($X$3),2,FALSE)","v":"D.COOPERATIVA"},null,null,null,null,null,null,null,"CURSO",{"$f":"VLOOKUP($X$5,INDIRECT($X$3),1,FALSE)","v":"6B"},null,null,null,null,null,null,null,null,{"$f":"LOOKUP(INICIO!$F$143,INICIO!I134:I142,INICIO!H134:H142)","v":"6B"},5]
[null,null,null,null,null,null,null,null,null,null,null,null,null,null,null,null,null,null,null,null,null,null,null,null,6]
["COMANDOS",null,"!ATENCION:  Es muy importante que siga los pasos que se mencionan a continuacion para que no trabaje mas de la cuenta.",null,null,null,null,null,null,null,null,null,"PREPARAR DATOS",null,null,null,null,null,null,null,null,null,null,"S001",7]
[null,null,null,null,null,null,null,null,null,null,null,null,null,null,null,null,null,null,null,null,null,null,null,"S002",8]
[null,null,"1. Busque la asignatura a revisar",null,null,null,null,"2. Cargue las notas",null,null,null,null,{"$f":"IF(E15=AE15,\"\",\"OK\")","v":""},null,null,null,{"$f":"IF($AN$2=\"\",\"\",$AN$2)","v":"OF"},null,null,null,null,null,null,"S003",9]
[null,null,"3. Limpie los datos (seleccione la primera celda vacia que aparece debajo de \"LOG\", oprima tecla suprimir)",null,null,null,null,null,null,null,null,null,null,null,null,null,null,null,null,null,null,null,null,"S004",10]
[null,null,null,null,null,null,null,null,null,null,null,null,null,{"$f":"IF($AL$2=\"\",\"\",$AL$2)","v":"OF"},null,null,null,null,null,null,null,null,null,"S005",11]
[null,null,"4. Seleccione los datos",null,null,"4. Activar y Exportar los datos",null,null,null,null,null,null,null,null,null,null,null,null,null,null,null,null,null,null,12]
[null,null,null,null,null,null,null,null,null,null,null,null,null,null,null,null,null,null,null,null,null,null,null,null,13]
["No","ESTUDIANTE","FP","CE","LOG1","LOG2","LOG3","LOG4","LOG5",null,null,"T","CODIGO","CP","P","DESCRIPCION",null,null,null,null,null,null,null,null,14,null,"No","ESTUDIANTE","FP","CE","LOG1","LOG2","LOG3","LOG4","LOG5"]
[{"$f":"IF(AA15=\"\",\"\",AA15)","v":1},{"$f":"IF(A15=\"\",\"\",AB15)","v":{"$error":"#REF!"}},null,null,{"$f":"VLOOKUP($O$5,INDIRECT($X$3),3,FALSE)","v":41},{"$f":"VLOOKUP($O$5,INDIRECT($X$3),53,FALSE)","v":46},{"$f":"VLOOKUP($O$5,INDIRECT($X$3),103,FALSE)","v":""},{"$f":"VLOOKUP($O$5,INDIRECT($X$3),153,FALSE)","v":""},{"$f":"VLOOKUP($O$5,INDIRECT($X$3),203,FALSE)","v":""},null,null,null,{"$f":"IF(L15=\"\",\"\",X7)","v":""},null,{"$f":"IF(L15=\"\",\"\",$AQ$2)","v":""},{"$f":"VLOOKUP($O$5,INDIRECT($X$3),253,FALSE)","v":"DEDE"},null,null,null,null,null,null,null,null,15,null,{"$f":"IF(AND(AE15=\"\",AF15=\"\",AG15=\"\",AH15=\"\",AI15=\"\"),\"\",Y1)","v":1},{"$f":"VLOOKUP($O$5,INDIRECT($X$3),263,FALSE)","v":{"$error":"#REF!"}},null,null,{"$f":"VLOOKUP($O$5,INDIRECT($X$3),3,FALSE)","v":41},{"$f":"VLOOKUP($O$5,INDIRECT($X$3),53,FALSE)","v":46},{"$f":"VLOOKUP($O$5,INDIRECT($X$3),103,FALSE)","v":""},{"$f":"VLOOKUP($O$5,INDIRECT($X$3),153,FALSE)","v":""},{"$f":"VLOOKUP($O$5,INDIRECT($X$3),203,FALSE)","v":""}]
[2,{"$f":"IF(A16=\"\",\"\",AB16)","v":{"$error":"#REF!"}},null,"",{"$f":"VLOOKUP($O$5,INDIRECT($X$3),4,FALSE)","v":34},{"$f":"VLOOKUP($O$5,INDIRECT($X$3),54,FALSE)","v":32},{"$f":"VLOOKUP($O$5,INDIRECT($X$3),104,FALSE)","v":""},{"$f":"VLOOKUP($O$5,INDIRECT($X$3),154,FALSE)","v":""},{"$f":"VLOOKUP($O$5,INDIRECT($X$3),204,FALSE)","v":""},null,null,null,{"$f":"IF(L16=\"\",\"\",X8)","v":""},null,{"$f":"IF(L16=\"\",\"\",$AQ$2)","v":""},{"$f":"VLOOKUP($O$5,INDIRECT($X$3),254,FALSE)","v":"DEDE"},null,null,null,null,null,null,null,null,16,null,{"$f":"IF(AND(AE16=\"\",AF16=\"\",AG16=\"\",AH16=\"\",AI16=\"\"),\"\",Y2)","v":2},{"$f":"VLOOKUP($O$5,INDIRECT($X$3),264,FALSE)","v":{"$error":"#REF!"}},null,null,{"$f":"VLOOKUP($O$5,INDIRECT($X$3),4,FALSE)","v":34},{"$f":"VLOOKUP($O$5,INDIRECT($X$3),54,FALSE)","v":32},{"$f":"VLOOKUP($O$5,INDIRECT($X$3),104,FALSE)","v":""},{"$f":"VLOOKUP($O$5,INDIRECT($X$3),154,FALSE)","v":""},{"$f":"VLOOKUP($O$5,INDIRECT($X$3),204,FALSE)","v":""}]
[3,{"$f":"IF(A17=\"\",\"\",AB17)","v":{"$error":"#REF!"}},null,"",{"$f":"VLOOKUP($O$5,INDIRECT($X$3),5,FALSE)","v":31},{"$f":"VLOOKUP($O$5,INDIRECT($X$3),55,FALSE)","v":42},{"$f":"VLOOKUP($O$5,INDIRECT($X$3),105,FALSE)","v":""},{"$f":"VLOOKUP($O$5,INDIRECT($X$3),155,FALSE)","v":""},{"$f":"VLOOKUP($O$5,INDIRECT($X$3),205,FALSE)","v":""},null,null,null,{"$f":"IF(L17=\"\",\"\",X9)","v":""},null,{"$f":"IF(L17=\"\",\"\",$AQ$2)","v":""},{"$f":"VLOOKUP($O$5,INDIRECT($X$3),255,FALSE)","v":"EDED"},null,null,null,null,null,null,null,null,17,null,3,{"$f":"VLOOKUP($O$5,INDIRECT($X$3),265,FALSE)","v":{"$error":"#REF!"}},null,null,{"$f":"VLOOKUP($O$5,INDIRECT($X$3),5,FALSE)","v":31},{"$f":"VLOOKUP($O$5,INDIRECT($X$3),55,FALSE)","v":42},{"$f":"VLOOKUP($O$5,INDIRECT($X$3),105,FALSE)","v":""},{"$f":"VLOOKUP($O$5,INDIRECT($X$3),155,FALSE)","v":""},{"$f":"VLOOKUP($O$5,INDIRECT($X$3),205,FALSE)","v":""}]
[4,{"$error":"#REF!"},null,"",{"$f":"VLOOKUP($O$5,INDIRECT($X$3),6,FALSE)","v":36},{"$f":"VLOOKUP($O$5,INDIRECT($X$3),56,FALSE)","v":35},{"$f":"VLOOKUP($O$5,INDIRECT($X$3),106,FALSE)","v":""},{"$f":"VLOOKUP($O$5,INDIRECT($X$3),156,FALSE)","v":""},{"$f":"VLOOKUP($O$5,INDIRECT($X$3),206,FALSE)","v":""},null,null,null,{"$f":"IF(L18=\"\",\"\",X10)","v":""},null,"",{"$f":"VLOOKUP($O$5,INDIRECT($X$3),256,FALSE)","v":0},null,null,null,null,null,null,null,null,18,null,4,{"$f":"VLOOKUP($O$5,INDIRECT($X$3),266,FALSE)","v":{"$error":"#REF!"}},null,null,{"$f":"VLOOKUP($O$5,INDIRECT($X$3),6,FALSE)","v":36},{"$f":"VLOOKUP($O$5,INDIRECT($X$3),56,FALSE)","v":35},{"$f":"VLOOKUP($O$5,INDIRECT($X$3),106,FALSE)","v":""},{"$f":"VLOOKUP($O$5,INDIRECT($X$3),156,FALSE)","v":""},{"$f":"VLOOKUP($O$5,INDIRECT($X$3),206,FALSE)","v":""}]
[5,{"$error":"#REF!"},null,"",{"$f":"VLOOKUP($O$5,INDIRECT($X$3),7,FALSE)","v":27},{"$f":"VLOOKUP($O$5,INDIRECT($X$3),57,FALSE)","v":28},{"$f":"VLOOKUP($O$5,INDIRECT($X$3),107,FALSE)","v":""},{"$f":"VLOOKUP($O$5,INDIRECT($X$3),157,FALSE)","v":""},{"$f":"VLOOKUP($O$5,INDIRECT($X$3),207,FALSE)","v":""},null,null,null,{"$f":"IF(L19=\"\",\"\",X11)","v":""},null,"",{"$f":"VLOOKUP($O$5,INDIRECT($X$3),257,FALSE)","v":0},null,null,null,null,null,null,null,null,19,null,5,{"$f":"VLOOKUP($O$5,INDIRECT($X$3),267,FALSE)","v":{"$error":"#REF!"}},null,null,{"$f":"VLOOKUP($O$5,INDIRECT($X$3),7,FALSE)","v":27},{"$f":"VLOOKUP($O$5,INDIRECT($X$3),57,FALSE)","v":28},{"$f":"VLOOKUP($O$5,INDIRECT($X$3),107,FALSE)","v":""},{"$f":"VLOOKUP($O$5,INDIRECT($X$3),157,FALSE)","v":""},{"$f":"VLOOKUP($O$5,INDIRECT($X$3),207,FALSE)","v":""}]
[6,{"$error":"#REF!"},null,"",{"$f":"VLOOKUP($O$5,INDIRECT($X$3),8,FALSE)","v":39},{"$f":"VLOOKUP($O$5,INDIRECT($X$3),58,FALSE)","v":45},{"$f":"VLOOKUP($O$5,INDIRECT($X$3),108,FALSE)","v":""},{"$f":"VLOOKUP($O$5,INDIRECT($X$3),158,FALSE)","v":""},{"$f":"VLOOKUP($O$5,INDIRECT($X$3),208,FALSE)","v":""},null,null,null,null,null,null,null,null,null,null,null,null,null,null,null,20,null,6,{"$f":"VLOOKUP($O$5,INDIRECT($X$3),268,FALSE)","v":{"$error":"#REF!"}},null,null,{"$f":"VLOOKUP($O$5,INDIRECT($X$3),8,FALSE)","v":39},{"$f":"VLOOKUP($O$5,INDIRECT($X$3),58,FALSE)","v":45},{"$f":"VLOOKUP($O$5,INDIRECT($X$3),108,FALSE)","v":""},{"$f":"VLOOKUP($O$5,INDIRECT($X$3),158,FALSE)","v":""},{"$f":"VLOOKUP($O$5,INDIRECT($X$3),208,FALSE)","v":""}]
[7,{"$error":"#REF!"},null,"",{"$f":"VLOOKUP($O$5,INDIRECT($X$3),9,FALSE)","v":32},{"$f":"VLOOKUP($O$5,INDIRECT($X$3),59,FALSE)","v":22},{"$f":"VLOOKUP($O$5,INDIRECT($X$3),109,FALSE)","v":""},{"$f":"VLOOKUP($O$5,INDIRECT($X$3),159,FALSE)","v":""},{"$f":"VLOOKUP($O$5,INDIRECT($X$3),209,FALSE)","v":""},null,null,null,null,null,null,null,null,null,null,null,null,null,null,null,21,null,7,{"$f":"VLOOKUP($O$5,INDIRECT($X$3),269,FALSE)","v":{"$error":"#REF!"}},null,null,{"$f":"VLOOKUP($O$5,INDIRECT($X$3),9,FALSE)","v":32},{"$f":"VLOOKUP($O$5,INDIRECT($X$3),59,FALSE)","v":22},{"$f":"VLOOKUP($O$5,INDIRECT($X$3),109,FALSE)","v":""},{"$f":"VLOOKUP($O$5,INDIRECT($X$3),159,FALSE)","v":""},{"$f":"VLOOKUP($O$5,INDIRECT($X$3),209,FALSE)","v":""}]
[8,{"$error":"#REF!"},null,"",{"$f":"VLOOKUP($O$5,INDIRECT($X$3),10,FALSE)","v":41},{"$f":"VLOOKUP($O$5,INDIRECT($X$3),60,FALSE)","v":45},{"$f":"VLOOKUP($O$5,INDIRECT($X$3),110,FALSE)","v":""},{"$f":"VLOOKUP($O$5,INDIRECT($X$3),160,FALSE)","v":""},{"$f":"VLOOKUP($O$5,INDIRECT($X$3),210,FALSE)","v":""},null,null,null,null,null,null,null,null,null,null,null,null,null,null,null,22,null,8,{"$f":"VLOOKUP($O$5,INDIRECT($X$3),270,FALSE)","v":{"$error":"#REF!"}},null,null,{"$f":"VLOOKUP($O$5,INDIRECT($X$3),10,FALSE)","v":41},{"$f":"VLOOKUP($O$5,INDIRECT($X$3),60,FALSE)","v":45},{"$f":"VLOOKUP($O$5,INDIRECT($X$3),110,FALSE)","v":""},{"$f":"VLOOKUP($O$5,INDIRECT($X$3),160,FALSE)","v":""},{"$f":"VLOOKUP($O$5,INDIRECT($X$3),210,FALSE)","v":""}]
[9,{"$error":"#REF!"},null,"",{"$f":"VLOOKUP($O$5,INDIRECT($X$3),11,FALSE)","v":23},{"$f":"VLOOKUP($O$5,INDIRECT($X$3),61,FALSE)","v":27},{"$f":"VLOOKUP($O$5,INDIRECT($X$3),111,FALSE)","v":""},{"$f":"VLOOKUP($O$5,INDIRECT($X$3),161,FALSE)","v":""},{"$f":"VLOOKUP($O$5,INDIRECT($X$3),211,FALSE)","v":""},null,null,null,null,null,null,null,null,null,null,null,null,null,null,null,23,null,9,{"$f":"VLOOKUP($O$5,INDIRECT($X$3),271,FALSE)","v":{"$error":"#REF!"}},null,null,{"$f":"VLOOKUP($O$5,INDIRECT($X$3),11,FALSE)","v":23},{"$f":"VLOOKUP($O$5,INDIRECT($X$3),61,FALSE)","v":27},{"$f":"VLOOKUP($O$5,INDIRECT($X$3),111,FALSE)","v":""},{"$f":"VLOOKUP($O$5,INDIRECT($X$3),161,FALSE)","v":""},{"$f":"VLOOKUP($O$5,INDIRECT($X$3),211,FALSE)","v":""}]
[10,{"$error":"#REF!"},null,"",{"$f":"VLOOKUP($O$5,INDIRECT($X$3),12,FALSE)","v":42},{"$f":"VLOOKUP($O$5,INDIRECT($X$3),62,FALSE)","v":47},{"$f":"VLOOKUP($O$5,INDIRECT($X$3),112,FALSE)","v":""},{"$f":"VLOOKUP($O$5,INDIRECT($X$3),162,FALSE)","v":""},{"$f":"VLOOKUP($O$5,INDIRECT($X$3),212,FALSE)","v":""},null,null,null,null,null,null,null,null,null,null,null,null,null,null,null,24,null,10,{"$f":"VLOOKUP($O$5,INDIRECT($X$3),272,FALSE)","v":{"$error":"#REF!"}},null,null,{"$f":"VLOOKUP($O$5,INDIRECT($X$3),12,FALSE)","v":42},{"$f":"VLOOKUP($O$5,INDIRECT($X$3),62,FALSE)","v":47},{"$f":"VLOOKUP($O$5,INDIRECT($X$3),112,FALSE)","v":""},{"$f":"VLOOKUP($O$5,INDIRECT($X$3),162,FALSE)","v":""},{"$f":"VLOOKUP($O$5,INDIRECT($X$3),212,FALSE)","v":""}]
[11,{"$error":"#REF!"},null,"",{"$f":"VLOOKUP($O$5,INDIRECT($X$3),13,FALSE)","v":38},{"$f":"VLOOKUP($O$5,INDIRECT($X$3),63,FALSE)","v":36},{"$f":"VLOOKUP($O$5,INDIRECT($X$3),113,FALSE)","v":""},{"$f":"VLOOKUP($O$5,INDIRECT($X$3),163,FALSE)","v":""},{"$f":"VLOOKUP($O$5,INDIRECT($X$3),213,FALSE)","v":""},null,null,null,null,null,null,null,null,null,null,null,null,null,null,null,25,null,11,{"$f":"VLOOKUP($O$5,INDIRECT($X$3),273,FALSE)","v":{"$error":"#REF!"}},null,null,{"$f":"VLOOKUP($O$5,INDIRECT($X$3),13,FALSE)","v":38},{"$f":"VLOOKUP($O$5,INDIRECT($X$3),63,FALSE)","v":36},{"$f":"VLOOKUP($O$5,INDIRECT($X$3),113,FALSE)","v":""},{"$f":"VLOOKUP($O$5,INDIRECT($X$3),163,FALSE)","v":""},{"$f":"VLOOKUP($O$5,INDIRECT($X$3),213,FALSE)","v":""}]
[12,{"$error":"#REF!"},null,"",{"$f":"VLOOKUP($O$5,INDIRECT($X$3),14,FALSE)","v":37},{"$f":"VLOOKUP($O$5,INDIRECT($X$3),64,FALSE)","v":35},{"$f":"VLOOKUP($O$5,INDIRECT($X$3),114,FALSE)","v":""},{"$f":"VLOOKUP($O$5,INDIRECT($X$3),164,FALSE)","v":""},{"$f":"VLOOKUP($O$5,INDIRECT($X$3),214,FALSE)","v":""},null,null,null,null,null,null,null,null,null,null,null,null,null,null,null,26,null,12,{"$f":"VLOOKUP($O$5,INDIRECT($X$3),274,FALSE)","v":{"$error":"#REF!"}},null,null,{"$f":"VLOOKUP($O$5,INDIRECT($X$3),14,FALSE)","v":37},{"$f":"VLOOKUP($O$5,INDIRECT($X$3),64,FALSE)","v":35},{"$f":"VLOOKUP($O$5,INDIRECT($X$3),114,FALSE)","v":""},{"$f":"VLOOKUP($O$5,INDIRECT($X$3),164,FALSE)","v":""},{"$f":"VLOOKUP($O$5,INDIRECT($X$3),214,FALSE)","v":""}]
[13,{"$error":"#REF!"},null,"",{"$f":"VLOOKUP($O$5,INDIRECT($X$3),15,FALSE)","v":37},{"$f":"VLOOKUP($O$5,INDIRECT($X$3),65,FALSE)","v":36},{"$f":"VLOOKUP($O$5,INDIRECT($X$3),115,FALSE)","v":""},{"$f":"VLOOKUP($O$5,INDIRECT($X$3),165,FALSE)","v":""},{"$f":"VLOOKUP($O$5,INDIRECT($X$3),215,FALSE)","v":""},null,null,null,null,null,null,null,null,null,null,null,null,null,null,null,27,null,13,{"$f":"VLOOKUP($O$5,INDIRECT($X$3),275,FALSE)","v":{"$error":"#REF!"}},null,null,{"$f":"VLOOKUP($O$5,INDIRECT($X$3),15,FALSE)","v":37},{"$f":"VLOOKUP($O$5,INDIRECT($X$3),65,FALSE)","v":36},{"$f":"VLOOKUP($O$5,INDIRECT($X$3),115,FALSE)","v":""},{"$f":"VLOOKUP($O$5,INDIRECT($X$3),165,FALSE)","v":""},{"$f":"VLOOKUP($O$5,INDIRECT($X$3),215,FALSE)","v":""}]
[14,{"$error":"#REF!"},null,"",{"$f":"VLOOKUP($O$5,INDIRECT($X$3),16,FALSE)","v":39},{"$f":"VLOOKUP($O$5,INDIRECT($X$3),66,FALSE)","v":45},{"$f":"VLOOKUP($O$5,INDIRECT($X$3),116,FALSE)","v":""},{"$f":"VLOOKUP($O$5,INDIRECT($X$3),166,FALSE)","v":""},{"$f":"VLOOKUP($O$5,INDIRECT($X$3),216,FALSE)","v":""},null,null,null,null,null,null,null,null,null,null,null,null,null,null,null,28,null,14,{"$f":"VLOOKUP($O$5,INDIRECT($X$3),276,FALSE)","v":{"$error":"#REF!"}},null,null,{"$f":"VLOOKUP($O$5,INDIRECT($X$3),16,FALSE)","v":39},{"$f":"VLOOKUP($O$5,INDIRECT($X$3),66,FALSE)","v":45},{"$f":"VLOOKUP($O$5,INDIRECT($X$3),116,FALSE)","v":""},{"$f":"VLOOKUP($O$5,INDIRECT($X$3),166,FALSE)","v":""},{"$f":"VLOOKUP($O$5,INDIRECT($X$3),216,FALSE)","v":""}]
[15,{"$error":"#REF!"},null,"",{"$f":"VLOOKUP($O$5,INDIRECT($X$3),17,FALSE)","v":39},{"$f":"VLOOKUP($O$5,INDIRECT($X$3),67,FALSE)","v":41},{"$f":"VLOOKUP($O$5,INDIRECT($X$3),117,FALSE)","v":""},{"$f":"VLOOKUP($O$5,INDIRECT($X$3),167,FALSE)","v":""},{"$f":"VLOOKUP($O$5,INDIRECT($X$3),217,FALSE)","v":""},null,null,null,null,null,null,null,null,null,null,null,null,null,null,null,29,null,15,{"$f":"VLOOKUP($O$5,INDIRECT($X$3),277,FALSE)","v":{"$error":"#REF!"}},null,null,{"$f":"VLOOKUP($O$5,INDIRECT($X$3),17,FALSE)","v":39},{"$f":"VLOOKUP($O$5,INDIRECT($X$3),67,FALSE)","v":41},{"$f":"VLOOKUP($O$5,INDIRECT($X$3),117,FALSE)","v":""},{"$f":"VLOOKUP($O$5,INDIRECT($X$3),167,FALSE)","v":""},{"$f":"VLOOKUP($O$5,INDIRECT($X$3),217,FALSE)","v":""}]
[16,{"$error":"#REF!"},null,"",{"$f":"VLOOKUP($O$5,INDIRECT($X$3),18,FALSE)","v":37},{"$f":"VLOOKUP($O$5,INDIRECT($X$3),68,FALSE)","v":44},{"$f":"VLOOKUP($O$5,INDIRECT($X$3),118,FALSE)","v":""},{"$f":"VLOOKUP($O$5,INDIRECT($X$3),168,FALSE)","v":""},{"$f":"VLOOKUP($O$5,INDIRECT($X$3),218,FALSE)","v":""},null,null,null,null,null,null,null,null,null,null,null,null,null,null,null,30,null,16,{"$f":"VLOOKUP($O$5,INDIRECT($X$3),278,FALSE)","v":{"$error":"#REF!"}},null,null,{"$f":"VLOOKUP($O$5,INDIRECT($X$3),18,FALSE)","v":37},{"$f":"VLOOKUP($O$5,INDIRECT($X$3),68,FALSE)","v":44},{"$f":"VLOOKUP($O$5,INDIRECT($X$3),118,FALSE)","v":""},{"$f":"VLOOKUP($O$5,INDIRECT($X$3),168,FALSE)","v":""},{"$f":"VLOOKUP($O$5,INDIRECT($X$3),218,FALSE)","v":""}]
[17,{"$error":"#REF!"},null,"",{"$f":"VLOOKUP($O$5,INDIRECT($X$3),19,FALSE)","v":40},{"$f":"VLOOKUP($O$5,INDIRECT($X$3),69,FALSE)","v":38},{"$f":"VLOOKUP($O$5,INDIRECT($X$3),119,FALSE)","v":""},{"$f":"VLOOKUP($O$5,INDIRECT($X$3),169,FALSE)","v":""},{"$f":"VLOOKUP($O$5,INDIRECT($X$3),219,FALSE)","v":""},null,null,null,null,null,null,null,null,null,null,null,null,null,null,null,31,null,17,{"$f":"VLOOKUP($O$5,INDIRECT($X$3),279,FALSE)","v":{"$error":"#REF!"}},null,null,{"$f":"VLOOKUP($O$5,INDIRECT($X$3),19,FALSE)","v":40},{"$f":"VLOOKUP($O$5,INDIRECT($X$3),69,FALSE)","v":38},{"$f":"VLOOKUP($O$5,INDIRECT($X$3),119,FALSE)","v":""},{"$f":"VLOOKUP($O$5,INDIRECT($X$3),169,FALSE)","v":""},{"$f":"VLOOKUP($O$5,INDIRECT($X$3),219,FALSE)","v":""}]
[18,{"$error":"#REF!"},null,"",{"$f":"VLOOKUP($O$5,INDIRECT($X$3),20,FALSE)","v":30},{"$f":"VLOOKUP($O$5,INDIRECT($X$3),70,FALSE)","v":29},{"$f":"VLOOKUP($O$5,INDIRECT($X$3),120,FALSE)","v":""},{"$f":"VLOOKUP($O$5,INDIRECT($X$3),170,FALSE)","v":""},{"$f":"VLOOKUP($O$5,INDIRECT($X$3),220,FALSE)","v":""},null,null,null,null,null,null,null,null,null,null,null,null,null,null,null,32,null,18,{"$f":"VLOOKUP($O$5,INDIRECT($X$3),280,FALSE)","v":{"$error":"#REF!"}},null,null,{"$f":"VLOOKUP($O$5,INDIRECT($X$3),20,FALSE)","v":30},{"$f":"VLOOKUP($O$5,INDIRECT($X$3),70,FALSE)","v":29},{"$f":"VLOOKUP($O$5,INDIRECT($X$3),120,FALSE)","v":""},{"$f":"VLOOKUP($O$5,INDIRECT($X$3),170,FALSE)","v":""},{"$f":"VLOOKUP($O$5,INDIRECT($X$3),220,FALSE)","v":""}]
[19,{"$error":"#REF!"},null,"",{"$f":"VLOOKUP($O$5,INDIRECT($X$3),21,FALSE)","v":23},{"$f":"VLOOKUP($O$5,INDIRECT($X$3),71,FALSE)","v":37},{"$f":"VLOOKUP($O$5,INDIRECT($X$3),121,FALSE)","v":""},{"$f":"VLOOKUP($O$5,INDIRECT($X$3),171,FALSE)","v":""},{"$f":"VLOOKUP($O$5,INDIRECT($X$3),221,FALSE)","v":""},null,null,null,null,null,null,null,null,null,null,null,null,null,null,null,33,null,19,{"$f":"VLOOKUP($O$5,INDIRECT($X$3),281,FALSE)","v":{"$error":"#REF!"}},null,null,{"$f":"VLOOKUP($O$5,INDIRECT($X$3),21,FALSE)","v":23},{"$f":"VLOOKUP($O$5,INDIRECT($X$3),71,FALSE)","v":37},{"$f":"VLOOKUP($O$5,INDIRECT($X$3),121,FALSE)","v":""},{"$f":"VLOOKUP($O$5,INDIRECT($X$3),171,FALSE)","v":""},{"$f":"VLOOKUP($O$5,INDIRECT($X$3),221,FALSE)","v":""}]
[20,{"$error":"#REF!"},null,"",{"$f":"VLOOKUP($O$5,INDIRECT($X$3),22,FALSE)","v":27},{"$f":"VLOOKUP($O$5,INDIRECT($X$3),72,FALSE)","v":45},{"$f":"VLOOKUP($O$5,INDIRECT($X$3),122,FALSE)","v":""},{"$f":"VLOOKUP($O$5,INDIRECT($X$3),172,FALSE)","v":""},{"$f":"VLOOKUP($O$5,INDIRECT($X$3),222,FALSE)","v":""},null,null,null,null,null,null,null,null,null,null,null,null,null,null,null,34,null,20,{"$f":"VLOOKUP($O$5,INDIRECT($X$3),282,FALSE)","v":{"$error":"#REF!"}},null,null,{"$f":"VLOOKUP($O$5,INDIRECT($X$3),22,FALSE)","v":27},{"$f":"VLOOKUP($O$5,INDIRECT($X$3),72,FALSE)","v":45},{"$f":"VLOOKUP($O$5,INDIRECT($X$3),122,FALSE)","v":""},{"$f":"VLOOKUP($O$5,INDIRECT($X$3),172,FALSE)","v":""},{"$f":"VLOOKUP($O$5,INDIRECT($X$3),222,FALSE)","v":""}]
[21,{"$error":"#REF!"},null,"",{"$f":"VLOOKUP($O$5,INDIRECT($X$3),23,FALSE)","v":38},{"$f":"VLOOKUP($O$5,INDIRECT($X$3),73,FALSE)","v":35},{"$f":"VLOOKUP($O$5,INDIRECT($X$3),123,FALSE)","v":""},{"$f":"VLOOKUP($O$5,INDIRECT($X$3),173,FALSE)","v":""},{"$f":"VLOOKUP($O$5,INDIRECT($X$3),223,FALSE)","v":""},null,null,null,null,null,null,null,null,null,null,null,null,null,null,null,35,null,21,{"$f":"VLOOKUP($O$5,INDIRECT($X$3),283,FALSE)","v":{"$error":"#REF!"}},null,null,{"$f":"VLOOKUP($O$5,INDIRECT($X$3),23,FALSE)","v":38},{"$f":"VLOOKUP($O$5,INDIRECT($X$3),73,FALSE)","v":35},{"$f":"VLOOKUP($O$5,INDIRECT($X$3),123,FALSE)","v":""},{"$f":"VLOOKUP($O$5,INDIRECT($X$3),173,FALSE)","v":""},{"$f":"VLOOKUP($O$5,INDIRECT($X$3),223,FALSE)","v":""}]
[22,{"$error":"#REF!"},null,"",{"$f":"VLOOKUP($O$5,INDIRECT($X$3),24,FALSE)","v":33},{"$f":"VLOOKUP($O$5,INDIRECT($X$3),74,FALSE)","v":24},{"$f":"VLOOKUP($O$5,INDIRECT($X$3),124,FALSE)","v":""},{"$f":"VLOOKUP($O$5,INDIRECT($X$3),174,FALSE)","v":""},{"$f":"VLOOKUP($O$5,INDIRECT($X$3),224,FALSE)","v":""},null,null,null,null,null,null,null,null,null,null,null,null,null,null,null,36,null,22,{"$f":"VLOOKUP($O$5,INDIRECT($X$3),284,FALSE)","v":{"$error":"#REF!"}},null,null,{"$f":"VLOOKUP($O$5,INDIRECT($X$3),24,FALSE)","v":33},{"$f":"VLOOKUP($O$5,INDIRECT($X$3),74,FALSE)","v":24},{"$f":"VLOOKUP($O$5,INDIRECT($X$3),124,FALSE)","v":""},{"$f":"VLOOKUP($O$5,INDIRECT($X$3),174,FALSE)","v":""},{"$f":"VLOOKUP($O$5,INDIRECT($X$3),224,FALSE)","v":""}]
[23,{"$error":"#REF!"},null,"",{"$f":"VLOOKUP($O$5,INDIRECT($X$3),25,FALSE)","v":36},{"$f":"VLOOKUP($O$5,INDIRECT($X$3),75,FALSE)","v":36},{"$f":"VLOOKUP($O$5,INDIRECT($X$3),125,FALSE)","v":""},{"$f":"VLOOKUP($O$5,INDIRECT($X$3),175,FALSE)","v":""},{"$f":"VLOOKUP($O$5,INDIRECT($X$3),225,FALSE)","v":""},null,null,null,null,null,null,null,null,null,null,null,null,null,null,null,37,null,23,{"$f":"VLOOKUP($O$5,INDIRECT($X$3),285,FALSE)","v":{"$error":"#REF!"}},null,null,{"$f":"VLOOKUP($O$5,INDIRECT($X$3),25,FALSE)","v":36},{"$f":"VLOOKUP($O$5,INDIRECT($X$3),75,FALSE)","v":36},{"$f":"VLOOKUP($O$5,INDIRECT($X$3),125,FALSE)","v":""},{"$f":"VLOOKUP($O$5,INDIRECT($X$3),175,FALSE)","v":""},{"$f":"VLOOKUP($O$5,INDIRECT($X$3),225,FALSE)","v":""}]
[24,{"$error":"#REF!"},null,"",{"$f":"VLOOKUP($O$5,INDIRECT($X$3),26,FALSE)","v":35},{"$f":"VLOOKUP($O$5,INDIRECT($X$3),76,FALSE)","v":41},{"$f":"VLOOKUP($O$5,INDIRECT($X$3),126,FALSE)","v":""},{"$f":"VLOOKUP($O$5,INDIRECT($X$3),176,FALSE)","v":""},{"$f":"VLOOKUP($O$5,INDIRECT($X$3),226,FALSE)","v":""},null,null,null,null,null,null,null,null,null,null,null,null,null,null,null,38,null,24,{"$f":"VLOOKUP($O$5,INDIRECT($X$3),286,FALSE)","v":{"$error":"#REF!"}},null,null,{"$f":"VLOOKUP($O$5,INDIRECT($X$3),26,FALSE)","v":35},{"$f":"VLOOKUP($O$5,INDIRECT($X$3),76,FALSE)","v":41},{"$f":"VLOOKUP($O$5,INDIRECT($X$3),126,FALSE)","v":""},{"$f":"VLOOKUP($O$5,INDIRECT($X$3),176,FALSE)","v":""},{"$f":"VLOOKUP($O$5,INDIRECT($X$3),226,FALSE)","v":""}]
[25,{"$error":"#REF!"},null,"",{"$f":"VLOOKUP($O$5,INDIRECT($X$3),27,FALSE)","v":35},{"$f":"VLOOKUP($O$5,INDIRECT($X$3),77,FALSE)","v":37},{"$f":"VLOOKUP($O$5,INDIRECT($X$3),127,FALSE)","v":""},{"$f":"VLOOKUP($O$5,INDIRECT($X$3),177,FALSE)","v":""},{"$f":"VLOOKUP($O$5,INDIRECT($X$3),227,FALSE)","v":""},null,null,null,null,null,null,null,null,null,null,null,null,null,null,null,39,null,25,{"$f":"VLOOKUP($O$5,INDIRECT($X$3),287,FALSE)","v":{"$error":"#REF!"}},null,null,{"$f":"VLOOKUP($O$5,INDIRECT($X$3),27,FALSE)","v":35},{"$f":"VLOOKUP($O$5,INDIRECT($X$3),77,FALSE)","v":37},{"$f":"VLOOKUP($O$5,INDIRECT($X$3),127,FALSE)","v":""},{"$f":"VLOOKUP($O$5,INDIRECT($X$3),177,FALSE)","v":""},{"$f":"VLOOKUP($O$5,INDIRECT($X$3),227,FALSE)","v":""}]
[26,{"$error":"#REF!"},null,"",{"$f":"VLOOKUP($O$5,INDIRECT($X$3),28,FALSE)","v":21},{"$f":"VLOOKUP($O$5,INDIRECT($X$3),78,FALSE)","v":35},{"$f":"VLOOKUP($O$5,INDIRECT($X$3),128,FALSE)","v":""},{"$f":"VLOOKUP($O$5,INDIRECT($X$3),178,FALSE)","v":""},{"$f":"VLOOKUP($O$5,INDIRECT($X$3),228,FALSE)","v":""},null,null,null,null,null,null,null,null,null,null,null,null,null,null,null,40,null,26,{"$f":"VLOOKUP($O$5,INDIRECT($X$3),288,FALSE)","v":{"$error":"#REF!"}},null,null,{"$f":"VLOOKUP($O$5,INDIRECT($X$3),28,FALSE)","v":21},{"$f":"VLOOKUP($O$5,INDIRECT($X$3),78,FALSE)","v":35},{"$f":"VLOOKUP($O$5,INDIRECT($X$3),128,FALSE)","v":""},{"$f":"VLOOKUP($O$5,INDIRECT($X$3),178,FALSE)","v":""},{"$f":"VLOOKUP($O$5,INDIRECT($X$3),228,FALSE)","v":""}]
[27,{"$error":"#REF!"},null,"",{"$f":"VLOOKUP($O$5,INDIRECT($X$3),29,FALSE)","v":27},{"$f":"VLOOKUP($O$5,INDIRECT($X$3),79,FALSE)","v":24},{"$f":"VLOOKUP($O$5,INDIRECT($X$3),129,FALSE)","v":""},{"$f":"VLOOKUP($O$5,INDIRECT($X$3),179,FALSE)","v":""},{"$f":"VLOOKUP($O$5,INDIRECT($X$3),229,FALSE)","v":""},null,null,null,null,null,null,null,null,null,null,null,null,null,null,null,41,null,27,{"$f":"VLOOKUP($O$5,INDIRECT($X$3),289,FALSE)","v":{"$error":"#REF!"}},null,null,{"$f":"VLOOKUP($O$5,INDIRECT($X$3),29,FALSE)","v":27},{"$f":"VLOOKUP($O$5,INDIRECT($X$3),79,FALSE)","v":24},{"$f":"VLOOKUP($O$5,INDIRECT($X$3),129,FALSE)","v":""},{"$f":"VLOOKUP($O$5,INDIRECT($X$3),179,FALSE)","v":""},{"$f":"VLOOKUP($O$5,INDIRECT($X$3),229,FALSE)","v":""}]
[28,{"$error":"#REF!"},null,"",{"$f":"VLOOKUP($O$5,INDIRECT($X$3),30,FALSE)","v":28},{"$f":"VLOOKUP($O$5,INDIRECT($X$3),80,FALSE)","v":35},{"$f":"VLOOKUP($O$5,INDIRECT($X$3),130,FALSE)","v":""},{"$f":"VLOOKUP($O$5,INDIRECT($X$3),180,FALSE)","v":""},{"$f":"VLOOKUP($O$5,INDIRECT($X$3),230,FALSE)","v":""},null,null,null,null,null,null,null,null,null,null,null,null,null,null,null,42,null,28,{"$f":"VLOOKUP($O$5,INDIRECT($X$3),290,FALSE)","v":{"$error":"#REF!"}},null,null,{"$f":"VLOOKUP($O$5,INDIRECT($X$3),30,FALSE)","v":28},{"$f":"VLOOKUP($O$5,INDIRECT($X$3),80,FALSE)","v":35},{"$f":"VLOOKUP($O$5,INDIRECT($X$3),130,FALSE)","v":""},{"$f":"VLOOKUP($O$5,INDIRECT($X$3),180,FALSE)","v":""},{"$f":"VLOOKUP($O$5,INDIRECT($X$3),230,FALSE)","v":""}]
[29,{"$error":"#REF!"},null,"",{"$f":"VLOOKUP($O$5,INDIRECT($X$3),31,FALSE)","v":38},{"$f":"VLOOKUP($O$5,INDIRECT($X$3),81,FALSE)","v":45},{"$f":"VLOOKUP($O$5,INDIRECT($X$3),131,FALSE)","v":""},{"$f":"VLOOKUP($O$5,INDIRECT($X$3),181,FALSE)","v":""},{"$f":"VLOOKUP($O$5,INDIRECT($X$3),231,FALSE)","v":""},null,null,null,null,null,null,null,null,null,null,null,null,null,null,null,43,null,29,{"$f":"VLOOKUP($O$5,INDIRECT($X$3),291,FALSE)","v":{"$error":"#REF!"}},null,null,{"$f":"VLOOKUP($O$5,INDIRECT($X$3),31,FALSE)","v":38},{"$f":"VLOOKUP($O$5,INDIRECT($X$3),81,FALSE)","v":45},{"$f":"VLOOKUP($O$5,INDIRECT($X$3),131,FALSE)","v":""},{"$f":"VLOOKUP($O$5,INDIRECT($X$3),181,FALSE)","v":""},{"$f":"VLOOKUP($O$5,INDIRECT($X$3),231,FALSE)","v":""}]
[30,{"$error":"#REF!"},null,"",{"$f":"VLOOKUP($O$5,INDIRECT($X$3),32,FALSE)","v":32},{"$f":"VLOOKUP($O$5,INDIRECT($X$3),82,FALSE)","v":24},{"$f":"VLOOKUP($O$5,INDIRECT($X$3),132,FALSE)","v":""},{"$f":"VLOOKUP($O$5,INDIRECT($X$3),182,FALSE)","v":""},{"$f":"VLOOKUP($O$5,INDIRECT($X$3),232,FALSE)","v":""},null,null,null,null,null,null,null,null,null,null,null,null,null,null,null,44,null,30,{"$f":"VLOOKUP($O$5,INDIRECT($X$3),292,FALSE)","v":{"$error":"#REF!"}},null,null,{"$f":"VLOOKUP($O$5,INDIRECT($X$3),32,FALSE)","v":32},{"$f":"VLOOKUP($O$5,INDIRECT($X$3),82,FALSE)","v":24},{"$f":"VLOOKUP($O$5,INDIRECT($X$3),132,FALSE)","v":""},{"$f":"VLOOKUP($O$5,INDIRECT($X$3),182,FALSE)","v":""},{"$f":"VLOOKUP($O$5,INDIRECT($X$3),232,FALSE)","v":""}]
[31,{"$error":"#REF!"},null,"",{"$f":"VLOOKUP($O$5,INDIRECT($X$3),33,FALSE)","v":37},{"$f":"VLOOKUP($O$5,INDIRECT($X$3),83,FALSE)","v":36},{"$f":"VLOOKUP($O$5,INDIRECT($X$3),133,FALSE)","v":""},{"$f":"VLOOKUP($O$5,INDIRECT($X$3),183,FALSE)","v":""},{"$f":"VLOOKUP($O$5,INDIRECT($X$3),233,FALSE)","v":""},null,null,null,null,null,null,null,null,null,null,null,null,null,null,null,45,null,31,{"$f":"VLOOKUP($O$5,INDIRECT($X$3),293,FALSE)","v":{"$error":"#REF!"}},null,null,{"$f":"VLOOKUP($O$5,INDIRECT($X$3),33,FALSE)","v":37},{"$f":"VLOOKUP($O$5,INDIRECT($X$3),83,FALSE)","v":36},{"$f":"VLOOKUP($O$5,INDIRECT($X$3),133,FALSE)","v":""},{"$f":"VLOOKUP($O$5,INDIRECT($X$3),183,FALSE)","v":""},{"$f":"VLOOKUP($O$5,INDIRECT($X$3),233,FALSE)","v":""}]
[32,{"$error":"#REF!"},null,"",{"$f":"VLOOKUP($O$5,INDIRECT($X$3),34,FALSE)","v":42},{"$f":"VLOOKUP($O$5,INDIRECT($X$3),84,FALSE)","v":47},{"$f":"VLOOKUP($O$5,INDIRECT($X$3),134,FALSE)","v":""},{"$f":"VLOOKUP($O$5,INDIRECT($X$3),184,FALSE)","v":""},{"$f":"VLOOKUP($O$5,INDIRECT($X$3),234,FALSE)","v":""},null,null,null,null,null,null,null,null,null,null,null,null,null,null,null,null,null,32,{"$f":"VLOOKUP($O$5,INDIRECT($X$3),294,FALSE)","v":{"$error":"#REF!"}},null,null,{"$f":"VLOOKUP($O$5,INDIRECT($X$3),34,FALSE)","v":42},{"$f":"VLOOKUP($O$5,INDIRECT($X$3),84,FALSE)","v":47},{"$f":"VLOOKUP($O$5,INDIRECT($X$3),134,FALSE)","v":""},{"$f":"VLOOKUP($O$5,INDIRECT($X$3),184,FALSE)","v":""},{"$f":"VLOOKUP($O$5,INDIRECT($X$3),234,FALSE)","v":""}]
[33,{"$error":"#REF!"},null,"",{"$f":"VLOOKUP($O$5,INDIRECT($X$3),35,FALSE)","v":36},{"$f":"VLOOKUP($O$5,INDIRECT($X$3),85,FALSE)","v":35},{"$f":"VLOOKUP($O$5,INDIRECT($X$3),135,FALSE)","v":""},{"$f":"VLOOKUP($O$5,INDIRECT($X$3),185,FALSE)","v":""},{"$f":"VLOOKUP($O$5,INDIRECT($X$3),235,FALSE)","v":""},null,null,null,null,null,null,null,null,null,null,null,null,null,null,null,null,null,33,{"$f":"VLOOKUP($O$5,INDIRECT($X$3),295,FALSE)","v":{"$error":"#REF!"}},null,null,{"$f":"VLOOKUP($O$5,INDIRECT($X$3),35,FALSE)","v":36},{"$f":"VLOOKUP($O$5,INDIRECT($X$3),85,FALSE)","v":35},{"$f":"VLOOKUP($O$5,INDIRECT($X$3),135,FALSE)","v":""},{"$f":"VLOOKUP($O$5,INDIRECT($X$3),185,FALSE)","v":""},{"$f":"VLOOKUP($O$5,INDIRECT($X$3),235,FALSE)","v":""}]
[34,{"$error":"#REF!"},null,"",{"$f":"VLOOKUP($O$5,INDIRECT($X$3),36,FALSE)","v":32},{"$f":"VLOOKUP($O$5,INDIRECT($X$3),86,FALSE)","v":28},{"$f":"VLOOKUP($O$5,INDIRECT($X$3),136,FALSE)","v":""},{"$f":"VLOOKUP($O$5,INDIRECT($X$3),186,FALSE)","v":""},{"$f":"VLOOKUP($O$5,INDIRECT($X$3),236,FALSE)","v":""},null,null,null,null,null,null,null,null,null,null,null,null,null,null,null,null,null,34,{"$f":"VLOOKUP($O$5,INDIRECT($X$3),296,FALSE)","v":{"$error":"#REF!"}},null,null,{"$f":"VLOOKUP($O$5,INDIRECT($X$3),36,FALSE)","v":32},{"$f":"VLOOKUP($O$5,INDIRECT($X$3),86,FALSE)","v":28},{"$f":"VLOOKUP($O$5,INDIRECT($X$3),136,FALSE)","v":""},{"$f":"VLOOKUP($O$5,INDIRECT($X$3),186,FALSE)","v":""},{"$f":"VLOOKUP($O$5,INDIRECT($X$3),236,FALSE)","v":""}]
[35,{"$error":"#REF!"},null,"",{"$f":"VLOOKUP($O$5,INDIRECT($X$3),37,FALSE)","v":35},{"$f":"VLOOKUP($O$5,INDIRECT($X$3),87,FALSE)","v":40},{"$f":"VLOOKUP($O$5,INDIRECT($X$3),137,FALSE)","v":""},{"$f":"VLOOKUP($O$5,INDIRECT($X$3),187,FALSE)","v":""},{"$f":"VLOOKUP($O$5,INDIRECT($X$3),237,FALSE)","v":""},null,null,null,null,null,null,null,null,null,null,null,null,null,null,null,null,null,35,{"$f":"VLOOKUP($O$5,INDIRECT($X$3),297,FALSE)","v":{"$error":"#REF!"}},null,null,{"$f":"VLOOKUP($O$5,INDIRECT($X$3),37,FALSE)","v":35},{"$f":"VLOOKUP($O$5,INDIRECT($X$3),87,FALSE)","v":40},{"$f":"VLOOKUP($O$5,INDIRECT($X$3),137,FALSE)","v":""},{"$f":"VLOOKUP($O$5,INDIRECT($X$3),187,FALSE)","v":""},{"$f":"VLOOKUP($O$5,INDIRECT($X$3),237,FALSE)","v":""}]
["","",null,"",{"$f":"VLOOKUP($O$5,INDIRECT($X$3),38,FALSE)","v":""},{"$f":"VLOOKUP($O$5,INDIRECT($X$3),88,FALSE)","v":""},{"$f":"VLOOKUP($O$5,INDIRECT($X$3),138,FALSE)","v":""},{"$f":"VLOOKUP($O$5,INDIRECT($X$3),188,FALSE)","v":""},{"$f":"VLOOKUP($O$5,INDIRECT($X$3),238,FALSE)","v":""},null,null,null,null,null,null,null,null,null,null,null,null,null,null,null,null,null,"",{"$f":"VLOOKUP($O$5,INDIRECT($X$3),298,FALSE)","v":{"$error":"#REF!"}},null,null,{"$f":"VLOOKUP($O$5,INDIRECT($X$3),38,FALSE)","v":""},{"$f":"VLOOKUP($O$5,INDIRECT($X$3),88,FALSE)","v":""},{"$f":"VLOOKUP($O$5,INDIRECT($X$3),138,FALSE)","v":""},{"$f":"VLOOKUP($O$5,INDIRECT($X$3),188,FALSE)","v":""},{"$f":"VLOOKUP($O$5,INDIRECT($X$3),238,FALSE)","v":""}]
["","",null,"",{"$f":"VLOOKUP($O$5,INDIRECT($X$3),39,FALSE)","v":""},{"$f":"VLOOKUP($O$5,INDIRECT($X$3),89,FALSE)","v":""},{"$f":"VLOOKUP($O$5,INDIRECT($X$3),139,FALSE)","v":""},{"$f":"VLOOKUP($O$5,INDIRECT($X$3),189,FALSE)","v":""},{"$f":"VLOOKUP($O$5,INDIRECT($X$3),239,FALSE)","v":""},null,null,null,null,null,null,null,null,null,null,null,null,null,null,null,null,null,"",{"$f":"VLOOKUP($O$5,INDIRECT($X$3),299,FALSE)","v":{"$error":"#REF!"}},null,null,{"$f":"VLOOKUP($O$5,INDIRECT($X$3),39,FALSE)","v":""},{"$f":"VLOOKUP($O$5,INDIRECT($X$3),89,FALSE)","v":""},{"$f":"VLOOKUP($O$5,INDIRECT($X$3),139,FALSE)","v":""},{"$f":"VLOOKUP($O$5,INDIRECT($X$3),189,FALSE)","v":""},{"$f":"VLOOKUP($O$5,INDIRECT($X$3),239,FALSE)","v":""}]
["","",null,"",{"$f":"VLOOKUP($O$5,INDIRECT($X$3),40,FALSE)","v":""},{"$f":"VLOOKUP($O$5,INDIRECT($X$3),90,FALSE)","v":""},{"$f":"VLOOKUP($O$5,INDIRECT($X$3),140,FALSE)","v":""},{"$f":"VLOOKUP($O$5,INDIRECT($X$3),190,FALSE)","v":""},{"$f":"VLOOKUP($O$5,INDIRECT($X$3),240,FALSE)","v":""},null,null,null,null,null,null,null,null,null,null,null,null,null,null,null,null,null,"",{"$f":"VLOOKUP($O$5,INDIRECT($X$3),300,FALSE)","v":{"$error":"#REF!"}},null,null,{"$f":"VLOOKUP($O$5,INDIRECT($X$3),40,FALSE)","v":""},{"$f":"VLOOKUP($O$5,INDIRECT($X$3),90,FALSE)","v":""},{"$f":"VLOOKUP($O$5,INDIRECT($X$3),140,FALSE)","v":""},{"$f":"VLOOKUP($O$5,INDIRECT($X$3),190,FALSE)","v":""},{"$f":"VLOOKUP($O$5,INDIRECT($X$3),240,FALSE)","v":""}]
["","",null,"",{"$f":"VLOOKUP($O$5,INDIRECT($X$3),41,FALSE)","v":""},{"$f":"VLOOKUP($O$5,INDIRECT($X$3),91,FALSE)","v":""},{"$f":"VLOOKUP($O$5,INDIRECT($X$3),141,FALSE)","v":""},{"$f":"VLOOKUP($O$5,INDIRECT($X$3),191,FALSE)","v":""},{"$f":"VLOOKUP($O$5,INDIRECT($X$3),241,FALSE)","v":""},null,null,null,null,null,null,null,null,null,null,null,null,null,null,null,null,null,"",{"$f":"VLOOKUP($O$5,INDIRECT($X$3),301,FALSE)","v":{"$error":"#REF!"}},null,null,{"$f":"VLOOKUP($O$5,INDIRECT($X$3),41,FALSE)","v":""},{"$f":"VLOOKUP($O$5,INDIRECT($X$3),91,FALSE)","v":""},{"$f":"VLOOKUP($O$5,INDIRECT($X$3),141,FALSE)","v":""},{"$f":"VLOOKUP($O$5,INDIRECT($X$3),191,FALSE)","v":""},{"$f":"VLOOKUP($O$5,INDIRECT($X$3),241,FALSE)","v":""}]
["","",null,"",{"$f":"VLOOKUP($O$5,INDIRECT($X$3),42,FALSE)","v":""},{"$f":"VLOOKUP($O$5,INDIRECT($X$3),92,FALSE)","v":""},{"$f":"VLOOKUP($O$5,INDIRECT($X$3),142,FALSE)","v":""},{"$f":"VLOOKUP($O$5,INDIRECT($X$3),192,FALSE)","v":""},{"$f":"VLOOKUP($O$5,INDIRECT($X$3),242,FALSE)","v":""},null,null,null,null,null,null,null,null,null,null,null,null,null,null,null,null,null,"",{"$f":"VLOOKUP($O$5,INDIRECT($X$3),302,FALSE)","v":{"$error":"#REF!"}},null,null,{"$f":"VLOOKUP($O$5,INDIRECT($X$3),42,FALSE)","v":""},{"$f":"VLOOKUP($O$5,INDIRECT($X$3),92,FALSE)","v":""},{"$f":"VLOOKUP($O$5,INDIRECT($X$3),142,FALSE)","v":""},{"$f":"VLOOKUP($O$5,INDIRECT($X$3),192,FALSE)","v":""},{"$f":"VLOOKUP($O$5,INDIRECT($X$3),242,FALSE)","v":""}]
["","","","",{"$f":"VLOOKUP($O$5,INDIRECT($X$3),43,FALSE)","v":""},{"$f":"VLOOKUP($O$5,INDIRECT($X$3),93,FALSE)","v":""},{"$f":"VLOOKUP($O$5,INDIRECT($X$3),143,FALSE)","v":""},{"$f":"VLOOKUP($O$5,INDIRECT($X$3),193,FALSE)","v":""},{"$f":"VLOOKUP($O$5,INDIRECT($X$3),243,FALSE)","v":""},null,null,null,null,null,null,null,null,null,null,null,null,null,null,null,null,null,"",{"$f":"VLOOKUP($O$5,INDIRECT($X$3),303,FALSE)","v":{"$error":"#REF!"}},null,null,{"$f":"VLOOKUP($O$5,INDIRECT($X$3),43,FALSE)","v":""},{"$f":"VLOOKUP($O$5,INDIRECT($X$3),93,FALSE)","v":""},{"$f":"VLOOKUP($O$5,INDIRECT($X$3),143,FALSE)","v":""},{"$f":"VLOOKUP($O$5,INDIRECT($X$3),193,FALSE)","v":""},{"$f":"VLOOKUP($O$5,INDIRECT($X$3),243,FALSE)","v":""}]
["","","","",{"$f":"VLOOKUP($O$5,INDIRECT($X$3),44,FALSE)","v":""},{"$f":"VLOOKUP($O$5,INDIRECT($X$3),94,FALSE)","v":""},{"$f":"VLOOKUP($O$5,INDIRECT($X$3),144,FALSE)","v":""},{"$f":"VLOOKUP($O$5,INDIRECT($X$3),194,FALSE)","v":""},{"$f":"VLOOKUP($O$5,INDIRECT($X$3),244,FALSE)","v":""},null,null,null,null,null,null,null,null,null,null,null,null,null,null,null,null,null,"",{"$f":"VLOOKUP($O$5,INDIRECT($X$3),304,FALSE)","v":{"$error":"#REF!"}},null,null,{"$f":"VLOOKUP($O$5,INDIRECT($X$3),44,FALSE)","v":""},{"$f":"VLOOKUP($O$5,INDIRECT($X$3),94,FALSE)","v":""},{"$f":"VLOOKUP($O$5,INDIRECT($X$3),144,FALSE)","v":""},{"$f":"VLOOKUP($O$5,INDIRECT($X$3),194,FALSE)","v":""},{"$f":"VLOOKUP($O$5,INDIRECT($X$3),244,FALSE)","v":""}]
["","","","",{"$f":"VLOOKUP($O$5,INDIRECT($X$3),45,FALSE)","v":""},{"$f":"VLOOKUP($O$5,INDIRECT($X$3),95,FALSE)","v":""},{"$f":"VLOOKUP($O$5,INDIRECT($X$3),145,FALSE)","v":""},{"$f":"VLOOKUP($O$5,INDIRECT($X$3),195,FALSE)","v":""},{"$f":"VLOOKUP($O$5,INDIRECT($X$3),245,FALSE)","v":""},null,null,null,null,null,null,null,null,null,null,null,null,null,null,null,null,null,"",{"$f":"VLOOKUP($O$5,INDIRECT($X$3),305,FALSE)","v":{"$error":"#REF!"}},null,null,{"$f":"VLOOKUP($O$5,INDIRECT($X$3),45,FALSE)","v":""},{"$f":"VLOOKUP($O$5,INDIRECT($X$3),95,FALSE)","v":""},{"$f":"VLOOKUP($O$5,INDIRECT($X$3),145,FALSE)","v":""},{"$f":"VLOOKUP($O$5,INDIRECT($X$3),195,FALSE)","v":""},{"$f":"VLOOKUP($O$5,INDIRECT($X$3),245,FALSE)","v":""}]
["","","","",{"$f":"VLOOKUP($O$5,INDIRECT($X$3),46,FALSE)","v":""},{"$f":"VLOOKUP($O$5,INDIRECT($X$3),96,FALSE)","v":""},{"$f":"VLOOKUP($O$5,INDIRECT($X$3),146,FALSE)","v":""},{"$f":"VLOOKUP($O$5,INDIRECT($X$3),196,FALSE)","v":""},{"$f":"VLOOKUP($O$5,INDIRECT($X$3),246,FALSE)","v":""},null,null,null,null,null,null,null,null,null,null,null,null,null,null,null,null,null,"",{"$f":"VLOOKUP($O$5,INDIRECT($X$3),306,FALSE)","v":{"$error":"#REF!"}},null,null,{"$f":"VLOOKUP($O$5,INDIRECT($X$3),46,FALSE)","v":""},{"$f":"VLOOKUP($O$5,INDIRECT($X$3),96,FALSE)","v":""},{"$f":"VLOOKUP($O$5,INDIRECT($X$3),146,FALSE)","v":""},{"$f":"VLOOKUP($O$5,INDIRECT($X$3),196,FALSE)","v":""},{"$f":"VLOOKUP($O$5,INDIRECT($X$3),246,FALSE)","v":""}]
["","","","",{"$f":"VLOOKUP($O$5,INDIRECT($X$3),47,FALSE)","v":""},{"$f":"VLOOKUP($O$5,INDIRECT($X$3),97,FALSE)","v":""},{"$f":"VLOOKUP($O$5,INDIRECT($X$3),147,FALSE)","v":""},{"$f":"VLOOKUP($O$5,INDIRECT($X$3),197,FALSE)","v":""},{"$f":"VLOOKUP($O$5,INDIRECT($X$3),247,FALSE)","v":""},null,null,null,null,null,null,null,null,null,null,null,null,null,null,null,null,null,"",{"$f":"VLOOKUP($O$5,INDIRECT($X$3),307,FALSE)","v":{"$error":"#REF!"}},null,null,{"$f":"VLOOKUP($O$5,INDIRECT($X$3),47,FALSE)","v":""},{"$f":"VLOOKUP($O$5,INDIRECT($X$3),97,FALSE)","v":""},{"$f":"VLOOKUP($O$5,INDIRECT($X$3),147,FALSE)","v":""},{"$f":"VLOOKUP($O$5,INDIRECT($X$3),197,FALSE)","v":""},{"$f":"VLOOKUP($O$5,INDIRECT($X$3),247,FALSE)","v":""}]
["",""]
["",""]
["",""]
["",""]
["",""]

{"sheet":"BASE SEGICOL","index":5,"n_rows":19,"n_cols":279,"rows_kept":19,"cut":false,"hidden":false,"merged":[[3,255,3,259],[3,5,3,54],[3,55,3,104],[3,105,3,154],[3,155,3,204],[3,205,3,254]]}
[]
[]
[null,null,null,1,2,3,4,5,6,7,8,9,10,11,12,13,14,15,16,17,18,19,20,21,22,23,24,25,26,27,28,29,30,31,32,33,34,35,36,37,38,39,40,41,42,43,44,45,46,47,48,49,50,51,52,53,54,55,56,57,58,59,60,61,62,63,64,65,66,67,68,69,70,71,72,73,74,75,76,77,78,79,80,81,82,83,84,85,86,87,88,89,90,91,92,93,94,95,96,97,98,99,100,101,102,103,104,105,106,107,108,109,110,111,112,113,114,115,116,117,118,119,120,121,122,123,124,125,126,127,128,129,130,131,132,133,134,135,136,137,138,139,140,141,142,143,144,145,146,147,148,149,150,151,152,153,154,155,156,157,158,159,160,161,162,163,164,165,166,167,168,169,170,171,172,173,174,175,176,177,178,179,180,181,182,183,184,185,186,187,188,189,190,191,192,193,194,195,196,197,198,199,200,201,202,203,204,205,206,207,208,209,210,211,212,213,214,215,216,217,218,219,220,221,222,223,224,225,226,227,228,229,230,231,232,233,234,235,236,237,238,239,240,241,242,243,244,245,246,247,248,249,250,251,252,253,254,255,256,257]
[null,null,null,null,null,"NOTAS EN EL LOGRO 1",null,null,null,null,null,null,null,null,null,null,null,null,null,null,null,null,null,null,null,null,null,null,null,null,null,null,null,null,null,null,null,null,null,null,null,null,null,null,null,null,null,null,null,null,null,null,null,null,null,"NOTAS EN EL LOGRO 2",null,null,null,null,null,null,null,null,null,null,null,null,null,null,null,null,null,null,null,null,null,null,null,null,null,null,null,null,null,null,null,null,null,null,null,null,null,null,null,null,null,null,null,null,null,null,null,null,null,"NOTAS EN EL LOGRO 3",null,null,null,null,null,null,null,null,null,null,null,null,null,null,null,null,null,null,null,null,null,null,null,null,null,null,null,null,null,null,null,null,null,null,null,null,null,null,null,null,null,null,null,null,null,null,null,null,null,"NOTAS EN EL LOGRO 4",null,null,null,null,null,null,null,null,null,null,null,null,null,null,null,null,null,null,null,null,null,null,null,null,null,null,null,null,null,null,null,null,null,null,null,null,null,null,null,null,null,null,null,null,null,null,null,null,null,"NOTAS EN EL LOGRO 5",null,null,null,null,null,null,null,null,null,null,null,null,null,null,null,null,null,null,null,null,null,null,null,null,null,null,null,null,null,null,null,null,null,null,null,null,null,null,null,null,null,null,null,null,null,null,null,null,null,"LOGROS EVALUADOS"]
[null,null,null,"CURSO","ASIGNATUTAS",1,2,3,4,5,6,7,8,9,10,11,12,13,14,15,16,17,18,19,20,21,22,23,24,25,26,27,28,29,30,31,32,33,34,35,36,37,38,39,40,41,42,43,44,45,46,47,48,49,50,1,2,3,4,5,6,7,8,9,10,11,12,13,14,15,16,17,18,19,20,21,22,23,24,25,26,27,28,29,30,31,32,33,34,35,36,37,38,39,40,41,42,43,44,45,46,47,48,49,50,1,2,3,4,5,6,7,8,9,10,11,12,13,14,15,16,17,18,19,20,21,22,23,24,25,26,27,28,29,30,31,32,33,34,35,36,37,38,39,40,41,42,43,44,45,46,47,48,49,50,1,2,3,4,5,6,7,8,9,10,11,12,13,14,15,16,17,18,19,20,21,22,23,24,25,26,27,28,29,30,31,32,33,34,35,36,37,38,39,40,41,42,43,44,45,46,47,48,49,50,1,2,3,4,5,6,7,8,9,10,11,12,13,14,15,16,17,18,19,20,21,22,23,24,25,26,27,28,29,30,31,32,33,34,35,36,37,38,39,40,41,42,43,44,45,46,47,48,49,50,"L1","L2","L3","L4","L5"]
[null,null,null,{"$f":"INICIO!D11","v":"6B"},{"$f":"INICIO!F11","v":"D.COOPERATIVA"},41,34,31,36,27,39,32,41,23,42,38,37,37,39,39,37,40,30,23,27,38,33,36,35,35,21,27,28,38,32,37,42,36,32,35,"","","","","","","","","","","","","","","",46,32,42,35,28,45,22,45,27,47,36,35,36,45,41,44,38,29,37,45,35,24,36,41,37,35,24,35,45,24,36,47,35,28,40,"","","","","","","","","","","","","","","","","","","","","","","","","","","","","","","","","","","","","","","","","","","","","","","","","","","","","","","","","","","","","","","","","","","","","","","","","","","","","","","","","","","","","","","","","","","","","","","","","","","","","","","","","","","","","","","","","","","","","","","","","","","","","","","","","","","","","","","","","","","","","","","","","","","","","","","","","","","","","","","","","","","","","",{"$f":"IF(PLAN!$U$10=\"3T\",PLAN!D22,IF(PLAN!$N$10=\"2T\",PLAN!D17,IF(PLAN!$G$10=\"1T\",PLAN!D12,\"\")))","v":"DEDE"},{"$f":"IF(PLAN!$U$10=\"3T\",PLAN!D23,IF(PLAN!$N$10=\"2T\",PLAN!D18,IF(PLAN!$G$10=\"1T\",PLAN!D13,\"\")))","v":"DEDE"},{"$f":"IF(PLAN!$U$10=\"3T\",PLAN!D24,IF(PLAN!$N$10=\"2T\",PLAN!D19,IF(PLAN!$G$10=\"1T\",PLAN!D14,\"\")))","v":"EDED"},{"$f":"IF(PLAN!$U$10=\"3T\",PLAN!D25,IF(PLAN!$N$10=\"2T\",PLAN!D20,IF(PLAN!$G$10=\"1T\",PLAN!D15,\"\")))","v":0},{"$f":"IF(PLAN!$U$10=\"3T\",PLAN!D26,IF(PLAN!$N$10=\"2T\",PLAN!D21,IF(PLAN!$G$10=\"1T\",PLAN!D16,\"\")))","v":0}]
[null,null,null,{"$f":"INICIO!D12","v":"6B"},{"$f":"INICIO!F12","v":"SCIENCE"},"","","","","","","","","","","","","","","","","","","","","","","","","","","","","","","","","","","","","","","","","","","","","","","","","","",41,34,31,36,27,39,32,41,23,42,38,37,37,39,39,37,40,30,23,"","","","","","","","","","","","","","","","","","","","","","","","","","","","","","","","","","","","","","","","","","","","","","","","","","","","","","","","","","","","","","","","","","","","","","","","","","","","","","","","","","","","","","","","","","","","","","","","","","","","","","","","","","","","","","","","","","","","","","","","","","","","","","","","","","","","","","","","","","","","","","","","","","","","","","","","","","","","","","","","","","","","","","","","","","","","","","","","","","","","","",{"$f":"IF(PLAN!$U$37=\"3T\",PLAN!D49,IF(PLAN!$N$37=\"2T\",PLAN!D44,IF(PLAN!$G$37=\"1T\",PLAN!D39,\"\")))","v":0},{"$f":"IF(PLAN!$U$37=\"3T\",PLAN!D50,IF(PLAN!$N$37=\"2T\",PLAN!D45,IF(PLAN!$G$37=\"1T\",PLAN!D40,\"\")))","v":0},{"$f":"IF(PLAN!$U$37=\"3T\",PLAN!D51,IF(PLAN!$N$37=\"2T\",PLAN!D46,IF(PLAN!$G$37=\"1T\",PLAN!D41,\"\")))","v":0},{"$f":"IF(PLAN!$U$37=\"3T\",PLAN!D52,IF(PLAN!$N$37=\"2T\",PLAN!D47,IF(PLAN!$G$37=\"1T\",PLAN!D42,\"\")))","v":0},{"$f":"IF(PLAN!$U$37=\"3T\",PLAN!D53,IF(PLAN!$N$37=\"2T\",PLAN!D48,IF(PLAN!$G$37=\"1T\",PLAN!D43,\"\")))","v":0}]
[null,null,null,{"$f":"INICIO!D13","v":"6B"},{"$f":"INICIO!F13","v":"INGLES"},41,34,31,36,27,39,32,41,23,42,38,37,37,39,39,37,40,30,23,"","","","","","","","","","","","","","","","","","","","","","","","","","","","","","","","","","","","","","","","","","","","","","","","","","","","","","","","","","","","","","","","","","","","","","","","","","","","","","","","","",41,34,31,36,27,39,32,41,23,42,38,37,37,39,39,37,40,30,23,"","","","","","","","","","","","","","","","","","","","","","","","","","","","","","","","","","","","","","","","","","","","","","","","","","","","","","","","","","","","","","","","","","","","","","","","","","","","","","","","","","","","","","","","","","","","","","","","","","","","","","","","","","","","","","","","","","","","","","","","","","","","","","","","","","","",{"$f":"IF(PLAN!$U$64=\"3T\",PLAN!D76,IF(PLAN!$N$64=\"2T\",PLAN!D71,IF(PLAN!$G$64=\"1T\",PLAN!D66,\"\")))","v":0},{"$f":"IF(PLAN!$U$64=\"3T\",PLAN!D77,IF(PLAN!$N$64=\"2T\",PLAN!D72,IF(PLAN!$G$64=\"1T\",PLAN!D67,\"\")))","v":0},{"$f":"IF(PLAN!$U$64=\"3T\",PLAN!D78,IF(PLAN!$N$64=\"2T\",PLAN!D73,IF(PLAN!$G$64=\"1T\",PLAN!D68,\"\")))","v":0},{"$f":"IF(PLAN!$U$64=\"3T\",PLAN!D79,IF(PLAN!$N$64=\"2T\",PLAN!D74,IF(PLAN!$G$64=\"1T\",PLAN!D69,\"\")))","v":0},{"$f":"IF(PLAN!$U$64=\"3T\",PLAN!D80,IF(PLAN!$N$64=\"2T\",PLAN!D75,IF(PLAN!$G$64=\"1T\",PLAN!D70,\"\")))","v":0}]
[null,null,null,{"$f":"INICIO!D14","v":"6A"},{"$f":"INICIO!F14","v":"SCIENCE"},"","","","","","","","","","","","","","","","","","","","","","","","","","","","","","","","","","","","","","","","","","","","","","","","","","","","","","","","","","","","","","","","","","","","","","","","","","","","","","","","","","","","","","","","","","","","","","","","","","","","","","","","","","","","","","","","","","","","","","","","","","","","","","","","","","","","","","","","","","","","","","","","","","","","","","","","","","","","","","","","","","","","","","","","","","","","","","","","","","","","","","","","","","","","","","","","","","","","","","","","","","","","","","","","","","","","","","","","","","","","","","","","","","","","","","","","","","","","","","","","","","","","","","","","","","",{"$f":"IF(PLAN!$U$91=\"3T\",PLAN!D103,IF(PLAN!$N$91=\"2T\",PLAN!D98,IF(PLAN!$G$91=\"1T\",PLAN!D93,\"\")))","v":0},{"$f":"IF(PLAN!$U$91=\"3T\",PLAN!D104,IF(PLAN!$N$91=\"2T\",PLAN!D99,IF(PLAN!$G$91=\"1T\",PLAN!D94,\"\")))","v":0},{"$f":"IF(PLAN!$U$91=\"3T\",PLAN!D105,IF(PLAN!$N$91=\"2T\",PLAN!D100,IF(PLAN!$G$91=\"1T\",PLAN!D95,\"\")))","v":0},{"$f":"IF(PLAN!$U$91=\"3T\",PLAN!D106,IF(PLAN!$N$91=\"2T\",PLAN!D101,IF(PLAN!$G$91=\"1T\",PLAN!D96,\"\")))","v":0},{"$f":"IF(PLAN!$U$91=\"3T\",PLAN!D107,IF(PLAN!$N$91=\"2T\",PLAN!D102,IF(PLAN!$G$91=\"1T\",PLAN!D97,\"\")))","v":0}]
[null,null,null,{"$f":"INICIO!D15","v":"6A"},{"$f":"INICIO!F15","v":"INGLES"},"","","","","","","","","","","","","","","","","","","","","","","","","","","","","","","","","","","","","","","","","","","","","","","","","","","","","","","","","","","","","","","","","","","","","","","","","","","","","","","","","","","","","","","","","","","","","","","","","","","","","","","","","","","","","","","","","","","","","","","","","","","","","","","","","","","","","","","","","","","","","","","","","","","","","","","","","","","","","","","","","","","","","","","","","","","","","","","","","","","","","","","","","","","","","","","","","","","","","","","","","","","","","","","","","","","","","","","","","","","","","","","","","","","","","","","","","","","","","","","","","","","","","","","","","","",{"$f":"IF(PLAN!$U$118=\"3T\",PLAN!D130,IF(PLAN!$N$118=\"2T\",PLAN!D125,IF(PLAN!$G$118=\"1T\",PLAN!D120,\"\")))","v":0},{"$f":"IF(PLAN!$U$118=\"3T\",PLAN!D131,IF(PLAN!$N$118=\"2T\",PLAN!D126,IF(PLAN!$G$118=\"1T\",PLAN!D121,\"\")))","v":0},{"$f":"IF(PLAN!$U$118=\"3T\",PLAN!D132,IF(PLAN!$N$118=\"2T\",PLAN!D127,IF(PLAN!$G$118=\"1T\",PLAN!D122,\"\")))","v":0},{"$f":"IF(PLAN!$U$118=\"3T\",PLAN!D133,IF(PLAN!$N$118=\"2T\",PLAN!D128,IF(PLAN!$G$118=\"1T\",PLAN!D123,\"\")))","v":0},{"$f":"IF(PLAN!$U$118=\"3T\",PLAN!D134,IF(PLAN!$N$118=\"2T\",PLAN!D129,IF(PLAN!$G$118=\"1T\",PLAN!D124,\"\")))","v":0}]
[null,null,null,{"$f":"INICIO!D16","v":"5A"},{"$f":"INICIO!F16","v":"SCIENCE"},"","","","","","","","","","","","","","","","","","","","","","","","","","","","","","","","","","","","","","","","","","","","","","","","","","","","","","","","","","","","","","","","","","","","","","","","","","","","","","","","","","","","","","","","","","","","","","","","","","","","","","","","","","","","","","","","","","","","","","","","","","","","","","","","","","","","","","","","","","","","","","","","","","","","","","","","","","","","","","","","","","","","","","","","","","","","","","","","","","","","","","","","","","","","","","","","","","","","","","","","","","","","","","","","","","","","","","","","","","","","","","","","","","","","","","","","","","","","","","","","","","","","","","","","","","",{"$f":"IF(PLAN!$U$145=\"3T\",PLAN!D157,IF(PLAN!$N$145=\"2T\",PLAN!D152,IF(PLAN!$G$145=\"1T\",PLAN!D147,\"\")))","v":0},{"$f":"IF(PLAN!$U$145=\"3T\",PLAN!D158,IF(PLAN!$N$145=\"2T\",PLAN!D153,IF(PLAN!$G$145=\"1T\",PLAN!D148,\"\")))","v":0},{"$f":"IF(PLAN!$U$145=\"3T\",PLAN!D159,IF(PLAN!$N$145=\"2T\",PLAN!D154,IF(PLAN!$G$145=\"1T\",PLAN!D149,\"\")))","v":0},{"$f":"IF(PLAN!$U$145=\"3T\",PLAN!D160,IF(PLAN!$N$145=\"2T\",PLAN!D155,IF(PLAN!$G$145=\"1T\",PLAN!D150,\"\")))","v":0},{"$f":"IF(PLAN!$U$145=\"3T\",PLAN!D161,IF(PLAN!$N$145=\"2T\",PLAN!D156,IF(PLAN!$G$145=\"1T\",PLAN!D151,\"\")))","v":0}]
[null,null,null,{"$f":"INICIO!D17","v":"5A"},{"$f":"INICIO!F17","v":"INGLES"},"","","","","","","","","","","","","","","","","","","","","","","","","","","","","","","","","","","","","","","","","","","","","","","","","","","","","","","","","","","","","","","","","","","","","","","","","","","","","","","","","","","","","","","","","","","","","","","","","","","","","","","","","","","","","","","","","","","","","","","","","","","","","","","","","","","","","","","","","","","","","","","","","","","","","","","","","","","","","","","","","","","","","","","","","","","","","","","","","","","","","","","","","","","","","","","","","","","","","","","","","","","","","","","","","","","","","","","","","","","","","","","","","","","","","","","","","","","","","","","","","","","","","","","","","","",{"$f":"IF(PLAN!$U$172=\"3T\",PLAN!D184,IF(PLAN!$N$172=\"2T\",PLAN!D179,IF(PLAN!$G$172=\"1T\",PLAN!D174,\"\")))","v":0},{"$f":"IF(PLAN!$U$172=\"3T\",PLAN!D185,IF(PLAN!$N$172=\"2T\",PLAN!D180,IF(PLAN!$G$172=\"1T\",PLAN!D175,\"\")))","v":0},{"$f":"IF(PLAN!$U$172=\"3T\",PLAN!D186,IF(PLAN!$N$172=\"2T\",PLAN!D181,IF(PLAN!$G$172=\"1T\",PLAN!D176,\"\")))","v":0},{"$f":"IF(PLAN!$U$172=\"3T\",PLAN!D187,IF(PLAN!$N$172=\"2T\",PLAN!D182,IF(PLAN!$G$172=\"1T\",PLAN!D177,\"\")))","v":0},{"$f":"IF(PLAN!$U$172=\"3T\",PLAN!D188,IF(PLAN!$N$172=\"2T\",PLAN!D183,IF(PLAN!$G$172=\"1T\",PLAN!D178,\"\")))","v":0}]
[null,null,null,{"$f":"INICIO!D18","v":"4A"},{"$f":"INICIO!F18","v":"SCIENCE"},"","","","","","","","","","","","","","","","","","","","","","","","","","","","","","","","","","","","","","","","","","","","","","","","","","","","","","","","","","","","","","","","","","","","","","","","","","","","","","","","","","","","","","","","","","","","","","","","","","","","","","","","","","","","","","","","","","","","","","","","","","","","","","","","","","","","","","","","","","","","","","","","","","","","","","","","","","","","","","","","","","","","","","","","","","","","","","","","","","","","","","","","","","","","","","","","","","","","","","","","","","","","","","","","","","","","","","","","","","","","","","","","","","","","","","","","","","","","","","","","","","","","","","","","","","",{"$f":"IF(PLAN!$U$199=\"3T\",PLAN!D211,IF(PLAN!$N$199=\"2T\",PLAN!D206,IF(PLAN!$G$199=\"1T\",PLAN!D201,\"\")))","v":0},{"$f":"IF(PLAN!$U$199=\"3T\",PLAN!D212,IF(PLAN!$N$199=\"2T\",PLAN!D207,IF(PLAN!$G$199=\"1T\",PLAN!D202,\"\")))","v":0},{"$f":"IF(PLAN!$U$199=\"3T\",PLAN!D213,IF(PLAN!$N$199=\"2T\",PLAN!D208,IF(PLAN!$G$199=\"1T\",PLAN!D203,\"\")))","v":0},{"$f":"IF(PLAN!$U$199=\"3T\",PLAN!D214,IF(PLAN!$N$199=\"2T\",PLAN!D209,IF(PLAN!$G$199=\"1T\",PLAN!D204,\"\")))","v":0},{"$f":"IF(PLAN!$U$199=\"3T\",PLAN!D215,IF(PLAN!$N$199=\"2T\",PLAN!D210,IF(PLAN!$G$199=\"1T\",PLAN!D205,\"\")))","v":0}]
[null,null,null,{"$f":"INICIO!D19","v":""},{"$f":"INICIO!F19","v":""},"","","","","","","","","","","","","","","","","","","","","","","","","","","","","","","","","","","","","","","","","","","","","","","","","","","","","","","","","","","","","","","","","","","","","","","","","","","","","","","","","","","","","","","","","","","","","","","","","","","","","","","","","","","","","","","","","","","","","","","","","","","","","","","","","","","","","","","","","","","","","","","","","","","","","","","","","","","","","","","","","","","","","","","","","","","","","","","","","","","","","","","","","","","","","","","","","","","","","","","","","","","","","","","","","","","","","","","","","","","","","","","","","","","","","","","","","","","","","","","","","","","","","","","","","","",{"$f":"IF(PLAN!$U$226=\"3T\",PLAN!D238,IF(PLAN!$N$226=\"2T\",PLAN!D233,IF(PLAN!$G$226=\"1T\",PLAN!D228,\"\")))","v":""},{"$f":"IF(PLAN!$U$226=\"3T\",PLAN!D239,IF(PLAN!$N$226=\"2T\",PLAN!D234,IF(PLAN!$G$226=\"1T\",PLAN!D229,\"\")))","v":""},{"$f":"IF(PLAN!$U$226=\"3T\",PLAN!D240,IF(PLAN!$N$226=\"2T\",PLAN!D235,IF(PLAN!$G$226=\"1T\",PLAN!D230,\"\")))","v":""},{"$f":"IF(PLAN!$U$226=\"3T\",PLAN!D241,IF(PLAN!$N$226=\"2T\",PLAN!D236,IF(PLAN!$G$226=\"1T\",PLAN!D231,\"\")))","v":""},{"$f":"IF(PLAN!$U$226=\"3T\",PLAN!D242,IF(PLAN!$N$226=\"2T\",PLAN!D237,IF(PLAN!$G$226=\"1T\",PLAN!D232,\"\")))","v":""}]
[]
[]
[]
[]
[null,null,null,null,null,null,null,null,null,null,null,null,null,null,null,null,null,null,null,null,null,null,null,null,null,null,null,null,null,null,null,null,null,null,null,null,null,null,null,null,null,null,null,null,null,null,null,null,null,null,null,null,null,null,null,null,null,null,null,null,null,null,null,null,null,null,null,null,null,null,null,null,null,null,null,null,null,null,null,null,null,null,null,null,null,null,null,null,null,null,null,null,null,null,null,null,null,null,null,null,null,null,null,null,null,null,null,null,null,null,null,null,null,null,null,null,null,null,null,null,null,null,null,null,null,null,null,null,null,null,null,null,null,null,null,null,null,null,null,null,null,null,null,null,null,null,null,null,null,null,null,null,null,null,null,null,null,null,null,null,null,null,null,null,null,null,null,null,null,null,null,null,null,null,null,null,null,null,null,null,null,null,null,null,null,null,null,null,null,null,null,null,null,null,null,null,null,null,null,null,null,null,null,null,null,null,null,null,null,null,null,null,null,null,null,null,null,null,null,null,null,null,null,null,null,null,null,null,null,null,null,null,null,null,null,null,null,null,null,null,null,null,null,null,null,null,null,null,null,null,null,null,null,null,null,null,null,null,null,null,null,null,null,null,null,null,null,null,null,null,null,null,null,null,null,null,null,null,"DATOS DE SIGECOL GUARDADOS"]