{"text_format":"1","workbook":"xlsx","n_sheets":7,"sheets":["Mercantil","Descripcion Mercantil","Fondo_Comun","Descripcion Fondo","Grafico Mercantil","Grafico Fondo","Hoja1"],"not_rendered":{"charts":4,"images":2,"macros":1,"external_links":0,"defined_names":2,"comments":0,"pivot_tables":0},"unopened":[{"sheet":"Grafico Mercantil","index":4,"reason":"not_a_worksheet"},{"sheet":"Grafico Fondo","index":5,"reason":"not_a_worksheet"}],"bounds":{"document_bytes":16777216,"sheet_cells":100000,"rows_first":2000,"rows_last":500,"rows_between":2000,"halvings":0,"cell_chars":16384,"cell_head_chars":4096},"cells_cut":0,"cells_raw":0,"read":"whole","date_system":"1900"}

{"sheet":"Mercantil","index":0,"n_rows":106,"n_cols":9,"rows_kept":106,"cut":false,"hidden":false,"merged":[[5,5,6,6],[103,3,105,4],[27,3,27,5],[35,3,35,5],[36,3,36,5],[7,6,9,8],[31,3,31,5],[32,3,32,5],[33,3,33,5],[34,3,34,5],[28,3,28,5],[29,3,29,5],[30,3,30,5],[26,3,26,5],[21,3,21,5],[23,3,23,5],[24,3,24,5],[2,7,2,8],[6,2,8,4],[6,7,6,8],[10,3,10,5],[20,3,20,5],[15,3,15,5],[16,3,16,5],[18,3,18,5],[19,3,19,5],[17,3,17,5],[11,3,11,5],[12,3,12,5],[13,3,13,5],[14,3,14,5],[2,2,2,6],[22,3,22,5],[46,3,46,5],[47,3,47,5],[48,3,48,5],[101,3,101,5],[37,3,37,5],[41,3,41,5],[43,3,43,5],[42,3,42,5],[38,3,38,5],[39,3,39,5],[40,3,40,5],[44,3,44,5],[45,3,45,5],[49,3,49,5],[50,3,50,5],[55,3,55,5],[56,3,56,5],[57,3,57,5],[58,3,58,5],[25,3,25,5],[51,3,51,5],[52,3,52,5],[53,3,53,5],[54,3,54,5],[59,3,59,5],[60,3,60,5],[61,3,61,5],[62,3,62,5],[63,3,63,5],[64,3,64,5],[65,3,65,5],[66,3,66,5],[67,3,67,5],[69,3,69,5],[68,3,68,5],[70,3,70,5],[71,3,71,5],[72,3,72,5],[73,3,73,5],[74,3,74,5],[75,3,75,5],[76,3,76,5],[77,3,77,5],[78,3,78,5],[79,3,79,5],[80,3,80,5],[81,3,81,5],[82,3,82,5],[83,3,83,5],[84,3,84,5],[85,3,85,5],[86,3,86,5],[87,3,87,5],[88,3,88,5],[89,3,89,5],[90,3,90,5],[91,3,91,5],[92,3,92,5],[93,3,93,5],[94,3,94,5],[100,3,100,5],[95,3,95,5],[96,3,96,5],[97,3,97,5],[98,3,98,5],[99,3,99,5]]}
[]
[]
[null,null,"Joao Marques",null,null,null,null,"Hoja de balance"]
[]
[]
[null,null,"Descripción",null,null,"Balance inicial a partir   de: 01/01/2013"]
[null,null,"Cobros y gastos del año 2013",null,null,null,null,1000]
[null,null,null,null,null,null,"Deposito en Mercantil al 31/12/12         En Fondo Comun al 30/12/12  Total = 1000,00"]
[]
[]
[null,null,"Fecha","Descripción del elemento",null,null,"Cobros","Gastos","Balance"]
[null,null,"2014-05-04","dsssssfsdfsf",null,null,50000,null,{"$f":"IF(OR(G12>0, H12>0),($H$7+SUM($G$12:G12))-SUM($H$12:H12),\"\")","v":51000}]
[null,null,"2014-07-07","ggfgfh",null,null,null,35000,{"$f":"IF(OR(G13>0, H13>0),($H$7+SUM($G$12:G13))-SUM($H$12:H13),\"\")","v":16000}]
[null,null,null,null,null,null,null,null,{"$f":"IF(OR(G14>0, H14>0),($H$7+SUM($G$12:G14))-SUM($H$12:H14),\"\")","v":""}]
[null,null,null,null,null,null,null,null,{"$f":"IF(OR(G15>0, H15>0),($H$7+SUM($G$12:G15))-SUM($H$12:H15),\"\")","v":""}]
[null,null,null,null,null,null,null,null,{"$f":"IF(OR(G16>0, H16>0),($H$7+SUM($G$12:G16))-SUM($H$12:H16),\"\")","v":""}]
[null,null,null,null,null,null,null,null,{"$f":"IF(OR(G17>0, H17>0),($H$7+SUM($G$12:G17))-SUM($H$12:H17),\"\")","v":""}]
[null,null,null,null,null,null,null,null,{"$f":"IF(OR(G18>0, H18>0),($H$7+SUM($G$12:G18))-SUM($H$12:H18),\"\")","v":""}]
[null,null,null,null,null,null,null,null,{"$f":"IF(OR(G19>0, H19>0),($H$7+SUM($G$12:G19))-SUM($H$12:H19),\"\")","v":""}]
[null,null,null,null,null,null,null,null,{"$f":"IF(OR(G20>0, H20>0),($H$7+SUM($G$12:G20))-SUM($H$12:H20),\"\")","v":""}]
[null,null,null,null,null,null,null,null,{"$f":"IF(OR(G21>0, H21>0),($H$7+SUM($G$12:G21))-SUM($H$12:H21),\"\")","v":""}]
[null,null,null,null,null,null,null,null,{"$f":"IF(OR(G22>0, H22>0),($H$7+SUM($G$12:G22))-SUM($H$12:H22),\"\")","v":""}]
[null,null,null,null,null,null,null,null,{"$f":"IF(OR(G23>0, H23>0),($H$7+SUM($G$12:G23))-SUM($H$12:H23),\"\")","v":""}]
[null,null,null,null,null,null,null,null,{"$f":"IF(OR(G24>0, H24>0),($H$7+SUM($G$12:G24))-SUM($H$12:H24),\"\")","v":""}]
[null,null,null,null,null,null,null,null,{"$f":"IF(OR(G25>0, H25>0),($H$7+SUM($G$12:G25))-SUM($H$12:H25),\"\")","v":""}]
[null,null,null,null,null,null,null,null,{"$f":"IF(OR(G26>0, H26>0),($H$7+SUM($G$12:G26))-SUM($H$12:H26),\"\")","v":""}]
[null,null,null,null,null,null,null,null,{"$f":"IF(OR(G27>0, H27>0),($H$7+SUM($G$12:G27))-SUM($H$12:H27),\"\")","v":""}]
[null,null,null,null,null,null,null,null,{"$f":"IF(OR(G28>0, H28>0),($H$7+SUM($G$12:G28))-SUM($H$12:H28),\"\")","v":""}]
[null,null,null,null,null,null,null,null,{"$f":"IF(OR(G29>0, H29>0),($H$7+SUM($G$12:G29))-SUM($H$12:H29),\"\")","v":""}]
[null,null,null,null,null,null,null,null,{"$f":"IF(OR(G30>0, H30>0),($H$7+SUM($G$12:G30))-SUM($H$12:H30),\"\")","v":""}]
[null,null,null,null,null,null,null,null,{"$f":"IF(OR(G31>0, H31>0),($H$7+SUM($G$12:G31))-SUM($H$12:H31),\"\")","v":""}]
[null,null,null,null,null,null,null,null,{"$f":"IF(OR(G32>0, H32>0),($H$7+SUM($G$12:G32))-SUM($H$12:H32),\"\")","v":""}]
[null,null,null,null,null,null,null,null,{"$f":"IF(OR(G33>0, H33>0),($H$7+SUM($G$12:G33))-SUM($H$12:H33),\"\")","v":""}]
[null,null,null,null,null,null,null,null,{"$f":"IF(OR(G34>0, H34>0),($H$7+SUM($G$12:G34))-SUM($H$12:H34),\"\")","v":""}]
[null,null,null,null,null,null,null,null,{"$f":"IF(OR(G35>0, H35>0),($H$7+SUM($G$12:G35))-SUM($H$12:H35),\"\")","v":""}]
[null,null,null,null,null,null,null,null,{"$f":"IF(OR(G36>0, H36>0),($H$7+SUM($G$12:G36))-SUM($H$12:H36),\"\")","v":""}]
[null,null,null,null,null,null,null,null,{"$f":"IF(OR(G37>0, H37>0),($H$7+SUM($G$12:G37))-SUM($H$12:H37),\"\")","v":""}]
[null,null,null,null,null,null,null,null,{"$f":"IF(OR(G38>0, H38>0),($H$7+SUM($G$12:G38))-SUM($H$12:H38),\"\")","v":""}]
[null,null,null,null,null,null,null,null,{"$f":"IF(OR(G39>0, H39>0),($H$7+SUM($G$12:G39))-SUM($H$12:H39),\"\")","v":""}]
[null,null,null,null,null,null,null,null,{"$f":"IF(OR(G40>0, H40>0),($H$7+SUM($G$12:G40))-SUM($H$12:H40),\"\")","v":""}]
[null,null,null,null,null,null,null,null,{"$f":"IF(OR(G41>0, H41>0),($H$7+SUM($G$12:G41))-SUM($H$12:H41),\"\")","v":""}]
[null,null,null,null,null,null,null,null,{"$f":"IF(OR(G42>0, H42>0),($H$7+SUM($G$12:G42))-SUM($H$12:H42),\"\")","v":""}]
[null,null,null,null,null,null,null,null,{"$f":"IF(OR(G43>0, H43>0),($H$7+SUM($G$12:G43))-SUM($H$12:H43),\"\")","v":""}]
[null,null,null,null,null,null,null,null,{"$f":"IF(OR(G44>0, H44>0),($H$7+SUM($G$12:G44))-SUM($H$12:H44),\"\")","v":""}]
[null,null,null,null,null,null,null,null,{"$f":"IF(OR(G45>0, H45>0),($H$7+SUM($G$12:G45))-SUM($H$12:H45),\"\")","v":""}]
[null,null,null,null,null,null,null,null,{"$f":"IF(OR(G46>0, H46>0),($H$7+SUM($G$12:G46))-SUM($H$12:H46),\"\")","v":""}]
[null,null,null,null,null,null,null,null,{"$f":"IF(OR(G47>0, H47>0),($H$7+SUM($G$12:G47))-SUM($H$12:H47),\"\")","v":""}]
[null,null,null,null,null,null,null,null,{"$f":"IF(OR(G48>0, H48>0),($H$7+SUM($G$12:G48))-SUM($H$12:H48),\"\")","v":""}]
[null,null,null,null,null,null,null,null,{"$f":"IF(OR(G49>0, H49>0),($H$7+SUM($G$12:G49))-SUM($H$12:H49),\"\")","v":""}]
[null,null,null,null,null,null,null,null,{"$f":"IF(OR(G50>0, H50>0),($H$7+SUM($G$12:G50))-SUM($H$12:H50),\"\")","v":""}]
[null,null,null,null,null,null,null,null,{"$f":"IF(OR(G51>0, H51>0),($H$7+SUM($G$12:G51))-SUM($H$12:H51),\"\")","v":""}]
[null,null,null,null,null,null,null,null,{"$f":"IF(OR(G52>0, H52>0),($H$7+SUM($G$12:G52))-SUM($H$12:H52),\"\")","v":""}]
[null,null,null,null,null,null,null,null,{"$f":"IF(OR(G53>0, H53>0),($H$7+SUM($G$12:G53))-SUM($H$12:H53),\"\")","v":""}]
[null,null,null,null,null,null,null,null,{"$f":"IF(OR(G54>0, H54>0),($H$7+SUM($G$12:G54))-SUM($H$12:H54),\"\")","v":""}]
[null,null,null,null,null,null,null,null,{"$f":"IF(OR(G55>0, H55>0),($H$7+SUM($G$12:G55))-SUM($H$12:H55),\"\")","v":""}]
[null,null,null,null,null,null,null,null,{"$f":"IF(OR(G56>0, H56>0),($H$7+SUM($G$12:G56))-SUM($H$12:H56),\"\")","v":""}]
[null,null,null,null,null,null,null,null,{"$f":"IF(OR(G57>0, H57>0),($H$7+SUM($G$12:G57))-SUM($H$12:H57),\"\")","v":""}]
[null,null,null,null,null,null,null,null,{"$f":"IF(OR(G58>0, H58>0),($H$7+SUM($G$12:G58))-SUM($H$12:H58),\"\")","v":""}]
[null,null,null,null,null,null,null,null,{"$f":"IF(OR(G59>0, H59>0),($H$7+SUM($G$12:G59))-SUM($H$12:H59),\"\")","v":""}]
[null,null,null,null,null,null,null,null,{"$f":"IF(OR(G60>0, H60>0),($H$7+SUM($G$12:G60))-SUM($H$12:H60),\"\")","v":""}]
[null,null,null,null,null,null,null,null,{"$f":"IF(OR(G61>0, H61>0),($H$7+SUM($G$12:G61))-SUM($H$12:H61),\"\")","v":""}]
[null,null,null,null,null,null,null,null,{"$f":"IF(OR(G62>0, H62>0),($H$7+SUM($G$12:G62))-SUM($H$12:H62),\"\")","v":""}]
[null,null,null,null,null,null,null,null,{"$f":"IF(OR(G63>0, H63>0),($H$7+SUM($G$12:G63))-SUM($H$12:H63),\"\")","v":""}]
[null,null,null,null,null,null,null,null,{"$f":"IF(OR(G64>0, H64>0),($H$7+SUM($G$12:G64))-SUM($H$12:H64),\"\")","v":""}]
[null,null,null,null,null,null,null,null,{"$f":"IF(OR(G65>0, H65>0),($H$7+SUM($G$12:G65))-SUM($H$12:H65),\"\")","v":""}]
[null,null,null,null,null,null,null,null,{"$f":"IF(OR(G66>0, H66>0),($H$7+SUM($G$12:G66))-SUM($H$12:H66),\"\")","v":""}]
[null,null,null,null,null,null,null,null,{"$f":"IF(OR(G67>0, H67>0),($H$7+SUM($G$12:G67))-SUM($H$12:H67),\"\")","v":""}]
[null,null,null,null,null,null,null,null,{"$f":"IF(OR(G68>0, H68>0),($H$7+SUM($G$12:G68))-SUM($H$12:H68),\"\")","v":""}]
[null,null,null,null,null,null,null,null,{"$f":"IF(OR(G69>0, H69>0),($H$7+SUM($G$12:G69))-SUM($H$12:H69),\"\")","v":""}]
[null,null,null,null,null,null,null,null,{"$f":"IF(OR(G70>0, H70>0),($H$7+SUM($G$12:G70))-SUM($H$12:H70),\"\")","v":""}]
[null,null,null,null,null,null,null,null,{"$f":"IF(OR(G71>0, H71>0),($H$7+SUM($G$12:G71))-SUM($H$12:H71),\"\")","v":""}]
[null,null,null,null,null,null,null,null,{"$f":"IF(OR(G72>0, H72>0),($H$7+SUM($G$12:G72))-SUM($H$12:H72),\"\")","v":""}]
[null,null,null,null,null,null,null,null,{"$f":"IF(OR(G73>0, H73>0),($H$7+SUM($G$12:G73))-SUM($H$12:H73),\"\")","v":""}]
[null,null,null,null,null,null,null,null,{"$f":"IF(OR(G74>0, H74>0),($H$7+SUM($G$12:G74))-SUM($H$12:H74),\"\")","v":""}]
[null,null,null,null,null,null,null,null,{"$f":"IF(OR(G75>0, H75>0),($H$7+SUM($G$12:G75))-SUM($H$12:H75),\"\")","v":""}]
[null,null,null,null,null,null,null,null,{"$f":"IF(OR(G76>0, H76>0),($H$7+SUM($G$12:G76))-SUM($H$12:H76),\"\")","v":""}]
[null,null,null,null,null,null,null,null,{"$f":"IF(OR(G77>0, H77>0),($H$7+SUM($G$12:G77))-SUM($H$12:H77),\"\")","v":""}]
[null,null,null,null,null,null,null,null,{"$f":"IF(OR(G78>0, H78>0),($H$7+SUM($G$12:G78))-SUM($H$12:H78),\"\")","v":""}]
[null,null,null,null,null,null,null,null,{"$f":"IF(OR(G79>0, H79>0),($H$7+SUM($G$12:G79))-SUM($H$12:H79),\"\")","v":""}]
[null,null,null,null,null,null,null,null,{"$f":"IF(OR(G80>0, H80>0),($H$7+SUM($G$12:G80))-SUM($H$12:H80),\"\")","v":""}]
[null,null,null,null,null,null,null,null,{"$f":"IF(OR(G81>0, H81>0),($H$7+SUM($G$12:G81))-SUM($H$12:H81),\"\")","v":""}]
[null,null,null,null,null,null,null,null,{"$f":"IF(OR(G82>0, H82>0),($H$7+SUM($G$12:G82))-SUM($H$12:H82),\"\")","v":""}]
[null,null,null,null,null,null,null,null,{"$f":"IF(OR(G83>0, H83>0),($H$7+SUM($G$12:G83))-SUM($H$12:H83),\"\")","v":""}]
[null,null,null,null,null,null,null,null,{"$f":"IF(OR(G84>0, H84>0),($H$7+SUM($G$12:G84))-SUM($H$12:H84),\"\")","v":""}]
[null,null,null,null,null,null,null,null,{"$f":"IF(OR(G85>0, H85>0),($H$7+SUM($G$12:G85))-SUM($H$12:H85),\"\")","v":""}]
[null,null,null,null,null,null,null,null,{"$f":"IF(OR(G86>0, H86>0),($H$7+SUM($G$12:G86))-SUM($H$12:H86),\"\")","v":""}]
[null,null,null,null,null,null,null,null,{"$f":"IF(OR(G87>0, H87>0),($H$7+SUM($G$12:G87))-SUM($H$12:H87),\"\")","v":""}]
[null,null,null,null,null,null,null,null,{"$f":"IF(OR(G88>0, H88>0),($H$7+SUM($G$12:G88))-SUM($H$12:H88),\"\")","v":""}]
[null,null,null,null,null,null,null,null,{"$f":"IF(OR(G89>0, H89>0),($H$7+SUM($G$12:G89))-SUM($H$12:H89),\"\")","v":""}]
[null,null,null,null,null,null,null,null,{"$f":"IF(OR(G90>0, H90>0),($H$7+SUM($G$12:G90))-SUM($H$12:H90),\"\")","v":""}]
[null,null,null,null,null,null,null,null,{"$f":"IF(OR(G91>0, H91>0),($H$7+SUM($G$12:G91))-SUM($H$12:H91),\"\")","v":""}]
[null,null,null,null,null,null,null,null,{"$f":"IF(OR(G92>0, H92>0),($H$7+SUM($G$12:G92))-SUM($H$12:H92),\"\")","v":""}]
[null,null,null,null,null,null,null,null,{"$f":"IF(OR(G93>0, H93>0),($H$7+SUM($G$12:G93))-SUM($H$12:H93),\"\")","v":""}]
[null,null,null,null,null,null,null,null,{"$f":"IF(OR(G94>0, H94>0),($H$7+SUM($G$12:G94))-SUM($H$12:H94),\"\")","v":""}]
[null,null,null,null,null,null,null,null,{"$f":"IF(OR(G95>0, H95>0),($H$7+SUM($G$12:G95))-SUM($H$12:H95),\"\")","v":""}]
[null,null,null,null,null,null,null,null,{"$f":"IF(OR(G96>0, H96>0),($H$7+SUM($G$12:G96))-SUM($H$12:H96),\"\")","v":""}]
[null,null,null,null,null,null,null,null,{"$f":"IF(OR(G97>0, H97>0),($H$7+SUM($G$12:G97))-SUM($H$12:H97),\"\")","v":""}]
[null,null,null,null,null,null,null,null,{"$f":"IF(OR(G98>0, H98>0),($H$7+SUM($G$12:G98))-SUM($H$12:H98),\"\")","v":""}]
[null,null,null,null,null,null,null,null,{"$f":"IF(OR(G99>0, H99>0),($H$7+SUM($G$12:G99))-SUM($H$12:H99),\"\")","v":""}]
[null,null,null,null,null,null,null,null,{"$f":"IF(OR(G100>0, H100>0),($H$7+SUM($G$12:G100))-SUM($H$12:H100),\"\")","v":""}]
[null,null,null,null,null,null,null,null,{"$f":"IF(OR(G101>0, H101>0),($H$7+SUM($G$12:G101))-SUM($H$12:H101),\"\")","v":""}]
[null,null,null,null,null,null,null,null,{"$f":"IF(OR(G102>0, H102>0),($H$7+SUM($G$12:G102))-SUM($H$12:H102),\"\")","v":""}]
[]
[null,null,"Notas:","Las cantidades emitidas en cheque y depositos, contienen IVA incluido",null,"Cobrado",{"$f":"SUM(G12:G102)","v":50000}]
[null,null,null,null,null,"Gastado",{"$f":"SUM(H12:H102)","v":35000}]
[null,null,null,null,null,"Saldo actual",{"$f":"H7+(G104-G105)","v":16000}]

{"sheet":"Descripcion Mercantil","index":1,"n_rows":248,"n_cols":6,"rows_kept":248,"cut":false,"hidden":false,"merged":[]}
[null,null,"FECHA","DESCRIPCIÓN","GASTOS","TOTAL"]
[null,{"$f":" COUNTIF(Mercantil!$H$12:$H$102, \">0\") >= ROW() - 1","v":true},{"$f":" IF($B2, INDIRECT(\"Mercantil!C\" & SMALL(IF( Mercantil!$H$12:$H$102 = \"\", \"\", ROW(Mercantil!$H$12:$H$102)), ROW()-1)), \"\" )","v":"2014-07-07"},{"$f":" IF($B2, INDIRECT(\"Mercantil!D\" & SMALL(IF( Mercantil!$H$12:$H$102 = \"\", \"\", ROW(Mercantil!$H$12:$H$102)), ROW()-1)), \"\" )","v":"ggfgfh"},{"$f":" IF($B2, INDIRECT(\"Mercantil!H\" & SMALL(IF( Mercantil!$H$12:$H$102 = \"\", \"\", ROW(Mercantil!$H$12:$H$102)), ROW()-1)), \"\" )","v":35000},{"$f":" IF( B2, SUM($E$2:E2), \"\" )","v":35000}]
[null,{"$f":" COUNTIF(Mercantil!$H$12:$H$102, \">0\") >= ROW() - 1","v":false},{"$f":" IF($B3, INDIRECT(\"Mercantil!C\" & SMALL(IF( Mercantil!$H$12:$H$102 = \"\", \"\", ROW(Mercantil!$H$12:$H$102)), ROW()-1)), \"\" )","v":""},{"$f":" IF($B3, INDIRECT(\"Mercantil!D\" & SMALL(IF( Mercantil!$H$12:$H$102 = \"\", \"\", ROW(Mercantil!$H$12:$H$102)), ROW()-1)), \"\" )","v":""},{"$f":" IF($B3, INDIRECT(\"Mercantil!H\" & SMALL(IF( Mercantil!$H$12:$H$102 = \"\", \"\", ROW(Mercantil!$H$12:$H$102)), ROW()-1)), \"\" )","v":""},{"$f":" IF( B3, SUM($E$2:E3), \"\" )","v":""}]
[null,{"$f":" COUNTIF(Mercantil!$H$12:$H$102, \">0\") >= ROW() - 1","v":false},{"$f":" IF($B4, INDIRECT(\"Mercantil!C\" & SMALL(IF( Mercantil!$H$12:$H$102 = \"\", \"\", ROW(Mercantil!$H$12:$H$102)), ROW()-1)), \"\" )","v":""},{"$f":" IF($B4, INDIRECT(\"Mercantil!D\" & SMALL(IF( Mercantil!$H$12:$H$102 = \"\", \"\", ROW(Mercantil!$H$12:$H$102)), ROW()-1)), \"\" )","v":""},{"$f":" IF($B4, INDIRECT(\"Mercantil!H\" & SMALL(IF( Mercantil!$H$12:$H$102 = \"\", \"\", ROW(Mercantil!$H$12:$H$102)), ROW()-1)), \"\" )","v":""},{"$f":" IF( B4, SUM($E$2:E4), \"\" )","v":""}]
[null,{"$f":" COUNTIF(Mercantil!$H$12:$H$102, \">0\") >= ROW() - 1","v":false},{"$f":" IF($B5, INDIRECT(\"Mercantil!C\" & SMALL(IF( Mercantil!$H$12:$H$102 = \"\", \"\", ROW(Mercantil!$H$12:$H$102)), ROW()-1)), \"\" )","v":""},{"$f":" IF($B5, INDIRECT(\"Mercantil!D\" & SMALL(IF( Mercantil!$H$12:$H$102 = \"\", \"\", ROW(Mercantil!$H$12:$H$102)), ROW()-1)), \"\" )","v":""},{"$f":" IF($B5, INDIRECT(\"Mercantil!H\" & SMALL(IF( Mercantil!$H$12:$H$102 = \"\", \"\", ROW(Mercantil!$H$12:$H$102)), ROW()-1)), \"\" )","v":""},{"$f":" IF( B5, SUM($E$2:E5), \"\" )","v":""}]
[null,{"$f":" COUNTIF(Mercantil!$H$12:$H$102, \">0\") >= ROW() - 1","v":false},{"$f":" IF($B6, INDIRECT(\"Mercantil!C\" & SMALL(IF( Mercantil!$H$12:$H$102 = \"\", \"\", ROW(Mercantil!$H$12:$H$102)), ROW()-1)), \"\" )","v":""},{"$f":" IF($B6, INDIRECT(\"Mercantil!D\" & SMALL(IF( Mercantil!$H$12:$H$102 = \"\", \"\", ROW(Mercantil!$H$12:$H$102)), ROW()-1)), \"\" )","v":""},{"$f":" IF($B6, INDIRECT(\"Mercantil!H\" & SMALL(IF( Mercantil!$H$12:$H$102 = \"\", \"\", ROW(Mercantil!$H$12:$H$102)), ROW()-1)), \"\" )","v":""},{"$f":" IF( B6, SUM($E$2:E6), \"\" )","v":""}]
[null,{"$f":" COUNTIF(Mercantil!$H$12:$H$102, \">0\") >= ROW() - 1","v":false},{"$f":" IF($B7, INDIRECT(\"Mercantil!C\" & SMALL(IF( Mercantil!$H$12:$H$102 = \"\", \"\", ROW(Mercantil!$H$12:$H$102)), ROW()-1)), \"\" )","v":""},{"$f":" IF($B7, INDIRECT(\"Mercantil!D\" & SMALL(IF( Mercantil!$H$12:$H$102 = \"\", \"\", ROW(Mercantil!$H$12:$H$102)), ROW()-1)), \"\" )","v":""},{"$f":" IF($B7, INDIRECT(\"Mercantil!H\" & SMALL(IF( Mercantil!$H$12:$H$102 = \"\", \"\", ROW(Mercantil!$H$12:$H$102)), ROW()-1)), \"\" )","v":""},{"$f":" IF( B7, SUM($E$2:E7), \"\" )","v":""}]
[null,{"$f":" COUNTIF(Mercantil!$H$12:$H$102, \">0\") >= ROW() - 1","v":false},{"$f":" IF($B8, INDIRECT(\"Mercantil!C\" & SMALL(IF( Mercantil!$H$12:$H$102 = \"\", \"\", ROW(Mercantil!$H$12:$H$102)), ROW()-1)), \"\" )","v":""},{"$f":" IF($B8, INDIRECT(\"Mercantil!D\" & SMALL(IF( Mercantil!$H$12:$H$102 = \"\", \"\", ROW(Mercantil!$H$12:$H$102)), ROW()-1)), \"\" )","v":""},{"$f":" IF($B8, INDIRECT(\"Mercantil!H\" & SMALL(IF( Mercantil!$H$12:$H$102 = \"\", \"\", ROW(Mercantil!$H$12:$H$102)), ROW()-1)), \"\" )","v":""},{"$f":" IF( B8, SUM($E$2:E8), \"\" )","v":""}]
[null,{"$f":" COUNTIF(Mercantil!$H$12:$H$102, \">0\") >= ROW() - 1","v":false},{"$f":" IF($B9, INDIRECT(\"Mercantil!C\" & SMALL(IF( Mercantil!$H$12:$H$102 = \"\", \"\", ROW(Mercantil!$H$12:$H$102)), ROW()-1)), \"\" )","v":""},{"$f":" IF($B9, INDIRECT(\"Mercantil!D\" & SMALL(IF( Mercantil!$H$12:$H$102 = \"\", \"\", ROW(Mercantil!$H$12:$H$102)), ROW()-1)), \"\" )","v":""},{"$f":" IF($B9, INDIRECT(\"Mercantil!H\" & SMALL(IF( Mercantil!$H$12:$H$102 = \"\", \"\", ROW(Mercantil!$H$12:$H$102)), ROW()-1)), \"\" )","v":""},{"$f":" IF( B9, SUM($E$2:E9), \"\" )","v":""}]
[null,{"$f":" COUNTIF(Mercantil!$H$12:$H$102, \">0\") >= ROW() - 1","v":false},{"$f":" IF($B10, INDIRECT(\"Mercantil!C\" & SMALL(IF( Mercantil!$H$12:$H$102 = \"\", \"\", ROW(Mercantil!$H$12:$H$102)), ROW()-1)), \"\" )","v":""},{"$f":" IF($B10, INDIRECT(\"Mercantil!D\" & SMALL(IF( Mercantil!$H$12:$H$102 = \"\", \"\", ROW(Mercantil!$H$12:$H$102)), ROW()-1)), \"\" )","v":""},{"$f":" IF($B10, INDIRECT(\"Mercantil!H\" & SMALL(IF( Mercantil!$H$12:$H$102 = \"\", \"\", ROW(Mercantil!$H$12:$H$102)), ROW()-1)), \"\" )","v":""},{"$f":" IF( B10, SUM($E$2:E10), \"\" )","v":""}]
[null,{"$f":" COUNTIF(Mercantil!$H$12:$H$102, \">0\") >= ROW() - 1","v":false},{"$f":" IF($B11, INDIRECT(\"Mercantil!C\" & SMALL(IF( Mercantil!$H$12:$H$102 = \"\", \"\", ROW(Mercantil!$H$12:$H$102)), ROW()-1)), \"\" )","v":""},{"$f":" IF($B11, INDIRECT(\"Mercantil!D\" & SMALL(IF( Mercantil!$H$12:$H$102 = \"\", \"\", ROW(Mercantil!$H$12:$H$102)), ROW()-1)), \"\" )","v":""},{"$f":" IF($B11, INDIRECT(\"Mercantil!H\" & SMALL(IF( Mercantil!$H$12:$H$102 = \"\", \"\", ROW(Mercantil!$H$12:$H$102)), ROW()-1)), \"\" )","v":""},{"$f":" IF( B11, SUM($E$2:E11), \"\" )","v":""}]
[null,{"$f":" COUNTIF(Mercantil!$H$12:$H$102, \">0\") >= ROW() - 1","v":false},{"$f":" IF($B12, INDIRECT(\"Mercantil!C\" & SMALL(IF( Mercantil!$H$12:$H$102 = \"\", \"\", ROW(Mercantil!$H$12:$H$102)), ROW()-1)), \"\" )","v":""},{"$f":" IF($B12, INDIRECT(\"Mercantil!D\" & SMALL(IF( Mercantil!$H$12:$H$102 = \"\", \"\", ROW(Mercantil!$H$12:$H$102)), ROW()-1)), \"\" )","v":""},{"$f":" IF($B12, INDIRECT(\"Mercantil!H\" & SMALL(IF( Mercantil!$H$12:$H$102 = \"\", \"\", ROW(Mercantil!$H$12:$H$102)), ROW()-1)), \"\" )","v":""},{"$f":" IF( B12, SUM($E$2:E12), \"\" )","v":""}]
[null,{"$f":" COUNTIF(Mercantil!$H$12:$H$102, \">0\") >= ROW() - 1","v":false},{"$f":" IF($B13, INDIRECT(\"Mercantil!C\" & SMALL(IF( Mercantil!$H$12:$H$102 = \"\", \"\", ROW(Mercantil!$H$12:$H$102)), ROW()-1)), \"\" )","v":""},{"$f":" IF($B13, INDIRECT(\"Mercantil!D\" & SMALL(IF( Mercantil!$H$12:$H$102 = \"\", \"\", ROW(Mercantil!$H$12:$H$102)), ROW()-1)), \"\" )","v":""},{"$f":" IF($B13, INDIRECT(\"Mercantil!H\" & SMALL(IF( Mercantil!$H$12:$H$102 = \"\", \"\", ROW(Mercantil!$H$12:$H$102)), ROW()-1)), \"\" )","v":""},{"$f":" IF( B13, SUM($E$2:E13), \"\" )","v":""}]
[null,{"$f":" COUNTIF(Mercantil!$H$12:$H$102, \">0\") >= ROW() - 1","v":false},{"$f":" IF($B14, INDIRECT(\"Mercantil!C\" & SMALL(IF( Mercantil!$H$12:$H$102 = \"\", \"\", ROW(Mercantil!$H$12:$H$102)), ROW()-1)), \"\" )","v":""},{"$f":" IF($B14, INDIRECT(\"Mercantil!D\" & SMALL(IF( Mercantil!$H$12:$H$102 = \"\", \"\", ROW(Mercantil!$H$12:$H$102)), ROW()-1)), \"\" )","v":""},{"$f":" IF($B14, INDIRECT(\"Mercantil!H\" & SMALL(IF( Mercantil!$H$12:$H$102 = \"\", \"\", ROW(Mercantil!$H$12:$H$102)), ROW()-1)), \"\" )","v":""},{"$f":" IF( B14, SUM($E$2:E14), \"\" )","v":""}]
[null,{"$f":" COUNTIF(Mercantil!$H$12:$H$102, \">0\") >= ROW() - 1","v":false},{"$f":" IF($B15, INDIRECT(\"Mercantil!C\" & SMALL(IF( Mercantil!$H$12:$H$102 = \"\", \"\", ROW(Mercantil!$H$12:$H$102)), ROW()-1)), \"\" )","v":""},{"$f":" IF($B15, INDIRECT(\"Mercantil!D\" & SMALL(IF( Mercantil!$H$12:$H$102 = \"\", \"\", ROW(Mercantil!$H$12:$H$102)), ROW()-1)), \"\" )","v":""},{"$f":" IF($B15, INDIRECT(\"Mercantil!H\" & SMALL(IF( Mercantil!$H$12:$H$102 = \"\", \"\", ROW(Mercantil!$H$12:$H$102)), ROW()-1)), \"\" )","v":""},{"$f":" IF( B15, SUM($E$2:E15), \"\" )","v":""}]
[null,{"$f":" COUNTIF(Mercantil!$H$12:$H$102, \">0\") >= ROW() - 1","v":false},{"$f":" IF($B16, INDIRECT(\"Mercantil!C\" & SMALL(IF( Mercantil!$H$12:$H$102 = \"\", \"\", ROW(Mercantil!$H$12:$H$102)), ROW()-1)), \"\" )","v":""},{"$f":" IF($B16, INDIRECT(\"Mercantil!D\" & SMALL(IF( Mercantil!$H$12:$H$102 = \"\", \"\", ROW(Mercantil!$H$12:$H$102)), ROW()-1)), \"\" )","v":""},{"$f":" IF($B16, INDIRECT(\"Mercantil!H\" & SMALL(IF( Mercantil!$H$12:$H$102 = \"\", \"\", ROW(Mercantil!$H$12:$H$102)), ROW()-1)), \"\" )","v":""},{"$f":" IF( B16, SUM($E$2:E16), \"\" )","v":""}]
[null,{"$f":" COUNTIF(Mercantil!$H$12:$H$102, \">0\") >= ROW() - 1","v":false},{"$f":" IF($B17, INDIRECT(\"Mercantil!C\" & SMALL(IF( Mercantil!$H$12:$H$102 = \"\", \"\", ROW(Mercantil!$H$12:$H$102)), ROW()-1)), \"\" )","v":""},{"$f":" IF($B17, INDIRECT(\"Mercantil!D\" & SMALL(IF( Mercantil!$H$12:$H$102 = \"\", \"\", ROW(Mercantil!$H$12:$H$102)), ROW()-1)), \"\" )","v":""},{"$f":" IF($B17, INDIRECT(\"Mercantil!H\" & SMALL(IF( Mercantil!$H$12:$H$102 = \"\", \"\", ROW(Mercantil!$H$12:$H$102)), ROW()-1)), \"\" )","v":""},{"$f":" IF( B17, SUM($E$2:E17), \"\" )","v":""}]
[null,{"$f":" COUNTIF(Mercantil!$H$12:$H$102, \">0\") >= ROW() - 1","v":false},{"$f":" IF($B18, INDIRECT(\"Mercantil!C\" & SMALL(IF( Mercantil!$H$12:$H$102 = \"\", \"\", ROW(Mercantil!$H$12:$H$102)), ROW()-1)), \"\" )","v":""},{"$f":" IF($B18, INDIRECT(\"Mercantil!D\" & SMALL(IF( Mercantil!$H$12:$H$102 = \"\", \"\", ROW(Mercantil!$H$12:$H$102)), ROW()-1)), \"\" )","v":""},{"$f":" IF($B18, INDIRECT(\"Mercantil!H\" & SMALL(IF( Mercantil!$H$12:$H$102 = \"\", \"\", ROW(Mercantil!$H$12:$H$102)), ROW()-1)), \"\" )","v":""},{"$f":" IF( B18, SUM($E$2:E18), \"\" )","v":""}]
[null,{"$f":" COUNTIF(Mercantil!$H$12:$H$102, \">0\") >= ROW() - 1","v":false},{"$f":" IF($B19, INDIRECT(\"Mercantil!C\" & SMALL(IF( Mercantil!$H$12:$H$102 = \"\", \"\", ROW(Mercantil!$H$12:$H$102)), ROW()-1)), \"\" )","v":""},{"$f":" IF($B19, INDIRECT(\"Mercantil!D\" & SMALL(IF( Mercantil!$H$12:$H$102 = \"\", \"\", ROW(Mercantil!$H$12:$H$102)), ROW()-1)), \"\" )","v":""},{"$f":" IF($B19, INDIRECT(\"Mercantil!H\" & SMALL(IF( Mercantil!$H$12:$H$102 = \"\", \"\", ROW(Mercantil!$H$12:$H$102)), ROW()-1)), \"\" )","v":""},{"$f":" IF( B19, SUM($E$2:E19), \"\" )","v":""}]
[null,{"$f":" COUNTIF(Mercantil!$H$12:$H$102, \">0\") >= ROW() - 1","v":false},{"$f":" IF($B20, INDIRECT(\"Mercantil!C\" & SMALL(IF( Mercantil!$H$12:$H$102 = \"\", \"\", ROW(Mercantil!$H$12:$H$102)), ROW()-1)), \"\" )","v":""},{"$f":" IF($B20, INDIRECT(\"Mercantil!D\" & SMALL(IF( Mercantil!$H$12:$H$102 = \"\", \"\", ROW(Mercantil!$H$12:$H$102)), ROW()-1)), \"\" )","v":""},{"$f":" IF($B20, INDIRECT(\"Mercantil!H\" & SMALL(IF( Mercantil!$H$12:$H$102 = \"\", \"\", ROW(Mercantil!$H$12:$H$102)), ROW()-1)), \"\" )","v":""},{"$f":" IF( B20, SUM($E$2:E20), \"\" )","v":""}]
[null,{"$f":" COUNTIF(Mercantil!$H$12:$H$102, \">0\") >= ROW() - 1","v":false},{"$f":" IF($B21, INDIRECT(\"Mercantil!C\" & SMALL(IF( Mercantil!$H$12:$H$102 = \"\", \"\", ROW(Mercantil!$H$12:$H$102)), ROW()-1)), \"\" )","v":""},{"$f":" IF($B21, INDIRECT(\"Mercantil!D\" & SMALL(IF( Mercantil!$H$12:$H$102 = \"\", \"\", ROW(Mercantil!$H$12:$H$102)), ROW()-1)), \"\" )","v":""},{"$f":" IF($B21, INDIRECT(\"Mercantil!H\" & SMALL(IF( Mercantil!$H$12:$H$102 = \"\", \"\", ROW(Mercantil!$H$12:$H$102)), ROW()-1)), \"\" )","v":""},{"$f":" IF( B21, SUM($E$2:E21), \"\" )","v":""}]
[null,{"$f":" COUNTIF(Mercantil!$H$12:$H$102, \">0\") >= ROW() - 1","v":false},{"$f":" IF($B22, INDIRECT(\"Mercantil!C\" & SMALL(IF( Mercantil!$H$12:$H$102 = \"\", \"\", ROW(Mercantil!$H$12:$H$102)), ROW()-1)), \"\" )","v":""},{"$f":" IF($B22, INDIRECT(\"Mercantil!D\" & SMALL(IF( Mercantil!$H$12:$H$102 = \"\", \"\", ROW(Mercantil!$H$12:$H$102)), ROW()-1)), \"\" )","v":""},{"$f":" IF($B22, INDIRECT(\"Mercantil!H\" & SMALL(IF( Mercantil!$H$12:$H$102 = \"\", \"\", ROW(Mercantil!$H$12:$H$102)), ROW()-1)), \"\" )","v":""},{"$f":" IF( B22, SUM($E$2:E22), \"\" )","v":""}]
[null,{"$f":" COUNTIF(Mercantil!$H$12:$H$102, \">0\") >= ROW() - 1","v":false},{"$f":" IF($B23, INDIRECT(\"Mercantil!C\" & SMALL(IF( Mercantil!$H$12:$H$102 = \"\", \"\", ROW(Mercantil!$H$12:$H$102)), ROW()-1)), \"\" )","v":""},{"$f":" IF($B23, INDIRECT(\"Mercantil!D\" & SMALL(IF( Mercantil!$H$12:$H$102 = \"\", \"\", ROW(Mercantil!$H$12:$H$102)), ROW()-1)), \"\" )","v":""},{"$f":" IF($B23, INDIRECT(\"Mercantil!H\" & SMALL(IF( Mercantil!$H$12:$H$102 = \"\", \"\", ROW(Mercantil!$H$12:$H$102)), ROW()-1)), \"\" )","v":""},{"$f":" IF( B23, SUM($E$2:E23), \"\" )","v":""}]
[null,{"$f":" COUNTIF(Mercantil!$H$12:$H$102, \">0\") >= ROW() - 1","v":false},{"$f":" IF($B24, INDIRECT(\"Mercantil!C\" & SMALL(IF( Mercantil!$H$12:$H$102 = \"\", \"\", ROW(Mercantil!$H$12:$H$102)), ROW()-1)), \"\" )","v":""},{"$f":" IF($B24, INDIRECT(\"Mercantil!D\" & SMALL(IF( Mercantil!$H$12:$H$102 = \"\", \"\", ROW(Mercantil!$H$12:$H$102)), ROW()-1)), \"\" )","v":""},{"$f":" IF($B24, INDIRECT(\"Mercantil!H\" & SMALL(IF( Mercantil!$H$12:$H$102 = \"\", \"\", ROW(Mercantil!$H$12:$H$102)), ROW()-1)), \"\" )","v":""},{"$f":" IF( B24, SUM($E$2:E24), \"\" )","v":""}]
[null,{"$f":" COUNTIF(Mercantil!$H$12:$H$102, \">0\") >= ROW() - 1","v":false},{"$f":" IF($B25, INDIRECT(\"Mercantil!C\" & SMALL(IF( Mercantil!$H$12:$H$102 = \"\", \"\", ROW(Mercantil!$H$12:$H$102)), ROW()-1)), \"\" )","v":""},{"$f":" IF($B25, INDIRECT(\"Mercantil!D\" & SMALL(IF( Mercantil!$H$12:$H$102 = \"\", \"\", ROW(Mercantil!$H$12:$H$102)), ROW()-1)), \"\" )","v":""},{"$f":" IF($B25, INDIRECT(\"Mercantil!H\" & SMALL(IF( Mercantil!$H$12:$H$102 = \"\", \"\", ROW(Mercantil!$H$12:$H$102)), ROW()-1)), \"\" )","v":""},{"$f":" IF( B25, SUM($E$2:E25), \"\" )","v":""}]
[null,{"$f":" COUNTIF(Mercantil!$H$12:$H$102, \">0\") >= ROW() - 1","v":false},{"$f":" IF($B26, INDIRECT(\"Mercantil!C\" & SMALL(IF( Mercantil!$H$12:$H$102 = \"\", \"\", ROW(Mercantil!$H$12:$H$102)), ROW()-1)), \"\" )","v":""},{"$f":" IF($B26, INDIRECT(\"Mercantil!D\" & SMALL(IF( Mercantil!$H$12:$H$102 = \"\", \"\", ROW(Mercantil!$H$12:$H$102)), ROW()-1)), \"\" )","v":""},{"$f":" IF($B26, INDIRECT(\"Mercantil!H\" & SMALL(IF( Mercantil!$H$12:$H$102 = \"\", \"\", ROW(Mercantil!$H$12:$H$102)), ROW()-1)), \"\" )","v":""},{"$f":" IF( B26, SUM($E$2:E26), \"\" )","v":""}]
[null,{"$f":" COUNTIF(Mercantil!$H$12:$H$102, \">0\") >= ROW() - 1","v":false},{"$f":" IF($B27, INDIRECT(\"Mercantil!C\" & SMALL(IF( Mercantil!$H$12:$H$102 = \"\", \"\", ROW(Mercantil!$H$12:$H$102)), ROW()-1)), \"\" )","v":""},{"$f":" IF($B27, INDIRECT(\"Mercantil!D\" & SMALL(IF( Mercantil!$H$12:$H$102 = \"\", \"\", ROW(Mercantil!$H$12:$H$102)), ROW()-1)), \"\" )","v":""},{"$f":" IF($B27, INDIRECT(\"Mercantil!H\" & SMALL(IF( Mercantil!$H$12:$H$102 = \"\", \"\", ROW(Mercantil!$H$12:$H$102)), ROW()-1)), \"\" )","v":""},{"$f":" IF( B27, SUM($E$2:E27), \"\" )","v":""}]
[null,{"$f":" COUNTIF(Mercantil!$H$12:$H$102, \">0\") >= ROW() - 1","v":false},{"$f":" IF($B28, INDIRECT(\"Mercantil!C\" & SMALL(IF( Mercantil!$H$12:$H$102 = \"\", \"\", ROW(Mercantil!$H$12:$H$102)), ROW()-1)), \"\" )","v":""},{"$f":" IF($B28, INDIRECT(\"Mercantil!D\" & SMALL(IF( Mercantil!$H$12:$H$102 = \"\", \"\", ROW(Mercantil!$H$12:$H$102)), ROW()-1)), \"\" )","v":""},{"$f":" IF($B28, INDIRECT(\"Mercantil!H\" & SMALL(IF( Mercantil!$H$12:$H$102 = \"\", \"\", ROW(Mercantil!$H$12:$H$102)), ROW()-1)), \"\" )","v":""},{"$f":" IF( B28, SUM($E$2:E28), \"\" )","v":""}]
[null,{"$f":" COUNTIF(Mercantil!$H$12:$H$102, \">0\") >= ROW() - 1","v":false},{"$f":" IF($B29, INDIRECT(\"Mercantil!C\" & SMALL(IF( Mercantil!$H$12:$H$102 = \"\", \"\", ROW(Mercantil!$H$12:$H$102)), ROW()-1)), \"\" )","v":""},{"$f":" IF($B29, INDIRECT(\"Mercantil!D\" & SMALL(IF( Mercantil!$H$12:$H$102 = \"\", \"\", ROW(Mercantil!$H$12:$H$102)), ROW()-1)), \"\" )","v":""},{"$f":" IF($B29, INDIRECT(\"Mercantil!H\" & SMALL(IF( Mercantil!$H$12:$H$102 = \"\", \"\", ROW(Mercantil!$H$12:$H$102)), ROW()-1)), \"\" )","v":""},{"$f":" IF( B29, SUM($E$2:E29), \"\" )","v":""}]
[null,{"$f":" COUNTIF(Mercantil!$H$12:$H$102, \">0\") >= ROW() - 1","v":false},{"$f":" IF($B30, INDIRECT(\"Mercantil!C\" & SMALL(IF( Mercantil!$H$12:$H$102 = \"\", \"\", ROW(Mercantil!$H$12:$H$102)), ROW()-1)), \"\" )","v":""},{"$f":" IF($B30, INDIRECT(\"Mercantil!D\" & SMALL(IF( Mercantil!$H$12:$H$102 = \"\", \"\", ROW(Mercantil!$H$12:$H$102)), ROW()-1)), \"\" )","v":""},{"$f":" IF($B30, INDIRECT(\"Mercantil!H\" & SMALL(IF( Mercantil!$H$12:$H$102 = \"\", \"\", ROW(Mercantil!$H$12:$H$102)), ROW()-1)), \"\" )","v":""},{"$f":" IF( B30, SUM($E$2:E30), \"\" )","v":""}]
[null,{"$f":" COUNTIF(Mercantil!$H$12:$H$102, \">0\") >= ROW() - 1","v":false},{"$f":" IF($B31, INDIRECT(\"Mercantil!C\" & SMALL(IF( Mercantil!$H$12:$H$102 = \"\", \"\", ROW(Mercantil!$H$12:$H$102)), ROW()-1)), \"\" )","v":""},{"$f":" IF($B31, INDIRECT(\"Mercantil!D\" & SMALL(IF( Mercantil!$H$12:$H$102 = \"\", \"\", ROW(Mercantil!$H$12:$H$102)), ROW()-1)), \"\" )","v":""},{"$f":" IF($B31, INDIRECT(\"Mercantil!H\" & SMALL(IF( Mercantil!$H$12:$H$102 = \"\", \"\", ROW(Mercantil!$H$12:$H$102)), ROW()-1)), \"\" )","v":""},{"$f":" IF( B31, SUM($E$2:E31), \"\" )","v":""}]
[null,{"$f":" COUNTIF(Mercantil!$H$12:$H$102, \">0\") >= ROW() - 1","v":false},{"$f":" IF($B32, INDIRECT(\"Mercantil!C\" & SMALL(IF( Mercantil!$H$12:$H$102 = \"\", \"\", ROW(Mercantil!$H$12:$H$102)), ROW()-1)), \"\" )","v":""},{"$f":" IF($B32, INDIRECT(\"Mercantil!D\" & SMALL(IF( Mercantil!$H$12:$H$102 = \"\", \"\", ROW(Mercantil!$H$12:$H$102)), ROW()-1)), \"\" )","v":""},{"$f":" IF($B32, INDIRECT(\"Mercantil!H\" & SMALL(IF( Mercantil!$H$12:$H$102 = \"\", \"\", ROW(Mercantil!$H$12:$H$102)), ROW()-1)), \"\" )","v":""},{"$f":" IF( B32, SUM($E$2:E32), \"\" )","v":""}]
[null,{"$f":" COUNTIF(Mercantil!$H$12:$H$102, \">0\") >= ROW() - 1","v":false},{"$f":" IF($B33, INDIRECT(\"Mercantil!C\" & SMALL(IF( Mercantil!$H$12:$H$102 = \"\", \"\", ROW(Mercantil!$H$12:$H$102)), ROW()-1)), \"\" )","v":""},{"$f":" IF($B33, INDIRECT(\"Mercantil!D\" & SMALL(IF( Mercantil!$H$12:$H$102 = \"\", \"\", ROW(Mercantil!$H$12:$H$102)), ROW()-1)), \"\" )","v":""},{"$f":" IF($B33, INDIRECT(\"Mercantil!H\" & SMALL(IF( Mercantil!$H$12:$H$102 = \"\", \"\", ROW(Mercantil!$H$12:$H$102)), ROW()-1)), \"\" )","v":""},{"$f":" IF( B33, SUM($E$2:E33), \"\" )","v":""}]
[null,{"$f":" COUNTIF(Mercantil!$H$12:$H$102, \">0\") >= ROW() - 1","v":false},{"$f":" IF($B34, INDIRECT(\"Mercantil!C\" & SMALL(IF( Mercantil!$H$12:$H$102 = \"\", \"\", ROW(Mercantil!$H$12:$H$102)), ROW()-1)), \"\" )","v":""},{"$f":" IF($B34, INDIRECT(\"Mercantil!D\" & SMALL(IF( Mercantil!$H$12:$H$102 = \"\", \"\", ROW(Mercantil!$H$12:$H$102)), ROW()-1)), \"\" )","v":""},{"$f":" IF($B34, INDIRECT(\"Mercantil!H\" & SMALL(IF( Mercantil!$H$12:$H$102 = \"\", \"\", ROW(Mercantil!$H$12:$H$102)), ROW()-1)), \"\" )","v":""},{"$f":" IF( B34, SUM($E$2:E34), \"\" )","v":""}]
[null,{"$f":" COUNTIF(Mercantil!$H$12:$H$102, \">0\") >= ROW() - 1","v":false},{"$f":" IF($B35, INDIRECT(\"Mercantil!C\" & SMALL(IF( Mercantil!$H$12:$H$102 = \"\", \"\", ROW(Mercantil!$H$12:$H$102)), ROW()-1)), \"\" )","v":""},{"$f":" IF($B35, INDIRECT(\"Mercantil!D\" & SMALL(IF( Mercantil!$H$12:$H$102 = \"\", \"\", ROW(Mercantil!$H$12:$H$102)), ROW()-1)), \"\" )","v":""},{"$f":" IF($B35, INDIRECT(\"Mercantil!H\" & SMALL(IF( Mercantil!$H$12:$H$102 = \"\", \"\", ROW(Mercantil!$H$12:$H$102)), ROW()-1)), \"\" )","v":""},{"$f":" IF( B35, SUM($E$2:E35), \"\" )","v":""}]
[null,{"$f":" COUNTIF(Mercantil!$H$12:$H$102, \">0\") >= ROW() - 1","v":false},{"$f":" IF($B36, INDIRECT(\"Mercantil!C\" & SMALL(IF( Mercantil!$H$12:$H$102 = \"\", \"\", ROW(Mercantil!$H$12:$H$102)), ROW()-1)), \"\" )","v":""},{"$f":" IF($B36, INDIRECT(\"Mercantil!D\" & SMALL(IF( Mercantil!$H$12:$H$102 = \"\", \"\", ROW(Mercantil!$H$12:$H$102)), ROW()-1)), \"\" )","v":""},{"$f":" IF($B36, INDIRECT(\"Mercantil!H\" & SMALL(IF( Mercantil!$H$12:$H$102 = \"\", \"\", ROW(Mercantil!$H$12:$H$102)), ROW()-1)), \"\" )","v":""},{"$f":" IF( B36, SUM($E$2:E36), \"\" )","v":""}]
[null,{"$f":" COUNTIF(Mercantil!$H$12:$H$102, \">0\") >= ROW() - 1","v":false},{"$f":" IF($B37, INDIRECT(\"Mercantil!C\" & SMALL(IF( Mercantil!$H$12:$H$102 = \"\", \"\", ROW(Mercantil!$H$12:$H$102)), ROW()-1)), \"\" )","v":""},{"$f":" IF($B37, INDIRECT(\"Mercantil!D\" & SMALL(IF( Mercantil!$H$12:$H$102 = \"\", \"\", ROW(Mercantil!$H$12:$H$102)), ROW()-1)), \"\" )","v":""},{"$f":" IF($B37, INDIRECT(\"Mercantil!H\" & SMALL(IF( Mercantil!$H$12:$H$102 = \"\", \"\", ROW(Mercantil!$H$12:$H$102)), ROW()-1)), \"\" )","v":""},{"$f":" IF( B37, SUM($E$2:E37), \"\" )","v":""}]
[null,{"$f":" COUNTIF(Mercantil!$H$12:$H$102, \">0\") >= ROW() - 1","v":false},{"$f":" IF($B38, INDIRECT(\"Mercantil!C\" & SMALL(IF( Mercantil!$H$12:$H$102 = \"\", \"\", ROW(Mercantil!$H$12:$H$102)), ROW()-1)), \"\" )","v":""},{"$f":" IF($B38, INDIRECT(\"Mercantil!D\" & SMALL(IF( Mercantil!$H$12:$H$102 = \"\", \"\", ROW(Mercantil!$H$12:$H$102)), ROW()-1)), \"\" )","v":""},{"$f":" IF($B38, INDIRECT(\"Mercantil!H\" & SMALL(IF( Mercantil!$H$12:$H$102 = \"\", \"\", ROW(Mercantil!$H$12:$H$102)), ROW()-1)), \"\" )","v":""},{"$f":" IF( B38, SUM($E$2:E38), \"\" )","v":""}]
[null,{"$f":" COUNTIF(Mercantil!$H$12:$H$102, \">0\") >= ROW() - 1","v":false},{"$f":" IF($B39, INDIRECT(\"Mercantil!C\" & SMALL(IF( Mercantil!$H$12:$H$102 = \"\", \"\", ROW(Mercantil!$H$12:$H$102)), ROW()-1)), \"\" )","v":""},{"$f":" IF($B39, INDIRECT(\"Mercantil!D\" & SMALL(IF( Mercantil!$H$12:$H$102 = \"\", \"\", ROW(Mercantil!$H$12:$H$102)), ROW()-1)), \"\" )","v":""},{"$f":" IF($B39, INDIRECT(\"Mercantil!H\" & SMALL(IF( Mercantil!$H$12:$H$102 = \"\", \"\", ROW(Mercantil!$H$12:$H$102)), ROW()-1)), \"\" )","v":""},{"$f":" IF( B39, SUM($E$2:E39), \"\" )","v":""}]
[null,{"$f":" COUNTIF(Mercantil!$H$12:$H$102, \">0\") >= ROW() - 1","v":false},{"$f":" IF($B40, INDIRECT(\"Mercantil!C\" & SMALL(IF( Mercantil!$H$12:$H$102 = \"\", \"\", ROW(Mercantil!$H$12:$H$102)), ROW()-1)), \"\" )","v":""},{"$f":" IF($B40, INDIRECT(\"Mercantil!D\" & SMALL(IF( Mercantil!$H$12:$H$102 = \"\", \"\", ROW(Mercantil!$H$12:$H$102)), ROW()-1)), \"\" )","v":""},{"$f":" IF($B40, INDIRECT(\"Mercantil!H\" & SMALL(IF( Mercantil!$H$12:$H$102 = \"\", \"\", ROW(Mercantil!$H$12:$H$102)), ROW()-1)), \"\" )","v":""},{"$f":" IF( B40, SUM($E$2:E40), \"\" )","v":""}]
[null,{"$f":" COUNTIF(Mercantil!$H$12:$H$102, \">0\") >= ROW() - 1","v":false},{"$f":" IF($B41, INDIRECT(\"Mercantil!C\" & SMALL(IF( Mercantil!$H$12:$H$102 = \"\", \"\", ROW(Mercantil!$H$12:$H$102)), ROW()-1)), \"\" )","v":""},{"$f":" IF($B41, INDIRECT(\"Mercantil!D\" & SMALL(IF( Mercantil!$H$12:$H$102 = \"\", \"\", ROW(Mercantil!$H$12:$H$102)), ROW()-1)), \"\" )","v":""},{"$f":" IF($B41, INDIRECT(\"Mercantil!H\" & SMALL(IF( Mercantil!$H$12:$H$102 = \"\", \"\", ROW(Mercantil!$H$12:$H$102)), ROW()-1)), \"\" )","v":""},{"$f":" IF( B41, SUM($E$2:E41), \"\" )","v":""}]
[null,{"$f":" COUNTIF(Mercantil!$H$12:$H$102, \">0\") >= ROW() - 1","v":false},{"$f":" IF($B42, INDIRECT(\"Mercantil!C\" & SMALL(IF( Mercantil!$H$12:$H$102 = \"\", \"\", ROW(Mercantil!$H$12:$H$102)), ROW()-1)), \"\" )","v":""},{"$f":" IF($B42, INDIRECT(\"Mercantil!D\" & SMALL(IF( Mercantil!$H$12:$H$102 = \"\", \"\", ROW(Mercantil!$H$12:$H$102)), ROW()-1)), \"\" )","v":""},{"$f":" IF($B42, INDIRECT(\"Mercantil!H\" & SMALL(IF( Mercantil!$H$12:$H$102 = \"\", \"\", ROW(Mercantil!$H$12:$H$102)), ROW()-1)), \"\" )","v":""},{"$f":" IF( B42, SUM($E$2:E42), \"\" )","v":""}]
[null,{"$f":" COUNTIF(Mercantil!$H$12:$H$102, \">0\") >= ROW() - 1","v":false},{"$f":" IF($B43, INDIRECT(\"Mercantil!C\" & SMALL(IF( Mercantil!$H$12:$H$102 = \"\", \"\", ROW(Mercantil!$H$12:$H$102)), ROW()-1)), \"\" )","v":""},{"$f":" IF($B43, INDIRECT(\"Mercantil!D\" & SMALL(IF( Mercantil!$H$12:$H$102 = \"\", \"\", ROW(Mercantil!$H$12:$H$102)), ROW()-1)), \"\" )","v":""},{"$f":" IF($B43, INDIRECT(\"Mercantil!H\" & SMALL(IF( Mercantil!$H$12:$H$102 = \"\", \"\", ROW(Mercantil!$H$12:$H$102)), ROW()-1)), \"\" )","v":""},{"$f":" IF( B43, SUM($E$2:E43), \"\" )","v":""}]
[null,{"$f":" COUNTIF(Mercantil!$H$12:$H$102, \">0\") >= ROW() - 1","v":false},{"$f":" IF($B44, INDIRECT(\"Mercantil!C\" & SMALL(IF( Mercantil!$H$12:$H$102 = \"\", \"\", ROW(Mercantil!$H$12:$H$102)), ROW()-1)), \"\" )","v":""},{"$f":" IF($B44, INDIRECT(\"Mercantil!D\" & SMALL(IF( Mercantil!$H$12:$H$102 = \"\", \"\", ROW(Mercantil!$H$12:$H$102)), ROW()-1)), \"\" )","v":""},{"$f":" IF($B44, INDIRECT(\"Mercantil!H\" & SMALL(IF( Mercantil!$H$12:$H$102 = \"\", \"\", ROW(Mercantil!$H$12:$H$102)), ROW()-1)), \"\" )","v":""},{"$f":" IF( B44, SUM($E$2:E44), \"\" )","v":""}]
[null,{"$f":" COUNTIF(Mercantil!$H$12:$H$102, \">0\") >= ROW() - 1","v":false},{"$f":" IF($B45, INDIRECT(\"Mercantil!C\" & SMALL(IF( Mercantil!$H$12:$H$102 = \"\", \"\", ROW(Mercantil!$H$12:$H$102)), ROW()-1)), \"\" )","v":""},{"$f":" IF($B45, INDIRECT(\"Mercantil!D\" & SMALL(IF( Mercantil!$H$12:$H$102 = \"\", \"\", ROW(Mercantil!$H$12:$H$102)), ROW()-1)), \"\" )","v":""},{"$f":" IF($B45, INDIRECT(\"Mercantil!H\" & SMALL(IF( Mercantil!$H$12:$H$102 = \"\", \"\", ROW(Mercantil!$H$12:$H$102)), ROW()-1)), \"\" )","v":""},{"$f":" IF( B45, SUM($E$2:E45), \"\" )","v":""}]
[null,{"$f":" COUNTIF(Mercantil!$H$12:$H$102, \">0\") >= ROW() - 1","v":false},{"$f":" IF($B46, INDIRECT(\"Mercantil!C\" & SMALL(IF( Mercantil!$H$12:$H$102 = \"\", \"\", ROW(Mercantil!$H$12:$H$102)), ROW()-1)), \"\" )","v":""},{"$f":" IF($B46, INDIRECT(\"Mercantil!D\" & SMALL(IF( Mercantil!$H$12:$H$102 = \"\", \"\", ROW(Mercantil!$H$12:$H$102)), ROW()-1)), \"\" )","v":""},{"$f":" IF($B46, INDIRECT(\"Mercantil!H\" & SMALL(IF( Mercantil!$H$12:$H$102 = \"\", \"\", ROW(Mercantil!$H$12:$H$102)), ROW()-1)), \"\" )","v":""},{"$f":" IF( B46, SUM($E$2:E46), \"\" )","v":""}]
[null,{"$f":" COUNTIF(Mercantil!$H$12:$H$102, \">0\") >= ROW() - 1","v":false},{"$f":" IF($B47, INDIRECT(\"Mercantil!C\" & SMALL(IF( Mercantil!$H$12:$H$102 = \"\", \"\", ROW(Mercantil!$H$12:$H$102)), ROW()-1)), \"\" )","v":""},{"$f":" IF($B47, INDIRECT(\"Mercantil!D\" & SMALL(IF( Mercantil!$H$12:$H$102 = \"\", \"\", ROW(Mercantil!$H$12:$H$102)), ROW()-1)), \"\" )","v":""},{"$f":" IF($B47, INDIRECT(\"Mercantil!H\" & SMALL(IF( Mercantil!$H$12:$H$102 = \"\", \"\", ROW(Mercantil!$H$12:$H$102)), ROW()-1)), \"\" )","v":""},{"$f":" IF( B47, SUM($E$2:E47), \"\" )","v":""}]
[null,{"$f":" COUNTIF(Mercantil!$H$12:$H$102, \">0\") >= ROW() - 1","v":false},{"$f":" IF($B48, INDIRECT(\"Mercantil!C\" & SMALL(IF( Mercantil!$H$12:$H$102 = \"\", \"\", ROW(Mercantil!$H$12:$H$102)), ROW()-1)), \"\" )","v":""},{"$f":" IF($B48, INDIRECT(\"Mercantil!D\" & SMALL(IF( Mercantil!$H$12:$H$102 = \"\", \"\", ROW(Mercantil!$H$12:$H$102)), ROW()-1)), \"\" )","v":""},{"$f":" IF($B48, INDIRECT(\"Mercantil!H\" & SMALL(IF( Mercantil!$H$12:$H$102 = \"\", \"\", ROW(Mercantil!$H$12:$H$102)), ROW()-1)), \"\" )","v":""},{"$f":" IF( B48, SUM($E$2:E48), \"\" )","v":""}]
[null,{"$f":" COUNTIF(Mercantil!$H$12:$H$102, \">0\") >= ROW() - 1","v":false},{"$f":" IF($B49, INDIRECT(\"Mercantil!C\" & SMALL(IF( Mercantil!$H$12:$H$102 = \"\", \"\", ROW(Mercantil!$H$12:$H$102)), ROW()-1)), \"\" )","v":""},{"$f":" IF($B49, INDIRECT(\"Mercantil!D\" & SMALL(IF( Mercantil!$H$12:$H$102 = \"\", \"\", ROW(Mercantil!$H$12:$H$102)), ROW()-1)), \"\" )","v":""},{"$f":" IF($B49, INDIRECT(\"Mercantil!H\" & SMALL(IF( Mercantil!$H$12:$H$102 = \"\", \"\", ROW(Mercantil!$H$12:$H$102)), ROW()-1)), \"\" )","v":""},{"$f":" IF( B49, SUM($E$2:E49), \"\" )","v":""}]
[null,{"$f":" COUNTIF(Mercantil!$H$12:$H$102, \">0\") >= ROW() - 1","v":false},{"$f":" IF($B50, INDIRECT(\"Mercantil!C\" & SMALL(IF( Mercantil!$H$12:$H$102 = \"\", \"\", ROW(Mercantil!$H$12:$H$102)), ROW()-1)), \"\" )","v":""},{"$f":" IF($B50, INDIRECT(\"Mercantil!D\" & SMALL(IF( Mercantil!$H$12:$H$102 = \"\", \"\", ROW(Mercantil!$H$12:$H$102)), ROW()-1)), \"\" )","v":""},{"$f":" IF($B50, INDIRECT(\"Mercantil!H\" & SMALL(IF( Mercantil!$H$12:$H$102 = \"\", \"\", ROW(Mercantil!$H$12:$H$102)), ROW()-1)), \"\" )","v":""},{"$f":" IF( B50, SUM($E$2:E50), \"\" )","v":""}]
[null,{"$f":" COUNTIF(Mercantil!$H$12:$H$102, \">0\") >= ROW() - 1","v":false},{"$f":" IF($B51, INDIRECT(\"Mercantil!C\" & SMALL(IF( Mercantil!$H$12:$H$102 = \"\", \"\", ROW(Mercantil!$H$12:$H$102)), ROW()-1)), \"\" )","v":""},{"$f":" IF($B51, INDIRECT(\"Mercantil!D\" & SMALL(IF( Mercantil!$H$12:$H$102 = \"\", \"\", ROW(Mercantil!$H$12:$H$102)), ROW()-1)), \"\" )","v":""},{"$f":" IF($B51, INDIRECT(\"Mercantil!H\" & SMALL(IF( Mercantil!$H$12:$H$102 = \"\", \"\", ROW(Mercantil!$H$12:$H$102)), ROW()-1)), \"\" )","v":""},{"$f":" IF( B51, SUM($E$2:E51), \"\" )","v":""}]
[null,{"$f":" COUNTIF(Mercantil!$H$12:$H$102, \">0\") >= ROW() - 1","v":false},{"$f":" IF($B52, INDIRECT(\"Mercantil!C\" & SMALL(IF( Mercantil!$H$12:$H$102 = \"\", \"\", ROW(Mercantil!$H$12:$H$102)), ROW()-1)), \"\" )","v":""},{"$f":" IF($B52, INDIRECT(\"Mercantil!D\" & SMALL(IF( Mercantil!$H$12:$H$102 = \"\", \"\", ROW(Mercantil!$H$12:$H$102)), ROW()-1)), \"\" )","v":""},{"$f":" IF($B52, INDIRECT(\"Mercantil!H\" & SMALL(IF( Mercantil!$H$12:$H$102 = \"\", \"\", ROW(Mercantil!$H$12:$H$102)), ROW()-1)), \"\" )","v":""},{"$f":" IF( B52, SUM($E$2:E52), \"\" )","v":""}]
[null,{"$f":" COUNTIF(Mercantil!$H$12:$H$102, \">0\") >= ROW() - 1","v":false},{"$f":" IF($B53, INDIRECT(\"Mercantil!C\" & SMALL(IF( Mercantil!$H$12:$H$102 = \"\", \"\", ROW(Mercantil!$H$12:$H$102)), ROW()-1)), \"\" )","v":""},{"$f":" IF($B53, INDIRECT(\"Mercantil!D\" & SMALL(IF( Mercantil!$H$12:$H$102 = \"\", \"\", ROW(Mercantil!$H$12:$H$102)), ROW()-1)), \"\" )","v":""},{"$f":" IF($B53, INDIRECT(\"Mercantil!H\" & SMALL(IF( Mercantil!$H$12:$H$102 = \"\", \"\", ROW(Mercantil!$H$12:$H$102)), ROW()-1)), \"\" )","v":""},{"$f":" IF( B53, SUM($E$2:E53), \"\" )","v":""}]
[null,{"$f":" COUNTIF(Mercantil!$H$12:$H$102, \">0\") >= ROW() - 1","v":false},{"$f":" IF($B54, INDIRECT(\"Mercantil!C\" & SMALL(IF( Mercantil!$H$12:$H$102 = \"\", \"\", ROW(Mercantil!$H$12:$H$102)), ROW()-1)), \"\" )","v":""},{"$f":" IF($B54, INDIRECT(\"Mercantil!D\" & SMALL(IF( Mercantil!$H$12:$H$102 = \"\", \"\", ROW(Mercantil!$H$12:$H$102)), ROW()-1)), \"\" )","v":""},{"$f":" IF($B54, INDIRECT(\"Mercantil!H\" & SMALL(IF( Mercantil!$H$12:$H$102 = \"\", \"\", ROW(Mercantil!$H$12:$H$102)), ROW()-1)), \"\" )","v":""},{"$f":" IF( B54, SUM($E$2:E54), \"\" )","v":""}]
[null,{"$f":" COUNTIF(Mercantil!$H$12:$H$102, \">0\") >= ROW() - 1","v":false},{"$f":" IF($B55, INDIRECT(\"Mercantil!C\" & SMALL(IF( Mercantil!$H$12:$H$102 = \"\", \"\", ROW(Mercantil!$H$12:$H$102)), ROW()-1)), \"\" )","v":""},{"$f":" IF($B55, INDIRECT(\"Mercantil!D\" & SMALL(IF( Mercantil!$H$12:$H$102 = \"\", \"\", ROW(Mercantil!$H$12:$H$102)), ROW()-1)), \"\" )","v":""},{"$f":" IF($B55, INDIRECT(\"Mercantil!H\" & SMALL(IF( Mercantil!$H$12:$H$102 = \"\", \"\", ROW(Mercantil!$H$12:$H$102)), ROW()-1)), \"\" )","v":""},{"$f":" IF( B55, SUM($E$2:E55), \"\" )","v":""}]
[null,{"$f":" COUNTIF(Mercantil!$H$12:$H$102, \">0\") >= ROW() - 1","v":false},{"$f":" IF($B56, INDIRECT(\"Mercantil!C\" & SMALL(IF( Mercantil!$H$12:$H$102 = \"\", \"\", ROW(Mercantil!$H$12:$H$102)), ROW()-1)), \"\" )","v":""},{"$f":" IF($B56, INDIRECT(\"Mercantil!D\" & SMALL(IF( Mercantil!$H$12:$H$102 = \"\", \"\", ROW(Mercantil!$H$12:$H$102)), ROW()-1)), \"\" )","v":""},{"$f":" IF($B56, INDIRECT(\"Mercantil!H\" & SMALL(IF( Mercantil!$H$12:$H$102 = \"\", \"\", ROW(Mercantil!$H$12:$H$102)), ROW()-1)), \"\" )","v":""},{"$f":" IF( B56, SUM($E$2:E56), \"\" )","v":""}]
[null,{"$f":" COUNTIF(Mercantil!$H$12:$H$102, \">0\") >= ROW() - 1","v":false},{"$f":" IF($B57, INDIRECT(\"Mercantil!C\" & SMALL(IF( Mercantil!$H$12:$H$102 = \"\", \"\", ROW(Mercantil!$H$12:$H$102)), ROW()-1)), \"\" )","v":""},{"$f":" IF($B57, INDIRECT(\"Mercantil!D\" & SMALL(IF( Mercantil!$H$12:$H$102 = \"\", \"\", ROW(Mercantil!$H$12:$H$102)), ROW()-1)), \"\" )","v":""},{"$f":" IF($B57, INDIRECT(\"Mercantil!H\" & SMALL(IF( Mercantil!$H$12:$H$102 = \"\", \"\", ROW(Mercantil!$H$12:$H$102)), ROW()-1)), \"\" )","v":""},{"$f":" IF( B57, SUM($E$2:E57), \"\" )","v":""}]
[null,{"$f":" COUNTIF(Mercantil!$H$12:$H$102, \">0\") >= ROW() - 1","v":false},{"$f":" IF($B58, INDIRECT(\"Mercantil!C\" & SMALL(IF( Mercantil!$H$12:$H$102 = \"\", \"\", ROW(Mercantil!$H$12:$H$102)), ROW()-1)), \"\" )","v":""},{"$f":" IF($B58, INDIRECT(\"Mercantil!D\" & SMALL(IF( Mercantil!$H$12:$H$102 = \"\", \"\", ROW(Mercantil!$H$12:$H$102)), ROW()-1)), \"\" )","v":""},{"$f":" IF($B58, INDIRECT(\"Mercantil!H\" & SMALL(IF( Mercantil!$H$12:$H$102 = \"\", \"\", ROW(Mercantil!$H$12:$H$102)), ROW()-1)), \"\" )","v":""},{"$f":" IF( B58, SUM($E$2:E58), \"\" )","v":""}]
[null,{"$f":" COUNTIF(Mercantil!$H$12:$H$102, \">0\") >= ROW() - 1","v":false},{"$f":" IF($B59, INDIRECT(\"Mercantil!C\" & SMALL(IF( Mercantil!$H$12:$H$102 = \"\", \"\", ROW(Mercantil!$H$12:$H$102)), ROW()-1)), \"\" )","v":""},{"$f":" IF($B59, INDIRECT(\"Mercantil!D\" & SMALL(IF( Mercantil!$H$12:$H$102 = \"\", \"\", ROW(Mercantil!$H$12:$H$102)), ROW()-1)), \"\" )","v":""},{"$f":" IF($B59, INDIRECT(\"Mercantil!H\" & SMALL(IF( Mercantil!$H$12:$H$102 = \"\", \"\", ROW(Mercantil!$H$12:$H$102)), ROW()-1)), \"\" )","v":""},{"$f":" IF( B59, SUM($E$2:E59), \"\" )","v":""}]
[null,{"$f":" COUNTIF(Mercantil!$H$12:$H$102, \">0\") >= ROW() - 1","v":false},{"$f":" IF($B60, INDIRECT(\"Mercantil!C\" & SMALL(IF( Mercantil!$H$12:$H$102 = \"\", \"\", ROW(Mercantil!$H$12:$H$102)), ROW()-1)), \"\" )","v":""},{"$f":" IF($B60, INDIRECT(\"Mercantil!D\" & SMALL(IF( Mercantil!$H$12:$H$102 = \"\", \"\", ROW(Mercantil!$H$12:$H$102)), ROW()-1)), \"\" )","v":""},{"$f":" IF($B60, INDIRECT(\"Mercantil!H\" & SMALL(IF( Mercantil!$H$12:$H$102 = \"\", \"\", ROW(Mercantil!$H$12:$H$102)), ROW()-1)), \"\" )","v":""},{"$f":" IF( B60, SUM($E$2:E60), \"\" )","v":""}]
[null,{"$f":" COUNTIF(Mercantil!$H$12:$H$102, \">0\") >= ROW() - 1","v":false},{"$f":" IF($B61, INDIRECT(\"Mercantil!C\" & SMALL(IF( Mercantil!$H$12:$H$102 = \"\", \"\", ROW(Mercantil!$H$12:$H$102)), ROW()-1)), \"\" )","v":""},{"$f":" IF($B61, INDIRECT(\"Mercantil!D\" & SMALL(IF( Mercantil!$H$12:$H$102 = \"\", \"\", ROW(Mercantil!$H$12:$H$102)), ROW()-1)), \"\" )","v":""},{"$f":" IF($B61, INDIRECT(\"Mercantil!H\" & SMALL(IF( Mercantil!$H$12:$H$102 = \"\", \"\", ROW(Mercantil!$H$12:$H$102)), ROW()-1)), \"\" )","v":""},{"$f":" IF( B61, SUM($E$2:E61), \"\" )","v":""}]
[null,{"$f":" COUNTIF(Mercantil!$H$12:$H$102, \">0\") >= ROW() - 1","v":false},{"$f":" IF($B62, INDIRECT(\"Mercantil!C\" & SMALL(IF( Mercantil!$H$12:$H$102 = \"\", \"\", ROW(Mercantil!$H$12:$H$102)), ROW()-1)), \"\" )","v":""},{"$f":" IF($B62, INDIRECT(\"Mercantil!D\" & SMALL(IF( Mercantil!$H$12:$H$102 = \"\", \"\", ROW(Mercantil!$H$12:$H$102)), ROW()-1)), \"\" )","v":""},{"$f":" IF($B62, INDIRECT(\"Mercantil!H\" & SMALL(IF( Mercantil!$H$12:$H$102 = \"\", \"\", ROW(Mercantil!$H$12:$H$102)), ROW()-1)), \"\" )","v":""},{"$f":" IF( B62, SUM($E$2:E62), \"\" )","v":""}]
[null,{"$f":" COUNTIF(Mercantil!$H$12:$H$102, \">0\") >= ROW() - 1","v":false},{"$f":" IF($B63, INDIRECT(\"Mercantil!C\" & SMALL(IF( Mercantil!$H$12:$H$102 = \"\", \"\", ROW(Mercantil!$H$12:$H$102)), ROW()-1)), \"\" )","v":""},{"$f":" IF($B63, INDIRECT(\"Mercantil!D\" & SMALL(IF( Mercantil!$H$12:$H$102 = \"\", \"\", ROW(Mercantil!$H$12:$H$102)), ROW()-1)), \"\" )","v":""},{"$f":" IF($B63, INDIRECT(\"Mercantil!H\" & SMALL(IF( Mercantil!$H$12:$H$102 = \"\", \"\", ROW(Mercantil!$H$12:$H$102)), ROW()-1)), \"\" )","v":""},{"$f":" IF( B63, SUM($E$2:E63), \"\" )","v":""}]
[null,{"$f":" COUNTIF(Mercantil!$H$12:$H$102, \">0\") >= ROW() - 1","v":false},{"$f":" IF($B64, INDIRECT(\"Mercantil!C\" & SMALL(IF( Mercantil!$H$12:$H$102 = \"\", \"\", ROW(Mercantil!$H$12:$H$102)), ROW()-1)), \"\" )","v":""},{"$f":" IF($B64, INDIRECT(\"Mercantil!D\" & SMALL(IF( Mercantil!$H$12:$H$102 = \"\", \"\", ROW(Mercantil!$H$12:$H$102)), ROW()-1)), \"\" )","v":""},{"$f":" IF($B64, INDIRECT(\"Mercantil!H\" & SMALL(IF( Mercantil!$H$12:$H$102 = \"\", \"\", ROW(Mercantil!$H$12:$H$102)), ROW()-1)), \"\" )","v":""},{"$f":" IF( B64, SUM($E$2:E64), \"\" )","v":""}]
[null,{"$f":" COUNTIF(Mercantil!$H$12:$H$102, \">0\") >= ROW() - 1","v":false},{"$f":" IF($B65, INDIRECT(\"Mercantil!C\" & SMALL(IF( Mercantil!$H$12:$H$102 = \"\", \"\", ROW(Mercantil!$H$12:$H$102)), ROW()-1)), \"\" )","v":""},{"$f":" IF($B65, INDIRECT(\"Mercantil!D\" & SMALL(IF( Mercantil!$H$12:$H$102 = \"\", \"\", ROW(Mercantil!$H$12:$H$102)), ROW()-1)), \"\" )","v":""},{"$f":" IF($B65, INDIRECT(\"Mercantil!H\" & SMALL(IF( Mercantil!$H$12:$H$102 = \"\", \"\", ROW(Mercantil!$H$12:$H$102)), ROW()-1)), \"\" )","v":""},{"$f":" IF( B65, SUM($E$2:E65), \"\" )","v":""}]
[null,{"$f":" COUNTIF(Mercantil!$H$12:$H$102, \">0\") >= ROW() - 1","v":false},{"$f":" IF($B66, INDIRECT(\"Mercantil!C\" & SMALL(IF( Mercantil!$H$12:$H$102 = \"\", \"\", ROW(Mercantil!$H$12:$H$102)), ROW()-1)), \"\" )","v":""},{"$f":" IF($B66, INDIRECT(\"Mercantil!D\" & SMALL(IF( Mercantil!$H$12:$H$102 = \"\", \"\", ROW(Mercantil!$H$12:$H$102)), ROW()-1)), \"\" )","v":""},{"$f":" IF($B66, INDIRECT(\"Mercantil!H\" & SMALL(IF( Mercantil!$H$12:$H$102 = \"\", \"\", ROW(Mercantil!$H$12:$H$102)), ROW()-1)), \"\" )","v":""},{"$f":" IF( B66, SUM($E$2:E66), \"\" )","v":""}]
[null,{"$f":" COUNTIF(Mercantil!$H$12:$H$102, \">0\") >= ROW() - 1","v":false},{"$f":" IF($B67, INDIRECT(\"Mercantil!C\" & SMALL(IF( Mercantil!$H$12:$H$102 = \"\", \"\", ROW(Mercantil!$H$12:$H$102)), ROW()-1)), \"\" )","v":""},{"$f":" IF($B67, INDIRECT(\"Mercantil!D\" & SMALL(IF( Mercantil!$H$12:$H$102 = \"\", \"\", ROW(Mercantil!$H$12:$H$102)), ROW()-1)), \"\" )","v":""},{"$f":" IF($B67, INDIRECT(\"Mercantil!H\" & SMALL(IF( Mercantil!$H$12:$H$102 = \"\", \"\", ROW(Mercantil!$H$12:$H$102)), ROW()-1)), \"\" )","v":""},{"$f":" IF( B67, SUM($E$2:E67), \"\" )","v":""}]
[null,{"$f":" COUNTIF(Mercantil!$H$12:$H$102, \">0\") >= ROW() - 1","v":false},{"$f":" IF($B68, INDIRECT(\"Mercantil!C\" & SMALL(IF( Mercantil!$H$12:$H$102 = \"\", \"\", ROW(Mercantil!$H$12:$H$102)), ROW()-1)), \"\" )","v":""},{"$f":" IF($B68, INDIRECT(\"Mercantil!D\" & SMALL(IF( Mercantil!$H$12:$H$102 = \"\", \"\", ROW(Mercantil!$H$12:$H$102)), ROW()-1)), \"\" )","v":""},{"$f":" IF($B68, INDIRECT(\"Mercantil!H\" & SMALL(IF( Mercantil!$H$12:$H$102 = \"\", \"\", ROW(Mercantil!$H$12:$H$102)), ROW()-1)), \"\" )","v":""},{"$f":" IF( B68, SUM($E$2:E68), \"\" )","v":""}]
[null,{"$f":" COUNTIF(Mercantil!$H$12:$H$102, \">0\") >= ROW() - 1","v":false},{"$f":" IF($B69, INDIRECT(\"Mercantil!C\" & SMALL(IF( Mercantil!$H$12:$H$102 = \"\", \"\", ROW(Mercantil!$H$12:$H$102)), ROW()-1)), \"\" )","v":""},{"$f":" IF($B69, INDIRECT(\"Mercantil!D\" & SMALL(IF( Mercantil!$H$12:$H$102 = \"\", \"\", ROW(Mercantil!$H$12:$H$102)), ROW()-1)), \"\" )","v":""},{"$f":" IF($B69, INDIRECT(\"Mercantil!H\" & SMALL(IF( Mercantil!$H$12:$H$102 = \"\", \"\", ROW(Mercantil!$H$12:$H$102)), ROW()-1)), \"\" )","v":""},{"$f":" IF( B69, SUM($E$2:E69), \"\" )","v":""}]
[null,{"$f":" COUNTIF(Mercantil!$H$12:$H$102, \">0\") >= ROW() - 1","v":false},{"$f":" IF($B70, INDIRECT(\"Mercantil!C\" & SMALL(IF( Mercantil!$H$12:$H$102 = \"\", \"\", ROW(Mercantil!$H$12:$H$102)), ROW()-1)), \"\" )","v":""},{"$f":" IF($B70, INDIRECT(\"Mercantil!D\" & SMALL(IF( Mercantil!$H$12:$H$102 = \"\", \"\", ROW(Mercantil!$H$12:$H$102)), ROW()-1)), \"\" )","v":""},{"$f":" IF($B70, INDIRECT(\"Mercantil!H\" & SMALL(IF( Mercantil!$H$12:$H$102 = \"\", \"\", ROW(Mercantil!$H$12:$H$102)), ROW()-1)), \"\" )","v":""},{"$f":" IF( B70, SUM($E$2:E70), \"\" )","v":""}]
[null,{"$f":" COUNTIF(Mercantil!$H$12:$H$102, \">0\") >= ROW() - 1","v":false},{"$f":" IF($B71, INDIRECT(\"Mercantil!C\" & SMALL(IF( Mercantil!$H$12:$H$102 = \"\", \"\", ROW(Mercantil!$H$12:$H$102)), ROW()-1)), \"\" )","v":""},{"$f":" IF($B71, INDIRECT(\"Mercantil!D\" & SMALL(IF( Mercantil!$H$12:$H$102 = \"\", \"\", ROW(Mercantil!$H$12:$H$102)), ROW()-1)), \"\" )","v":""},{"$f":" IF($B71, INDIRECT(\"Mercantil!H\" & SMALL(IF( Mercantil!$H$12:$H$102 = \"\", \"\", ROW(Mercantil!$H$12:$H$102)), ROW()-1)), \"\" )","v":""},{"$f":" IF( B71, SUM($E$2:E71), \"\" )","v":""}]
[null,{"$f":" COUNTIF(Mercantil!$H$12:$H$102, \">0\") >= ROW() - 1","v":false},{"$f":" IF($B72, INDIRECT(\"Mercantil!C\" & SMALL(IF( Mercantil!$H$12:$H$102 = \"\", \"\", ROW(Mercantil!$H$12:$H$102)), ROW()-1)), \"\" )","v":""},{"$f":" IF($B72, INDIRECT(\"Mercantil!D\" & SMALL(IF( Mercantil!$H$12:$H$102 = \"\", \"\", ROW(Mercantil!$H$12:$H$102)), ROW()-1)), \"\" )","v":""},{"$f":" IF($B72, INDIRECT(\"Mercantil!H\" & SMALL(IF( Mercantil!$H$12:$H$102 = \"\", \"\", ROW(Mercantil!$H$12:$H$102)), ROW()-1)), \"\" )","v":""},{"$f":" IF( B72, SUM($E$2:E72), \"\" )","v":""}]
[null,{"$f":" COUNTIF(Mercantil!$H$12:$H$102, \">0\") >= ROW() - 1","v":false},{"$f":" IF($B73, INDIRECT(\"Mercantil!C\" & SMALL(IF( Mercantil!$H$12:$H$102 = \"\", \"\", ROW(Mercantil!$H$12:$H$102)), ROW()-1)), \"\" )","v":""},{"$f":" IF($B73, INDIRECT(\"Mercantil!D\" & SMALL(IF( Mercantil!$H$12:$H$102 = \"\", \"\", ROW(Mercantil!$H$12:$H$102)), ROW()-1)), \"\" )","v":""},{"$f":" IF($B73, INDIRECT(\"Mercantil!H\" & SMALL(IF( Mercantil!$H$12:$H$102 = \"\", \"\", ROW(Mercantil!$H$12:$H$102)), ROW()-1)), \"\" )","v":""},{"$f":" IF( B73, SUM($E$2:E73), \"\" )","v":""}]
[null,{"$f":" COUNTIF(Mercantil!$H$12:$H$102, \">0\") >= ROW() - 1","v":false},{"$f":" IF($B74, INDIRECT(\"Mercantil!C\" & SMALL(IF( Mercantil!$H$12:$H$102 = \"\", \"\", ROW(Mercantil!$H$12:$H$102)), ROW()-1)), \"\" )","v":""},{"$f":" IF($B74, INDIRECT(\"Mercantil!D\" & SMALL(IF( Mercantil!$H$12:$H$102 = \"\", \"\", ROW(Mercantil!$H$12:$H$102)), ROW()-1)), \"\" )","v":""},{"$f":" IF($B74, INDIRECT(\"Mercantil!H\" & SMALL(IF( Mercantil!$H$12:$H$102 = \"\", \"\", ROW(Mercantil!$H$12:$H$102)), ROW()-1)), \"\" )","v":""},{"$f":" IF( B74, SUM($E$2:E74), \"\" )","v":""}]
[null,{"$f":" COUNTIF(Mercantil!$H$12:$H$102, \">0\") >= ROW() - 1","v":false},{"$f":" IF($B75, INDIRECT(\"Mercantil!C\" & SMALL(IF( Mercantil!$H$12:$H$102 = \"\", \"\", ROW(Mercantil!$H$12:$H$102)), ROW()-1)), \"\" )","v":""},{"$f":" IF($B75, INDIRECT(\"Mercantil!D\" & SMALL(IF( Mercantil!$H$12:$H$102 = \"\", \"\", ROW(Mercantil!$H$12:$H$102)), ROW()-1)), \"\" )","v":""},{"$f":" IF($B75, INDIRECT(\"Mercantil!H\" & SMALL(IF( Mercantil!$H$12:$H$102 = \"\", \"\", ROW(Mercantil!$H$12:$H$102)), ROW()-1)), \"\" )","v":""},{"$f":" IF( B75, SUM($E$2:E75), \"\" )","v":""}]
[null,{"$f":" COUNTIF(Mercantil!$H$12:$H$102, \">0\") >= ROW() - 1","v":false},{"$f":" IF($B76, INDIRECT(\"Mercantil!C\" & SMALL(IF( Mercantil!$H$12:$H$102 = \"\", \"\", ROW(Mercantil!$H$12:$H$102)), ROW()-1)), \"\" )","v":""},{"$f":" IF($B76, INDIRECT(\"Mercantil!D\" & SMALL(IF( Mercantil!$H$12:$H$102 = \"\", \"\", ROW(Mercantil!$H$12:$H$102)), ROW()-1)), \"\" )","v":""},{"$f":" IF($B76, INDIRECT(\"Mercantil!H\" & SMALL(IF( Mercantil!$H$12:$H$102 = \"\", \"\", ROW(Mercantil!$H$12:$H$102)), ROW()-1)), \"\" )","v":""},{"$f":" IF( B76, SUM($E$2:E76), \"\" )","v":""}]
[null,{"$f":" COUNTIF(Mercantil!$H$12:$H$102, \">0\") >= ROW() - 1","v":false},{"$f":" IF($B77, INDIRECT(\"Mercantil!C\" & SMALL(IF( Mercantil!$H$12:$H$102 = \"\", \"\", ROW(Mercantil!$H$12:$H$102)), ROW()-1)), \"\" )","v":""},{"$f":" IF($B77, INDIRECT(\"Mercantil!D\" & SMALL(IF( Mercantil!$H$12:$H$102 = \"\", \"\", ROW(Mercantil!$H$12:$H$102)), ROW()-1)), \"\" )","v":""},{"$f":" IF($B77, INDIRECT(\"Mercantil!H\" & SMALL(IF( Mercantil!$H$12:$H$102 = \"\", \"\", ROW(Mercantil!$H$12:$H$102)), ROW()-1)), \"\" )","v":""},{"$f":" IF( B77, SUM($E$2:E77), \"\" )","v":""}]
[null,{"$f":" COUNTIF(Mercantil!$H$12:$H$102, \">0\") >= ROW() - 1","v":false},{"$f":" IF($B78, INDIRECT(\"Mercantil!C\" & SMALL(IF( Mercantil!$H$12:$H$102 = \"\", \"\", ROW(Mercantil!$H$12:$H$102)), ROW()-1)), \"\" )","v":""},{"$f":" IF($B78, INDIRECT(\"Mercantil!D\" & SMALL(IF( Mercantil!$H$12:$H$102 = \"\", \"\", ROW(Mercantil!$H$12:$H$102)), ROW()-1)), \"\" )","v":""},{"$f":" IF($B78, INDIRECT(\"Mercantil!H\" & SMALL(IF( Mercantil!$H$12:$H$102 = \"\", \"\", ROW(Mercantil!$H$12:$H$102)), ROW()-1)), \"\" )","v":""},{"$f":" IF( B78, SUM($E$2:E78), \"\" )","v":""}]
[null,{"$f":" COUNTIF(Mercantil!$H$12:$H$102, \">0\") >= ROW() - 1","v":false},{"$f":" IF($B79, INDIRECT(\"Mercantil!C\" & SMALL(IF( Mercantil!$H$12:$H$102 = \"\", \"\", ROW(Mercantil!$H$12:$H$102)), ROW()-1)), \"\" )","v":""},{"$f":" IF($B79, INDIRECT(\"Mercantil!D\" & SMALL(IF( Mercantil!$H$12:$H$102 = \"\", \"\", ROW(Mercantil!$H$12:$H$102)), ROW()-1)), \"\" )","v":""},{"$f":" IF($B79, INDIRECT(\"Mercantil!H\" & SMALL(IF( Mercantil!$H$12:$H$102 = \"\", \"\", ROW(Mercantil!$H$12:$H$102)), ROW()-1)), \"\" )","v":""},{"$f":" IF( B79, SUM($E$2:E79), \"\" )","v":""}]
[null,{"$f":" COUNTIF(Mercantil!$H$12:$H$102, \">0\") >= ROW() - 1","v":false},{"$f":" IF($B80, INDIRECT(\"Mercantil!C\" & SMALL(IF( Mercantil!$H$12:$H$102 = \"\", \"\", ROW(Mercantil!$H$12:$H$102)), ROW()-1)), \"\" )","v":""},{"$f":" IF($B80, INDIRECT(\"Mercantil!D\" & SMALL(IF( Mercantil!$H$12:$H$102 = \"\", \"\", ROW(Mercantil!$H$12:$H$102)), ROW()-1)), \"\" )","v":""},{"$f":" IF($B80, INDIRECT(\"Mercantil!H\" & SMALL(IF( Mercantil!$H$12:$H$102 = \"\", \"\", ROW(Mercantil!$H$12:$H$102)), ROW()-1)), \"\" )","v":""},{"$f":" IF( B80, SUM($E$2:E80), \"\" )","v":""}]
[null,{"$f":" COUNTIF(Mercantil!$H$12:$H$102, \">0\") >= ROW() - 1","v":false},{"$f":" IF($B81, INDIRECT(\"Mercantil!C\" & SMALL(IF( Mercantil!$H$12:$H$102 = \"\", \"\", ROW(Mercantil!$H$12:$H$102)), ROW()-1)), \"\" )","v":""},{"$f":" IF($B81, INDIRECT(\"Mercantil!D\" & SMALL(IF( Mercantil!$H$12:$H$102 = \"\", \"\", ROW(Mercantil!$H$12:$H$102)), ROW()-1)), \"\" )","v":""},{"$f":" IF($B81, INDIRECT(\"Mercantil!H\" & SMALL(IF( Mercantil!$H$12:$H$102 = \"\", \"\", ROW(Mercantil!$H$12:$H$102)), ROW()-1)), \"\" )","v":""},{"$f":" IF( B81, SUM($E$2:E81), \"\" )","v":""}]
[null,{"$f":" COUNTIF(Mercantil!$H$12:$H$102, \">0\") >= ROW() - 1","v":false},{"$f":" IF($B82, INDIRECT(\"Mercantil!C\" & SMALL(IF( Mercantil!$H$12:$H$102 = \"\", \"\", ROW(Mercantil!$H$12:$H$102)), ROW()-1)), \"\" )","v":""},{"$f":" IF($B82, INDIRECT(\"Mercantil!D\" & SMALL(IF( Mercantil!$H$12:$H$102 = \"\", \"\", ROW(Mercantil!$H$12:$H$102)), ROW()-1)), \"\" )","v":""},{"$f":" IF($B82, INDIRECT(\"Mercantil!H\" & SMALL(IF( Mercantil!$H$12:$H$102 = \"\", \"\", ROW(Mercantil!$H$12:$H$102)), ROW()-1)), \"\" )","v":""},{"$f":" IF( B82, SUM($E$2:E82), \"\" )","v":""}]
[null,{"$f":" COUNTIF(Mercantil!$H$12:$H$102, \">0\") >= ROW() - 1","v":false},{"$f":" IF($B83, INDIRECT(\"Mercantil!C\" & SMALL(IF( Mercantil!$H$12:$H$102 = \"\", \"\", ROW(Mercantil!$H$12:$H$102)), ROW()-1)), \"\" )","v":""},{"$f":" IF($B83, INDIRECT(\"Mercantil!D\" & SMALL(IF( Mercantil!$H$12:$H$102 = \"\", \"\", ROW(Mercantil!$H$12:$H$102)), ROW()-1)), \"\" )","v":""},{"$f":" IF($B83, INDIRECT(\"Mercantil!H\" & SMALL(IF( Mercantil!$H$12:$H$102 = \"\", \"\", ROW(Mercantil!$H$12:$H$102)), ROW()-1)), \"\" )","v":""},{"$f":" IF( B83, SUM($E$2:E83), \"\" )","v":""}]
[null,{"$f":" COUNTIF(Mercantil!$H$12:$H$102, \">0\") >= ROW() - 1","v":false},{"$f":" IF($B84, INDIRECT(\"Mercantil!C\" & SMALL(IF( Mercantil!$H$12:$H$102 = \"\", \"\", ROW(Mercantil!$H$12:$H$102)), ROW()-1)), \"\" )","v":""},{"$f":" IF($B84, INDIRECT(\"Mercantil!D\" & SMALL(IF( Mercantil!$H$12:$H$102 = \"\", \"\", ROW(Mercantil!$H$12:$H$102)), ROW()-1)), \"\" )","v":""},{"$f":" IF($B84, INDIRECT(\"Mercantil!H\" & SMALL(IF( Mercantil!$H$12:$H$102 = \"\", \"\", ROW(Mercantil!$H$12:$H$102)), ROW()-1)), \"\" )","v":""},{"$f":" IF( B84, SUM($E$2:E84), \"\" )","v":""}]
[null,{"$f":" COUNTIF(Mercantil!$H$12:$H$102, \">0\") >= ROW() - 1","v":false},{"$f":" IF($B85, INDIRECT(\"Mercantil!C\" & SMALL(IF( Mercantil!$H$12:$H$102 = \"\", \"\", ROW(Mercantil!$H$12:$H$102)), ROW()-1)), \"\" )","v":""},{"$f":" IF($B85, INDIRECT(\"Mercantil!D\" & SMALL(IF( Mercantil!$H$12:$H$102 = \"\", \"\", ROW(Mercantil!$H$12:$H$102)), ROW()-1)), \"\" )","v":""},{"$f":" IF($B85, INDIRECT(\"Mercantil!H\" & SMALL(IF( Mercantil!$H$12:$H$102 = \"\", \"\", ROW(Mercantil!$H$12:$H$102)), ROW()-1)), \"\" )","v":""},{"$f":" IF( B85, SUM($E$2:E85), \"\" )","v":""}]
[null,{"$f":" COUNTIF(Mercantil!$H$12:$H$102, \">0\") >= ROW() - 1","v":false},{"$f":" IF($B86, INDIRECT(\"Mercantil!C\" & SMALL(IF( Mercantil!$H$12:$H$102 = \"\", \"\", ROW(Mercantil!$H$12:$H$102)), ROW()-1)), \"\" )","v":""},{"$f":" IF($B86, INDIRECT(\"Mercantil!D\" & SMALL(IF( Mercantil!$H$12:$H$102 = \"\", \"\", ROW(Mercantil!$H$12:$H$102)), ROW()-1)), \"\" )","v":""},{"$f":" IF($B86, INDIRECT(\"Mercantil!H\" & SMALL(IF( Mercantil!$H$12:$H$102 = \"\", \"\", ROW(Mercantil!$H$12:$H$102)), ROW()-1)), \"\" )","v":""},{"$f":" IF( B86, SUM($E$2:E86), \"\" )","v":""}]
[null,{"$f":" COUNTIF(Mercantil!$H$12:$H$102, \">0\") >= ROW() - 1","v":false},{"$f":" IF($B87, INDIRECT(\"Mercantil!C\" & SMALL(IF( Mercantil!$H$12:$H$102 = \"\", \"\", ROW(Mercantil!$H$12:$H$102)), ROW()-1)), \"\" )","v":""},{"$f":" IF($B87, INDIRECT(\"Mercantil!D\" & SMALL(IF( Mercantil!$H$12:$H$102 = \"\", \"\", ROW(Mercantil!$H$12:$H$102)), ROW()-1)), \"\" )","v":""},{"$f":" IF($B87, INDIRECT(\"Mercantil!H\" & SMALL(IF( Mercantil!$H$12:$H$102 = \"\", \"\", ROW(Mercantil!$H$12:$H$102)), ROW()-1)), \"\" )","v":""},{"$f":" IF( B87, SUM($E$2:E87), \"\" )","v":""}]
[null,{"$f":" COUNTIF(Mercantil!$H$12:$H$102, \">0\") >= ROW() - 1","v":false},{"$f":" IF($B88, INDIRECT(\"Mercantil!C\" & SMALL(IF( Mercantil!$H$12:$H$102 = \"\", \"\", ROW(Mercantil!$H$12:$H$102)), ROW()-1)), \"\" )","v":""},{"$f":" IF($B88, INDIRECT(\"Mercantil!D\" & SMALL(IF( Mercantil!$H$12:$H$102 = \"\", \"\", ROW(Mercantil!$H$12:$H$102)), ROW()-1)), \"\" )","v":""},{"$f":" IF($B88, INDIRECT(\"Mercantil!H\" & SMALL(IF( Mercantil!$H$12:$H$102 = \"\", \"\", ROW(Mercantil!$H$12:$H$102)), ROW()-1)), \"\" )","v":""},{"$f":" IF( B88, SUM($E$2:E88), \"\" )","v":""}]
[null,{"$f":" COUNTIF(Mercantil!$H$12:$H$102, \">0\") >= ROW() - 1","v":false},{"$f":" IF($B89, INDIRECT(\"Mercantil!C\" & SMALL(IF( Mercantil!$H$12:$H$102 = \"\", \"\", ROW(Mercantil!$H$12:$H$102)), ROW()-1)), \"\" )","v":""},{"$f":" IF($B89, INDIRECT(\"Mercantil!D\" & SMALL(IF( Mercantil!$H$12:$H$102 = \"\", \"\", ROW(Mercantil!$H$12:$H$102)), ROW()-1)), \"\" )","v":""},{"$f":" IF($B89, INDIRECT(\"Mercantil!H\" & SMALL(IF( Mercantil!$H$12:$H$102 = \"\", \"\", ROW(Mercantil!$H$12:$H$102)), ROW()-1)), \"\" )","v":""},{"$f":" IF( B89, SUM($E$2:E89), \"\" )","v":""}]
[null,{"$f":" COUNTIF(Mercantil!$H$12:$H$102, \">0\") >= ROW() - 1","v":false},{"$f":" IF($B90, INDIRECT(\"Mercantil!C\" & SMALL(IF( Mercantil!$H$12:$H$102 = \"\", \"\", ROW(Mercantil!$H$12:$H$102)), ROW()-1)), \"\" )","v":""},{"$f":" IF($B90, INDIRECT(\"Mercantil!D\" & SMALL(IF( Mercantil!$H$12:$H$102 = \"\", \"\", ROW(Mercantil!$H$12:$H$102)), ROW()-1)), \"\" )","v":""},{"$f":" IF($B90, INDIRECT(\"Mercantil!H\" & SMALL(IF( Mercantil!$H$12:$H$102 = \"\", \"\", ROW(Mercantil!$H$12:$H$102)), ROW()-1)), \"\" )","v":""},{"$f":" IF( B90, SUM($E$2:E90), \"\" )","v":""}]
[null,{"$f":" COUNTIF(Mercantil!$H$12:$H$102, \">0\") >= ROW() - 1","v":false},{"$f":" IF($B91, INDIRECT(\"Mercantil!C\" & SMALL(IF( Mercantil!$H$12:$H$102 = \"\", \"\", ROW(Mercantil!$H$12:$H$102)), ROW()-1)), \"\" )","v":""},{"$f":" IF($B91, INDIRECT(\"Mercantil!D\" & SMALL(IF( Mercantil!$H$12:$H$102 = \"\", \"\", ROW(Mercantil!$H$12:$H$102)), ROW()-1)), \"\" )","v":""},{"$f":" IF($B91, INDIRECT(\"Mercantil!H\" & SMALL(IF( Mercantil!$H$12:$H$102 = \"\", \"\", ROW(Mercantil!$H$12:$H$102)), ROW()-1)), \"\" )","v":""},{"$f":" IF( B91, SUM($E$2:E91), \"\" )","v":""}]
[null,{"$f":" COUNTIF(Mercantil!$H$12:$H$102, \">0\") >= ROW() - 1","v":false},{"$f":" IF($B92, INDIRECT(\"Mercantil!C\" & SMALL(IF( Mercantil!$H$12:$H$102 = \"\", \"\", ROW(Mercantil!$H$12:$H$102)), ROW()-1)), \"\" )","v":""},{"$f":" IF($B92, INDIRECT(\"Mercantil!D\" & SMALL(IF( Mercantil!$H$12:$H$102 = \"\", \"\", ROW(Mercantil!$H$12:$H$102)), ROW()-1)), \"\" )","v":""},{"$f":" IF($B92, INDIRECT(\"Mercantil!H\" & SMALL(IF( Mercantil!$H$12:$H$102 = \"\", \"\", ROW(Mercantil!$H$12:$H$102)), ROW()-1)), \"\" )","v":""},{"$f":" IF( B92, SUM($E$2:E92), \"\" )","v":""}]
[null,{"$f":" COUNTIF(Mercantil!$H$12:$H$102, \">0\") >= ROW() - 1","v":false},{"$f":" IF($B93, INDIRECT(\"Mercantil!C\" & SMALL(IF( Mercantil!$H$12:$H$102 = \"\", \"\", ROW(Mercantil!$H$12:$H$102)), ROW()-1)), \"\" )","v":""},{"$f":" IF($B93, INDIRECT(\"Mercantil!D\" & SMALL(IF( Mercantil!$H$12:$H$102 = \"\", \"\", ROW(Mercantil!$H$12:$H$102)), ROW()-1)), \"\" )","v":""},{"$f":" IF($B93, INDIRECT(\"Mercantil!H\" & SMALL(IF( Mercantil!$H$12:$H$102 = \"\", \"\", ROW(Mercantil!$H$12:$H$102)), ROW()-1)), \"\" )","v":""},{"$f":" IF( B93, SUM($E$2:E93), \"\" )","v":""}]
[null,{"$f":" COUNTIF(Mercantil!$H$12:$H$102, \">0\") >= ROW() - 1","v":false},{"$f":" IF($B94, INDIRECT(\"Mercantil!C\" & SMALL(IF( Mercantil!$H$12:$H$102 = \"\", \"\", ROW(Mercantil!$H$12:$H$102)), ROW()-1)), \"\" )","v":""},{"$f":" IF($B94, INDIRECT(\"Mercantil!D\" & SMALL(IF( Mercantil!$H$12:$H$102 = \"\", \"\", ROW(Mercantil!$H$12:$H$102)), ROW()-1)), \"\" )","v":""},{"$f":" IF($B94, INDIRECT(\"Mercantil!H\" & SMALL(IF( Mercantil!$H$12:$H$102 = \"\", \"\", ROW(Mercantil!$H$12:$H$102)), ROW()-1)), \"\" )","v":""},{"$f":" IF( B94, SUM($E$2:E94), \"\" )","v":""}]
[null,{"$f":" COUNTIF(Mercantil!$H$12:$H$102, \">0\") >= ROW() - 1","v":false},{"$f":" IF($B95, INDIRECT(\"Mercantil!C\" & SMALL(IF( Mercantil!$H$12:$H$102 = \"\", \"\", ROW(Mercantil!$H$12:$H$102)), ROW()-1)), \"\" )","v":""},{"$f":" IF($B95, INDIRECT(\"Mercantil!D\" & SMALL(IF( Mercantil!$H$12:$H$102 = \"\", \"\", ROW(Mercantil!$H$12:$H$102)), ROW()-1)), \"\" )","v":""},{"$f":" IF($B95, INDIRECT(\"Mercantil!H\" & SMALL(IF( Mercantil!$H$12:$H$102 = \"\", \"\", ROW(Mercantil!$H$12:$H$102)), ROW()-1)), \"\" )","v":""},{"$f":" IF( B95, SUM($E$2:E95), \"\" )","v":""}]
[null,{"$f":" COUNTIF(Mercantil!$H$12:$H$102, \">0\") >= ROW() - 1","v":false},{"$f":" IF($B96, INDIRECT(\"Mercantil!C\" & SMALL(IF( Mercantil!$H$12:$H$102 = \"\", \"\", ROW(Mercantil!$H$12:$H$102)), ROW()-1)), \"\" )","v":""},{"$f":" IF($B96, INDIRECT(\"Mercantil!D\" & SMALL(IF( Mercantil!$H$12:$H$102 = \"\", \"\", ROW(Mercantil!$H$12:$H$102)), ROW()-1)), \"\" )","v":""},{"$f":" IF($B96, INDIRECT(\"Mercantil!H\" & SMALL(IF( Mercantil!$H$12:$H$102 = \"\", \"\", ROW(Mercantil!$H$12:$H$102)), ROW()-1)), \"\" )","v":""},{"$f":" IF( B96, SUM($E$2:E96), \"\" )","v":""}]
[null,{"$f":" COUNTIF(Mercantil!$H$12:$H$102, \">0\") >= ROW() - 1","v":false},{"$f":" IF($B97, INDIRECT(\"Mercantil!C\" & SMALL(IF( Mercantil!$H$12:$H$102 = \"\", \"\", ROW(Mercantil!$H$12:$H$102)), ROW()-1)), \"\" )","v":""},{"$f":" IF($B97, INDIRECT(\"Mercantil!D\" & SMALL(IF( Mercantil!$H$12:$H$102 = \"\", \"\", ROW(Mercantil!$H$12:$H$102)), ROW()-1)), \"\" )","v":""},{"$f":" IF($B97, INDIRECT(\"Mercantil!H\" & SMALL(IF( Mercantil!$H$12:$H$102 = \"\", \"\", ROW(Mercantil!$H$12:$H$102)), ROW()-1)), \"\" )","v":""},{"$f":" IF( B97, SUM($E$2:E97), \"\" )","v":""}]
[null,{"$f":" COUNTIF(Mercantil!$H$12:$H$102, \">0\") >= ROW() - 1","v":false},{"$f":" IF($B98, INDIRECT(\"Mercantil!C\" & SMALL(IF( Mercantil!$H$12:$H$102 = \"\", \"\", ROW(Mercantil!$H$12:$H$102)), ROW()-1)), \"\" )","v":""},{"$f":" IF($B98, INDIRECT(\"Mercantil!D\" & SMALL(IF( Mercantil!$H$12:$H$102 = \"\", \"\", ROW(Mercantil!$H$12:$H$102)), ROW()-1)), \"\" )","v":""},{"$f":" IF($B98, INDIRECT(\"Mercantil!H\" & SMALL(IF( Mercantil!$H$12:$H$102 = \"\", \"\", ROW(Mercantil!$H$12:$H$102)), ROW()-1)), \"\" )","v":""},{"$f":" IF( B98, SUM($E$2:E98), \"\" )","v":""}]
[null,{"$f":" COUNTIF(Mercantil!$H$12:$H$102, \">0\") >= ROW() - 1","v":false},{"$f":" IF($B99, INDIRECT(\"Mercantil!C\" & SMALL(IF( Mercantil!$H$12:$H$102 = \"\", \"\", ROW(Mercantil!$H$12:$H$102)), ROW()-1)), \"\" )","v":""},{"$f":" IF($B99, INDIRECT(\"Mercantil!D\" & SMALL(IF( Mercantil!$H$12:$H$102 = \"\", \"\", ROW(Mercantil!$H$12:$H$102)), ROW()-1)), \"\" )","v":""},{"$f":" IF($B99, INDIRECT(\"Mercantil!H\" & SMALL(IF( Mercantil!$H$12:$H$102 = \"\", \"\", ROW(Mercantil!$H$12:$H$102)), ROW()-1)), \"\" )","v":""},{"$f":" IF( B99, SUM($E$2:E99), \"\" )","v":""}]
[null,{"$f":" COUNTIF(Mercantil!$H$12:$H$102, \">0\") >= ROW() - 1","v":false},{"$f":" IF($B100, INDIRECT(\"Mercantil!C\" & SMALL(IF( Mercantil!$H$12:$H$102 = \"\", \"\", ROW(Mercantil!$H$12:$H$102)), ROW()-1)), \"\" )","v":""},{"$f":" IF($B100, INDIRECT(\"Mercantil!D\" & SMALL(IF( Mercantil!$H$12:$H$102 = \"\", \"\", ROW(Mercantil!$H$12:$H$102)), ROW()-1)), \"\" )","v":""},{"$f":" IF($B100, INDIRECT(\"Mercantil!H\" & SMALL(IF( Mercantil!$H$12:$H$102 = \"\", \"\", ROW(Mercantil!$H$12:$H$102)), ROW()-1)), \"\" )","v":""},{"$f":" IF( B100, SUM($E$2:E100), \"\" )","v":""}]
[null,{"$f":" COUNTIF(Mercantil!$H$12:$H$102, \">0\") >= ROW() - 1","v":false},{"$f":" IF($B101, INDIRECT(\"Mercantil!C\" & SMALL(IF( Mercantil!$H$12:$H$102 = \"\", \"\", ROW(Mercantil!$H$12:$H$102)), ROW()-1)), \"\" )","v":""},{"$f":" IF($B101, INDIRECT(\"Mercantil!D\" & SMALL(IF( Mercantil!$H$12:$H$102 = \"\", \"\", ROW(Mercantil!$H$12:$H$102)), ROW()-1)), \"\" )","v":""},{"$f":" IF($B101, INDIRECT(\"Mercantil!H\" & SMALL(IF( Mercantil!$H$12:$H$102 = \"\", \"\", ROW(Mercantil!$H$12:$H$102)), ROW()-1)), \"\" )","v":""},{"$f":" IF( B101, SUM($E$2:E101), \"\" )","v":""}]
[null,{"$f":" COUNTIF(Mercantil!$H$12:$H$102, \">0\") >= ROW() - 1","v":false},{"$f":" IF($B102, INDIRECT(\"Mercantil!C\" & SMALL(IF( Mercantil!$H$12:$H$102 = \"\", \"\", ROW(Mercantil!$H$12:$H$102)), ROW()-1)), \"\" )","v":""},{"$f":" IF($B102, INDIRECT(\"Mercantil!D\" & SMALL(IF( Mercantil!$H$12:$H$102 = \"\", \"\", ROW(Mercantil!$H$12:$H$102)), ROW()-1)), \"\" )","v":""},{"$f":" IF($B102, INDIRECT(\"Mercantil!H\" & SMALL(IF( Mercantil!$H$12:$H$102 = \"\", \"\", ROW(Mercantil!$H$12:$H$102)), ROW()-1)), \"\" )","v":""},{"$f":" IF( B102, SUM($E$2:E102), \"\" )","v":""}]
[null,{"$f":" COUNTIF(Mercantil!$H$12:$H$102, \">0\") >= ROW() - 1","v":false},{"$f":" IF($B103, INDIRECT(\"Mercantil!C\" & SMALL(IF( Mercantil!$H$12:$H$102 = \"\", \"\", ROW(Mercantil!$H$12:$H$102)), ROW()-1)), \"\" )","v":""},{"$f":" IF($B103, INDIRECT(\"Mercantil!D\" & SMALL(IF( Mercantil!$H$12:$H$102 = \"\", \"\", ROW(Mercantil!$H$12:$H$102)), ROW()-1)), \"\" )","v":""},{"$f":" IF($B103, INDIRECT(\"Mercantil!H\" & SMALL(IF( Mercantil!$H$12:$H$102 = \"\", \"\", ROW(Mercantil!$H$12:$H$102)), ROW()-1)), \"\" )","v":""},{"$f":" IF( B103, SUM($E$2:E103), \"\" )","v":""}]
[null,{"$f":" COUNTIF(Mercantil!$H$12:$H$102, \">0\") >= ROW() - 1","v":false},{"$f":" IF($B104, INDIRECT(\"Mercantil!C\" & SMALL(IF( Mercantil!$H$12:$H$102 = \"\", \"\", ROW(Mercantil!$H$12:$H$102)), ROW()-1)), \"\" )","v":""},{"$f":" IF($B104, INDIRECT(\"Mercantil!D\" & SMALL(IF( Mercantil!$H$12:$H$102 = \"\", \"\", ROW(Mercantil!$H$12:$H$102)), ROW()-1)), \"\" )","v":""},{"$f":" IF($B104, INDIRECT(\"Mercantil!H\" & SMALL(IF( Mercantil!$H$12:$H$102 = \"\", \"\", ROW(Mercantil!$H$12:$H$102)), ROW()-1)), \"\" )","v":""},{"$f":" IF( B104, SUM($E$2:E104), \"\" )","v":""}]
[null,{"$f":" COUNTIF(Mercantil!$H$12:$H$102, \">0\") >= ROW() - 1","v":false},{"$f":" IF($B105, INDIRECT(\"Mercantil!C\" & SMALL(IF( Mercantil!$H$12:$H$102 = \"\", \"\", ROW(Mercantil!$H$12:$H$102)), ROW()-1)), \"\" )","v":""},{"$f":" IF($B105, INDIRECT(\"Mercantil!D\" & SMALL(IF( Mercantil!$H$12:$H$102 = \"\", \"\", ROW(Mercantil!$H$12:$H$102)), ROW()-1)), \"\" )","v":""},{"$f":" IF($B105, INDIRECT(\"Mercantil!H\" & SMALL(IF( Mercantil!$H$12:$H$102 = \"\", \"\", ROW(Mercantil!$H$12:$H$102)), ROW()-1)), \"\" )","v":""},{"$f":" IF( B105, SUM($E$2:E105), \"\" )","v":""}]
[null,{"$f":" COUNTIF(Mercantil!$H$12:$H$102, \">0\") >= ROW() - 1","v":false},{"$f":" IF($B106, INDIRECT(\"Mercantil!C\" & SMALL(IF( Mercantil!$H$12:$H$102 = \"\", \"\", ROW(Mercantil!$H$12:$H$102)), ROW()-1)), \"\" )","v":""},{"$f":" IF($B106, INDIRECT(\"Mercantil!D\" & SMALL(IF( Mercantil!$H$12:$H$102 = \"\", \"\", ROW(Mercantil!$H$12:$H$102)), ROW()-1)), \"\" )","v":""},{"$f":" IF($B106, INDIRECT(\"Mercantil!H\" & SMALL(IF( Mercantil!$H$12:$H$102 = \"\", \"\", ROW(Mercantil!$H$12:$H$102)), ROW()-1)), \"\" )","v":""},{"$f":" IF( B106, SUM($E$2:E106), \"\" )","v":""}]
[null,{"$f":" COUNTIF(Mercantil!$H$12:$H$102, \">0\") >= ROW() - 1","v":false},{"$f":" IF($B107, INDIRECT(\"Mercantil!C\" & SMALL(IF( Mercantil!$H$12:$H$102 = \"\", \"\", ROW(Mercantil!$H$12:$H$102)), ROW()-1)), \"\" )","v":""},{"$f":" IF($B107, INDIRECT(\"Mercantil!D\" & SMALL(IF( Mercantil!$H$12:$H$102 = \"\", \"\", ROW(Mercantil!$H$12:$H$102)), ROW()-1)), \"\" )","v":""},{"$f":" IF($B107, INDIRECT(\"Mercantil!H\" & SMALL(IF( Mercantil!$H$12:$H$102 = \"\", \"\", ROW(Mercantil!$H$12:$H$102)), ROW()-1)), \"\" )","v":""},{"$f":" IF( B107, SUM($E$2:E107), \"\" )","v":""}]
[null,{"$f":" COUNTIF(Mercantil!$H$12:$H$102, \">0\") >= ROW() - 1","v":false},{"$f":" IF($B108, INDIRECT(\"Mercantil!C\" & SMALL(IF( Mercantil!$H$12:$H$102 = \"\", \"\", ROW(Mercantil!$H$12:$H$102)), ROW()-1)), \"\" )","v":""},{"$f":" IF($B108, INDIRECT(\"Mercantil!D\" & SMALL(IF( Mercantil!$H$12:$H$102 = \"\", \"\", ROW(Mercantil!$H$12:$H$102)), ROW()-1)), \"\" )","v":""},{"$f":" IF($B108, INDIRECT(\"Mercantil!H\" & SMALL(IF( Mercantil!$H$12:$H$102 = \"\", \"\", ROW(Mercantil!$H$12:$H$102)), ROW()-1)), \"\" )","v":""},{"$f":" IF( B108, SUM($E$2:E108), \"\" )","v":""}]
[null,{"$f":" COUNTIF(Mercantil!$H$12:$H$102, \">0\") >= ROW() - 1","v":false},{"$f":" IF($B109, INDIRECT(\"Mercantil!C\" & SMALL(IF( Mercantil!$H$12:$H$102 = \"\", \"\", ROW(Mercantil!$H$12:$H$102)), ROW()-1)), \"\" )","v":""},{"$f":" IF($B109, INDIRECT(\"Mercantil!D\" & SMALL(IF( Mercantil!$H$12:$H$102 = \"\", \"\", ROW(Mercantil!$H$12:$H$102)), ROW()-1)), \"\" )","v":""},{"$f":" IF($B109, INDIRECT(\"Mercantil!H\" & SMALL(IF( Mercantil!$H$12:$H$102 = \"\", \"\", ROW(Mercantil!$H$12:$H$102)), ROW()-1)), \"\" )","v":""},{"$f":" IF( B109, SUM($E$2:E109), \"\" )","v":""}]
[null,{"$f":" COUNTIF(Mercantil!$H$12:$H$102, \">0\") >= ROW() - 1","v":false},{"$f":" IF($B110, INDIRECT(\"Mercantil!C\" & SMALL(IF( Mercantil!$H$12:$H$102 = \"\", \"\", ROW(Mercantil!$H$12:$H$102)), ROW()-1)), \"\" )","v":""},{"$f":" IF($B110, INDIRECT(\"Mercantil!D\" & SMALL(IF( Mercantil!$H$12:$H$102 = \"\", \"\", ROW(Mercantil!$H$12:$H$102)), ROW()-1)), \"\" )","v":""},{"$f":" IF($B110, INDIRECT(\"Mercantil!H\" & SMALL(IF( Mercantil!$H$12:$H$102 = \"\", \"\", ROW(Mercantil!$H$12:$H$102)), ROW()-1)), \"\" )","v":""},{"$f":" IF( B110, SUM($E$2:E110), \"\" )","v":""}]
[null,{"$f":" COUNTIF(Mercantil!$H$12:$H$102, \">0\") >= ROW() - 1","v":false},{"$f":" IF($B111, INDIRECT(\"Mercantil!C\" & SMALL(IF( Mercantil!$H$12:$H$102 = \"\", \"\", ROW(Mercantil!$H$12:$H$102)), ROW()-1)), \"\" )","v":""},{"$f":" IF($B111, INDIRECT(\"Mercantil!D\" & SMALL(IF( Mercantil!$H$12:$H$102 = \"\", \"\", ROW(Mercantil!$H$12:$H$102)), ROW()-1)), \"\" )","v":""},{"$f":" IF($B111, INDIRECT(\"Mercantil!H\" & SMALL(IF( Mercantil!$H$12:$H$102 = \"\", \"\", ROW(Mercantil!$H$12:$H$102)), ROW()-1)), \"\" )","v":""},{"$f":" IF( B111, SUM($E$2:E111), \"\" )","v":""}]
[null,{"$f":" COUNTIF(Mercantil!$H$12:$H$102, \">0\") >= ROW() - 1","v":false},{"$f":" IF($B112, INDIRECT(\"Mercantil!C\" & SMALL(IF( Mercantil!$H$12:$H$102 = \"\", \"\", ROW(Mercantil!$H$12:$H$102)), ROW()-1)), \"\" )","v":""},{"$f":" IF($B112, INDIRECT(\"Mercantil!D\" & SMALL(IF( Mercantil!$H$12:$H$102 = \"\", \"\", ROW(Mercantil!$H$12:$H$102)), ROW()-1)), \"\" )","v":""},{"$f":" IF($B112, INDIRECT(\"Mercantil!H\" & SMALL(IF( Mercantil!$H$12:$H$102 = \"\", \"\", ROW(Mercantil!$H$12:$H$102)), ROW()-1)), \"\" )","v":""},{"$f":" IF( B112, SUM($E$2:E112), \"\" )","v":""}]
[null,{"$f":" COUNTIF(Mercantil!$H$12:$H$102, \">0\") >= ROW() - 1","v":false},{"$f":" IF($B113, INDIRECT(\"Mercantil!C\" & SMALL(IF( Mercantil!$H$12:$H$102 = \"\", \"\", ROW(Mercantil!$H$12:$H$102)), ROW()-1)), \"\" )","v":""},{"$f":" IF($B113, INDIRECT(\"Mercantil!D\" & SMALL(IF( Mercantil!$H$12:$H$102 = \"\", \"\", ROW(Mercantil!$H$12:$H$102)), ROW()-1)), \"\" )","v":""},{"$f":" IF($B113, INDIRECT(\"Mercantil!H\" & SMALL(IF( Mercantil!$H$12:$H$102 = \"\", \"\", ROW(Mercantil!$H$12:$H$102)), ROW()-1)), \"\" )","v":""},{"$f":" IF( B113, SUM($E$2:E113), \"\" )","v":""}]
[null,{"$f":" COUNTIF(Mercantil!$H$12:$H$102, \">0\") >= ROW() - 1","v":false},{"$f":" IF($B114, INDIRECT(\"Mercantil!C\" & SMALL(IF( Mercantil!$H$12:$H$102 = \"\", \"\", ROW(Mercantil!$H$12:$H$102)), ROW()-1)), \"\" )","v":""},{"$f":" IF($B114, INDIRECT(\"Mercantil!D\" & SMALL(IF( Mercantil!$H$12:$H$102 = \"\", \"\", ROW(Mercantil!$H$12:$H$102)), ROW()-1)), \"\" )","v":""},{"$f":" IF($B114, INDIRECT(\"Mercantil!H\" & SMALL(IF( Mercantil!$H$12:$H$102 = \"\", \"\", ROW(Mercantil!$H$12:$H$102)), ROW()-1)), \"\" )","v":""},{"$f":" IF( B114, SUM($E$2:E114), \"\" )","v":""}]
[null,{"$f":" COUNTIF(Mercantil!$H$12:$H$102, \">0\") >= ROW() - 1","v":false},{"$f":" IF($B115, INDIRECT(\"Mercantil!C\" & SMALL(IF( Mercantil!$H$12:$H$102 = \"\", \"\", ROW(Mercantil!$H$12:$H$102)), ROW()-1)), \"\" )","v":""},{"$f":" IF($B115, INDIRECT(\"Mercantil!D\" & SMALL(IF( Mercantil!$H$12:$H$102 = \"\", \"\", ROW(Mercantil!$H$12:$H$102)), ROW()-1)), \"\" )","v":""},{"$f":" IF($B115, INDIRECT(\"Mercantil!H\" & SMALL(IF( Mercantil!$H$12:$H$102 = \"\", \"\", ROW(Mercantil!$H$12:$H$102)), ROW()-1)), \"\" )","v":""},{"$f":" IF( B115, SUM($E$2:E115), \"\" )","v":""}]
[null,{"$f":" COUNTIF(Mercantil!$H$12:$H$102, \">0\") >= ROW() - 1","v":false},{"$f":" IF($B116, INDIRECT(\"Mercantil!C\" & SMALL(IF( Mercantil!$H$12:$H$102 = \"\", \"\", ROW(Mercantil!$H$12:$H$102)), ROW()-1)), \"\" )","v":""},{"$f":" IF($B116, INDIRECT(\"Mercantil!D\" & SMALL(IF( Mercantil!$H$12:$H$102 = \"\", \"\", ROW(Mercantil!$H$12:$H$102)), ROW()-1)), \"\" )","v":""},{"$f":" IF($B116, INDIRECT(\"Mercantil!H\" & SMALL(IF( Mercantil!$H$12:$H$102 = \"\", \"\", ROW(Mercantil!$H$12:$H$102)), ROW()-1)), \"\" )","v":""},{"$f":" IF( B116, SUM($E$2:E116), \"\" )","v":""}]
[null,{"$f":" COUNTIF(Mercantil!$H$12:$H$102, \">0\") >= ROW() - 1","v":false},{"$f":" IF($B117, INDIRECT(\"Mercantil!C\" & SMALL(IF( Mercantil!$H$12:$H$102 = \"\", \"\", ROW(Mercantil!$H$12:$H$102)), ROW()-1)), \"\" )","v":""},{"$f":" IF($B117, INDIRECT(\"Mercantil!D\" & SMALL(IF( Mercantil!$H$12:$H$102 = \"\", \"\", ROW(Mercantil!$H$12:$H$102)), ROW()-1)), \"\" )","v":""},{"$f":" IF($B117, INDIRECT(\"Mercantil!H\" & SMALL(IF( Mercantil!$H$12:$H$102 = \"\", \"\", ROW(Mercantil!$H$12:$H$102)), ROW()-1)), \"\" )","v":""},{"$f":" IF( B117, SUM($E$2:E117), \"\" )","v":""}]
[null,{"$f":" COUNTIF(Mercantil!$H$12:$H$102, \">0\") >= ROW() - 1","v":false},{"$f":" IF($B118, INDIRECT(\"Mercantil!C\" & SMALL(IF( Mercantil!$H$12:$H$102 = \"\", \"\", ROW(Mercantil!$H$12:$H$102)), ROW()-1)), \"\" )","v":""},{"$f":" IF($B118, INDIRECT(\"Mercantil!D\" & SMALL(IF( Mercantil!$H$12:$H$102 = \"\", \"\", ROW(Mercantil!$H$12:$H$102)), ROW()-1)), \"\" )","v":""},{"$f":" IF($B118, INDIRECT(\"Mercantil!H\" & SMALL(IF( Mercantil!$H$12:$H$102 = \"\", \"\", ROW(Mercantil!$H$12:$H$102)), ROW()-1)), \"\" )","v":""},{"$f":" IF( B118, SUM($E$2:E118), \"\" )","v":""}]
[null,{"$f":" COUNTIF(Mercantil!$H$12:$H$102, \">0\") >= ROW() - 1","v":false},{"$f":" IF($B119, INDIRECT(\"Mercantil!C\" & SMALL(IF( Mercantil!$H$12:$H$102 = \"\", \"\", ROW(Mercantil!$H$12:$H$102)), ROW()-1)), \"\" )","v":""},{"$f":" IF($B119, INDIRECT(\"Mercantil!D\" & SMALL(IF( Mercantil!$H$12:$H$102 = \"\", \"\", ROW(Mercantil!$H$12:$H$102)), ROW()-1)), \"\" )","v":""},{"$f":" IF($B119, INDIRECT(\"Mercantil!H\" & SMALL(IF( Mercantil!$H$12:$H$102 = \"\", \"\", ROW(Mercantil!$H$12:$H$102)), ROW()-1)), \"\" )","v":""},{"$f":" IF( B119, SUM($E$2:E119), \"\" )","v":""}]
[null,{"$f":" COUNTIF(Mercantil!$H$12:$H$102, \">0\") >= ROW() - 1","v":false},{"$f":" IF($B120, INDIRECT(\"Mercantil!C\" & SMALL(IF( Mercantil!$H$12:$H$102 = \"\", \"\", ROW(Mercantil!$H$12:$H$102)), ROW()-1)), \"\" )","v":""},{"$f":" IF($B120, INDIRECT(\"Mercantil!D\" & SMALL(IF( Mercantil!$H$12:$H$102 = \"\", \"\", ROW(Mercantil!$H$12:$H$102)), ROW()-1)), \"\" )","v":""},{"$f":" IF($B120, INDIRECT(\"Mercantil!H\" & SMALL(IF( Mercantil!$H$12:$H$102 = \"\", \"\", ROW(Mercantil!$H$12:$H$102)), ROW()-1)), \"\" )","v":""},{"$f":" IF( B120, SUM($E$2:E120), \"\" )","v":""}]
[null,{"$f":" COUNTIF(Mercantil!$H$12:$H$102, \">0\") >= ROW() - 1","v":false},{"$f":" IF($B121, INDIRECT(\"Mercantil!C\" & SMALL(IF( Mercantil!$H$12:$H$102 = \"\", \"\", ROW(Mercantil!$H$12:$H$102)), ROW()-1)), \"\" )","v":""},{"$f":" IF($B121, INDIRECT(\"Mercantil!D\" & SMALL(IF( Mercantil!$H$12:$H$102 = \"\", \"\", ROW(Mercantil!$H$12:$H$102)), ROW()-1)), \"\" )","v":""},{"$f":" IF($B121, INDIRECT(\"Mercantil!H\" & SMALL(IF( Mercantil!$H$12:$H$102 = \"\", \"\", ROW(Mercantil!$H$12:$H$102)), ROW()-1)), \"\" )","v":""},{"$f":" IF( B121, SUM($E$2:E121), \"\" )","v":""}]
[null,{"$f":" COUNTIF(Mercantil!$H$12:$H$102, \">0\") >= ROW() - 1","v":false},{"$f":" IF($B122, INDIRECT(\"Mercantil!C\" & SMALL(IF( Mercantil!$H$12:$H$102 = \"\", \"\", ROW(Mercantil!$H$12:$H$102)), ROW()-1)), \"\" )","v":""},{"$f":" IF($B122, INDIRECT(\"Mercantil!D\" & SMALL(IF( Mercantil!$H$12:$H$102 = \"\", \"\", ROW(Mercantil!$H$12:$H$102)), ROW()-1)), \"\" )","v":""},{"$f":" IF($B122, INDIRECT(\"Mercantil!H\" & SMALL(IF( Mercantil!$H$12:$H$102 = \"\", \"\", ROW(Mercantil!$H$12:$H$102)), ROW()-1)), \"\" )","v":""},{"$f":" IF( B122, SUM($E$2:E122), \"\" )","v":""}]
[null,{"$f":" COUNTIF(Mercantil!$H$12:$H$102, \">0\") >= ROW() - 1","v":false},{"$f":" IF($B123, INDIRECT(\"Mercantil!C\" & SMALL(IF( Mercantil!$H$12:$H$102 = \"\", \"\", ROW(Mercantil!$H$12:$H$102)), ROW()-1)), \"\" )","v":""},{"$f":" IF($B123, INDIRECT(\"Mercantil!D\" & SMALL(IF( Mercantil!$H$12:$H$102 = \"\", \"\", ROW(Mercantil!$H$12:$H$102)), ROW()-1)), \"\" )","v":""},{"$f":" IF($B123, INDIRECT(\"Mercantil!H\" & SMALL(IF( Mercantil!$H$12:$H$102 = \"\", \"\", ROW(Mercantil!$H$12:$H$102)), ROW()-1)), \"\" )","v":""},{"$f":" IF( B123, SUM($E$2:E123), \"\" )","v":""}]
[null,{"$f":" COUNTIF(Mercantil!$H$12:$H$102, \">0\") >= ROW() - 1","v":false},{"$f":" IF($B124, INDIRECT(\"Mercantil!C\" & SMALL(IF( Mercantil!$H$12:$H$102 = \"\", \"\", ROW(Mercantil!$H$12:$H$102)), ROW()-1)), \"\" )","v":""},{"$f":" IF($B124, INDIRECT(\"Mercantil!D\" & SMALL(IF( Mercantil!$H$12:$H$102 = \"\", \"\", ROW(Mercantil!$H$12:$H$102)), ROW()-1)), \"\" )","v":""},{"$f":" IF($B124, INDIRECT(\"Mercantil!H\" & SMALL(IF( Mercantil!$H$12:$H$102 = \"\", \"\", ROW(Mercantil!$H$12:$H$102)), ROW()-1)), \"\" )","v":""},{"$f":" IF( B124, SUM($E$2:E124), \"\" )","v":""}]
[null,{"$f":" COUNTIF(Mercantil!$H$12:$H$102, \">0\") >= ROW() - 1","v":false},{"$f":" IF($B125, INDIRECT(\"Mercantil!C\" & SMALL(IF( Mercantil!$H$12:$H$102 = \"\", \"\", ROW(Mercantil!$H$12:$H$102)), ROW()-1)), \"\" )","v":""},{"$f":" IF($B125, INDIRECT(\"Mercantil!D\" & SMALL(IF( Mercantil!$H$12:$H$102 = \"\", \"\", ROW(Mercantil!$H$12:$H$102)), ROW()-1)), \"\" )","v":""},{"$f":" IF($B125, INDIRECT(\"Mercantil!H\" & SMALL(IF( Mercantil!$H$12:$H$102 = \"\", \"\", ROW(Mercantil!$H$12:$H$102)), ROW()-1)), \"\" )","v":""},{"$f":" IF( B125, SUM($E$2:E125), \"\" )","v":""}]
[null,{"$f":" COUNTIF(Mercantil!$H$12:$H$102, \">0\") >= ROW() - 1","v":false},{"$f":" IF($B126, INDIRECT(\"Mercantil!C\" & SMALL(IF( Mercantil!$H$12:$H$102 = \"\", \"\", ROW(Mercantil!$H$12:$H$102)), ROW()-1)), \"\" )","v":""},{"$f":" IF($B126, INDIRECT(\"Mercantil!D\" & SMALL(IF( Mercantil!$H$12:$H$102 = \"\", \"\", ROW(Mercantil!$H$12:$H$102)), ROW()-1)), \"\" )","v":""},{"$f":" IF($B126, INDIRECT(\"Mercantil!H\" & SMALL(IF( Mercantil!$H$12:$H$102 = \"\", \"\", ROW(Mercantil!$H$12:$H$102)), ROW()-1)), \"\" )","v":""},{"$f":" IF( B126, SUM($E$2:E126), \"\" )","v":""}]
[null,{"$f":" COUNTIF(Mercantil!$H$12:$H$102, \">0\") >= ROW() - 1","v":false},{"$f":" IF($B127, INDIRECT(\"Mercantil!C\" & SMALL(IF( Mercantil!$H$12:$H$102 = \"\", \"\", ROW(Mercantil!$H$12:$H$102)), ROW()-1)), \"\" )","v":""},{"$f":" IF($B127, INDIRECT(\"Mercantil!D\" & SMALL(IF( Mercantil!$H$12:$H$102 = \"\", \"\", ROW(Mercantil!$H$12:$H$102)), ROW()-1)), \"\" )","v":""},{"$f":" IF($B127, INDIRECT(\"Mercantil!H\" & SMALL(IF( Mercantil!$H$12:$H$102 = \"\", \"\", ROW(Mercantil!$H$12:$H$102)), ROW()-1)), \"\" )","v":""},{"$f":" IF( B127, SUM($E$2:E127), \"\" )","v":""}]
[null,{"$f":" COUNTIF(Mercantil!$H$12:$H$102, \">0\") >= ROW() - 1","v":false},{"$f":" IF($B128, INDIRECT(\"Mercantil!C\" & SMALL(IF( Mercantil!$H$12:$H$102 = \"\", \"\", ROW(Mercantil!$H$12:$H$102)), ROW()-1)), \"\" )","v":""},{"$f":" IF($B128, INDIRECT(\"Mercantil!D\" & SMALL(IF( Mercantil!$H$12:$H$102 = \"\", \"\", ROW(Mercantil!$H$12:$H$102)), ROW()-1)), \"\" )","v":""},{"$f":" IF($B128, INDIRECT(\"Mercantil!H\" & SMALL(IF( Mercantil!$H$12:$H$102 = \"\", \"\", ROW(Mercantil!$H$12:$H$102)), ROW()-1)), \"\" )","v":""},{"$f":" IF( B128, SUM($E$2:E128), \"\" )","v":""}]
[null,{"$f":" COUNTIF(Mercantil!$H$12:$H$102, \">0\") >= ROW() - 1","v":false},{"$f":" IF($B129, INDIRECT(\"Mercantil!C\" & SMALL(IF( Mercantil!$H$12:$H$102 = \"\", \"\", ROW(Mercantil!$H$12:$H$102)), ROW()-1)), \"\" )","v":""},{"$f":" IF($B129, INDIRECT(\"Mercantil!D\" & SMALL(IF( Mercantil!$H$12:$H$102 = \"\", \"\", ROW(Mercantil!$H$12:$H$102)), ROW()-1)), \"\" )","v":""},{"$f":" IF($B129, INDIRECT(\"Mercantil!H\" & SMALL(IF( Mercantil!$H$12:$H$102 = \"\", \"\", ROW(Mercantil!$H$12:$H$102)), ROW()-1)), \"\" )","v":""},{"$f":" IF( B129, SUM($E$2:E129), \"\" )","v":""}]
[null,{"$f":" COUNTIF(Mercantil!$H$12:$H$102, \">0\") >= ROW() - 1","v":false},{"$f":" IF($B130, INDIRECT(\"Mercantil!C\" & SMALL(IF( Mercantil!$H$12:$H$102 = \"\", \"\", ROW(Mercantil!$H$12:$H$102)), ROW()-1)), \"\" )","v":""},{"$f":" IF($B130, INDIRECT(\"Mercantil!D\" & SMALL(IF( Mercantil!$H$12:$H$102 = \"\", \"\", ROW(Mercantil!$H$12:$H$102)), ROW()-1)), \"\" )","v":""},{"$f":" IF($B130, INDIRECT(\"Mercantil!H\" & SMALL(IF( Mercantil!$H$12:$H$102 = \"\", \"\", ROW(Mercantil!$H$12:$H$102)), ROW()-1)), \"\" )","v":""},{"$f":" IF( B130, SUM($E$2:E130), \"\" )","v":""}]
[null,{"$f":" COUNTIF(Mercantil!$H$12:$H$102, \">0\") >= ROW() - 1","v":false},{"$f":" IF($B131, INDIRECT(\"Mercantil!C\" & SMALL(IF( Mercantil!$H$12:$H$102 = \"\", \"\", ROW(Mercantil!$H$12:$H$102)), ROW()-1)), \"\" )","v":""},{"$f":" IF($B131, INDIRECT(\"Mercantil!D\" & SMALL(IF( Mercantil!$H$12:$H$102 = \"\", \"\", ROW(Mercantil!$H$12:$H$102)), ROW()-1)), \"\" )","v":""},{"$f":" IF($B131, INDIRECT(\"Mercantil!H\" & SMALL(IF( Mercantil!$H$12:$H$102 = \"\", \"\", ROW(Mercantil!$H$12:$H$102)), ROW()-1)), \"\" )","v":""},{"$f":" IF( B131, SUM($E$2:E131), \"\" )","v":""}]
[null,{"$f":" COUNTIF(Mercantil!$H$12:$H$102, \">0\") >= ROW() - 1","v":false},{"$f":" IF($B132, INDIRECT(\"Mercantil!C\" & SMALL(IF( Mercantil!$H$12:$H$102 = \"\", \"\", ROW(Mercantil!$H$12:$H$102)), ROW()-1)), \"\" )","v":""},{"$f":" IF($B132, INDIRECT(\"Mercantil!D\" & SMALL(IF( Mercantil!$H$12:$H$102 = \"\", \"\", ROW(Mercantil!$H$12:$H$102)), ROW()-1)), \"\" )","v":""},{"$f":" IF($B132, INDIRECT(\"Mercantil!H\" & SMALL(IF( Mercantil!$H$12:$H$102 = \"\", \"\", ROW(Mercantil!$H$12:$H$102)), ROW()-1)), \"\" )","v":""},{"$f":" IF( B132, SUM($E$2:E132), \"\" )","v":""}]
[null,{"$f":" COUNTIF(Mercantil!$H$12:$H$102, \">0\") >= ROW() - 1","v":false},{"$f":" IF($B133, INDIRECT(\"Mercantil!C\" & SMALL(IF( Mercantil!$H$12:$H$102 = \"\", \"\", ROW(Mercantil!$H$12:$H$102)), ROW()-1)), \"\" )","v":""},{"$f":" IF($B133, INDIRECT(\"Mercantil!D\" & SMALL(IF( Mercantil!$H$12:$H$102 = \"\", \"\", ROW(Mercantil!$H$12:$H$102)), ROW()-1)), \"\" )","v":""},{"$f":" IF($B133, INDIRECT(\"Mercantil!H\" & SMALL(IF( Mercantil!$H$12:$H$102 = \"\", \"\", ROW(Mercantil!$H$12:$H$102)), ROW()-1)), \"\" )","v":""},{"$f":" IF( B133, SUM($E$2:E133), \"\" )","v":""}]
[null,{"$f":" COUNTIF(Mercantil!$H$12:$H$102, \">0\") >= ROW() - 1","v":false},{"$f":" IF($B134, INDIRECT(\"Mercantil!C\" & SMALL(IF( Mercantil!$H$12:$H$102 = \"\", \"\", ROW(Mercantil!$H$12:$H$102)), ROW()-1)), \"\" )","v":""},{"$f":" IF($B134, INDIRECT(\"Mercantil!D\" & SMALL(IF( Mercantil!$H$12:$H$102 = \"\", \"\", ROW(Mercantil!$H$12:$H$102)), ROW()-1)), \"\" )","v":""},{"$f":" IF($B134, INDIRECT(\"Mercantil!H\" & SMALL(IF( Mercantil!$H$12:$H$102 = \"\", \"\", ROW(Mercantil!$H$12:$H$102)), ROW()-1)), \"\" )","v":""},{"$f":" IF( B134, SUM($E$2:E134), \"\" )","v":""}]
[null,{"$f":" COUNTIF(Mercantil!$H$12:$H$102, \">0\") >= ROW() - 1","v":false},{"$f":" IF($B135, INDIRECT(\"Mercantil!C\" & SMALL(IF( Mercantil!$H$12:$H$102 = \"\", \"\", ROW(Mercantil!$H$12:$H$102)), ROW()-1)), \"\" )","v":""},{"$f":" IF($B135, INDIRECT(\"Mercantil!D\" & SMALL(IF( Mercantil!$H$12:$H$102 = \"\", \"\", ROW(Mercantil!$H$12:$H$102)), ROW()-1)), \"\" )","v":""},{"$f":" IF($B135, INDIRECT(\"Mercantil!H\" & SMALL(IF( Mercantil!$H$12:$H$102 = \"\", \"\", ROW(Mercantil!$H$12:$H$102)), ROW()-1)), \"\" )","v":""},{"$f":" IF( B135, SUM($E$2:E135), \"\" )","v":""}]
[null,{"$f":" COUNTIF(Mercantil!$H$12:$H$102, \">0\") >= ROW() - 1","v":false},{"$f":" IF($B136, INDIRECT(\"Mercantil!C\" & SMALL(IF( Mercantil!$H$12:$H$102 = \"\", \"\", ROW(Mercantil!$H$12:$H$102)), ROW()-1)), \"\" )","v":""},{"$f":" IF($B136, INDIRECT(\"Mercantil!D\" & SMALL(IF( Mercantil!$H$12:$H$102 = \"\", \"\", ROW(Mercantil!$H$12:$H$102)), ROW()-1)), \"\" )","v":""},{"$f":" IF($B136, INDIRECT(\"Mercantil!H\" & SMALL(IF( Mercantil!$H$12:$H$102 = \"\", \"\", ROW(Mercantil!$H$12:$H$102)), ROW()-1)), \"\" )","v":""},{"$f":" IF( B136, SUM($E$2:E136), \"\" )","v":""}]
[null,{"$f":" COUNTIF(Mercantil!$H$12:$H$102, \">0\") >= ROW() - 1","v":false},{"$f":" IF($B137, INDIRECT(\"Mercantil!C\" & SMALL(IF( Mercantil!$H$12:$H$102 = \"\", \"\", ROW(Mercantil!$H$12:$H$102)), ROW()-1)), \"\" )","v":""},{"$f":" IF($B137, INDIRECT(\"Mercantil!D\" & SMALL(IF( Mercantil!$H$12:$H$102 = \"\", \"\", ROW(Mercantil!$H$12:$H$102)), ROW()-1)), \"\" )","v":""},{"$f":" IF($B137, INDIRECT(\"Mercantil!H\" & SMALL(IF( Mercantil!$H$12:$H$102 = \"\", \"\", ROW(Mercantil!$H$12:$H$102)), ROW()-1)), \"\" )","v":""},{"$f":" IF( B137, SUM($E$2:E137), \"\" )","v":""}]
[null,{"$f":" COUNTIF(Mercantil!$H$12:$H$102, \">0\") >= ROW() - 1","v":false},{"$f":" IF($B138, INDIRECT(\"Mercantil!C\" & SMALL(IF( Mercantil!$H$12:$H$102 = \"\", \"\", ROW(Mercantil!$H$12:$H$102)), ROW()-1)), \"\" )","v":""},{"$f":" IF($B138, INDIRECT(\"Mercantil!D\" & SMALL(IF( Mercantil!$H$12:$H$102 = \"\", \"\", ROW(Mercantil!$H$12:$H$102)), ROW()-1)), \"\" )","v":""},{"$f":" IF($B138, INDIRECT(\"Mercantil!H\" & SMALL(IF( Mercantil!$H$12:$H$102 = \"\", \"\", ROW(Mercantil!$H$12:$H$102)), ROW()-1)), \"\" )","v":""},{"$f":" IF( B138, SUM($E$2:E138), \"\" )","v":""}]
[null,{"$f":" COUNTIF(Mercantil!$H$12:$H$102, \">0\") >= ROW() - 1","v":false},{"$f":" IF($B139, INDIRECT(\"Mercantil!C\" & SMALL(IF( Mercantil!$H$12:$H$102 = \"\", \"\", ROW(Mercantil!$H$12:$H$102)), ROW()-1)), \"\" )","v":""},{"$f":" IF($B139, INDIRECT(\"Mercantil!D\" & SMALL(IF( Mercantil!$H$12:$H$102 = \"\", \"\", ROW(Mercantil!$H$12:$H$102)), ROW()-1)), \"\" )","v":""},{"$f":" IF($B139, INDIRECT(\"Mercantil!H\" & SMALL(IF( Mercantil!$H$12:$H$102 = \"\", \"\", ROW(Mercantil!$H$12:$H$102)), ROW()-1)), \"\" )","v":""},{"$f":" IF( B139, SUM($E$2:E139), \"\" )","v":""}]
[null,{"$f":" COUNTIF(Mercantil!$H$12:$H$102, \">0\") >= ROW() - 1","v":false},{"$f":" IF($B140, INDIRECT(\"Mercantil!C\" & SMALL(IF( Mercantil!$H$12:$H$102 = \"\", \"\", ROW(Mercantil!$H$12:$H$102)), ROW()-1)), \"\" )","v":""},{"$f":" IF($B140, INDIRECT(\"Mercantil!D\" & SMALL(IF( Mercantil!$H$12:$H$102 = \"\", \"\", ROW(Mercantil!$H$12:$H$102)), ROW()-1)), \"\" )","v":""},{"$f":" IF($B140, INDIRECT(\"Mercantil!H\" & SMALL(IF( Mercantil!$H$12:$H$102 = \"\", \"\", ROW(Mercantil!$H$12:$H$102)), ROW()-1)), \"\" )","v":""},{"$f":" IF( B140, SUM($E$2:E140), \"\" )","v":""}]
[null,{"$f":" COUNTIF(Mercantil!$H$12:$H$102, \">0\") >= ROW() - 1","v":false},{"$f":" IF($B141, INDIRECT(\"Mercantil!C\" & SMALL(IF( Mercantil!$H$12:$H$102 = \"\", \"\", ROW(Mercantil!$H$12:$H$102)), ROW()-1)), \"\" )","v":""},{"$f":" IF($B141, INDIRECT(\"Mercantil!D\" & SMALL(IF( Mercantil!$H$12:$H$102 = \"\", \"\", ROW(Mercantil!$H$12:$H$102)), ROW()-1)), \"\" )","v":""},{"$f":" IF($B141, INDIRECT(\"Mercantil!H\" & SMALL(IF( Mercantil!$H$12:$H$102 = \"\", \"\", ROW(Mercantil!$H$12:$H$102)), ROW()-1)), \"\" )","v":""},{"$f":" IF( B141, SUM($E$2:E141), \"\" )","v":""}]
[null,{"$f":" COUNTIF(Mercantil!$H$12:$H$102, \">0\") >= ROW() - 1","v":false},{"$f":" IF($B142, INDIRECT(\"Mercantil!C\" & SMALL(IF( Mercantil!$H$12:$H$102 = \"\", \"\", ROW(Mercantil!$H$12:$H$102)), ROW()-1)), \"\" )","v":""},{"$f":" IF($B142, INDIRECT(\"Mercantil!D\" & SMALL(IF( Mercantil!$H$12:$H$102 = \"\", \"\", ROW(Mercantil!$H$12:$H$102)), ROW()-1)), \"\" )","v":""},{"$f":" IF($B142, INDIRECT(\"Mercantil!H\" & SMALL(IF( Mercantil!$H$12:$H$102 = \"\", \"\", ROW(Mercantil!$H$12:$H$102)), ROW()-1)), \"\" )","v":""},{"$f":" IF( B142, SUM($E$2:E142), \"\" )","v":""}]
[null,{"$f":" COUNTIF(Mercantil!$H$12:$H$102, \">0\") >= ROW() - 1","v":false},{"$f":" IF($B143, INDIRECT(\"Mercantil!C\" & SMALL(IF( Mercantil!$H$12:$H$102 = \"\", \"\", ROW(Mercantil!$H$12:$H$102)), ROW()-1)), \"\" )","v":""},{"$f":" IF($B143, INDIRECT(\"Mercantil!D\" & SMALL(IF( Mercantil!$H$12:$H$102 = \"\", \"\", ROW(Mercantil!$H$12:$H$102)), ROW()-1)), \"\" )","v":""},{"$f":" IF($B143, INDIRECT(\"Mercantil!H\" & SMALL(IF( Mercantil!$H$12:$H$102 = \"\", \"\", ROW(Mercantil!$H$12:$H$102)), ROW()-1)), \"\" )","v":""},{"$f":" IF( B143, SUM($E$2:E143), \"\" )","v":""}]
[null,{"$f":" COUNTIF(Mercantil!$H$12:$H$102, \">0\") >= ROW() - 1","v":false},{"$f":" IF($B144, INDIRECT(\"Mercantil!C\" & SMALL(IF( Mercantil!$H$12:$H$102 = \"\", \"\", ROW(Mercantil!$H$12:$H$102)), ROW()-1)), \"\" )","v":""},{"$f":" IF($B144, INDIRECT(\"Mercantil!D\" & SMALL(IF( Mercantil!$H$12:$H$102 = \"\", \"\", ROW(Mercantil!$H$12:$H$102)), ROW()-1)), \"\" )","v":""},{"$f":" IF($B144, INDIRECT(\"Mercantil!H\" & SMALL(IF( Mercantil!$H$12:$H$102 = \"\", \"\", ROW(Mercantil!$H$12:$H$102)), ROW()-1)), \"\" )","v":""},{"$f":" IF( B144, SUM($E$2:E144), \"\" )","v":""}]
[null,{"$f":" COUNTIF(Mercantil!$H$12:$H$102, \">0\") >= ROW() - 1","v":false},{"$f":" IF($B145, INDIRECT(\"Mercantil!C\" & SMALL(IF( Mercantil!$H$12:$H$102 = \"\", \"\", ROW(Mercantil!$H$12:$H$102)), ROW()-1)), \"\" )","v":""},{"$f":" IF($B145, INDIRECT(\"Mercantil!D\" & SMALL(IF( Mercantil!$H$12:$H$102 = \"\", \"\", ROW(Mercantil!$H$12:$H$102)), ROW()-1)), \"\" )","v":""},{"$f":" IF($B145, INDIRECT(\"Mercantil!H\" & SMALL(IF( Mercantil!$H$12:$H$102 = \"\", \"\", ROW(Mercantil!$H$12:$H$102)), ROW()-1)), \"\" )","v":""},{"$f":" IF( B145, SUM($E$2:E145), \"\" )","v":""}]
[null,{"$f":" COUNTIF(Mercantil!$H$12:$H$102, \">0\") >= ROW() - 1","v":false},{"$f":" IF($B146, INDIRECT(\"Mercantil!C\" & SMALL(IF( Mercantil!$H$12:$H$102 = \"\", \"\", ROW(Mercantil!$H$12:$H$102)), ROW()-1)), \"\" )","v":""},{"$f":" IF($B146, INDIRECT(\"Mercantil!D\" & SMALL(IF( Mercantil!$H$12:$H$102 = \"\", \"\", ROW(Mercantil!$H$12:$H$102)), ROW()-1)), \"\" )","v":""},{"$f":" IF($B146, INDIRECT(\"Mercantil!H\" & SMALL(IF( Mercantil!$H$12:$H$102 = \"\", \"\", ROW(Mercantil!$H$12:$H$102)), ROW()-1)), \"\" )","v":""},{"$f":" IF( B146, SUM($E$2:E146), \"\" )","v":""}]
[null,{"$f":" COUNTIF(Mercantil!$H$12:$H$102, \">0\") >= ROW() - 1","v":false},{"$f":" IF($B147, INDIRECT(\"Mercantil!C\" & SMALL(IF( Mercantil!$H$12:$H$102 = \"\", \"\", ROW(Mercantil!$H$12:$H$102)), ROW()-1)), \"\" )","v":""},{"$f":" IF($B147, INDIRECT(\"Mercantil!D\" & SMALL(IF( Mercantil!$H$12:$H$102 = \"\", \"\", ROW(Mercantil!$H$12:$H$102)), ROW()-1)), \"\" )","v":""},{"$f":" IF($B147, INDIRECT(\"Mercantil!H\" & SMALL(IF( Mercantil!$H$12:$H$102 = \"\", \"\", ROW(Mercantil!$H$12:$H$102)), ROW()-1)), \"\" )","v":""},{"$f":" IF( B147, SUM($E$2:E147), \"\" )","v":""}]
[null,{"$f":" COUNTIF(Mercantil!$H$12:$H$102, \">0\") >= ROW() - 1","v":false},{"$f":" IF($B148, INDIRECT(\"Mercantil!C\" & SMALL(IF( Mercantil!$H$12:$H$102 = \"\", \"\", ROW(Mercantil!$H$12:$H$102)), ROW()-1)), \"\" )","v":""},{"$f":" IF($B148, INDIRECT(\"Mercantil!D\" & SMALL(IF( Mercantil!$H$12:$H$102 = \"\", \"\", ROW(Mercantil!$H$12:$H$102)), ROW()-1)), \"\" )","v":""},{"$f":" IF($B148, INDIRECT(\"Mercantil!H\" & SMALL(IF( Mercantil!$H$12:$H$102 = \"\", \"\", ROW(Mercantil!$H$12:$H$102)), ROW()-1)), \"\" )","v":""},{"$f":" IF( B148, SUM($E$2:E148), \"\" )","v":""}]
[null,{"$f":" COUNTIF(Mercantil!$H$12:$H$102, \">0\") >= ROW() - 1","v":false},{"$f":" IF($B149, INDIRECT(\"Mercantil!C\" & SMALL(IF( Mercantil!$H$12:$H$102 = \"\", \"\", ROW(Mercantil!$H$12:$H$102)), ROW()-1)), \"\" )","v":""},{"$f":" IF($B149, INDIRECT(\"Mercantil!D\" & SMALL(IF( Mercantil!$H$12:$H$102 = \"\", \"\", ROW(Mercantil!$H$12:$H$102)), ROW()-1)), \"\" )","v":""},{"$f":" IF($B149, INDIRECT(\"Mercantil!H\" & SMALL(IF( Mercantil!$H$12:$H$102 = \"\", \"\", ROW(Mercantil!$H$12:$H$102)), ROW()-1)), \"\" )","v":""},{"$f":" IF( B149, SUM($E$2:E149), \"\" )","v":""}]
[null,{"$f":" COUNTIF(Mercantil!$H$12:$H$102, \">0\") >= ROW() - 1","v":false},{"$f":" IF($B150, INDIRECT(\"Mercantil!C\" & SMALL(IF( Mercantil!$H$12:$H$102 = \"\", \"\", ROW(Mercantil!$H$12:$H$102)), ROW()-1)), \"\" )","v":""},{"$f":" IF($B150, INDIRECT(\"Mercantil!D\" & SMALL(IF( Mercantil!$H$12:$H$102 = \"\", \"\", ROW(Mercantil!$H$12:$H$102)), ROW()-1)), \"\" )","v":""},{"$f":" IF($B150, INDIRECT(\"Mercantil!H\" & SMALL(IF( Mercantil!$H$12:$H$102 = \"\", \"\", ROW(Mercantil!$H$12:$H$102)), ROW()-1)), \"\" )","v":""},{"$f":" IF( B150, SUM($E$2:E150), \"\" )","v":""}]
[null,{"$f":" COUNTIF(Mercantil!$H$12:$H$102, \">0\") >= ROW() - 1","v":false},{"$f":" IF($B151, INDIRECT(\"Mercantil!C\" & SMALL(IF( Mercantil!$H$12:$H$102 = \"\", \"\", ROW(Mercantil!$H$12:$H$102)), ROW()-1)), \"\" )","v":""},{"$f":" IF($B151, INDIRECT(\"Mercantil!D\" & SMALL(IF( Mercantil!$H$12:$H$102 = \"\", \"\", ROW(Mercantil!$H$12:$H$102)), ROW()-1)), \"\" )","v":""},{"$f":" IF($B151, INDIRECT(\"Mercantil!H\" & SMALL(IF( Mercantil!$H$12:$H$102 = \"\", \"\", ROW(Mercantil!$H$12:$H$102)), ROW()-1)), \"\" )","v":""},{"$f":" IF( B151, SUM($E$2:E151), \"\" )","v":""}]
[null,{"$f":" COUNTIF(Mercantil!$H$12:$H$102, \">0\") >= ROW() - 1","v":false},{"$f":" IF($B152, INDIRECT(\"Mercantil!C\" & SMALL(IF( Mercantil!$H$12:$H$102 = \"\", \"\", ROW(Mercantil!$H$12:$H$102)), ROW()-1)), \"\" )","v":""},{"$f":" IF($B152, INDIRECT(\"Mercantil!D\" & SMALL(IF( Mercantil!$H$12:$H$102 = \"\", \"\", ROW(Mercantil!$H$12:$H$102)), ROW()-1)), \"\" )","v":""},{"$f":" IF($B152, INDIRECT(\"Mercantil!H\" & SMALL(IF( Mercantil!$H$12:$H$102 = \"\", \"\", ROW(Mercantil!$H$12:$H$102)), ROW()-1)), \"\" )","v":""},{"$f":" IF( B152, SUM($E$2:E152), \"\" )","v":""}]
[null,{"$f":" COUNTIF(Mercantil!$H$12:$H$102, \">0\") >= ROW() - 1","v":false},{"$f":" IF($B153, INDIRECT(\"Mercantil!C\" & SMALL(IF( Mercantil!$H$12:$H$102 = \"\", \"\", ROW(Mercantil!$H$12:$H$102)), ROW()-1)), \"\" )","v":""},{"$f":" IF($B153, INDIRECT(\"Mercantil!D\" & SMALL(IF( Mercantil!$H$12:$H$102 = \"\", \"\", ROW(Mercantil!$H$12:$H$102)), ROW()-1)), \"\" )","v":""},{"$f":" IF($B153, INDIRECT(\"Mercantil!H\" & SMALL(IF( Mercantil!$H$12:$H$102 = \"\", \"\", ROW(Mercantil!$H$12:$H$102)), ROW()-1)), \"\" )","v":""},{"$f":" IF( B153, SUM($E$2:E153), \"\" )","v":""}]
[null,{"$f":" COUNTIF(Mercantil!$H$12:$H$102, \">0\") >= ROW() - 1","v":false},{"$f":" IF($B154, INDIRECT(\"Mercantil!C\" & SMALL(IF( Mercantil!$H$12:$H$102 = \"\", \"\", ROW(Mercantil!$H$12:$H$102)), ROW()-1)), \"\" )","v":""},{"$f":" IF($B154, INDIRECT(\"Mercantil!D\" & SMALL(IF( Mercantil!$H$12:$H$102 = \"\", \"\", ROW(Mercantil!$H$12:$H$102)), ROW()-1)), \"\" )","v":""},{"$f":" IF($B154, INDIRECT(\"Mercantil!H\" & SMALL(IF( Mercantil!$H$12:$H$102 = \"\", \"\", ROW(Mercantil!$H$12:$H$102)), ROW()-1)), \"\" )","v":""},{"$f":" IF( B154, SUM($E$2:E154), \"\" )","v":""}]
[null,{"$f":" COUNTIF(Mercantil!$H$12:$H$102, \">0\") >= ROW() - 1","v":false},{"$f":" IF($B155, INDIRECT(\"Mercantil!C\" & SMALL(IF( Mercantil!$H$12:$H$102 = \"\", \"\", ROW(Mercantil!$H$12:$H$102)), ROW()-1)), \"\" )","v":""},{"$f":" IF($B155, INDIRECT(\"Mercantil!D\" & SMALL(IF( Mercantil!$H$12:$H$102 = \"\", \"\", ROW(Mercantil!$H$12:$H$102)), ROW()-1)), \"\" )","v":""},{"$f":" IF($B155, INDIRECT(\"Mercantil!H\" & SMALL(IF( Mercantil!$H$12:$H$102 = \"\", \"\", ROW(Mercantil!$H$12:$H$102)), ROW()-1)), \"\" )","v":""},{"$f":" IF( B155, SUM($E$2:E155), \"\" )","v":""}]
[null,{"$f":" COUNTIF(Mercantil!$H$12:$H$102, \">0\") >= ROW() - 1","v":false},{"$f":" IF($B156, INDIRECT(\"Mercantil!C\" & SMALL(IF( Mercantil!$H$12:$H$102 = \"\", \"\", ROW(Mercantil!$H$12:$H$102)), ROW()-1)), \"\" )","v":""},{"$f":" IF($B156, INDIRECT(\"Mercantil!D\" & SMALL(IF( Mercantil!$H$12:$H$102 = \"\", \"\", ROW(Mercantil!$H$12:$H$102)), ROW()-1)), \"\" )","v":""},{"$f":" IF($B156, INDIRECT(\"Mercantil!H\" & SMALL(IF( Mercantil!$H$12:$H$102 = \"\", \"\", ROW(Mercantil!$H$12:$H$102)), ROW()-1)), \"\" )","v":""},{"$f":" IF( B156, SUM($E$2:E156), \"\" )","v":""}]
[null,{"$f":" COUNTIF(Mercantil!$H$12:$H$102, \">0\") >= ROW() - 1","v":false},{"$f":" IF($B157, INDIRECT(\"Mercantil!C\" & SMALL(IF( Mercantil!$H$12:$H$102 = \"\", \"\", ROW(Mercantil!$H$12:$H$102)), ROW()-1)), \"\" )","v":""},{"$f":" IF($B157, INDIRECT(\"Mercantil!D\" & SMALL(IF( Mercantil!$H$12:$H$102 = \"\", \"\", ROW(Mercantil!$H$12:$H$102)), ROW()-1)), \"\" )","v":""},{"$f":" IF($B157, INDIRECT(\"Mercantil!H\" & SMALL(IF( Mercantil!$H$12:$H$102 = \"\", \"\", ROW(Mercantil!$H$12:$H$102)), ROW()-1)), \"\" )","v":""},{"$f":" IF( B157, SUM($E$2:E157), \"\" )","v":""}]
[null,{"$f":" COUNTIF(Mercantil!$H$12:$H$102, \">0\") >= ROW() - 1","v":false},{"$f":" IF($B158, INDIRECT(\"Mercantil!C\" & SMALL(IF( Mercantil!$H$12:$H$102 = \"\", \"\", ROW(Mercantil!$H$12:$H$102)), ROW()-1)), \"\" )","v":""},{"$f":" IF($B158, INDIRECT(\"Mercantil!D\" & SMALL(IF( Mercantil!$H$12:$H$102 = \"\", \"\", ROW(Mercantil!$H$12:$H$102)), ROW()-1)), \"\" )","v":""},{"$f":" IF($B158, INDIRECT(\"Mercantil!H\" & SMALL(IF( Mercantil!$H$12:$H$102 = \"\", \"\", ROW(Mercantil!$H$12:$H$102)), ROW()-1)), \"\" )","v":""},{"$f":" IF( B158, SUM($E$2:E158), \"\" )","v":""}]
[null,{"$f":" COUNTIF(Mercantil!$H$12:$H$102, \">0\") >= ROW() - 1","v":false},{"$f":" IF($B159, INDIRECT(\"Mercantil!C\" & SMALL(IF( Mercantil!$H$12:$H$102 = \"\", \"\", ROW(Mercantil!$H$12:$H$102)), ROW()-1)), \"\" )","v":""},{"$f":" IF($B159, INDIRECT(\"Mercantil!D\" & SMALL(IF( Mercantil!$H$12:$H$102 = \"\", \"\", ROW(Mercantil!$H$12:$H$102)), ROW()-1)), \"\" )","v":""},{"$f":" IF($B159, INDIRECT(\"Mercantil!H\" & SMALL(IF( Mercantil!$H$12:$H$102 = \"\", \"\", ROW(Mercantil!$H$12:$H$102)), ROW()-1)), \"\" )","v":""},{"$f":" IF( B159, SUM($E$2:E159), \"\" )","v":""}]
[null,{"$f":" COUNTIF(Mercantil!$H$12:$H$102, \">0\") >= ROW() - 1","v":false},{"$f":" IF($B160, INDIRECT(\"Mercantil!C\" & SMALL(IF( Mercantil!$H$12:$H$102 = \"\", \"\", ROW(Mercantil!$H$12:$H$102)), ROW()-1)), \"\" )","v":""},{"$f":" IF($B160, INDIRECT(\"Mercantil!D\" & SMALL(IF( Mercantil!$H$12:$H$102 = \"\", \"\", ROW(Mercantil!$H$12:$H$102)), ROW()-1)), \"\" )","v":""},{"$f":" IF($B160, INDIRECT(\"Mercantil!H\" & SMALL(IF( Mercantil!$H$12:$H$102 = \"\", \"\", ROW(Mercantil!$H$12:$H$102)), ROW()-1)), \"\" )","v":""},{"$f":" IF( B160, SUM($E$2:E160), \"\" )","v":""}]
[null,{"$f":" COUNTIF(Mercantil!$H$12:$H$102, \">0\") >= ROW() - 1","v":false},{"$f":" IF($B161, INDIRECT(\"Mercantil!C\" & SMALL(IF( Mercantil!$H$12:$H$102 = \"\", \"\", ROW(Mercantil!$H$12:$H$102)), ROW()-1)), \"\" )","v":""},{"$f":" IF($B161, INDIRECT(\"Mercantil!D\" & SMALL(IF( Mercantil!$H$12:$H$102 = \"\", \"\", ROW(Mercantil!$H$12:$H$102)), ROW()-1)), \"\" )","v":""},{"$f":" IF($B161, INDIRECT(\"Mercantil!H\" & SMALL(IF( Mercantil!$H$12:$H$102 = \"\", \"\", ROW(Mercantil!$H$12:$H$102)), ROW()-1)), \"\" )","v":""},{"$f":" IF( B161, SUM($E$2:E161), \"\" )","v":""}]
[null,{"$f":" COUNTIF(Mercantil!$H$12:$H$102, \">0\") >= ROW() - 1","v":false},{"$f":" IF($B162, INDIRECT(\"Mercantil!C\" & SMALL(IF( Mercantil!$H$12:$H$102 = \"\", \"\", ROW(Mercantil!$H$12:$H$102)), ROW()-1)), \"\" )","v":""},{"$f":" IF($B162, INDIRECT(\"Mercantil!D\" & SMALL(IF( Mercantil!$H$12:$H$102 = \"\", \"\", ROW(Mercantil!$H$12:$H$102)), ROW()-1)), \"\" )","v":""},{"$f":" IF($B162, INDIRECT(\"Mercantil!H\" & SMALL(IF( Mercantil!$H$12:$H$102 = \"\", \"\", ROW(Mercantil!$H$12:$H$102)), ROW()-1)), \"\" )","v":""},{"$f":" IF( B162, SUM($E$2:E162), \"\" )","v":""}]
[null,{"$f":" COUNTIF(Mercantil!$H$12:$H$102, \">0\") >= ROW() - 1","v":false},{"$f":" IF($B163, INDIRECT(\"Mercantil!C\" & SMALL(IF( Mercantil!$H$12:$H$102 = \"\", \"\", ROW(Mercantil!$H$12:$H$102)), ROW()-1)), \"\" )","v":""},{"$f":" IF($B163, INDIRECT(\"Mercantil!D\" & SMALL(IF( Mercantil!$H$12:$H$102 = \"\", \"\", ROW(Mercantil!$H$12:$H$102)), ROW()-1)), \"\" )","v":""},{"$f":" IF($B163, INDIRECT(\"Mercantil!H\" & SMALL(IF( Mercantil!$H$12:$H$102 = \"\", \"\", ROW(Mercantil!$H$12:$H$102)), ROW()-1)), \"\" )","v":""},{"$f":" IF( B163, SUM($E$2:E163), \"\" )","v":""}]
[null,{"$f":" COUNTIF(Mercantil!$H$12:$H$102, \">0\") >= ROW() - 1","v":false},{"$f":" IF($B164, INDIRECT(\"Mercantil!C\" & SMALL(IF( Mercantil!$H$12:$H$102 = \"\", \"\", ROW(Mercantil!$H$12:$H$102)), ROW()-1)), \"\" )","v":""},{"$f":" IF($B164, INDIRECT(\"Mercantil!D\" & SMALL(IF( Mercantil!$H$12:$H$102 = \"\", \"\", ROW(Mercantil!$H$12:$H$102)), ROW()-1)), \"\" )","v":""},{"$f":" IF($B164, INDIRECT(\"Mercantil!H\" & SMALL(IF( Mercantil!$H$12:$H$102 = \"\", \"\", ROW(Mercantil!$H$12:$H$102)), ROW()-1)), \"\" )","v":""},{"$f":" IF( B164, SUM($E$2:E164), \"\" )","v":""}]
[null,{"$f":" COUNTIF(Mercantil!$H$12:$H$102, \">0\") >= ROW() - 1","v":false},{"$f":" IF($B165, INDIRECT(\"Mercantil!C\" & SMALL(IF( Mercantil!$H$12:$H$102 = \"\", \"\", ROW(Mercantil!$H$12:$H$102)), ROW()-1)), \"\" )","v":""},{"$f":" IF($B165, INDIRECT(\"Mercantil!D\" & SMALL(IF( Mercantil!$H$12:$H$102 = \"\", \"\", ROW(Mercantil!$H$12:$H$102)), ROW()-1)), \"\" )","v":""},{"$f":" IF($B165, INDIRECT(\"Mercantil!H\" & SMALL(IF( Mercantil!$H$12:$H$102 = \"\", \"\", ROW(Mercantil!$H$12:$H$102)), ROW()-1)), \"\" )","v":""},{"$f":" IF( B165, SUM($E$2:E165), \"\" )","v":""}]
[null,{"$f":" COUNTIF(Mercantil!$H$12:$H$102, \">0\") >= ROW() - 1","v":false},{"$f":" IF($B166, INDIRECT(\"Mercantil!C\" & SMALL(IF( Mercantil!$H$12:$H$102 = \"\", \"\", ROW(Mercantil!$H$12:$H$102)), ROW()-1)), \"\" )","v":""},{"$f":" IF($B166, INDIRECT(\"Mercantil!D\" & SMALL(IF( Mercantil!$H$12:$H$102 = \"\", \"\", ROW(Mercantil!$H$12:$H$102)), ROW()-1)), \"\" )","v":""},{"$f":" IF($B166, INDIRECT(\"Mercantil!H\" & SMALL(IF( Mercantil!$H$12:$H$102 = \"\", \"\", ROW(Mercantil!$H$12:$H$102)), ROW()-1)), \"\" )","v":""},{"$f":" IF( B166, SUM($E$2:E166), \"\" )","v":""}]
[null,{"$f":" COUNTIF(Mercantil!$H$12:$H$102, \">0\") >= ROW() - 1","v":false},{"$f":" IF($B167, INDIRECT(\"Mercantil!C\" & SMALL(IF( Mercantil!$H$12:$H$102 = \"\", \"\", ROW(Mercantil!$H$12:$H$102)), ROW()-1)), \"\" )","v":""},{"$f":" IF($B167, INDIRECT(\"Mercantil!D\" & SMALL(IF( Mercantil!$H$12:$H$102 = \"\", \"\", ROW(Mercantil!$H$12:$H$102)), ROW()-1)), \"\" )","v":""},{"$f":" IF($B167, INDIRECT(\"Mercantil!H\" & SMALL(IF( Mercantil!$H$12:$H$102 = \"\", \"\", ROW(Mercantil!$H$12:$H$102)), ROW()-1)), \"\" )","v":""},{"$f":" IF( B167, SUM($E$2:E167), \"\" )","v":""}]
[null,{"$f":" COUNTIF(Mercantil!$H$12:$H$102, \">0\") >= ROW() - 1","v":false},{"$f":" IF($B168, INDIRECT(\"Mercantil!C\" & SMALL(IF( Mercantil!$H$12:$H$102 = \"\", \"\", ROW(Mercantil!$H$12:$H$102)), ROW()-1)), \"\" )","v":""},{"$f":" IF($B168, INDIRECT(\"Mercantil!D\" & SMALL(IF( Mercantil!$H$12:$H$102 = \"\", \"\", ROW(Mercantil!$H$12:$H$102)), ROW()-1)), \"\" )","v":""},{"$f":" IF($B168, INDIRECT(\"Mercantil!H\" & SMALL(IF( Mercantil!$H$12:$H$102 = \"\", \"\", ROW(Mercantil!$H$12:$H$102)), ROW()-1)), \"\" )","v":""},{"$f":" IF( B168, SUM($E$2:E168), \"\" )","v":""}]
[null,{"$f":" COUNTIF(Mercantil!$H$12:$H$102, \">0\") >= ROW() - 1","v":false},{"$f":" IF($B169, INDIRECT(\"Mercantil!C\" & SMALL(IF( Mercantil!$H$12:$H$102 = \"\", \"\", ROW(Mercantil!$H$12:$H$102)), ROW()-1)), \"\" )","v":""},{"$f":" IF($B169, INDIRECT(\"Mercantil!D\" & SMALL(IF( Mercantil!$H$12:$H$102 = \"\", \"\", ROW(Mercantil!$H$12:$H$102)), ROW()-1)), \"\" )","v":""},{"$f":" IF($B169, INDIRECT(\"Mercantil!H\" & SMALL(IF( Mercantil!$H$12:$H$102 = \"\", \"\", ROW(Mercantil!$H$12:$H$102)), ROW()-1)), \"\" )","v":""},{"$f":" IF( B169, SUM($E$2:E169), \"\" )","v":""}]
[null,{"$f":" COUNTIF(Mercantil!$H$12:$H$102, \">0\") >= ROW() - 1","v":false},{"$f":" IF($B170, INDIRECT(\"Mercantil!C\" & SMALL(IF( Mercantil!$H$12:$H$102 = \"\", \"\", ROW(Mercantil!$H$12:$H$102)), ROW()-1)), \"\" )","v":""},{"$f":" IF($B170, INDIRECT(\"Mercantil!D\" & SMALL(IF( Mercantil!$H$12:$H$102 = \"\", \"\", ROW(Mercantil!$H$12:$H$102)), ROW()-1)), \"\" )","v":""},{"$f":" IF($B170, INDIRECT(\"Mercantil!H\" & SMALL(IF( Mercantil!$H$12:$H$102 = \"\", \"\", ROW(Mercantil!$H$12:$H$102)), ROW()-1)), \"\" )","v":""},{"$f":" IF( B170, SUM($E$2:E170), \"\" )","v":""}]
[null,{"$f":" COUNTIF(Mercantil!$H$12:$H$102, \">0\") >= ROW() - 1","v":false},{"$f":" IF($B171, INDIRECT(\"Mercantil!C\" & SMALL(IF( Mercantil!$H$12:$H$102 = \"\", \"\", ROW(Mercantil!$H$12:$H$102)), ROW()-1)), \"\" )","v":""},{"$f":" IF($B171, INDIRECT(\"Mercantil!D\" & SMALL(IF( Mercantil!$H$12:$H$102 = \"\", \"\", ROW(Mercantil!$H$12:$H$102)), ROW()-1)), \"\" )","v":""},{"$f":" IF($B171, INDIRECT(\"Mercantil!H\" & SMALL(IF( Mercantil!$H$12:$H$102 = \"\", \"\", ROW(Mercantil!$H$12:$H$102)), ROW()-1)), \"\" )","v":""},{"$f":" IF( B171, SUM($E$2:E171), \"\" )","v":""}]
[null,{"$f":" COUNTIF(Mercantil!$H$12:$H$102, \">0\") >= ROW() - 1","v":false},{"$f":" IF($B172, INDIRECT(\"Mercantil!C\" & SMALL(IF( Mercantil!$H$12:$H$102 = \"\", \"\", ROW(Mercantil!$H$12:$H$102)), ROW()-1)), \"\" )","v":""},{"$f":" IF($B172, INDIRECT(\"Mercantil!D\" & SMALL(IF( Mercantil!$H$12:$H$102 = \"\", \"\", ROW(Mercantil!$H$12:$H$102)), ROW()-1)), \"\" )","v":""},{"$f":" IF($B172, INDIRECT(\"Mercantil!H\" & SMALL(IF( Mercantil!$H$12:$H$102 = \"\", \"\", ROW(Mercantil!$H$12:$H$102)), ROW()-1)), \"\" )","v":""},{"$f":" IF( B172, SUM($E$2:E172), \"\" )","v":""}]
[null,{"$f":" COUNTIF(Mercantil!$H$12:$H$102, \">0\") >= ROW() - 1","v":false},{"$f":" IF($B173, INDIRECT(\"Mercantil!C\" & SMALL(IF( Mercantil!$H$12:$H$102 = \"\", \"\", ROW(Mercantil!$H$12:$H$102)), ROW()-1)), \"\" )","v":""},{"$f":" IF($B173, INDIRECT(\"Mercantil!D\" & SMALL(IF( Mercantil!$H$12:$H$102 = \"\", \"\", ROW(Mercantil!$H$12:$H$102)), ROW()-1)), \"\" )","v":""},{"$f":" IF($B173, INDIRECT(\"Mercantil!H\" & SMALL(IF( Mercantil!$H$12:$H$102 = \"\", \"\", ROW(Mercantil!$H$12:$H$102)), ROW()-1)), \"\" )","v":""},{"$f":" IF( B173, SUM($E$2:E173), \"\" )","v":""}]
[null,{"$f":" COUNTIF(Mercantil!$H$12:$H$102, \">0\") >= ROW() - 1","v":false},{"$f":" IF($B174, INDIRECT(\"Mercantil!C\" & SMALL(IF( Mercantil!$H$12:$H$102 = \"\", \"\", ROW(Mercantil!$H$12:$H$102)), ROW()-1)), \"\" )","v":""},{"$f":" IF($B174, INDIRECT(\"Mercantil!D\" & SMALL(IF( Mercantil!$H$12:$H$102 = \"\", \"\", ROW(Mercantil!$H$12:$H$102)), ROW()-1)), \"\" )","v":""},{"$f":" IF($B174, INDIRECT(\"Mercantil!H\" & SMALL(IF( Mercantil!$H$12:$H$102 = \"\", \"\", ROW(Mercantil!$H$12:$H$102)), ROW()-1)), \"\" )","v":""},{"$f":" IF( B174, SUM($E$2:E174), \"\" )","v":""}]
[null,{"$f":" COUNTIF(Mercantil!$H$12:$H$102, \">0\") >= ROW() - 1","v":false},{"$f":" IF($B175, INDIRECT(\"Mercantil!C\" & SMALL(IF( Mercantil!$H$12:$H$102 = \"\", \"\", ROW(Mercantil!$H$12:$H$102)), ROW()-1)), \"\" )","v":""},{"$f":" IF($B175, INDIRECT(\"Mercantil!D\" & SMALL(IF( Mercantil!$H$12:$H$102 = \"\", \"\", ROW(Mercantil!$H$12:$H$102)), ROW()-1)), \"\" )","v":""},{"$f":" IF($B175, INDIRECT(\"Mercantil!H\" & SMALL(IF( Mercantil!$H$12:$H$102 = \"\", \"\", ROW(Mercantil!$H$12:$H$102)), ROW()-1)), \"\" )","v":""},{"$f":" IF( B175, SUM($E$2:E175), \"\" )","v":""}]
[null,{"$f":" COUNTIF(Mercantil!$H$12:$H$102, \">0\") >= ROW() - 1","v":false},{"$f":" IF($B176, INDIRECT(\"Mercantil!C\" & SMALL(IF( Mercantil!$H$12:$H$102 = \"\", \"\", ROW(Mercantil!$H$12:$H$102)), ROW()-1)), \"\" )","v":""},{"$f":" IF($B176, INDIRECT(\"Mercantil!D\" & SMALL(IF( Mercantil!$H$12:$H$102 = \"\", \"\", ROW(Mercantil!$H$12:$H$102)), ROW()-1)), \"\" )","v":""},{"$f":" IF($B176, INDIRECT(\"Mercantil!H\" & SMALL(IF( Mercantil!$H$12:$H$102 = \"\", \"\", ROW(Mercantil!$H$12:$H$102)), ROW()-1)), \"\" )","v":""},{"$f":" IF( B176, SUM($E$2:E176), \"\" )","v":""}]
[null,{"$f":" COUNTIF(Mercantil!$H$12:$H$102, \">0\") >= ROW() - 1","v":false},{"$f":" IF($B177, INDIRECT(\"Mercantil!C\" & SMALL(IF( Mercantil!$H$12:$H$102 = \"\", \"\", ROW(Mercantil!$H$12:$H$102)), ROW()-1)), \"\" )","v":""},{"$f":" IF($B177, INDIRECT(\"Mercantil!D\" & SMALL(IF( Mercantil!$H$12:$H$102 = \"\", \"\", ROW(Mercantil!$H$12:$H$102)), ROW()-1)), \"\" )","v":""},{"$f":" IF($B177, INDIRECT(\"Mercantil!H\" & SMALL(IF( Mercantil!$H$12:$H$102 = \"\", \"\", ROW(Mercantil!$H$12:$H$102)), ROW()-1)), \"\" )","v":""},{"$f":" IF( B177, SUM($E$2:E177), \"\" )","v":""}]
[null,{"$f":" COUNTIF(Mercantil!$H$12:$H$102, \">0\") >= ROW() - 1","v":false},{"$f":" IF($B178, INDIRECT(\"Mercantil!C\" & SMALL(IF( Mercantil!$H$12:$H$102 = \"\", \"\", ROW(Mercantil!$H$12:$H$102)), ROW()-1)), \"\" )","v":""},{"$f":" IF($B178, INDIRECT(\"Mercantil!D\" & SMALL(IF( Mercantil!$H$12:$H$102 = \"\", \"\", ROW(Mercantil!$H$12:$H$102)), ROW()-1)), \"\" )","v":""},{"$f":" IF($B178, INDIRECT(\"Mercantil!H\" & SMALL(IF( Mercantil!$H$12:$H$102 = \"\", \"\", ROW(Mercantil!$H$12:$H$102)), ROW()-1)), \"\" )","v":""},{"$f":" IF( B178, SUM($E$2:E178), \"\" )","v":""}]
[null,{"$f":" COUNTIF(Mercantil!$H$12:$H$102, \">0\") >= ROW() - 1","v":false},{"$f":" IF($B179, INDIRECT(\"Mercantil!C\" & SMALL(IF( Mercantil!$H$12:$H$102 = \"\", \"\", ROW(Mercantil!$H$12:$H$102)), ROW()-1)), \"\" )","v":""},{"$f":" IF($B179, INDIRECT(\"Mercantil!D\" & SMALL(IF( Mercantil!$H$12:$H$102 = \"\", \"\", ROW(Mercantil!$H$12:$H$102)), ROW()-1)), \"\" )","v":""},{"$f":" IF($B179, INDIRECT(\"Mercantil!H\" & SMALL(IF( Mercantil!$H$12:$H$102 = \"\", \"\", ROW(Mercantil!$H$12:$H$102)), ROW()-1)), \"\" )","v":""},{"$f":" IF( B179, SUM($E$2:E179), \"\" )","v":""}]
[null,{"$f":" COUNTIF(Mercantil!$H$12:$H$102, \">0\") >= ROW() - 1","v":false},{"$f":" IF($B180, INDIRECT(\"Mercantil!C\" & SMALL(IF( Mercantil!$H$12:$H$102 = \"\", \"\", ROW(Mercantil!$H$12:$H$102)), ROW()-1)), \"\" )","v":""},{"$f":" IF($B180, INDIRECT(\"Mercantil!D\" & SMALL(IF( Mercantil!$H$12:$H$102 = \"\", \"\", ROW(Mercantil!$H$12:$H$102)), ROW()-1)), \"\" )","v":""},{"$f":" IF($B180, INDIRECT(\"Mercantil!H\" & SMALL(IF( Mercantil!$H$12:$H$102 = \"\", \"\", ROW(Mercantil!$H$12:$H$102)), ROW()-1)), \"\" )","v":""},{"$f":" IF( B180, SUM($E$2:E180), \"\" )","v":""}]
[null,{"$f":" COUNTIF(Mercantil!$H$12:$H$102, \">0\") >= ROW() - 1","v":false},{"$f":" IF($B181, INDIRECT(\"Mercantil!C\" & SMALL(IF( Mercantil!$H$12:$H$102 = \"\", \"\", ROW(Mercantil!$H$12:$H$102)), ROW()-1)), \"\" )","v":""},{"$f":" IF($B181, INDIRECT(\"Mercantil!D\" & SMALL(IF( Mercantil!$H$12:$H$102 = \"\", \"\", ROW(Mercantil!$H$12:$H$102)), ROW()-1)), \"\" )","v":""},{"$f":" IF($B181, INDIRECT(\"Mercantil!H\" & SMALL(IF( Mercantil!$H$12:$H$102 = \"\", \"\", ROW(Mercantil!$H$12:$H$102)), ROW()-1)), \"\" )","v":""},{"$f":" IF( B181, SUM($E$2:E181), \"\" )","v":""}]
[null,{"$f":" COUNTIF(Mercantil!$H$12:$H$102, \">0\") >= ROW() - 1","v":false},{"$f":" IF($B182, INDIRECT(\"Mercantil!C\" & SMALL(IF( Mercantil!$H$12:$H$102 = \"\", \"\", ROW(Mercantil!$H$12:$H$102)), ROW()-1)), \"\" )","v":""},{"$f":" IF($B182, INDIRECT(\"Mercantil!D\" & SMALL(IF( Mercantil!$H$12:$H$102 = \"\", \"\", ROW(Mercantil!$H$12:$H$102)), ROW()-1)), \"\" )","v":""},{"$f":" IF($B182, INDIRECT(\"Mercantil!H\" & SMALL(IF( Mercantil!$H$12:$H$102 = \"\", \"\", ROW(Mercantil!$H$12:$H$102)), ROW()-1)), \"\" )","v":""},{"$f":" IF( B182, SUM($E$2:E182), \"\" )","v":""}]
[null,{"$f":" COUNTIF(Mercantil!$H$12:$H$102, \">0\") >= ROW() - 1","v":false},{"$f":" IF($B183, INDIRECT(\"Mercantil!C\" & SMALL(IF( Mercantil!$H$12:$H$102 = \"\", \"\", ROW(Mercantil!$H$12:$H$102)), ROW()-1)), \"\" )","v":""},{"$f":" IF($B183, INDIRECT(\"Mercantil!D\" & SMALL(IF( Mercantil!$H$12:$H$102 = \"\", \"\", ROW(Mercantil!$H$12:$H$102)), ROW()-1)), \"\" )","v":""},{"$f":" IF($B183, INDIRECT(\"Mercantil!H\" & SMALL(IF( Mercantil!$H$12:$H$102 = \"\", \"\", ROW(Mercantil!$H$12:$H$102)), ROW()-1)), \"\" )","v":""},{"$f":" IF( B183, SUM($E$2:E183), \"\" )","v":""}]
[null,{"$f":" COUNTIF(Mercantil!$H$12:$H$102, \">0\") >= ROW() - 1","v":false},{"$f":" IF($B184, INDIRECT(\"Mercantil!C\" & SMALL(IF( Mercantil!$H$12:$H$102 = \"\", \"\", ROW(Mercantil!$H$12:$H$102)), ROW()-1)), \"\" )","v":""},{"$f":" IF($B184, INDIRECT(\"Mercantil!D\" & SMALL(IF( Mercantil!$H$12:$H$102 = \"\", \"\", ROW(Mercantil!$H$12:$H$102)), ROW()-1)), \"\" )","v":""},{"$f":" IF($B184, INDIRECT(\"Mercantil!H\" & SMALL(IF( Mercantil!$H$12:$H$102 = \"\", \"\", ROW(Mercantil!$H$12:$H$102)), ROW()-1)), \"\" )","v":""},{"$f":" IF( B184, SUM($E$2:E184), \"\" )","v":""}]
[null,{"$f":" COUNTIF(Mercantil!$H$12:$H$102, \">0\") >= ROW() - 1","v":false},{"$f":" IF($B185, INDIRECT(\"Mercantil!C\" & SMALL(IF( Mercantil!$H$12:$H$102 = \"\", \"\", ROW(Mercantil!$H$12:$H$102)), ROW()-1)), \"\" )","v":""},{"$f":" IF($B185, INDIRECT(\"Mercantil!D\" & SMALL(IF( Mercantil!$H$12:$H$102 = \"\", \"\", ROW(Mercantil!$H$12:$H$102)), ROW()-1)), \"\" )","v":""},{"$f":" IF($B185, INDIRECT(\"Mercantil!H\" & SMALL(IF( Mercantil!$H$12:$H$102 = \"\", \"\", ROW(Mercantil!$H$12:$H$102)), ROW()-1)), \"\" )","v":""},{"$f":" IF( B185, SUM($E$2:E185), \"\" )","v":""}]
[null,{"$f":" COUNTIF(Mercantil!$H$12:$H$102, \">0\") >= ROW() - 1","v":false},{"$f":" IF($B186, INDIRECT(\"Mercantil!C\" & SMALL(IF( Mercantil!$H$12:$H$102 = \"\", \"\", ROW(Mercantil!$H$12:$H$102)), ROW()-1)), \"\" )","v":""},{"$f":" IF($B186, INDIRECT(\"Mercantil!D\" & SMALL(IF( Mercantil!$H$12:$H$102 = \"\", \"\", ROW(Mercantil!$H$12:$H$102)), ROW()-1)), \"\" )","v":""},{"$f":" IF($B186, INDIRECT(\"Mercantil!H\" & SMALL(IF( Mercantil!$H$12:$H$102 = \"\", \"\", ROW(Mercantil!$H$12:$H$102)), ROW()-1)), \"\" )","v":""},{"$f":" IF( B186, SUM($E$2:E186), \"\" )","v":""}]
[null,{"$f":" COUNTIF(Mercantil!$H$12:$H$102, \">0\") >= ROW() - 1","v":false},{"$f":" IF($B187, INDIRECT(\"Mercantil!C\" & SMALL(IF( Mercantil!$H$12:$H$102 = \"\", \"\", ROW(Mercantil!$H$12:$H$102)), ROW()-1)), \"\" )","v":""},{"$f":" IF($B187, INDIRECT(\"Mercantil!D\" & SMALL(IF( Mercantil!$H$12:$H$102 = \"\", \"\", ROW(Mercantil!$H$12:$H$102)), ROW()-1)), \"\" )","v":""},{"$f":" IF($B187, INDIRECT(\"Mercantil!H\" & SMALL(IF( Mercantil!$H$12:$H$102 = \"\", \"\", ROW(Mercantil!$H$12:$H$102)), ROW()-1)), \"\" )","v":""},{"$f":" IF( B187, SUM($E$2:E187), \"\" )","v":""}]
[null,{"$f":" COUNTIF(Mercantil!$H$12:$H$102, \">0\") >= ROW() - 1","v":false},{"$f":" IF($B188, INDIRECT(\"Mercantil!C\" & SMALL(IF( Mercantil!$H$12:$H$102 = \"\", \"\", ROW(Mercantil!$H$12:$H$102)), ROW()-1)), \"\" )","v":""},{"$f":" IF($B188, INDIRECT(\"Mercantil!D\" & SMALL(IF( Mercantil!$H$12:$H$102 = \"\", \"\", ROW(Mercantil!$H$12:$H$102)), ROW()-1)), \"\" )","v":""},{"$f":" IF($B188, INDIRECT(\"Mercantil!H\" & SMALL(IF( Mercantil!$H$12:$H$102 = \"\", \"\", ROW(Mercantil!$H$12:$H$102)), ROW()-1)), \"\" )","v":""},{"$f":" IF( B188, SUM($E$2:E188), \"\" )","v":""}]
[null,{"$f":" COUNTIF(Mercantil!$H$12:$H$102, \">0\") >= ROW() - 1","v":false},{"$f":" IF($B189, INDIRECT(\"Mercantil!C\" & SMALL(IF( Mercantil!$H$12:$H$102 = \"\", \"\", ROW(Mercantil!$H$12:$H$102)), ROW()-1)), \"\" )","v":""},{"$f":" IF($B189, INDIRECT(\"Mercantil!D\" & SMALL(IF( Mercantil!$H$12:$H$102 = \"\", \"\", ROW(Mercantil!$H$12:$H$102)), ROW()-1)), \"\" )","v":""},{"$f":" IF($B189, INDIRECT(\"Mercantil!H\" & SMALL(IF( Mercantil!$H$12:$H$102 = \"\", \"\", ROW(Mercantil!$H$12:$H$102)), ROW()-1)), \"\" )","v":""},{"$f":" IF( B189, SUM($E$2:E189), \"\" )","v":""}]
[null,{"$f":" COUNTIF(Mercantil!$H$12:$H$102, \">0\") >= ROW() - 1","v":false},{"$f":" IF($B190, INDIRECT(\"Mercantil!C\" & SMALL(IF( Mercantil!$H$12:$H$102 = \"\", \"\", ROW(Mercantil!$H$12:$H$102)), ROW()-1)), \"\" )","v":""},{"$f":" IF($B190, INDIRECT(\"Mercantil!D\" & SMALL(IF( Mercantil!$H$12:$H$102 = \"\", \"\", ROW(Mercantil!$H$12:$H$102)), ROW()-1)), \"\" )","v":""},{"$f":" IF($B190, INDIRECT(\"Mercantil!H\" & SMALL(IF( Mercantil!$H$12:$H$102 = \"\", \"\", ROW(Mercantil!$H$12:$H$102)), ROW()-1)), \"\" )","v":""},{"$f":" IF( B190, SUM($E$2:E190), \"\" )","v":""}]
[null,{"$f":" COUNTIF(Mercantil!$H$12:$H$102, \">0\") >= ROW() - 1","v":false},{"$f":" IF($B191, INDIRECT(\"Mercantil!C\" & SMALL(IF( Mercantil!$H$12:$H$102 = \"\", \"\", ROW(Mercantil!$H$12:$H$102)), ROW()-1)), \"\" )","v":""},{"$f":" IF($B191, INDIRECT(\"Mercantil!D\" & SMALL(IF( Mercantil!$H$12:$H$102 = \"\", \"\", ROW(Mercantil!$H$12:$H$102)), ROW()-1)), \"\" )","v":""},{"$f":" IF($B191, INDIRECT(\"Mercantil!H\" & SMALL(IF( Mercantil!$H$12:$H$102 = \"\", \"\", ROW(Mercantil!$H$12:$H$102)), ROW()-1)), \"\" )","v":""},{"$f":" IF( B191, SUM($E$2:E191), \"\" )","v":""}]
[null,{"$f":" COUNTIF(Mercantil!$H$12:$H$102, \">0\") >= ROW() - 1","v":false},{"$f":" IF($B192, INDIRECT(\"Mercantil!C\" & SMALL(IF( Mercantil!$H$12:$H$102 = \"\", \"\", ROW(Mercantil!$H$12:$H$102)), ROW()-1)), \"\" )","v":""},{"$f":" IF($B192, INDIRECT(\"Mercantil!D\" & SMALL(IF( Mercantil!$H$12:$H$102 = \"\", \"\", ROW(Mercantil!$H$12:$H$102)), ROW()-1)), \"\" )","v":""},{"$f":" IF($B192, INDIRECT(\"Mercantil!H\" & SMALL(IF( Mercantil!$H$12:$H$102 = \"\", \"\", ROW(Mercantil!$H$12:$H$102)), ROW()-1)), \"\" )","v":""},{"$f":" IF( B192, SUM($E$2:E192), \"\" )","v":""}]
[null,{"$f":" COUNTIF(Mercantil!$H$12:$H$102, \">0\") >= ROW() - 1","v":false},{"$f":" IF($B193, INDIRECT(\"Mercantil!C\" & SMALL(IF( Mercantil!$H$12:$H$102 = \"\", \"\", ROW(Mercantil!$H$12:$H$102)), ROW()-1)), \"\" )","v":""},{"$f":" IF($B193, INDIRECT(\"Mercantil!D\" & SMALL(IF( Mercantil!$H$12:$H$102 = \"\", \"\", ROW(Mercantil!$H$12:$H$102)), ROW()-1)), \"\" )","v":""},{"$f":" IF($B193, INDIRECT(\"Mercantil!H\" & SMALL(IF( Mercantil!$H$12:$H$102 = \"\", \"\", ROW(Mercantil!$H$12:$H$102)), ROW()-1)), \"\" )","v":""},{"$f":" IF( B193, SUM($E$2:E193), \"\" )","v":""}]
[null,{"$f":" COUNTIF(Mercantil!$H$12:$H$102, \">0\") >= ROW() - 1","v":false},{"$f":" IF($B194, INDIRECT(\"Mercantil!C\" & SMALL(IF( Mercantil!$H$12:$H$102 = \"\", \"\", ROW(Mercantil!$H$12:$H$102)), ROW()-1)), \"\" )","v":""},{"$f":" IF($B194, INDIRECT(\"Mercantil!D\" & SMALL(IF( Mercantil!$H$12:$H$102 = \"\", \"\", ROW(Mercantil!$H$12:$H$102)), ROW()-1)), \"\" )","v":""},{"$f":" IF($B194, INDIRECT(\"Mercantil!H\" & SMALL(IF( Mercantil!$H$12:$H$102 = \"\", \"\", ROW(Mercantil!$H$12:$H$102)), ROW()-1)), \"\" )","v":""},{"$f":" IF( B194, SUM($E$2:E194), \"\" )","v":""}]
[null,{"$f":" COUNTIF(Mercantil!$H$12:$H$102, \">0\") >= ROW() - 1","v":false},{"$f":" IF($B195, INDIRECT(\"Mercantil!C\" & SMALL(IF( Mercantil!$H$12:$H$102 = \"\", \"\", ROW(Mercantil!$H$12:$H$102)), ROW()-1)), \"\" )","v":""},{"$f":" IF($B195, INDIRECT(\"Mercantil!D\" & SMALL(IF( Mercantil!$H$12:$H$102 = \"\", \"\", ROW(Mercantil!$H$12:$H$102)), ROW()-1)), \"\" )","v":""},{"$f":" IF($B195, INDIRECT(\"Mercantil!H\" & SMALL(IF( Mercantil!$H$12:$H$102 = \"\", \"\", ROW(Mercantil!$H$12:$H$102)), ROW()-1)), \"\" )","v":""},{"$f":" IF( B195, SUM($E$2:E195), \"\" )","v":""}]
[null,{"$f":" COUNTIF(Mercantil!$H$12:$H$102, \">0\") >= ROW() - 1","v":false},{"$f":" IF($B196, INDIRECT(\"Mercantil!C\" & SMALL(IF( Mercantil!$H$12:$H$102 = \"\", \"\", ROW(Mercantil!$H$12:$H$102)), ROW()-1)), \"\" )","v":""},{"$f":" IF($B196, INDIRECT(\"Mercantil!D\" & SMALL(IF( Mercantil!$H$12:$H$102 = \"\", \"\", ROW(Mercantil!$H$12:$H$102)), ROW()-1)), \"\" )","v":""},{"$f":" IF($B196, INDIRECT(\"Mercantil!H\" & SMALL(IF( Mercantil!$H$12:$H$102 = \"\", \"\", ROW(Mercantil!$H$12:$H$102)), ROW()-1)), \"\" )","v":""},{"$f":" IF( B196, SUM($E$2:E196), \"\" )","v":""}]
[null,{"$f":" COUNTIF(Mercantil!$H$12:$H$102, \">0\") >= ROW() - 1","v":false},{"$f":" IF($B197, INDIRECT(\"Mercantil!C\" & SMALL(IF( Mercantil!$H$12:$H$102 = \"\", \"\", ROW(Mercantil!$H$12:$H$102)), ROW()-1)), \"\" )","v":""},{"$f":" IF($B197, INDIRECT(\"Mercantil!D\" & SMALL(IF( Mercantil!$H$12:$H$102 = \"\", \"\", ROW(Mercantil!$H$12:$H$102)), ROW()-1)), \"\" )","v":""},{"$f":" IF($B197, INDIRECT(\"Mercantil!H\" & SMALL(IF( Mercantil!$H$12:$H$102 = \"\", \"\", ROW(Mercantil!$H$12:$H$102)), ROW()-1)), \"\" )","v":""},{"$f":" IF( B197, SUM($E$2:E197), \"\" )","v":""}]
[null,{"$f":" COUNTIF(Mercantil!$H$12:$H$102, \">0\") >= ROW() - 1","v":false},{"$f":" IF($B198, INDIRECT(\"Mercantil!C\" & SMALL(IF( Mercantil!$H$12:$H$102 = \"\", \"\", ROW(Mercantil!$H$12:$H$102)), ROW()-1)), \"\" )","v":""},{"$f":" IF($B198, INDIRECT(\"Mercantil!D\" & SMALL(IF( Mercantil!$H$12:$H$102 = \"\", \"\", ROW(Mercantil!$H$12:$H$102)), ROW()-1)), \"\" )","v":""},{"$f":" IF($B198, INDIRECT(\"Mercantil!H\" & SMALL(IF( Mercantil!$H$12:$H$102 = \"\", \"\", ROW(Mercantil!$H$12:$H$102)), ROW()-1)), \"\" )","v":""},{"$f":" IF( B198, SUM($E$2:E198), \"\" )","v":""}]
[null,{"$f":" COUNTIF(Mercantil!$H$12:$H$102, \">0\") >= ROW() - 1","v":false},{"$f":" IF($B199, INDIRECT(\"Mercantil!C\" & SMALL(IF( Mercantil!$H$12:$H$102 = \"\", \"\", ROW(Mercantil!$H$12:$H$102)), ROW()-1)), \"\" )","v":""},{"$f":" IF($B199, INDIRECT(\"Mercantil!D\" & SMALL(IF( Mercantil!$H$12:$H$102 = \"\", \"\", ROW(Mercantil!$H$12:$H$102)), ROW()-1)), \"\" )","v":""},{"$f":" IF($B199, INDIRECT(\"Mercantil!H\" & SMALL(IF( Mercantil!$H$12:$H$102 = \"\", \"\", ROW(Mercantil!$H$12:$H$102)), ROW()-1)), \"\" )","v":""},{"$f":" IF( B199, SUM($E$2:E199), \"\" )","v":""}]
[null,{"$f":" COUNTIF(Mercantil!$H$12:$H$102, \">0\") >= ROW() - 1","v":false},{"$f":" IF($B200, INDIRECT(\"Mercantil!C\" & SMALL(IF( Mercantil!$H$12:$H$102 = \"\", \"\", ROW(Mercantil!$H$12:$H$102)), ROW()-1)), \"\" )","v":""},{"$f":" IF($B200, INDIRECT(\"Mercantil!D\" & SMALL(IF( Mercantil!$H$12:$H$102 = \"\", \"\", ROW(Mercantil!$H$12:$H$102)), ROW()-1)), \"\" )","v":""},{"$f":" IF($B200, INDIRECT(\"Mercantil!H\" & SMALL(IF( Mercantil!$H$12:$H$102 = \"\", \"\", ROW(Mercantil!$H$12:$H$102)), ROW()-1)), \"\" )","v":""},{"$f":" IF( B200, SUM($E$2:E200), \"\" )","v":""}]
[null,{"$f":" COUNTIF(Mercantil!$H$12:$H$102, \">0\") >= ROW() - 1","v":false},{"$f":" IF($B201, INDIRECT(\"Mercantil!C\" & SMALL(IF( Mercantil!$H$12:$H$102 = \"\", \"\", ROW(Mercantil!$H$12:$H$102)), ROW()-1)), \"\" )","v":""},{"$f":" IF($B201, INDIRECT(\"Mercantil!D\" & SMALL(IF( Mercantil!$H$12:$H$102 = \"\", \"\", ROW(Mercantil!$H$12:$H$102)), ROW()-1)), \"\" )","v":""},{"$f":" IF($B201, INDIRECT(\"Mercantil!H\" & SMALL(IF( Mercantil!$H$12:$H$102 = \"\", \"\", ROW(Mercantil!$H$12:$H$102)), ROW()-1)), \"\" )","v":""},{"$f":" IF( B201, SUM($E$2:E201), \"\" )","v":""}]
[null,{"$f":" COUNTIF(Mercantil!$H$12:$H$102, \">0\") >= ROW() - 1","v":false},{"$f":" IF($B202, INDIRECT(\"Mercantil!C\" & SMALL(IF( Mercantil!$H$12:$H$102 = \"\", \"\", ROW(Mercantil!$H$12:$H$102)), ROW()-1)), \"\" )","v":""},{"$f":" IF($B202, INDIRECT(\"Mercantil!D\" & SMALL(IF( Mercantil!$H$12:$H$102 = \"\", \"\", ROW(Mercantil!$H$12:$H$102)), ROW()-1)), \"\" )","v":""},{"$f":" IF($B202, INDIRECT(\"Mercantil!H\" & SMALL(IF( Mercantil!$H$12:$H$102 = \"\", \"\", ROW(Mercantil!$H$12:$H$102)), ROW()-1)), \"\" )","v":""},{"$f":" IF( B202, SUM($E$2:E202), \"\" )","v":""}]
[null,{"$f":" COUNTIF(Mercantil!$H$12:$H$102, \">0\") >= ROW() - 1","v":false},{"$f":" IF($B203, INDIRECT(\"Mercantil!C\" & SMALL(IF( Mercantil!$H$12:$H$102 = \"\", \"\", ROW(Mercantil!$H$12:$H$102)), ROW()-1)), \"\" )","v":""},{"$f":" IF($B203, INDIRECT(\"Mercantil!D\" & SMALL(IF( Mercantil!$H$12:$H$102 = \"\", \"\", ROW(Mercantil!$H$12:$H$102)), ROW()-1)), \"\" )","v":""},{"$f":" IF($B203, INDIRECT(\"Mercantil!H\" & SMALL(IF( Mercantil!$H$12:$H$102 = \"\", \"\", ROW(Mercantil!$H$12:$H$102)), ROW()-1)), \"\" )","v":""},{"$f":" IF( B203, SUM($E$2:E203), \"\" )","v":""}]
[null,{"$f":" COUNTIF(Mercantil!$H$12:$H$102, \">0\") >= ROW() - 1","v":false},{"$f":" IF($B204, INDIRECT(\"Mercantil!C\" & SMALL(IF( Mercantil!$H$12:$H$102 = \"\", \"\", ROW(Mercantil!$H$12:$H$102)), ROW()-1)), \"\" )","v":""},{"$f":" IF($B204, INDIRECT(\"Mercantil!D\" & SMALL(IF( Mercantil!$H$12:$H$102 = \"\", \"\", ROW(Mercantil!$H$12:$H$102)), ROW()-1)), \"\" )","v":""},{"$f":" IF($B204, INDIRECT(\"Mercantil!H\" & SMALL(IF( Mercantil!$H$12:$H$102 = \"\", \"\", ROW(Mercantil!$H$12:$H$102)), ROW()-1)), \"\" )","v":""},{"$f":" IF( B204, SUM($E$2:E204), \"\" )","v":""}]
[null,{"$f":" COUNTIF(Mercantil!$H$12:$H$102, \">0\") >= ROW() - 1","v":false},{"$f":" IF($B205, INDIRECT(\"Mercantil!C\" & SMALL(IF( Mercantil!$H$12:$H$102 = \"\", \"\", ROW(Mercantil!$H$12:$H$102)), ROW()-1)), \"\" )","v":""},{"$f":" IF($B205, INDIRECT(\"Mercantil!D\" & SMALL(IF( Mercantil!$H$12:$H$102 = \"\", \"\", ROW(Mercantil!$H$12:$H$102)), ROW()-1)), \"\" )","v":""},{"$f":" IF($B205, INDIRECT(\"Mercantil!H\" & SMALL(IF( Mercantil!$H$12:$H$102 = \"\", \"\", ROW(Mercantil!$H$12:$H$102)), ROW()-1)), \"\" )","v":""},{"$f":" IF( B205, SUM($E$2:E205), \"\" )","v":""}]
[null,{"$f":" COUNTIF(Mercantil!$H$12:$H$102, \">0\") >= ROW() - 1","v":false},{"$f":" IF($B206, INDIRECT(\"Mercantil!C\" & SMALL(IF( Mercantil!$H$12:$H$102 = \"\", \"\", ROW(Mercantil!$H$12:$H$102)), ROW()-1)), \"\" )","v":""},{"$f":" IF($B206, INDIRECT(\"Mercantil!D\" & SMALL(IF( Mercantil!$H$12:$H$102 = \"\", \"\", ROW(Mercantil!$H$12:$H$102)), ROW()-1)), \"\" )","v":""},{"$f":" IF($B206, INDIRECT(\"Mercantil!H\" & SMALL(IF( Mercantil!$H$12:$H$102 = \"\", \"\", ROW(Mercantil!$H$12:$H$102)), ROW()-1)), \"\" )","v":""},{"$f":" IF( B206, SUM($E$2:E206), \"\" )","v":""}]
[null,{"$f":" COUNTIF(Mercantil!$H$12:$H$102, \">0\") >= ROW() - 1","v":false},{"$f":" IF($B207, INDIRECT(\"Mercantil!C\" & SMALL(IF( Mercantil!$H$12:$H$102 = \"\", \"\", ROW(Mercantil!$H$12:$H$102)), ROW()-1)), \"\" )","v":""},{"$f":" IF($B207, INDIRECT(\"Mercantil!D\" & SMALL(IF( Mercantil!$H$12:$H$102 = \"\", \"\", ROW(Mercantil!$H$12:$H$102)), ROW()-1)), \"\" )","v":""},{"$f":" IF($B207, INDIRECT(\"Mercantil!H\" & SMALL(IF( Mercantil!$H$12:$H$102 = \"\", \"\", ROW(Mercantil!$H$12:$H$102)), ROW()-1)), \"\" )","v":""},{"$f":" IF( B207, SUM($E$2:E207), \"\" )","v":""}]
[null,{"$f":" COUNTIF(Mercantil!$H$12:$H$102, \">0\") >= ROW() - 1","v":false},{"$f":" IF($B208, INDIRECT(\"Mercantil!C\" & SMALL(IF( Mercantil!$H$12:$H$102 = \"\", \"\", ROW(Mercantil!$H$12:$H$102)), ROW()-1)), \"\" )","v":""},{"$f":" IF($B208, INDIRECT(\"Mercantil!D\" & SMALL(IF( Mercantil!$H$12:$H$102 = \"\", \"\", ROW(Mercantil!$H$12:$H$102)), ROW()-1)), \"\" )","v":""},{"$f":" IF($B208, INDIRECT(\"Mercantil!H\" & SMALL(IF( Mercantil!$H$12:$H$102 = \"\", \"\", ROW(Mercantil!$H$12:$H$102)), ROW()-1)), \"\" )","v":""},{"$f":" IF( B208, SUM($E$2:E208), \"\" )","v":""}]
[null,{"$f":" COUNTIF(Mercantil!$H$12:$H$102, \">0\") >= ROW() - 1","v":false},{"$f":" IF($B209, INDIRECT(\"Mercantil!C\" & SMALL(IF( Mercantil!$H$12:$H$102 = \"\", \"\", ROW(Mercantil!$H$12:$H$102)), ROW()-1)), \"\" )","v":""},{"$f":" IF($B209, INDIRECT(\"Mercantil!D\" & SMALL(IF( Mercantil!$H$12:$H$102 = \"\", \"\", ROW(Mercantil!$H$12:$H$102)), ROW()-1)), \"\" )","v":""},{"$f":" IF($B209, INDIRECT(\"Mercantil!H\" & SMALL(IF( Mercantil!$H$12:$H$102 = \"\", \"\", ROW(Mercantil!$H$12:$H$102)), ROW()-1)), \"\" )","v":""},{"$f":" IF( B209, SUM($E$2:E209), \"\" )","v":""}]
[null,{"$f":" COUNTIF(Mercantil!$H$12:$H$102, \">0\") >= ROW() - 1","v":false},{"$f":" IF($B210, INDIRECT(\"Mercantil!C\" & SMALL(IF( Mercantil!$H$12:$H$102 = \"\", \"\", ROW(Mercantil!$H$12:$H$102)), ROW()-1)), \"\" )","v":""},{"$f":" IF($B210, INDIRECT(\"Mercantil!D\" & SMALL(IF( Mercantil!$H$12:$H$102 = \"\", \"\", ROW(Mercantil!$H$12:$H$102)), ROW()-1)), \"\" )","v":""},{"$f":" IF($B210, INDIRECT(\"Mercantil!H\" & SMALL(IF( Mercantil!$H$12:$H$102 = \"\", \"\", ROW(Mercantil!$H$12:$H$102)), ROW()-1)), \"\" )","v":""},{"$f":" IF( B210, SUM($E$2:E210), \"\" )","v":""}]
[null,{"$f":" COUNTIF(Mercantil!$H$12:$H$102, \">0\") >= ROW() - 1","v":false},{"$f":" IF($B211, INDIRECT(\"Mercantil!C\" & SMALL(IF( Mercantil!$H$12:$H$102 = \"\", \"\", ROW(Mercantil!$H$12:$H$102)), ROW()-1)), \"\" )","v":""},{"$f":" IF($B211, INDIRECT(\"Mercantil!D\" & SMALL(IF( Mercantil!$H$12:$H$102 = \"\", \"\", ROW(Mercantil!$H$12:$H$102)), ROW()-1)), \"\" )","v":""},{"$f":" IF($B211, INDIRECT(\"Mercantil!H\" & SMALL(IF( Mercantil!$H$12:$H$102 = \"\", \"\", ROW(Mercantil!$H$12:$H$102)), ROW()-1)), \"\" )","v":""},{"$f":" IF( B211, SUM($E$2:E211), \"\" )","v":""}]
[null,{"$f":" COUNTIF(Mercantil!$H$12:$H$102, \">0\") >= ROW() - 1","v":false},{"$f":" IF($B212, INDIRECT(\"Mercantil!C\" & SMALL(IF( Mercantil!$H$12:$H$102 = \"\", \"\", ROW(Mercantil!$H$12:$H$102)), ROW()-1)), \"\" )","v":""},{"$f":" IF($B212, INDIRECT(\"Mercantil!D\" & SMALL(IF( Mercantil!$H$12:$H$102 = \"\", \"\", ROW(Mercantil!$H$12:$H$102)), ROW()-1)), \"\" )","v":""},{"$f":" IF($B212, INDIRECT(\"Mercantil!H\" & SMALL(IF( Mercantil!$H$12:$H$102 = \"\", \"\", ROW(Mercantil!$H$12:$H$102)), ROW()-1)), \"\" )","v":""},{"$f":" IF( B212, SUM($E$2:E212), \"\" )","v":""}]
[null,{"$f":" COUNTIF(Mercantil!$H$12:$H$102, \">0\") >= ROW() - 1","v":false},{"$f":" IF($B213, INDIRECT(\"Mercantil!C\" & SMALL(IF( Mercantil!$H$12:$H$102 = \"\", \"\", ROW(Mercantil!$H$12:$H$102)), ROW()-1)), \"\" )","v":""},{"$f":" IF($B213, INDIRECT(\"Mercantil!D\" & SMALL(IF( Mercantil!$H$12:$H$102 = \"\", \"\", ROW(Mercantil!$H$12:$H$102)), ROW()-1)), \"\" )","v":""},{"$f":" IF($B213, INDIRECT(\"Mercantil!H\" & SMALL(IF( Mercantil!$H$12:$H$102 = \"\", \"\", ROW(Mercantil!$H$12:$H$102)), ROW()-1)), \"\" )","v":""},{"$f":" IF( B213, SUM($E$2:E213), \"\" )","v":""}]
[null,{"$f":" COUNTIF(Mercantil!$H$12:$H$102, \">0\") >= ROW() - 1","v":false},{"$f":" IF($B214, INDIRECT(\"Mercantil!C\" & SMALL(IF( Mercantil!$H$12:$H$102 = \"\", \"\", ROW(Mercantil!$H$12:$H$102)), ROW()-1)), \"\" )","v":""},{"$f":" IF($B214, INDIRECT(\"Mercantil!D\" & SMALL(IF( Mercantil!$H$12:$H$102 = \"\", \"\", ROW(Mercantil!$H$12:$H$102)), ROW()-1)), \"\" )","v":""},{"$f":" IF($B214, INDIRECT(\"Mercantil!H\" & SMALL(IF( Mercantil!$H$12:$H$102 = \"\", \"\", ROW(Mercantil!$H$12:$H$102)), ROW()-1)), \"\" )","v":""},{"$f":" IF( B214, SUM($E$2:E214), \"\" )","v":""}]
[null,{"$f":" COUNTIF(Mercantil!$H$12:$H$102, \">0\") >= ROW() - 1","v":false},{"$f":" IF($B215, INDIRECT(\"Mercantil!C\" & SMALL(IF( Mercantil!$H$12:$H$102 = \"\", \"\", ROW(Mercantil!$H$12:$H$102)), ROW()-1)), \"\" )","v":""},{"$f":" IF($B215, INDIRECT(\"Mercantil!D\" & SMALL(IF( Mercantil!$H$12:$H$102 = \"\", \"\", ROW(Mercantil!$H$12:$H$102)), ROW()-1)), \"\" )","v":""},{"$f":" IF($B215, INDIRECT(\"Mercantil!H\" & SMALL(IF( Mercantil!$H$12:$H$102 = \"\", \"\", ROW(Mercantil!$H$12:$H$102)), ROW()-1)), \"\" )","v":""},{"$f":" IF( B215, SUM($E$2:E215), \"\" )","v":""}]
[null,{"$f":" COUNTIF(Mercantil!$H$12:$H$102, \">0\") >= ROW() - 1","v":false},{"$f":" IF($B216, INDIRECT(\"Mercantil!C\" & SMALL(IF( Mercantil!$H$12:$H$102 = \"\", \"\", ROW(Mercantil!$H$12:$H$102)), ROW()-1)), \"\" )","v":""},{"$f":" IF($B216, INDIRECT(\"Mercantil!D\" & SMALL(IF( Mercantil!$H$12:$H$102 = \"\", \"\", ROW(Mercantil!$H$12:$H$102)), ROW()-1)), \"\" )","v":""},{"$f":" IF($B216, INDIRECT(\"Mercantil!H\" & SMALL(IF( Mercantil!$H$12:$H$102 = \"\", \"\", ROW(Mercantil!$H$12:$H$102)), ROW()-1)), \"\" )","v":""},{"$f":" IF( B216, SUM($E$2:E216), \"\" )","v":""}]
[null,{"$f":" COUNTIF(Mercantil!$H$12:$H$102, \">0\") >= ROW() - 1","v":false},{"$f":" IF($B217, INDIRECT(\"Mercantil!C\" & SMALL(IF( Mercantil!$H$12:$H$102 = \"\", \"\", ROW(Mercantil!$H$12:$H$102)), ROW()-1)), \"\" )","v":""},{"$f":" IF($B217, INDIRECT(\"Mercantil!D\" & SMALL(IF( Mercantil!$H$12:$H$102 = \"\", \"\", ROW(Mercantil!$H$12:$H$102)), ROW()-1)), \"\" )","v":""},{"$f":" IF($B217, INDIRECT(\"Mercantil!H\" & SMALL(IF( Mercantil!$H$12:$H$102 = \"\", \"\", ROW(Mercantil!$H$12:$H$102)), ROW()-1)), \"\" )","v":""},{"$f":" IF( B217, SUM($E$2:E217), \"\" )","v":""}]
[null,{"$f":" COUNTIF(Mercantil!$H$12:$H$102, \">0\") >= ROW() - 1","v":false},{"$f":" IF($B218, INDIRECT(\"Mercantil!C\" & SMALL(IF( Mercantil!$H$12:$H$102 = \"\", \"\", ROW(Mercantil!$H$12:$H$102)), ROW()-1)), \"\" )","v":""},{"$f":" IF($B218, INDIRECT(\"Mercantil!D\" & SMALL(IF( Mercantil!$H$12:$H$102 = \"\", \"\", ROW(Mercantil!$H$12:$H$102)), ROW()-1)), \"\" )","v":""},{"$f":" IF($B218, INDIRECT(\"Mercantil!H\" & SMALL(IF( Mercantil!$H$12:$H$102 = \"\", \"\", ROW(Mercantil!$H$12:$H$102)), ROW()-1)), \"\" )","v":""},{"$f":" IF( B218, SUM($E$2:E218), \"\" )","v":""}]
[null,{"$f":" COUNTIF(Mercantil!$H$12:$H$102, \">0\") >= ROW() - 1","v":false},{"$f":" IF($B219, INDIRECT(\"Mercantil!C\" & SMALL(IF( Mercantil!$H$12:$H$102 = \"\", \"\", ROW(Mercantil!$H$12:$H$102)), ROW()-1)), \"\" )","v":""},{"$f":" IF($B219, INDIRECT(\"Mercantil!D\" & SMALL(IF( Mercantil!$H$12:$H$102 = \"\", \"\", ROW(Mercantil!$H$12:$H$102)), ROW()-1)), \"\" )","v":""},{"$f":" IF($B219, INDIRECT(\"Mercantil!H\" & SMALL(IF( Mercantil!$H$12:$H$102 = \"\", \"\", ROW(Mercantil!$H$12:$H$102)), ROW()-1)), \"\" )","v":""},{"$f":" IF( B219, SUM($E$2:E219), \"\" )","v":""}]
[null,{"$f":" COUNTIF(Mercantil!$H$12:$H$102, \">0\") >= ROW() - 1","v":false},{"$f":" IF($B220, INDIRECT(\"Mercantil!C\" & SMALL(IF( Mercantil!$H$12:$H$102 = \"\", \"\", ROW(Mercantil!$H$12:$H$102)), ROW()-1)), \"\" )","v":""},{"$f":" IF($B220, INDIRECT(\"Mercantil!D\" & SMALL(IF( Mercantil!$H$12:$H$102 = \"\", \"\", ROW(Mercantil!$H$12:$H$102)), ROW()-1)), \"\" )","v":""},{"$f":" IF($B220, INDIRECT(\"Mercantil!H\" & SMALL(IF( Mercantil!$H$12:$H$102 = \"\", \"\", ROW(Mercantil!$H$12:$H$102)), ROW()-1)), \"\" )","v":""},{"$f":" IF( B220, SUM($E$2:E220), \"\" )","v":""}]
[null,{"$f":" COUNTIF(Mercantil!$H$12:$H$102, \">0\") >= ROW() - 1","v":false},{"$f":" IF($B221, INDIRECT(\"Mercantil!C\" & SMALL(IF( Mercantil!$H$12:$H$102 = \"\", \"\", ROW(Mercantil!$H$12:$H$102)), ROW()-1)), \"\" )","v":""},{"$f":" IF($B221, INDIRECT(\"Mercantil!D\" & SMALL(IF( Mercantil!$H$12:$H$102 = \"\", \"\", ROW(Mercantil!$H$12:$H$102)), ROW()-1)), \"\" )","v":""},{"$f":" IF($B221, INDIRECT(\"Mercantil!H\" & SMALL(IF( Mercantil!$H$12:$H$102 = \"\", \"\", ROW(Mercantil!$H$12:$H$102)), ROW()-1)), \"\" )","v":""},{"$f":" IF( B221, SUM($E$2:E221), \"\" )","v":""}]
[null,{"$f":" COUNTIF(Mercantil!$H$12:$H$102, \">0\") >= ROW() - 1","v":false},{"$f":" IF($B222, INDIRECT(\"Mercantil!C\" & SMALL(IF( Mercantil!$H$12:$H$102 = \"\", \"\", ROW(Mercantil!$H$12:$H$102)), ROW()-1)), \"\" )","v":""},{"$f":" IF($B222, INDIRECT(\"Mercantil!D\" & SMALL(IF( Mercantil!$H$12:$H$102 = \"\", \"\", ROW(Mercantil!$H$12:$H$102)), ROW()-1)), \"\" )","v":""},{"$f":" IF($B222, INDIRECT(\"Mercantil!H\" & SMALL(IF( Mercantil!$H$12:$H$102 = \"\", \"\", ROW(Mercantil!$H$12:$H$102)), ROW()-1)), \"\" )","v":""},{"$f":" IF( B222, SUM($E$2:E222), \"\" )","v":""}]
[null,{"$f":" COUNTIF(Mercantil!$H$12:$H$102, \">0\") >= ROW() - 1","v":false},{"$f":" IF($B223, INDIRECT(\"Mercantil!C\" & SMALL(IF( Mercantil!$H$12:$H$102 = \"\", \"\", ROW(Mercantil!$H$12:$H$102)), ROW()-1)), \"\" )","v":""},{"$f":" IF($B223, INDIRECT(\"Mercantil!D\" & SMALL(IF( Mercantil!$H$12:$H$102 = \"\", \"\", ROW(Mercantil!$H$12:$H$102)), ROW()-1)), \"\" )","v":""},{"$f":" IF($B223, INDIRECT(\"Mercantil!H\" & SMALL(IF( Mercantil!$H$12:$H$102 = \"\", \"\", ROW(Mercantil!$H$12:$H$102)), ROW()-1)), \"\" )","v":""},{"$f":" IF( B223, SUM($E$2:E223), \"\" )","v":""}]
[null,{"$f":" COUNTIF(Mercantil!$H$12:$H$102, \">0\") >= ROW() - 1","v":false},{"$f":" IF($B224, INDIRECT(\"Mercantil!C\" & SMALL(IF( Mercantil!$H$12:$H$102 = \"\", \"\", ROW(Mercantil!$H$12:$H$102)), ROW()-1)), \"\" )","v":""},{"$f":" IF($B224, INDIRECT(\"Mercantil!D\" & SMALL(IF( Mercantil!$H$12:$H$102 = \"\", \"\", ROW(Mercantil!$H$12:$H$102)), ROW()-1)), \"\" )","v":""},{"$f":" IF($B224, INDIRECT(\"Mercantil!H\" & SMALL(IF( Mercantil!$H$12:$H$102 = \"\", \"\", ROW(Mercantil!$H$12:$H$102)), ROW()-1)), \"\" )","v":""},{"$f":" IF( B224, SUM($E$2:E224), \"\" )","v":""}]
[null,{"$f":" COUNTIF(Mercantil!$H$12:$H$102, \">0\") >= ROW() - 1","v":false},{"$f":" IF($B225, INDIRECT(\"Mercantil!C\" & SMALL(IF( Mercantil!$H$12:$H$102 = \"\", \"\", ROW(Mercantil!$H$12:$H$102)), ROW()-1)), \"\" )","v":""},{"$f":" IF($B225, INDIRECT(\"Mercantil!D\" & SMALL(IF( Mercantil!$H$12:$H$102 = \"\", \"\", ROW(Mercantil!$H$12:$H$102)), ROW()-1)), \"\" )","v":""},{"$f":" IF($B225, INDIRECT(\"Mercantil!H\" & SMALL(IF( Mercantil!$H$12:$H$102 = \"\", \"\", ROW(Mercantil!$H$12:$H$102)), ROW()-1)), \"\" )","v":""},{"$f":" IF( B225, SUM($E$2:E225), \"\" )","v":""}]
[null,{"$f":" COUNTIF(Mercantil!$H$12:$H$102, \">0\") >= ROW() - 1","v":false},{"$f":" IF($B226, INDIRECT(\"Mercantil!C\" & SMALL(IF( Mercantil!$H$12:$H$102 = \"\", \"\", ROW(Mercantil!$H$12:$H$102)), ROW()-1)), \"\" )","v":""},{"$f":" IF($B226, INDIRECT(\"Mercantil!D\" & SMALL(IF( Mercantil!$H$12:$H$102 = \"\", \"\", ROW(Mercantil!$H$12:$H$102)), ROW()-1)), \"\" )","v":""},{"$f":" IF($B226, INDIRECT(\"Mercantil!H\" & SMALL(IF( Mercantil!$H$12:$H$102 = \"\", \"\", ROW(Mercantil!$H$12:$H$102)), ROW()-1)), \"\" )","v":""},{"$f":" IF( B226, SUM($E$2:E226), \"\" )","v":""}]
[null,{"$f":" COUNTIF(Mercantil!$H$12:$H$102, \">0\") >= ROW() - 1","v":false},{"$f":" IF($B227, INDIRECT(\"Mercantil!C\" & SMALL(IF( Mercantil!$H$12:$H$102 = \"\", \"\", ROW(Mercantil!$H$12:$H$102)), ROW()-1)), \"\" )","v":""},{"$f":" IF($B227, INDIRECT(\"Mercantil!D\" & SMALL(IF( Mercantil!$H$12:$H$102 = \"\", \"\", ROW(Mercantil!$H$12:$H$102)), ROW()-1)), \"\" )","v":""},{"$f":" IF($B227, INDIRECT(\"Mercantil!H\" & SMALL(IF( Mercantil!$H$12:$H$102 = \"\", \"\", ROW(Mercantil!$H$12:$H$102)), ROW()-1)), \"\" )","v":""},{"$f":" IF( B227, SUM($E$2:E227), \"\" )","v":""}]
[null,{"$f":" COUNTIF(Mercantil!$H$12:$H$102, \">0\") >= ROW() - 1","v":false},{"$f":" IF($B228, INDIRECT(\"Mercantil!C\" & SMALL(IF( Mercantil!$H$12:$H$102 = \"\", \"\", ROW(Mercantil!$H$12:$H$102)), ROW()-1)), \"\" )","v":""},{"$f":" IF($B228, INDIRECT(\"Mercantil!D\" & SMALL(IF( Mercantil!$H$12:$H$102 = \"\", \"\", ROW(Mercantil!$H$12:$H$102)), ROW()-1)), \"\" )","v":""},{"$f":" IF($B228, INDIRECT(\"Mercantil!H\" & SMALL(IF( Mercantil!$H$12:$H$102 = \"\", \"\", ROW(Mercantil!$H$12:$H$102)), ROW()-1)), \"\" )","v":""},{"$f":" IF( B228, SUM($E$2:E228), \"\" )","v":""}]
[null,{"$f":" COUNTIF(Mercantil!$H$12:$H$102, \">0\") >= ROW() - 1","v":false},{"$f":" IF($B229, INDIRECT(\"Mercantil!C\" & SMALL(IF( Mercantil!$H$12:$H$102 = \"\", \"\", ROW(Mercantil!$H$12:$H$102)), ROW()-1)), \"\" )","v":""},{"$f":" IF($B229, INDIRECT(\"Mercantil!D\" & SMALL(IF( Mercantil!$H$12:$H$102 = \"\", \"\", ROW(Mercantil!$H$12:$H$102)), ROW()-1)), \"\" )","v":""},{"$f":" IF($B229, INDIRECT(\"Mercantil!H\" & SMALL(IF( Mercantil!$H$12:$H$102 = \"\", \"\", ROW(Mercantil!$H$12:$H$102)), ROW()-1)), \"\" )","v":""},{"$f":" IF( B229, SUM($E$2:E229), \"\" )","v":""}]
[null,{"$f":" COUNTIF(Mercantil!$H$12:$H$102, \">0\") >= ROW() - 1","v":false},{"$f":" IF($B230, INDIRECT(\"Mercantil!C\" & SMALL(IF( Mercantil!$H$12:$H$102 = \"\", \"\", ROW(Mercantil!$H$12:$H$102)), ROW()-1)), \"\" )","v":""},{"$f":" IF($B230, INDIRECT(\"Mercantil!D\" & SMALL(IF( Mercantil!$H$12:$H$102 = \"\", \"\", ROW(Mercantil!$H$12:$H$102)), ROW()-1)), \"\" )","v":""},{"$f":" IF($B230, INDIRECT(\"Mercantil!H\" & SMALL(IF( Mercantil!$H$12:$H$102 = \"\", \"\", ROW(Mercantil!$H$12:$H$102)), ROW()-1)), \"\" )","v":""},{"$f":" IF( B230, SUM($E$2:E230), \"\" )","v":""}]
[null,{"$f":" COUNTIF(Mercantil!$H$12:$H$102, \">0\") >= ROW() - 1","v":false},{"$f":" IF($B231, INDIRECT(\"Mercantil!C\" & SMALL(IF( Mercantil!$H$12:$H$102 = \"\", \"\", ROW(Mercantil!$H$12:$H$102)), ROW()-1)), \"\" )","v":""},{"$f":" IF($B231, INDIRECT(\"Mercantil!D\" & SMALL(IF( Mercantil!$H$12:$H$102 = \"\", \"\", ROW(Mercantil!$H$12:$H$102)), ROW()-1)), \"\" )","v":""},{"$f":" IF($B231, INDIRECT(\"Mercantil!H\" & SMALL(IF( Mercantil!$H$12:$H$102 = \"\", \"\", ROW(Mercantil!$H$12:$H$102)), ROW()-1)), \"\" )","v":""},{"$f":" IF( B231, SUM($E$2:E231), \"\" )","v":""}]
[null,{"$f":" COUNTIF(Mercantil!$H$12:$H$102, \">0\") >= ROW() - 1","v":false},{"$f":" IF($B232, INDIRECT(\"Mercantil!C\" & SMALL(IF( Mercantil!$H$12:$H$102 = \"\", \"\", ROW(Mercantil!$H$12:$H$102)), ROW()-1)), \"\" )","v":""},{"$f":" IF($B232, INDIRECT(\"Mercantil!D\" & SMALL(IF( Mercantil!$H$12:$H$102 = \"\", \"\", ROW(Mercantil!$H$12:$H$102)), ROW()-1)), \"\" )","v":""},{"$f":" IF($B232, INDIRECT(\"Mercantil!H\" & SMALL(IF( Mercantil!$H$12:$H$102 = \"\", \"\", ROW(Mercantil!$H$12:$H$102)), ROW()-1)), \"\" )","v":""},{"$f":" IF( B232, SUM($E$2:E232), \"\" )","v":""}]
[null,{"$f":" COUNTIF(Mercantil!$H$12:$H$102, \">0\") >= ROW() - 1","v":false},{"$f":" IF($B233, INDIRECT(\"Mercantil!C\" & SMALL(IF( Mercantil!$H$12:$H$102 = \"\", \"\", ROW(Mercantil!$H$12:$H$102)), ROW()-1)), \"\" )","v":""},{"$f":" IF($B233, INDIRECT(\"Mercantil!D\" & SMALL(IF( Mercantil!$H$12:$H$102 = \"\", \"\", ROW(Mercantil!$H$12:$H$102)), ROW()-1)), \"\" )","v":""},{"$f":" IF($B233, INDIRECT(\"Mercantil!H\" & SMALL(IF( Mercantil!$H$12:$H$102 = \"\", \"\", ROW(Mercantil!$H$12:$H$102)), ROW()-1)), \"\" )","v":""},{"$f":" IF( B233, SUM($E$2:E233), \"\" )","v":""}]
[null,{"$f":" COUNTIF(Mercantil!$H$12:$H$102, \">0\") >= ROW() - 1","v":false},{"$f":" IF($B234, INDIRECT(\"Mercantil!C\" & SMALL(IF( Mercantil!$H$12:$H$102 = \"\", \"\", ROW(Mercantil!$H$12:$H$102)), ROW()-1)), \"\" )","v":""},{"$f":" IF($B234, INDIRECT(\"Mercantil!D\" & SMALL(IF( Mercantil!$H$12:$H$102 = \"\", \"\", ROW(Mercantil!$H$12:$H$102)), ROW()-1)), \"\" )","v":""},{"$f":" IF($B234, INDIRECT(\"Mercantil!H\" & SMALL(IF( Mercantil!$H$12:$H$102 = \"\", \"\", ROW(Mercantil!$H$12:$H$102)), ROW()-1)), \"\" )","v":""},{"$f":" IF( B234, SUM($E$2:E234), \"\" )","v":""}]
[null,{"$f":" COUNTIF(Mercantil!$H$12:$H$102, \">0\") >= ROW() - 1","v":false},{"$f":" IF($B235, INDIRECT(\"Mercantil!C\" & SMALL(IF( Mercantil!$H$12:$H$102 = \"\", \"\", ROW(Mercantil!$H$12:$H$102)), ROW()-1)), \"\" )","v":""},{"$f":" IF($B235, INDIRECT(\"Mercantil!D\" & SMALL(IF( Mercantil!$H$12:$H$102 = \"\", \"\", ROW(Mercantil!$H$12:$H$102)), ROW()-1)), \"\" )","v":""},{"$f":" IF($B235, INDIRECT(\"Mercantil!H\" & SMALL(IF( Mercantil!$H$12:$H$102 = \"\", \"\", ROW(Mercantil!$H$12:$H$102)), ROW()-1)), \"\" )","v":""},{"$f":" IF( B235, SUM($E$2:E235), \"\" )","v":""}]
[null,{"$f":" COUNTIF(Mercantil!$H$12:$H$102, \">0\") >= ROW() - 1","v":false},{"$f":" IF($B236, INDIRECT(\"Mercantil!C\" & SMALL(IF( Mercantil!$H$12:$H$102 = \"\", \"\", ROW(Mercantil!$H$12:$H$102)), ROW()-1)), \"\" )","v":""},{"$f":" IF($B236, INDIRECT(\"Mercantil!D\" & SMALL(IF( Mercantil!$H$12:$H$102 = \"\", \"\", ROW(Mercantil!$H$12:$H$102)), ROW()-1)), \"\" )","v":""},{"$f":" IF($B236, INDIRECT(\"Mercantil!H\" & SMALL(IF( Mercantil!$H$12:$H$102 = \"\", \"\", ROW(Mercantil!$H$12:$H$102)), ROW()-1)), \"\" )","v":""},{"$f":" IF( B236, SUM($E$2:E236), \"\" )","v":""}]
[null,{"$f":" COUNTIF(Mercantil!$H$12:$H$102, \">0\") >= ROW() - 1","v":false},{"$f":" IF($B237, INDIRECT(\"Mercantil!C\" & SMALL(IF( Mercantil!$H$12:$H$102 = \"\", \"\", ROW(Mercantil!$H$12:$H$102)), ROW()-1)), \"\" )","v":""},{"$f":" IF($B237, INDIRECT(\"Mercantil!D\" & SMALL(IF( Mercantil!$H$12:$H$102 = \"\", \"\", ROW(Mercantil!$H$12:$H$102)), ROW()-1)), \"\" )","v":""},{"$f":" IF($B237, INDIRECT(\"Mercantil!H\" & SMALL(IF( Mercantil!$H$12:$H$102 = \"\", \"\", ROW(Mercantil!$H$12:$H$102)), ROW()-1)), \"\" )","v":""},{"$f":" IF( B237, SUM($E$2:E237), \"\" )","v":""}]
[null,{"$f":" COUNTIF(Mercantil!$H$12:$H$102, \">0\") >= ROW() - 1","v":false},{"$f":" IF($B238, INDIRECT(\"Mercantil!C\" & SMALL(IF( Mercantil!$H$12:$H$102 = \"\", \"\", ROW(Mercantil!$H$12:$H$102)), ROW()-1)), \"\" )","v":""},{"$f":" IF($B238, INDIRECT(\"Mercantil!D\" & SMALL(IF( Mercantil!$H$12:$H$102 = \"\", \"\", ROW(Mercantil!$H$12:$H$102)), ROW()-1)), \"\" )","v":""},{"$f":" IF($B238, INDIRECT(\"Mercantil!H\" & SMALL(IF( Mercantil!$H$12:$H$102 = \"\", \"\", ROW(Mercantil!$H$12:$H$102)), ROW()-1)), \"\" )","v":""},{"$f":" IF( B238, SUM($E$2:E238), \"\" )","v":""}]
[null,{"$f":" COUNTIF(Mercantil!$H$12:$H$102, \">0\") >= ROW() - 1","v":false},{"$f":" IF($B239, INDIRECT(\"Mercantil!C\" & SMALL(IF( Mercantil!$H$12:$H$102 = \"\", \"\", ROW(Mercantil!$H$12:$H$102)), ROW()-1)), \"\" )","v":""},{"$f":" IF($B239, INDIRECT(\"Mercantil!D\" & SMALL(IF( Mercantil!$H$12:$H$102 = \"\", \"\", ROW(Mercantil!$H$12:$H$102)), ROW()-1)), \"\" )","v":""},{"$f":" IF($B239, INDIRECT(\"Mercantil!H\" & SMALL(IF( Mercantil!$H$12:$H$102 = \"\", \"\", ROW(Mercantil!$H$12:$H$102)), ROW()-1)), \"\" )","v":""},{"$f":" IF( B239, SUM($E$2:E239), \"\" )","v":""}]
[null,{"$f":" COUNTIF(Mercantil!$H$12:$H$102, \">0\") >= ROW() - 1","v":false},{"$f":" IF($B240, INDIRECT(\"Mercantil!C\" & SMALL(IF( Mercantil!$H$12:$H$102 = \"\", \"\", ROW(Mercantil!$H$12:$H$102)), ROW()-1)), \"\" )","v":""},{"$f":" IF($B240, INDIRECT(\"Mercantil!D\" & SMALL(IF( Mercantil!$H$12:$H$102 = \"\", \"\", ROW(Mercantil!$H$12:$H$102)), ROW()-1)), \"\" )","v":""},{"$f":" IF($B240, INDIRECT(\"Mercantil!H\" & SMALL(IF( Mercantil!$H$12:$H$102 = \"\", \"\", ROW(Mercantil!$H$12:$H$102)), ROW()-1)), \"\" )","v":""},{"$f":" IF( B240, SUM($E$2:E240), \"\" )","v":""}]
[null,{"$f":" COUNTIF(Mercantil!$H$12:$H$102, \">0\") >= ROW() - 1","v":false},{"$f":" IF($B241, INDIRECT(\"Mercantil!C\" & SMALL(IF( Mercantil!$H$12:$H$102 = \"\", \"\", ROW(Mercantil!$H$12:$H$102)), ROW()-1)), \"\" )","v":""},{"$f":" IF($B241, INDIRECT(\"Mercantil!D\" & SMALL(IF( Mercantil!$H$12:$H$102 = \"\", \"\", ROW(Mercantil!$H$12:$H$102)), ROW()-1)), \"\" )","v":""},{"$f":" IF($B241, INDIRECT(\"Mercantil!H\" & SMALL(IF( Mercantil!$H$12:$H$102 = \"\", \"\", ROW(Mercantil!$H$12:$H$102)), ROW()-1)), \"\" )","v":""},{"$f":" IF( B241, SUM($E$2:E241), \"\" )","v":""}]
[null,{"$f":" COUNTIF(Mercantil!$H$12:$H$102, \">0\") >= ROW() - 1","v":false},{"$f":" IF($B242, INDIRECT(\"Mercantil!C\" & SMALL(IF( Mercantil!$H$12:$H$102 = \"\", \"\", ROW(Mercantil!$H$12:$H$102)), ROW()-1)), \"\" )","v":""},{"$f":" IF($B242, INDIRECT(\"Mercantil!D\" & SMALL(IF( Mercantil!$H$12:$H$102 = \"\", \"\", ROW(Mercantil!$H$12:$H$102)), ROW()-1)), \"\" )","v":""},{"$f":" IF($B242, INDIRECT(\"Mercantil!H\" & SMALL(IF( Mercantil!$H$12:$H$102 = \"\", \"\", ROW(Mercantil!$H$12:$H$102)), ROW()-1)), \"\" )","v":""},{"$f":" IF( B242, SUM($E$2:E242), \"\" )","v":""}]
[null,{"$f":" COUNTIF(Mercantil!$H$12:$H$102, \">0\") >= ROW() - 1","v":false},{"$f":" IF($B243, INDIRECT(\"Mercantil!C\" & SMALL(IF( Mercantil!$H$12:$H$102 = \"\", \"\", ROW(Mercantil!$H$12:$H$102)), ROW()-1)), \"\" )","v":""},{"$f":" IF($B243, INDIRECT(\"Mercantil!D\" & SMALL(IF( Mercantil!$H$12:$H$102 = \"\", \"\", ROW(Mercantil!$H$12:$H$102)), ROW()-1)), \"\" )","v":""},{"$f":" IF($B243, INDIRECT(\"Mercantil!H\" & SMALL(IF( Mercantil!$H$12:$H$102 = \"\", \"\", ROW(Mercantil!$H$12:$H$102)), ROW()-1)), \"\" )","v":""},{"$f":" IF( B243, SUM($E$2:E243), \"\" )","v":""}]
[null,{"$f":" COUNTIF(Mercantil!$H$12:$H$102, \">0\") >= ROW() - 1","v":false},{"$f":" IF($B244, INDIRECT(\"Mercantil!C\" & SMALL(IF( Mercantil!$H$12:$H$102 = \"\", \"\", ROW(Mercantil!$H$12:$H$102)), ROW()-1)), \"\" )","v":""},{"$f":" IF($B244, INDIRECT(\"Mercantil!D\" & SMALL(IF( Mercantil!$H$12:$H$102 = \"\", \"\", ROW(Mercantil!$H$12:$H$102)), ROW()-1)), \"\" )","v":""},{"$f":" IF($B244, INDIRECT(\"Mercantil!H\" & SMALL(IF( Mercantil!$H$12:$H$102 = \"\", \"\", ROW(Mercantil!$H$12:$H$102)), ROW()-1)), \"\" )","v":""},{"$f":" IF( B244, SUM($E$2:E244), \"\" )","v":""}]
[null,{"$f":" COUNTIF(Mercantil!$H$12:$H$102, \">0\") >= ROW() - 1","v":false},{"$f":" IF($B245, INDIRECT(\"Mercantil!C\" & SMALL(IF( Mercantil!$H$12:$H$102 = \"\", \"\", ROW(Mercantil!$H$12:$H$102)), ROW()-1)), \"\" )","v":""},{"$f":" IF($B245, INDIRECT(\"Mercantil!D\" & SMALL(IF( Mercantil!$H$12:$H$102 = \"\", \"\", ROW(Mercantil!$H$12:$H$102)), ROW()-1)), \"\" )","v":""},{"$f":" IF($B245, INDIRECT(\"Mercantil!H\" & SMALL(IF( Mercantil!$H$12:$H$102 = \"\", \"\", ROW(Mercantil!$H$12:$H$102)), ROW()-1)), \"\" )","v":""},{"$f":" IF( B245, SUM($E$2:E245), \"\" )","v":""}]
[null,{"$f":" COUNTIF(Mercantil!$H$12:$H$102, \">0\") >= ROW() - 1","v":false},{"$f":" IF($B246, INDIRECT(\"Mercantil!C\" & SMALL(IF( Mercantil!$H$12:$H$102 = \"\", \"\", ROW(Mercantil!$H$12:$H$102)), ROW()-1)), \"\" )","v":""},{"$f":" IF($B246, INDIRECT(\"Mercantil!D\" & SMALL(IF( Mercantil!$H$12:$H$102 = \"\", \"\", ROW(Mercantil!$H$12:$H$102)), ROW()-1)), \"\" )","v":""},{"$f":" IF($B246, INDIRECT(\"Mercantil!H\" & SMALL(IF( Mercantil!$H$12:$H$102 = \"\", \"\", ROW(Mercantil!$H$12:$H$102)), ROW()-1)), \"\" )","v":""},{"$f":" IF( B246, SUM($E$2:E246), \"\" )","v":""}]
[null,{"$f":" COUNTIF(Mercantil!$H$12:$H$102, \">0\") >= ROW() - 1","v":false},{"$f":" IF($B247, INDIRECT(\"Mercantil!C\" & SMALL(IF( Mercantil!$H$12:$H$102 = \"\", \"\", ROW(Mercantil!$H$12:$H$102)), ROW()-1)), \"\" )","v":""},{"$f":" IF($B247, INDIRECT(\"Mercantil!D\" & SMALL(IF( Mercantil!$H$12:$H$102 = \"\", \"\", ROW(Mercantil!$H$12:$H$102)), ROW()-1)), \"\" )","v":""},{"$f":" IF($B247, INDIRECT(\"Mercantil!H\" & SMALL(IF( Mercantil!$H$12:$H$102 = \"\", \"\", ROW(Mercantil!$H$12:$H$102)), ROW()-1)), \"\" )","v":""},{"$f":" IF( B247, SUM($E$2:E247), \"\" )","v":""}]
[null,{"$f":" COUNTIF(Mercantil!$H$12:$H$102, \">0\") >= ROW() - 1","v":false},{"$f":" IF($B248, INDIRECT(\"Mercantil!C\" & SMALL(IF( Mercantil!$H$12:$H$102 = \"\", \"\", ROW(Mercantil!$H$12:$H$102)), ROW()-1)), \"\" )","v":""},{"$f":" IF($B248, INDIRECT(\"Mercantil!D\" & SMALL(IF( Mercantil!$H$12:$H$102 = \"\", \"\", ROW(Mercantil!$H$12:$H$102)), ROW()-1)), \"\" )","v":""},{"$f":" IF($B248, INDIRECT(\"Mercantil!H\" & SMALL(IF( Mercantil!$H$12:$H$102 = \"\", \"\", ROW(Mercantil!$H$12:$H$102)), ROW()-1)), \"\" )","v":""},{"$f":" IF( B248, SUM($E$2:E248), \"\" )","v":""}]

{"sheet":"Fondo_Comun","index":2,"n_rows":106,"n_cols":9,"rows_kept":106,"cut":false,"hidden":false,"merged":[[100,3,100,5],[101,3,101,5],[103,3,105,4],[94,3,94,5],[95,3,95,5],[96,3,96,5],[97,3,97,5],[98,3,98,5],[99,3,99,5],[93,3,93,5],[82,3,82,5],[83,3,83,5],[84,3,84,5],[85,3,85,5],[86,3,86,5],[87,3,87,5],[88,3,88,5],[89,3,89,5],[90,3,90,5],[91,3,91,5],[92,3,92,5],[81,3,81,5],[70,3,70,5],[71,3,71,5],[72,3,72,5],[73,3,73,5],[74,3,74,5],[75,3,75,5],[76,3,76,5],[77,3,77,5],[78,3,78,5],[79,3,79,5],[80,3,80,5],[69,3,69,5],[58,3,58,5],[59,3,59,5],[60,3,60,5],[61,3,61,5],[62,3,62,5],[63,3,63,5],[64,3,64,5],[65,3,65,5],[66,3,66,5],[67,3,67,5],[68,3,68,5],[57,3,57,5],[46,3,46,5],[47,3,47,5],[48,3,48,5],[49,3,49,5],[50,3,50,5],[51,3,51,5],[52,3,52,5],[53,3,53,5],[54,3,54,5],[55,3,55,5],[56,3,56,5],[45,3,45,5],[34,3,34,5],[35,3,35,5],[36,3,36,5],[37,3,37,5],[38,3,38,5],[39,3,39,5],[40,3,40,5],[41,3,41,5],[42,3,42,5],[43,3,43,5],[44,3,44,5],[33,3,33,5],[22,3,22,5],[23,3,23,5],[24,3,24,5],[25,3,25,5],[26,3,26,5],[27,3,27,5],[28,3,28,5],[29,3,29,5],[30,3,30,5],[31,3,31,5],[32,3,32,5],[21,3,21,5],[10,3,10,5],[11,3,11,5],[12,3,12,5],[13,3,13,5],[14,3,14,5],[15,3,15,5],[16,3,16,5],[17,3,17,5],[18,3,18,5],[19,3,19,5],[20,3,20,5],[2,2,2,6],[2,7,2,8],[5,5,6,6],[6,2,8,4],[6,7,6,8],[7,6,9,8]]}
[]
[]
[null,null,"Joao Marques",null,null,null,null,"Hoja de balance"]
[]
[]
[null,null,"Descripción",null,null,"Balance inicial a partir   de: 01/01/2013"]
[null,null,"Cobros y gastos del año 2013",null,null,null,null,1000]
[null,null,null,null,null,null,"Deposito en Mercantil al 31/12/12         En Fondo Comun al 30/12/12  Total = 1000,00"]
[]
[]
[null,null,"Fecha","Descripción del elemento",null,null,"Cobros","Gastos","Balance"]
[null,null,"2014-06-02","fgdfgdgd",null,null,35000,null,{"$f":"IF(OR(G12>0, H12>0),($H$7+SUM($G$12:G12))-SUM($H$12:H12),\"\")","v":36000}]
[null,null,"2014-06-04","xcvxv",null,null,null,35000,{"$f":"IF(OR(G13>0, H13>0),($H$7+SUM($G$12:G13))-SUM($H$12:H13),\"\")","v":1000}]
[null,null,"2014-06-07","dfdgfdgd",null,null,67000,null,{"$f":"IF(OR(G14>0, H14>0),($H$7+SUM($G$12:G14))-SUM($H$12:H14),\"\")","v":68000}]
[null,null,"2014-06-09","fgddfgdfgdfgdf",null,null,null,28563.35,{"$f":"IF(OR(G15>0, H15>0),($H$7+SUM($G$12:G15))-SUM($H$12:H15),\"\")","v":39436.65}]
[null,null,null,null,null,null,null,null,{"$f":"IF(OR(G16>0, H16>0),($H$7+SUM($G$12:G16))-SUM($H$12:H16),\"\")","v":""}]
[null,null,null,null,null,null,null,null,{"$f":"IF(OR(G17>0, H17>0),($H$7+SUM($G$12:G17))-SUM($H$12:H17),\"\")","v":""}]
[null,null,null,null,null,null,null,null,{"$f":"IF(OR(G18>0, H18>0),($H$7+SUM($G$12:G18))-SUM($H$12:H18),\"\")","v":""}]
[null,null,null,null,null,null,null,null,{"$f":"IF(OR(G19>0, H19>0),($H$7+SUM($G$12:G19))-SUM($H$12:H19),\"\")","v":""}]
[null,null,null,null,null,null,null,null,{"$f":"IF(OR(G20>0, H20>0),($H$7+SUM($G$12:G20))-SUM($H$12:H20),\"\")","v":""}]
[null,null,null,null,null,null,null,null,{"$f":"IF(OR(G21>0, H21>0),($H$7+SUM($G$12:G21))-SUM($H$12:H21),\"\")","v":""}]
[null,null,null,null,null,null,null,null,{"$f":"IF(OR(G22>0, H22>0),($H$7+SUM($G$12:G22))-SUM($H$12:H22),\"\")","v":""}]
[null,null,null,null,null,null,null,null,{"$f":"IF(OR(G23>0, H23>0),($H$7+SUM($G$12:G23))-SUM($H$12:H23),\"\")","v":""}]
[null,null,null,null,null,null,null,null,{"$f":"IF(OR(G24>0, H24>0),($H$7+SUM($G$12:G24))-SUM($H$12:H24),\"\")","v":""}]
[null,null,null,null,null,null,null,null,{"$f":"IF(OR(G25>0, H25>0),($H$7+SUM($G$12:G25))-SUM($H$12:H25),\"\")","v":""}]
[null,null,null,null,null,null,null,null,{"$f":"IF(OR(G26>0, H26>0),($H$7+SUM($G$12:G26))-SUM($H$12:H26),\"\")","v":""}]
[null,null,null,null,null,null,null,null,{"$f":"IF(OR(G27>0, H27>0),($H$7+SUM($G$12:G27))-SUM($H$12:H27),\"\")","v":""}]
[null,null,null,null,null,null,null,null,{"$f":"IF(OR(G28>0, H28>0),($H$7+SUM($G$12:G28))-SUM($H$12:H28),\"\")","v":""}]
[null,null,null,null,null,null,null,null,{"$f":"IF(OR(G29>0, H29>0),($H$7+SUM($G$12:G29))-SUM($H$12:H29),\"\")","v":""}]
[null,null,null,null,null,null,null,null,{"$f":"IF(OR(G30>0, H30>0),($H$7+SUM($G$12:G30))-SUM($H$12:H30),\"\")","v":""}]
[null,null,null,null,null,null,null,null,{"$f":"IF(OR(G31>0, H31>0),($H$7+SUM($G$12:G31))-SUM($H$12:H31),\"\")","v":""}]
[null,null,null,null,null,null,null,null,{"$f":"IF(OR(G32>0, H32>0),($H$7+SUM($G$12:G32))-SUM($H$12:H32),\"\")","v":""}]
[null,null,null,null,null,null,null,null,{"$f":"IF(OR(G33>0, H33>0),($H$7+SUM($G$12:G33))-SUM($H$12:H33),\"\")","v":""}]
[null,null,null,null,null,null,null,null,{"$f":"IF(OR(G34>0, H34>0),($H$7+SUM($G$12:G34))-SUM($H$12:H34),\"\")","v":""}]
[null,null,null,null,null,null,null,null,{"$f":"IF(OR(G35>0, H35>0),($H$7+SUM($G$12:G35))-SUM($H$12:H35),\"\")","v":""}]
[null,null,null,null,null,null,null,null,{"$f":"IF(OR(G36>0, H36>0),($H$7+SUM($G$12:G36))-SUM($H$12:H36),\"\")","v":""}]
[null,null,null,null,null,null,null,null,{"$f":"IF(OR(G37>0, H37>0),($H$7+SUM($G$12:G37))-SUM($H$12:H37),\"\")","v":""}]
[null,null,null,null,null,null,null,null,{"$f":"IF(OR(G38>0, H38>0),($H$7+SUM($G$12:G38))-SUM($H$12:H38),\"\")","v":""}]
[null,null,null,null,null,null,null,null,{"$f":"IF(OR(G39>0, H39>0),($H$7+SUM($G$12:G39))-SUM($H$12:H39),\"\")","v":""}]
[null,null,null,null,null,null,null,null,{"$f":"IF(OR(G40>0, H40>0),($H$7+SUM($G$12:G40))-SUM($H$12:H40),\"\")","v":""}]
[null,null,null,null,null,null,null,null,{"$f":"IF(OR(G41>0, H41>0),($H$7+SUM($G$12:G41))-SUM($H$12:H41),\"\")","v":""}]
[null,null,null,null,null,null,null,null,{"$f":"IF(OR(G42>0, H42>0),($H$7+SUM($G$12:G42))-SUM($H$12:H42),\"\")","v":""}]
[null,null,null,null,null,null,null,null,{"$f":"IF(OR(G43>0, H43>0),($H$7+SUM($G$12:G43))-SUM($H$12:H43),\"\")","v":""}]
[null,null,null,null,null,null,null,null,{"$f":"IF(OR(G44>0, H44>0),($H$7+SUM($G$12:G44))-SUM($H$12:H44),\"\")","v":""}]
[null,null,null,null,null,null,null,null,{"$f":"IF(OR(G45>0, H45>0),($H$7+SUM($G$12:G45))-SUM($H$12:H45),\"\")","v":""}]
[null,null,null,null,null,null,null,null,{"$f":"IF(OR(G46>0, H46>0),($H$7+SUM($G$12:G46))-SUM($H$12:H46),\"\")","v":""}]
[null,null,null,null,null,null,null,null,{"$f":"IF(OR(G47>0, H47>0),($H$7+SUM($G$12:G47))-SUM($H$12:H47),\"\")","v":""}]
[null,null,null,null,null,null,null,null,{"$f":"IF(OR(G48>0, H48>0),($H$7+SUM($G$12:G48))-SUM($H$12:H48),\"\")","v":""}]
[null,null,null,null,null,null,null,null,{"$f":"IF(OR(G49>0, H49>0),($H$7+SUM($G$12:G49))-SUM($H$12:H49),\"\")","v":""}]
[null,null,null,null,null,null,null,null,{"$f":"IF(OR(G50>0, H50>0),($H$7+SUM($G$12:G50))-SUM($H$12:H50),\"\")","v":""}]
[null,null,null,null,null,null,null,null,{"$f":"IF(OR(G51>0, H51>0),($H$7+SUM($G$12:G51))-SUM($H$12:H51),\"\")","v":""}]
[null,null,null,null,null,null,null,null,{"$f":"IF(OR(G52>0, H52>0),($H$7+SUM($G$12:G52))-SUM($H$12:H52),\"\")","v":""}]
[null,null,null,null,null,null,null,null,{"$f":"IF(OR(G53>0, H53>0),($H$7+SUM($G$12:G53))-SUM($H$12:H53),\"\")","v":""}]
[null,null,null,null,null,null,null,null,{"$f":"IF(OR(G54>0, H54>0),($H$7+SUM($G$12:G54))-SUM($H$12:H54),\"\")","v":""}]
[null,null,null,null,null,null,null,null,{"$f":"IF(OR(G55>0, H55>0),($H$7+SUM($G$12:G55))-SUM($H$12:H55),\"\")","v":""}]
[null,null,null,null,null,null,null,null,{"$f":"IF(OR(G56>0, H56>0),($H$7+SUM($G$12:G56))-SUM($H$12:H56),\"\")","v":""}]
[null,null,null,null,null,null,null,null,{"$f":"IF(OR(G57>0, H57>0),($H$7+SUM($G$12:G57))-SUM($H$12:H57),\"\")","v":""}]
[null,null,null,null,null,null,null,null,{"$f":"IF(OR(G58>0, H58>0),($H$7+SUM($G$12:G58))-SUM($H$12:H58),\"\")","v":""}]
[null,null,null,null,null,null,null,null,{"$f":"IF(OR(G59>0, H59>0),($H$7+SUM($G$12:G59))-SUM($H$12:H59),\"\")","v":""}]
[null,null,null,null,null,null,null,null,{"$f":"IF(OR(G60>0, H60>0),($H$7+SUM($G$12:G60))-SUM($H$12:H60),\"\")","v":""}]
[null,null,null,null,null,null,null,null,{"$f":"IF(OR(G61>0, H61>0),($H$7+SUM($G$12:G61))-SUM($H$12:H61),\"\")","v":""}]
[null,null,null,null,null,null,null,null,{"$f":"IF(OR(G62>0, H62>0),($H$7+SUM($G$12:G62))-SUM($H$12:H62),\"\")","v":""}]
[null,null,null,null,null,null,null,null,{"$f":"IF(OR(G63>0, H63>0),($H$7+SUM($G$12:G63))-SUM($H$12:H63),\"\")","v":""}]
[null,null,null,null,null,null,null,null,{"$f":"IF(OR(G64>0, H64>0),($H$7+SUM($G$12:G64))-SUM($H$12:H64),\"\")","v":""}]
[null,null,null,null,null,null,null,null,{"$f":"IF(OR(G65>0, H65>0),($H$7+SUM($G$12:G65))-SUM($H$12:H65),\"\")","v":""}]
[null,null,null,null,null,null,null,null,{"$f":"IF(OR(G66>0, H66>0),($H$7+SUM($G$12:G66))-SUM($H$12:H66),\"\")","v":""}]
[null,null,null,null,null,null,null,null,{"$f":"IF(OR(G67>0, H67>0),($H$7+SUM($G$12:G67))-SUM($H$12:H67),\"\")","v":""}]
[null,null,null,null,null,null,null,null,{"$f":"IF(OR(G68>0, H68>0),($H$7+SUM($G$12:G68))-SUM($H$12:H68),\"\")","v":""}]
[null,null,null,null,null,null,null,null,{"$f":"IF(OR(G69>0, H69>0),($H$7+SUM($G$12:G69))-SUM($H$12:H69),\"\")","v":""}]
[null,null,null,null,null,null,null,null,{"$f":"IF(OR(G70>0, H70>0),($H$7+SUM($G$12:G70))-SUM($H$12:H70),\"\")","v":""}]
[null,null,null,null,null,null,null,null,{"$f":"IF(OR(G71>0, H71>0),($H$7+SUM($G$12:G71))-SUM($H$12:H71),\"\")","v":""}]
[null,null,null,null,null,null,null,null,{"$f":"IF(OR(G72>0, H72>0),($H$7+SUM($G$12:G72))-SUM($H$12:H72),\"\")","v":""}]
[null,null,null,null,null,null,null,null,{"$f":"IF(OR(G73>0, H73>0),($H$7+SUM($G$12:G73))-SUM($H$12:H73),\"\")","v":""}]
[null,null,null,null,null,null,null,null,{"$f":"IF(OR(G74>0, H74>0),($H$7+SUM($G$12:G74))-SUM($H$12:H74),\"\")","v":""}]
[null,null,null,null,null,null,null,null,{"$f":"IF(OR(G75>0, H75>0),($H$7+SUM($G$12:G75))-SUM($H$12:H75),\"\")","v":""}]
[null,null,null,null,null,null,null,null,{"$f":"IF(OR(G76>0, H76>0),($H$7+SUM($G$12:G76))-SUM($H$12:H76),\"\")","v":""}]
[null,null,null,null,null,null,null,null,{"$f":"IF(OR(G77>0, H77>0),($H$7+SUM($G$12:G77))-SUM($H$12:H77),\"\")","v":""}]
[null,null,null,null,null,null,null,null,{"$f":"IF(OR(G78>0, H78>0),($H$7+SUM($G$12:G78))-SUM($H$12:H78),\"\")","v":""}]
[null,null,null,null,null,null,null,null,{"$f":"IF(OR(G79>0, H79>0),($H$7+SUM($G$12:G79))-SUM($H$12:H79),\"\")","v":""}]
[null,null,null,null,null,null,null,null,{"$f":"IF(OR(G80>0, H80>0),($H$7+SUM($G$12:G80))-SUM($H$12:H80),\"\")","v":""}]
[null,null,null,null,null,null,null,null,{"$f":"IF(OR(G81>0, H81>0),($H$7+SUM($G$12:G81))-SUM($H$12:H81),\"\")","v":""}]
[null,null,null,null,null,null,null,null,{"$f":"IF(OR(G82>0, H82>0),($H$7+SUM($G$12:G82))-SUM($H$12:H82),\"\")","v":""}]
[null,null,null,null,null,null,null,null,{"$f":"IF(OR(G83>0, H83>0),($H$7+SUM($G$12:G83))-SUM($H$12:H83),\"\")","v":""}]
[null,null,null,null,null,null,null,null,{"$f":"IF(OR(G84>0, H84>0),($H$7+SUM($G$12:G84))-SUM($H$12:H84),\"\")","v":""}]
[null,null,null,null,null,null,null,null,{"$f":"IF(OR(G85>0, H85>0),($H$7+SUM($G$12:G85))-SUM($H$12:H85),\"\")","v":""}]
[null,null,null,null,null,null,null,null,{"$f":"IF(OR(G86>0, H86>0),($H$7+SUM($G$12:G86))-SUM($H$12:H86),\"\")","v":""}]
[null,null,null,null,null,null,null,null,{"$f":"IF(OR(G87>0, H87>0),($H$7+SUM($G$12:G87))-SUM($H$12:H87),\"\")","v":""}]
[null,null,null,null,null,null,null,null,{"$f":"IF(OR(G88>0, H88>0),($H$7+SUM($G$12:G88))-SUM($H$12:H88),\"\")","v":""}]
[null,null,null,null,null,null,null,null,{"$f":"IF(OR(G89>0, H89>0),($H$7+SUM($G$12:G89))-SUM($H$12:H89),\"\")","v":""}]
[null,null,null,null,null,null,null,null,{"$f":"IF(OR(G90>0, H90>0),($H$7+SUM($G$12:G90))-SUM($H$12:H90),\"\")","v":""}]
[null,null,null,null,null,null,null,null,{"$f":"IF(OR(G91>0, H91>0),($H$7+SUM($G$12:G91))-SUM($H$12:H91),\"\")","v":""}]
[null,null,null,null,null,null,null,null,{"$f":"IF(OR(G92>0, H92>0),($H$7+SUM($G$12:G92))-SUM($H$12:H92),\"\")","v":""}]
[null,null,null,null,null,null,null,null,{"$f":"IF(OR(G93>0, H93>0),($H$7+SUM($G$12:G93))-SUM($H$12:H93),\"\")","v":""}]
[null,null,null,null,null,null,null,null,{"$f":"IF(OR(G94>0, H94>0),($H$7+SUM($G$12:G94))-SUM($H$12:H94),\"\")","v":""}]
[null,null,null,null,null,null,null,null,{"$f":"IF(OR(G95>0, H95>0),($H$7+SUM($G$12:G95))-SUM($H$12:H95),\"\")","v":""}]
[null,null,null,null,null,null,null,null,{"$f":"IF(OR(G96>0, H96>0),($H$7+SUM($G$12:G96))-SUM($H$12:H96),\"\")","v":""}]
[null,null,null,null,null,null,null,null,{"$f":"IF(OR(G97>0, H97>0),($H$7+SUM($G$12:G97))-SUM($H$12:H97),\"\")","v":""}]
[null,null,null,null,null,null,null,null,{"$f":"IF(OR(G98>0, H98>0),($H$7+SUM($G$12:G98))-SUM($H$12:H98),\"\")","v":""}]
[null,null,null,null,null,null,null,null,{"$f":"IF(OR(G99>0, H99>0),($H$7+SUM($G$12:G99))-SUM($H$12:H99),\"\")","v":""}]
[null,null,null,null,null,null,null,null,{"$f":"IF(OR(G100>0, H100>0),($H$7+SUM($G$12:G100))-SUM($H$12:H100),\"\")","v":""}]
[null,null,null,null,null,null,null,null,{"$f":"IF(OR(G101>0, H101>0),($H$7+SUM($G$12:G101))-SUM($H$12:H101),\"\")","v":""}]
[null,null,null,null,null,null,null,null,{"$f":"IF(OR(G102>0, H102>0),($H$7+SUM($G$12:G102))-SUM($H$12:H102),\"\")","v":""}]
[]
[null,null,"Notas:","Las cantidades emitidas en cheque y depositos, contienen IVA incluido",null,"Cobrado",{"$f":"SUM(G12:G102)","v":102000}]
[null,null,null,null,null,"Gastado",{"$f":"SUM(H12:H102)","v":63563.35}]
[null,null,null,null,null,"Saldo actual",{"$f":"H7+(G104-G105)","v":39436.65}]

{"sheet":"Descripcion Fondo","index":3,"n_rows":248,"n_cols":6,"rows_kept":248,"cut":false,"hidden":false,"merged":[]}
[null,null,"FECHA","DESCRIPCIÓN","GASTOS","TOTAL"]
[null,{"$f":" COUNTIF(Fondo_Comun!$H$12:$H$102, \">0\") >= ROW() - 1","v":true},{"$f":" IF($B2, INDIRECT(\"Fondo_Comun!C\" & SMALL(IF( Fondo_Comun!$H$12:$H$102 = \"\", \"\", ROW(Fondo_Comun!$H$12:$H$102)), ROW()-1)), \"\" )","v":"2014-06-04"},{"$f":" IF($B2, INDIRECT(\"Fondo_Comun!D\" & SMALL(IF( Fondo_Comun!$H$12:$H$102 = \"\", \"\", ROW(Fondo_Comun!$H$12:$H$102)), ROW()-1)), \"\" )","v":"xcvxv"},{"$f":" IF($B2, INDIRECT(\"Fondo_Comun!H\" & SMALL(IF( Fondo_Comun!$H$12:$H$102 = \"\", \"\", ROW(Fondo_Comun!$H$12:$H$102)), ROW()-1)), \"\" )","v":35000},{"$f":" IF( B2, SUM($E$2:E2), \"\" )","v":35000}]
[null,{"$f":" COUNTIF(Fondo_Comun!$H$12:$H$102, \">0\") >= ROW() - 1","v":true},{"$f":" IF($B3, INDIRECT(\"Fondo_Comun!C\" & SMALL(IF( Fondo_Comun!$H$12:$H$102 = \"\", \"\", ROW(Fondo_Comun!$H$12:$H$102)), ROW()-1)), \"\" )","v":"2014-06-09"},{"$f":" IF($B3, INDIRECT(\"Fondo_Comun!D\" & SMALL(IF( Fondo_Comun!$H$12:$H$102 = \"\", \"\", ROW(Fondo_Comun!$H$12:$H$102)), ROW()-1)), \"\" )","v":"fgddfgdfgdfgdf"},{"$f":" IF($B3, INDIRECT(\"Fondo_Comun!H\" & SMALL(IF( Fondo_Comun!$H$12:$H$102 = \"\", \"\", ROW(Fondo_Comun!$H$12:$H$102)), ROW()-1)), \"\" )","v":28563.35},{"$f":" IF( B3, SUM($E$2:E3), \"\" )","v":63563.35}]
[null,{"$f":" COUNTIF(Fondo_Comun!$H$12:$H$102, \">0\") >= ROW() - 1","v":false},{"$f":" IF($B4, INDIRECT(\"Fondo_Comun!C\" & SMALL(IF( Fondo_Comun!$H$12:$H$102 = \"\", \"\", ROW(Fondo_Comun!$H$12:$H$102)), ROW()-1)), \"\" )","v":""},{"$f":" IF($B4, INDIRECT(\"Fondo_Comun!D\" & SMALL(IF( Fondo_Comun!$H$12:$H$102 = \"\", \"\", ROW(Fondo_Comun!$H$12:$H$102)), ROW()-1)), \"\" )","v":""},{"$f":" IF($B4, INDIRECT(\"Fondo_Comun!H\" & SMALL(IF( Fondo_Comun!$H$12:$H$102 = \"\", \"\", ROW(Fondo_Comun!$H$12:$H$102)), ROW()-1)), \"\" )","v":""},{"$f":" IF( B4, SUM($E$2:E4), \"\" )","v":""}]
[null,{"$f":" COUNTIF(Fondo_Comun!$H$12:$H$102, \">0\") >= ROW() - 1","v":false},{"$f":" IF($B5, INDIRECT(\"Fondo_Comun!C\" & SMALL(IF( Fondo_Comun!$H$12:$H$102 = \"\", \"\", ROW(Fondo_Comun!$H$12:$H$102)), ROW()-1)), \"\" )","v":""},{"$f":" IF($B5, INDIRECT(\"Fondo_Comun!D\" & SMALL(IF( Fondo_Comun!$H$12:$H$102 = \"\", \"\", ROW(Fondo_Comun!$H$12:$H$102)), ROW()-1)), \"\" )","v":""},{"$f":" IF($B5, INDIRECT(\"Fondo_Comun!H\" & SMALL(IF( Fondo_Comun!$H$12:$H$102 = \"\", \"\", ROW(Fondo_Comun!$H$12:$H$102)), ROW()-1)), \"\" )","v":""},{"$f":" IF( B5, SUM($E$2:E5), \"\" )","v":""}]
[null,{"$f":" COUNTIF(Fondo_Comun!$H$12:$H$102, \">0\") >= ROW() - 1","v":false},{"$f":" IF($B6, INDIRECT(\"Fondo_Comun!C\" & SMALL(IF( Fondo_Comun!$H$12:$H$102 = \"\", \"\", ROW(Fondo_Comun!$H$12:$H$102)), ROW()-1)), \"\" )","v":""},{"$f":" IF($B6, INDIRECT(\"Fondo_Comun!D\" & SMALL(IF( Fondo_Comun!$H$12:$H$102 = \"\", \"\", ROW(Fondo_Comun!$H$12:$H$102)), ROW()-1)), \"\" )","v":""},{"$f":" IF($B6, INDIRECT(\"Fondo_Comun!H\" & SMALL(IF( Fondo_Comun!$H$12:$H$102 = \"\", \"\", ROW(Fondo_Comun!$H$12:$H$102)), ROW()-1)), \"\" )","v":""},{"$f":" IF( B6, SUM($E$2:E6), \"\" )","v":""}]
[null,{"$f":" COUNTIF(Fondo_Comun!$H$12:$H$102, \">0\") >= ROW() - 1","v":false},{"$f":" IF($B7, INDIRECT(\"Fondo_Comun!C\" & SMALL(IF( Fondo_Comun!$H$12:$H$102 = \"\", \"\", ROW(Fondo_Comun!$H$12:$H$102)), ROW()-1)), \"\" )","v":""},{"$f":" IF($B7, INDIRECT(\"Fondo_Comun!D\" & SMALL(IF( Fondo_Comun!$H$12:$H$102 = \"\", \"\", ROW(Fondo_Comun!$H$12:$H$102)), ROW()-1)), \"\" )","v":""},{"$f":" IF($B7, INDIRECT(\"Fondo_Comun!H\" & SMALL(IF( Fondo_Comun!$H$12:$H$102 = \"\", \"\", ROW(Fondo_Comun!$H$12:$H$102)), ROW()-1)), \"\" )","v":""},{"$f":" IF( B7, SUM($E$2:E7), \"\" )","v":""}]
[null,{"$f":" COUNTIF(Fondo_Comun!$H$12:$H$102, \">0\") >= ROW() - 1","v":false},{"$f":" IF($B8, INDIRECT(\"Fondo_Comun!C\" & SMALL(IF( Fondo_Comun!$H$12:$H$102 = \"\", \"\", ROW(Fondo_Comun!$H$12:$H$102)), ROW()-1)), \"\" )","v":""},{"$f":" IF($B8, INDIRECT(\"Fondo_Comun!D\" & SMALL(IF( Fondo_Comun!$H$12:$H$102 = \"\", \"\", ROW(Fondo_Comun!$H$12:$H$102)), ROW()-1)), \"\" )","v":""},{"$f":" IF($B8, INDIRECT(\"Fondo_Comun!H\" & SMALL(IF( Fondo_Comun!$H$12:$H$102 = \"\", \"\", ROW(Fondo_Comun!$H$12:$H$102)), ROW()-1)), \"\" )","v":""},{"$f":" IF( B8, SUM($E$2:E8), \"\" )","v":""}]
[null,{"$f":" COUNTIF(Fondo_Comun!$H$12:$H$102, \">0\") >= ROW() - 1","v":false},{"$f":" IF($B9, INDIRECT(\"Fondo_Comun!C\" & SMALL(IF( Fondo_Comun!$H$12:$H$102 = \"\", \"\", ROW(Fondo_Comun!$H$12:$H$102)), ROW()-1)), \"\" )","v":""},{"$f":" IF($B9, INDIRECT(\"Fondo_Comun!D\" & SMALL(IF( Fondo_Comun!$H$12:$H$102 = \"\", \"\", ROW(Fondo_Comun!$H$12:$H$102)), ROW()-1)), \"\" )","v":""},{"$f":" IF($B9, INDIRECT(\"Fondo_Comun!H\" & SMALL(IF( Fondo_Comun!$H$12:$H$102 = \"\", \"\", ROW(Fondo_Comun!$H$12:$H$102)), ROW()-1)), \"\" )","v":""},{"$f":" IF( B9, SUM($E$2:E9), \"\" )","v":""}]
[null,{"$f":" COUNTIF(Fondo_Comun!$H$12:$H$102, \">0\") >= ROW() - 1","v":false},{"$f":" IF($B10, INDIRECT(\"Fondo_Comun!C\" & SMALL(IF( Fondo_Comun!$H$12:$H$102 = \"\", \"\", ROW(Fondo_Comun!$H$12:$H$102)), ROW()-1)), \"\" )","v":""},{"$f":" IF($B10, INDIRECT(\"Fondo_Comun!D\" & SMALL(IF( Fondo_Comun!$H$12:$H$102 = \"\", \"\", ROW(Fondo_Comun!$H$12:$H$102)), ROW()-1)), \"\" )","v":""},{"$f":" IF($B10, INDIRECT(\"Fondo_Comun!H\" & SMALL(IF( Fondo_Comun!$H$12:$H$102 = \"\", \"\", ROW(Fondo_Comun!$H$12:$H$102)), ROW()-1)), \"\" )","v":""},{"$f":" IF( B10, SUM($E$2:E10), \"\" )","v":""}]
[null,{"$f":" COUNTIF(Fondo_Comun!$H$12:$H$102, \">0\") >= ROW() - 1","v":false},{"$f":" IF($B11, INDIRECT(\"Fondo_Comun!C\" & SMALL(IF( Fondo_Comun!$H$12:$H$102 = \"\", \"\", ROW(Fondo_Comun!$H$12:$H$102)), ROW()-1)), \"\" )","v":""},{"$f":" IF($B11, INDIRECT(\"Fondo_Comun!D\" & SMALL(IF( Fondo_Comun!$H$12:$H$102 = \"\", \"\", ROW(Fondo_Comun!$H$12:$H$102)), ROW()-1)), \"\" )","v":""},{"$f":" IF($B11, INDIRECT(\"Fondo_Comun!H\" & SMALL(IF( Fondo_Comun!$H$12:$H$102 = \"\", \"\", ROW(Fondo_Comun!$H$12:$H$102)), ROW()-1)), \"\" )","v":""},{"$f":" IF( B11, SUM($E$2:E11), \"\" )","v":""}]
[null,{"$f":" COUNTIF(Fondo_Comun!$H$12:$H$102, \">0\") >= ROW() - 1","v":false},{"$f":" IF($B12, INDIRECT(\"Fondo_Comun!C\" & SMALL(IF( Fondo_Comun!$H$12:$H$102 = \"\", \"\", ROW(Fondo_Comun!$H$12:$H$102)), ROW()-1)), \"\" )","v":""},{"$f":" IF($B12, INDIRECT(\"Fondo_Comun!D\" & SMALL(IF( Fondo_Comun!$H$12:$H$102 = \"\", \"\", ROW(Fondo_Comun!$H$12:$H$102)), ROW()-1)), \"\" )","v":""},{"$f":" IF($B12, INDIRECT(\"Fondo_Comun!H\" & SMALL(IF( Fondo_Comun!$H$12:$H$102 = \"\", \"\", ROW(Fondo_Comun!$H$12:$H$102)), ROW()-1)), \"\" )","v":""},{"$f":" IF( B12, SUM($E$2:E12), \"\" )","v":""}]
[null,{"$f":" COUNTIF(Fondo_Comun!$H$12:$H$102, \">0\") >= ROW() - 1","v":false},{"$f":" IF($B13, INDIRECT(\"Fondo_Comun!C\" & SMALL(IF( Fondo_Comun!$H$12:$H$102 = \"\", \"\", ROW(Fondo_Comun!$H$12:$H$102)), ROW()-1)), \"\" )","v":""},{"$f":" IF($B13, INDIRECT(\"Fondo_Comun!D\" & SMALL(IF( Fondo_Comun!$H$12:$H$102 = \"\", \"\", ROW(Fondo_Comun!$H$12:$H$102)), ROW()-1)), \"\" )","v":""},{"$f":" IF($B13, INDIRECT(\"Fondo_Comun!H\" & SMALL(IF( Fondo_Comun!$H$12:$H$102 = \"\", \"\", ROW(Fondo_Comun!$H$12:$H$102)), ROW()-1)), \"\" )","v":""},{"$f":" IF( B13, SUM($E$2:E13), \"\" )","v":""}]
[null,{"$f":" COUNTIF(Fondo_Comun!$H$12:$H$102, \">0\") >= ROW() - 1","v":false},{"$f":" IF($B14, INDIRECT(\"Fondo_Comun!C\" & SMALL(IF( Fondo_Comun!$H$12:$H$102 = \"\", \"\", ROW(Fondo_Comun!$H$12:$H$102)), ROW()-1)), \"\" )","v":""},{"$f":" IF($B14, INDIRECT(\"Fondo_Comun!D\" & SMALL(IF( Fondo_Comun!$H$12:$H$102 = \"\", \"\", ROW(Fondo_Comun!$H$12:$H$102)), ROW()-1)), \"\" )","v":""},{"$f":" IF($B14, INDIRECT(\"Fondo_Comun!H\" & SMALL(IF( Fondo_Comun!$H$12:$H$102 = \"\", \"\", ROW(Fondo_Comun!$H$12:$H$102)), ROW()-1)), \"\" )","v":""},{"$f":" IF( B14, SUM($E$2:E14), \"\" )","v":""}]
[null,{"$f":" COUNTIF(Fondo_Comun!$H$12:$H$102, \">0\") >= ROW() - 1","v":false},{"$f":" IF($B15, INDIRECT(\"Fondo_Comun!C\" & SMALL(IF( Fondo_Comun!$H$12:$H$102 = \"\", \"\", ROW(Fondo_Comun!$H$12:$H$102)), ROW()-1)), \"\" )","v":""},{"$f":" IF($B15, INDIRECT(\"Fondo_Comun!D\" & SMALL(IF( Fondo_Comun!$H$12:$H$102 = \"\", \"\", ROW(Fondo_Comun!$H$12:$H$102)), ROW()-1)), \"\" )","v":""},{"$f":" IF($B15, INDIRECT(\"Fondo_Comun!H\" & SMALL(IF( Fondo_Comun!$H$12:$H$102 = \"\", \"\", ROW(Fondo_Comun!$H$12:$H$102)), ROW()-1)), \"\" )","v":""},{"$f":" IF( B15, SUM($E$2:E15), \"\" )","v":""}]
[null,{"$f":" COUNTIF(Fondo_Comun!$H$12:$H$102, \">0\") >= ROW() - 1","v":false},{"$f":" IF($B16, INDIRECT(\"Fondo_Comun!C\" & SMALL(IF( Fondo_Comun!$H$12:$H$102 = \"\", \"\", ROW(Fondo_Comun!$H$12:$H$102)), ROW()-1)), \"\" )","v":""},{"$f":" IF($B16, INDIRECT(\"Fondo_Comun!D\" & SMALL(IF( Fondo_Comun!$H$12:$H$102 = \"\", \"\", ROW(Fondo_Comun!$H$12:$H$102)), ROW()-1)), \"\" )","v":""},{"$f":" IF($B16, INDIRECT(\"Fondo_Comun!H\" & SMALL(IF( Fondo_Comun!$H$12:$H$102 = \"\", \"\", ROW(Fondo_Comun!$H$12:$H$102)), ROW()-1)), \"\" )","v":""},{"$f":" IF( B16, SUM($E$2:E16), \"\" )","v":""}]
[null,{"$f":" COUNTIF(Fondo_Comun!$H$12:$H$102, \">0\") >= ROW() - 1","v":false},{"$f":" IF($B17, INDIRECT(\"Fondo_Comun!C\" & SMALL(IF( Fondo_Comun!$H$12:$H$102 = \"\", \"\", ROW(Fondo_Comun!$H$12:$H$102)), ROW()-1)), \"\" )","v":""},{"$f":" IF($B17, INDIRECT(\"Fondo_Comun!D\" & SMALL(IF( Fondo_Comun!$H$12:$H$102 = \"\", \"\", ROW(Fondo_Comun!$H$12:$H$102)), ROW()-1)), \"\" )","v":""},{"$f":" IF($B17, INDIRECT(\"Fondo_Comun!H\" & SMALL(IF( Fondo_Comun!$H$12:$H$102 = \"\", \"\", ROW(Fondo_Comun!$H$12:$H$102)), ROW()-1)), \"\" )","v":""},{"$f":" IF( B17, SUM($E$2:E17), \"\" )","v":""}]
[null,{"$f":" COUNTIF(Fondo_Comun!$H$12:$H$102, \">0\") >= ROW() - 1","v":false},{"$f":" IF($B18, INDIRECT(\"Fondo_Comun!C\" & SMALL(IF( Fondo_Comun!$H$12:$H$102 = \"\", \"\", ROW(Fondo_Comun!$H$12:$H$102)), ROW()-1)), \"\" )","v":""},{"$f":" IF($B18, INDIRECT(\"Fondo_Comun!D\" & SMALL(IF( Fondo_Comun!$H$12:$H$102 = \"\", \"\", ROW(Fondo_Comun!$H$12:$H$102)), ROW()-1)), \"\" )","v":""},{"$f":" IF($B18, INDIRECT(\"Fondo_Comun!H\" & SMALL(IF( Fondo_Comun!$H$12:$H$102 = \"\", \"\", ROW(Fondo_Comun!$H$12:$H$102)), ROW()-1)), \"\" )","v":""},{"$f":" IF( B18, SUM($E$2:E18), \"\" )","v":""}]
[null,{"$f":" COUNTIF(Fondo_Comun!$H$12:$H$102, \">0\") >= ROW() - 1","v":false},{"$f":" IF($B19, INDIRECT(\"Fondo_Comun!C\" & SMALL(IF( Fondo_Comun!$H$12:$H$102 = \"\", \"\", ROW(Fondo_Comun!$H$12:$H$102)), ROW()-1)), \"\" )","v":""},{"$f":" IF($B19, INDIRECT(\"Fondo_Comun!D\" & SMALL(IF( Fondo_Comun!$H$12:$H$102 = \"\", \"\", ROW(Fondo_Comun!$H$12:$H$102)), ROW()-1)), \"\" )","v":""},{"$f":" IF($B19, INDIRECT(\"Fondo_Comun!H\" & SMALL(IF( Fondo_Comun!$H$12:$H$102 = \"\", \"\", ROW(Fondo_Comun!$H$12:$H$102)), ROW()-1)), \"\" )","v":""},{"$f":" IF( B19, SUM($E$2:E19), \"\" )","v":""}]
[null,{"$f":" COUNTIF(Fondo_Comun!$H$12:$H$102, \">0\") >= ROW() - 1","v":false},{"$f":" IF($B20, INDIRECT(\"Fondo_Comun!C\" & SMALL(IF( Fondo_Comun!$H$12:$H$102 = \"\", \"\", ROW(Fondo_Comun!$H$12:$H$102)), ROW()-1)), \"\" )","v":""},{"$f":" IF($B20, INDIRECT(\"Fondo_Comun!D\" & SMALL(IF( Fondo_Comun!$H$12:$H$102 = \"\", \"\", ROW(Fondo_Comun!$H$12:$H$102)), ROW()-1)), \"\" )","v":""},{"$f":" IF($B20, INDIRECT(\"Fondo_Comun!H\" & SMALL(IF( Fondo_Comun!$H$12:$H$102 = \"\", \"\", ROW(Fondo_Comun!$H$12:$H$102)), ROW()-1)), \"\" )","v":""},{"$f":" IF( B20, SUM($E$2:E20), \"\" )","v":""}]
[null,{"$f":" COUNTIF(Fondo_Comun!$H$12:$H$102, \">0\") >= ROW() - 1","v":false},{"$f":" IF($B21, INDIRECT(\"Fondo_Comun!C\" & SMALL(IF( Fondo_Comun!$H$12:$H$102 = \"\", \"\", ROW(Fondo_Comun!$H$12:$H$102)), ROW()-1)), \"\" )","v":""},{"$f":" IF($B21, INDIRECT(\"Fondo_Comun!D\" & SMALL(IF( Fondo_Comun!$H$12:$H$102 = \"\", \"\", ROW(Fondo_Comun!$H$12:$H$102)), ROW()-1)), \"\" )","v":""},{"$f":" IF($B21, INDIRECT(\"Fondo_Comun!H\" & SMALL(IF( Fondo_Comun!$H$12:$H$102 = \"\", \"\", ROW(Fondo_Comun!$H$12:$H$102)), ROW()-1)), \"\" )","v":""},{"$f":" IF( B21, SUM($E$2:E21), \"\" )","v":""}]
[null,{"$f":" COUNTIF(Fondo_Comun!$H$12:$H$102, \">0\") >= ROW() - 1","v":false},{"$f":" IF($B22, INDIRECT(\"Fondo_Comun!C\" & SMALL(IF( Fondo_Comun!$H$12:$H$102 = \"\", \"\", ROW(Fondo_Comun!$H$12:$H$102)), ROW()-1)), \"\" )","v":""},{"$f":" IF($B22, INDIRECT(\"Fondo_Comun!D\" & SMALL(IF( Fondo_Comun!$H$12:$H$102 = \"\", \"\", ROW(Fondo_Comun!$H$12:$H$102)), ROW()-1)), \"\" )","v":""},{"$f":" IF($B22, INDIRECT(\"Fondo_Comun!H\" & SMALL(IF( Fondo_Comun!$H$12:$H$102 = \"\", \"\", ROW(Fondo_Comun!$H$12:$H$102)), ROW()-1)), \"\" )","v":""},{"$f":" IF( B22, SUM($E$2:E22), \"\" )","v":""}]
[null,{"$f":" COUNTIF(Fondo_Comun!$H$12:$H$102, \">0\") >= ROW() - 1","v":false},{"$f":" IF($B23, INDIRECT(\"Fondo_Comun!C\" & SMALL(IF( Fondo_Comun!$H$12:$H$102 = \"\", \"\", ROW(Fondo_Comun!$H$12:$H$102)), ROW()-1)), \"\" )","v":""},{"$f":" IF($B23, INDIRECT(\"Fondo_Comun!D\" & SMALL(IF( Fondo_Comun!$H$12:$H$102 = \"\", \"\", ROW(Fondo_Comun!$H$12:$H$102)), ROW()-1)), \"\" )","v":""},{"$f":" IF($B23, INDIRECT(\"Fondo_Comun!H\" & SMALL(IF( Fondo_Comun!$H$12:$H$102 = \"\", \"\", ROW(Fondo_Comun!$H$12:$H$102)), ROW()-1)), \"\" )","v":""},{"$f":" IF( B23, SUM($E$2:E23), \"\" )","v":""}]
[null,{"$f":" COUNTIF(Fondo_Comun!$H$12:$H$102, \">0\") >= ROW() - 1","v":false},{"$f":" IF($B24, INDIRECT(\"Fondo_Comun!C\" & SMALL(IF( Fondo_Comun!$H$12:$H$102 = \"\", \"\", ROW(Fondo_Comun!$H$12:$H$102)), ROW()-1)), \"\" )","v":""},{"$f":" IF($B24, INDIRECT(\"Fondo_Comun!D\" & SMALL(IF( Fondo_Comun!$H$12:$H$102 = \"\", \"\", ROW(Fondo_Comun!$H$12:$H$102)), ROW()-1)), \"\" )","v":""},{"$f":" IF($B24, INDIRECT(\"Fondo_Comun!H\" & SMALL(IF( Fondo_Comun!$H$12:$H$102 = \"\", \"\", ROW(Fondo_Comun!$H$12:$H$102)), ROW()-1)), \"\" )","v":""},{"$f":" IF( B24, SUM($E$2:E24), \"\" )","v":""}]
[null,{"$f":" COUNTIF(Fondo_Comun!$H$12:$H$102, \">0\") >= ROW() - 1","v":false},{"$f":" IF($B25, INDIRECT(\"Fondo_Comun!C\" & SMALL(IF( Fondo_Comun!$H$12:$H$102 = \"\", \"\", ROW(Fondo_Comun!$H$12:$H$102)), ROW()-1)), \"\" )","v":""},{"$f":" IF($B25, INDIRECT(\"Fondo_Comun!D\" & SMALL(IF( Fondo_Comun!$H$12:$H$102 = \"\", \"\", ROW(Fondo_Comun!$H$12:$H$102)), ROW()-1)), \"\" )","v":""},{"$f":" IF($B25, INDIRECT(\"Fondo_Comun!H\" & SMALL(IF( Fondo_Comun!$H$12:$H$102 = \"\", \"\", ROW(Fondo_Comun!$H$12:$H$102)), ROW()-1)), \"\" )","v":""},{"$f":" IF( B25, SUM($E$2:E25), \"\" )","v":""}]
[null,{"$f":" COUNTIF(Fondo_Comun!$H$12:$H$102, \">0\") >= ROW() - 1","v":false},{"$f":" IF($B26, INDIRECT(\"Fondo_Comun!C\" & SMALL(IF( Fondo_Comun!$H$12:$H$102 = \"\", \"\", ROW(Fondo_Comun!$H$12:$H$102)), ROW()-1)), \"\" )","v":""},{"$f":" IF($B26, INDIRECT(\"Fondo_Comun!D\" & SMALL(IF( Fondo_Comun!$H$12:$H$102 = \"\", \"\", ROW(Fondo_Comun!$H$12:$H$102)), ROW()-1)), \"\" )","v":""},{"$f":" IF($B26, INDIRECT(\"Fondo_Comun!H\" & SMALL(IF( Fondo_Comun!$H$12:$H$102 = \"\", \"\", ROW(Fondo_Comun!$H$12:$H$102)), ROW()-1)), \"\" )","v":""},{"$f":" IF( B26, SUM($E$2:E26), \"\" )","v":""}]
[null,{"$f":" COUNTIF(Fondo_Comun!$H$12:$H$102, \">0\") >= ROW() - 1","v":false},{"$f":" IF($B27, INDIRECT(\"Fondo_Comun!C\" & SMALL(IF( Fondo_Comun!$H$12:$H$102 = \"\", \"\", ROW(Fondo_Comun!$H$12:$H$102)), ROW()-1)), \"\" )","v":""},{"$f":" IF($B27, INDIRECT(\"Fondo_Comun!D\" & SMALL(IF( Fondo_Comun!$H$12:$H$102 = \"\", \"\", ROW(Fondo_Comun!$H$12:$H$102)), ROW()-1)), \"\" )","v":""},{"$f":" IF($B27, INDIRECT(\"Fondo_Comun!H\" & SMALL(IF( Fondo_Comun!$H$12:$H$102 = \"\", \"\", ROW(Fondo_Comun!$H$12:$H$102)), ROW()-1)), \"\" )","v":""},{"$f":" IF( B27, SUM($E$2:E27), \"\" )","v":""}]
[null,{"$f":" COUNTIF(Fondo_Comun!$H$12:$H$102, \">0\") >= ROW() - 1","v":false},{"$f":" IF($B28, INDIRECT(\"Fondo_Comun!C\" & SMALL(IF( Fondo_Comun!$H$12:$H$102 = \"\", \"\", ROW(Fondo_Comun!$H$12:$H$102)), ROW()-1)), \"\" )","v":""},{"$f":" IF($B28, INDIRECT(\"Fondo_Comun!D\" & SMALL(IF( Fondo_Comun!$H$12:$H$102 = \"\", \"\", ROW(Fondo_Comun!$H$12:$H$102)), ROW()-1)), \"\" )","v":""},{"$f":" IF($B28, INDIRECT(\"Fondo_Comun!H\" & SMALL(IF( Fondo_Comun!$H$12:$H$102 = \"\", \"\", ROW(Fondo_Comun!$H$12:$H$102)), ROW()-1)), \"\" )","v":""},{"$f":" IF( B28, SUM($E$2:E28), \"\" )","v":""}]
[null,{"$f":" COUNTIF(Fondo_Comun!$H$12:$H$102, \">0\") >= ROW() - 1","v":false},{"$f":" IF($B29, INDIRECT(\"Fondo_Comun!C\" & SMALL(IF( Fondo_Comun!$H$12:$H$102 = \"\", \"\", ROW(Fondo_Comun!$H$12:$H$102)), ROW()-1)), \"\" )","v":""},{"$f":" IF($B29, INDIRECT(\"Fondo_Comun!D\" & SMALL(IF( Fondo_Comun!$H$12:$H$102 = \"\", \"\", ROW(Fondo_Comun!$H$12:$H$102)), ROW()-1)), \"\" )","v":""},{"$f":" IF($B29, INDIRECT(\"Fondo_Comun!H\" & SMALL(IF( Fondo_Comun!$H$12:$H$102 = \"\", \"\", ROW(Fondo_Comun!$H$12:$H$102)), ROW()-1)), \"\" )","v":""},{"$f":" IF( B29, SUM($E$2:E29), \"\" )","v":""}]
[null,{"$f":" COUNTIF(Fondo_Comun!$H$12:$H$102, \">0\") >= ROW() - 1","v":false},{"$f":" IF($B30, INDIRECT(\"Fondo_Comun!C\" & SMALL(IF( Fondo_Comun!$H$12:$H$102 = \"\", \"\", ROW(Fondo_Comun!$H$12:$H$102)), ROW()-1)), \"\" )","v":""},{"$f":" IF($B30, INDIRECT(\"Fondo_Comun!D\" & SMALL(IF( Fondo_Comun!$H$12:$H$102 = \"\", \"\", ROW(Fondo_Comun!$H$12:$H$102)), ROW()-1)), \"\" )","v":""},{"$f":" IF($B30, INDIRECT(\"Fondo_Comun!H\" & SMALL(IF( Fondo_Comun!$H$12:$H$102 = \"\", \"\", ROW(Fondo_Comun!$H$12:$H$102)), ROW()-1)), \"\" )","v":""},{"$f":" IF( B30, SUM($E$2:E30), \"\" )","v":""}]
[null,{"$f":" COUNTIF(Fondo_Comun!$H$12:$H$102, \">0\") >= ROW() - 1","v":false},{"$f":" IF($B31, INDIRECT(\"Fondo_Comun!C\" & SMALL(IF( Fondo_Comun!$H$12:$H$102 = \"\", \"\", ROW(Fondo_Comun!$H$12:$H$102)), ROW()-1)), \"\" )","v":""},{"$f":" IF($B31, INDIRECT(\"Fondo_Comun!D\" & SMALL(IF( Fondo_Comun!$H$12:$H$102 = \"\", \"\", ROW(Fondo_Comun!$H$12:$H$102)), ROW()-1)), \"\" )","v":""},{"$f":" IF($B31, INDIRECT(\"Fondo_Comun!H\" & SMALL(IF( Fondo_Comun!$H$12:$H$102 = \"\", \"\", ROW(Fondo_Comun!$H$12:$H$102)), ROW()-1)), \"\" )","v":""},{"$f":" IF( B31, SUM($E$2:E31), \"\" )","v":""}]
[null,{"$f":" COUNTIF(Fondo_Comun!$H$12:$H$102, \">0\") >= ROW() - 1","v":false},{"$f":" IF($B32, INDIRECT(\"Fondo_Comun!C\" & SMALL(IF( Fondo_Comun!$H$12:$H$102 = \"\", \"\", ROW(Fondo_Comun!$H$12:$H$102)), ROW()-1)), \"\" )","v":""},{"$f":" IF($B32, INDIRECT(\"Fondo_Comun!D\" & SMALL(IF( Fondo_Comun!$H$12:$H$102 = \"\", \"\", ROW(Fondo_Comun!$H$12:$H$102)), ROW()-1)), \"\" )","v":""},{"$f":" IF($B32, INDIRECT(\"Fondo_Comun!H\" & SMALL(IF( Fondo_Comun!$H$12:$H$102 = \"\", \"\", ROW(Fondo_Comun!$H$12:$H$102)), ROW()-1)), \"\" )","v":""},{"$f":" IF( B32, SUM($E$2:E32), \"\" )","v":""}]
[null,{"$f":" COUNTIF(Fondo_Comun!$H$12:$H$102, \">0\") >= ROW() - 1","v":false},{"$f":" IF($B33, INDIRECT(\"Fondo_Comun!C\" & SMALL(IF( Fondo_Comun!$H$12:$H$102 = \"\", \"\", ROW(Fondo_Comun!$H$12:$H$102)), ROW()-1)), \"\" )","v":""},{"$f":" IF($B33, INDIRECT(\"Fondo_Comun!D\" & SMALL(IF( Fondo_Comun!$H$12:$H$102 = \"\", \"\", ROW(Fondo_Comun!$H$12:$H$102)), ROW()-1)), \"\" )","v":""},{"$f":" IF($B33, INDIRECT(\"Fondo_Comun!H\" & SMALL(IF( Fondo_Comun!$H$12:$H$102 = \"\", \"\", ROW(Fondo_Comun!$H$12:$H$102)), ROW()-1)), \"\" )","v":""},{"$f":" IF( B33, SUM($E$2:E33), \"\" )","v":""}]
[null,{"$f":" COUNTIF(Fondo_Comun!$H$12:$H$102, \">0\") >= ROW() - 1","v":false},{"$f":" IF($B34, INDIRECT(\"Fondo_Comun!C\" & SMALL(IF( Fondo_Comun!$H$12:$H$102 = \"\", \"\", ROW(Fondo_Comun!$H$12:$H$102)), ROW()-1)), \"\" )","v":""},{"$f":" IF($B34, INDIRECT(\"Fondo_Comun!D\" & SMALL(IF( Fondo_Comun!$H$12:$H$102 = \"\", \"\", ROW(Fondo_Comun!$H$12:$H$102)), ROW()-1)), \"\" )","v":""},{"$f":" IF($B34, INDIRECT(\"Fondo_Comun!H\" & SMALL(IF( Fondo_Comun!$H$12:$H$102 = \"\", \"\", ROW(Fondo_Comun!$H$12:$H$102)), ROW()-1)), \"\" )","v":""},{"$f":" IF( B34, SUM($E$2:E34), \"\" )","v":""}]
[null,{"$f":" COUNTIF(Fondo_Comun!$H$12:$H$102, \">0\") >= ROW() - 1","v":false},{"$f":" IF($B35, INDIRECT(\"Fondo_Comun!C\" & SMALL(IF( Fondo_Comun!$H$12:$H$102 = \"\", \"\", ROW(Fondo_Comun!$H$12:$H$102)), ROW()-1)), \"\" )","v":""},{"$f":" IF($B35, INDIRECT(\"Fondo_Comun!D\" & SMALL(IF( Fondo_Comun!$H$12:$H$102 = \"\", \"\", ROW(Fondo_Comun!$H$12:$H$102)), ROW()-1)), \"\" )","v":""},{"$f":" IF($B35, INDIRECT(\"Fondo_Comun!H\" & SMALL(IF( Fondo_Comun!$H$12:$H$102 = \"\", \"\", ROW(Fondo_Comun!$H$12:$H$102)), ROW()-1)), \"\" )","v":""},{"$f":" IF( B35, SUM($E$2:E35), \"\" )","v":""}]
[null,{"$f":" COUNTIF(Fondo_Comun!$H$12:$H$102, \">0\") >= ROW() - 1","v":false},{"$f":" IF($B36, INDIRECT(\"Fondo_Comun!C\" & SMALL(IF( Fondo_Comun!$H$12:$H$102 = \"\", \"\", ROW(Fondo_Comun!$H$12:$H$102)), ROW()-1)), \"\" )","v":""},{"$f":" IF($B36, INDIRECT(\"Fondo_Comun!D\" & SMALL(IF( Fondo_Comun!$H$12:$H$102 = \"\", \"\", ROW(Fondo_Comun!$H$12:$H$102)), ROW()-1)), \"\" )","v":""},{"$f":" IF($B36, INDIRECT(\"Fondo_Comun!H\" & SMALL(IF( Fondo_Comun!$H$12:$H$102 = \"\", \"\", ROW(Fondo_Comun!$H$12:$H$102)), ROW()-1)), \"\" )","v":""},{"$f":" IF( B36, SUM($E$2:E36), \"\" )","v":""}]
[null,{"$f":" COUNTIF(Fondo_Comun!$H$12:$H$102, \">0\") >= ROW() - 1","v":false},{"$f":" IF($B37, INDIRECT(\"Fondo_Comun!C\" & SMALL(IF( Fondo_Comun!$H$12:$H$102 = \"\", \"\", ROW(Fondo_Comun!$H$12:$H$102)), ROW()-1)), \"\" )","v":""},{"$f":" IF($B37, INDIRECT(\"Fondo_Comun!D\" & SMALL(IF( Fondo_Comun!$H$12:$H$102 = \"\", \"\", ROW(Fondo_Comun!$H$12:$H$102)), ROW()-1)), \"\" )","v":""},{"$f":" IF($B37, INDIRECT(\"Fondo_Comun!H\" & SMALL(IF( Fondo_Comun!$H$12:$H$102 = \"\", \"\", ROW(Fondo_Comun!$H$12:$H$102)), ROW()-1)), \"\" )","v":""},{"$f":" IF( B37, SUM($E$2:E37), \"\" )","v":""}]
[null,{"$f":" COUNTIF(Fondo_Comun!$H$12:$H$102, \">0\") >= ROW() - 1","v":false},{"$f":" IF($B38, INDIRECT(\"Fondo_Comun!C\" & SMALL(IF( Fondo_Comun!$H$12:$H$102 = \"\", \"\", ROW(Fondo_Comun!$H$12:$H$102)), ROW()-1)), \"\" )","v":""},{"$f":" IF($B38, INDIRECT(\"Fondo_Comun!D\" & SMALL(IF( Fondo_Comun!$H$12:$H$102 = \"\", \"\", ROW(Fondo_Comun!$H$12:$H$102)), ROW()-1)), \"\" )","v":""},{"$f":" IF($B38, INDIRECT(\"Fondo_Comun!H\" & SMALL(IF( Fondo_Comun!$H$12:$H$102 = \"\", \"\", ROW(Fondo_Comun!$H$12:$H$102)), ROW()-1)), \"\" )","v":""},{"$f":" IF( B38, SUM($E$2:E38), \"\" )","v":""}]
[null,{"$f":" COUNTIF(Fondo_Comun!$H$12:$H$102, \">0\") >= ROW() - 1","v":false},{"$f":" IF($B39, INDIRECT(\"Fondo_Comun!C\" & SMALL(IF( Fondo_Comun!$H$12:$H$102 = \"\", \"\", ROW(Fondo_Comun!$H$12:$H$102)), ROW()-1)), \"\" )","v":""},{"$f":" IF($B39, INDIRECT(\"Fondo_Comun!D\" & SMALL(IF( Fondo_Comun!$H$12:$H$102 = \"\", \"\", ROW(Fondo_Comun!$H$12:$H$102)), ROW()-1)), \"\" )","v":""},{"$f":" IF($B39, INDIRECT(\"Fondo_Comun!H\" & SMALL(IF( Fondo_Comun!$H$12:$H$102 = \"\", \"\", ROW(Fondo_Comun!$H$12:$H$102)), ROW()-1)), \"\" )","v":""},{"$f":" IF( B39, SUM($E$2:E39), \"\" )","v":""}]
[null,{"$f":" COUNTIF(Fondo_Comun!$H$12:$H$102, \">0\") >= ROW() - 1","v":false},{"$f":" IF($B40, INDIRECT(\"Fondo_Comun!C\" & SMALL(IF( Fondo_Comun!$H$12:$H$102 = \"\", \"\", ROW(Fondo_Comun!$H$12:$H$102)), ROW()-1)), \"\" )","v":""},{"$f":" IF($B40, INDIRECT(\"Fondo_Comun!D\" & SMALL(IF( Fondo_Comun!$H$12:$H$102 = \"\", \"\", ROW(Fondo_Comun!$H$12:$H$102)), ROW()-1)), \"\" )","v":""},{"$f":" IF($B40, INDIRECT(\"Fondo_Comun!H\" & SMALL(IF( Fondo_Comun!$H$12:$H$102 = \"\", \"\", ROW(Fondo_Comun!$H$12:$H$102)), ROW()-1)), \"\" )","v":""},{"$f":" IF( B40, SUM($E$2:E40), \"\" )","v":""}]
[null,{"$f":" COUNTIF(Fondo_Comun!$H$12:$H$102, \">0\") >= ROW() - 1","v":false},{"$f":" IF($B41, INDIRECT(\"Fondo_Comun!C\" & SMALL(IF( Fondo_Comun!$H$12:$H$102 = \"\", \"\", ROW(Fondo_Comun!$H$12:$H$102)), ROW()-1)), \"\" )","v":""},{"$f":" IF($B41, INDIRECT(\"Fondo_Comun!D\" & SMALL(IF( Fondo_Comun!$H$12:$H$102 = \"\", \"\", ROW(Fondo_Comun!$H$12:$H$102)), ROW()-1)), \"\" )","v":""},{"$f":" IF($B41, INDIRECT(\"Fondo_Comun!H\" & SMALL(IF( Fondo_Comun!$H$12:$H$102 = \"\", \"\", ROW(Fondo_Comun!$H$12:$H$102)), ROW()-1)), \"\" )","v":""},{"$f":" IF( B41, SUM($E$2:E41), \"\" )","v":""}]
[null,{"$f":" COUNTIF(Fondo_Comun!$H$12:$H$102, \">0\") >= ROW() - 1","v":false},{"$f":" IF($B42, INDIRECT(\"Fondo_Comun!C\" & SMALL(IF( Fondo_Comun!$H$12:$H$102 = \"\", \"\", ROW(Fondo_Comun!$H$12:$H$102)), ROW()-1)), \"\" )","v":""},{"$f":" IF($B42, INDIRECT(\"Fondo_Comun!D\" & SMALL(IF( Fondo_Comun!$H$12:$H$102 = \"\", \"\", ROW(Fondo_Comun!$H$12:$H$102)), ROW()-1)), \"\" )","v":""},{"$f":" IF($B42, INDIRECT(\"Fondo_Comun!H\" & SMALL(IF( Fondo_Comun!$H$12:$H$102 = \"\", \"\", ROW(Fondo_Comun!$H$12:$H$102)), ROW()-1)), \"\" )","v":""},{"$f":" IF( B42, SUM($E$2:E42), \"\" )","v":""}]
[null,{"$f":" COUNTIF(Fondo_Comun!$H$12:$H$102, \">0\") >= ROW() - 1","v":false},{"$f":" IF($B43, INDIRECT(\"Fondo_Comun!C\" & SMALL(IF( Fondo_Comun!$H$12:$H$102 = \"\", \"\", ROW(Fondo_Comun!$H$12:$H$102)), ROW()-1)), \"\" )","v":""},{"$f":" IF($B43, INDIRECT(\"Fondo_Comun!D\" & SMALL(IF( Fondo_Comun!$H$12:$H$102 = \"\", \"\", ROW(Fondo_Comun!$H$12:$H$102)), ROW()-1)), \"\" )","v":""},{"$f":" IF($B43, INDIRECT(\"Fondo_Comun!H\" & SMALL(IF( Fondo_Comun!$H$12:$H$102 = \"\", \"\", ROW(Fondo_Comun!$H$12:$H$102)), ROW()-1)), \"\" )","v":""},{"$f":" IF( B43, SUM($E$2:E43), \"\" )","v":""}]
[null,{"$f":" COUNTIF(Fondo_Comun!$H$12:$H$102, \">0\") >= ROW() - 1","v":false},{"$f":" IF($B44, INDIRECT(\"Fondo_Comun!C\" & SMALL(IF( Fondo_Comun!$H$12:$H$102 = \"\", \"\", ROW(Fondo_Comun!$H$12:$H$102)), ROW()-1)), \"\" )","v":""},{"$f":" IF($B44, INDIRECT(\"Fondo_Comun!D\" & SMALL(IF( Fondo_Comun!$H$12:$H$102 = \"\", \"\", ROW(Fondo_Comun!$H$12:$H$102)), ROW()-1)), \"\" )","v":""},{"$f":" IF($B44, INDIRECT(\"Fondo_Comun!H\" & SMALL(IF( Fondo_Comun!$H$12:$H$102 = \"\", \"\", ROW(Fondo_Comun!$H$12:$H$102)), ROW()-1)), \"\" )","v":""},{"$f":" IF( B44, SUM($E$2:E44), \"\" )","v":""}]
[null,{"$f":" COUNTIF(Fondo_Comun!$H$12:$H$102, \">0\") >= ROW() - 1","v":false},{"$f":" IF($B45, INDIRECT(\"Fondo_Comun!C\" & SMALL(IF( Fondo_Comun!$H$12:$H$102 = \"\", \"\", ROW(Fondo_Comun!$H$12:$H$102)), ROW()-1)), \"\" )","v":""},{"$f":" IF($B45, INDIRECT(\"Fondo_Comun!D\" & SMALL(IF( Fondo_Comun!$H$12:$H$102 = \"\", \"\", ROW(Fondo_Comun!$H$12:$H$102)), ROW()-1)), \"\" )","v":""},{"$f":" IF($B45, INDIRECT(\"Fondo_Comun!H\" & SMALL(IF( Fondo_Comun!$H$12:$H$102 = \"\", \"\", ROW(Fondo_Comun!$H$12:$H$102)), ROW()-1)), \"\" )","v":""},{"$f":" IF( B45, SUM($E$2:E45), \"\" )","v":""}]
[null,{"$f":" COUNTIF(Fondo_Comun!$H$12:$H$102, \">0\") >= ROW() - 1","v":false},{"$f":" IF($B46, INDIRECT(\"Fondo_Comun!C\" & SMALL(IF( Fondo_Comun!$H$12:$H$102 = \"\", \"\", ROW(Fondo_Comun!$H$12:$H$102)), ROW()-1)), \"\" )","v":""},{"$f":" IF($B46, INDIRECT(\"Fondo_Comun!D\" & SMALL(IF( Fondo_Comun!$H$12:$H$102 = \"\", \"\", ROW(Fondo_Comun!$H$12:$H$102)), ROW()-1)), \"\" )","v":""},{"$f":" IF($B46, INDIRECT(\"Fondo_Comun!H\" & SMALL(IF( Fondo_Comun!$H$12:$H$102 = \"\", \"\", ROW(Fondo_Comun!$H$12:$H$102)), ROW()-1)), \"\" )","v":""},{"$f":" IF( B46, SUM($E$2:E46), \"\" )","v":""}]
[null,{"$f":" COUNTIF(Fondo_Comun!$H$12:$H$102, \">0\") >= ROW() - 1","v":false},{"$f":" IF($B47, INDIRECT(\"Fondo_Comun!C\" & SMALL(IF( Fondo_Comun!$H$12:$H$102 = \"\", \"\", ROW(Fondo_Comun!$H$12:$H$102)), ROW()-1)), \"\" )","v":""},{"$f":" IF($B47, INDIRECT(\"Fondo_Comun!D\" & SMALL(IF( Fondo_Comun!$H$12:$H$102 = \"\", \"\", ROW(Fondo_Comun!$H$12:$H$102)), ROW()-1)), \"\" )","v":""},{"$f":" IF($B47, INDIRECT(\"Fondo_Comun!H\" & SMALL(IF( Fondo_Comun!$H$12:$H$102 = \"\", \"\", ROW(Fondo_Comun!$H$12:$H$102)), ROW()-1)), \"\" )","v":""},{"$f":" IF( B47, SUM($E$2:E47), \"\" )","v":""}]
[null,{"$f":" COUNTIF(Fondo_Comun!$H$12:$H$102, \">0\") >= ROW() - 1","v":false},{"$f":" IF($B48, INDIRECT(\"Fondo_Comun!C\" & SMALL(IF( Fondo_Comun!$H$12:$H$102 = \"\", \"\", ROW(Fondo_Comun!$H$12:$H$102)), ROW()-1)), \"\" )","v":""},{"$f":" IF($B48, INDIRECT(\"Fondo_Comun!D\" & SMALL(IF( Fondo_Comun!$H$12:$H$102 = \"\", \"\", ROW(Fondo_Comun!$H$12:$H$102)), ROW()-1)), \"\" )","v":""},{"$f":" IF($B48, INDIRECT(\"Fondo_Comun!H\" & SMALL(IF( Fondo_Comun!$H$12:$H$102 = \"\", \"\", ROW(Fondo_Comun!$H$12:$H$102)), ROW()-1)), \"\" )","v":""},{"$f":" IF( B48, SUM($E$2:E48), \"\" )","v":""}]
[null,{"$f":" COUNTIF(Fondo_Comun!$H$12:$H$102, \">0\") >= ROW() - 1","v":false},{"$f":" IF($B49, INDIRECT(\"Fondo_Comun!C\" & SMALL(IF( Fondo_Comun!$H$12:$H$102 = \"\", \"\", ROW(Fondo_Comun!$H$12:$H$102)), ROW()-1)), \"\" )","v":""},{"$f":" IF($B49, INDIRECT(\"Fondo_Comun!D\" & SMALL(IF( Fondo_Comun!$H$12:$H$102 = \"\", \"\", ROW(Fondo_Comun!$H$12:$H$102)), ROW()-1)), \"\" )","v":""},{"$f":" IF($B49, INDIRECT(\"Fondo_Comun!H\" & SMALL(IF( Fondo_Comun!$H$12:$H$102 = \"\", \"\", ROW(Fondo_Comun!$H$12:$H$102)), ROW()-1)), \"\" )","v":""},{"$f":" IF( B49, SUM($E$2:E49), \"\" )","v":""}]
[null,{"$f":" COUNTIF(Fondo_Comun!$H$12:$H$102, \">0\") >= ROW() - 1","v":false},{"$f":" IF($B50, INDIRECT(\"Fondo_Comun!C\" & SMALL(IF( Fondo_Comun!$H$12:$H$102 = \"\", \"\", ROW(Fondo_Comun!$H$12:$H$102)), ROW()-1)), \"\" )","v":""},{"$f":" IF($B50, INDIRECT(\"Fondo_Comun!D\" & SMALL(IF( Fondo_Comun!$H$12:$H$102 = \"\", \"\", ROW(Fondo_Comun!$H$12:$H$102)), ROW()-1)), \"\" )","v":""},{"$f":" IF($B50, INDIRECT(\"Fondo_Comun!H\" & SMALL(IF( Fondo_Comun!$H$12:$H$102 = \"\", \"\", ROW(Fondo_Comun!$H$12:$H$102)), ROW()-1)), \"\" )","v":""},{"$f":" IF( B50, SUM($E$2:E50), \"\" )","v":""}]
[null,{"$f":" COUNTIF(Fondo_Comun!$H$12:$H$102, \">0\") >= ROW() - 1","v":false},{"$f":" IF($B51, INDIRECT(\"Fondo_Comun!C\" & SMALL(IF( Fondo_Comun!$H$12:$H$102 = \"\", \"\", ROW(Fondo_Comun!$H$12:$H$102)), ROW()-1)), \"\" )","v":""},{"$f":" IF($B51, INDIRECT(\"Fondo_Comun!D\" & SMALL(IF( Fondo_Comun!$H$12:$H$102 = \"\", \"\", ROW(Fondo_Comun!$H$12:$H$102)), ROW()-1)), \"\" )","v":""},{"$f":" IF($B51, INDIRECT(\"Fondo_Comun!H\" & SMALL(IF( Fondo_Comun!$H$12:$H$102 = \"\", \"\", ROW(Fondo_Comun!$H$12:$H$102)), ROW()-1)), \"\" )","v":""},{"$f":" IF( B51, SUM($E$2:E51), \"\" )","v":""}]
[null,{"$f":" COUNTIF(Fondo_Comun!$H$12:$H$102, \">0\") >= ROW() - 1","v":false},{"$f":" IF($B52, INDIRECT(\"Fondo_Comun!C\" & SMALL(IF( Fondo_Comun!$H$12:$H$102 = \"\", \"\", ROW(Fondo_Comun!$H$12:$H$102)), ROW()-1)), \"\" )","v":""},{"$f":" IF($B52, INDIRECT(\"Fondo_Comun!D\" & SMALL(IF( Fondo_Comun!$H$12:$H$102 = \"\", \"\", ROW(Fondo_Comun!$H$12:$H$102)), ROW()-1)), \"\" )","v":""},{"$f":" IF($B52, INDIRECT(\"Fondo_Comun!H\" & SMALL(IF( Fondo_Comun!$H$12:$H$102 = \"\", \"\", ROW(Fondo_Comun!$H$12:$H$102)), ROW()-1)), \"\" )","v":""},{"$f":" IF( B52, SUM($E$2:E52), \"\" )","v":""}]
[null,{"$f":" COUNTIF(Fondo_Comun!$H$12:$H$102, \">0\") >= ROW() - 1","v":false},{"$f":" IF($B53, INDIRECT(\"Fondo_Comun!C\" & SMALL(IF( Fondo_Comun!$H$12:$H$102 = \"\", \"\", ROW(Fondo_Comun!$H$12:$H$102)), ROW()-1)), \"\" )","v":""},{"$f":" IF($B53, INDIRECT(\"Fondo_Comun!D\" & SMALL(IF( Fondo_Comun!$H$12:$H$102 = \"\", \"\", ROW(Fondo_Comun!$H$12:$H$102)), ROW()-1)), \"\" )","v":""},{"$f":" IF($B53, INDIRECT(\"Fondo_Comun!H\" & SMALL(IF( Fondo_Comun!$H$12:$H$102 = \"\", \"\", ROW(Fondo_Comun!$H$12:$H$102)), ROW()-1)), \"\" )","v":""},{"$f":" IF( B53, SUM($E$2:E53), \"\" )","v":""}]
[null,{"$f":" COUNTIF(Fondo_Comun!$H$12:$H$102, \">0\") >= ROW() - 1","v":false},{"$f":" IF($B54, INDIRECT(\"Fondo_Comun!C\" & SMALL(IF( Fondo_Comun!$H$12:$H$102 = \"\", \"\", ROW(Fondo_Comun!$H$12:$H$102)), ROW()-1)), \"\" )","v":""},{"$f":" IF($B54, INDIRECT(\"Fondo_Comun!D\" & SMALL(IF( Fondo_Comun!$H$12:$H$102 = \"\", \"\", ROW(Fondo_Comun!$H$12:$H$102)), ROW()-1)), \"\" )","v":""},{"$f":" IF($B54, INDIRECT(\"Fondo_Comun!H\" & SMALL(IF( Fondo_Comun!$H$12:$H$102 = \"\", \"\", ROW(Fondo_Comun!$H$12:$H$102)), ROW()-1)), \"\" )","v":""},{"$f":" IF( B54, SUM($E$2:E54), \"\" )","v":""}]
[null,{"$f":" COUNTIF(Fondo_Comun!$H$12:$H$102, \">0\") >= ROW() - 1","v":false},{"$f":" IF($B55, INDIRECT(\"Fondo_Comun!C\" & SMALL(IF( Fondo_Comun!$H$12:$H$102 = \"\", \"\", ROW(Fondo_Comun!$H$12:$H$102)), ROW()-1)), \"\" )","v":""},{"$f":" IF($B55, INDIRECT(\"Fondo_Comun!D\" & SMALL(IF( Fondo_Comun!$H$12:$H$102 = \"\", \"\", ROW(Fondo_Comun!$H$12:$H$102)), ROW()-1)), \"\" )","v":""},{"$f":" IF($B55, INDIRECT(\"Fondo_Comun!H\" & SMALL(IF( Fondo_Comun!$H$12:$H$102 = \"\", \"\", ROW(Fondo_Comun!$H$12:$H$102)), ROW()-1)), \"\" )","v":""},{"$f":" IF( B55, SUM($E$2:E55), \"\" )","v":""}]
[null,{"$f":" COUNTIF(Fondo_Comun!$H$12:$H$102, \">0\") >= ROW() - 1","v":false},{"$f":" IF($B56, INDIRECT(\"Fondo_Comun!C\" & SMALL(IF( Fondo_Comun!$H$12:$H$102 = \"\", \"\", ROW(Fondo_Comun!$H$12:$H$102)), ROW()-1)), \"\" )","v":""},{"$f":" IF($B56, INDIRECT(\"Fondo_Comun!D\" & SMALL(IF( Fondo_Comun!$H$12:$H$102 = \"\", \"\", ROW(Fondo_Comun!$H$12:$H$102)), ROW()-1)), \"\" )","v":""},{"$f":" IF($B56, INDIRECT(\"Fondo_Comun!H\" & SMALL(IF( Fondo_Comun!$H$12:$H$102 = \"\", \"\", ROW(Fondo_Comun!$H$12:$H$102)), ROW()-1)), \"\" )","v":""},{"$f":" IF( B56, SUM($E$2:E56), \"\" )","v":""}]
[null,{"$f":" COUNTIF(Fondo_Comun!$H$12:$H$102, \">0\") >= ROW() - 1","v":false},{"$f":" IF($B57, INDIRECT(\"Fondo_Comun!C\" & SMALL(IF( Fondo_Comun!$H$12:$H$102 = \"\", \"\", ROW(Fondo_Comun!$H$12:$H$102)), ROW()-1)), \"\" )","v":""},{"$f":" IF($B57, INDIRECT(\"Fondo_Comun!D\" & SMALL(IF( Fondo_Comun!$H$12:$H$102 = \"\", \"\", ROW(Fondo_Comun!$H$12:$H$102)), ROW()-1)), \"\" )","v":""},{"$f":" IF($B57, INDIRECT(\"Fondo_Comun!H\" & SMALL(IF( Fondo_Comun!$H$12:$H$102 = \"\", \"\", ROW(Fondo_Comun!$H$12:$H$102)), ROW()-1)), \"\" )","v":""},{"$f":" IF( B57, SUM($E$2:E57), \"\" )","v":""}]
[null,{"$f":" COUNTIF(Fondo_Comun!$H$12:$H$102, \">0\") >= ROW() - 1","v":false},{"$f":" IF($B58, INDIRECT(\"Fondo_Comun!C\" & SMALL(IF( Fondo_Comun!$H$12:$H$102 = \"\", \"\", ROW(Fondo_Comun!$H$12:$H$102)), ROW()-1)), \"\" )","v":""},{"$f":" IF($B58, INDIRECT(\"Fondo_Comun!D\" & SMALL(IF( Fondo_Comun!$H$12:$H$102 = \"\", \"\", ROW(Fondo_Comun!$H$12:$H$102)), ROW()-1)), \"\" )","v":""},{"$f":" IF($B58, INDIRECT(\"Fondo_Comun!H\" & SMALL(IF( Fondo_Comun!$H$12:$H$102 = \"\", \"\", ROW(Fondo_Comun!$H$12:$H$102)), ROW()-1)), \"\" )","v":""},{"$f":" IF( B58, SUM($E$2:E58), \"\" )","v":""}]
[null,{"$f":" COUNTIF(Fondo_Comun!$H$12:$H$102, \">0\") >= ROW() - 1","v":false},{"$f":" IF($B59, INDIRECT(\"Fondo_Comun!C\" & SMALL(IF( Fondo_Comun!$H$12:$H$102 = \"\", \"\", ROW(Fondo_Comun!$H$12:$H$102)), ROW()-1)), \"\" )","v":""},{"$f":" IF($B59, INDIRECT(\"Fondo_Comun!D\" & SMALL(IF( Fondo_Comun!$H$12:$H$102 = \"\", \"\", ROW(Fondo_Comun!$H$12:$H$102)), ROW()-1)), \"\" )","v":""},{"$f":" IF($B59, INDIRECT(\"Fondo_Comun!H\" & SMALL(IF( Fondo_Comun!$H$12:$H$102 = \"\", \"\", ROW(Fondo_Comun!$H$12:$H$102)), ROW()-1)), \"\" )","v":""},{"$f":" IF( B59, SUM($E$2:E59), \"\" )","v":""}]
[null,{"$f":" COUNTIF(Fondo_Comun!$H$12:$H$102, \">0\") >= ROW() - 1","v":false},{"$f":" IF($B60, INDIRECT(\"Fondo_Comun!C\" & SMALL(IF( Fondo_Comun!$H$12:$H$102 = \"\", \"\", ROW(Fondo_Comun!$H$12:$H$102)), ROW()-1)), \"\" )","v":""},{"$f":" IF($B60, INDIRECT(\"Fondo_Comun!D\" & SMALL(IF( Fondo_Comun!$H$12:$H$102 = \"\", \"\", ROW(Fondo_Comun!$H$12:$H$102)), ROW()-1)), \"\" )","v":""},{"$f":" IF($B60, INDIRECT(\"Fondo_Comun!H\" & SMALL(IF( Fondo_Comun!$H$12:$H$102 = \"\", \"\", ROW(Fondo_Comun!$H$12:$H$102)), ROW()-1)), \"\" )","v":""},{"$f":" IF( B60, SUM($E$2:E60), \"\" )","v":""}]
[null,{"$f":" COUNTIF(Fondo_Comun!$H$12:$H$102, \">0\") >= ROW() - 1","v":false},{"$f":" IF($B61, INDIRECT(\"Fondo_Comun!C\" & SMALL(IF( Fondo_Comun!$H$12:$H$102 = \"\", \"\", ROW(Fondo_Comun!$H$12:$H$102)), ROW()-1)), \"\" )","v":""},{"$f":" IF($B61, INDIRECT(\"Fondo_Comun!D\" & SMALL(IF( Fondo_Comun!$H$12:$H$102 = \"\", \"\", ROW(Fondo_Comun!$H$12:$H$102)), ROW()-1)), \"\" )","v":""},{"$f":" IF($B61, INDIRECT(\"Fondo_Comun!H\" & SMALL(IF( Fondo_Comun!$H$12:$H$102 = \"\", \"\", ROW(Fondo_Comun!$H$12:$H$102)), ROW()-1)), \"\" )","v":""},{"$f":" IF( B61, SUM($E$2:E61), \"\" )","v":""}]
[null,{"$f":" COUNTIF(Fondo_Comun!$H$12:$H$102, \">0\") >= ROW() - 1","v":false},{"$f":" IF($B62, INDIRECT(\"Fondo_Comun!C\" & SMALL(IF( Fondo_Comun!$H$12:$H$102 = \"\", \"\", ROW(Fondo_Comun!$H$12:$H$102)), ROW()-1)), \"\" )","v":""},{"$f":" IF($B62, INDIRECT(\"Fondo_Comun!D\" & SMALL(IF( Fondo_Comun!$H$12:$H$102 = \"\", \"\", ROW(Fondo_Comun!$H$12:$H$102)), ROW()-1)), \"\" )","v":""},{"$f":" IF($B62, INDIRECT(\"Fondo_Comun!H\" & SMALL(IF( Fondo_Comun!$H$12:$H$102 = \"\", \"\", ROW(Fondo_Comun!$H$12:$H$102)), ROW()-1)), \"\" )","v":""},{"$f":" IF( B62, SUM($E$2:E62), \"\" )","v":""}]
[null,{"$f":" COUNTIF(Fondo_Comun!$H$12:$H$102, \">0\") >= ROW() - 1","v":false},{"$f":" IF($B63, INDIRECT(\"Fondo_Comun!C\" & SMALL(IF( Fondo_Comun!$H$12:$H$102 = \"\", \"\", ROW(Fondo_Comun!$H$12:$H$102)), ROW()-1)), \"\" )","v":""},{"$f":" IF($B63, INDIRECT(\"Fondo_Comun!D\" & SMALL(IF( Fondo_Comun!$H$12:$H$102 = \"\", \"\", ROW(Fondo_Comun!$H$12:$H$102)), ROW()-1)), \"\" )","v":""},{"$f":" IF($B63, INDIRECT(\"Fondo_Comun!H\" & SMALL(IF( Fondo_Comun!$H$12:$H$102 = \"\", \"\", ROW(Fondo_Comun!$H$12:$H$102)), ROW()-1)), \"\" )","v":""},{"$f":" IF( B63, SUM($E$2:E63), \"\" )","v":""}]
[null,{"$f":" COUNTIF(Fondo_Comun!$H$12:$H$102, \">0\") >= ROW() - 1","v":false},{"$f":" IF($B64, INDIRECT(\"Fondo_Comun!C\" & SMALL(IF( Fondo_Comun!$H$12:$H$102 = \"\", \"\", ROW(Fondo_Comun!$H$12:$H$102)), ROW()-1)), \"\" )","v":""},{"$f":" IF($B64, INDIRECT(\"Fondo_Comun!D\" & SMALL(IF( Fondo_Comun!$H$12:$H$102 = \"\", \"\", ROW(Fondo_Comun!$H$12:$H$102)), ROW()-1)), \"\" )","v":""},{"$f":" IF($B64, INDIRECT(\"Fondo_Comun!H\" & SMALL(IF( Fondo_Comun!$H$12:$H$102 = \"\", \"\", ROW(Fondo_Comun!$H$12:$H$102)), ROW()-1)), \"\" )","v":""},{"$f":" IF( B64, SUM($E$2:E64), \"\" )","v":""}]
[null,{"$f":" COUNTIF(Fondo_Comun!$H$12:$H$102, \">0\") >= ROW() - 1","v":false},{"$f":" IF($B65, INDIRECT(\"Fondo_Comun!C\" & SMALL(IF( Fondo_Comun!$H$12:$H$102 = \"\", \"\", ROW(Fondo_Comun!$H$12:$H$102)), ROW()-1)), \"\" )","v":""},{"$f":" IF($B65, INDIRECT(\"Fondo_Comun!D\" & SMALL(IF( Fondo_Comun!$H$12:$H$102 = \"\", \"\", ROW(Fondo_Comun!$H$12:$H$102)), ROW()-1)), \"\" )","v":""},{"$f":" IF($B65, INDIRECT(\"Fondo_Comun!H\" & SMALL(IF( Fondo_Comun!$H$12:$H$102 = \"\", \"\", ROW(Fondo_Comun!$H$12:$H$102)), ROW()-1)), \"\" )","v":""},{"$f":" IF( B65, SUM($E$2:E65), \"\" )","v":""}]
[null,{"$f":" COUNTIF(Fondo_Comun!$H$12:$H$102, \">0\") >= ROW() - 1","v":false},{"$f":" IF($B66, INDIRECT(\"Fondo_Comun!C\" & SMALL(IF( Fondo_Comun!$H$12:$H$102 = \"\", \"\", ROW(Fondo_Comun!$H$12:$H$102)), ROW()-1)), \"\" )","v":""},{"$f":" IF($B66, INDIRECT(\"Fondo_Comun!D\" & SMALL(IF( Fondo_Comun!$H$12:$H$102 = \"\", \"\", ROW(Fondo_Comun!$H$12:$H$102)), ROW()-1)), \"\" )","v":""},{"$f":" IF($B66, INDIRECT(\"Fondo_Comun!H\" & SMALL(IF( Fondo_Comun!$H$12:$H$102 = \"\", \"\", ROW(Fondo_Comun!$H$12:$H$102)), ROW()-1)), \"\" )","v":""},{"$f":" IF( B66, SUM($E$2:E66), \"\" )","v":""}]
[null,{"$f":" COUNTIF(Fondo_Comun!$H$12:$H$102, \">0\") >= ROW() - 1","v":false},{"$f":" IF($B67, INDIRECT(\"Fondo_Comun!C\" & SMALL(IF( Fondo_Comun!$H$12:$H$102 = \"\", \"\", ROW(Fondo_Comun!$H$12:$H$102)), ROW()-1)), \"\" )","v":""},{"$f":" IF($B67, INDIRECT(\"Fondo_Comun!D\" & SMALL(IF( Fondo_Comun!$H$12:$H$102 = \"\", \"\", ROW(Fondo_Comun!$H$12:$H$102)), ROW()-1)), \"\" )","v":""},{"$f":" IF($B67, INDIRECT(\"Fondo_Comun!H\" & SMALL(IF( Fondo_Comun!$H$12:$H$102 = \"\", \"\", ROW(Fondo_Comun!$H$12:$H$102)), ROW()-1)), \"\" )","v":""},{"$f":" IF( B67, SUM($E$2:E67), \"\" )","v":""}]
[null,{"$f":" COUNTIF(Fondo_Comun!$H$12:$H$102, \">0\") >= ROW() - 1","v":false},{"$f":" IF($B68, INDIRECT(\"Fondo_Comun!C\" & SMALL(IF( Fondo_Comun!$H$12:$H$102 = \"\", \"\", ROW(Fondo_Comun!$H$12:$H$102)), ROW()-1)), \"\" )","v":""},{"$f":" IF($B68, INDIRECT(\"Fondo_Comun!D\" & SMALL(IF( Fondo_Comun!$H$12:$H$102 = \"\", \"\", ROW(Fondo_Comun!$H$12:$H$102)), ROW()-1)), \"\" )","v":""},{"$f":" IF($B68, INDIRECT(\"Fondo_Comun!H\" & SMALL(IF( Fondo_Comun!$H$12:$H$102 = \"\", \"\", ROW(Fondo_Comun!$H$12:$H$102)), ROW()-1)), \"\" )","v":""},{"$f":" IF( B68, SUM($E$2:E68), \"\" )","v":""}]
[null,{"$f":" COUNTIF(Fondo_Comun!$H$12:$H$102, \">0\") >= ROW() - 1","v":false},{"$f":" IF($B69, INDIRECT(\"Fondo_Comun!C\" & SMALL(IF( Fondo_Comun!$H$12:$H$102 = \"\", \"\", ROW(Fondo_Comun!$H$12:$H$102)), ROW()-1)), \"\" )","v":""},{"$f":" IF($B69, INDIRECT(\"Fondo_Comun!D\" & SMALL(IF( Fondo_Comun!$H$12:$H$102 = \"\", \"\", ROW(Fondo_Comun!$H$12:$H$102)), ROW()-1)), \"\" )","v":""},{"$f":" IF($B69, INDIRECT(\"Fondo_Comun!H\" & SMALL(IF( Fondo_Comun!$H$12:$H$102 = \"\", \"\", ROW(Fondo_Comun!$H$12:$H$102)), ROW()-1)), \"\" )","v":""},{"$f":" IF( B69, SUM($E$2:E69), \"\" )","v":""}]
[null,{"$f":" COUNTIF(Fondo_Comun!$H$12:$H$102, \">0\") >= ROW() - 1","v":false},{"$f":" IF($B70, INDIRECT(\"Fondo_Comun!C\" & SMALL(IF( Fondo_Comun!$H$12:$H$102 = \"\", \"\", ROW(Fondo_Comun!$H$12:$H$102)), ROW()-1)), \"\" )","v":""},{"$f":" IF($B70, INDIRECT(\"Fondo_Comun!D\" & SMALL(IF( Fondo_Comun!$H$12:$H$102 = \"\", \"\", ROW(Fondo_Comun!$H$12:$H$102)), ROW()-1)), \"\" )","v":""},{"$f":" IF($B70, INDIRECT(\"Fondo_Comun!H\" & SMALL(IF( Fondo_Comun!$H$12:$H$102 = \"\", \"\", ROW(Fondo_Comun!$H$12:$H$102)), ROW()-1)), \"\" )","v":""},{"$f":" IF( B70, SUM($E$2:E70), \"\" )","v":""}]
[null,{"$f":" COUNTIF(Fondo_Comun!$H$12:$H$102, \">0\") >= ROW() - 1","v":false},{"$f":" IF($B71, INDIRECT(\"Fondo_Comun!C\" & SMALL(IF( Fondo_Comun!$H$12:$H$102 = \"\", \"\", ROW(Fondo_Comun!$H$12:$H$102)), ROW()-1)), \"\" )","v":""},{"$f":" IF($B71, INDIRECT(\"Fondo_Comun!D\" & SMALL(IF( Fondo_Comun!$H$12:$H$102 = \"\", \"\", ROW(Fondo_Comun!$H$12:$H$102)), ROW()-1)), \"\" )","v":""},{"$f":" IF($B71, INDIRECT(\"Fondo_Comun!H\" & SMALL(IF( Fondo_Comun!$H$12:$H$102 = \"\", \"\", ROW(Fondo_Comun!$H$12:$H$102)), ROW()-1)), \"\" )","v":""},{"$f":" IF( B71, SUM($E$2:E71), \"\" )","v":""}]
[null,{"$f":" COUNTIF(Fondo_Comun!$H$12:$H$102, \">0\") >= ROW() - 1","v":false},{"$f":" IF($B72, INDIRECT(\"Fondo_Comun!C\" & SMALL(IF( Fondo_Comun!$H$12:$H$102 = \"\", \"\", ROW(Fondo_Comun!$H$12:$H$102)), ROW()-1)), \"\" )","v":""},{"$f":" IF($B72, INDIRECT(\"Fondo_Comun!D\" & SMALL(IF( Fondo_Comun!$H$12:$H$102 = \"\", \"\", ROW(Fondo_Comun!$H$12:$H$102)), ROW()-1)), \"\" )","v":""},{"$f":" IF($B72, INDIRECT(\"Fondo_Comun!H\" & SMALL(IF( Fondo_Comun!$H$12:$H$102 = \"\", \"\", ROW(Fondo_Comun!$H$12:$H$102)), ROW()-1)), \"\" )","v":""},{"$f":" IF( B72, SUM($E$2:E72), \"\" )","v":""}]
[null,{"$f":" COUNTIF(Fondo_Comun!$H$12:$H$102, \">0\") >= ROW() - 1","v":false},{"$f":" IF($B73, INDIRECT(\"Fondo_Comun!C\" & SMALL(IF( Fondo_Comun!$H$12:$H$102 = \"\", \"\", ROW(Fondo_Comun!$H$12:$H$102)), ROW()-1)), \"\" )","v":""},{"$f":" IF($B73, INDIRECT(\"Fondo_Comun!D\" & SMALL(IF( Fondo_Comun!$H$12:$H$102 = \"\", \"\", ROW(Fondo_Comun!$H$12:$H$102)), ROW()-1)), \"\" )","v":""},{"$f":" IF($B73, INDIRECT(\"Fondo_Comun!H\" & SMALL(IF( Fondo_Comun!$H$12:$H$102 = \"\", \"\", ROW(Fondo_Comun!$H$12:$H$102)), ROW()-1)), \"\" )","v":""},{"$f":" IF( B73, SUM($E$2:E73), \"\" )","v":""}]
[null,{"$f":" COUNTIF(Fondo_Comun!$H$12:$H$102, \">0\") >= ROW() - 1","v":false},{"$f":" IF($B74, INDIRECT(\"Fondo_Comun!C\" & SMALL(IF( Fondo_Comun!$H$12:$H$102 = \"\", \"\", ROW(Fondo_Comun!$H$12:$H$102)), ROW()-1)), \"\" )","v":""},{"$f":" IF($B74, INDIRECT(\"Fondo_Comun!D\" & SMALL(IF( Fondo_Comun!$H$12:$H$102 = \"\", \"\", ROW(Fondo_Comun!$H$12:$H$102)), ROW()-1)), \"\" )","v":""},{"$f":" IF($B74, INDIRECT(\"Fondo_Comun!H\" & SMALL(IF( Fondo_Comun!$H$12:$H$102 = \"\", \"\", ROW(Fondo_Comun!$H$12:$H$102)), ROW()-1)), \"\" )","v":""},{"$f":" IF( B74, SUM($E$2:E74), \"\" )","v":""}]
[null,{"$f":" COUNTIF(Fondo_Comun!$H$12:$H$102, \">0\") >= ROW() - 1","v":false},{"$f":" IF($B75, INDIRECT(\"Fondo_Comun!C\" & SMALL(IF( Fondo_Comun!$H$12:$H$102 = \"\", \"\", ROW(Fondo_Comun!$H$12:$H$102)), ROW()-1)), \"\" )","v":""},{"$f":" IF($B75, INDIRECT(\"Fondo_Comun!D\" & SMALL(IF( Fondo_Comun!$H$12:$H$102 = \"\", \"\", ROW(Fondo_Comun!$H$12:$H$102)), ROW()-1)), \"\" )","v":""},{"$f":" IF($B75, INDIRECT(\"Fondo_Comun!H\" & SMALL(IF( Fondo_Comun!$H$12:$H$102 = \"\", \"\", ROW(Fondo_Comun!$H$12:$H$102)), ROW()-1)), \"\" )","v":""},{"$f":" IF( B75, SUM($E$2:E75), \"\" )","v":""}]
[null,{"$f":" COUNTIF(Fondo_Comun!$H$12:$H$102, \">0\") >= ROW() - 1","v":false},{"$f":" IF($B76, INDIRECT(\"Fondo_Comun!C\" & SMALL(IF( Fondo_Comun!$H$12:$H$102 = \"\", \"\", ROW(Fondo_Comun!$H$12:$H$102)), ROW()-1)), \"\" )","v":""},{"$f":" IF($B76, INDIRECT(\"Fondo_Comun!D\" & SMALL(IF( Fondo_Comun!$H$12:$H$102 = \"\", \"\", ROW(Fondo_Comun!$H$12:$H$102)), ROW()-1)), \"\" )","v":""},{"$f":" IF($B76, INDIRECT(\"Fondo_Comun!H\" & SMALL(IF( Fondo_Comun!$H$12:$H$102 = \"\", \"\", ROW(Fondo_Comun!$H$12:$H$102)), ROW()-1)), \"\" )","v":""},{"$f":" IF( B76, SUM($E$2:E76), \"\" )","v":""}]
[null,{"$f":" COUNTIF(Fondo_Comun!$H$12:$H$102, \">0\") >= ROW() - 1","v":false},{"$f":" IF($B77, INDIRECT(\"Fondo_Comun!C\" & SMALL(IF( Fondo_Comun!$H$12:$H$102 = \"\", \"\", ROW(Fondo_Comun!$H$12:$H$102)), ROW()-1)), \"\" )","v":""},{"$f":" IF($B77, INDIRECT(\"Fondo_Comun!D\" & SMALL(IF( Fondo_Comun!$H$12:$H$102 = \"\", \"\", ROW(Fondo_Comun!$H$12:$H$102)), ROW()-1)), \"\" )","v":""},{"$f":" IF($B77, INDIRECT(\"Fondo_Comun!H\" & SMALL(IF( Fondo_Comun!$H$12:$H$102 = \"\", \"\", ROW(Fondo_Comun!$H$12:$H$102)), ROW()-1)), \"\" )","v":""},{"$f":" IF( B77, SUM($E$2:E77), \"\" )","v":""}]
[null,{"$f":" COUNTIF(Fondo_Comun!$H$12:$H$102, \">0\") >= ROW() - 1","v":false},{"$f":" IF($B78, INDIRECT(\"Fondo_Comun!C\" & SMALL(IF( Fondo_Comun!$H$12:$H$102 = \"\", \"\", ROW(Fondo_Comun!$H$12:$H$102)), ROW()-1)), \"\" )","v":""},{"$f":" IF($B78, INDIRECT(\"Fondo_Comun!D\" & SMALL(IF( Fondo_Comun!$H$12:$H$102 = \"\", \"\", ROW(Fondo_Comun!$H$12:$H$102)), ROW()-1)), \"\" )","v":""},{"$f":" IF($B78, INDIRECT(\"Fondo_Comun!H\" & SMALL(IF( Fondo_Comun!$H$12:$H$102 = \"\", \"\", ROW(Fondo_Comun!$H$12:$H$102)), ROW()-1)), \"\" )","v":""},{"$f":" IF( B78, SUM($E$2:E78), \"\" )","v":""}]
[null,{"$f":" COUNTIF(Fondo_Comun!$H$12:$H$102, \">0\") >= ROW() - 1","v":false},{"$f":" IF($B79, INDIRECT(\"Fondo_Comun!C\" & SMALL(IF( Fondo_Comun!$H$12:$H$102 = \"\", \"\", ROW(Fondo_Comun!$H$12:$H$102)), ROW()-1)), \"\" )","v":""},{"$f":" IF($B79, INDIRECT(\"Fondo_Comun!D\" & SMALL(IF( Fondo_Comun!$H$12:$H$102 = \"\", \"\", ROW(Fondo_Comun!$H$12:$H$102)), ROW()-1)), \"\" )","v":""},{"$f":" IF($B79, INDIRECT(\"Fondo_Comun!H\" & SMALL(IF( Fondo_Comun!$H$12:$H$102 = \"\", \"\", ROW(Fondo_Comun!$H$12:$H$102)), ROW()-1)), \"\" )","v":""},{"$f":" IF( B79, SUM($E$2:E79), \"\" )","v":""}]
[null,{"$f":" COUNTIF(Fondo_Comun!$H$12:$H$102, \">0\") >= ROW() - 1","v":false},{"$f":" IF($B80, INDIRECT(\"Fondo_Comun!C\" & SMALL(IF( Fondo_Comun!$H$12:$H$102 = \"\", \"\", ROW(Fondo_Comun!$H$12:$H$102)), ROW()-1)), \"\" )","v":""},{"$f":" IF($B80, INDIRECT(\"Fondo_Comun!D\" & SMALL(IF( Fondo_Comun!$H$12:$H$102 = \"\", \"\", ROW(Fondo_Comun!$H$12:$H$102)), ROW()-1)), \"\" )","v":""},{"$f":" IF($B80, INDIRECT(\"Fondo_Comun!H\" & SMALL(IF( Fondo_Comun!$H$12:$H$102 = \"\", \"\", ROW(Fondo_Comun!$H$12:$H$102)), ROW()-1)), \"\" )","v":""},{"$f":" IF( B80, SUM($E$2:E80), \"\" )","v":""}]
[null,{"$f":" COUNTIF(Fondo_Comun!$H$12:$H$102, \">0\") >= ROW() - 1","v":false},{"$f":" IF($B81, INDIRECT(\"Fondo_Comun!C\" & SMALL(IF( Fondo_Comun!$H$12:$H$102 = \"\", \"\", ROW(Fondo_Comun!$H$12:$H$102)), ROW()-1)), \"\" )","v":""},{"$f":" IF($B81, INDIRECT(\"Fondo_Comun!D\" & SMALL(IF( Fondo_Comun!$H$12:$H$102 = \"\", \"\", ROW(Fondo_Comun!$H$12:$H$102)), ROW()-1)), \"\" )","v":""},{"$f":" IF($B81, INDIRECT(\"Fondo_Comun!H\" & SMALL(IF( Fondo_Comun!$H$12:$H$102 = \"\", \"\", ROW(Fondo_Comun!$H$12:$H$102)), ROW()-1)), \"\" )","v":""},{"$f":" IF( B81, SUM($E$2:E81), \"\" )","v":""}]
[null,{"$f":" COUNTIF(Fondo_Comun!$H$12:$H$102, \">0\") >= ROW() - 1","v":false},{"$f":" IF($B82, INDIRECT(\"Fondo_Comun!C\" & SMALL(IF( Fondo_Comun!$H$12:$H$102 = \"\", \"\", ROW(Fondo_Comun!$H$12:$H$102)), ROW()-1)), \"\" )","v":""},{"$f":" IF($B82, INDIRECT(\"Fondo_Comun!D\" & SMALL(IF( Fondo_Comun!$H$12:$H$102 = \"\", \"\", ROW(Fondo_Comun!$H$12:$H$102)), ROW()-1)), \"\" )","v":""},{"$f":" IF($B82, INDIRECT(\"Fondo_Comun!H\" & SMALL(IF( Fondo_Comun!$H$12:$H$102 = \"\", \"\", ROW(Fondo_Comun!$H$12:$H$102)), ROW()-1)), \"\" )","v":""},{"$f":" IF( B82, SUM($E$2:E82), \"\" )","v":""}]
[null,{"$f":" COUNTIF(Fondo_Comun!$H$12:$H$102, \">0\") >= ROW() - 1","v":false},{"$f":" IF($B83, INDIRECT(\"Fondo_Comun!C\" & SMALL(IF( Fondo_Comun!$H$12:$H$102 = \"\", \"\", ROW(Fondo_Comun!$H$12:$H$102)), ROW()-1)), \"\" )","v":""},{"$f":" IF($B83, INDIRECT(\"Fondo_Comun!D\" & SMALL(IF( Fondo_Comun!$H$12:$H$102 = \"\", \"\", ROW(Fondo_Comun!$H$12:$H$102)), ROW()-1)), \"\" )","v":""},{"$f":" IF($B83, INDIRECT(\"Fondo_Comun!H\" & SMALL(IF( Fondo_Comun!$H$12:$H$102 = \"\", \"\", ROW(Fondo_Comun!$H$12:$H$102)), ROW()-1)), \"\" )","v":""},{"$f":" IF( B83, SUM($E$2:E83), \"\" )","v":""}]
[null,{"$f":" COUNTIF(Fondo_Comun!$H$12:$H$102, \">0\") >= ROW() - 1","v":false},{"$f":" IF($B84, INDIRECT(\"Fondo_Comun!C\" & SMALL(IF( Fondo_Comun!$H$12:$H$102 = \"\", \"\", ROW(Fondo_Comun!$H$12:$H$102)), ROW()-1)), \"\" )","v":""},{"$f":" IF($B84, INDIRECT(\"Fondo_Comun!D\" & SMALL(IF( Fondo_Comun!$H$12:$H$102 = \"\", \"\", ROW(Fondo_Comun!$H$12:$H$102)), ROW()-1)), \"\" )","v":""},{"$f":" IF($B84, INDIRECT(\"Fondo_Comun!H\" & SMALL(IF( Fondo_Comun!$H$12:$H$102 = \"\", \"\", ROW(Fondo_Comun!$H$12:$H$102)), ROW()-1)), \"\" )","v":""},{"$f":" IF( B84, SUM($E$2:E84), \"\" )","v":""}]
[null,{"$f":" COUNTIF(Fondo_Comun!$H$12:$H$102, \">0\") >= ROW() - 1","v":false},{"$f":" IF($B85, INDIRECT(\"Fondo_Comun!C\" & SMALL(IF( Fondo_Comun!$H$12:$H$102 = \"\", \"\", ROW(Fondo_Comun!$H$12:$H$102)), ROW()-1)), \"\" )","v":""},{"$f":" IF($B85, INDIRECT(\"Fondo_Comun!D\" & SMALL(IF( Fondo_Comun!$H$12:$H$102 = \"\", \"\", ROW(Fondo_Comun!$H$12:$H$102)), ROW()-1)), \"\" )","v":""},{"$f":" IF($B85, INDIRECT(\"Fondo_Comun!H\" & SMALL(IF( Fondo_Comun!$H$12:$H$102 = \"\", \"\", ROW(Fondo_Comun!$H$12:$H$102)), ROW()-1)), \"\" )","v":""},{"$f":" IF( B85, SUM($E$2:E85), \"\" )","v":""}]
[null,{"$f":" COUNTIF(Fondo_Comun!$H$12:$H$102, \">0\") >= ROW() - 1","v":false},{"$f":" IF($B86, INDIRECT(\"Fondo_Comun!C\" & SMALL(IF( Fondo_Comun!$H$12:$H$102 = \"\", \"\", ROW(Fondo_Comun!$H$12:$H$102)), ROW()-1)), \"\" )","v":""},{"$f":" IF($B86, INDIRECT(\"Fondo_Comun!D\" & SMALL(IF( Fondo_Comun!$H$12:$H$102 = \"\", \"\", ROW(Fondo_Comun!$H$12:$H$102)), ROW()-1)), \"\" )","v":""},{"$f":" IF($B86, INDIRECT(\"Fondo_Comun!H\" & SMALL(IF( Fondo_Comun!$H$12:$H$102 = \"\", \"\", ROW(Fondo_Comun!$H$12:$H$102)), ROW()-1)), \"\" )","v":""},{"$f":" IF( B86, SUM($E$2:E86), \"\" )","v":""}]
[null,{"$f":" COUNTIF(Fondo_Comun!$H$12:$H$102, \">0\") >= ROW() - 1","v":false},{"$f":" IF($B87, INDIRECT(\"Fondo_Comun!C\" & SMALL(IF( Fondo_Comun!$H$12:$H$102 = \"\", \"\", ROW(Fondo_Comun!$H$12:$H$102)), ROW()-1)), \"\" )","v":""},{"$f":" IF($B87, INDIRECT(\"Fondo_Comun!D\" & SMALL(IF( Fondo_Comun!$H$12:$H$102 = \"\", \"\", ROW(Fondo_Comun!$H$12:$H$102)), ROW()-1)), \"\" )","v":""},{"$f":" IF($B87, INDIRECT(\"Fondo_Comun!H\" & SMALL(IF( Fondo_Comun!$H$12:$H$102 = \"\", \"\", ROW(Fondo_Comun!$H$12:$H$102)), ROW()-1)), \"\" )","v":""},{"$f":" IF( B87, SUM($E$2:E87), \"\" )","v":""}]
[null,{"$f":" COUNTIF(Fondo_Comun!$H$12:$H$102, \">0\") >= ROW() - 1","v":false},{"$f":" IF($B88, INDIRECT(\"Fondo_Comun!C\" & SMALL(IF( Fondo_Comun!$H$12:$H$102 = \"\", \"\", ROW(Fondo_Comun!$H$12:$H$102)), ROW()-1)), \"\" )","v":""},{"$f":" IF($B88, INDIRECT(\"Fondo_Comun!D\" & SMALL(IF( Fondo_Comun!$H$12:$H$102 = \"\", \"\", ROW(Fondo_Comun!$H$12:$H$102)), ROW()-1)), \"\" )","v":""},{"$f":" IF($B88, INDIRECT(\"Fondo_Comun!H\" & SMALL(IF( Fondo_Comun!$H$12:$H$102 = \"\", \"\", ROW(Fondo_Comun!$H$12:$H$102)), ROW()-1)), \"\" )","v":""},{"$f":" IF( B88, SUM($E$2:E88), \"\" )","v":""}]
[null,{"$f":" COUNTIF(Fondo_Comun!$H$12:$H$102, \">0\") >= ROW() - 1","v":false},{"$f":" IF($B89, INDIRECT(\"Fondo_Comun!C\" & SMALL(IF( Fondo_Comun!$H$12:$H$102 = \"\", \"\", ROW(Fondo_Comun!$H$12:$H$102)), ROW()-1)), \"\" )","v":""},{"$f":" IF($B89, INDIRECT(\"Fondo_Comun!D\" & SMALL(IF( Fondo_Comun!$H$12:$H$102 = \"\", \"\", ROW(Fondo_Comun!$H$12:$H$102)), ROW()-1)), \"\" )","v":""},{"$f":" IF($B89, INDIRECT(\"Fondo_Comun!H\" & SMALL(IF( Fondo_Comun!$H$12:$H$102 = \"\", \"\", ROW(Fondo_Comun!$H$12:$H$102)), ROW()-1)), \"\" )","v":""},{"$f":" IF( B89, SUM($E$2:E89), \"\" )","v":""}]
[null,{"$f":" COUNTIF(Fondo_Comun!$H$12:$H$102, \">0\") >= ROW() - 1","v":false},{"$f":" IF($B90, INDIRECT(\"Fondo_Comun!C\" & SMALL(IF( Fondo_Comun!$H$12:$H$102 = \"\", \"\", ROW(Fondo_Comun!$H$12:$H$102)), ROW()-1)), \"\" )","v":""},{"$f":" IF($B90, INDIRECT(\"Fondo_Comun!D\" & SMALL(IF( Fondo_Comun!$H$12:$H$102 = \"\", \"\", ROW(Fondo_Comun!$H$12:$H$102)), ROW()-1)), \"\" )","v":""},{"$f":" IF($B90, INDIRECT(\"Fondo_Comun!H\" & SMALL(IF( Fondo_Comun!$H$12:$H$102 = \"\", \"\", ROW(Fondo_Comun!$H$12:$H$102)), ROW()-1)), \"\" )","v":""},{"$f":" IF( B90, SUM($E$2:E90), \"\" )","v":""}]
[null,{"$f":" COUNTIF(Fondo_Comun!$H$12:$H$102, \">0\") >= ROW() - 1","v":false},{"$f":" IF($B91, INDIRECT(\"Fondo_Comun!C\" & SMALL(IF( Fondo_Comun!$H$12:$H$102 = \"\", \"\", ROW(Fondo_Comun!$H$12:$H$102)), ROW()-1)), \"\" )","v":""},{"$f":" IF($B91, INDIRECT(\"Fondo_Comun!D\" & SMALL(IF( Fondo_Comun!$H$12:$H$102 = \"\", \"\", ROW(Fondo_Comun!$H$12:$H$102)), ROW()-1)), \"\" )","v":""},{"$f":" IF($B91, INDIRECT(\"Fondo_Comun!H\" & SMALL(IF( Fondo_Comun!$H$12:$H$102 = \"\", \"\", ROW(Fondo_Comun!$H$12:$H$102)), ROW()-1)), \"\" )","v":""},{"$f":" IF( B91, SUM($E$2:E91), \"\" )","v":""}]
[null,{"$f":" COUNTIF(Fondo_Comun!$H$12:$H$102, \">0\") >= ROW() - 1","v":false},{"$f":" IF($B92, INDIRECT(\"Fondo_Comun!C\" & SMALL(IF( Fondo_Comun!$H$12:$H$102 = \"\", \"\", ROW(Fondo_Comun!$H$12:$H$102)), ROW()-1)), \"\" )","v":""},{"$f":" IF($B92, INDIRECT(\"Fondo_Comun!D\" & SMALL(IF( Fondo_Comun!$H$12:$H$102 = \"\", \"\", ROW(Fondo_Comun!$H$12:$H$102)), ROW()-1)), \"\" )","v":""},{"$f":" IF($B92, INDIRECT(\"Fondo_Comun!H\" & SMALL(IF( Fondo_Comun!$H$12:$H$102 = \"\", \"\", ROW(Fondo_Comun!$H$12:$H$102)), ROW()-1)), \"\" )","v":""},{"$f":" IF( B92, SUM($E$2:E92), \"\" )","v":""}]
[null,{"$f":" COUNTIF(Fondo_Comun!$H$12:$H$102, \">0\") >= ROW() - 1","v":false},{"$f":" IF($B93, INDIRECT(\"Fondo_Comun!C\" & SMALL(IF( Fondo_Comun!$H$12:$H$102 = \"\", \"\", ROW(Fondo_Comun!$H$12:$H$102)), ROW()-1)), \"\" )","v":""},{"$f":" IF($B93, INDIRECT(\"Fondo_Comun!D\" & SMALL(IF( Fondo_Comun!$H$12:$H$102 = \"\", \"\", ROW(Fondo_Comun!$H$12:$H$102)), ROW()-1)), \"\" )","v":""},{"$f":" IF($B93, INDIRECT(\"Fondo_Comun!H\" & SMALL(IF( Fondo_Comun!$H$12:$H$102 = \"\", \"\", ROW(Fondo_Comun!$H$12:$H$102)), ROW()-1)), \"\" )","v":""},{"$f":" IF( B93, SUM($E$2:E93), \"\" )","v":""}]
[null,{"$f":" COUNTIF(Fondo_Comun!$H$12:$H$102, \">0\") >= ROW() - 1","v":false},{"$f":" IF($B94, INDIRECT(\"Fondo_Comun!C\" & SMALL(IF( Fondo_Comun!$H$12:$H$102 = \"\", \"\", ROW(Fondo_Comun!$H$12:$H$102)), ROW()-1)), \"\" )","v":""},{"$f":" IF($B94, INDIRECT(\"Fondo_Comun!D\" & SMALL(IF( Fondo_Comun!$H$12:$H$102 = \"\", \"\", ROW(Fondo_Comun!$H$12:$H$102)), ROW()-1)), \"\" )","v":""},{"$f":" IF($B94, INDIRECT(\"Fondo_Comun!H\" & SMALL(IF( Fondo_Comun!$H$12:$H$102 = \"\", \"\", ROW(Fondo_Comun!$H$12:$H$102)), ROW()-1)), \"\" )","v":""},{"$f":" IF( B94, SUM($E$2:E94), \"\" )","v":""}]
[null,{"$f":" COUNTIF(Fondo_Comun!$H$12:$H$102, \">0\") >= ROW() - 1","v":false},{"$f":" IF($B95, INDIRECT(\"Fondo_Comun!C\" & SMALL(IF( Fondo_Comun!$H$12:$H$102 = \"\", \"\", ROW(Fondo_Comun!$H$12:$H$102)), ROW()-1)), \"\" )","v":""},{"$f":" IF($B95, INDIRECT(\"Fondo_Comun!D\" & SMALL(IF( Fondo_Comun!$H$12:$H$102 = \"\", \"\", ROW(Fondo_Comun!$H$12:$H$102)), ROW()-1)), \"\" )","v":""},{"$f":" IF($B95, INDIRECT(\"Fondo_Comun!H\" & SMALL(IF( Fondo_Comun!$H$12:$H$102 = \"\", \"\", ROW(Fondo_Comun!$H$12:$H$102)), ROW()-1)), \"\" )","v":""},{"$f":" IF( B95, SUM($E$2:E95), \"\" )","v":""}]
[null,{"$f":" COUNTIF(Fondo_Comun!$H$12:$H$102, \">0\") >= ROW() - 1","v":false},{"$f":" IF($B96, INDIRECT(\"Fondo_Comun!C\" & SMALL(IF( Fondo_Comun!$H$12:$H$102 = \"\", \"\", ROW(Fondo_Comun!$H$12:$H$102)), ROW()-1)), \"\" )","v":""},{"$f":" IF($B96, INDIRECT(\"Fondo_Comun!D\" & SMALL(IF( Fondo_Comun!$H$12:$H$102 = \"\", \"\", ROW(Fondo_Comun!$H$12:$H$102)), ROW()-1)), \"\" )","v":""},{"$f":" IF($B96, INDIRECT(\"Fondo_Comun!H\" & SMALL(IF( Fondo_Comun!$H$12:$H$102 = \"\", \"\", ROW(Fondo_Comun!$H$12:$H$102)), ROW()-1)), \"\" )","v":""},{"$f":" IF( B96, SUM($E$2:E96), \"\" )","v":""}]
[null,{"$f":" COUNTIF(Fondo_Comun!$H$12:$H$102, \">0\") >= ROW() - 1","v":false},{"$f":" IF($B97, INDIRECT(\"Fondo_Comun!C\" & SMALL(IF( Fondo_Comun!$H$12:$H$102 = \"\", \"\", ROW(Fondo_Comun!$H$12:$H$102)), ROW()-1)), \"\" )","v":""},{"$f":" IF($B97, INDIRECT(\"Fondo_Comun!D\" & SMALL(IF( Fondo_Comun!$H$12:$H$102 = \"\", \"\", ROW(Fondo_Comun!$H$12:$H$102)), ROW()-1)), \"\" )","v":""},{"$f":" IF($B97, INDIRECT(\"Fondo_Comun!H\" & SMALL(IF( Fondo_Comun!$H$12:$H$102 = \"\", \"\", ROW(Fondo_Comun!$H$12:$H$102)), ROW()-1)), \"\" )","v":""},{"$f":" IF( B97, SUM($E$2:E97), \"\" )","v":""}]
[null,{"$f":" COUNTIF(Fondo_Comun!$H$12:$H$102, \">0\") >= ROW() - 1","v":false},{"$f":" IF($B98, INDIRECT(\"Fondo_Comun!C\" & SMALL(IF( Fondo_Comun!$H$12:$H$102 = \"\", \"\", ROW(Fondo_Comun!$H$12:$H$102)), ROW()-1)), \"\" )","v":""},{"$f":" IF($B98, INDIRECT(\"Fondo_Comun!D\" & SMALL(IF( Fondo_Comun!$H$12:$H$102 = \"\", \"\", ROW(Fondo_Comun!$H$12:$H$102)), ROW()-1)), \"\" )","v":""},{"$f":" IF($B98, INDIRECT(\"Fondo_Comun!H\" & SMALL(IF( Fondo_Comun!$H$12:$H$102 = \"\", \"\", ROW(Fondo_Comun!$H$12:$H$102)), ROW()-1)), \"\" )","v":""},{"$f":" IF( B98, SUM($E$2:E98), \"\" )","v":""}]
[null,{"$f":" COUNTIF(Fondo_Comun!$H$12:$H$102, \">0\") >= ROW() - 1","v":false},{"$f":" IF($B99, INDIRECT(\"Fondo_Comun!C\" & SMALL(IF( Fondo_Comun!$H$12:$H$102 = \"\", \"\", ROW(Fondo_Comun!$H$12:$H$102)), ROW()-1)), \"\" )","v":""},{"$f":" IF($B99, INDIRECT(\"Fondo_Comun!D\" & SMALL(IF( Fondo_Comun!$H$12:$H$102 = \"\", \"\", ROW(Fondo_Comun!$H$12:$H$102)), ROW()-1)), \"\" )","v":""},{"$f":" IF($B99, INDIRECT(\"Fondo_Comun!H\" & SMALL(IF( Fondo_Comun!$H$12:$H$102 = \"\", \"\", ROW(Fondo_Comun!$H$12:$H$102)), ROW()-1)), \"\" )","v":""},{"$f":" IF( B99, SUM($E$2:E99), \"\" )","v":""}]
[null,{"$f":" COUNTIF(Fondo_Comun!$H$12:$H$102, \">0\") >= ROW() - 1","v":false},{"$f":" IF($B100, INDIRECT(\"Fondo_Comun!C\" & SMALL(IF( Fondo_Comun!$H$12:$H$102 = \"\", \"\", ROW(Fondo_Comun!$H$12:$H$102)), ROW()-1)), \"\" )","v":""},{"$f":" IF($B100, INDIRECT(\"Fondo_Comun!D\" & SMALL(IF( Fondo_Comun!$H$12:$H$102 = \"\", \"\", ROW(Fondo_Comun!$H$12:$H$102)), ROW()-1)), \"\" )","v":""},{"$f":" IF($B100, INDIRECT(\"Fondo_Comun!H\" & SMALL(IF( Fondo_Comun!$H$12:$H$102 = \"\", \"\", ROW(Fondo_Comun!$H$12:$H$102)), ROW()-1)), \"\" )","v":""},{"$f":" IF( B100, SUM($E$2:E100), \"\" )","v":""}]
[null,{"$f":" COUNTIF(Fondo_Comun!$H$12:$H$102, \">0\") >= ROW() - 1","v":false},{"$f":" IF($B101, INDIRECT(\"Fondo_Comun!C\" & SMALL(IF( Fondo_Comun!$H$12:$H$102 = \"\", \"\", ROW(Fondo_Comun!$H$12:$H$102)), ROW()-1)), \"\" )","v":""},{"$f":" IF($B101, INDIRECT(\"Fondo_Comun!D\" & SMALL(IF( Fondo_Comun!$H$12:$H$102 = \"\", \"\", ROW(Fondo_Comun!$H$12:$H$102)), ROW()-1)), \"\" )","v":""},{"$f":" IF($B101, INDIRECT(\"Fondo_Comun!H\" & SMALL(IF( Fondo_Comun!$H$12:$H$102 = \"\", \"\", ROW(Fondo_Comun!$H$12:$H$102)), ROW()-1)), \"\" )","v":""},{"$f":" IF( B101, SUM($E$2:E101), \"\" )","v":""}]
[null,{"$f":" COUNTIF(Fondo_Comun!$H$12:$H$102, \">0\") >= ROW() - 1","v":false},{"$f":" IF($B102, INDIRECT(\"Fondo_Comun!C\" & SMALL(IF( Fondo_Comun!$H$12:$H$102 = \"\", \"\", ROW(Fondo_Comun!$H$12:$H$102)), ROW()-1)), \"\" )","v":""},{"$f":" IF($B102, INDIRECT(\"Fondo_Comun!D\" & SMALL(IF( Fondo_Comun!$H$12:$H$102 = \"\", \"\", ROW(Fondo_Comun!$H$12:$H$102)), ROW()-1)), \"\" )","v":""},{"$f":" IF($B102, INDIRECT(\"Fondo_Comun!H\" & SMALL(IF( Fondo_Comun!$H$12:$H$102 = \"\", \"\", ROW(Fondo_Comun!$H$12:$H$102)), ROW()-1)), \"\" )","v":""},{"$f":" IF( B102, SUM($E$2:E102), \"\" )","v":""}]
[null,{"$f":" COUNTIF(Fondo_Comun!$H$12:$H$102, \">0\") >= ROW() - 1","v":false},{"$f":" IF($B103, INDIRECT(\"Fondo_Comun!C\" & SMALL(IF( Fondo_Comun!$H$12:$H$102 = \"\", \"\", ROW(Fondo_Comun!$H$12:$H$102)), ROW()-1)), \"\" )","v":""},{"$f":" IF($B103, INDIRECT(\"Fondo_Comun!D\" & SMALL(IF( Fondo_Comun!$H$12:$H$102 = \"\", \"\", ROW(Fondo_Comun!$H$12:$H$102)), ROW()-1)), \"\" )","v":""},{"$f":" IF($B103, INDIRECT(\"Fondo_Comun!H\" & SMALL(IF( Fondo_Comun!$H$12:$H$102 = \"\", \"\", ROW(Fondo_Comun!$H$12:$H$102)), ROW()-1)), \"\" )","v":""},{"$f":" IF( B103, SUM($E$2:E103), \"\" )","v":""}]
[null,{"$f":" COUNTIF(Fondo_Comun!$H$12:$H$102, \">0\") >= ROW() - 1","v":false},{"$f":" IF($B104, INDIRECT(\"Fondo_Comun!C\" & SMALL(IF( Fondo_Comun!$H$12:$H$102 = \"\", \"\", ROW(Fondo_Comun!$H$12:$H$102)), ROW()-1)), \"\" )","v":""},{"$f":" IF($B104, INDIRECT(\"Fondo_Comun!D\" & SMALL(IF( Fondo_Comun!$H$12:$H$102 = \"\", \"\", ROW(Fondo_Comun!$H$12:$H$102)), ROW()-1)), \"\" )","v":""},{"$f":" IF($B104, INDIRECT(\"Fondo_Comun!H\" & SMALL(IF( Fondo_Comun!$H$12:$H$102 = \"\", \"\", ROW(Fondo_Comun!$H$12:$H$102)), ROW()-1)), \"\" )","v":""},{"$f":" IF( B104, SUM($E$2:E104), \"\" )","v":""}]
[null,{"$f":" COUNTIF(Fondo_Comun!$H$12:$H$102, \">0\") >= ROW() - 1","v":false},{"$f":" IF($B105, INDIRECT(\"Fondo_Comun!C\" & SMALL(IF( Fondo_Comun!$H$12:$H$102 = \"\", \"\", ROW(Fondo_Comun!$H$12:$H$102)), ROW()-1)), \"\" )","v":""},{"$f":" IF($B105, INDIRECT(\"Fondo_Comun!D\" & SMALL(IF( Fondo_Comun!$H$12:$H$102 = \"\", \"\", ROW(Fondo_Comun!$H$12:$H$102)), ROW()-1)), \"\" )","v":""},{"$f":" IF($B105, INDIRECT(\"Fondo_Comun!H\" & SMALL(IF( Fondo_Comun!$H$12:$H$102 = \"\", \"\", ROW(Fondo_Comun!$H$12:$H$102)), ROW()-1)), \"\" )","v":""},{"$f":" IF( B105, SUM($E$2:E105), \"\" )","v":""}]
[null,{"$f":" COUNTIF(Fondo_Comun!$H$12:$H$102, \">0\") >= ROW() - 1","v":false},{"$f":" IF($B106, INDIRECT(\"Fondo_Comun!C\" & SMALL(IF( Fondo_Comun!$H$12:$H$102 = \"\", \"\", ROW(Fondo_Comun!$H$12:$H$102)), ROW()-1)), \"\" )","v":""},{"$f":" IF($B106, INDIRECT(\"Fondo_Comun!D\" & SMALL(IF( Fondo_Comun!$H$12:$H$102 = \"\", \"\", ROW(Fondo_Comun!$H$12:$H$102)), ROW()-1)), \"\" )","v":""},{"$f":" IF($B106, INDIRECT(\"Fondo_Comun!H\" & SMALL(IF( Fondo_Comun!$H$12:$H$102 = \"\", \"\", ROW(Fondo_Comun!$H$12:$H$102)), ROW()-1)), \"\" )","v":""},{"$f":" IF( B106, SUM($E$2:E106), \"\" )","v":""}]
[null,{"$f":" COUNTIF(Fondo_Comun!$H$12:$H$102, \">0\") >= ROW() - 1","v":false},{"$f":" IF($B107, INDIRECT(\"Fondo_Comun!C\" & SMALL(IF( Fondo_Comun!$H$12:$H$102 = \"\", \"\", ROW(Fondo_Comun!$H$12:$H$102)), ROW()-1)), \"\" )","v":""},{"$f":" IF($B107, INDIRECT(\"Fondo_Comun!D\" & SMALL(IF( Fondo_Comun!$H$12:$H$102 = \"\", \"\", ROW(Fondo_Comun!$H$12:$H$102)), ROW()-1)), \"\" )","v":""},{"$f":" IF($B107, INDIRECT(\"Fondo_Comun!H\" & SMALL(IF( Fondo_Comun!$H$12:$H$102 = \"\", \"\", ROW(Fondo_Comun!$H$12:$H$102)), ROW()-1)), \"\" )","v":""},{"$f":" IF( B107, SUM($E$2:E107), \"\" )","v":""}]
[null,{"$f":" COUNTIF(Fondo_Comun!$H$12:$H$102, \">0\") >= ROW() - 1","v":false},{"$f":" IF($B108, INDIRECT(\"Fondo_Comun!C\" & SMALL(IF( Fondo_Comun!$H$12:$H$102 = \"\", \"\", ROW(Fondo_Comun!$H$12:$H$102)), ROW()-1)), \"\" )","v":""},{"$f":" IF($B108, INDIRECT(\"Fondo_Comun!D\" & SMALL(IF( Fondo_Comun!$H$12:$H$102 = \"\", \"\", ROW(Fondo_Comun!$H$12:$H$102)), ROW()-1)), \"\" )","v":""},{"$f":" IF($B108, INDIRECT(\"Fondo_Comun!H\" & SMALL(IF( Fondo_Comun!$H$12:$H$102 = \"\", \"\", ROW(Fondo_Comun!$H$12:$H$102)), ROW()-1)), \"\" )","v":""},{"$f":" IF( B108, SUM($E$2:E108), \"\" )","v":""}]
[null,{"$f":" COUNTIF(Fondo_Comun!$H$12:$H$102, \">0\") >= ROW() - 1","v":false},{"$f":" IF($B109, INDIRECT(\"Fondo_Comun!C\" & SMALL(IF( Fondo_Comun!$H$12:$H$102 = \"\", \"\", ROW(Fondo_Comun!$H$12:$H$102)), ROW()-1)), \"\" )","v":""},{"$f":" IF($B109, INDIRECT(\"Fondo_Comun!D\" & SMALL(IF( Fondo_Comun!$H$12:$H$102 = \"\", \"\", ROW(Fondo_Comun!$H$12:$H$102)), ROW()-1)), \"\" )","v":""},{"$f":" IF($B109, INDIRECT(\"Fondo_Comun!H\" & SMALL(IF( Fondo_Comun!$H$12:$H$102 = \"\", \"\", ROW(Fondo_Comun!$H$12:$H$102)), ROW()-1)), \"\" )","v":""},{"$f":" IF( B109, SUM($E$2:E109), \"\" )","v":""}]
[null,{"$f":" COUNTIF(Fondo_Comun!$H$12:$H$102, \">0\") >= ROW() - 1","v":false},{"$f":" IF($B110, INDIRECT(\"Fondo_Comun!C\" & SMALL(IF( Fondo_Comun!$H$12:$H$102 = \"\", \"\", ROW(Fondo_Comun!$H$12:$H$102)), ROW()-1)), \"\" )","v":""},{"$f":" IF($B110, INDIRECT(\"Fondo_Comun!D\" & SMALL(IF( Fondo_Comun!$H$12:$H$102 = \"\", \"\", ROW(Fondo_Comun!$H$12:$H$102)), ROW()-1)), \"\" )","v":""},{"$f":" IF($B110, INDIRECT(\"Fondo_Comun!H\" & SMALL(IF( Fondo_Comun!$H$12:$H$102 = \"\", \"\", ROW(Fondo_Comun!$H$12:$H$102)), ROW()-1)), \"\" )","v":""},{"$f":" IF( B110, SUM($E$2:E110), \"\" )","v":""}]
[null,{"$f":" COUNTIF(Fondo_Comun!$H$12:$H$102, \">0\") >= ROW() - 1","v":false},{"$f":" IF($B111, INDIRECT(\"Fondo_Comun!C\" & SMALL(IF( Fondo_Comun!$H$12:$H$102 = \"\", \"\", ROW(Fondo_Comun!$H$12:$H$102)), ROW()-1)), \"\" )","v":""},{"$f":" IF($B111, INDIRECT(\"Fondo_Comun!D\" & SMALL(IF( Fondo_Comun!$H$12:$H$102 = \"\", \"\", ROW(Fondo_Comun!$H$12:$H$102)), ROW()-1)), \"\" )","v":""},{"$f":" IF($B111, INDIRECT(\"Fondo_Comun!H\" & SMALL(IF( Fondo_Comun!$H$12:$H$102 = \"\", \"\", ROW(Fondo_Comun!$H$12:$H$102)), ROW()-1)), \"\" )","v":""},{"$f":" IF( B111, SUM($E$2:E111), \"\" )","v":""}]
[null,{"$f":" COUNTIF(Fondo_Comun!$H$12:$H$102, \">0\") >= ROW() - 1","v":false},{"$f":" IF($B112, INDIRECT(\"Fondo_Comun!C\" & SMALL(IF( Fondo_Comun!$H$12:$H$102 = \"\", \"\", ROW(Fondo_Comun!$H$12:$H$102)), ROW()-1)), \"\" )","v":""},{"$f":" IF($B112, INDIRECT(\"Fondo_Comun!D\" & SMALL(IF( Fondo_Comun!$H$12:$H$102 = \"\", \"\", ROW(Fondo_Comun!$H$12:$H$102)), ROW()-1)), \"\" )","v":""},{"$f":" IF($B112, INDIRECT(\"Fondo_Comun!H\" & SMALL(IF( Fondo_Comun!$H$12:$H$102 = \"\", \"\", ROW(Fondo_Comun!$H$12:$H$102)), ROW()-1)), \"\" )","v":""},{"$f":" IF( B112, SUM($E$2:E112), \"\" )","v":""}]
[null,{"$f":" COUNTIF(Fondo_Comun!$H$12:$H$102, \">0\") >= ROW() - 1","v":false},{"$f":" IF($B113, INDIRECT(\"Fondo_Comun!C\" & SMALL(IF( Fondo_Comun!$H$12:$H$102 = \"\", \"\", ROW(Fondo_Comun!$H$12:$H$102)), ROW()-1)), \"\" )","v":""},{"$f":" IF($B113, INDIRECT(\"Fondo_Comun!D\" & SMALL(IF( Fondo_Comun!$H$12:$H$102 = \"\", \"\", ROW(Fondo_Comun!$H$12:$H$102)), ROW()-1)), \"\" )","v":""},{"$f":" IF($B113, INDIRECT(\"Fondo_Comun!H\" & SMALL(IF( Fondo_Comun!$H$12:$H$102 = \"\", \"\", ROW(Fondo_Comun!$H$12:$H$102)), ROW()-1)), \"\" )","v":""},{"$f":" IF( B113, SUM($E$2:E113), \"\" )","v":""}]
[null,{"$f":" COUNTIF(Fondo_Comun!$H$12:$H$102, \">0\") >= ROW() - 1","v":false},{"$f":" IF($B114, INDIRECT(\"Fondo_Comun!C\" & SMALL(IF( Fondo_Comun!$H$12:$H$102 = \"\", \"\", ROW(Fondo_Comun!$H$12:$H$102)), ROW()-1)), \"\" )","v":""},{"$f":" IF($B114, INDIRECT(\"Fondo_Comun!D\" & SMALL(IF( Fondo_Comun!$H$12:$H$102 = \"\", \"\", ROW(Fondo_Comun!$H$12:$H$102)), ROW()-1)), \"\" )","v":""},{"$f":" IF($B114, INDIRECT(\"Fondo_Comun!H\" & SMALL(IF( Fondo_Comun!$H$12:$H$102 = \"\", \"\", ROW(Fondo_Comun!$H$12:$H$102)), ROW()-1)), \"\" )","v":""},{"$f":" IF( B114, SUM($E$2:E114), \"\" )","v":""}]
[null,{"$f":" COUNTIF(Fondo_Comun!$H$12:$H$102, \">0\") >= ROW() - 1","v":false},{"$f":" IF($B115, INDIRECT(\"Fondo_Comun!C\" & SMALL(IF( Fondo_Comun!$H$12:$H$102 = \"\", \"\", ROW(Fondo_Comun!$H$12:$H$102)), ROW()-1)), \"\" )","v":""},{"$f":" IF($B115, INDIRECT(\"Fondo_Comun!D\" & SMALL(IF( Fondo_Comun!$H$12:$H$102 = \"\", \"\", ROW(Fondo_Comun!$H$12:$H$102)), ROW()-1)), \"\" )","v":""},{"$f":" IF($B115, INDIRECT(\"Fondo_Comun!H\" & SMALL(IF( Fondo_Comun!$H$12:$H$102 = \"\", \"\", ROW(Fondo_Comun!$H$12:$H$102)), ROW()-1)), \"\" )","v":""},{"$f":" IF( B115, SUM($E$2:E115), \"\" )","v":""}]
[null,{"$f":" COUNTIF(Fondo_Comun!$H$12:$H$102, \">0\") >= ROW() - 1","v":false},{"$f":" IF($B116, INDIRECT(\"Fondo_Comun!C\" & SMALL(IF( Fondo_Comun!$H$12:$H$102 = \"\", \"\", ROW(Fondo_Comun!$H$12:$H$102)), ROW()-1)), \"\" )","v":""},{"$f":" IF($B116, INDIRECT(\"Fondo_Comun!D\" & SMALL(IF( Fondo_Comun!$H$12:$H$102 = \"\", \"\", ROW(Fondo_Comun!$H$12:$H$102)), ROW()-1)), \"\" )","v":""},{"$f":" IF($B116, INDIRECT(\"Fondo_Comun!H\" & SMALL(IF( Fondo_Comun!$H$12:$H$102 = \"\", \"\", ROW(Fondo_Comun!$H$12:$H$102)), ROW()-1)), \"\" )","v":""},{"$f":" IF( B116, SUM($E$2:E116), \"\" )","v":""}]
[null,{"$f":" COUNTIF(Fondo_Comun!$H$12:$H$102, \">0\") >= ROW() - 1","v":false},{"$f":" IF($B117, INDIRECT(\"Fondo_Comun!C\" & SMALL(IF( Fondo_Comun!$H$12:$H$102 = \"\", \"\", ROW(Fondo_Comun!$H$12:$H$102)), ROW()-1)), \"\" )","v":""},{"$f":" IF($B117, INDIRECT(\"Fondo_Comun!D\" & SMALL(IF( Fondo_Comun!$H$12:$H$102 = \"\", \"\", ROW(Fondo_Comun!$H$12:$H$102)), ROW()-1)), \"\" )","v":""},{"$f":" IF($B117, INDIRECT(\"Fondo_Comun!H\" & SMALL(IF( Fondo_Comun!$H$12:$H$102 = \"\", \"\", ROW(Fondo_Comun!$H$12:$H$102)), ROW()-1)), \"\" )","v":""},{"$f":" IF( B117, SUM($E$2:E117), \"\" )","v":""}]
[null,{"$f":" COUNTIF(Fondo_Comun!$H$12:$H$102, \">0\") >= ROW() - 1","v":false},{"$f":" IF($B118, INDIRECT(\"Fondo_Comun!C\" & SMALL(IF( Fondo_Comun!$H$12:$H$102 = \"\", \"\", ROW(Fondo_Comun!$H$12:$H$102)), ROW()-1)), \"\" )","v":""},{"$f":" IF($B118, INDIRECT(\"Fondo_Comun!D\" & SMALL(IF( Fondo_Comun!$H$12:$H$102 = \"\", \"\", ROW(Fondo_Comun!$H$12:$H$102)), ROW()-1)), \"\" )","v":""},{"$f":" IF($B118, INDIRECT(\"Fondo_Comun!H\" & SMALL(IF( Fondo_Comun!$H$12:$H$102 = \"\", \"\", ROW(Fondo_Comun!$H$12:$H$102)), ROW()-1)), \"\" )","v":""},{"$f":" IF( B118, SUM($E$2:E118), \"\" )","v":""}]
[null,{"$f":" COUNTIF(Fondo_Comun!$H$12:$H$102, \">0\") >= ROW() - 1","v":false},{"$f":" IF($B119, INDIRECT(\"Fondo_Comun!C\" & SMALL(IF( Fondo_Comun!$H$12:$H$102 = \"\", \"\", ROW(Fondo_Comun!$H$12:$H$102)), ROW()-1)), \"\" )","v":""},{"$f":" IF($B119, INDIRECT(\"Fondo_Comun!D\" & SMALL(IF( Fondo_Comun!$H$12:$H$102 = \"\", \"\", ROW(Fondo_Comun!$H$12:$H$102)), ROW()-1)), \"\" )","v":""},{"$f":" IF($B119, INDIRECT(\"Fondo_Comun!H\" & SMALL(IF( Fondo_Comun!$H$12:$H$102 = \"\", \"\", ROW(Fondo_Comun!$H$12:$H$102)), ROW()-1)), \"\" )","v":""},{"$f":" IF( B119, SUM($E$2:E119), \"\" )","v":""}]
[null,{"$f":" COUNTIF(Fondo_Comun!$H$12:$H$102, \">0\") >= ROW() - 1","v":false},{"$f":" IF($B120, INDIRECT(\"Fondo_Comun!C\" & SMALL(IF( Fondo_Comun!$H$12:$H$102 = \"\", \"\", ROW(Fondo_Comun!$H$12:$H$102)), ROW()-1)), \"\" )","v":""},{"$f":" IF($B120, INDIRECT(\"Fondo_Comun!D\" & SMALL(IF( Fondo_Comun!$H$12:$H$102 = \"\", \"\", ROW(Fondo_Comun!$H$12:$H$102)), ROW()-1)), \"\" )","v":""},{"$f":" IF($B120, INDIRECT(\"Fondo_Comun!H\" & SMALL(IF( Fondo_Comun!$H$12:$H$102 = \"\", \"\", ROW(Fondo_Comun!$H$12:$H$102)), ROW()-1)), \"\" )","v":""},{"$f":" IF( B120, SUM($E$2:E120), \"\" )","v":""}]
[null,{"$f":" COUNTIF(Fondo_Comun!$H$12:$H$102, \">0\") >= ROW() - 1","v":false},{"$f":" IF($B121, INDIRECT(\"Fondo_Comun!C\" & SMALL(IF( Fondo_Comun!$H$12:$H$102 = \"\", \"\", ROW(Fondo_Comun!$H$12:$H$102)), ROW()-1)), \"\" )","v":""},{"$f":" IF($B121, INDIRECT(\"Fondo_Comun!D\" & SMALL(IF( Fondo_Comun!$H$12:$H$102 = \"\", \"\", ROW(Fondo_Comun!$H$12:$H$102)), ROW()-1)), \"\" )","v":""},{"$f":" IF($B121, INDIRECT(\"Fondo_Comun!H\" & SMALL(IF( Fondo_Comun!$H$12:$H$102 = \"\", \"\", ROW(Fondo_Comun!$H$12:$H$102)), ROW()-1)), \"\" )","v":""},{"$f":" IF( B121, SUM($E$2:E121), \"\" )","v":""}]
[null,{"$f":" COUNTIF(Fondo_Comun!$H$12:$H$102, \">0\") >= ROW() - 1","v":false},{"$f":" IF($B122, INDIRECT(\"Fondo_Comun!C\" & SMALL(IF( Fondo_Comun!$H$12:$H$102 = \"\", \"\", ROW(Fondo_Comun!$H$12:$H$102)), ROW()-1)), \"\" )","v":""},{"$f":" IF($B122, INDIRECT(\"Fondo_Comun!D\" & SMALL(IF( Fondo_Comun!$H$12:$H$102 = \"\", \"\", ROW(Fondo_Comun!$H$12:$H$102)), ROW()-1)), \"\" )","v":""},{"$f":" IF($B122, INDIRECT(\"Fondo_Comun!H\" & SMALL(IF( Fondo_Comun!$H$12:$H$102 = \"\", \"\", ROW(Fondo_Comun!$H$12:$H$102)), ROW()-1)), \"\" )","v":""},{"$f":" IF( B122, SUM($E$2:E122), \"\" )","v":""}]
[null,{"$f":" COUNTIF(Fondo_Comun!$H$12:$H$102, \">0\") >= ROW() - 1","v":false},{"$f":" IF($B123, INDIRECT(\"Fondo_Comun!C\" & SMALL(IF( Fondo_Comun!$H$12:$H$102 = \"\", \"\", ROW(Fondo_Comun!$H$12:$H$102)), ROW()-1)), \"\" )","v":""},{"$f":" IF($B123, INDIRECT(\"Fondo_Comun!D\" & SMALL(IF( Fondo_Comun!$H$12:$H$102 = \"\", \"\", ROW(Fondo_Comun!$H$12:$H$102)), ROW()-1)), \"\" )","v":""},{"$f":" IF($B123, INDIRECT(\"Fondo_Comun!H\" & SMALL(IF( Fondo_Comun!$H$12:$H$102 = \"\", \"\", ROW(Fondo_Comun!$H$12:$H$102)), ROW()-1)), \"\" )","v":""},{"$f":" IF( B123, SUM($E$2:E123), \"\" )","v":""}]
[null,{"$f":" COUNTIF(Fondo_Comun!$H$12:$H$102, \">0\") >= ROW() - 1","v":false},{"$f":" IF($B124, INDIRECT(\"Fondo_Comun!C\" & SMALL(IF( Fondo_Comun!$H$12:$H$102 = \"\", \"\", ROW(Fondo_Comun!$H$12:$H$102)), ROW()-1)), \"\" )","v":""},{"$f":" IF($B124, INDIRECT(\"Fondo_Comun!D\" & SMALL(IF( Fondo_Comun!$H$12:$H$102 = \"\", \"\", ROW(Fondo_Comun!$H$12:$H$102)), ROW()-1)), \"\" )","v":""},{"$f":" IF($B124, INDIRECT(\"Fondo_Comun!H\" & SMALL(IF( Fondo_Comun!$H$12:$H$102 = \"\", \"\", ROW(Fondo_Comun!$H$12:$H$102)), ROW()-1)), \"\" )","v":""},{"$f":" IF( B124, SUM($E$2:E124), \"\" )","v":""}]
[null,{"$f":" COUNTIF(Fondo_Comun!$H$12:$H$102, \">0\") >= ROW() - 1","v":false},{"$f":" IF($B125, INDIRECT(\"Fondo_Comun!C\" & SMALL(IF( Fondo_Comun!$H$12:$H$102 = \"\", \"\", ROW(Fondo_Comun!$H$12:$H$102)), ROW()-1)), \"\" )","v":""},{"$f":" IF($B125, INDIRECT(\"Fondo_Comun!D\" & SMALL(IF( Fondo_Comun!$H$12:$H$102 = \"\", \"\", ROW(Fondo_Comun!$H$12:$H$102)), ROW()-1)), \"\" )","v":""},{"$f":" IF($B125, INDIRECT(\"Fondo_Comun!H\" & SMALL(IF( Fondo_Comun!$H$12:$H$102 = \"\", \"\", ROW(Fondo_Comun!$H$12:$H$102)), ROW()-1)), \"\" )","v":""},{"$f":" IF( B125, SUM($E$2:E125), \"\" )","v":""}]
[null,{"$f":" COUNTIF(Fondo_Comun!$H$12:$H$102, \">0\") >= ROW() - 1","v":false},{"$f":" IF($B126, INDIRECT(\"Fondo_Comun!C\" & SMALL(IF( Fondo_Comun!$H$12:$H$102 = \"\", \"\", ROW(Fondo_Comun!$H$12:$H$102)), ROW()-1)), \"\" )","v":""},{"$f":" IF($B126, INDIRECT(\"Fondo_Comun!D\" & SMALL(IF( Fondo_Comun!$H$12:$H$102 = \"\", \"\", ROW(Fondo_Comun!$H$12:$H$102)), ROW()-1)), \"\" )","v":""},{"$f":" IF($B126, INDIRECT(\"Fondo_Comun!H\" & SMALL(IF( Fondo_Comun!$H$12:$H$102 = \"\", \"\", ROW(Fondo_Comun!$H$12:$H$102)), ROW()-1)), \"\" )","v":""},{"$f":" IF( B126, SUM($E$2:E126), \"\" )","v":""}]
[null,{"$f":" COUNTIF(Fondo_Comun!$H$12:$H$102, \">0\") >= ROW() - 1","v":false},{"$f":" IF($B127, INDIRECT(\"Fondo_Comun!C\" & SMALL(IF( Fondo_Comun!$H$12:$H$102 = \"\", \"\", ROW(Fondo_Comun!$H$12:$H$102)), ROW()-1)), \"\" )","v":""},{"$f":" IF($B127, INDIRECT(\"Fondo_Comun!D\" & SMALL(IF( Fondo_Comun!$H$12:$H$102 = \"\", \"\", ROW(Fondo_Comun!$H$12:$H$102)), ROW()-1)), \"\" )","v":""},{"$f":" IF($B127, INDIRECT(\"Fondo_Comun!H\" & SMALL(IF( Fondo_Comun!$H$12:$H$102 = \"\", \"\", ROW(Fondo_Comun!$H$12:$H$102)), ROW()-1)), \"\" )","v":""},{"$f":" IF( B127, SUM($E$2:E127), \"\" )","v":""}]
[null,{"$f":" COUNTIF(Fondo_Comun!$H$12:$H$102, \">0\") >= ROW() - 1","v":false},{"$f":" IF($B128, INDIRECT(\"Fondo_Comun!C\" & SMALL(IF( Fondo_Comun!$H$12:$H$102 = \"\", \"\", ROW(Fondo_Comun!$H$12:$H$102)), ROW()-1)), \"\" )","v":""},{"$f":" IF($B128, INDIRECT(\"Fondo_Comun!D\" & SMALL(IF( Fondo_Comun!$H$12:$H$102 = \"\", \"\", ROW(Fondo_Comun!$H$12:$H$102)), ROW()-1)), \"\" )","v":""},{"$f":" IF($B128, INDIRECT(\"Fondo_Comun!H\" & SMALL(IF( Fondo_Comun!$H$12:$H$102 = \"\", \"\", ROW(Fondo_Comun!$H$12:$H$102)), ROW()-1)), \"\" )","v":""},{"$f":" IF( B128, SUM($E$2:E128), \"\" )","v":""}]
[null,{"$f":" COUNTIF(Fondo_Comun!$H$12:$H$102, \">0\") >= ROW() - 1","v":false},{"$f":" IF($B129, INDIRECT(\"Fondo_Comun!C\" & SMALL(IF( Fondo_Comun!$H$12:$H$102 = \"\", \"\", ROW(Fondo_Comun!$H$12:$H$102)), ROW()-1)), \"\" )","v":""},{"$f":" IF($B129, INDIRECT(\"Fondo_Comun!D\" & SMALL(IF( Fondo_Comun!$H$12:$H$102 = \"\", \"\", ROW(Fondo_Comun!$H$12:$H$102)), ROW()-1)), \"\" )","v":""},{"$f":" IF($B129, INDIRECT(\"Fondo_Comun!H\" & SMALL(IF( Fondo_Comun!$H$12:$H$102 = \"\", \"\", ROW(Fondo_Comun!$H$12:$H$102)), ROW()-1)), \"\" )","v":""},{"$f":" IF( B129, SUM($E$2:E129), \"\" )","v":""}]
[null,{"$f":" COUNTIF(Fondo_Comun!$H$12:$H$102, \">0\") >= ROW() - 1","v":false},{"$f":" IF($B130, INDIRECT(\"Fondo_Comun!C\" & SMALL(IF( Fondo_Comun!$H$12:$H$102 = \"\", \"\", ROW(Fondo_Comun!$H$12:$H$102)), ROW()-1)), \"\" )","v":""},{"$f":" IF($B130, INDIRECT(\"Fondo_Comun!D\" & SMALL(IF( Fondo_Comun!$H$12:$H$102 = \"\", \"\", ROW(Fondo_Comun!$H$12:$H$102)), ROW()-1)), \"\" )","v":""},{"$f":" IF($B130, INDIRECT(\"Fondo_Comun!H\" & SMALL(IF( Fondo_Comun!$H$12:$H$102 = \"\", \"\", ROW(Fondo_Comun!$H$12:$H$102)), ROW()-1)), \"\" )","v":""},{"$f":" IF( B130, SUM($E$2:E130), \"\" )","v":""}]
[null,{"$f":" COUNTIF(Fondo_Comun!$H$12:$H$102, \">0\") >= ROW() - 1","v":false},{"$f":" IF($B131, INDIRECT(\"Fondo_Comun!C\" & SMALL(IF( Fondo_Comun!$H$12:$H$102 = \"\", \"\", ROW(Fondo_Comun!$H$12:$H$102)), ROW()-1)), \"\" )","v":""},{"$f":" IF($B131, INDIRECT(\"Fondo_Comun!D\" & SMALL(IF( Fondo_Comun!$H$12:$H$102 = \"\", \"\", ROW(Fondo_Comun!$H$12:$H$102)), ROW()-1)), \"\" )","v":""},{"$f":" IF($B131, INDIRECT(\"Fondo_Comun!H\" & SMALL(IF( Fondo_Comun!$H$12:$H$102 = \"\", \"\", ROW(Fondo_Comun!$H$12:$H$102)), ROW()-1)), \"\" )","v":""},{"$f":" IF( B131, SUM($E$2:E131), \"\" )","v":""}]
[null,{"$f":" COUNTIF(Fondo_Comun!$H$12:$H$102, \">0\") >= ROW() - 1","v":false},{"$f":" IF($B132, INDIRECT(\"Fondo_Comun!C\" & SMALL(IF( Fondo_Comun!$H$12:$H$102 = \"\", \"\", ROW(Fondo_Comun!$H$12:$H$102)), ROW()-1)), \"\" )","v":""},{"$f":" IF($B132, INDIRECT(\"Fondo_Comun!D\" & SMALL(IF( Fondo_Comun!$H$12:$H$102 = \"\", \"\", ROW(Fondo_Comun!$H$12:$H$102)), ROW()-1)), \"\" )","v":""},{"$f":" IF($B132, INDIRECT(\"Fondo_Comun!H\" & SMALL(IF( Fondo_Comun!$H$12:$H$102 = \"\", \"\", ROW(Fondo_Comun!$H$12:$H$102)), ROW()-1)), \"\" )","v":""},{"$f":" IF( B132, SUM($E$2:E132), \"\" )","v":""}]
[null,{"$f":" COUNTIF(Fondo_Comun!$H$12:$H$102, \">0\") >= ROW() - 1","v":false},{"$f":" IF($B133, INDIRECT(\"Fondo_Comun!C\" & SMALL(IF( Fondo_Comun!$H$12:$H$102 = \"\", \"\", ROW(Fondo_Comun!$H$12:$H$102)), ROW()-1)), \"\" )","v":""},{"$f":" IF($B133, INDIRECT(\"Fondo_Comun!D\" & SMALL(IF( Fondo_Comun!$H$12:$H$102 = \"\", \"\", ROW(Fondo_Comun!$H$12:$H$102)), ROW()-1)), \"\" )","v":""},{"$f":" IF($B133, INDIRECT(\"Fondo_Comun!H\" & SMALL(IF( Fondo_Comun!$H$12:$H$102 = \"\", \"\", ROW(Fondo_Comun!$H$12:$H$102)), ROW()-1)), \"\" )","v":""},{"$f":" IF( B133, SUM($E$2:E133), \"\" )","v":""}]
[null,{"$f":" COUNTIF(Fondo_Comun!$H$12:$H$102, \">0\") >= ROW() - 1","v":false},{"$f":" IF($B134, INDIRECT(\"Fondo_Comun!C\" & SMALL(IF( Fondo_Comun!$H$12:$H$102 = \"\", \"\", ROW(Fondo_Comun!$H$12:$H$102)), ROW()-1)), \"\" )","v":""},{"$f":" IF($B134, INDIRECT(\"Fondo_Comun!D\" & SMALL(IF( Fondo_Comun!$H$12:$H$102 = \"\", \"\", ROW(Fondo_Comun!$H$12:$H$102)), ROW()-1)), \"\" )","v":""},{"$f":" IF($B134, INDIRECT(\"Fondo_Comun!H\" & SMALL(IF( Fondo_Comun!$H$12:$H$102 = \"\", \"\", ROW(Fondo_Comun!$H$12:$H$102)), ROW()-1)), \"\" )","v":""},{"$f":" IF( B134, SUM($E$2:E134), \"\" )","v":""}]
[null,{"$f":" COUNTIF(Fondo_Comun!$H$12:$H$102, \">0\") >= ROW() - 1","v":false},{"$f":" IF($B135, INDIRECT(\"Fondo_Comun!C\" & SMALL(IF( Fondo_Comun!$H$12:$H$102 = \"\", \"\", ROW(Fondo_Comun!$H$12:$H$102)), ROW()-1)), \"\" )","v":""},{"$f":" IF($B135, INDIRECT(\"Fondo_Comun!D\" & SMALL(IF( Fondo_Comun!$H$12:$H$102 = \"\", \"\", ROW(Fondo_Comun!$H$12:$H$102)), ROW()-1)), \"\" )","v":""},{"$f":" IF($B135, INDIRECT(\"Fondo_Comun!H\" & SMALL(IF( Fondo_Comun!$H$12:$H$102 = \"\", \"\", ROW(Fondo_Comun!$H$12:$H$102)), ROW()-1)), \"\" )","v":""},{"$f":" IF( B135, SUM($E$2:E135), \"\" )","v":""}]
[null,{"$f":" COUNTIF(Fondo_Comun!$H$12:$H$102, \">0\") >= ROW() - 1","v":false},{"$f":" IF($B136, INDIRECT(\"Fondo_Comun!C\" & SMALL(IF( Fondo_Comun!$H$12:$H$102 = \"\", \"\", ROW(Fondo_Comun!$H$12:$H$102)), ROW()-1)), \"\" )","v":""},{"$f":" IF($B136, INDIRECT(\"Fondo_Comun!D\" & SMALL(IF( Fondo_Comun!$H$12:$H$102 = \"\", \"\", ROW(Fondo_Comun!$H$12:$H$102)), ROW()-1)), \"\" )","v":""},{"$f":" IF($B136, INDIRECT(\"Fondo_Comun!H\" & SMALL(IF( Fondo_Comun!$H$12:$H$102 = \"\", \"\", ROW(Fondo_Comun!$H$12:$H$102)), ROW()-1)), \"\" )","v":""},{"$f":" IF( B136, SUM($E$2:E136), \"\" )","v":""}]
[null,{"$f":" COUNTIF(Fondo_Comun!$H$12:$H$102, \">0\") >= ROW() - 1","v":false},{"$f":" IF($B137, INDIRECT(\"Fondo_Comun!C\" & SMALL(IF( Fondo_Comun!$H$12:$H$102 = \"\", \"\", ROW(Fondo_Comun!$H$12:$H$102)), ROW()-1)), \"\" )","v":""},{"$f":" IF($B137, INDIRECT(\"Fondo_Comun!D\" & SMALL(IF( Fondo_Comun!$H$12:$H$102 = \"\", \"\", ROW(Fondo_Comun!$H$12:$H$102)), ROW()-1)), \"\" )","v":""},{"$f":" IF($B137, INDIRECT(\"Fondo_Comun!H\" & SMALL(IF( Fondo_Comun!$H$12:$H$102 = \"\", \"\", ROW(Fondo_Comun!$H$12:$H$102)), ROW()-1)), \"\" )","v":""},{"$f":" IF( B137, SUM($E$2:E137), \"\" )","v":""}]
[null,{"$f":" COUNTIF(Fondo_Comun!$H$12:$H$102, \">0\") >= ROW() - 1","v":false},{"$f":" IF($B138, INDIRECT(\"Fondo_Comun!C\" & SMALL(IF( Fondo_Comun!$H$12:$H$102 = \"\", \"\", ROW(Fondo_Comun!$H$12:$H$102)), ROW()-1)), \"\" )","v":""},{"$f":" IF($B138, INDIRECT(\"Fondo_Comun!D\" & SMALL(IF( Fondo_Comun!$H$12:$H$102 = \"\", \"\", ROW(Fondo_Comun!$H$12:$H$102)), ROW()-1)), \"\" )","v":""},{"$f":" IF($B138, INDIRECT(\"Fondo_Comun!H\" & SMALL(IF( Fondo_Comun!$H$12:$H$102 = \"\", \"\", ROW(Fondo_Comun!$H$12:$H$102)), ROW()-1)), \"\" )","v":""},{"$f":" IF( B138, SUM($E$2:E138), \"\" )","v":""}]
[null,{"$f":" COUNTIF(Fondo_Comun!$H$12:$H$102, \">0\") >= ROW() - 1","v":false},{"$f":" IF($B139, INDIRECT(\"Fondo_Comun!C\" & SMALL(IF( Fondo_Comun!$H$12:$H$102 = \"\", \"\", ROW(Fondo_Comun!$H$12:$H$102)), ROW()-1)), \"\" )","v":""},{"$f":" IF($B139, INDIRECT(\"Fondo_Comun!D\" & SMALL(IF( Fondo_Comun!$H$12:$H$102 = \"\", \"\", ROW(Fondo_Comun!$H$12:$H$102)), ROW()-1)), \"\" )","v":""},{"$f":" IF($B139, INDIRECT(\"Fondo_Comun!H\" & SMALL(IF( Fondo_Comun!$H$12:$H$102 = \"\", \"\", ROW(Fondo_Comun!$H$12:$H$102)), ROW()-1)), \"\" )","v":""},{"$f":" IF( B139, SUM($E$2:E139), \"\" )","v":""}]
[null,{"$f":" COUNTIF(Fondo_Comun!$H$12:$H$102, \">0\") >= ROW() - 1","v":false},{"$f":" IF($B140, INDIRECT(\"Fondo_Comun!C\" & SMALL(IF( Fondo_Comun!$H$12:$H$102 = \"\", \"\", ROW(Fondo_Comun!$H$12:$H$102)), ROW()-1)), \"\" )","v":""},{"$f":" IF($B140, INDIRECT(\"Fondo_Comun!D\" & SMALL(IF( Fondo_Comun!$H$12:$H$102 = \"\", \"\", ROW(Fondo_Comun!$H$12:$H$102)), ROW()-1)), \"\" )","v":""},{"$f":" IF($B140, INDIRECT(\"Fondo_Comun!H\" & SMALL(IF( Fondo_Comun!$H$12:$H$102 = \"\", \"\", ROW(Fondo_Comun!$H$12:$H$102)), ROW()-1)), \"\" )","v":""},{"$f":" IF( B140, SUM($E$2:E140), \"\" )","v":""}]
[null,{"$f":" COUNTIF(Fondo_Comun!$H$12:$H$102, \">0\") >= ROW() - 1","v":false},{"$f":" IF($B141, INDIRECT(\"Fondo_Comun!C\" & SMALL(IF( Fondo_Comun!$H$12:$H$102 = \"\", \"\", ROW(Fondo_Comun!$H$12:$H$102)), ROW()-1)), \"\" )","v":""},{"$f":" IF($B141, INDIRECT(\"Fondo_Comun!D\" & SMALL(IF( Fondo_Comun!$H$12:$H$102 = \"\", \"\", ROW(Fondo_Comun!$H$12:$H$102)), ROW()-1)), \"\" )","v":""},{"$f":" IF($B141, INDIRECT(\"Fondo_Comun!H\" & SMALL(IF( Fondo_Comun!$H$12:$H$102 = \"\", \"\", ROW(Fondo_Comun!$H$12:$H$102)), ROW()-1)), \"\" )","v":""},{"$f":" IF( B141, SUM($E$2:E141), \"\" )","v":""}]
[null,{"$f":" COUNTIF(Fondo_Comun!$H$12:$H$102, \">0\") >= ROW() - 1","v":false},{"$f":" IF($B142, INDIRECT(\"Fondo_Comun!C\" & SMALL(IF( Fondo_Comun!$H$12:$H$102 = \"\", \"\", ROW(Fondo_Comun!$H$12:$H$102)), ROW()-1)), \"\" )","v":""},{"$f":" IF($B142, INDIRECT(\"Fondo_Comun!D\" & SMALL(IF( Fondo_Comun!$H$12:$H$102 = \"\", \"\", ROW(Fondo_Comun!$H$12:$H$102)), ROW()-1)), \"\" )","v":""},{"$f":" IF($B142, INDIRECT(\"Fondo_Comun!H\" & SMALL(IF( Fondo_Comun!$H$12:$H$102 = \"\", \"\", ROW(Fondo_Comun!$H$12:$H$102)), ROW()-1)), \"\" )","v":""},{"$f":" IF( B142, SUM($E$2:E142), \"\" )","v":""}]
[null,{"$f":" COUNTIF(Fondo_Comun!$H$12:$H$102, \">0\") >= ROW() - 1","v":false},{"$f":" IF($B143, INDIRECT(\"Fondo_Comun!C\" & SMALL(IF( Fondo_Comun!$H$12:$H$102 = \"\", \"\", ROW(Fondo_Comun!$H$12:$H$102)), ROW()-1)), \"\" )","v":""},{"$f":" IF($B143, INDIRECT(\"Fondo_Comun!D\" & SMALL(IF( Fondo_Comun!$H$12:$H$102 = \"\", \"\", ROW(Fondo_Comun!$H$12:$H$102)), ROW()-1)), \"\" )","v":""},{"$f":" IF($B143, INDIRECT(\"Fondo_Comun!H\" & SMALL(IF( Fondo_Comun!$H$12:$H$102 = \"\", \"\", ROW(Fondo_Comun!$H$12:$H$102)), ROW()-1)), \"\" )","v":""},{"$f":" IF( B143, SUM($E$2:E143), \"\" )","v":""}]
[null,{"$f":" COUNTIF(Fondo_Comun!$H$12:$H$102, \">0\") >= ROW() - 1","v":false},{"$f":" IF($B144, INDIRECT(\"Fondo_Comun!C\" & SMALL(IF( Fondo_Comun!$H$12:$H$102 = \"\", \"\", ROW(Fondo_Comun!$H$12:$H$102)), ROW()-1)), \"\" )","v":""},{"$f":" IF($B144, INDIRECT(\"Fondo_Comun!D\" & SMALL(IF( Fondo_Comun!$H$12:$H$102 = \"\", \"\", ROW(Fondo_Comun!$H$12:$H$102)), ROW()-1)), \"\" )","v":""},{"$f":" IF($B144, INDIRECT(\"Fondo_Comun!H\" & SMALL(IF( Fondo_Comun!$H$12:$H$102 = \"\", \"\", ROW(Fondo_Comun!$H$12:$H$102)), ROW()-1)), \"\" )","v":""},{"$f":" IF( B144, SUM($E$2:E144), \"\" )","v":""}]
[null,{"$f":" COUNTIF(Fondo_Comun!$H$12:$H$102, \">0\") >= ROW() - 1","v":false},{"$f":" IF($B145, INDIRECT(\"Fondo_Comun!C\" & SMALL(IF( Fondo_Comun!$H$12:$H$102 = \"\", \"\", ROW(Fondo_Comun!$H$12:$H$102)), ROW()-1)), \"\" )","v":""},{"$f":" IF($B145, INDIRECT(\"Fondo_Comun!D\" & SMALL(IF( Fondo_Comun!$H$12:$H$102 = \"\", \"\", ROW(Fondo_Comun!$H$12:$H$102)), ROW()-1)), \"\" )","v":""},{"$f":" IF($B145, INDIRECT(\"Fondo_Comun!H\" & SMALL(IF( Fondo_Comun!$H$12:$H$102 = \"\", \"\", ROW(Fondo_Comun!$H$12:$H$102)), ROW()-1)), \"\" )","v":""},{"$f":" IF( B145, SUM($E$2:E145), \"\" )","v":""}]
[null,{"$f":" COUNTIF(Fondo_Comun!$H$12:$H$102, \">0\") >= ROW() - 1","v":false},{"$f":" IF($B146, INDIRECT(\"Fondo_Comun!C\" & SMALL(IF( Fondo_Comun!$H$12:$H$102 = \"\", \"\", ROW(Fondo_Comun!$H$12:$H$102)), ROW()-1)), \"\" )","v":""},{"$f":" IF($B146, INDIRECT(\"Fondo_Comun!D\" & SMALL(IF( Fondo_Comun!$H$12:$H$102 = \"\", \"\", ROW(Fondo_Comun!$H$12:$H$102)), ROW()-1)), \"\" )","v":""},{"$f":" IF($B146, INDIRECT(\"Fondo_Comun!H\" & SMALL(IF( Fondo_Comun!$H$12:$H$102 = \"\", \"\", ROW(Fondo_Comun!$H$12:$H$102)), ROW()-1)), \"\" )","v":""},{"$f":" IF( B146, SUM($E$2:E146), \"\" )","v":""}]
[null,{"$f":" COUNTIF(Fondo_Comun!$H$12:$H$102, \">0\") >= ROW() - 1","v":false},{"$f":" IF($B147, INDIRECT(\"Fondo_Comun!C\" & SMALL(IF( Fondo_Comun!$H$12:$H$102 = \"\", \"\", ROW(Fondo_Comun!$H$12:$H$102)), ROW()-1)), \"\" )","v":""},{"$f":" IF($B147, INDIRECT(\"Fondo_Comun!D\" & SMALL(IF( Fondo_Comun!$H$12:$H$102 = \"\", \"\", ROW(Fondo_Comun!$H$12:$H$102)), ROW()-1)), \"\" )","v":""},{"$f":" IF($B147, INDIRECT(\"Fondo_Comun!H\" & SMALL(IF( Fondo_Comun!$H$12:$H$102 = \"\", \"\", ROW(Fondo_Comun!$H$12:$H$102)), ROW()-1)), \"\" )","v":""},{"$f":" IF( B147, SUM($E$2:E147), \"\" )","v":""}]
[null,{"$f":" COUNTIF(Fondo_Comun!$H$12:$H$102, \">0\") >= ROW() - 1","v":false},{"$f":" IF($B148, INDIRECT(\"Fondo_Comun!C\" & SMALL(IF( Fondo_Comun!$H$12:$H$102 = \"\", \"\", ROW(Fondo_Comun!$H$12:$H$102)), ROW()-1)), \"\" )","v":""},{"$f":" IF($B148, INDIRECT(\"Fondo_Comun!D\" & SMALL(IF( Fondo_Comun!$H$12:$H$102 = \"\", \"\", ROW(Fondo_Comun!$H$12:$H$102)), ROW()-1)), \"\" )","v":""},{"$f":" IF($B148, INDIRECT(\"Fondo_Comun!H\" & SMALL(IF( Fondo_Comun!$H$12:$H$102 = \"\", \"\", ROW(Fondo_Comun!$H$12:$H$102)), ROW()-1)), \"\" )","v":""},{"$f":" IF( B148, SUM($E$2:E148), \"\" )","v":""}]
[null,{"$f":" COUNTIF(Fondo_Comun!$H$12:$H$102, \">0\") >= ROW() - 1","v":false},{"$f":" IF($B149, INDIRECT(\"Fondo_Comun!C\" & SMALL(IF( Fondo_Comun!$H$12:$H$102 = \"\", \"\", ROW(Fondo_Comun!$H$12:$H$102)), ROW()-1)), \"\" )","v":""},{"$f":" IF($B149, INDIRECT(\"Fondo_Comun!D\" & SMALL(IF( Fondo_Comun!$H$12:$H$102 = \"\", \"\", ROW(Fondo_Comun!$H$12:$H$102)), ROW()-1)), \"\" )","v":""},{"$f":" IF($B149, INDIRECT(\"Fondo_Comun!H\" & SMALL(IF( Fondo_Comun!$H$12:$H$102 = \"\", \"\", ROW(Fondo_Comun!$H$12:$H$102)), ROW()-1)), \"\" )","v":""},{"$f":" IF( B149, SUM($E$2:E149), \"\" )","v":""}]
[null,{"$f":" COUNTIF(Fondo_Comun!$H$12:$H$102, \">0\") >= ROW() - 1","v":false},{"$f":" IF($B150, INDIRECT(\"Fondo_Comun!C\" & SMALL(IF( Fondo_Comun!$H$12:$H$102 = \"\", \"\", ROW(Fondo_Comun!$H$12:$H$102)), ROW()-1)), \"\" )","v":""},{"$f":" IF($B150, INDIRECT(\"Fondo_Comun!D\" & SMALL(IF( Fondo_Comun!$H$12:$H$102 = \"\", \"\", ROW(Fondo_Comun!$H$12:$H$102)), ROW()-1)), \"\" )","v":""},{"$f":" IF($B150, INDIRECT(\"Fondo_Comun!H\" & SMALL(IF( Fondo_Comun!$H$12:$H$102 = \"\", \"\", ROW(Fondo_Comun!$H$12:$H$102)), ROW()-1)), \"\" )","v":""},{"$f":" IF( B150, SUM($E$2:E150), \"\" )","v":""}]
[null,{"$f":" COUNTIF(Fondo_Comun!$H$12:$H$102, \">0\") >= ROW() - 1","v":false},{"$f":" IF($B151, INDIRECT(\"Fondo_Comun!C\" & SMALL(IF( Fondo_Comun!$H$12:$H$102 = \"\", \"\", ROW(Fondo_Comun!$H$12:$H$102)), ROW()-1)), \"\" )","v":""},{"$f":" IF($B151, INDIRECT(\"Fondo_Comun!D\" & SMALL(IF( Fondo_Comun!$H$12:$H$102 = \"\", \"\", ROW(Fondo_Comun!$H$12:$H$102)), ROW()-1)), \"\" )","v":""},{"$f":" IF($B151, INDIRECT(\"Fondo_Comun!H\" & SMALL(IF( Fondo_Comun!$H$12:$H$102 = \"\", \"\", ROW(Fondo_Comun!$H$12:$H$102)), ROW()-1)), \"\" )","v":""},{"$f":" IF( B151, SUM($E$2:E151), \"\" )","v":""}]
[null,{"$f":" COUNTIF(Fondo_Comun!$H$12:$H$102, \">0\") >= ROW() - 1","v":false},{"$f":" IF($B152, INDIRECT(\"Fondo_Comun!C\" & SMALL(IF( Fondo_Comun!$H$12:$H$102 = \"\", \"\", ROW(Fondo_Comun!$H$12:$H$102)), ROW()-1)), \"\" )","v":""},{"$f":" IF($B152, INDIRECT(\"Fondo_Comun!D\" & SMALL(IF( Fondo_Comun!$H$12:$H$102 = \"\", \"\", ROW(Fondo_Comun!$H$12:$H$102)), ROW()-1)), \"\" )","v":""},{"$f":" IF($B152, INDIRECT(\"Fondo_Comun!H\" & SMALL(IF( Fondo_Comun!$H$12:$H$102 = \"\", \"\", ROW(Fondo_Comun!$H$12:$H$102)), ROW()-1)), \"\" )","v":""},{"$f":" IF( B152, SUM($E$2:E152), \"\" )","v":""}]
[null,{"$f":" COUNTIF(Fondo_Comun!$H$12:$H$102, \">0\") >= ROW() - 1","v":false},{"$f":" IF($B153, INDIRECT(\"Fondo_Comun!C\" & SMALL(IF( Fondo_Comun!$H$12:$H$102 = \"\", \"\", ROW(Fondo_Comun!$H$12:$H$102)), ROW()-1)), \"\" )","v":""},{"$f":" IF($B153, INDIRECT(\"Fondo_Comun!D\" & SMALL(IF( Fondo_Comun!$H$12:$H$102 = \"\", \"\", ROW(Fondo_Comun!$H$12:$H$102)), ROW()-1)), \"\" )","v":""},{"$f":" IF($B153, INDIRECT(\"Fondo_Comun!H\" & SMALL(IF( Fondo_Comun!$H$12:$H$102 = \"\", \"\", ROW(Fondo_Comun!$H$12:$H$102)), ROW()-1)), \"\" )","v":""},{"$f":" IF( B153, SUM($E$2:E153), \"\" )","v":""}]
[null,{"$f":" COUNTIF(Fondo_Comun!$H$12:$H$102, \">0\") >= ROW() - 1","v":false},{"$f":" IF($B154, INDIRECT(\"Fondo_Comun!C\" & SMALL(IF( Fondo_Comun!$H$12:$H$102 = \"\", \"\", ROW(Fondo_Comun!$H$12:$H$102)), ROW()-1)), \"\" )","v":""},{"$f":" IF($B154, INDIRECT(\"Fondo_Comun!D\" & SMALL(IF( Fondo_Comun!$H$12:$H$102 = \"\", \"\", ROW(Fondo_Comun!$H$12:$H$102)), ROW()-1)), \"\" )","v":""},{"$f":" IF($B154, INDIRECT(\"Fondo_Comun!H\" & SMALL(IF( Fondo_Comun!$H$12:$H$102 = \"\", \"\", ROW(Fondo_Comun!$H$12:$H$102)), ROW()-1)), \"\" )","v":""},{"$f":" IF( B154, SUM($E$2:E154), \"\" )","v":""}]
[null,{"$f":" COUNTIF(Fondo_Comun!$H$12:$H$102, \">0\") >= ROW() - 1","v":false},{"$f":" IF($B155, INDIRECT(\"Fondo_Comun!C\" & SMALL(IF( Fondo_Comun!$H$12:$H$102 = \"\", \"\", ROW(Fondo_Comun!$H$12:$H$102)), ROW()-1)), \"\" )","v":""},{"$f":" IF($B155, INDIRECT(\"Fondo_Comun!D\" & SMALL(IF( Fondo_Comun!$H$12:$H$102 = \"\", \"\", ROW(Fondo_Comun!$H$12:$H$102)), ROW()-1)), \"\" )","v":""},{"$f":" IF($B155, INDIRECT(\"Fondo_Comun!H\" & SMALL(IF( Fondo_Comun!$H$12:$H$102 = \"\", \"\", ROW(Fondo_Comun!$H$12:$H$102)), ROW()-1)), \"\" )","v":""},{"$f":" IF( B155, SUM($E$2:E155), \"\" )","v":""}]
[null,{"$f":" COUNTIF(Fondo_Comun!$H$12:$H$102, \">0\") >= ROW() - 1","v":false},{"$f":" IF($B156, INDIRECT(\"Fondo_Comun!C\" & SMALL(IF( Fondo_Comun!$H$12:$H$102 = \"\", \"\", ROW(Fondo_Comun!$H$12:$H$102)), ROW()-1)), \"\" )","v":""},{"$f":" IF($B156, INDIRECT(\"Fondo_Comun!D\" & SMALL(IF( Fondo_Comun!$H$12:$H$102 = \"\", \"\", ROW(Fondo_Comun!$H$12:$H$102)), ROW()-1)), \"\" )","v":""},{"$f":" IF($B156, INDIRECT(\"Fondo_Comun!H\" & SMALL(IF( Fondo_Comun!$H$12:$H$102 = \"\", \"\", ROW(Fondo_Comun!$H$12:$H$102)), ROW()-1)), \"\" )","v":""},{"$f":" IF( B156, SUM($E$2:E156), \"\" )","v":""}]
[null,{"$f":" COUNTIF(Fondo_Comun!$H$12:$H$102, \">0\") >= ROW() - 1","v":false},{"$f":" IF($B157, INDIRECT(\"Fondo_Comun!C\" & SMALL(IF( Fondo_Comun!$H$12:$H$102 = \"\", \"\", ROW(Fondo_Comun!$H$12:$H$102)), ROW()-1)), \"\" )","v":""},{"$f":" IF($B157, INDIRECT(\"Fondo_Comun!D\" & SMALL(IF( Fondo_Comun!$H$12:$H$102 = \"\", \"\", ROW(Fondo_Comun!$H$12:$H$102)), ROW()-1)), \"\" )","v":""},{"$f":" IF($B157, INDIRECT(\"Fondo_Comun!H\" & SMALL(IF( Fondo_Comun!$H$12:$H$102 = \"\", \"\", ROW(Fondo_Comun!$H$12:$H$102)), ROW()-1)), \"\" )","v":""},{"$f":" IF( B157, SUM($E$2:E157), \"\" )","v":""}]
[null,{"$f":" COUNTIF(Fondo_Comun!$H$12:$H$102, \">0\") >= ROW() - 1","v":false},{"$f":" IF($B158, INDIRECT(\"Fondo_Comun!C\" & SMALL(IF( Fondo_Comun!$H$12:$H$102 = \"\", \"\", ROW(Fondo_Comun!$H$12:$H$102)), ROW()-1)), \"\" )","v":""},{"$f":" IF($B158, INDIRECT(\"Fondo_Comun!D\" & SMALL(IF( Fondo_Comun!$H$12:$H$102 = \"\", \"\", ROW(Fondo_Comun!$H$12:$H$102)), ROW()-1)), \"\" )","v":""},{"$f":" IF($B158, INDIRECT(\"Fondo_Comun!H\" & SMALL(IF( Fondo_Comun!$H$12:$H$102 = \"\", \"\", ROW(Fondo_Comun!$H$12:$H$102)), ROW()-1)), \"\" )","v":""},{"$f":" IF( B158, SUM($E$2:E158), \"\" )","v":""}]
[null,{"$f":" COUNTIF(Fondo_Comun!$H$12:$H$102, \">0\") >= ROW() - 1","v":false},{"$f":" IF($B159, INDIRECT(\"Fondo_Comun!C\" & SMALL(IF( Fondo_Comun!$H$12:$H$102 = \"\", \"\", ROW(Fondo_Comun!$H$12:$H$102)), ROW()-1)), \"\" )","v":""},{"$f":" IF($B159, INDIRECT(\"Fondo_Comun!D\" & SMALL(IF( Fondo_Comun!$H$12:$H$102 = \"\", \"\", ROW(Fondo_Comun!$H$12:$H$102)), ROW()-1)), \"\" )","v":""},{"$f":" IF($B159, INDIRECT(\"Fondo_Comun!H\" & SMALL(IF( Fondo_Comun!$H$12:$H$102 = \"\", \"\", ROW(Fondo_Comun!$H$12:$H$102)), ROW()-1)), \"\" )","v":""},{"$f":" IF( B159, SUM($E$2:E159), \"\" )","v":""}]
[null,{"$f":" COUNTIF(Fondo_Comun!$H$12:$H$102, \">0\") >= ROW() - 1","v":false},{"$f":" IF($B160, INDIRECT(\"Fondo_Comun!C\" & SMALL(IF( Fondo_Comun!$H$12:$H$102 = \"\", \"\", ROW(Fondo_Comun!$H$12:$H$102)), ROW()-1)), \"\" )","v":""},{"$f":" IF($B160, INDIRECT(\"Fondo_Comun!D\" & SMALL(IF( Fondo_Comun!$H$12:$H$102 = \"\", \"\", ROW(Fondo_Comun!$H$12:$H$102)), ROW()-1)), \"\" )","v":""},{"$f":" IF($B160, INDIRECT(\"Fondo_Comun!H\" & SMALL(IF( Fondo_Comun!$H$12:$H$102 = \"\", \"\", ROW(Fondo_Comun!$H$12:$H$102)), ROW()-1)), \"\" )","v":""},{"$f":" IF( B160, SUM($E$2:E160), \"\" )","v":""}]
[null,{"$f":" COUNTIF(Fondo_Comun!$H$12:$H$102, \">0\") >= ROW() - 1","v":false},{"$f":" IF($B161, INDIRECT(\"Fondo_Comun!C\" & SMALL(IF( Fondo_Comun!$H$12:$H$102 = \"\", \"\", ROW(Fondo_Comun!$H$12:$H$102)), ROW()-1)), \"\" )","v":""},{"$f":" IF($B161, INDIRECT(\"Fondo_Comun!D\" & SMALL(IF( Fondo_Comun!$H$12:$H$102 = \"\", \"\", ROW(Fondo_Comun!$H$12:$H$102)), ROW()-1)), \"\" )","v":""},{"$f":" IF($B161, INDIRECT(\"Fondo_Comun!H\" & SMALL(IF( Fondo_Comun!$H$12:$H$102 = \"\", \"\", ROW(Fondo_Comun!$H$12:$H$102)), ROW()-1)), \"\" )","v":""},{"$f":" IF( B161, SUM($E$2:E161), \"\" )","v":""}]
[null,{"$f":" COUNTIF(Fondo_Comun!$H$12:$H$102, \">0\") >= ROW() - 1","v":false},{"$f":" IF($B162, INDIRECT(\"Fondo_Comun!C\" & SMALL(IF( Fondo_Comun!$H$12:$H$102 = \"\", \"\", ROW(Fondo_Comun!$H$12:$H$102)), ROW()-1)), \"\" )","v":""},{"$f":" IF($B162, INDIRECT(\"Fondo_Comun!D\" & SMALL(IF( Fondo_Comun!$H$12:$H$102 = \"\", \"\", ROW(Fondo_Comun!$H$12:$H$102)), ROW()-1)), \"\" )","v":""},{"$f":" IF($B162, INDIRECT(\"Fondo_Comun!H\" & SMALL(IF( Fondo_Comun!$H$12:$H$102 = \"\", \"\", ROW(Fondo_Comun!$H$12:$H$102)), ROW()-1)), \"\" )","v":""},{"$f":" IF( B162, SUM($E$2:E162), \"\" )","v":""}]
[null,{"$f":" COUNTIF(Fondo_Comun!$H$12:$H$102, \">0\") >= ROW() - 1","v":false},{"$f":" IF($B163, INDIRECT(\"Fondo_Comun!C\" & SMALL(IF( Fondo_Comun!$H$12:$H$102 = \"\", \"\", ROW(Fondo_Comun!$H$12:$H$102)), ROW()-1)), \"\" )","v":""},{"$f":" IF($B163, INDIRECT(\"Fondo_Comun!D\" & SMALL(IF( Fondo_Comun!$H$12:$H$102 = \"\", \"\", ROW(Fondo_Comun!$H$12:$H$102)), ROW()-1)), \"\" )","v":""},{"$f":" IF($B163, INDIRECT(\"Fondo_Comun!H\" & SMALL(IF( Fondo_Comun!$H$12:$H$102 = \"\", \"\", ROW(Fondo_Comun!$H$12:$H$102)), ROW()-1)), \"\" )","v":""},{"$f":" IF( B163, SUM($E$2:E163), \"\" )","v":""}]
[null,{"$f":" COUNTIF(Fondo_Comun!$H$12:$H$102, \">0\") >= ROW() - 1","v":false},{"$f":" IF($B164, INDIRECT(\"Fondo_Comun!C\" & SMALL(IF( Fondo_Comun!$H$12:$H$102 = \"\", \"\", ROW(Fondo_Comun!$H$12:$H$102)), ROW()-1)), \"\" )","v":""},{"$f":" IF($B164, INDIRECT(\"Fondo_Comun!D\" & SMALL(IF( Fondo_Comun!$H$12:$H$102 = \"\", \"\", ROW(Fondo_Comun!$H$12:$H$102)), ROW()-1)), \"\" )","v":""},{"$f":" IF($B164, INDIRECT(\"Fondo_Comun!H\" & SMALL(IF( Fondo_Comun!$H$12:$H$102 = \"\", \"\", ROW(Fondo_Comun!$H$12:$H$102)), ROW()-1)), \"\" )","v":""},{"$f":" IF( B164, SUM($E$2:E164), \"\" )","v":""}]
[null,{"$f":" COUNTIF(Fondo_Comun!$H$12:$H$102, \">0\") >= ROW() - 1","v":false},{"$f":" IF($B165, INDIRECT(\"Fondo_Comun!C\" & SMALL(IF( Fondo_Comun!$H$12:$H$102 = \"\", \"\", ROW(Fondo_Comun!$H$12:$H$102)), ROW()-1)), \"\" )","v":""},{"$f":" IF($B165, INDIRECT(\"Fondo_Comun!D\" & SMALL(IF( Fondo_Comun!$H$12:$H$102 = \"\", \"\", ROW(Fondo_Comun!$H$12:$H$102)), ROW()-1)), \"\" )","v":""},{"$f":" IF($B165, INDIRECT(\"Fondo_Comun!H\" & SMALL(IF( Fondo_Comun!$H$12:$H$102 = \"\", \"\", ROW(Fondo_Comun!$H$12:$H$102)), ROW()-1)), \"\" )","v":""},{"$f":" IF( B165, SUM($E$2:E165), \"\" )","v":""}]
[null,{"$f":" COUNTIF(Fondo_Comun!$H$12:$H$102, \">0\") >= ROW() - 1","v":false},{"$f":" IF($B166, INDIRECT(\"Fondo_Comun!C\" & SMALL(IF( Fondo_Comun!$H$12:$H$102 = \"\", \"\", ROW(Fondo_Comun!$H$12:$H$102)), ROW()-1)), \"\" )","v":""},{"$f":" IF($B166, INDIRECT(\"Fondo_Comun!D\" & SMALL(IF( Fondo_Comun!$H$12:$H$102 = \"\", \"\", ROW(Fondo_Comun!$H$12:$H$102)), ROW()-1)), \"\" )","v":""},{"$f":" IF($B166, INDIRECT(\"Fondo_Comun!H\" & SMALL(IF( Fondo_Comun!$H$12:$H$102 = \"\", \"\", ROW(Fondo_Comun!$H$12:$H$102)), ROW()-1)), \"\" )","v":""},{"$f":" IF( B166, SUM($E$2:E166), \"\" )","v":""}]
[null,{"$f":" COUNTIF(Fondo_Comun!$H$12:$H$102, \">0\") >= ROW() - 1","v":false},{"$f":" IF($B167, INDIRECT(\"Fondo_Comun!C\" & SMALL(IF( Fondo_Comun!$H$12:$H$102 = \"\", \"\", ROW(Fondo_Comun!$H$12:$H$102)), ROW()-1)), \"\" )","v":""},{"$f":" IF($B167, INDIRECT(\"Fondo_Comun!D\" & SMALL(IF( Fondo_Comun!$H$12:$H$102 = \"\", \"\", ROW(Fondo_Comun!$H$12:$H$102)), ROW()-1)), \"\" )","v":""},{"$f":" IF($B167, INDIRECT(\"Fondo_Comun!H\" & SMALL(IF( Fondo_Comun!$H$12:$H$102 = \"\", \"\", ROW(Fondo_Comun!$H$12:$H$102)), ROW()-1)), \"\" )","v":""},{"$f":" IF( B167, SUM($E$2:E167), \"\" )","v":""}]
[null,{"$f":" COUNTIF(Fondo_Comun!$H$12:$H$102, \">0\") >= ROW() - 1","v":false},{"$f":" IF($B168, INDIRECT(\"Fondo_Comun!C\" & SMALL(IF( Fondo_Comun!$H$12:$H$102 = \"\", \"\", ROW(Fondo_Comun!$H$12:$H$102)), ROW()-1)), \"\" )","v":""},{"$f":" IF($B168, INDIRECT(\"Fondo_Comun!D\" & SMALL(IF( Fondo_Comun!$H$12:$H$102 = \"\", \"\", ROW(Fondo_Comun!$H$12:$H$102)), ROW()-1)), \"\" )","v":""},{"$f":" IF($B168, INDIRECT(\"Fondo_Comun!H\" & SMALL(IF( Fondo_Comun!$H$12:$H$102 = \"\", \"\", ROW(Fondo_Comun!$H$12:$H$102)), ROW()-1)), \"\" )","v":""},{"$f":" IF( B168, SUM($E$2:E168), \"\" )","v":""}]
[null,{"$f":" COUNTIF(Fondo_Comun!$H$12:$H$102, \">0\") >= ROW() - 1","v":false},{"$f":" IF($B169, INDIRECT(\"Fondo_Comun!C\" & SMALL(IF( Fondo_Comun!$H$12:$H$102 = \"\", \"\", ROW(Fondo_Comun!$H$12:$H$102)), ROW()-1)), \"\" )","v":""},{"$f":" IF($B169, INDIRECT(\"Fondo_Comun!D\" & SMALL(IF( Fondo_Comun!$H$12:$H$102 = \"\", \"\", ROW(Fondo_Comun!$H$12:$H$102)), ROW()-1)), \"\" )","v":""},{"$f":" IF($B169, INDIRECT(\"Fondo_Comun!H\" & SMALL(IF( Fondo_Comun!$H$12:$H$102 = \"\", \"\", ROW(Fondo_Comun!$H$12:$H$102)), ROW()-1)), \"\" )","v":""},{"$f":" IF( B169, SUM($E$2:E169), \"\" )","v":""}]
[null,{"$f":" COUNTIF(Fondo_Comun!$H$12:$H$102, \">0\") >= ROW() - 1","v":false},{"$f":" IF($B170, INDIRECT(\"Fondo_Comun!C\" & SMALL(IF( Fondo_Comun!$H$12:$H$102 = \"\", \"\", ROW(Fondo_Comun!$H$12:$H$102)), ROW()-1)), \"\" )","v":""},{"$f":" IF($B170, INDIRECT(\"Fondo_Comun!D\" & SMALL(IF( Fondo_Comun!$H$12:$H$102 = \"\", \"\", ROW(Fondo_Comun!$H$12:$H$102)), ROW()-1)), \"\" )","v":""},{"$f":" IF($B170, INDIRECT(\"Fondo_Comun!H\" & SMALL(IF( Fondo_Comun!$H$12:$H$102 = \"\", \"\", ROW(Fondo_Comun!$H$12:$H$102)), ROW()-1)), \"\" )","v":""},{"$f":" IF( B170, SUM($E$2:E170), \"\" )","v":""}]
[null,{"$f":" COUNTIF(Fondo_Comun!$H$12:$H$102, \">0\") >= ROW() - 1","v":false},{"$f":" IF($B171, INDIRECT(\"Fondo_Comun!C\" & SMALL(IF( Fondo_Comun!$H$12:$H$102 = \"\", \"\", ROW(Fondo_Comun!$H$12:$H$102)), ROW()-1)), \"\" )","v":""},{"$f":" IF($B171, INDIRECT(\"Fondo_Comun!D\" & SMALL(IF( Fondo_Comun!$H$12:$H$102 = \"\", \"\", ROW(Fondo_Comun!$H$12:$H$102)), ROW()-1)), \"\" )","v":""},{"$f":" IF($B171, INDIRECT(\"Fondo_Comun!H\" & SMALL(IF( Fondo_Comun!$H$12:$H$102 = \"\", \"\", ROW(Fondo_Comun!$H$12:$H$102)), ROW()-1)), \"\" )","v":""},{"$f":" IF( B171, SUM($E$2:E171), \"\" )","v":""}]
[null,{"$f":" COUNTIF(Fondo_Comun!$H$12:$H$102, \">0\") >= ROW() - 1","v":false},{"$f":" IF($B172, INDIRECT(\"Fondo_Comun!C\" & SMALL(IF( Fondo_Comun!$H$12:$H$102 = \"\", \"\", ROW(Fondo_Comun!$H$12:$H$102)), ROW()-1)), \"\" )","v":""},{"$f":" IF($B172, INDIRECT(\"Fondo_Comun!D\" & SMALL(IF( Fondo_Comun!$H$12:$H$102 = \"\", \"\", ROW(Fondo_Comun!$H$12:$H$102)), ROW()-1)), \"\" )","v":""},{"$f":" IF($B172, INDIRECT(\"Fondo_Comun!H\" & SMALL(IF( Fondo_Comun!$H$12:$H$102 = \"\", \"\", ROW(Fondo_Comun!$H$12:$H$102)), ROW()-1)), \"\" )","v":""},{"$f":" IF( B172, SUM($E$2:E172), \"\" )","v":""}]
[null,{"$f":" COUNTIF(Fondo_Comun!$H$12:$H$102, \">0\") >= ROW() - 1","v":false},{"$f":" IF($B173, INDIRECT(\"Fondo_Comun!C\" & SMALL(IF( Fondo_Comun!$H$12:$H$102 = \"\", \"\", ROW(Fondo_Comun!$H$12:$H$102)), ROW()-1)), \"\" )","v":""},{"$f":" IF($B173, INDIRECT(\"Fondo_Comun!D\" & SMALL(IF( Fondo_Comun!$H$12:$H$102 = \"\", \"\", ROW(Fondo_Comun!$H$12:$H$102)), ROW()-1)), \"\" )","v":""},{"$f":" IF($B173, INDIRECT(\"Fondo_Comun!H\" & SMALL(IF( Fondo_Comun!$H$12:$H$102 = \"\", \"\", ROW(Fondo_Comun!$H$12:$H$102)), ROW()-1)), \"\" )","v":""},{"$f":" IF( B173, SUM($E$2:E173), \"\" )","v":""}]
[null,{"$f":" COUNTIF(Fondo_Comun!$H$12:$H$102, \">0\") >= ROW() - 1","v":false},{"$f":" IF($B174, INDIRECT(\"Fondo_Comun!C\" & SMALL(IF( Fondo_Comun!$H$12:$H$102 = \"\", \"\", ROW(Fondo_Comun!$H$12:$H$102)), ROW()-1)), \"\" )","v":""},{"$f":" IF($B174, INDIRECT(\"Fondo_Comun!D\" & SMALL(IF( Fondo_Comun!$H$12:$H$102 = \"\", \"\", ROW(Fondo_Comun!$H$12:$H$102)), ROW()-1)), \"\" )","v":""},{"$f":" IF($B174, INDIRECT(\"Fondo_Comun!H\" & SMALL(IF( Fondo_Comun!$H$12:$H$102 = \"\", \"\", ROW(Fondo_Comun!$H$12:$H$102)), ROW()-1)), \"\" )","v":""},{"$f":" IF( B174, SUM($E$2:E174), \"\" )","v":""}]
[null,{"$f":" COUNTIF(Fondo_Comun!$H$12:$H$102, \">0\") >= ROW() - 1","v":false},{"$f":" IF($B175, INDIRECT(\"Fondo_Comun!C\" & SMALL(IF( Fondo_Comun!$H$12:$H$102 = \"\", \"\", ROW(Fondo_Comun!$H$12:$H$102)), ROW()-1)), \"\" )","v":""},{"$f":" IF($B175, INDIRECT(\"Fondo_Comun!D\" & SMALL(IF( Fondo_Comun!$H$12:$H$102 = \"\", \"\", ROW(Fondo_Comun!$H$12:$H$102)), ROW()-1)), \"\" )","v":""},{"$f":" IF($B175, INDIRECT(\"Fondo_Comun!H\" & SMALL(IF( Fondo_Comun!$H$12:$H$102 = \"\", \"\", ROW(Fondo_Comun!$H$12:$H$102)), ROW()-1)), \"\" )","v":""},{"$f":" IF( B175, SUM($E$2:E175), \"\" )","v":""}]
[null,{"$f":" COUNTIF(Fondo_Comun!$H$12:$H$102, \">0\") >= ROW() - 1","v":false},{"$f":" IF($B176, INDIRECT(\"Fondo_Comun!C\" & SMALL(IF( Fondo_Comun!$H$12:$H$102 = \"\", \"\", ROW(Fondo_Comun!$H$12:$H$102)), ROW()-1)), \"\" )","v":""},{"$f":" IF($B176, INDIRECT(\"Fondo_Comun!D\" & SMALL(IF( Fondo_Comun!$H$12:$H$102 = \"\", \"\", ROW(Fondo_Comun!$H$12:$H$102)), ROW()-1)), \"\" )","v":""},{"$f":" IF($B176, INDIRECT(\"Fondo_Comun!H\" & SMALL(IF( Fondo_Comun!$H$12:$H$102 = \"\", \"\", ROW(Fondo_Comun!$H$12:$H$102)), ROW()-1)), \"\" )","v":""},{"$f":" IF( B176, SUM($E$2:E176), \"\" )","v":""}]
[null,{"$f":" COUNTIF(Fondo_Comun!$H$12:$H$102, \">0\") >= ROW() - 1","v":false},{"$f":" IF($B177, INDIRECT(\"Fondo_Comun!C\" & SMALL(IF( Fondo_Comun!$H$12:$H$102 = \"\", \"\", ROW(Fondo_Comun!$H$12:$H$102)), ROW()-1)), \"\" )","v":""},{"$f":" IF($B177, INDIRECT(\"Fondo_Comun!D\" & SMALL(IF( Fondo_Comun!$H$12:$H$102 = \"\", \"\", ROW(Fondo_Comun!$H$12:$H$102)), ROW()-1)), \"\" )","v":""},{"$f":" IF($B177, INDIRECT(\"Fondo_Comun!H\" & SMALL(IF( Fondo_Comun!$H$12:$H$102 = \"\", \"\", ROW(Fondo_Comun!$H$12:$H$102)), ROW()-1)), \"\" )","v":""},{"$f":" IF( B177, SUM($E$2:E177), \"\" )","v":""}]
[null,{"$f":" COUNTIF(Fondo_Comun!$H$12:$H$102, \">0\") >= ROW() - 1","v":false},{"$f":" IF($B178, INDIRECT(\"Fondo_Comun!C\" & SMALL(IF( Fondo_Comun!$H$12:$H$102 = \"\", \"\", ROW(Fondo_Comun!$H$12:$H$102)), ROW()-1)), \"\" )","v":""},{"$f":" IF($B178, INDIRECT(\"Fondo_Comun!D\" & SMALL(IF( Fondo_Comun!$H$12:$H$102 = \"\", \"\", ROW(Fondo_Comun!$H$12:$H$102)), ROW()-1)), \"\" )","v":""},{"$f":" IF($B178, INDIRECT(\"Fondo_Comun!H\" & SMALL(IF( Fondo_Comun!$H$12:$H$102 = \"\", \"\", ROW(Fondo_Comun!$H$12:$H$102)), ROW()-1)), \"\" )","v":""},{"$f":" IF( B178, SUM($E$2:E178), \"\" )","v":""}]
[null,{"$f":" COUNTIF(Fondo_Comun!$H$12:$H$102, \">0\") >= ROW() - 1","v":false},{"$f":" IF($B179, INDIRECT(\"Fondo_Comun!C\" & SMALL(IF( Fondo_Comun!$H$12:$H$102 = \"\", \"\", ROW(Fondo_Comun!$H$12:$H$102)), ROW()-1)), \"\" )","v":""},{"$f":" IF($B179, INDIRECT(\"Fondo_Comun!D\" & SMALL(IF( Fondo_Comun!$H$12:$H$102 = \"\", \"\", ROW(Fondo_Comun!$H$12:$H$102)), ROW()-1)), \"\" )","v":""},{"$f":" IF($B179, INDIRECT(\"Fondo_Comun!H\" & SMALL(IF( Fondo_Comun!$H$12:$H$102 = \"\", \"\", ROW(Fondo_Comun!$H$12:$H$102)), ROW()-1)), \"\" )","v":""},{"$f":" IF( B179, SUM($E$2:E179), \"\" )","v":""}]
[null,{"$f":" COUNTIF(Fondo_Comun!$H$12:$H$102, \">0\") >= ROW() - 1","v":false},{"$f":" IF($B180, INDIRECT(\"Fondo_Comun!C\" & SMALL(IF( Fondo_Comun!$H$12:$H$102 = \"\", \"\", ROW(Fondo_Comun!$H$12:$H$102)), ROW()-1)), \"\" )","v":""},{"$f":" IF($B180, INDIRECT(\"Fondo_Comun!D\" & SMALL(IF( Fondo_Comun!$H$12:$H$102 = \"\", \"\", ROW(Fondo_Comun!$H$12:$H$102)), ROW()-1)), \"\" )","v":""},{"$f":" IF($B180, INDIRECT(\"Fondo_Comun!H\" & SMALL(IF( Fondo_Comun!$H$12:$H$102 = \"\", \"\", ROW(Fondo_Comun!$H$12:$H$102)), ROW()-1)), \"\" )","v":""},{"$f":" IF( B180, SUM($E$2:E180), \"\" )","v":""}]
[null,{"$f":" COUNTIF(Fondo_Comun!$H$12:$H$102, \">0\") >= ROW() - 1","v":false},{"$f":" IF($B181, INDIRECT(\"Fondo_Comun!C\" & SMALL(IF( Fondo_Comun!$H$12:$H$102 = \"\", \"\", ROW(Fondo_Comun!$H$12:$H$102)), ROW()-1)), \"\" )","v":""},{"$f":" IF($B181, INDIRECT(\"Fondo_Comun!D\" & SMALL(IF( Fondo_Comun!$H$12:$H$102 = \"\", \"\", ROW(Fondo_Comun!$H$12:$H$102)), ROW()-1)), \"\" )","v":""},{"$f":" IF($B181, INDIRECT(\"Fondo_Comun!H\" & SMALL(IF( Fondo_Comun!$H$12:$H$102 = \"\", \"\", ROW(Fondo_Comun!$H$12:$H$102)), ROW()-1)), \"\" )","v":""},{"$f":" IF( B181, SUM($E$2:E181), \"\" )","v":""}]
[null,{"$f":" COUNTIF(Fondo_Comun!$H$12:$H$102, \">0\") >= ROW() - 1","v":false},{"$f":" IF($B182, INDIRECT(\"Fondo_Comun!C\" & SMALL(IF( Fondo_Comun!$H$12:$H$102 = \"\", \"\", ROW(Fondo_Comun!$H$12:$H$102)), ROW()-1)), \"\" )","v":""},{"$f":" IF($B182, INDIRECT(\"Fondo_Comun!D\" & SMALL(IF( Fondo_Comun!$H$12:$H$102 = \"\", \"\", ROW(Fondo_Comun!$H$12:$H$102)), ROW()-1)), \"\" )","v":""},{"$f":" IF($B182, INDIRECT(\"Fondo_Comun!H\" & SMALL(IF( Fondo_Comun!$H$12:$H$102 = \"\", \"\", ROW(Fondo_Comun!$H$12:$H$102)), ROW()-1)), \"\" )","v":""},{"$f":" IF( B182, SUM($E$2:E182), \"\" )","v":""}]
[null,{"$f":" COUNTIF(Fondo_Comun!$H$12:$H$102, \">0\") >= ROW() - 1","v":false},{"$f":" IF($B183, INDIRECT(\"Fondo_Comun!C\" & SMALL(IF( Fondo_Comun!$H$12:$H$102 = \"\", \"\", ROW(Fondo_Comun!$H$12:$H$102)), ROW()-1)), \"\" )","v":""},{"$f":" IF($B183, INDIRECT(\"Fondo_Comun!D\" & SMALL(IF( Fondo_Comun!$H$12:$H$102 = \"\", \"\", ROW(Fondo_Comun!$H$12:$H$102)), ROW()-1)), \"\" )","v":""},{"$f":" IF($B183, INDIRECT(\"Fondo_Comun!H\" & SMALL(IF( Fondo_Comun!$H$12:$H$102 = \"\", \"\", ROW(Fondo_Comun!$H$12:$H$102)), ROW()-1)), \"\" )","v":""},{"$f":" IF( B183, SUM($E$2:E183), \"\" )","v":""}]
[null,{"$f":" COUNTIF(Fondo_Comun!$H$12:$H$102, \">0\") >= ROW() - 1","v":false},{"$f":" IF($B184, INDIRECT(\"Fondo_Comun!C\" & SMALL(IF( Fondo_Comun!$H$12:$H$102 = \"\", \"\", ROW(Fondo_Comun!$H$12:$H$102)), ROW()-1)), \"\" )","v":""},{"$f":" IF($B184, INDIRECT(\"Fondo_Comun!D\" & SMALL(IF( Fondo_Comun!$H$12:$H$102 = \"\", \"\", ROW(Fondo_Comun!$H$12:$H$102)), ROW()-1)), \"\" )","v":""},{"$f":" IF($B184, INDIRECT(\"Fondo_Comun!H\" & SMALL(IF( Fondo_Comun!$H$12:$H$102 = \"\", \"\", ROW(Fondo_Comun!$H$12:$H$102)), ROW()-1)), \"\" )","v":""},{"$f":" IF( B184, SUM($E$2:E184), \"\" )","v":""}]
[null,{"$f":" COUNTIF(Fondo_Comun!$H$12:$H$102, \">0\") >= ROW() - 1","v":false},{"$f":" IF($B185, INDIRECT(\"Fondo_Comun!C\" & SMALL(IF( Fondo_Comun!$H$12:$H$102 = \"\", \"\", ROW(Fondo_Comun!$H$12:$H$102)), ROW()-1)), \"\" )","v":""},{"$f":" IF($B185, INDIRECT(\"Fondo_Comun!D\" & SMALL(IF( Fondo_Comun!$H$12:$H$102 = \"\", \"\", ROW(Fondo_Comun!$H$12:$H$102)), ROW()-1)), \"\" )","v":""},{"$f":" IF($B185, INDIRECT(\"Fondo_Comun!H\" & SMALL(IF( Fondo_Comun!$H$12:$H$102 = \"\", \"\", ROW(Fondo_Comun!$H$12:$H$102)), ROW()-1)), \"\" )","v":""},{"$f":" IF( B185, SUM($E$2:E185), \"\" )","v":""}]
[null,{"$f":" COUNTIF(Fondo_Comun!$H$12:$H$102, \">0\") >= ROW() - 1","v":false},{"$f":" IF($B186, INDIRECT(\"Fondo_Comun!C\" & SMALL(IF( Fondo_Comun!$H$12:$H$102 = \"\", \"\", ROW(Fondo_Comun!$H$12:$H$102)), ROW()-1)), \"\" )","v":""},{"$f":" IF($B186, INDIRECT(\"Fondo_Comun!D\" & SMALL(IF( Fondo_Comun!$H$12:$H$102 = \"\", \"\", ROW(Fondo_Comun!$H$12:$H$102)), ROW()-1)), \"\" )","v":""},{"$f":" IF($B186, INDIRECT(\"Fondo_Comun!H\" & SMALL(IF( Fondo_Comun!$H$12:$H$102 = \"\", \"\", ROW(Fondo_Comun!$H$12:$H$102)), ROW()-1)), \"\" )","v":""},{"$f":" IF( B186, SUM($E$2:E186), \"\" )","v":""}]
[null,{"$f":" COUNTIF(Fondo_Comun!$H$12:$H$102, \">0\") >= ROW() - 1","v":false},{"$f":" IF($B187, INDIRECT(\"Fondo_Comun!C\" & SMALL(IF( Fondo_Comun!$H$12:$H$102 = \"\", \"\", ROW(Fondo_Comun!$H$12:$H$102)), ROW()-1)), \"\" )","v":""},{"$f":" IF($B187, INDIRECT(\"Fondo_Comun!D\" & SMALL(IF( Fondo_Comun!$H$12:$H$102 = \"\", \"\", ROW(Fondo_Comun!$H$12:$H$102)), ROW()-1)), \"\" )","v":""},{"$f":" IF($B187, INDIRECT(\"Fondo_Comun!H\" & SMALL(IF( Fondo_Comun!$H$12:$H$102 = \"\", \"\", ROW(Fondo_Comun!$H$12:$H$102)), ROW()-1)), \"\" )","v":""},{"$f":" IF( B187, SUM($E$2:E187), \"\" )","v":""}]
[null,{"$f":" COUNTIF(Fondo_Comun!$H$12:$H$102, \">0\") >= ROW() - 1","v":false},{"$f":" IF($B188, INDIRECT(\"Fondo_Comun!C\" & SMALL(IF( Fondo_Comun!$H$12:$H$102 = \"\", \"\", ROW(Fondo_Comun!$H$12:$H$102)), ROW()-1)), \"\" )","v":""},{"$f":" IF($B188, INDIRECT(\"Fondo_Comun!D\" & SMALL(IF( Fondo_Comun!$H$12:$H$102 = \"\", \"\", ROW(Fondo_Comun!$H$12:$H$102)), ROW()-1)), \"\" )","v":""},{"$f":" IF($B188, INDIRECT(\"Fondo_Comun!H\" & SMALL(IF( Fondo_Comun!$H$12:$H$102 = \"\", \"\", ROW(Fondo_Comun!$H$12:$H$102)), ROW()-1)), \"\" )","v":""},{"$f":" IF( B188, SUM($E$2:E188), \"\" )","v":""}]
[null,{"$f":" COUNTIF(Fondo_Comun!$H$12:$H$102, \">0\") >= ROW() - 1","v":false},{"$f":" IF($B189, INDIRECT(\"Fondo_Comun!C\" & SMALL(IF( Fondo_Comun!$H$12:$H$102 = \"\", \"\", ROW(Fondo_Comun!$H$12:$H$102)), ROW()-1)), \"\" )","v":""},{"$f":" IF($B189, INDIRECT(\"Fondo_Comun!D\" & SMALL(IF( Fondo_Comun!$H$12:$H$102 = \"\", \"\", ROW(Fondo_Comun!$H$12:$H$102)), ROW()-1)), \"\" )","v":""},{"$f":" IF($B189, INDIRECT(\"Fondo_Comun!H\" & SMALL(IF( Fondo_Comun!$H$12:$H$102 = \"\", \"\", ROW(Fondo_Comun!$H$12:$H$102)), ROW()-1)), \"\" )","v":""},{"$f":" IF( B189, SUM($E$2:E189), \"\" )","v":""}]
[null,{"$f":" COUNTIF(Fondo_Comun!$H$12:$H$102, \">0\") >= ROW() - 1","v":false},{"$f":" IF($B190, INDIRECT(\"Fondo_Comun!C\" & SMALL(IF( Fondo_Comun!$H$12:$H$102 = \"\", \"\", ROW(Fondo_Comun!$H$12:$H$102)), ROW()-1)), \"\" )","v":""},{"$f":" IF($B190, INDIRECT(\"Fondo_Comun!D\" & SMALL(IF( Fondo_Comun!$H$12:$H$102 = \"\", \"\", ROW(Fondo_Comun!$H$12:$H$102)), ROW()-1)), \"\" )","v":""},{"$f":" IF($B190, INDIRECT(\"Fondo_Comun!H\" & SMALL(IF( Fondo_Comun!$H$12:$H$102 = \"\", \"\", ROW(Fondo_Comun!$H$12:$H$102)), ROW()-1)), \"\" )","v":""},{"$f":" IF( B190, SUM($E$2:E190), \"\" )","v":""}]
[null,{"$f":" COUNTIF(Fondo_Comun!$H$12:$H$102, \">0\") >= ROW() - 1","v":false},{"$f":" IF($B191, INDIRECT(\"Fondo_Comun!C\" & SMALL(IF( Fondo_Comun!$H$12:$H$102 = \"\", \"\", ROW(Fondo_Comun!$H$12:$H$102)), ROW()-1)), \"\" )","v":""},{"$f":" IF($B191, INDIRECT(\"Fondo_Comun!D\" & SMALL(IF( Fondo_Comun!$H$12:$H$102 = \"\", \"\", ROW(Fondo_Comun!$H$12:$H$102)), ROW()-1)), \"\" )","v":""},{"$f":" IF($B191, INDIRECT(\"Fondo_Comun!H\" & SMALL(IF( Fondo_Comun!$H$12:$H$102 = \"\", \"\", ROW(Fondo_Comun!$H$12:$H$102)), ROW()-1)), \"\" )","v":""},{"$f":" IF( B191, SUM($E$2:E191), \"\" )","v":""}]
[null,{"$f":" COUNTIF(Fondo_Comun!$H$12:$H$102, \">0\") >= ROW() - 1","v":false},{"$f":" IF($B192, INDIRECT(\"Fondo_Comun!C\" & SMALL(IF( Fondo_Comun!$H$12:$H$102 = \"\", \"\", ROW(Fondo_Comun!$H$12:$H$102)), ROW()-1)), \"\" )","v":""},{"$f":" IF($B192, INDIRECT(\"Fondo_Comun!D\" & SMALL(IF( Fondo_Comun!$H$12:$H$102 = \"\", \"\", ROW(Fondo_Comun!$H$12:$H$102)), ROW()-1)), \"\" )","v":""},{"$f":" IF($B192, INDIRECT(\"Fondo_Comun!H\" & SMALL(IF( Fondo_Comun!$H$12:$H$102 = \"\", \"\", ROW(Fondo_Comun!$H$12:$H$102)), ROW()-1)), \"\" )","v":""},{"$f":" IF( B192, SUM($E$2:E192), \"\" )","v":""}]
[null,{"$f":" COUNTIF(Fondo_Comun!$H$12:$H$102, \">0\") >= ROW() - 1","v":false},{"$f":" IF($B193, INDIRECT(\"Fondo_Comun!C\" & SMALL(IF( Fondo_Comun!$H$12:$H$102 = \"\", \"\", ROW(Fondo_Comun!$H$12:$H$102)), ROW()-1)), \"\" )","v":""},{"$f":" IF($B193, INDIRECT(\"Fondo_Comun!D\" & SMALL(IF( Fondo_Comun!$H$12:$H$102 = \"\", \"\", ROW(Fondo_Comun!$H$12:$H$102)), ROW()-1)), \"\" )","v":""},{"$f":" IF($B193, INDIRECT(\"Fondo_Comun!H\" & SMALL(IF( Fondo_Comun!$H$12:$H$102 = \"\", \"\", ROW(Fondo_Comun!$H$12:$H$102)), ROW()-1)), \"\" )","v":""},{"$f":" IF( B193, SUM($E$2:E193), \"\" )","v":""}]
[null,{"$f":" COUNTIF(Fondo_Comun!$H$12:$H$102, \">0\") >= ROW() - 1","v":false},{"$f":" IF($B194, INDIRECT(\"Fondo_Comun!C\" & SMALL(IF( Fondo_Comun!$H$12:$H$102 = \"\", \"\", ROW(Fondo_Comun!$H$12:$H$102)), ROW()-1)), \"\" )","v":""},{"$f":" IF($B194, INDIRECT(\"Fondo_Comun!D\" & SMALL(IF( Fondo_Comun!$H$12:$H$102 = \"\", \"\", ROW(Fondo_Comun!$H$12:$H$102)), ROW()-1)), \"\" )","v":""},{"$f":" IF($B194, INDIRECT(\"Fondo_Comun!H\" & SMALL(IF( Fondo_Comun!$H$12:$H$102 = \"\", \"\", ROW(Fondo_Comun!$H$12:$H$102)), ROW()-1)), \"\" )","v":""},{"$f":" IF( B194, SUM($E$2:E194), \"\" )","v":""}]
[null,{"$f":" COUNTIF(Fondo_Comun!$H$12:$H$102, \">0\") >= ROW() - 1","v":false},{"$f":" IF($B195, INDIRECT(\"Fondo_Comun!C\" & SMALL(IF( Fondo_Comun!$H$12:$H$102 = \"\", \"\", ROW(Fondo_Comun!$H$12:$H$102)), ROW()-1)), \"\" )","v":""},{"$f":" IF($B195, INDIRECT(\"Fondo_Comun!D\" & SMALL(IF( Fondo_Comun!$H$12:$H$102 = \"\", \"\", ROW(Fondo_Comun!$H$12:$H$102)), ROW()-1)), \"\" )","v":""},{"$f":" IF($B195, INDIRECT(\"Fondo_Comun!H\" & SMALL(IF( Fondo_Comun!$H$12:$H$102 = \"\", \"\", ROW(Fondo_Comun!$H$12:$H$102)), ROW()-1)), \"\" )","v":""},{"$f":" IF( B195, SUM($E$2:E195), \"\" )","v":""}]
[null,{"$f":" COUNTIF(Fondo_Comun!$H$12:$H$102, \">0\") >= ROW() - 1","v":false},{"$f":" IF($B196, INDIRECT(\"Fondo_Comun!C\" & SMALL(IF( Fondo_Comun!$H$12:$H$102 = \"\", \"\", ROW(Fondo_Comun!$H$12:$H$102)), ROW()-1)), \"\" )","v":""},{"$f":" IF($B196, INDIRECT(\"Fondo_Comun!D\" & SMALL(IF( Fondo_Comun!$H$12:$H$102 = \"\", \"\", ROW(Fondo_Comun!$H$12:$H$102)), ROW()-1)), \"\" )","v":""},{"$f":" IF($B196, INDIRECT(\"Fondo_Comun!H\" & SMALL(IF( Fondo_Comun!$H$12:$H$102 = \"\", \"\", ROW(Fondo_Comun!$H$12:$H$102)), ROW()-1)), \"\" )","v":""},{"$f":" IF( B196, SUM($E$2:E196), \"\" )","v":""}]
[null,{"$f":" COUNTIF(Fondo_Comun!$H$12:$H$102, \">0\") >= ROW() - 1","v":false},{"$f":" IF($B197, INDIRECT(\"Fondo_Comun!C\" & SMALL(IF( Fondo_Comun!$H$12:$H$102 = \"\", \"\", ROW(Fondo_Comun!$H$12:$H$102)), ROW()-1)), \"\" )","v":""},{"$f":" IF($B197, INDIRECT(\"Fondo_Comun!D\" & SMALL(IF( Fondo_Comun!$H$12:$H$102 = \"\", \"\", ROW(Fondo_Comun!$H$12:$H$102)), ROW()-1)), \"\" )","v":""},{"$f":" IF($B197, INDIRECT(\"Fondo_Comun!H\" & SMALL(IF( Fondo_Comun!$H$12:$H$102 = \"\", \"\", ROW(Fondo_Comun!$H$12:$H$102)), ROW()-1)), \"\" )","v":""},{"$f":" IF( B197, SUM($E$2:E197), \"\" )","v":""}]
[null,{"$f":" COUNTIF(Fondo_Comun!$H$12:$H$102, \">0\") >= ROW() - 1","v":false},{"$f":" IF($B198, INDIRECT(\"Fondo_Comun!C\" & SMALL(IF( Fondo_Comun!$H$12:$H$102 = \"\", \"\", ROW(Fondo_Comun!$H$12:$H$102)), ROW()-1)), \"\" )","v":""},{"$f":" IF($B198, INDIRECT(\"Fondo_Comun!D\" & SMALL(IF( Fondo_Comun!$H$12:$H$102 = \"\", \"\", ROW(Fondo_Comun!$H$12:$H$102)), ROW()-1)), \"\" )","v":""},{"$f":" IF($B198, INDIRECT(\"Fondo_Comun!H\" & SMALL(IF( Fondo_Comun!$H$12:$H$102 = \"\", \"\", ROW(Fondo_Comun!$H$12:$H$102)), ROW()-1)), \"\" )","v":""},{"$f":" IF( B198, SUM($E$2:E198), \"\" )","v":""}]
[null,{"$f":" COUNTIF(Fondo_Comun!$H$12:$H$102, \">0\") >= ROW() - 1","v":false},{"$f":" IF($B199, INDIRECT(\"Fondo_Comun!C\" & SMALL(IF( Fondo_Comun!$H$12:$H$102 = \"\", \"\", ROW(Fondo_Comun!$H$12:$H$102)), ROW()-1)), \"\" )","v":""},{"$f":" IF($B199, INDIRECT(\"Fondo_Comun!D\" & SMALL(IF( Fondo_Comun!$H$12:$H$102 = \"\", \"\", ROW(Fondo_Comun!$H$12:$H$102)), ROW()-1)), \"\" )","v":""},{"$f":" IF($B199, INDIRECT(\"Fondo_Comun!H\" & SMALL(IF( Fondo_Comun!$H$12:$H$102 = \"\", \"\", ROW(Fondo_Comun!$H$12:$H$102)), ROW()-1)), \"\" )","v":""},{"$f":" IF( B199, SUM($E$2:E199), \"\" )","v":""}]
[null,{"$f":" COUNTIF(Fondo_Comun!$H$12:$H$102, \">0\") >= ROW() - 1","v":false},{"$f":" IF($B200, INDIRECT(\"Fondo_Comun!C\" & SMALL(IF( Fondo_Comun!$H$12:$H$102 = \"\", \"\", ROW(Fondo_Comun!$H$12:$H$102)), ROW()-1)), \"\" )","v":""},{"$f":" IF($B200, INDIRECT(\"Fondo_Comun!D\" & SMALL(IF( Fondo_Comun!$H$12:$H$102 = \"\", \"\", ROW(Fondo_Comun!$H$12:$H$102)), ROW()-1)), \"\" )","v":""},{"$f":" IF($B200, INDIRECT(\"Fondo_Comun!H\" & SMALL(IF( Fondo_Comun!$H$12:$H$102 = \"\", \"\", ROW(Fondo_Comun!$H$12:$H$102)), ROW()-1)), \"\" )","v":""},{"$f":" IF( B200, SUM($E$2:E200), \"\" )","v":""}]
[null,{"$f":" COUNTIF(Fondo_Comun!$H$12:$H$102, \">0\") >= ROW() - 1","v":false},{"$f":" IF($B201, INDIRECT(\"Fondo_Comun!C\" & SMALL(IF( Fondo_Comun!$H$12:$H$102 = \"\", \"\", ROW(Fondo_Comun!$H$12:$H$102)), ROW()-1)), \"\" )","v":""},{"$f":" IF($B201, INDIRECT(\"Fondo_Comun!D\" & SMALL(IF( Fondo_Comun!$H$12:$H$102 = \"\", \"\", ROW(Fondo_Comun!$H$12:$H$102)), ROW()-1)), \"\" )","v":""},{"$f":" IF($B201, INDIRECT(\"Fondo_Comun!H\" & SMALL(IF( Fondo_Comun!$H$12:$H$102 = \"\", \"\", ROW(Fondo_Comun!$H$12:$H$102)), ROW()-1)), \"\" )","v":""},{"$f":" IF( B201, SUM($E$2:E201), \"\" )","v":""}]
[null,{"$f":" COUNTIF(Fondo_Comun!$H$12:$H$102, \">0\") >= ROW() - 1","v":false},{"$f":" IF($B202, INDIRECT(\"Fondo_Comun!C\" & SMALL(IF( Fondo_Comun!$H$12:$H$102 = \"\", \"\", ROW(Fondo_Comun!$H$12:$H$102)), ROW()-1)), \"\" )","v":""},{"$f":" IF($B202, INDIRECT(\"Fondo_Comun!D\" & SMALL(IF( Fondo_Comun!$H$12:$H$102 = \"\", \"\", ROW(Fondo_Comun!$H$12:$H$102)), ROW()-1)), \"\" )","v":""},{"$f":" IF($B202, INDIRECT(\"Fondo_Comun!H\" & SMALL(IF( Fondo_Comun!$H$12:$H$102 = \"\", \"\", ROW(Fondo_Comun!$H$12:$H$102)), ROW()-1)), \"\" )","v":""},{"$f":" IF( B202, SUM($E$2:E202), \"\" )","v":""}]
[null,{"$f":" COUNTIF(Fondo_Comun!$H$12:$H$102, \">0\") >= ROW() - 1","v":false},{"$f":" IF($B203, INDIRECT(\"Fondo_Comun!C\" & SMALL(IF( Fondo_Comun!$H$12:$H$102 = \"\", \"\", ROW(Fondo_Comun!$H$12:$H$102)), ROW()-1)), \"\" )","v":""},{"$f":" IF($B203, INDIRECT(\"Fondo_Comun!D\" & SMALL(IF( Fondo_Comun!$H$12:$H$102 = \"\", \"\", ROW(Fondo_Comun!$H$12:$H$102)), ROW()-1)), \"\" )","v":""},{"$f":" IF($B203, INDIRECT(\"Fondo_Comun!H\" & SMALL(IF( Fondo_Comun!$H$12:$H$102 = \"\", \"\", ROW(Fondo_Comun!$H$12:$H$102)), ROW()-1)), \"\" )","v":""},{"$f":" IF( B203, SUM($E$2:E203), \"\" )","v":""}]
[null,{"$f":" COUNTIF(Fondo_Comun!$H$12:$H$102, \">0\") >= ROW() - 1","v":false},{"$f":" IF($B204, INDIRECT(\"Fondo_Comun!C\" & SMALL(IF( Fondo_Comun!$H$12:$H$102 = \"\", \"\", ROW(Fondo_Comun!$H$12:$H$102)), ROW()-1)), \"\" )","v":""},{"$f":" IF($B204, INDIRECT(\"Fondo_Comun!D\" & SMALL(IF( Fondo_Comun!$H$12:$H$102 = \"\", \"\", ROW(Fondo_Comun!$H$12:$H$102)), ROW()-1)), \"\" )","v":""},{"$f":" IF($B204, INDIRECT(\"Fondo_Comun!H\" & SMALL(IF( Fondo_Comun!$H$12:$H$102 = \"\", \"\", ROW(Fondo_Comun!$H$12:$H$102)), ROW()-1)), \"\" )","v":""},{"$f":" IF( B204, SUM($E$2:E204), \"\" )","v":""}]
[null,{"$f":" COUNTIF(Fondo_Comun!$H$12:$H$102, \">0\") >= ROW() - 1","v":false},{"$f":" IF($B205, INDIRECT(\"Fondo_Comun!C\" & SMALL(IF( Fondo_Comun!$H$12:$H$102 = \"\", \"\", ROW(Fondo_Comun!$H$12:$H$102)), ROW()-1)), \"\" )","v":""},{"$f":" IF($B205, INDIRECT(\"Fondo_Comun!D\" & SMALL(IF( Fondo_Comun!$H$12:$H$102 = \"\", \"\", ROW(Fondo_Comun!$H$12:$H$102)), ROW()-1)), \"\" )","v":""},{"$f":" IF($B205, INDIRECT(\"Fondo_Comun!H\" & SMALL(IF( Fondo_Comun!$H$12:$H$102 = \"\", \"\", ROW(Fondo_Comun!$H$12:$H$102)), ROW()-1)), \"\" )","v":""},{"$f":" IF( B205, SUM($E$2:E205), \"\" )","v":""}]
[null,{"$f":" COUNTIF(Fondo_Comun!$H$12:$H$102, \">0\") >= ROW() - 1","v":false},{"$f":" IF($B206, INDIRECT(\"Fondo_Comun!C\" & SMALL(IF( Fondo_Comun!$H$12:$H$102 = \"\", \"\", ROW(Fondo_Comun!$H$12:$H$102)), ROW()-1)), \"\" )","v":""},{"$f":" IF($B206, INDIRECT(\"Fondo_Comun!D\" & SMALL(IF( Fondo_Comun!$H$12:$H$102 = \"\", \"\", ROW(Fondo_Comun!$H$12:$H$102)), ROW()-1)), \"\" )","v":""},{"$f":" IF($B206, INDIRECT(\"Fondo_Comun!H\" & SMALL(IF( Fondo_Comun!$H$12:$H$102 = \"\", \"\", ROW(Fondo_Comun!$H$12:$H$102)), ROW()-1)), \"\" )","v":""},{"$f":" IF( B206, SUM($E$2:E206), \"\" )","v":""}]
[null,{"$f":" COUNTIF(Fondo_Comun!$H$12:$H$102, \">0\") >= ROW() - 1","v":false},{"$f":" IF($B207, INDIRECT(\"Fondo_Comun!C\" & SMALL(IF( Fondo_Comun!$H$12:$H$102 = \"\", \"\", ROW(Fondo_Comun!$H$12:$H$102)), ROW()-1)), \"\" )","v":""},{"$f":" IF($B207, INDIRECT(\"Fondo_Comun!D\" & SMALL(IF( Fondo_Comun!$H$12:$H$102 = \"\", \"\", ROW(Fondo_Comun!$H$12:$H$102)), ROW()-1)), \"\" )","v":""},{"$f":" IF($B207, INDIRECT(\"Fondo_Comun!H\" & SMALL(IF( Fondo_Comun!$H$12:$H$102 = \"\", \"\", ROW(Fondo_Comun!$H$12:$H$102)), ROW()-1)), \"\" )","v":""},{"$f":" IF( B207, SUM($E$2:E207), \"\" )","v":""}]
[null,{"$f":" COUNTIF(Fondo_Comun!$H$12:$H$102, \">0\") >= ROW() - 1","v":false},{"$f":" IF($B208, INDIRECT(\"Fondo_Comun!C\" & SMALL(IF( Fondo_Comun!$H$12:$H$102 = \"\", \"\", ROW(Fondo_Comun!$H$12:$H$102)), ROW()-1)), \"\" )","v":""},{"$f":" IF($B208, INDIRECT(\"Fondo_Comun!D\" & SMALL(IF( Fondo_Comun!$H$12:$H$102 = \"\", \"\", ROW(Fondo_Comun!$H$12:$H$102)), ROW()-1)), \"\" )","v":""},{"$f":" IF($B208, INDIRECT(\"Fondo_Comun!H\" & SMALL(IF( Fondo_Comun!$H$12:$H$102 = \"\", \"\", ROW(Fondo_Comun!$H$12:$H$102)), ROW()-1)), \"\" )","v":""},{"$f":" IF( B208, SUM($E$2:E208), \"\" )","v":""}]
[null,{"$f":" COUNTIF(Fondo_Comun!$H$12:$H$102, \">0\") >= ROW() - 1","v":false},{"$f":" IF($B209, INDIRECT(\"Fondo_Comun!C\" & SMALL(IF( Fondo_Comun!$H$12:$H$102 = \"\", \"\", ROW(Fondo_Comun!$H$12:$H$102)), ROW()-1)), \"\" )","v":""},{"$f":" IF($B209, INDIRECT(\"Fondo_Comun!D\" & SMALL(IF( Fondo_Comun!$H$12:$H$102 = \"\", \"\", ROW(Fondo_Comun!$H$12:$H$102)), ROW()-1)), \"\" )","v":""},{"$f":" IF($B209, INDIRECT(\"Fondo_Comun!H\" & SMALL(IF( Fondo_Comun!$H$12:$H$102 = \"\", \"\", ROW(Fondo_Comun!$H$12:$H$102)), ROW()-1)), \"\" )","v":""},{"$f":" IF( B209, SUM($E$2:E209), \"\" )","v":""}]
[null,{"$f":" COUNTIF(Fondo_Comun!$H$12:$H$102, \">0\") >= ROW() - 1","v":false},{"$f":" IF($B210, INDIRECT(\"Fondo_Comun!C\" & SMALL(IF( Fondo_Comun!$H$12:$H$102 = \"\", \"\", ROW(Fondo_Comun!$H$12:$H$102)), ROW()-1)), \"\" )","v":""},{"$f":" IF($B210, INDIRECT(\"Fondo_Comun!D\" & SMALL(IF( Fondo_Comun!$H$12:$H$102 = \"\", \"\", ROW(Fondo_Comun!$H$12:$H$102)), ROW()-1)), \"\" )","v":""},{"$f":" IF($B210, INDIRECT(\"Fondo_Comun!H\" & SMALL(IF( Fondo_Comun!$H$12:$H$102 = \"\", \"\", ROW(Fondo_Comun!$H$12:$H$102)), ROW()-1)), \"\" )","v":""},{"$f":" IF( B210, SUM($E$2:E210), \"\" )","v":""}]
[null,{"$f":" COUNTIF(Fondo_Comun!$H$12:$H$102, \">0\") >= ROW() - 1","v":false},{"$f":" IF($B211, INDIRECT(\"Fondo_Comun!C\" & SMALL(IF( Fondo_Comun!$H$12:$H$102 = \"\", \"\", ROW(Fondo_Comun!$H$12:$H$102)), ROW()-1)), \"\" )","v":""},{"$f":" IF($B211, INDIRECT(\"Fondo_Comun!D\" & SMALL(IF( Fondo_Comun!$H$12:$H$102 = \"\", \"\", ROW(Fondo_Comun!$H$12:$H$102)), ROW()-1)), \"\" )","v":""},{"$f":" IF($B211, INDIRECT(\"Fondo_Comun!H\" & SMALL(IF( Fondo_Comun!$H$12:$H$102 = \"\", \"\", ROW(Fondo_Comun!$H$12:$H$102)), ROW()-1)), \"\" )","v":""},{"$f":" IF( B211, SUM($E$2:E211), \"\" )","v":""}]
[null,{"$f":" COUNTIF(Fondo_Comun!$H$12:$H$102, \">0\") >= ROW() - 1","v":false},{"$f":" IF($B212, INDIRECT(\"Fondo_Comun!C\" & SMALL(IF( Fondo_Comun!$H$12:$H$102 = \"\", \"\", ROW(Fondo_Comun!$H$12:$H$102)), ROW()-1)), \"\" )","v":""},{"$f":" IF($B212, INDIRECT(\"Fondo_Comun!D\" & SMALL(IF( Fondo_Comun!$H$12:$H$102 = \"\", \"\", ROW(Fondo_Comun!$H$12:$H$102)), ROW()-1)), \"\" )","v":""},{"$f":" IF($B212, INDIRECT(\"Fondo_Comun!H\" & SMALL(IF( Fondo_Comun!$H$12:$H$102 = \"\", \"\", ROW(Fondo_Comun!$H$12:$H$102)), ROW()-1)), \"\" )","v":""},{"$f":" IF( B212, SUM($E$2:E212), \"\" )","v":""}]
[null,{"$f":" COUNTIF(Fondo_Comun!$H$12:$H$102, \">0\") >= ROW() - 1","v":false},{"$f":" IF($B213, INDIRECT(\"Fondo_Comun!C\" & SMALL(IF( Fondo_Comun!$H$12:$H$102 = \"\", \"\", ROW(Fondo_Comun!$H$12:$H$102)), ROW()-1)), \"\" )","v":""},{"$f":" IF($B213, INDIRECT(\"Fondo_Comun!D\" & SMALL(IF( Fondo_Comun!$H$12:$H$102 = \"\", \"\", ROW(Fondo_Comun!$H$12:$H$102)), ROW()-1)), \"\" )","v":""},{"$f":" IF($B213, INDIRECT(\"Fondo_Comun!H\" & SMALL(IF( Fondo_Comun!$H$12:$H$102 = \"\", \"\", ROW(Fondo_Comun!$H$12:$H$102)), ROW()-1)), \"\" )","v":""},{"$f":" IF( B213, SUM($E$2:E213), \"\" )","v":""}]
[null,{"$f":" COUNTIF(Fondo_Comun!$H$12:$H$102, \">0\") >= ROW() - 1","v":false},{"$f":" IF($B214, INDIRECT(\"Fondo_Comun!C\" & SMALL(IF( Fondo_Comun!$H$12:$H$102 = \"\", \"\", ROW(Fondo_Comun!$H$12:$H$102)), ROW()-1)), \"\" )","v":""},{"$f":" IF($B214, INDIRECT(\"Fondo_Comun!D\" & SMALL(IF( Fondo_Comun!$H$12:$H$102 = \"\", \"\", ROW(Fondo_Comun!$H$12:$H$102)), ROW()-1)), \"\" )","v":""},{"$f":" IF($B214, INDIRECT(\"Fondo_Comun!H\" & SMALL(IF( Fondo_Comun!$H$12:$H$102 = \"\", \"\", ROW(Fondo_Comun!$H$12:$H$102)), ROW()-1)), \"\" )","v":""},{"$f":" IF( B214, SUM($E$2:E214), \"\" )","v":""}]
[null,{"$f":" COUNTIF(Fondo_Comun!$H$12:$H$102, \">0\") >= ROW() - 1","v":false},{"$f":" IF($B215, INDIRECT(\"Fondo_Comun!C\" & SMALL(IF( Fondo_Comun!$H$12:$H$102 = \"\", \"\", ROW(Fondo_Comun!$H$12:$H$102)), ROW()-1)), \"\" )","v":""},{"$f":" IF($B215, INDIRECT(\"Fondo_Comun!D\" & SMALL(IF( Fondo_Comun!$H$12:$H$102 = \"\", \"\", ROW(Fondo_Comun!$H$12:$H$102)), ROW()-1)), \"\" )","v":""},{"$f":" IF($B215, INDIRECT(\"Fondo_Comun!H\" & SMALL(IF( Fondo_Comun!$H$12:$H$102 = \"\", \"\", ROW(Fondo_Comun!$H$12:$H$102)), ROW()-1)), \"\" )","v":""},{"$f":" IF( B215, SUM($E$2:E215), \"\" )","v":""}]
[null,{"$f":" COUNTIF(Fondo_Comun!$H$12:$H$102, \">0\") >= ROW() - 1","v":false},{"$f":" IF($B216, INDIRECT(\"Fondo_Comun!C\" & SMALL(IF( Fondo_Comun!$H$12:$H$102 = \"\", \"\", ROW(Fondo_Comun!$H$12:$H$102)), ROW()-1)), \"\" )","v":""},{"$f":" IF($B216, INDIRECT(\"Fondo_Comun!D\" & SMALL(IF( Fondo_Comun!$H$12:$H$102 = \"\", \"\", ROW(Fondo_Comun!$H$12:$H$102)), ROW()-1)), \"\" )","v":""},{"$f":" IF($B216, INDIRECT(\"Fondo_Comun!H\" & SMALL(IF( Fondo_Comun!$H$12:$H$102 = \"\", \"\", ROW(Fondo_Comun!$H$12:$H$102)), ROW()-1)), \"\" )","v":""},{"$f":" IF( B216, SUM($E$2:E216), \"\" )","v":""}]
[null,{"$f":" COUNTIF(Fondo_Comun!$H$12:$H$102, \">0\") >= ROW() - 1","v":false},{"$f":" IF($B217, INDIRECT(\"Fondo_Comun!C\" & SMALL(IF( Fondo_Comun!$H$12:$H$102 = \"\", \"\", ROW(Fondo_Comun!$H$12:$H$102)), ROW()-1)), \"\" )","v":""},{"$f":" IF($B217, INDIRECT(\"Fondo_Comun!D\" & SMALL(IF( Fondo_Comun!$H$12:$H$102 = \"\", \"\", ROW(Fondo_Comun!$H$12:$H$102)), ROW()-1)), \"\" )","v":""},{"$f":" IF($B217, INDIRECT(\"Fondo_Comun!H\" & SMALL(IF( Fondo_Comun!$H$12:$H$102 = \"\", \"\", ROW(Fondo_Comun!$H$12:$H$102)), ROW()-1)), \"\" )","v":""},{"$f":" IF( B217, SUM($E$2:E217), \"\" )","v":""}]
[null,{"$f":" COUNTIF(Fondo_Comun!$H$12:$H$102, \">0\") >= ROW() - 1","v":false},{"$f":" IF($B218, INDIRECT(\"Fondo_Comun!C\" & SMALL(IF( Fondo_Comun!$H$12:$H$102 = \"\", \"\", ROW(Fondo_Comun!$H$12:$H$102)), ROW()-1)), \"\" )","v":""},{"$f":" IF($B218, INDIRECT(\"Fondo_Comun!D\" & SMALL(IF( Fondo_Comun!$H$12:$H$102 = \"\", \"\", ROW(Fondo_Comun!$H$12:$H$102)), ROW()-1)), \"\" )","v":""},{"$f":" IF($B218, INDIRECT(\"Fondo_Comun!H\" & SMALL(IF( Fondo_Comun!$H$12:$H$102 = \"\", \"\", ROW(Fondo_Comun!$H$12:$H$102)), ROW()-1)), \"\" )","v":""},{"$f":" IF( B218, SUM($E$2:E218), \"\" )","v":""}]
[null,{"$f":" COUNTIF(Fondo_Comun!$H$12:$H$102, \">0\") >= ROW() - 1","v":false},{"$f":" IF($B219, INDIRECT(\"Fondo_Comun!C\" & SMALL(IF( Fondo_Comun!$H$12:$H$102 = \"\", \"\", ROW(Fondo_Comun!$H$12:$H$102)), ROW()-1)), \"\" )","v":""},{"$f":" IF($B219, INDIRECT(\"Fondo_Comun!D\" & SMALL(IF( Fondo_Comun!$H$12:$H$102 = \"\", \"\", ROW(Fondo_Comun!$H$12:$H$102)), ROW()-1)), \"\" )","v":""},{"$f":" IF($B219, INDIRECT(\"Fondo_Comun!H\" & SMALL(IF( Fondo_Comun!$H$12:$H$102 = \"\", \"\", ROW(Fondo_Comun!$H$12:$H$102)), ROW()-1)), \"\" )","v":""},{"$f":" IF( B219, SUM($E$2:E219), \"\" )","v":""}]
[null,{"$f":" COUNTIF(Fondo_Comun!$H$12:$H$102, \">0\") >= ROW() - 1","v":false},{"$f":" IF($B220, INDIRECT(\"Fondo_Comun!C\" & SMALL(IF( Fondo_Comun!$H$12:$H$102 = \"\", \"\", ROW(Fondo_Comun!$H$12:$H$102)), ROW()-1)), \"\" )","v":""},{"$f":" IF($B220, INDIRECT(\"Fondo_Comun!D\" & SMALL(IF( Fondo_Comun!$H$12:$H$102 = \"\", \"\", ROW(Fondo_Comun!$H$12:$H$102)), ROW()-1)), \"\" )","v":""},{"$f":" IF($B220, INDIRECT(\"Fondo_Comun!H\" & SMALL(IF( Fondo_Comun!$H$12:$H$102 = \"\", \"\", ROW(Fondo_Comun!$H$12:$H$102)), ROW()-1)), \"\" )","v":""},{"$f":" IF( B220, SUM($E$2:E220), \"\" )","v":""}]
[null,{"$f":" COUNTIF(Fondo_Comun!$H$12:$H$102, \">0\") >= ROW() - 1","v":false},{"$f":" IF($B221, INDIRECT(\"Fondo_Comun!C\" & SMALL(IF( Fondo_Comun!$H$12:$H$102 = \"\", \"\", ROW(Fondo_Comun!$H$12:$H$102)), ROW()-1)), \"\" )","v":""},{"$f":" IF($B221, INDIRECT(\"Fondo_Comun!D\" & SMALL(IF( Fondo_Comun!$H$12:$H$102 = \"\", \"\", ROW(Fondo_Comun!$H$12:$H$102)), ROW()-1)), \"\" )","v":""},{"$f":" IF($B221, INDIRECT(\"Fondo_Comun!H\" & SMALL(IF( Fondo_Comun!$H$12:$H$102 = \"\", \"\", ROW(Fondo_Comun!$H$12:$H$102)), ROW()-1)), \"\" )","v":""},{"$f":" IF( B221, SUM($E$2:E221), \"\" )","v":""}]
[null,{"$f":" COUNTIF(Fondo_Comun!$H$12:$H$102, \">0\") >= ROW() - 1","v":false},{"$f":" IF($B222, INDIRECT(\"Fondo_Comun!C\" & SMALL(IF( Fondo_Comun!$H$12:$H$102 = \"\", \"\", ROW(Fondo_Comun!$H$12:$H$102)), ROW()-1)), \"\" )","v":""},{"$f":" IF($B222, INDIRECT(\"Fondo_Comun!D\" & SMALL(IF( Fondo_Comun!$H$12:$H$102 = \"\", \"\", ROW(Fondo_Comun!$H$12:$H$102)), ROW()-1)), \"\" )","v":""},{"$f":" IF($B222, INDIRECT(\"Fondo_Comun!H\" & SMALL(IF( Fondo_Comun!$H$12:$H$102 = \"\", \"\", ROW(Fondo_Comun!$H$12:$H$102)), ROW()-1)), \"\" )","v":""},{"$f":" IF( B222, SUM($E$2:E222), \"\" )","v":""}]
[null,{"$f":" COUNTIF(Fondo_Comun!$H$12:$H$102, \">0\") >= ROW() - 1","v":false},{"$f":" IF($B223, INDIRECT(\"Fondo_Comun!C\" & SMALL(IF( Fondo_Comun!$H$12:$H$102 = \"\", \"\", ROW(Fondo_Comun!$H$12:$H$102)), ROW()-1)), \"\" )","v":""},{"$f":" IF($B223, INDIRECT(\"Fondo_Comun!D\" & SMALL(IF( Fondo_Comun!$H$12:$H$102 = \"\", \"\", ROW(Fondo_Comun!$H$12:$H$102)), ROW()-1)), \"\" )","v":""},{"$f":" IF($B223, INDIRECT(\"Fondo_Comun!H\" & SMALL(IF( Fondo_Comun!$H$12:$H$102 = \"\", \"\", ROW(Fondo_Comun!$H$12:$H$102)), ROW()-1)), \"\" )","v":""},{"$f":" IF( B223, SUM($E$2:E223), \"\" )","v":""}]
[null,{"$f":" COUNTIF(Fondo_Comun!$H$12:$H$102, \">0\") >= ROW() - 1","v":false},{"$f":" IF($B224, INDIRECT(\"Fondo_Comun!C\" & SMALL(IF( Fondo_Comun!$H$12:$H$102 = \"\", \"\", ROW(Fondo_Comun!$H$12:$H$102)), ROW()-1)), \"\" )","v":""},{"$f":" IF($B224, INDIRECT(\"Fondo_Comun!D\" & SMALL(IF( Fondo_Comun!$H$12:$H$102 = \"\", \"\", ROW(Fondo_Comun!$H$12:$H$102)), ROW()-1)), \"\" )","v":""},{"$f":" IF($B224, INDIRECT(\"Fondo_Comun!H\" & SMALL(IF( Fondo_Comun!$H$12:$H$102 = \"\", \"\", ROW(Fondo_Comun!$H$12:$H$102)), ROW()-1)), \"\" )","v":""},{"$f":" IF( B224, SUM($E$2:E224), \"\" )","v":""}]
[null,{"$f":" COUNTIF(Fondo_Comun!$H$12:$H$102, \">0\") >= ROW() - 1","v":false},{"$f":" IF($B225, INDIRECT(\"Fondo_Comun!C\" & SMALL(IF( Fondo_Comun!$H$12:$H$102 = \"\", \"\", ROW(Fondo_Comun!$H$12:$H$102)), ROW()-1)), \"\" )","v":""},{"$f":" IF($B225, INDIRECT(\"Fondo_Comun!D\" & SMALL(IF( Fondo_Comun!$H$12:$H$102 = \"\", \"\", ROW(Fondo_Comun!$H$12:$H$102)), ROW()-1)), \"\" )","v":""},{"$f":" IF($B225, INDIRECT(\"Fondo_Comun!H\" & SMALL(IF( Fondo_Comun!$H$12:$H$102 = \"\", \"\", ROW(Fondo_Comun!$H$12:$H$102)), ROW()-1)), \"\" )","v":""},{"$f":" IF( B225, SUM($E$2:E225), \"\" )","v":""}]
[null,{"$f":" COUNTIF(Fondo_Comun!$H$12:$H$102, \">0\") >= ROW() - 1","v":false},{"$f":" IF($B226, INDIRECT(\"Fondo_Comun!C\" & SMALL(IF( Fondo_Comun!$H$12:$H$102 = \"\", \"\", ROW(Fondo_Comun!$H$12:$H$102)), ROW()-1)), \"\" )","v":""},{"$f":" IF($B226, INDIRECT(\"Fondo_Comun!D\" & SMALL(IF( Fondo_Comun!$H$12:$H$102 = \"\", \"\", ROW(Fondo_Comun!$H$12:$H$102)), ROW()-1)), \"\" )","v":""},{"$f":" IF($B226, INDIRECT(\"Fondo_Comun!H\" & SMALL(IF( Fondo_Comun!$H$12:$H$102 = \"\", \"\", ROW(Fondo_Comun!$H$12:$H$102)), ROW()-1)), \"\" )","v":""},{"$f":" IF( B226, SUM($E$2:E226), \"\" )","v":""}]
[null,{"$f":" COUNTIF(Fondo_Comun!$H$12:$H$102, \">0\") >= ROW() - 1","v":false},{"$f":" IF($B227, INDIRECT(\"Fondo_Comun!C\" & SMALL(IF( Fondo_Comun!$H$12:$H$102 = \"\", \"\", ROW(Fondo_Comun!$H$12:$H$102)), ROW()-1)), \"\" )","v":""},{"$f":" IF($B227, INDIRECT(\"Fondo_Comun!D\" & SMALL(IF( Fondo_Comun!$H$12:$H$102 = \"\", \"\", ROW(Fondo_Comun!$H$12:$H$102)), ROW()-1)), \"\" )","v":""},{"$f":" IF($B227, INDIRECT(\"Fondo_Comun!H\" & SMALL(IF( Fondo_Comun!$H$12:$H$102 = \"\", \"\", ROW(Fondo_Comun!$H$12:$H$102)), ROW()-1)), \"\" )","v":""},{"$f":" IF( B227, SUM($E$2:E227), \"\" )","v":""}]
[null,{"$f":" COUNTIF(Fondo_Comun!$H$12:$H$102, \">0\") >= ROW() - 1","v":false},{"$f":" IF($B228, INDIRECT(\"Fondo_Comun!C\" & SMALL(IF( Fondo_Comun!$H$12:$H$102 = \"\", \"\", ROW(Fondo_Comun!$H$12:$H$102)), ROW()-1)), \"\" )","v":""},{"$f":" IF($B228, INDIRECT(\"Fondo_Comun!D\" & SMALL(IF( Fondo_Comun!$H$12:$H$102 = \"\", \"\", ROW(Fondo_Comun!$H$12:$H$102)), ROW()-1)), \"\" )","v":""},{"$f":" IF($B228, INDIRECT(\"Fondo_Comun!H\" & SMALL(IF( Fondo_Comun!$H$12:$H$102 = \"\", \"\", ROW(Fondo_Comun!$H$12:$H$102)), ROW()-1)), \"\" )","v":""},{"$f":" IF( B228, SUM($E$2:E228), \"\" )","v":""}]
[null,{"$f":" COUNTIF(Fondo_Comun!$H$12:$H$102, \">0\") >= ROW() - 1","v":false},{"$f":" IF($B229, INDIRECT(\"Fondo_Comun!C\" & SMALL(IF( Fondo_Comun!$H$12:$H$102 = \"\", \"\", ROW(Fondo_Comun!$H$12:$H$102)), ROW()-1)), \"\" )","v":""},{"$f":" IF($B229, INDIRECT(\"Fondo_Comun!D\" & SMALL(IF( Fondo_Comun!$H$12:$H$102 = \"\", \"\", ROW(Fondo_Comun!$H$12:$H$102)), ROW()-1)), \"\" )","v":""},{"$f":" IF($B229, INDIRECT(\"Fondo_Comun!H\" & SMALL(IF( Fondo_Comun!$H$12:$H$102 = \"\", \"\", ROW(Fondo_Comun!$H$12:$H$102)), ROW()-1)), \"\" )","v":""},{"$f":" IF( B229, SUM($E$2:E229), \"\" )","v":""}]
[null,{"$f":" COUNTIF(Fondo_Comun!$H$12:$H$102, \">0\") >= ROW() - 1","v":false},{"$f":" IF($B230, INDIRECT(\"Fondo_Comun!C\" & SMALL(IF( Fondo_Comun!$H$12:$H$102 = \"\", \"\", ROW(Fondo_Comun!$H$12:$H$102)), ROW()-1)), \"\" )","v":""},{"$f":" IF($B230, INDIRECT(\"Fondo_Comun!D\" & SMALL(IF( Fondo_Comun!$H$12:$H$102 = \"\", \"\", ROW(Fondo_Comun!$H$12:$H$102)), ROW()-1)), \"\" )","v":""},{"$f":" IF($B230, INDIRECT(\"Fondo_Comun!H\" & SMALL(IF( Fondo_Comun!$H$12:$H$102 = \"\", \"\", ROW(Fondo_Comun!$H$12:$H$102)), ROW()-1)), \"\" )","v":""},{"$f":" IF( B230, SUM($E$2:E230), \"\" )","v":""}]
[null,{"$f":" COUNTIF(Fondo_Comun!$H$12:$H$102, \">0\") >= ROW() - 1","v":false},{"$f":" IF($B231, INDIRECT(\"Fondo_Comun!C\" & SMALL(IF( Fondo_Comun!$H$12:$H$102 = \"\", \"\", ROW(Fondo_Comun!$H$12:$H$102)), ROW()-1)), \"\" )","v":""},{"$f":" IF($B231, INDIRECT(\"Fondo_Comun!D\" & SMALL(IF( Fondo_Comun!$H$12:$H$102 = \"\", \"\", ROW(Fondo_Comun!$H$12:$H$102)), ROW()-1)), \"\" )","v":""},{"$f":" IF($B231, INDIRECT(\"Fondo_Comun!H\" & SMALL(IF( Fondo_Comun!$H$12:$H$102 = \"\", \"\", ROW(Fondo_Comun!$H$12:$H$102)), ROW()-1)), \"\" )","v":""},{"$f":" IF( B231, SUM($E$2:E231), \"\" )","v":""}]
[null,{"$f":" COUNTIF(Fondo_Comun!$H$12:$H$102, \">0\") >= ROW() - 1","v":false},{"$f":" IF($B232, INDIRECT(\"Fondo_Comun!C\" & SMALL(IF( Fondo_Comun!$H$12:$H$102 = \"\", \"\", ROW(Fondo_Comun!$H$12:$H$102)), ROW()-1)), \"\" )","v":""},{"$f":" IF($B232, INDIRECT(\"Fondo_Comun!D\" & SMALL(IF( Fondo_Comun!$H$12:$H$102 = \"\", \"\", ROW(Fondo_Comun!$H$12:$H$102)), ROW()-1)), \"\" )","v":""},{"$f":" IF($B232, INDIRECT(\"Fondo_Comun!H\" & SMALL(IF( Fondo_Comun!$H$12:$H$102 = \"\", \"\", ROW(Fondo_Comun!$H$12:$H$102)), ROW()-1)), \"\" )","v":""},{"$f":" IF( B232, SUM($E$2:E232), \"\" )","v":""}]
[null,{"$f":" COUNTIF(Fondo_Comun!$H$12:$H$102, \">0\") >= ROW() - 1","v":false},{"$f":" IF($B233, INDIRECT(\"Fondo_Comun!C\" & SMALL(IF( Fondo_Comun!$H$12:$H$102 = \"\", \"\", ROW(Fondo_Comun!$H$12:$H$102)), ROW()-1)), \"\" )","v":""},{"$f":" IF($B233, INDIRECT(\"Fondo_Comun!D\" & SMALL(IF( Fondo_Comun!$H$12:$H$102 = \"\", \"\", ROW(Fondo_Comun!$H$12:$H$102)), ROW()-1)), \"\" )","v":""},{"$f":" IF($B233, INDIRECT(\"Fondo_Comun!H\" & SMALL(IF( Fondo_Comun!$H$12:$H$102 = \"\", \"\", ROW(Fondo_Comun!$H$12:$H$102)), ROW()-1)), \"\" )","v":""},{"$f":" IF( B233, SUM($E$2:E233), \"\" )","v":""}]
[null,{"$f":" COUNTIF(Fondo_Comun!$H$12:$H$102, \">0\") >= ROW() - 1","v":false},{"$f":" IF($B234, INDIRECT(\"Fondo_Comun!C\" & SMALL(IF( Fondo_Comun!$H$12:$H$102 = \"\", \"\", ROW(Fondo_Comun!$H$12:$H$102)), ROW()-1)), \"\" )","v":""},{"$f":" IF($B234, INDIRECT(\"Fondo_Comun!D\" & SMALL(IF( Fondo_Comun!$H$12:$H$102 = \"\", \"\", ROW(Fondo_Comun!$H$12:$H$102)), ROW()-1)), \"\" )","v":""},{"$f":" IF($B234, INDIRECT(\"Fondo_Comun!H\" & SMALL(IF( Fondo_Comun!$H$12:$H$102 = \"\", \"\", ROW(Fondo_Comun!$H$12:$H$102)), ROW()-1)), \"\" )","v":""},{"$f":" IF( B234, SUM($E$2:E234), \"\" )","v":""}]
[null,{"$f":" COUNTIF(Fondo_Comun!$H$12:$H$102, \">0\") >= ROW() - 1","v":false},{"$f":" IF($B235, INDIRECT(\"Fondo_Comun!C\" & SMALL(IF( Fondo_Comun!$H$12:$H$102 = \"\", \"\", ROW(Fondo_Comun!$H$12:$H$102)), ROW()-1)), \"\" )","v":""},{"$f":" IF($B235, INDIRECT(\"Fondo_Comun!D\" & SMALL(IF( Fondo_Comun!$H$12:$H$102 = \"\", \"\", ROW(Fondo_Comun!$H$12:$H$102)), ROW()-1)), \"\" )","v":""},{"$f":" IF($B235, INDIRECT(\"Fondo_Comun!H\" & SMALL(IF( Fondo_Comun!$H$12:$H$102 = \"\", \"\", ROW(Fondo_Comun!$H$12:$H$102)), ROW()-1)), \"\" )","v":""},{"$f":" IF( B235, SUM($E$2:E235), \"\" )","v":""}]
[null,{"$f":" COUNTIF(Fondo_Comun!$H$12:$H$102, \">0\") >= ROW() - 1","v":false},{"$f":" IF($B236, INDIRECT(\"Fondo_Comun!C\" & SMALL(IF( Fondo_Comun!$H$12:$H$102 = \"\", \"\", ROW(Fondo_Comun!$H$12:$H$102)), ROW()-1)), \"\" )","v":""},{"$f":" IF($B236, INDIRECT(\"Fondo_Comun!D\" & SMALL(IF( Fondo_Comun!$H$12:$H$102 = \"\", \"\", ROW(Fondo_Comun!$H$12:$H$102)), ROW()-1)), \"\" )","v":""},{"$f":" IF($B236, INDIRECT(\"Fondo_Comun!H\" & SMALL(IF( Fondo_Comun!$H$12:$H$102 = \"\", \"\", ROW(Fondo_Comun!$H$12:$H$102)), ROW()-1)), \"\" )","v":""},{"$f":" IF( B236, SUM($E$2:E236), \"\" )","v":""}]
[null,{"$f":" COUNTIF(Fondo_Comun!$H$12:$H$102, \">0\") >= ROW() - 1","v":false},{"$f":" IF($B237, INDIRECT(\"Fondo_Comun!C\" & SMALL(IF( Fondo_Comun!$H$12:$H$102 = \"\", \"\", ROW(Fondo_Comun!$H$12:$H$102)), ROW()-1)), \"\" )","v":""},{"$f":" IF($B237, INDIRECT(\"Fondo_Comun!D\" & SMALL(IF( Fondo_Comun!$H$12:$H$102 = \"\", \"\", ROW(Fondo_Comun!$H$12:$H$102)), ROW()-1)), \"\" )","v":""},{"$f":" IF($B237, INDIRECT(\"Fondo_Comun!H\" & SMALL(IF( Fondo_Comun!$H$12:$H$102 = \"\", \"\", ROW(Fondo_Comun!$H$12:$H$102)), ROW()-1)), \"\" )","v":""},{"$f":" IF( B237, SUM($E$2:E237), \"\" )","v":""}]
[null,{"$f":" COUNTIF(Fondo_Comun!$H$12:$H$102, \">0\") >= ROW() - 1","v":false},{"$f":" IF($B238, INDIRECT(\"Fondo_Comun!C\" & SMALL(IF( Fondo_Comun!$H$12:$H$102 = \"\", \"\", ROW(Fondo_Comun!$H$12:$H$102)), ROW()-1)), \"\" )","v":""},{"$f":" IF($B238, INDIRECT(\"Fondo_Comun!D\" & SMALL(IF( Fondo_Comun!$H$12:$H$102 = \"\", \"\", ROW(Fondo_Comun!$H$12:$H$102)), ROW()-1)), \"\" )","v":""},{"$f":" IF($B238, INDIRECT(\"Fondo_Comun!H\" & SMALL(IF( Fondo_Comun!$H$12:$H$102 = \"\", \"\", ROW(Fondo_Comun!$H$12:$H$102)), ROW()-1)), \"\" )","v":""},{"$f":" IF( B238, SUM($E$2:E238), \"\" )","v":""}]
[null,{"$f":" COUNTIF(Fondo_Comun!$H$12:$H$102, \">0\") >= ROW() - 1","v":false},{"$f":" IF($B239, INDIRECT(\"Fondo_Comun!C\" & SMALL(IF( Fondo_Comun!$H$12:$H$102 = \"\", \"\", ROW(Fondo_Comun!$H$12:$H$102)), ROW()-1)), \"\" )","v":""},{"$f":" IF($B239, INDIRECT(\"Fondo_Comun!D\" & SMALL(IF( Fondo_Comun!$H$12:$H$102 = \"\", \"\", ROW(Fondo_Comun!$H$12:$H$102)), ROW()-1)), \"\" )","v":""},{"$f":" IF($B239, INDIRECT(\"Fondo_Comun!H\" & SMALL(IF( Fondo_Comun!$H$12:$H$102 = \"\", \"\", ROW(Fondo_Comun!$H$12:$H$102)), ROW()-1)), \"\" )","v":""},{"$f":" IF( B239, SUM($E$2:E239), \"\" )","v":""}]
[null,{"$f":" COUNTIF(Fondo_Comun!$H$12:$H$102, \">0\") >= ROW() - 1","v":false},{"$f":" IF($B240, INDIRECT(\"Fondo_Comun!C\" & SMALL(IF( Fondo_Comun!$H$12:$H$102 = \"\", \"\", ROW(Fondo_Comun!$H$12:$H$102)), ROW()-1)), \"\" )","v":""},{"$f":" IF($B240, INDIRECT(\"Fondo_Comun!D\" & SMALL(IF( Fondo_Comun!$H$12:$H$102 = \"\", \"\", ROW(Fondo_Comun!$H$12:$H$102)), ROW()-1)), \"\" )","v":""},{"$f":" IF($B240, INDIRECT(\"Fondo_Comun!H\" & SMALL(IF( Fondo_Comun!$H$12:$H$102 = \"\", \"\", ROW(Fondo_Comun!$H$12:$H$102)), ROW()-1)), \"\" )","v":""},{"$f":" IF( B240, SUM($E$2:E240), \"\" )","v":""}]
[null,{"$f":" COUNTIF(Fondo_Comun!$H$12:$H$102, \">0\") >= ROW() - 1","v":false},{"$f":" IF($B241, INDIRECT(\"Fondo_Comun!C\" & SMALL(IF( Fondo_Comun!$H$12:$H$102 = \"\", \"\", ROW(Fondo_Comun!$H$12:$H$102)), ROW()-1)), \"\" )","v":""},{"$f":" IF($B241, INDIRECT(\"Fondo_Comun!D\" & SMALL(IF( Fondo_Comun!$H$12:$H$102 = \"\", \"\", ROW(Fondo_Comun!$H$12:$H$102)), ROW()-1)), \"\" )","v":""},{"$f":" IF($B241, INDIRECT(\"Fondo_Comun!H\" & SMALL(IF( Fondo_Comun!$H$12:$H$102 = \"\", \"\", ROW(Fondo_Comun!$H$12:$H$102)), ROW()-1)), \"\" )","v":""},{"$f":" IF( B241, SUM($E$2:E241), \"\" )","v":""}]
[null,{"$f":" COUNTIF(Fondo_Comun!$H$12:$H$102, \">0\") >= ROW() - 1","v":false},{"$f":" IF($B242, INDIRECT(\"Fondo_Comun!C\" & SMALL(IF( Fondo_Comun!$H$12:$H$102 = \"\", \"\", ROW(Fondo_Comun!$H$12:$H$102)), ROW()-1)), \"\" )","v":""},{"$f":" IF($B242, INDIRECT(\"Fondo_Comun!D\" & SMALL(IF( Fondo_Comun!$H$12:$H$102 = \"\", \"\", ROW(Fondo_Comun!$H$12:$H$102)), ROW()-1)), \"\" )","v":""},{"$f":" IF($B242, INDIRECT(\"Fondo_Comun!H\" & SMALL(IF( Fondo_Comun!$H$12:$H$102 = \"\", \"\", ROW(Fondo_Comun!$H$12:$H$102)), ROW()-1)), \"\" )","v":""},{"$f":" IF( B242, SUM($E$2:E242), \"\" )","v":""}]
[null,{"$f":" COUNTIF(Fondo_Comun!$H$12:$H$102, \">0\") >= ROW() - 1","v":false},{"$f":" IF($B243, INDIRECT(\"Fondo_Comun!C\" & SMALL(IF( Fondo_Comun!$H$12:$H$102 = \"\", \"\", ROW(Fondo_Comun!$H$12:$H$102)), ROW()-1)), \"\" )","v":""},{"$f":" IF($B243, INDIRECT(\"Fondo_Comun!D\" & SMALL(IF( Fondo_Comun!$H$12:$H$102 = \"\", \"\", ROW(Fondo_Comun!$H$12:$H$102)), ROW()-1)), \"\" )","v":""},{"$f":" IF($B243, INDIRECT(\"Fondo_Comun!H\" & SMALL(IF( Fondo_Comun!$H$12:$H$102 = \"\", \"\", ROW(Fondo_Comun!$H$12:$H$102)), ROW()-1)), \"\" )","v":""},{"$f":" IF( B243, SUM($E$2:E243), \"\" )","v":""}]
[null,{"$f":" COUNTIF(Fondo_Comun!$H$12:$H$102, \">0\") >= ROW() - 1","v":false},{"$f":" IF($B244, INDIRECT(\"Fondo_Comun!C\" & SMALL(IF( Fondo_Comun!$H$12:$H$102 = \"\", \"\", ROW(Fondo_Comun!$H$12:$H$102)), ROW()-1)), \"\" )","v":""},{"$f":" IF($B244, INDIRECT(\"Fondo_Comun!D\" & SMALL(IF( Fondo_Comun!$H$12:$H$102 = \"\", \"\", ROW(Fondo_Comun!$H$12:$H$102)), ROW()-1)), \"\" )","v":""},{"$f":" IF($B244, INDIRECT(\"Fondo_Comun!H\" & SMALL(IF( Fondo_Comun!$H$12:$H$102 = \"\", \"\", ROW(Fondo_Comun!$H$12:$H$102)), ROW()-1)), \"\" )","v":""},{"$f":" IF( B244, SUM($E$2:E244), \"\" )","v":""}]
[null,{"$f":" COUNTIF(Fondo_Comun!$H$12:$H$102, \">0\") >= ROW() - 1","v":false},{"$f":" IF($B245, INDIRECT(\"Fondo_Comun!C\" & SMALL(IF( Fondo_Comun!$H$12:$H$102 = \"\", \"\", ROW(Fondo_Comun!$H$12:$H$102)), ROW()-1)), \"\" )","v":""},{"$f":" IF($B245, INDIRECT(\"Fondo_Comun!D\" & SMALL(IF( Fondo_Comun!$H$12:$H$102 = \"\", \"\", ROW(Fondo_Comun!$H$12:$H$102)), ROW()-1)), \"\" )","v":""},{"$f":" IF($B245, INDIRECT(\"Fondo_Comun!H\" & SMALL(IF( Fondo_Comun!$H$12:$H$102 = \"\", \"\", ROW(Fondo_Comun!$H$12:$H$102)), ROW()-1)), \"\" )","v":""},{"$f":" IF( B245, SUM($E$2:E245), \"\" )","v":""}]
[null,{"$f":" COUNTIF(Fondo_Comun!$H$12:$H$102, \">0\") >= ROW() - 1","v":false},{"$f":" IF($B246, INDIRECT(\"Fondo_Comun!C\" & SMALL(IF( Fondo_Comun!$H$12:$H$102 = \"\", \"\", ROW(Fondo_Comun!$H$12:$H$102)), ROW()-1)), \"\" )","v":""},{"$f":" IF($B246, INDIRECT(\"Fondo_Comun!D\" & SMALL(IF( Fondo_Comun!$H$12:$H$102 = \"\", \"\", ROW(Fondo_Comun!$H$12:$H$102)), ROW()-1)), \"\" )","v":""},{"$f":" IF($B246, INDIRECT(\"Fondo_Comun!H\" & SMALL(IF( Fondo_Comun!$H$12:$H$102 = \"\", \"\", ROW(Fondo_Comun!$H$12:$H$102)), ROW()-1)), \"\" )","v":""},{"$f":" IF( B246, SUM($E$2:E246), \"\" )","v":""}]
[null,{"$f":" COUNTIF(Fondo_Comun!$H$12:$H$102, \">0\") >= ROW() - 1","v":false},{"$f":" IF($B247, INDIRECT(\"Fondo_Comun!C\" & SMALL(IF( Fondo_Comun!$H$12:$H$102 = \"\", \"\", ROW(Fondo_Comun!$H$12:$H$102)), ROW()-1)), \"\" )","v":""},{"$f":" IF($B247, INDIRECT(\"Fondo_Comun!D\" & SMALL(IF( Fondo_Comun!$H$12:$H$102 = \"\", \"\", ROW(Fondo_Comun!$H$12:$H$102)), ROW()-1)), \"\" )","v":""},{"$f":" IF($B247, INDIRECT(\"Fondo_Comun!H\" & SMALL(IF( Fondo_Comun!$H$12:$H$102 = \"\", \"\", ROW(Fondo_Comun!$H$12:$H$102)), ROW()-1)), \"\" )","v":""},{"$f":" IF( B247, SUM($E$2:E247), \"\" )","v":""}]
[null,{"$f":" COUNTIF(Fondo_Comun!$H$12:$H$102, \">0\") >= ROW() - 1","v":false},{"$f":" IF($B248, INDIRECT(\"Fondo_Comun!C\" & SMALL(IF( Fondo_Comun!$H$12:$H$102 = \"\", \"\", ROW(Fondo_Comun!$H$12:$H$102)), ROW()-1)), \"\" )","v":""},{"$f":" IF($B248, INDIRECT(\"Fondo_Comun!D\" & SMALL(IF( Fondo_Comun!$H$12:$H$102 = \"\", \"\", ROW(Fondo_Comun!$H$12:$H$102)), ROW()-1)), \"\" )","v":""},{"$f":" IF($B248, INDIRECT(\"Fondo_Comun!H\" & SMALL(IF( Fondo_Comun!$H$12:$H$102 = \"\", \"\", ROW(Fondo_Comun!$H$12:$H$102)), ROW()-1)), \"\" )","v":""},{"$f":" IF( B248, SUM($E$2:E248), \"\" )","v":""}]

{"sheet":"Hoja1","index":6,"n_rows":14,"n_cols":2,"rows_kept":14,"cut":false,"hidden":false,"merged":[]}
[]
[]
[]
[]
[]
[null,"Quisiera tener un solo grafico que me represente la hoja Mercantil  y tambien la hoja Fondo_Comun"]
[null,"un sollo grafico para las 2 hojas Mercantil y Fondo_Comun"]
[null,"Podria ser un solo grafico pero Dividido o que las lineas o barras representen según colores, una y otra hoja, es decir,"]
[null,"el grafico puede ser de lineas, columnas u otro tipo que se vea y sea facil, (principalmente facil) de describir al verlo "]
[null,"y no sea tan pequeño pero que no sobrepase el tamaño de la pantalla y sin tener que correr la barra de desplazamiento"]
[null,"La hoja para o del grafico pasaria a llamarse, Grafico"]
[null,"No se si los graficos existentes, están mostrando o no los datos correctamente"]
[]
[null,"En caso negativo, agradezco me lo corrija"]