{"text_format":"1","workbook":"xlsx","n_sheets":2,"sheets":["INGRESO","JORNADA"],"not_rendered":{"charts":0,"images":0,"macros":1,"external_links":1,"defined_names":12,"comments":1,"pivot_tables":0},"unopened":[],"bounds":{"document_bytes":16777216,"sheet_cells":100000,"rows_first":2000,"rows_last":500,"rows_between":2000,"halvings":0,"cell_chars":16384,"cell_head_chars":4096},"cells_cut":0,"cells_raw":0,"read":"whole","date_system":"1900"}

{"sheet":"INGRESO","index":0,"n_rows":1000,"n_cols":256,"rows_kept":1000,"cut":false,"hidden":false,"merged":[]}
["COD","R.P","NOMBRE","FECHA","BOLETA","TN","Nº","Nº","TURNO","CARGO","GRUPO","AGRUP","EDAD","FERIADO","COD.","ABORDO / MURO","DNI","DIGITAR DNI","BUSCA CODIGO","NRO ORDEN","% DCTO\nJUD","NRO CUENTA"]
["COD","R.P","NOMBRE","FECHA","BOLETA","TN","Nº","Nº's","TURNO","CARGO","GRUPO","AGRUP","EDAD","FERIADO","COD.","ABORDO / MURO","DNI","DIGITAR DNI","BUSCA CODIGO","NRO ORDEN","% DCTO\nJUD","NRO CUENTA"]
[{"$f":"+S3","v":131},{"$f":"IFERROR(IF(A3=\"\",\"\",VLOOKUP(A3,[1]Hoja1!$B$2:$U$4999,9,FALSE)),0)","v":0},{"$f":"IFERROR(IF(A3=\"\",\"\",VLOOKUP(A3,[1]Hoja1!$B$2:$U$4999,2,FALSE)),\" --- NO EXISTE TRABAJADOR --- \")","v":"VARGAS ROJAS REYNALDO CRISTOBAL"},"2018-06-05",0,116.3,1,1,{"$f":"IFERROR(IF(G3=\"\",\"\",VLOOKUP(G3,JORNADA,2,FALSE)),0)","v":"06.00 / 12.00"},{"$f":"IFERROR(IF(H3=\"\",\"\",VLOOKUP(H3,ACTIVIDAD,2,FALSE)),0)","v":"WE"},{"$f":"CONCATENATE(J3,G3)","v":"WE1"},{"$f":"IFERROR(IF(A3=\"\",\"\",VLOOKUP(A3,[1]Hoja1!$B$2:$U$4999,18,FALSE)),0)","v":0},{"$f":"IFERROR(IF(A3=\"\",\"\",VLOOKUP(A3,[1]Hoja1!$B$2:$U$4999,19,FALSE)),0)","v":69},{"$f":"IFERROR(IF(W3=\"\",\"\",VLOOKUP(W3,LICENCIA,2,FALSE)),\"\")","v":""},null,{"$f":"IFERROR(IF(O3=\"\",\"\",VLOOKUP(O3,JORNADA!$A$19:$B$20,2,FALSE)),\"\")","v":""},{"$f":"IFERROR(IF(A3=\"\",\"\",VLOOKUP(A3,[1]Hoja1!$B$2:$U$4999,3,FALSE)),0)","v":4626677},4626677,{"$f":"IFERROR(IF(R3=\"\",\"\",VLOOKUP(R3,DNI,2,FALSE)),0)","v":131},{"$f":"IF(D3<>\"\",COUNTA(INDIRECT(\"D2:D\"&ROW()-1)),\"\")","v":1},{"$f":"IFERROR(IF(A3=\"\",\"\",VLOOKUP(A3,[1]Hoja1!$B$2:$U$4999,10,FALSE)),0)","v":0},{"$f":"IFERROR(IF(Q3=\"\",\"\",VLOOKUP(Q3,[1]Hoja1!$D$2:$AF$4999,29,FALSE)),\"NO EXISTE CUENTA\")","v":"00116104802100001006"},0,null,{"$f":"+C3","v":"VARGAS ROJAS REYNALDO CRISTOBAL"},null,null,null,null,null,null,4623141,null,"BBC PEARL",null,null,null,null,null,null,null,null,null,null,null,null,null,null,null,null,null,null,null,null,null,null,null,null,null,null,null,null,null,null,null,null,null,null,null,null,null,null,null,null,null,null,null,null,null,null,null,null,null,null,null,null,null,null,null,null,null,null,null,null,null,null,null,null,null,null,null,null,null,null,null,null,null,null,null,null,null,null,null,null,null,null,null,null,null,null,null,null,null,null,null,null,null,null,null,null,null,null,null,null,null,null,null,null,null,null,null,null,null,null,null,null,null,null,null,null,null,null,null,null,null,null,null,null,null,null,null,null,null,null,null,null,null,null,null,null,null,null,null,null,null,null,null,null,null,null,null,null,null,null,null,null,null,null,null,null,null,null,null,null,null,null,null,null,null,null,null,null,null,null,null,null,null,null,null,null,null,null,null,null,null,null,null,null,null,null,null,null,null,null,null,null,null,null,null,null,null,null,null,null,null,null,null,null,null,null,null,null,null,null,null,null,null,null,null,null,null,null,null,null,null,{"$f":"NOW()","v":"2018-06-21T18:48:22.770"}]
[138,{"$f":"IFERROR(IF(A4=\"\",\"\",VLOOKUP(A4,[1]Hoja1!$B$2:$U$4999,9,FALSE)),0)","v":0},{"$f":"IFERROR(IF(A4=\"\",\"\",VLOOKUP(A4,[1]Hoja1!$B$2:$U$4999,2,FALSE)),\" --- NO EXISTE TRABAJADOR --- \")","v":"VALDIVIA PAZ MANUEL LEONCIO"},"2018-06-05",0,116.3,1,1,"06.00 / 12.00","WE","WE1",{"$f":"IFERROR(IF(A4=\"\",\"\",VLOOKUP(A4,[1]Hoja1!$B$2:$U$4999,18,FALSE)),0)","v":0},{"$f":"IFERROR(IF(A4=\"\",\"\",VLOOKUP(A4,[1]Hoja1!$B$2:$U$4999,19,FALSE)),0)","v":58},"",null,{"$f":"IFERROR(IF(O4=\"\",\"\",VLOOKUP(O4,JORNADA!$A$19:$B$20,2,FALSE)),\"\")","v":""},{"$f":"IFERROR(IF(A4=\"\",\"\",VLOOKUP(A4,[1]Hoja1!$B$2:$U$4999,3,FALSE)),0)","v":4631678},4631678,138,2,{"$f":"IFERROR(IF(A4=\"\",\"\",VLOOKUP(A4,[1]Hoja1!$B$2:$U$4999,10,FALSE)),0)","v":0},{"$f":"IFERROR(IF(Q4=\"\",\"\",VLOOKUP(Q4,[1]Hoja1!$D$2:$AF$4999,29,FALSE)),\"NO EXISTE CUENTA\")","v":"00116102702100001006"},0,null,"VALDIVIA PAZ MANUEL LEONCIO"]
[141,{"$f":"IFERROR(IF(A5=\"\",\"\",VLOOKUP(A5,[1]Hoja1!$B$2:$U$4999,9,FALSE)),0)","v":0},{"$f":"IFERROR(IF(A5=\"\",\"\",VLOOKUP(A5,[1]Hoja1!$B$2:$U$4999,2,FALSE)),\" --- NO EXISTE TRABAJADOR --- \")","v":"VELASQUEZ VILDOSO CESAR ENRIQUE"},"2018-06-05",0,116.3,1,2,"06.00 / 12.00","PE","PE1",{"$f":"IFERROR(IF(A5=\"\",\"\",VLOOKUP(A5,[1]Hoja1!$B$2:$U$4999,18,FALSE)),0)","v":0},{"$f":"IFERROR(IF(A5=\"\",\"\",VLOOKUP(A5,[1]Hoja1!$B$2:$U$4999,19,FALSE)),0)","v":46},"",null,{"$f":"IFERROR(IF(O5=\"\",\"\",VLOOKUP(O5,JORNADA!$A$19:$B$20,2,FALSE)),\"\")","v":""},{"$f":"IFERROR(IF(A5=\"\",\"\",VLOOKUP(A5,[1]Hoja1!$B$2:$U$4999,3,FALSE)),0)","v":4646267},4646267,141,3,{"$f":"IFERROR(IF(A5=\"\",\"\",VLOOKUP(A5,[1]Hoja1!$B$2:$U$4999,10,FALSE)),0)","v":0},{"$f":"IFERROR(IF(Q5=\"\",\"\",VLOOKUP(Q5,[1]Hoja1!$D$2:$AF$4999,29,FALSE)),\"NO EXISTE CUENTA\")","v":"00208014202100001006"},0,null,"VELASQUEZ VILDOSO CESAR ENRIQUE"]
[21,{"$f":"IFERROR(IF(A6=\"\",\"\",VLOOKUP(A6,[1]Hoja1!$B$2:$U$4999,9,FALSE)),0)","v":0},{"$f":"IFERROR(IF(A6=\"\",\"\",VLOOKUP(A6,[1]Hoja1!$B$2:$U$4999,2,FALSE)),\" --- NO EXISTE TRABAJADOR --- \")","v":"PINTO LINARES HELBERTH RAFAEL"},"2018-06-05",0,116.3,1,3,"06.00 / 12.00","TE","TE1",{"$f":"IFERROR(IF(A6=\"\",\"\",VLOOKUP(A6,[1]Hoja1!$B$2:$U$4999,18,FALSE)),0)","v":0},{"$f":"IFERROR(IF(A6=\"\",\"\",VLOOKUP(A6,[1]Hoja1!$B$2:$U$4999,19,FALSE)),0)","v":57},"",null,{"$f":"IFERROR(IF(O6=\"\",\"\",VLOOKUP(O6,JORNADA!$A$19:$B$20,2,FALSE)),\"\")","v":""},{"$f":"IFERROR(IF(A6=\"\",\"\",VLOOKUP(A6,[1]Hoja1!$B$2:$U$4999,3,FALSE)),0)","v":4437139},4437139,21,4,{"$f":"IFERROR(IF(A6=\"\",\"\",VLOOKUP(A6,[1]Hoja1!$B$2:$U$4999,10,FALSE)),0)","v":0},{"$f":"IFERROR(IF(Q6=\"\",\"\",VLOOKUP(Q6,[1]Hoja1!$D$2:$AF$4999,29,FALSE)),\"NO EXISTE CUENTA\")","v":"00115998202100001006"},0,null,"PINTO LINARES HELBERTH RAFAEL"]
[238,{"$f":"IFERROR(IF(A7=\"\",\"\",VLOOKUP(A7,[1]Hoja1!$B$2:$U$4999,9,FALSE)),0)","v":0},{"$f":"IFERROR(IF(A7=\"\",\"\",VLOOKUP(A7,[1]Hoja1!$B$2:$U$4999,2,FALSE)),\" --- NO EXISTE TRABAJADOR --- \")","v":"FERNANDEZ TICONA JOSE ALBERTO"},"2018-06-05",0,116.3,1,4,"06.00 / 12.00","BE","BE1",{"$f":"IFERROR(IF(A7=\"\",\"\",VLOOKUP(A7,[1]Hoja1!$B$2:$U$4999,18,FALSE)),0)","v":0},{"$f":"IFERROR(IF(A7=\"\",\"\",VLOOKUP(A7,[1]Hoja1!$B$2:$U$4999,19,FALSE)),0)","v":54},"",null,{"$f":"IFERROR(IF(O7=\"\",\"\",VLOOKUP(O7,JORNADA!$A$19:$B$20,2,FALSE)),\"\")","v":""},{"$f":"IFERROR(IF(A7=\"\",\"\",VLOOKUP(A7,[1]Hoja1!$B$2:$U$4999,3,FALSE)),0)","v":4633135},4633135,238,5,{"$f":"IFERROR(IF(A7=\"\",\"\",VLOOKUP(A7,[1]Hoja1!$B$2:$U$4999,10,FALSE)),0)","v":0},{"$f":"IFERROR(IF(Q7=\"\",\"\",VLOOKUP(Q7,[1]Hoja1!$D$2:$AF$4999,29,FALSE)),\"NO EXISTE CUENTA\")","v":"00004365702100001006"},null,null,"FERNANDEZ TICONA JOSE ALBERTO"]
[255,{"$f":"IFERROR(IF(A8=\"\",\"\",VLOOKUP(A8,[1]Hoja1!$B$2:$U$4999,9,FALSE)),0)","v":0},{"$f":"IFERROR(IF(A8=\"\",\"\",VLOOKUP(A8,[1]Hoja1!$B$2:$U$4999,2,FALSE)),\" --- NO EXISTE TRABAJADOR --- \")","v":"VICENTE LUYO EVERTH EDWIN"},"2018-06-05",0,116.3,1,4,"06.00 / 12.00","BE","BE1",{"$f":"IFERROR(IF(A8=\"\",\"\",VLOOKUP(A8,[1]Hoja1!$B$2:$U$4999,18,FALSE)),0)","v":0},{"$f":"IFERROR(IF(A8=\"\",\"\",VLOOKUP(A8,[1]Hoja1!$B$2:$U$4999,19,FALSE)),0)","v":42},"",null,{"$f":"IFERROR(IF(O8=\"\",\"\",VLOOKUP(O8,JORNADA!$A$19:$B$20,2,FALSE)),\"\")","v":""},{"$f":"IFERROR(IF(A8=\"\",\"\",VLOOKUP(A8,[1]Hoja1!$B$2:$U$4999,3,FALSE)),0)","v":4652901},4652901,255,6,{"$f":"IFERROR(IF(A8=\"\",\"\",VLOOKUP(A8,[1]Hoja1!$B$2:$U$4999,10,FALSE)),0)","v":0},{"$f":"IFERROR(IF(Q8=\"\",\"\",VLOOKUP(Q8,[1]Hoja1!$D$2:$AF$4999,29,FALSE)),\"NO EXISTE CUENTA\")","v":"00118113202100001006"},null,null,"VICENTE LUYO EVERTH EDWIN"]
[266,{"$f":"IFERROR(IF(A9=\"\",\"\",VLOOKUP(A9,[1]Hoja1!$B$2:$U$4999,9,FALSE)),0)","v":0},{"$f":"IFERROR(IF(A9=\"\",\"\",VLOOKUP(A9,[1]Hoja1!$B$2:$U$4999,2,FALSE)),\" --- NO EXISTE TRABAJADOR --- \")","v":"TOALA TOALA CARLOS ELMER"},"2018-06-05",0,116.3,1,4,"06.00 / 12.00","BE","BE1",{"$f":"IFERROR(IF(A9=\"\",\"\",VLOOKUP(A9,[1]Hoja1!$B$2:$U$4999,18,FALSE)),0)","v":0},{"$f":"IFERROR(IF(A9=\"\",\"\",VLOOKUP(A9,[1]Hoja1!$B$2:$U$4999,19,FALSE)),0)","v":47},"",null,{"$f":"IFERROR(IF(O9=\"\",\"\",VLOOKUP(O9,JORNADA!$A$19:$B$20,2,FALSE)),\"\")","v":""},{"$f":"IFERROR(IF(A9=\"\",\"\",VLOOKUP(A9,[1]Hoja1!$B$2:$U$4999,3,FALSE)),0)","v":4646697},4646697,266,7,{"$f":"IFERROR(IF(A9=\"\",\"\",VLOOKUP(A9,[1]Hoja1!$B$2:$U$4999,10,FALSE)),0)","v":0},{"$f":"IFERROR(IF(Q9=\"\",\"\",VLOOKUP(Q9,[1]Hoja1!$D$2:$AF$4999,29,FALSE)),\"NO EXISTE CUENTA\")","v":"00051095102100003006"},null,null,"TOALA TOALA CARLOS ELMER"]
[273,{"$f":"IFERROR(IF(A10=\"\",\"\",VLOOKUP(A10,[1]Hoja1!$B$2:$U$4999,9,FALSE)),0)","v":0},{"$f":"IFERROR(IF(A10=\"\",\"\",VLOOKUP(A10,[1]Hoja1!$B$2:$U$4999,2,FALSE)),\" --- NO EXISTE TRABAJADOR --- \")","v":"MOSTAJO ARIAS GUILLERMO HENRY"},"2018-06-05",0,116.3,1,4,"06.00 / 12.00","BE","BE1",{"$f":"IFERROR(IF(A10=\"\",\"\",VLOOKUP(A10,[1]Hoja1!$B$2:$U$4999,18,FALSE)),0)","v":0},{"$f":"IFERROR(IF(A10=\"\",\"\",VLOOKUP(A10,[1]Hoja1!$B$2:$U$4999,19,FALSE)),0)","v":40},"",null,{"$f":"IFERROR(IF(O10=\"\",\"\",VLOOKUP(O10,JORNADA!$A$19:$B$20,2,FALSE)),\"\")","v":""},{"$f":"IFERROR(IF(A10=\"\",\"\",VLOOKUP(A10,[1]Hoja1!$B$2:$U$4999,3,FALSE)),0)","v":4749521},4749521,273,8,{"$f":"IFERROR(IF(A10=\"\",\"\",VLOOKUP(A10,[1]Hoja1!$B$2:$U$4999,10,FALSE)),0)","v":0},{"$f":"IFERROR(IF(Q10=\"\",\"\",VLOOKUP(Q10,[1]Hoja1!$D$2:$AF$4999,29,FALSE)),\"NO EXISTE CUENTA\")","v":"00047904702100002006"},null,null,"MOSTAJO ARIAS GUILLERMO HENRY"]
[331,{"$f":"IFERROR(IF(A11=\"\",\"\",VLOOKUP(A11,[1]Hoja1!$B$2:$U$4999,9,FALSE)),0)","v":0},{"$f":"IFERROR(IF(A11=\"\",\"\",VLOOKUP(A11,[1]Hoja1!$B$2:$U$4999,2,FALSE)),\" --- NO EXISTE TRABAJADOR --- \")","v":"TICONA MAMANI NELSON OSWALDO"},"2018-06-05",0,116.3,1,4,"06.00 / 12.00","BE","BE1",{"$f":"IFERROR(IF(A11=\"\",\"\",VLOOKUP(A11,[1]Hoja1!$B$2:$U$4999,18,FALSE)),0)","v":0},{"$f":"IFERROR(IF(A11=\"\",\"\",VLOOKUP(A11,[1]Hoja1!$B$2:$U$4999,19,FALSE)),0)","v":43},"",null,{"$f":"IFERROR(IF(O11=\"\",\"\",VLOOKUP(O11,JORNADA!$A$19:$B$20,2,FALSE)),\"\")","v":""},{"$f":"IFERROR(IF(A11=\"\",\"\",VLOOKUP(A11,[1]Hoja1!$B$2:$U$4999,3,FALSE)),0)","v":4748137},4748137,331,9,{"$f":"IFERROR(IF(A11=\"\",\"\",VLOOKUP(A11,[1]Hoja1!$B$2:$U$4999,10,FALSE)),0)","v":0},{"$f":"IFERROR(IF(Q11=\"\",\"\",VLOOKUP(Q11,[1]Hoja1!$D$2:$AF$4999,29,FALSE)),\"NO EXISTE CUENTA\")","v":"00059573602100002006"},null,null,"TICONA MAMANI NELSON OSWALDO"]
[338,{"$f":"IFERROR(IF(A12=\"\",\"\",VLOOKUP(A12,[1]Hoja1!$B$2:$U$4999,9,FALSE)),0)","v":0},{"$f":"IFERROR(IF(A12=\"\",\"\",VLOOKUP(A12,[1]Hoja1!$B$2:$U$4999,2,FALSE)),\" --- NO EXISTE TRABAJADOR --- \")","v":"GONGORA CONDORI JOSE WILBER"},"2018-06-05",0,116.3,1,4,"06.00 / 12.00","BE","BE1",{"$f":"IFERROR(IF(A12=\"\",\"\",VLOOKUP(A12,[1]Hoja1!$B$2:$U$4999,18,FALSE)),0)","v":0},{"$f":"IFERROR(IF(A12=\"\",\"\",VLOOKUP(A12,[1]Hoja1!$B$2:$U$4999,19,FALSE)),0)","v":41},"",null,{"$f":"IFERROR(IF(O12=\"\",\"\",VLOOKUP(O12,JORNADA!$A$19:$B$20,2,FALSE)),\"\")","v":""},{"$f":"IFERROR(IF(A12=\"\",\"\",VLOOKUP(A12,[1]Hoja1!$B$2:$U$4999,3,FALSE)),0)","v":40329928},40329928,338,10,{"$f":"IFERROR(IF(A12=\"\",\"\",VLOOKUP(A12,[1]Hoja1!$B$2:$U$4999,10,FALSE)),0)","v":0},{"$f":"IFERROR(IF(Q12=\"\",\"\",VLOOKUP(Q12,[1]Hoja1!$D$2:$AF$4999,29,FALSE)),\"NO EXISTE CUENTA\")","v":"00070782302100002006"},null,null,"GONGORA CONDORI JOSE WILBER"]
[339,{"$f":"IFERROR(IF(A13=\"\",\"\",VLOOKUP(A13,[1]Hoja1!$B$2:$U$4999,9,FALSE)),0)","v":0},{"$f":"IFERROR(IF(A13=\"\",\"\",VLOOKUP(A13,[1]Hoja1!$B$2:$U$4999,2,FALSE)),\" --- NO EXISTE TRABAJADOR --- \")","v":"RODRIGUEZ DELGADO MIGUEL ANGEL"},"2018-06-05",0,116.3,1,4,"06.00 / 12.00","BE","BE1",{"$f":"IFERROR(IF(A13=\"\",\"\",VLOOKUP(A13,[1]Hoja1!$B$2:$U$4999,18,FALSE)),0)","v":0},{"$f":"IFERROR(IF(A13=\"\",\"\",VLOOKUP(A13,[1]Hoja1!$B$2:$U$4999,19,FALSE)),0)","v":35},"",null,{"$f":"IFERROR(IF(O13=\"\",\"\",VLOOKUP(O13,JORNADA!$A$19:$B$20,2,FALSE)),\"\")","v":""},{"$f":"IFERROR(IF(A13=\"\",\"\",VLOOKUP(A13,[1]Hoja1!$B$2:$U$4999,3,FALSE)),0)","v":42461564},42461564,339,11,{"$f":"IFERROR(IF(A13=\"\",\"\",VLOOKUP(A13,[1]Hoja1!$B$2:$U$4999,10,FALSE)),0)","v":0},{"$f":"IFERROR(IF(Q13=\"\",\"\",VLOOKUP(Q13,[1]Hoja1!$D$2:$AF$4999,29,FALSE)),\"NO EXISTE CUENTA\")","v":"00116038602100003006"},null,null,"RODRIGUEZ DELGADO MIGUEL ANGEL"]
[341,{"$f":"IFERROR(IF(A14=\"\",\"\",VLOOKUP(A14,[1]Hoja1!$B$2:$U$4999,9,FALSE)),0)","v":0},{"$f":"IFERROR(IF(A14=\"\",\"\",VLOOKUP(A14,[1]Hoja1!$B$2:$U$4999,2,FALSE)),\" --- NO EXISTE TRABAJADOR --- \")","v":"RAMIREZ SANCHEZ JOSE MANUEL"},"2018-06-05",0,116.3,1,4,"06.00 / 12.00","BE","BE1",{"$f":"IFERROR(IF(A14=\"\",\"\",VLOOKUP(A14,[1]Hoja1!$B$2:$U$4999,18,FALSE)),0)","v":0},{"$f":"IFERROR(IF(A14=\"\",\"\",VLOOKUP(A14,[1]Hoja1!$B$2:$U$4999,19,FALSE)),0)","v":42},"",null,{"$f":"IFERROR(IF(O14=\"\",\"\",VLOOKUP(O14,JORNADA!$A$19:$B$20,2,FALSE)),\"\")","v":""},{"$f":"IFERROR(IF(A14=\"\",\"\",VLOOKUP(A14,[1]Hoja1!$B$2:$U$4999,3,FALSE)),0)","v":4651359},4651359,341,12,{"$f":"IFERROR(IF(A14=\"\",\"\",VLOOKUP(A14,[1]Hoja1!$B$2:$U$4999,10,FALSE)),0)","v":0},{"$f":"IFERROR(IF(Q14=\"\",\"\",VLOOKUP(Q14,[1]Hoja1!$D$2:$AF$4999,29,FALSE)),\"NO EXISTE CUENTA\")","v":"00116006002100001006"},null,null,"RAMIREZ SANCHEZ JOSE MANUEL"]
[342,{"$f":"IFERROR(IF(A15=\"\",\"\",VLOOKUP(A15,[1]Hoja1!$B$2:$U$4999,9,FALSE)),0)","v":0},{"$f":"IFERROR(IF(A15=\"\",\"\",VLOOKUP(A15,[1]Hoja1!$B$2:$U$4999,2,FALSE)),\" --- NO EXISTE TRABAJADOR --- \")","v":"REYNOSO CHOCANO JORGE VICTOR"},"2018-06-05",0,0,1,5,"06.00 / 12.00","ME","ME1",{"$f":"IFERROR(IF(A15=\"\",\"\",VLOOKUP(A15,[1]Hoja1!$B$2:$U$4999,18,FALSE)),0)","v":0},{"$f":"IFERROR(IF(A15=\"\",\"\",VLOOKUP(A15,[1]Hoja1!$B$2:$U$4999,19,FALSE)),0)","v":62},"",null,{"$f":"IFERROR(IF(O15=\"\",\"\",VLOOKUP(O15,JORNADA!$A$19:$B$20,2,FALSE)),\"\")","v":""},{"$f":"IFERROR(IF(A15=\"\",\"\",VLOOKUP(A15,[1]Hoja1!$B$2:$U$4999,3,FALSE)),0)","v":4622923},4622923,342,13,{"$f":"IFERROR(IF(A15=\"\",\"\",VLOOKUP(A15,[1]Hoja1!$B$2:$U$4999,10,FALSE)),0)","v":0},{"$f":"IFERROR(IF(Q15=\"\",\"\",VLOOKUP(Q15,[1]Hoja1!$D$2:$AF$4999,29,FALSE)),\"NO EXISTE CUENTA\")","v":"00116027302100001006"},null,null,"REYNOSO CHOCANO JORGE VICTOR"]
[346,{"$f":"IFERROR(IF(A16=\"\",\"\",VLOOKUP(A16,[1]Hoja1!$B$2:$U$4999,9,FALSE)),0)","v":0},{"$f":"IFERROR(IF(A16=\"\",\"\",VLOOKUP(A16,[1]Hoja1!$B$2:$U$4999,2,FALSE)),\" --- NO EXISTE TRABAJADOR --- \")","v":"SOTO SALAS JHONATAN GIANCARLO"},"2018-06-05",0,0,1,5,"06.00 / 12.00","ME","ME1",{"$f":"IFERROR(IF(A16=\"\",\"\",VLOOKUP(A16,[1]Hoja1!$B$2:$U$4999,18,FALSE)),0)","v":0},{"$f":"IFERROR(IF(A16=\"\",\"\",VLOOKUP(A16,[1]Hoja1!$B$2:$U$4999,19,FALSE)),0)","v":30},"",null,{"$f":"IFERROR(IF(O16=\"\",\"\",VLOOKUP(O16,JORNADA!$A$19:$B$20,2,FALSE)),\"\")","v":""},{"$f":"IFERROR(IF(A16=\"\",\"\",VLOOKUP(A16,[1]Hoja1!$B$2:$U$4999,3,FALSE)),0)","v":45077426},45077426,346,14,{"$f":"IFERROR(IF(A16=\"\",\"\",VLOOKUP(A16,[1]Hoja1!$B$2:$U$4999,10,FALSE)),0)","v":0},{"$f":"IFERROR(IF(Q16=\"\",\"\",VLOOKUP(Q16,[1]Hoja1!$D$2:$AF$4999,29,FALSE)),\"NO EXISTE CUENTA\")","v":"00116086302100001006"},null,null,"SOTO SALAS JHONATAN GIANCARLO"]
[347,{"$f":"IFERROR(IF(A17=\"\",\"\",VLOOKUP(A17,[1]Hoja1!$B$2:$U$4999,9,FALSE)),0)","v":0},{"$f":"IFERROR(IF(A17=\"\",\"\",VLOOKUP(A17,[1]Hoja1!$B$2:$U$4999,2,FALSE)),\" --- NO EXISTE TRABAJADOR --- \")","v":"RAMIREZ BEJARANO FERNANDO ENRIQUE"},"2018-06-05",0,0,1,5,"06.00 / 12.00","ME","ME1",{"$f":"IFERROR(IF(A17=\"\",\"\",VLOOKUP(A17,[1]Hoja1!$B$2:$U$4999,18,FALSE)),0)","v":0},{"$f":"IFERROR(IF(A17=\"\",\"\",VLOOKUP(A17,[1]Hoja1!$B$2:$U$4999,19,FALSE)),0)","v":36},"",null,{"$f":"IFERROR(IF(O17=\"\",\"\",VLOOKUP(O17,JORNADA!$A$19:$B$20,2,FALSE)),\"\")","v":""},{"$f":"IFERROR(IF(A17=\"\",\"\",VLOOKUP(A17,[1]Hoja1!$B$2:$U$4999,3,FALSE)),0)","v":40948134},40948134,347,15,{"$f":"IFERROR(IF(A17=\"\",\"\",VLOOKUP(A17,[1]Hoja1!$B$2:$U$4999,10,FALSE)),0)","v":0},{"$f":"IFERROR(IF(Q17=\"\",\"\",VLOOKUP(Q17,[1]Hoja1!$D$2:$AF$4999,29,FALSE)),\"NO EXISTE CUENTA\")","v":"00005310702100002006"},null,null,"RAMIREZ BEJARANO FERNANDO ENRIQUE"]
[352,{"$f":"IFERROR(IF(A18=\"\",\"\",VLOOKUP(A18,[1]Hoja1!$B$2:$U$4999,9,FALSE)),0)","v":0},{"$f":"IFERROR(IF(A18=\"\",\"\",VLOOKUP(A18,[1]Hoja1!$B$2:$U$4999,2,FALSE)),\" --- NO EXISTE TRABAJADOR --- \")","v":"ZAVALETA DE LA TORRE EDWUARDO HUGO"},"2018-06-05",0,0,1,5,"06.00 / 12.00","ME","ME1",{"$f":"IFERROR(IF(A18=\"\",\"\",VLOOKUP(A18,[1]Hoja1!$B$2:$U$4999,18,FALSE)),0)","v":0},{"$f":"IFERROR(IF(A18=\"\",\"\",VLOOKUP(A18,[1]Hoja1!$B$2:$U$4999,19,FALSE)),0)","v":44},"",null,{"$f":"IFERROR(IF(O18=\"\",\"\",VLOOKUP(O18,JORNADA!$A$19:$B$20,2,FALSE)),\"\")","v":""},{"$f":"IFERROR(IF(A18=\"\",\"\",VLOOKUP(A18,[1]Hoja1!$B$2:$U$4999,3,FALSE)),0)","v":22301110},22301110,352,16,{"$f":"IFERROR(IF(A18=\"\",\"\",VLOOKUP(A18,[1]Hoja1!$B$2:$U$4999,10,FALSE)),0)","v":0},{"$f":"IFERROR(IF(Q18=\"\",\"\",VLOOKUP(Q18,[1]Hoja1!$D$2:$AF$4999,29,FALSE)),\"NO EXISTE CUENTA\")","v":"00083653302100001006"},null,null,"ZAVALETA DE LA TORRE EDWUARDO HUGO"]
[80,{"$f":"IFERROR(IF(A19=\"\",\"\",VLOOKUP(A19,[1]Hoja1!$B$2:$U$4999,9,FALSE)),0)","v":0},{"$f":"IFERROR(IF(A19=\"\",\"\",VLOOKUP(A19,[1]Hoja1!$B$2:$U$4999,2,FALSE)),\" --- NO EXISTE TRABAJADOR --- \")","v":"CASTILLO PORTALES RENE BERNARDINO"},"2018-06-05",0,175.22499999999999,2,1,"12.00 / 18.00","WE","WE2",{"$f":"IFERROR(IF(A19=\"\",\"\",VLOOKUP(A19,[1]Hoja1!$B$2:$U$4999,18,FALSE)),0)","v":0},{"$f":"IFERROR(IF(A19=\"\",\"\",VLOOKUP(A19,[1]Hoja1!$B$2:$U$4999,19,FALSE)),0)","v":62},"",null,{"$f":"IFERROR(IF(O19=\"\",\"\",VLOOKUP(O19,JORNADA!$A$19:$B$20,2,FALSE)),\"\")","v":""},{"$f":"IFERROR(IF(A19=\"\",\"\",VLOOKUP(A19,[1]Hoja1!$B$2:$U$4999,3,FALSE)),0)","v":4623806},4623806,80,17,{"$f":"IFERROR(IF(A19=\"\",\"\",VLOOKUP(A19,[1]Hoja1!$B$2:$U$4999,10,FALSE)),0)","v":0},{"$f":"IFERROR(IF(Q19=\"\",\"\",VLOOKUP(Q19,[1]Hoja1!$D$2:$AF$4999,29,FALSE)),\"NO EXISTE CUENTA\")","v":"00116461602100001006"},null,null,"CASTILLO PORTALES RENE BERNARDINO"]
[83,{"$f":"IFERROR(IF(A20=\"\",\"\",VLOOKUP(A20,[1]Hoja1!$B$2:$U$4999,9,FALSE)),0)","v":0},{"$f":"IFERROR(IF(A20=\"\",\"\",VLOOKUP(A20,[1]Hoja1!$B$2:$U$4999,2,FALSE)),\" --- NO EXISTE TRABAJADOR --- \")","v":"MEZA VALDIVIA ANDRES ABELINO"},"2018-06-05",0,175.22499999999999,2,1,"12.00 / 18.00","WE","WE2",{"$f":"IFERROR(IF(A20=\"\",\"\",VLOOKUP(A20,[1]Hoja1!$B$2:$U$4999,18,FALSE)),0)","v":0},{"$f":"IFERROR(IF(A20=\"\",\"\",VLOOKUP(A20,[1]Hoja1!$B$2:$U$4999,19,FALSE)),0)","v":66},"",null,{"$f":"IFERROR(IF(O20=\"\",\"\",VLOOKUP(O20,JORNADA!$A$19:$B$20,2,FALSE)),\"\")","v":""},{"$f":"IFERROR(IF(A20=\"\",\"\",VLOOKUP(A20,[1]Hoja1!$B$2:$U$4999,3,FALSE)),0)","v":4635505},4635505,83,18,{"$f":"IFERROR(IF(A20=\"\",\"\",VLOOKUP(A20,[1]Hoja1!$B$2:$U$4999,10,FALSE)),0)","v":0},{"$f":"IFERROR(IF(Q20=\"\",\"\",VLOOKUP(Q20,[1]Hoja1!$D$2:$AF$4999,29,FALSE)),\"NO EXISTE CUENTA\")","v":"00076085102100003006"},null,null,"MEZA VALDIVIA ANDRES ABELINO"]
[167,{"$f":"IFERROR(IF(A21=\"\",\"\",VLOOKUP(A21,[1]Hoja1!$B$2:$U$4999,9,FALSE)),0)","v":0},{"$f":"IFERROR(IF(A21=\"\",\"\",VLOOKUP(A21,[1]Hoja1!$B$2:$U$4999,2,FALSE)),\" --- NO EXISTE TRABAJADOR --- \")","v":"UGARTE LEANDRO ROLANDO"},"2018-06-05",0,175.22499999999999,2,2,"12.00 / 18.00","PE","PE2",{"$f":"IFERROR(IF(A21=\"\",\"\",VLOOKUP(A21,[1]Hoja1!$B$2:$U$4999,18,FALSE)),0)","v":0},{"$f":"IFERROR(IF(A21=\"\",\"\",VLOOKUP(A21,[1]Hoja1!$B$2:$U$4999,19,FALSE)),0)","v":59},"",null,{"$f":"IFERROR(IF(O21=\"\",\"\",VLOOKUP(O21,JORNADA!$A$19:$B$20,2,FALSE)),\"\")","v":""},{"$f":"IFERROR(IF(A21=\"\",\"\",VLOOKUP(A21,[1]Hoja1!$B$2:$U$4999,3,FALSE)),0)","v":4629214},4629214,167,19,{"$f":"IFERROR(IF(A21=\"\",\"\",VLOOKUP(A21,[1]Hoja1!$B$2:$U$4999,10,FALSE)),0)","v":0},{"$f":"IFERROR(IF(Q21=\"\",\"\",VLOOKUP(Q21,[1]Hoja1!$D$2:$AF$4999,29,FALSE)),\"NO EXISTE CUENTA\")","v":"00076361802100002006"},null,null,"UGARTE LEANDRO ROLANDO"]
[41,{"$f":"IFERROR(IF(A22=\"\",\"\",VLOOKUP(A22,[1]Hoja1!$B$2:$U$4999,9,FALSE)),0)","v":0},{"$f":"IFERROR(IF(A22=\"\",\"\",VLOOKUP(A22,[1]Hoja1!$B$2:$U$4999,2,FALSE)),\" --- NO EXISTE TRABAJADOR --- \")","v":"VARGAS ALMESTAR VICTOR RAUL"},"2018-06-05",0,175.22499999999999,2,3,"12.00 / 18.00","TE","TE2",{"$f":"IFERROR(IF(A22=\"\",\"\",VLOOKUP(A22,[1]Hoja1!$B$2:$U$4999,18,FALSE)),0)","v":0},{"$f":"IFERROR(IF(A22=\"\",\"\",VLOOKUP(A22,[1]Hoja1!$B$2:$U$4999,19,FALSE)),0)","v":69},"",null,{"$f":"IFERROR(IF(O22=\"\",\"\",VLOOKUP(O22,JORNADA!$A$19:$B$20,2,FALSE)),\"\")","v":""},{"$f":"IFERROR(IF(A22=\"\",\"\",VLOOKUP(A22,[1]Hoja1!$B$2:$U$4999,3,FALSE)),0)","v":4622117},4622117,41,20,{"$f":"IFERROR(IF(A22=\"\",\"\",VLOOKUP(A22,[1]Hoja1!$B$2:$U$4999,10,FALSE)),0)","v":0},{"$f":"IFERROR(IF(Q22=\"\",\"\",VLOOKUP(Q22,[1]Hoja1!$D$2:$AF$4999,29,FALSE)),\"NO EXISTE CUENTA\")","v":"00084820902100001006"},null,null,"VARGAS ALMESTAR VICTOR RAUL"]
[42,{"$f":"IFERROR(IF(A23=\"\",\"\",VLOOKUP(A23,[1]Hoja1!$B$2:$U$4999,9,FALSE)),0)","v":0},{"$f":"IFERROR(IF(A23=\"\",\"\",VLOOKUP(A23,[1]Hoja1!$B$2:$U$4999,2,FALSE)),\" --- NO EXISTE TRABAJADOR --- \")","v":"MAMANI CHAMBI JESUS"},"2018-06-05",0,175.22499999999999,2,4,"12.00 / 18.00","BE","BE2",{"$f":"IFERROR(IF(A23=\"\",\"\",VLOOKUP(A23,[1]Hoja1!$B$2:$U$4999,18,FALSE)),0)","v":0},{"$f":"IFERROR(IF(A23=\"\",\"\",VLOOKUP(A23,[1]Hoja1!$B$2:$U$4999,19,FALSE)),0)","v":62},"",null,{"$f":"IFERROR(IF(O23=\"\",\"\",VLOOKUP(O23,JORNADA!$A$19:$B$20,2,FALSE)),\"\")","v":""},{"$f":"IFERROR(IF(A23=\"\",\"\",VLOOKUP(A23,[1]Hoja1!$B$2:$U$4999,3,FALSE)),0)","v":4625431},4625431,42,21,{"$f":"IFERROR(IF(A23=\"\",\"\",VLOOKUP(A23,[1]Hoja1!$B$2:$U$4999,10,FALSE)),0)","v":0},{"$f":"IFERROR(IF(Q23=\"\",\"\",VLOOKUP(Q23,[1]Hoja1!$D$2:$AF$4999,29,FALSE)),\"NO EXISTE CUENTA\")","v":"00007003702100001006"},null,null,"MAMANI CHAMBI JESUS"]
[43,{"$f":"IFERROR(IF(A24=\"\",\"\",VLOOKUP(A24,[1]Hoja1!$B$2:$U$4999,9,FALSE)),0)","v":0},{"$f":"IFERROR(IF(A24=\"\",\"\",VLOOKUP(A24,[1]Hoja1!$B$2:$U$4999,2,FALSE)),\" --- NO EXISTE TRABAJADOR --- \")","v":"ALFARO HUANACUNI PASCUAL"},"2018-06-05",0,175.22499999999999,2,4,"12.00 / 18.00","BE","BE2",{"$f":"IFERROR(IF(A24=\"\",\"\",VLOOKUP(A24,[1]Hoja1!$B$2:$U$4999,18,FALSE)),0)","v":0},{"$f":"IFERROR(IF(A24=\"\",\"\",VLOOKUP(A24,[1]Hoja1!$B$2:$U$4999,19,FALSE)),0)","v":58},"",null,{"$f":"IFERROR(IF(O24=\"\",\"\",VLOOKUP(O24,JORNADA!$A$19:$B$20,2,FALSE)),\"\")","v":""},{"$f":"IFERROR(IF(A24=\"\",\"\",VLOOKUP(A24,[1]Hoja1!$B$2:$U$4999,3,FALSE)),0)","v":4623352},4623352,43,22,{"$f":"IFERROR(IF(A24=\"\",\"\",VLOOKUP(A24,[1]Hoja1!$B$2:$U$4999,10,FALSE)),0)","v":0},{"$f":"IFERROR(IF(Q24=\"\",\"\",VLOOKUP(Q24,[1]Hoja1!$D$2:$AF$4999,29,FALSE)),\"NO EXISTE CUENTA\")","v":"00116233402100001006"},null,null,"ALFARO HUANACUNI PASCUAL"]
[47,{"$f":"IFERROR(IF(A25=\"\",\"\",VLOOKUP(A25,[1]Hoja1!$B$2:$U$4999,9,FALSE)),0)","v":0},{"$f":"IFERROR(IF(A25=\"\",\"\",VLOOKUP(A25,[1]Hoja1!$B$2:$U$4999,2,FALSE)),\" --- NO EXISTE TRABAJADOR --- \")","v":"PAREDES CHIPANA EDGAR DANIEL"},"2018-06-05",0,175.22499999999999,2,4,"12.00 / 18.00","BE","BE2",{"$f":"IFERROR(IF(A25=\"\",\"\",VLOOKUP(A25,[1]Hoja1!$B$2:$U$4999,18,FALSE)),0)","v":0},{"$f":"IFERROR(IF(A25=\"\",\"\",VLOOKUP(A25,[1]Hoja1!$B$2:$U$4999,19,FALSE)),0)","v":42},"",null,{"$f":"IFERROR(IF(O25=\"\",\"\",VLOOKUP(O25,JORNADA!$A$19:$B$20,2,FALSE)),\"\")","v":""},{"$f":"IFERROR(IF(A25=\"\",\"\",VLOOKUP(A25,[1]Hoja1!$B$2:$U$4999,3,FALSE)),0)","v":4748729},4748729,47,23,{"$f":"IFERROR(IF(A25=\"\",\"\",VLOOKUP(A25,[1]Hoja1!$B$2:$U$4999,10,FALSE)),0)","v":0},{"$f":"IFERROR(IF(Q25=\"\",\"\",VLOOKUP(Q25,[1]Hoja1!$D$2:$AF$4999,29,FALSE)),\"NO EXISTE CUENTA\")","v":"00058828302100002006"},null,null,"PAREDES CHIPANA EDGAR DANIEL"]
[51,{"$f":"IFERROR(IF(A26=\"\",\"\",VLOOKUP(A26,[1]Hoja1!$B$2:$U$4999,9,FALSE)),0)","v":0},{"$f":"IFERROR(IF(A26=\"\",\"\",VLOOKUP(A26,[1]Hoja1!$B$2:$U$4999,2,FALSE)),\" --- NO EXISTE TRABAJADOR --- \")","v":"APAZA SULCA VICTOR JOSE"},"2018-06-05",0,175.22499999999999,2,4,"12.00 / 18.00","BE","BE2",{"$f":"IFERROR(IF(A26=\"\",\"\",VLOOKUP(A26,[1]Hoja1!$B$2:$U$4999,18,FALSE)),0)","v":0},{"$f":"IFERROR(IF(A26=\"\",\"\",VLOOKUP(A26,[1]Hoja1!$B$2:$U$4999,19,FALSE)),0)","v":48},"",null,{"$f":"IFERROR(IF(O26=\"\",\"\",VLOOKUP(O26,JORNADA!$A$19:$B$20,2,FALSE)),\"\")","v":""},{"$f":"IFERROR(IF(A26=\"\",\"\",VLOOKUP(A26,[1]Hoja1!$B$2:$U$4999,3,FALSE)),0)","v":4645084},4645084,51,24,{"$f":"IFERROR(IF(A26=\"\",\"\",VLOOKUP(A26,[1]Hoja1!$B$2:$U$4999,10,FALSE)),0)","v":0},{"$f":"IFERROR(IF(Q26=\"\",\"\",VLOOKUP(Q26,[1]Hoja1!$D$2:$AF$4999,29,FALSE)),\"NO EXISTE CUENTA\")","v":"00116238402100001006"},null,null,"APAZA SULCA VICTOR JOSE"]
[52,{"$f":"IFERROR(IF(A27=\"\",\"\",VLOOKUP(A27,[1]Hoja1!$B$2:$U$4999,9,FALSE)),0)","v":0},{"$f":"IFERROR(IF(A27=\"\",\"\",VLOOKUP(A27,[1]Hoja1!$B$2:$U$4999,2,FALSE)),\" --- NO EXISTE TRABAJADOR --- \")","v":"RODRIGUEZ JUAREZ JORGE LUIS"},"2018-06-05",0,175.22499999999999,2,4,"12.00 / 18.00","BE","BE2",{"$f":"IFERROR(IF(A27=\"\",\"\",VLOOKUP(A27,[1]Hoja1!$B$2:$U$4999,18,FALSE)),0)","v":0},{"$f":"IFERROR(IF(A27=\"\",\"\",VLOOKUP(A27,[1]Hoja1!$B$2:$U$4999,19,FALSE)),0)","v":53},"",null,{"$f":"IFERROR(IF(O27=\"\",\"\",VLOOKUP(O27,JORNADA!$A$19:$B$20,2,FALSE)),\"\")","v":""},{"$f":"IFERROR(IF(A27=\"\",\"\",VLOOKUP(A27,[1]Hoja1!$B$2:$U$4999,3,FALSE)),0)","v":4627196},4627196,52,25,{"$f":"IFERROR(IF(A27=\"\",\"\",VLOOKUP(A27,[1]Hoja1!$B$2:$U$4999,10,FALSE)),0)","v":0},{"$f":"IFERROR(IF(Q27=\"\",\"\",VLOOKUP(Q27,[1]Hoja1!$D$2:$AF$4999,29,FALSE)),\"NO EXISTE CUENTA\")","v":"00116038802100001006"},null,null,"RODRIGUEZ JUAREZ JORGE LUIS"]
[53,{"$f":"IFERROR(IF(A28=\"\",\"\",VLOOKUP(A28,[1]Hoja1!$B$2:$U$4999,9,FALSE)),0)","v":0},{"$f":"IFERROR(IF(A28=\"\",\"\",VLOOKUP(A28,[1]Hoja1!$B$2:$U$4999,2,FALSE)),\" --- NO EXISTE TRABAJADOR --- \")","v":"LOPEZ FLORES MARIO LORENZO"},"2018-06-05",0,175.22499999999999,2,4,"12.00 / 18.00","BE","BE2",{"$f":"IFERROR(IF(A28=\"\",\"\",VLOOKUP(A28,[1]Hoja1!$B$2:$U$4999,18,FALSE)),0)","v":0},{"$f":"IFERROR(IF(A28=\"\",\"\",VLOOKUP(A28,[1]Hoja1!$B$2:$U$4999,19,FALSE)),0)","v":58},"",null,{"$f":"IFERROR(IF(O28=\"\",\"\",VLOOKUP(O28,JORNADA!$A$19:$B$20,2,FALSE)),\"\")","v":""},{"$f":"IFERROR(IF(A28=\"\",\"\",VLOOKUP(A28,[1]Hoja1!$B$2:$U$4999,3,FALSE)),0)","v":4632145},4632145,53,26,{"$f":"IFERROR(IF(A28=\"\",\"\",VLOOKUP(A28,[1]Hoja1!$B$2:$U$4999,10,FALSE)),0)","v":0},{"$f":"IFERROR(IF(Q28=\"\",\"\",VLOOKUP(Q28,[1]Hoja1!$D$2:$AF$4999,29,FALSE)),\"NO EXISTE CUENTA\")","v":"00211711402100001006"},null,null,"LOPEZ FLORES MARIO LORENZO"]
[57,{"$f":"IFERROR(IF(A29=\"\",\"\",VLOOKUP(A29,[1]Hoja1!$B$2:$U$4999,9,FALSE)),0)","v":0},{"$f":"IFERROR(IF(A29=\"\",\"\",VLOOKUP(A29,[1]Hoja1!$B$2:$U$4999,2,FALSE)),\" --- NO EXISTE TRABAJADOR --- \")","v":"ROQUE CHOCANO BENEDICTO DOMINGO"},"2018-06-05",0,175.22499999999999,2,4,"12.00 / 18.00","BE","BE2",{"$f":"IFERROR(IF(A29=\"\",\"\",VLOOKUP(A29,[1]Hoja1!$B$2:$U$4999,18,FALSE)),0)","v":0},{"$f":"IFERROR(IF(A29=\"\",\"\",VLOOKUP(A29,[1]Hoja1!$B$2:$U$4999,19,FALSE)),0)","v":64},"",null,{"$f":"IFERROR(IF(O29=\"\",\"\",VLOOKUP(O29,JORNADA!$A$19:$B$20,2,FALSE)),\"\")","v":""},{"$f":"IFERROR(IF(A29=\"\",\"\",VLOOKUP(A29,[1]Hoja1!$B$2:$U$4999,3,FALSE)),0)","v":4620974},4620974,57,27,{"$f":"IFERROR(IF(A29=\"\",\"\",VLOOKUP(A29,[1]Hoja1!$B$2:$U$4999,10,FALSE)),0)","v":0},{"$f":"IFERROR(IF(Q29=\"\",\"\",VLOOKUP(Q29,[1]Hoja1!$D$2:$AF$4999,29,FALSE)),\"NO EXISTE CUENTA\")","v":"00116330002100001006"},null,null,"ROQUE CHOCANO BENEDICTO DOMINGO"]
[62,{"$f":"IFERROR(IF(A30=\"\",\"\",VLOOKUP(A30,[1]Hoja1!$B$2:$U$4999,9,FALSE)),0)","v":0},{"$f":"IFERROR(IF(A30=\"\",\"\",VLOOKUP(A30,[1]Hoja1!$B$2:$U$4999,2,FALSE)),\" --- NO EXISTE TRABAJADOR --- \")","v":"RIVERA CARDENAS LUIS ALBERTO"},"2018-06-05",0,175.22499999999999,2,4,"12.00 / 18.00","BE","BE2",{"$f":"IFERROR(IF(A30=\"\",\"\",VLOOKUP(A30,[1]Hoja1!$B$2:$U$4999,18,FALSE)),0)","v":0},{"$f":"IFERROR(IF(A30=\"\",\"\",VLOOKUP(A30,[1]Hoja1!$B$2:$U$4999,19,FALSE)),0)","v":61},"",null,{"$f":"IFERROR(IF(O30=\"\",\"\",VLOOKUP(O30,JORNADA!$A$19:$B$20,2,FALSE)),\"\")","v":""},{"$f":"IFERROR(IF(A30=\"\",\"\",VLOOKUP(A30,[1]Hoja1!$B$2:$U$4999,3,FALSE)),0)","v":4622607},4622607,62,28,{"$f":"IFERROR(IF(A30=\"\",\"\",VLOOKUP(A30,[1]Hoja1!$B$2:$U$4999,10,FALSE)),0)","v":0},{"$f":"IFERROR(IF(Q30=\"\",\"\",VLOOKUP(Q30,[1]Hoja1!$D$2:$AF$4999,29,FALSE)),\"NO EXISTE CUENTA\")","v":"00116037202100001006"},null,null,"RIVERA CARDENAS LUIS ALBERTO"]
[64,{"$f":"IFERROR(IF(A31=\"\",\"\",VLOOKUP(A31,[1]Hoja1!$B$2:$U$4999,9,FALSE)),0)","v":0},{"$f":"IFERROR(IF(A31=\"\",\"\",VLOOKUP(A31,[1]Hoja1!$B$2:$U$4999,2,FALSE)),\" --- NO EXISTE TRABAJADOR --- \")","v":"COSSIO UTANI SALES FRANCISCO"},"2018-06-05",0,0,2,5,"12.00 / 18.00","ME","ME2",{"$f":"IFERROR(IF(A31=\"\",\"\",VLOOKUP(A31,[1]Hoja1!$B$2:$U$4999,18,FALSE)),0)","v":0},{"$f":"IFERROR(IF(A31=\"\",\"\",VLOOKUP(A31,[1]Hoja1!$B$2:$U$4999,19,FALSE)),0)","v":60},"",null,{"$f":"IFERROR(IF(O31=\"\",\"\",VLOOKUP(O31,JORNADA!$A$19:$B$20,2,FALSE)),\"\")","v":""},{"$f":"IFERROR(IF(A31=\"\",\"\",VLOOKUP(A31,[1]Hoja1!$B$2:$U$4999,3,FALSE)),0)","v":4625771},4625771,64,29,{"$f":"IFERROR(IF(A31=\"\",\"\",VLOOKUP(A31,[1]Hoja1!$B$2:$U$4999,10,FALSE)),0)","v":0},{"$f":"IFERROR(IF(Q31=\"\",\"\",VLOOKUP(Q31,[1]Hoja1!$D$2:$AF$4999,29,FALSE)),\"NO EXISTE CUENTA\")","v":"00099894402100001006"},null,null,"COSSIO UTANI SALES FRANCISCO"]
[66,{"$f":"IFERROR(IF(A32=\"\",\"\",VLOOKUP(A32,[1]Hoja1!$B$2:$U$4999,9,FALSE)),0)","v":0},{"$f":"IFERROR(IF(A32=\"\",\"\",VLOOKUP(A32,[1]Hoja1!$B$2:$U$4999,2,FALSE)),\" --- NO EXISTE TRABAJADOR --- \")","v":"MAMANI MAMANI PABLO"},"2018-06-05",0,0,2,5,"12.00 / 18.00","ME","ME2",{"$f":"IFERROR(IF(A32=\"\",\"\",VLOOKUP(A32,[1]Hoja1!$B$2:$U$4999,18,FALSE)),0)","v":0},{"$f":"IFERROR(IF(A32=\"\",\"\",VLOOKUP(A32,[1]Hoja1!$B$2:$U$4999,19,FALSE)),0)","v":57},"",null,{"$f":"IFERROR(IF(O32=\"\",\"\",VLOOKUP(O32,JORNADA!$A$19:$B$20,2,FALSE)),\"\")","v":""},{"$f":"IFERROR(IF(A32=\"\",\"\",VLOOKUP(A32,[1]Hoja1!$B$2:$U$4999,3,FALSE)),0)","v":4624886},4624886,66,30,{"$f":"IFERROR(IF(A32=\"\",\"\",VLOOKUP(A32,[1]Hoja1!$B$2:$U$4999,10,FALSE)),0)","v":0},{"$f":"IFERROR(IF(Q32=\"\",\"\",VLOOKUP(Q32,[1]Hoja1!$D$2:$AF$4999,29,FALSE)),\"NO EXISTE CUENTA\")","v":"00052170202100004006"},null,null,"MAMANI MAMANI PABLO"]
[70,{"$f":"IFERROR(IF(A33=\"\",\"\",VLOOKUP(A33,[1]Hoja1!$B$2:$U$4999,9,FALSE)),0)","v":0},{"$f":"IFERROR(IF(A33=\"\",\"\",VLOOKUP(A33,[1]Hoja1!$B$2:$U$4999,2,FALSE)),\" --- NO EXISTE TRABAJADOR --- \")","v":"TORRES CRUZ CARLOS ENRIQUE"},"2018-06-05",0,0,2,5,"12.00 / 18.00","ME","ME2",{"$f":"IFERROR(IF(A33=\"\",\"\",VLOOKUP(A33,[1]Hoja1!$B$2:$U$4999,18,FALSE)),0)","v":0},{"$f":"IFERROR(IF(A33=\"\",\"\",VLOOKUP(A33,[1]Hoja1!$B$2:$U$4999,19,FALSE)),0)","v":61},"",null,{"$f":"IFERROR(IF(O33=\"\",\"\",VLOOKUP(O33,JORNADA!$A$19:$B$20,2,FALSE)),\"\")","v":""},{"$f":"IFERROR(IF(A33=\"\",\"\",VLOOKUP(A33,[1]Hoja1!$B$2:$U$4999,3,FALSE)),0)","v":4649039},4649039,70,31,{"$f":"IFERROR(IF(A33=\"\",\"\",VLOOKUP(A33,[1]Hoja1!$B$2:$U$4999,10,FALSE)),0)","v":0},{"$f":"IFERROR(IF(Q33=\"\",\"\",VLOOKUP(Q33,[1]Hoja1!$D$2:$AF$4999,29,FALSE)),\"NO EXISTE CUENTA\")","v":"00048086402100003006"},null,null,"TORRES CRUZ CARLOS ENRIQUE"]
[73,{"$f":"IFERROR(IF(A34=\"\",\"\",VLOOKUP(A34,[1]Hoja1!$B$2:$U$4999,9,FALSE)),0)","v":0},{"$f":"IFERROR(IF(A34=\"\",\"\",VLOOKUP(A34,[1]Hoja1!$B$2:$U$4999,2,FALSE)),\" --- NO EXISTE TRABAJADOR --- \")","v":"MARTINEZ ZEVALLOS VIDAL"},"2018-06-05",0,0,2,5,"12.00 / 18.00","ME","ME2",{"$f":"IFERROR(IF(A34=\"\",\"\",VLOOKUP(A34,[1]Hoja1!$B$2:$U$4999,18,FALSE)),0)","v":0},{"$f":"IFERROR(IF(A34=\"\",\"\",VLOOKUP(A34,[1]Hoja1!$B$2:$U$4999,19,FALSE)),0)","v":55},"",null,{"$f":"IFERROR(IF(O34=\"\",\"\",VLOOKUP(O34,JORNADA!$A$19:$B$20,2,FALSE)),\"\")","v":""},{"$f":"IFERROR(IF(A34=\"\",\"\",VLOOKUP(A34,[1]Hoja1!$B$2:$U$4999,3,FALSE)),0)","v":4634102},4634102,73,32,{"$f":"IFERROR(IF(A34=\"\",\"\",VLOOKUP(A34,[1]Hoja1!$B$2:$U$4999,10,FALSE)),0)","v":0},{"$f":"IFERROR(IF(Q34=\"\",\"\",VLOOKUP(Q34,[1]Hoja1!$D$2:$AF$4999,29,FALSE)),\"NO EXISTE CUENTA\")","v":"00187158102100001006"},null,null,"MARTINEZ ZEVALLOS VIDAL"]
[130,{"$f":"IFERROR(IF(A35=\"\",\"\",VLOOKUP(A35,[1]Hoja1!$B$2:$U$4999,9,FALSE)),0)","v":0},{"$f":"IFERROR(IF(A35=\"\",\"\",VLOOKUP(A35,[1]Hoja1!$B$2:$U$4999,2,FALSE)),\" --- NO EXISTE TRABAJADOR --- \")","v":"TRAUCO MALDONADO EDGAR"},"2018-06-05",0,116.3,1,1,"06.00 / 12.00","WE","WE1",{"$f":"IFERROR(IF(A35=\"\",\"\",VLOOKUP(A35,[1]Hoja1!$B$2:$U$4999,18,FALSE)),0)","v":0},{"$f":"IFERROR(IF(A35=\"\",\"\",VLOOKUP(A35,[1]Hoja1!$B$2:$U$4999,19,FALSE)),0)","v":59},"LICENCIA SINDICAL",null,{"$f":"IFERROR(IF(O35=\"\",\"\",VLOOKUP(O35,JORNADA!$A$19:$B$20,2,FALSE)),\"\")","v":""},{"$f":"IFERROR(IF(A35=\"\",\"\",VLOOKUP(A35,[1]Hoja1!$B$2:$U$4999,3,FALSE)),0)","v":4629398},4629398,130,33,{"$f":"IFERROR(IF(A35=\"\",\"\",VLOOKUP(A35,[1]Hoja1!$B$2:$U$4999,10,FALSE)),0)","v":0.6},{"$f":"IFERROR(IF(Q35=\"\",\"\",VLOOKUP(Q35,[1]Hoja1!$D$2:$AF$4999,29,FALSE)),\"NO EXISTE CUENTA\")","v":"00101219902100001006"},1,null,"TRAUCO MALDONADO EDGAR"]
["AB1",{"$f":"IFERROR(IF(A36=\"\",\"\",VLOOKUP(A36,[1]Hoja1!$B$2:$U$4999,9,FALSE)),0)","v":0},{"$f":"IFERROR(IF(A36=\"\",\"\",VLOOKUP(A36,[1]Hoja1!$B$2:$U$4999,2,FALSE)),\" --- NO EXISTE TRABAJADOR --- \")","v":"CASTRO RAMIREZ FRANCISCO DANIEL"},"2018-06-05",0,175.22499999999999,2,4,"12.00 / 18.00","BE","BE2",{"$f":"IFERROR(IF(A36=\"\",\"\",VLOOKUP(A36,[1]Hoja1!$B$2:$U$4999,18,FALSE)),0)","v":0},{"$f":"IFERROR(IF(A36=\"\",\"\",VLOOKUP(A36,[1]Hoja1!$B$2:$U$4999,19,FALSE)),0)","v":68},"LICENCIA SINDICAL",null,{"$f":"IFERROR(IF(O36=\"\",\"\",VLOOKUP(O36,JORNADA!$A$19:$B$20,2,FALSE)),\"\")","v":""},{"$f":"IFERROR(IF(A36=\"\",\"\",VLOOKUP(A36,[1]Hoja1!$B$2:$U$4999,3,FALSE)),0)","v":4632634},4632634,"AB1",34,{"$f":"IFERROR(IF(A36=\"\",\"\",VLOOKUP(A36,[1]Hoja1!$B$2:$U$4999,10,FALSE)),0)","v":0},{"$f":"IFERROR(IF(Q36=\"\",\"\",VLOOKUP(Q36,[1]Hoja1!$D$2:$AF$4999,29,FALSE)),\"NO EXISTE CUENTA\")","v":"00052494202100002006"},1,null,"CASTRO RAMIREZ FRANCISCO DANIEL"]
["AB3",{"$f":"IFERROR(IF(A37=\"\",\"\",VLOOKUP(A37,[1]Hoja1!$B$2:$U$4999,9,FALSE)),0)","v":0},{"$f":"IFERROR(IF(A37=\"\",\"\",VLOOKUP(A37,[1]Hoja1!$B$2:$U$4999,2,FALSE)),\" --- NO EXISTE TRABAJADOR --- \")","v":"ZEVALLOS ESPINOZA RAUL ARCIBIADES"},"2018-06-05",0,175.22499999999999,2,4,"12.00 / 18.00","BE","BE2",{"$f":"IFERROR(IF(A37=\"\",\"\",VLOOKUP(A37,[1]Hoja1!$B$2:$U$4999,18,FALSE)),0)","v":0},{"$f":"IFERROR(IF(A37=\"\",\"\",VLOOKUP(A37,[1]Hoja1!$B$2:$U$4999,19,FALSE)),0)","v":56},"LICENCIA SINDICAL",null,{"$f":"IFERROR(IF(O37=\"\",\"\",VLOOKUP(O37,JORNADA!$A$19:$B$20,2,FALSE)),\"\")","v":""},{"$f":"IFERROR(IF(A37=\"\",\"\",VLOOKUP(A37,[1]Hoja1!$B$2:$U$4999,3,FALSE)),0)","v":4629488},4629488,"AB3",35,{"$f":"IFERROR(IF(A37=\"\",\"\",VLOOKUP(A37,[1]Hoja1!$B$2:$U$4999,10,FALSE)),0)","v":0},{"$f":"IFERROR(IF(Q37=\"\",\"\",VLOOKUP(Q37,[1]Hoja1!$D$2:$AF$4999,29,FALSE)),\"NO EXISTE CUENTA\")","v":"00116330902100001006"},1,null,"ZEVALLOS ESPINOZA RAUL ARCIBIADES"]
["",{"$f":"IFERROR(IF(A38=\"\",\"\",VLOOKUP(A38,[1]Hoja1!$B$2:$U$4999,9,FALSE)),0)","v":""},{"$f":"IFERROR(IF(A38=\"\",\"\",VLOOKUP(A38,[1]Hoja1!$B$2:$U$4999,2,FALSE)),\" --- NO EXISTE TRABAJADOR --- \")","v":""},null,null,null,null,null,"","","",{"$f":"IFERROR(IF(A38=\"\",\"\",VLOOKUP(A38,[1]Hoja1!$B$2:$U$4999,18,FALSE)),0)","v":""},{"$f":"IFERROR(IF(A38=\"\",\"\",VLOOKUP(A38,[1]Hoja1!$B$2:$U$4999,19,FALSE)),0)","v":""},"",null,{"$f":"IFERROR(IF(O38=\"\",\"\",VLOOKUP(O38,JORNADA!$A$19:$B$20,2,FALSE)),\"\")","v":""},{"$f":"IFERROR(IF(A38=\"\",\"\",VLOOKUP(A38,[1]Hoja1!$B$2:$U$4999,3,FALSE)),0)","v":""},null,"","",{"$f":"IFERROR(IF(A38=\"\",\"\",VLOOKUP(A38,[1]Hoja1!$B$2:$U$4999,10,FALSE)),0)","v":""},{"$f":"IFERROR(IF(Q38=\"\",\"\",VLOOKUP(Q38,[1]Hoja1!$D$2:$AF$4999,29,FALSE)),\"NO EXISTE CUENTA\")","v":""},null,null,""]
["",{"$f":"IFERROR(IF(A39=\"\",\"\",VLOOKUP(A39,[1]Hoja1!$B$2:$U$4999,9,FALSE)),0)","v":""},{"$f":"IFERROR(IF(A39=\"\",\"\",VLOOKUP(A39,[1]Hoja1!$B$2:$U$4999,2,FALSE)),\" --- NO EXISTE TRABAJADOR --- \")","v":""},null,null,null,null,null,"","","",{"$f":"IFERROR(IF(A39=\"\",\"\",VLOOKUP(A39,[1]Hoja1!$B$2:$U$4999,18,FALSE)),0)","v":""},{"$f":"IFERROR(IF(A39=\"\",\"\",VLOOKUP(A39,[1]Hoja1!$B$2:$U$4999,19,FALSE)),0)","v":""},"",null,{"$f":"IFERROR(IF(O39=\"\",\"\",VLOOKUP(O39,JORNADA!$A$19:$B$20,2,FALSE)),\"\")","v":""},{"$f":"IFERROR(IF(A39=\"\",\"\",VLOOKUP(A39,[1]Hoja1!$B$2:$U$4999,3,FALSE)),0)","v":""},null,"","",{"$f":"IFERROR(IF(A39=\"\",\"\",VLOOKUP(A39,[1]Hoja1!$B$2:$U$4999,10,FALSE)),0)","v":""},{"$f":"IFERROR(IF(Q39=\"\",\"\",VLOOKUP(Q39,[1]Hoja1!$D$2:$AF$4999,29,FALSE)),\"NO EXISTE CUENTA\")","v":""},null,null,""]
["",{"$f":"IFERROR(IF(A40=\"\",\"\",VLOOKUP(A40,[1]Hoja1!$B$2:$U$4999,9,FALSE)),0)","v":""},{"$f":"IFERROR(IF(A40=\"\",\"\",VLOOKUP(A40,[1]Hoja1!$B$2:$U$4999,2,FALSE)),\" --- NO EXISTE TRABAJADOR --- \")","v":""},null,null,null,null,null,"","","",{"$f":"IFERROR(IF(A40=\"\",\"\",VLOOKUP(A40,[1]Hoja1!$B$2:$U$4999,18,FALSE)),0)","v":""},{"$f":"IFERROR(IF(A40=\"\",\"\",VLOOKUP(A40,[1]Hoja1!$B$2:$U$4999,19,FALSE)),0)","v":""},"",null,{"$f":"IFERROR(IF(O40=\"\",\"\",VLOOKUP(O40,JORNADA!$A$19:$B$20,2,FALSE)),\"\")","v":""},{"$f":"IFERROR(IF(A40=\"\",\"\",VLOOKUP(A40,[1]Hoja1!$B$2:$U$4999,3,FALSE)),0)","v":""},null,"","",{"$f":"IFERROR(IF(A40=\"\",\"\",VLOOKUP(A40,[1]Hoja1!$B$2:$U$4999,10,FALSE)),0)","v":""},{"$f":"IFERROR(IF(Q40=\"\",\"\",VLOOKUP(Q40,[1]Hoja1!$D$2:$AF$4999,29,FALSE)),\"NO EXISTE CUENTA\")","v":""},null,null,""]
["",{"$f":"IFERROR(IF(A41=\"\",\"\",VLOOKUP(A41,[1]Hoja1!$B$2:$U$4999,9,FALSE)),0)","v":""},{"$f":"IFERROR(IF(A41=\"\",\"\",VLOOKUP(A41,[1]Hoja1!$B$2:$U$4999,2,FALSE)),\" --- NO EXISTE TRABAJADOR --- \")","v":""},null,null,null,null,null,"","","",{"$f":"IFERROR(IF(A41=\"\",\"\",VLOOKUP(A41,[1]Hoja1!$B$2:$U$4999,18,FALSE)),0)","v":""},{"$f":"IFERROR(IF(A41=\"\",\"\",VLOOKUP(A41,[1]Hoja1!$B$2:$U$4999,19,FALSE)),0)","v":""},"",null,{"$f":"IFERROR(IF(O41=\"\",\"\",VLOOKUP(O41,JORNADA!$A$19:$B$20,2,FALSE)),\"\")","v":""},{"$f":"IFERROR(IF(A41=\"\",\"\",VLOOKUP(A41,[1]Hoja1!$B$2:$U$4999,3,FALSE)),0)","v":""},null,"","",{"$f":"IFERROR(IF(A41=\"\",\"\",VLOOKUP(A41,[1]Hoja1!$B$2:$U$4999,10,FALSE)),0)","v":""},{"$f":"IFERROR(IF(Q41=\"\",\"\",VLOOKUP(Q41,[1]Hoja1!$D$2:$AF$4999,29,FALSE)),\"NO EXISTE CUENTA\")","v":""},null,null,""]
["",{"$f":"IFERROR(IF(A42=\"\",\"\",VLOOKUP(A42,[1]Hoja1!$B$2:$U$4999,9,FALSE)),0)","v":""},{"$f":"IFERROR(IF(A42=\"\",\"\",VLOOKUP(A42,[1]Hoja1!$B$2:$U$4999,2,FALSE)),\" --- NO EXISTE TRABAJADOR --- \")","v":""},null,null,null,null,null,"","","",{"$f":"IFERROR(IF(A42=\"\",\"\",VLOOKUP(A42,[1]Hoja1!$B$2:$U$4999,18,FALSE)),0)","v":""},{"$f":"IFERROR(IF(A42=\"\",\"\",VLOOKUP(A42,[1]Hoja1!$B$2:$U$4999,19,FALSE)),0)","v":""},"",null,{"$f":"IFERROR(IF(O42=\"\",\"\",VLOOKUP(O42,JORNADA!$A$19:$B$20,2,FALSE)),\"\")","v":""},{"$f":"IFERROR(IF(A42=\"\",\"\",VLOOKUP(A42,[1]Hoja1!$B$2:$U$4999,3,FALSE)),0)","v":""},null,"","",{"$f":"IFERROR(IF(A42=\"\",\"\",VLOOKUP(A42,[1]Hoja1!$B$2:$U$4999,10,FALSE)),0)","v":""},{"$f":"IFERROR(IF(Q42=\"\",\"\",VLOOKUP(Q42,[1]Hoja1!$D$2:$AF$4999,29,FALSE)),\"NO EXISTE CUENTA\")","v":""},null,null,""]
["",{"$f":"IFERROR(IF(A43=\"\",\"\",VLOOKUP(A43,[1]Hoja1!$B$2:$U$4999,9,FALSE)),0)","v":""},{"$f":"IFERROR(IF(A43=\"\",\"\",VLOOKUP(A43,[1]Hoja1!$B$2:$U$4999,2,FALSE)),\" --- NO EXISTE TRABAJADOR --- \")","v":""},null,null,null,null,null,"","","",{"$f":"IFERROR(IF(A43=\"\",\"\",VLOOKUP(A43,[1]Hoja1!$B$2:$U$4999,18,FALSE)),0)","v":""},{"$f":"IFERROR(IF(A43=\"\",\"\",VLOOKUP(A43,[1]Hoja1!$B$2:$U$4999,19,FALSE)),0)","v":""},"",null,{"$f":"IFERROR(IF(O43=\"\",\"\",VLOOKUP(O43,JORNADA!$A$19:$B$20,2,FALSE)),\"\")","v":""},{"$f":"IFERROR(IF(A43=\"\",\"\",VLOOKUP(A43,[1]Hoja1!$B$2:$U$4999,3,FALSE)),0)","v":""},null,"","",{"$f":"IFERROR(IF(A43=\"\",\"\",VLOOKUP(A43,[1]Hoja1!$B$2:$U$4999,10,FALSE)),0)","v":""},{"$f":"IFERROR(IF(Q43=\"\",\"\",VLOOKUP(Q43,[1]Hoja1!$D$2:$AF$4999,29,FALSE)),\"NO EXISTE CUENTA\")","v":""},null,null,""]
["",{"$f":"IFERROR(IF(A44=\"\",\"\",VLOOKUP(A44,[1]Hoja1!$B$2:$U$4999,9,FALSE)),0)","v":""},{"$f":"IFERROR(IF(A44=\"\",\"\",VLOOKUP(A44,[1]Hoja1!$B$2:$U$4999,2,FALSE)),\" --- NO EXISTE TRABAJADOR --- \")","v":""},null,null,null,null,null,"","","",{"$f":"IFERROR(IF(A44=\"\",\"\",VLOOKUP(A44,[1]Hoja1!$B$2:$U$4999,18,FALSE)),0)","v":""},{"$f":"IFERROR(IF(A44=\"\",\"\",VLOOKUP(A44,[1]Hoja1!$B$2:$U$4999,19,FALSE)),0)","v":""},"",null,{"$f":"IFERROR(IF(O44=\"\",\"\",VLOOKUP(O44,JORNADA!$A$19:$B$20,2,FALSE)),\"\")","v":""},{"$f":"IFERROR(IF(A44=\"\",\"\",VLOOKUP(A44,[1]Hoja1!$B$2:$U$4999,3,FALSE)),0)","v":""},null,"","",{"$f":"IFERROR(IF(A44=\"\",\"\",VLOOKUP(A44,[1]Hoja1!$B$2:$U$4999,10,FALSE)),0)","v":""},{"$f":"IFERROR(IF(Q44=\"\",\"\",VLOOKUP(Q44,[1]Hoja1!$D$2:$AF$4999,29,FALSE)),\"NO EXISTE CUENTA\")","v":""},null,null,""]
["",{"$f":"IFERROR(IF(A45=\"\",\"\",VLOOKUP(A45,[1]Hoja1!$B$2:$U$4999,9,FALSE)),0)","v":""},{"$f":"IFERROR(IF(A45=\"\",\"\",VLOOKUP(A45,[1]Hoja1!$B$2:$U$4999,2,FALSE)),\" --- NO EXISTE TRABAJADOR --- \")","v":""},null,null,null,null,null,"","","",{"$f":"IFERROR(IF(A45=\"\",\"\",VLOOKUP(A45,[1]Hoja1!$B$2:$U$4999,18,FALSE)),0)","v":""},{"$f":"IFERROR(IF(A45=\"\",\"\",VLOOKUP(A45,[1]Hoja1!$B$2:$U$4999,19,FALSE)),0)","v":""},"",null,{"$f":"IFERROR(IF(O45=\"\",\"\",VLOOKUP(O45,JORNADA!$A$19:$B$20,2,FALSE)),\"\")","v":""},{"$f":"IFERROR(IF(A45=\"\",\"\",VLOOKUP(A45,[1]Hoja1!$B$2:$U$4999,3,FALSE)),0)","v":""},null,"","",{"$f":"IFERROR(IF(A45=\"\",\"\",VLOOKUP(A45,[1]Hoja1!$B$2:$U$4999,10,FALSE)),0)","v":""},{"$f":"IFERROR(IF(Q45=\"\",\"\",VLOOKUP(Q45,[1]Hoja1!$D$2:$AF$4999,29,FALSE)),\"NO EXISTE CUENTA\")","v":""},null,null,""]
["",{"$f":"IFERROR(IF(A46=\"\",\"\",VLOOKUP(A46,[1]Hoja1!$B$2:$U$4999,9,FALSE)),0)","v":""},{"$f":"IFERROR(IF(A46=\"\",\"\",VLOOKUP(A46,[1]Hoja1!$B$2:$U$4999,2,FALSE)),\" --- NO EXISTE TRABAJADOR --- \")","v":""},null,null,null,null,null,"","","",{"$f":"IFERROR(IF(A46=\"\",\"\",VLOOKUP(A46,[1]Hoja1!$B$2:$U$4999,18,FALSE)),0)","v":""},{"$f":"IFERROR(IF(A46=\"\",\"\",VLOOKUP(A46,[1]Hoja1!$B$2:$U$4999,19,FALSE)),0)","v":""},"",null,{"$f":"IFERROR(IF(O46=\"\",\"\",VLOOKUP(O46,JORNADA!$A$19:$B$20,2,FALSE)),\"\")","v":""},{"$f":"IFERROR(IF(A46=\"\",\"\",VLOOKUP(A46,[1]Hoja1!$B$2:$U$4999,3,FALSE)),0)","v":""},null,"","",{"$f":"IFERROR(IF(A46=\"\",\"\",VLOOKUP(A46,[1]Hoja1!$B$2:$U$4999,10,FALSE)),0)","v":""},{"$f":"IFERROR(IF(Q46=\"\",\"\",VLOOKUP(Q46,[1]Hoja1!$D$2:$AF$4999,29,FALSE)),\"NO EXISTE CUENTA\")","v":""},null,null,""]
["",{"$f":"IFERROR(IF(A47=\"\",\"\",VLOOKUP(A47,[1]Hoja1!$B$2:$U$4999,9,FALSE)),0)","v":""},{"$f":"IFERROR(IF(A47=\"\",\"\",VLOOKUP(A47,[1]Hoja1!$B$2:$U$4999,2,FALSE)),\" --- NO EXISTE TRABAJADOR --- \")","v":""},null,null,null,null,null,"","","",{"$f":"IFERROR(IF(A47=\"\",\"\",VLOOKUP(A47,[1]Hoja1!$B$2:$U$4999,18,FALSE)),0)","v":""},{"$f":"IFERROR(IF(A47=\"\",\"\",VLOOKUP(A47,[1]Hoja1!$B$2:$U$4999,19,FALSE)),0)","v":""},"",null,{"$f":"IFERROR(IF(O47=\"\",\"\",VLOOKUP(O47,JORNADA!$A$19:$B$20,2,FALSE)),\"\")","v":""},{"$f":"IFERROR(IF(A47=\"\",\"\",VLOOKUP(A47,[1]Hoja1!$B$2:$U$4999,3,FALSE)),0)","v":""},null,"","",{"$f":"IFERROR(IF(A47=\"\",\"\",VLOOKUP(A47,[1]Hoja1!$B$2:$U$4999,10,FALSE)),0)","v":""},{"$f":"IFERROR(IF(Q47=\"\",\"\",VLOOKUP(Q47,[1]Hoja1!$D$2:$AF$4999,29,FALSE)),\"NO EXISTE CUENTA\")","v":""},null,null,""]
["",{"$f":"IFERROR(IF(A48=\"\",\"\",VLOOKUP(A48,[1]Hoja1!$B$2:$U$4999,9,FALSE)),0)","v":""},{"$f":"IFERROR(IF(A48=\"\",\"\",VLOOKUP(A48,[1]Hoja1!$B$2:$U$4999,2,FALSE)),\" --- NO EXISTE TRABAJADOR --- \")","v":""},null,null,null,null,null,"","","",{"$f":"IFERROR(IF(A48=\"\",\"\",VLOOKUP(A48,[1]Hoja1!$B$2:$U$4999,18,FALSE)),0)","v":""},{"$f":"IFERROR(IF(A48=\"\",\"\",VLOOKUP(A48,[1]Hoja1!$B$2:$U$4999,19,FALSE)),0)","v":""},"",null,{"$f":"IFERROR(IF(O48=\"\",\"\",VLOOKUP(O48,JORNADA!$A$19:$B$20,2,FALSE)),\"\")","v":""},{"$f":"IFERROR(IF(A48=\"\",\"\",VLOOKUP(A48,[1]Hoja1!$B$2:$U$4999,3,FALSE)),0)","v":""},null,"","",{"$f":"IFERROR(IF(A48=\"\",\"\",VLOOKUP(A48,[1]Hoja1!$B$2:$U$4999,10,FALSE)),0)","v":""},{"$f":"IFERROR(IF(Q48=\"\",\"\",VLOOKUP(Q48,[1]Hoja1!$D$2:$AF$4999,29,FALSE)),\"NO EXISTE CUENTA\")","v":""},null,null,""]
["",{"$f":"IFERROR(IF(A49=\"\",\"\",VLOOKUP(A49,[1]Hoja1!$B$2:$U$4999,9,FALSE)),0)","v":""},{"$f":"IFERROR(IF(A49=\"\",\"\",VLOOKUP(A49,[1]Hoja1!$B$2:$U$4999,2,FALSE)),\" --- NO EXISTE TRABAJADOR --- \")","v":""},null,null,null,null,null,"","","",{"$f":"IFERROR(IF(A49=\"\",\"\",VLOOKUP(A49,[1]Hoja1!$B$2:$U$4999,18,FALSE)),0)","v":""},{"$f":"IFERROR(IF(A49=\"\",\"\",VLOOKUP(A49,[1]Hoja1!$B$2:$U$4999,19,FALSE)),0)","v":""},"",null,{"$f":"IFERROR(IF(O49=\"\",\"\",VLOOKUP(O49,JORNADA!$A$19:$B$20,2,FALSE)),\"\")","v":""},{"$f":"IFERROR(IF(A49=\"\",\"\",VLOOKUP(A49,[1]Hoja1!$B$2:$U$4999,3,FALSE)),0)","v":""},null,"","",{"$f":"IFERROR(IF(A49=\"\",\"\",VLOOKUP(A49,[1]Hoja1!$B$2:$U$4999,10,FALSE)),0)","v":""},{"$f":"IFERROR(IF(Q49=\"\",\"\",VLOOKUP(Q49,[1]Hoja1!$D$2:$AF$4999,29,FALSE)),\"NO EXISTE CUENTA\")","v":""},null,null,""]
["",{"$f":"IFERROR(IF(A50=\"\",\"\",VLOOKUP(A50,[1]Hoja1!$B$2:$U$4999,9,FALSE)),0)","v":""},{"$f":"IFERROR(IF(A50=\"\",\"\",VLOOKUP(A50,[1]Hoja1!$B$2:$U$4999,2,FALSE)),\" --- NO EXISTE TRABAJADOR --- \")","v":""},null,null,null,null,null,"","","",{"$f":"IFERROR(IF(A50=\"\",\"\",VLOOKUP(A50,[1]Hoja1!$B$2:$U$4999,18,FALSE)),0)","v":""},{"$f":"IFERROR(IF(A50=\"\",\"\",VLOOKUP(A50,[1]Hoja1!$B$2:$U$4999,19,FALSE)),0)","v":""},"",null,{"$f":"IFERROR(IF(O50=\"\",\"\",VLOOKUP(O50,JORNADA!$A$19:$B$20,2,FALSE)),\"\")","v":""},{"$f":"IFERROR(IF(A50=\"\",\"\",VLOOKUP(A50,[1]Hoja1!$B$2:$U$4999,3,FALSE)),0)","v":""},null,"","",{"$f":"IFERROR(IF(A50=\"\",\"\",VLOOKUP(A50,[1]Hoja1!$B$2:$U$4999,10,FALSE)),0)","v":""},{"$f":"IFERROR(IF(Q50=\"\",\"\",VLOOKUP(Q50,[1]Hoja1!$D$2:$AF$4999,29,FALSE)),\"NO EXISTE CUENTA\")","v":""},null,null,""]
["",{"$f":"IFERROR(IF(A51=\"\",\"\",VLOOKUP(A51,[1]Hoja1!$B$2:$U$4999,9,FALSE)),0)","v":""},{"$f":"IFERROR(IF(A51=\"\",\"\",VLOOKUP(A51,[1]Hoja1!$B$2:$U$4999,2,FALSE)),\" --- NO EXISTE TRABAJADOR --- \")","v":""},null,null,null,null,null,"","","",{"$f":"IFERROR(IF(A51=\"\",\"\",VLOOKUP(A51,[1]Hoja1!$B$2:$U$4999,18,FALSE)),0)","v":""},{"$f":"IFERROR(IF(A51=\"\",\"\",VLOOKUP(A51,[1]Hoja1!$B$2:$U$4999,19,FALSE)),0)","v":""},"",null,{"$f":"IFERROR(IF(O51=\"\",\"\",VLOOKUP(O51,JORNADA!$A$19:$B$20,2,FALSE)),\"\")","v":""},{"$f":"IFERROR(IF(A51=\"\",\"\",VLOOKUP(A51,[1]Hoja1!$B$2:$U$4999,3,FALSE)),0)","v":""},null,"","",{"$f":"IFERROR(IF(A51=\"\",\"\",VLOOKUP(A51,[1]Hoja1!$B$2:$U$4999,10,FALSE)),0)","v":""},{"$f":"IFERROR(IF(Q51=\"\",\"\",VLOOKUP(Q51,[1]Hoja1!$D$2:$AF$4999,29,FALSE)),\"NO EXISTE CUENTA\")","v":""},null,null,""]
["",{"$f":"IFERROR(IF(A52=\"\",\"\",VLOOKUP(A52,[1]Hoja1!$B$2:$U$4999,9,FALSE)),0)","v":""},{"$f":"IFERROR(IF(A52=\"\",\"\",VLOOKUP(A52,[1]Hoja1!$B$2:$U$4999,2,FALSE)),\" --- NO EXISTE TRABAJADOR --- \")","v":""},null,null,null,null,null,"","","",{"$f":"IFERROR(IF(A52=\"\",\"\",VLOOKUP(A52,[1]Hoja1!$B$2:$U$4999,18,FALSE)),0)","v":""},{"$f":"IFERROR(IF(A52=\"\",\"\",VLOOKUP(A52,[1]Hoja1!$B$2:$U$4999,19,FALSE)),0)","v":""},"",null,{"$f":"IFERROR(IF(O52=\"\",\"\",VLOOKUP(O52,JORNADA!$A$19:$B$20,2,FALSE)),\"\")","v":""},{"$f":"IFERROR(IF(A52=\"\",\"\",VLOOKUP(A52,[1]Hoja1!$B$2:$U$4999,3,FALSE)),0)","v":""},null,"","",{"$f":"IFERROR(IF(A52=\"\",\"\",VLOOKUP(A52,[1]Hoja1!$B$2:$U$4999,10,FALSE)),0)","v":""},{"$f":"IFERROR(IF(Q52=\"\",\"\",VLOOKUP(Q52,[1]Hoja1!$D$2:$AF$4999,29,FALSE)),\"NO EXISTE CUENTA\")","v":""},null,null,""]
["",{"$f":"IFERROR(IF(A53=\"\",\"\",VLOOKUP(A53,[1]Hoja1!$B$2:$U$4999,9,FALSE)),0)","v":""},{"$f":"IFERROR(IF(A53=\"\",\"\",VLOOKUP(A53,[1]Hoja1!$B$2:$U$4999,2,FALSE)),\" --- NO EXISTE TRABAJADOR --- \")","v":""},null,null,null,null,null,"","","",{"$f":"IFERROR(IF(A53=\"\",\"\",VLOOKUP(A53,[1]Hoja1!$B$2:$U$4999,18,FALSE)),0)","v":""},{"$f":"IFERROR(IF(A53=\"\",\"\",VLOOKUP(A53,[1]Hoja1!$B$2:$U$4999,19,FALSE)),0)","v":""},"",null,{"$f":"IFERROR(IF(O53=\"\",\"\",VLOOKUP(O53,JORNADA!$A$19:$B$20,2,FALSE)),\"\")","v":""},{"$f":"IFERROR(IF(A53=\"\",\"\",VLOOKUP(A53,[1]Hoja1!$B$2:$U$4999,3,FALSE)),0)","v":""},null,"","",{"$f":"IFERROR(IF(A53=\"\",\"\",VLOOKUP(A53,[1]Hoja1!$B$2:$U$4999,10,FALSE)),0)","v":""},{"$f":"IFERROR(IF(Q53=\"\",\"\",VLOOKUP(Q53,[1]Hoja1!$D$2:$AF$4999,29,FALSE)),\"NO EXISTE CUENTA\")","v":""},null,null,""]
["",{"$f":"IFERROR(IF(A54=\"\",\"\",VLOOKUP(A54,[1]Hoja1!$B$2:$U$4999,9,FALSE)),0)","v":""},{"$f":"IFERROR(IF(A54=\"\",\"\",VLOOKUP(A54,[1]Hoja1!$B$2:$U$4999,2,FALSE)),\" --- NO EXISTE TRABAJADOR --- \")","v":""},null,null,null,null,null,"","","",{"$f":"IFERROR(IF(A54=\"\",\"\",VLOOKUP(A54,[1]Hoja1!$B$2:$U$4999,18,FALSE)),0)","v":""},{"$f":"IFERROR(IF(A54=\"\",\"\",VLOOKUP(A54,[1]Hoja1!$B$2:$U$4999,19,FALSE)),0)","v":""},"",null,{"$f":"IFERROR(IF(O54=\"\",\"\",VLOOKUP(O54,JORNADA!$A$19:$B$20,2,FALSE)),\"\")","v":""},{"$f":"IFERROR(IF(A54=\"\",\"\",VLOOKUP(A54,[1]Hoja1!$B$2:$U$4999,3,FALSE)),0)","v":""},null,"","",{"$f":"IFERROR(IF(A54=\"\",\"\",VLOOKUP(A54,[1]Hoja1!$B$2:$U$4999,10,FALSE)),0)","v":""},{"$f":"IFERROR(IF(Q54=\"\",\"\",VLOOKUP(Q54,[1]Hoja1!$D$2:$AF$4999,29,FALSE)),\"NO EXISTE CUENTA\")","v":""},null,null,""]
["",{"$f":"IFERROR(IF(A55=\"\",\"\",VLOOKUP(A55,[1]Hoja1!$B$2:$U$4999,9,FALSE)),0)","v":""},{"$f":"IFERROR(IF(A55=\"\",\"\",VLOOKUP(A55,[1]Hoja1!$B$2:$U$4999,2,FALSE)),\" --- NO EXISTE TRABAJADOR --- \")","v":""},null,null,null,null,null,"","","",{"$f":"IFERROR(IF(A55=\"\",\"\",VLOOKUP(A55,[1]Hoja1!$B$2:$U$4999,18,FALSE)),0)","v":""},{"$f":"IFERROR(IF(A55=\"\",\"\",VLOOKUP(A55,[1]Hoja1!$B$2:$U$4999,19,FALSE)),0)","v":""},"",null,{"$f":"IFERROR(IF(O55=\"\",\"\",VLOOKUP(O55,JORNADA!$A$19:$B$20,2,FALSE)),\"\")","v":""},{"$f":"IFERROR(IF(A55=\"\",\"\",VLOOKUP(A55,[1]Hoja1!$B$2:$U$4999,3,FALSE)),0)","v":""},null,"","",{"$f":"IFERROR(IF(A55=\"\",\"\",VLOOKUP(A55,[1]Hoja1!$B$2:$U$4999,10,FALSE)),0)","v":""},{"$f":"IFERROR(IF(Q55=\"\",\"\",VLOOKUP(Q55,[1]Hoja1!$D$2:$AF$4999,29,FALSE)),\"NO EXISTE CUENTA\")","v":""},null,null,""]
["",{"$f":"IFERROR(IF(A56=\"\",\"\",VLOOKUP(A56,[1]Hoja1!$B$2:$U$4999,9,FALSE)),0)","v":""},{"$f":"IFERROR(IF(A56=\"\",\"\",VLOOKUP(A56,[1]Hoja1!$B$2:$U$4999,2,FALSE)),\" --- NO EXISTE TRABAJADOR --- \")","v":""},null,null,null,null,null,"","","",{"$f":"IFERROR(IF(A56=\"\",\"\",VLOOKUP(A56,[1]Hoja1!$B$2:$U$4999,18,FALSE)),0)","v":""},{"$f":"IFERROR(IF(A56=\"\",\"\",VLOOKUP(A56,[1]Hoja1!$B$2:$U$4999,19,FALSE)),0)","v":""},"",null,{"$f":"IFERROR(IF(O56=\"\",\"\",VLOOKUP(O56,JORNADA!$A$19:$B$20,2,FALSE)),\"\")","v":""},{"$f":"IFERROR(IF(A56=\"\",\"\",VLOOKUP(A56,[1]Hoja1!$B$2:$U$4999,3,FALSE)),0)","v":""},null,"","",{"$f":"IFERROR(IF(A56=\"\",\"\",VLOOKUP(A56,[1]Hoja1!$B$2:$U$4999,10,FALSE)),0)","v":""},{"$f":"IFERROR(IF(Q56=\"\",\"\",VLOOKUP(Q56,[1]Hoja1!$D$2:$AF$4999,29,FALSE)),\"NO EXISTE CUENTA\")","v":""},null,null,""]
["",{"$f":"IFERROR(IF(A57=\"\",\"\",VLOOKUP(A57,[1]Hoja1!$B$2:$U$4999,9,FALSE)),0)","v":""},{"$f":"IFERROR(IF(A57=\"\",\"\",VLOOKUP(A57,[1]Hoja1!$B$2:$U$4999,2,FALSE)),\" --- NO EXISTE TRABAJADOR --- \")","v":""},null,null,null,null,null,"","","",{"$f":"IFERROR(IF(A57=\"\",\"\",VLOOKUP(A57,[1]Hoja1!$B$2:$U$4999,18,FALSE)),0)","v":""},{"$f":"IFERROR(IF(A57=\"\",\"\",VLOOKUP(A57,[1]Hoja1!$B$2:$U$4999,19,FALSE)),0)","v":""},"",null,{"$f":"IFERROR(IF(O57=\"\",\"\",VLOOKUP(O57,JORNADA!$A$19:$B$20,2,FALSE)),\"\")","v":""},{"$f":"IFERROR(IF(A57=\"\",\"\",VLOOKUP(A57,[1]Hoja1!$B$2:$U$4999,3,FALSE)),0)","v":""},null,"","",{"$f":"IFERROR(IF(A57=\"\",\"\",VLOOKUP(A57,[1]Hoja1!$B$2:$U$4999,10,FALSE)),0)","v":""},{"$f":"IFERROR(IF(Q57=\"\",\"\",VLOOKUP(Q57,[1]Hoja1!$D$2:$AF$4999,29,FALSE)),\"NO EXISTE CUENTA\")","v":""},null,null,""]
["",{"$f":"IFERROR(IF(A58=\"\",\"\",VLOOKUP(A58,[1]Hoja1!$B$2:$U$4999,9,FALSE)),0)","v":""},{"$f":"IFERROR(IF(A58=\"\",\"\",VLOOKUP(A58,[1]Hoja1!$B$2:$U$4999,2,FALSE)),\" --- NO EXISTE TRABAJADOR --- \")","v":""},null,null,null,null,null,"","","",{"$f":"IFERROR(IF(A58=\"\",\"\",VLOOKUP(A58,[1]Hoja1!$B$2:$U$4999,18,FALSE)),0)","v":""},{"$f":"IFERROR(IF(A58=\"\",\"\",VLOOKUP(A58,[1]Hoja1!$B$2:$U$4999,19,FALSE)),0)","v":""},"",null,{"$f":"IFERROR(IF(O58=\"\",\"\",VLOOKUP(O58,JORNADA!$A$19:$B$20,2,FALSE)),\"\")","v":""},{"$f":"IFERROR(IF(A58=\"\",\"\",VLOOKUP(A58,[1]Hoja1!$B$2:$U$4999,3,FALSE)),0)","v":""},null,"","",{"$f":"IFERROR(IF(A58=\"\",\"\",VLOOKUP(A58,[1]Hoja1!$B$2:$U$4999,10,FALSE)),0)","v":""},{"$f":"IFERROR(IF(Q58=\"\",\"\",VLOOKUP(Q58,[1]Hoja1!$D$2:$AF$4999,29,FALSE)),\"NO EXISTE CUENTA\")","v":""},null,null,""]
["",{"$f":"IFERROR(IF(A59=\"\",\"\",VLOOKUP(A59,[1]Hoja1!$B$2:$U$4999,9,FALSE)),0)","v":""},{"$f":"IFERROR(IF(A59=\"\",\"\",VLOOKUP(A59,[1]Hoja1!$B$2:$U$4999,2,FALSE)),\" --- NO EXISTE TRABAJADOR --- \")","v":""},null,null,null,null,null,"","","",{"$f":"IFERROR(IF(A59=\"\",\"\",VLOOKUP(A59,[1]Hoja1!$B$2:$U$4999,18,FALSE)),0)","v":""},{"$f":"IFERROR(IF(A59=\"\",\"\",VLOOKUP(A59,[1]Hoja1!$B$2:$U$4999,19,FALSE)),0)","v":""},"",null,{"$f":"IFERROR(IF(O59=\"\",\"\",VLOOKUP(O59,JORNADA!$A$19:$B$20,2,FALSE)),\"\")","v":""},{"$f":"IFERROR(IF(A59=\"\",\"\",VLOOKUP(A59,[1]Hoja1!$B$2:$U$4999,3,FALSE)),0)","v":""},null,"","",{"$f":"IFERROR(IF(A59=\"\",\"\",VLOOKUP(A59,[1]Hoja1!$B$2:$U$4999,10,FALSE)),0)","v":""},{"$f":"IFERROR(IF(Q59=\"\",\"\",VLOOKUP(Q59,[1]Hoja1!$D$2:$AF$4999,29,FALSE)),\"NO EXISTE CUENTA\")","v":""},null,null,""]
["",{"$f":"IFERROR(IF(A60=\"\",\"\",VLOOKUP(A60,[1]Hoja1!$B$2:$U$4999,9,FALSE)),0)","v":""},{"$f":"IFERROR(IF(A60=\"\",\"\",VLOOKUP(A60,[1]Hoja1!$B$2:$U$4999,2,FALSE)),\" --- NO EXISTE TRABAJADOR --- \")","v":""},null,null,null,null,null,"","","",{"$f":"IFERROR(IF(A60=\"\",\"\",VLOOKUP(A60,[1]Hoja1!$B$2:$U$4999,18,FALSE)),0)","v":""},{"$f":"IFERROR(IF(A60=\"\",\"\",VLOOKUP(A60,[1]Hoja1!$B$2:$U$4999,19,FALSE)),0)","v":""},"",null,{"$f":"IFERROR(IF(O60=\"\",\"\",VLOOKUP(O60,JORNADA!$A$19:$B$20,2,FALSE)),\"\")","v":""},{"$f":"IFERROR(IF(A60=\"\",\"\",VLOOKUP(A60,[1]Hoja1!$B$2:$U$4999,3,FALSE)),0)","v":""},null,"","",{"$f":"IFERROR(IF(A60=\"\",\"\",VLOOKUP(A60,[1]Hoja1!$B$2:$U$4999,10,FALSE)),0)","v":""},{"$f":"IFERROR(IF(Q60=\"\",\"\",VLOOKUP(Q60,[1]Hoja1!$D$2:$AF$4999,29,FALSE)),\"NO EXISTE CUENTA\")","v":""},null,null,""]
["",{"$f":"IFERROR(IF(A61=\"\",\"\",VLOOKUP(A61,[1]Hoja1!$B$2:$U$4999,9,FALSE)),0)","v":""},{"$f":"IFERROR(IF(A61=\"\",\"\",VLOOKUP(A61,[1]Hoja1!$B$2:$U$4999,2,FALSE)),\" --- NO EXISTE TRABAJADOR --- \")","v":""},null,null,null,null,null,"","","",{"$f":"IFERROR(IF(A61=\"\",\"\",VLOOKUP(A61,[1]Hoja1!$B$2:$U$4999,18,FALSE)),0)","v":""},{"$f":"IFERROR(IF(A61=\"\",\"\",VLOOKUP(A61,[1]Hoja1!$B$2:$U$4999,19,FALSE)),0)","v":""},"",null,{"$f":"IFERROR(IF(O61=\"\",\"\",VLOOKUP(O61,JORNADA!$A$19:$B$20,2,FALSE)),\"\")","v":""},{"$f":"IFERROR(IF(A61=\"\",\"\",VLOOKUP(A61,[1]Hoja1!$B$2:$U$4999,3,FALSE)),0)","v":""},null,"","",{"$f":"IFERROR(IF(A61=\"\",\"\",VLOOKUP(A61,[1]Hoja1!$B$2:$U$4999,10,FALSE)),0)","v":""},{"$f":"IFERROR(IF(Q61=\"\",\"\",VLOOKUP(Q61,[1]Hoja1!$D$2:$AF$4999,29,FALSE)),\"NO EXISTE CUENTA\")","v":""},null,null,""]
["",{"$f":"IFERROR(IF(A62=\"\",\"\",VLOOKUP(A62,[1]Hoja1!$B$2:$U$4999,9,FALSE)),0)","v":""},{"$f":"IFERROR(IF(A62=\"\",\"\",VLOOKUP(A62,[1]Hoja1!$B$2:$U$4999,2,FALSE)),\" --- NO EXISTE TRABAJADOR --- \")","v":""},null,null,null,null,null,"","","",{"$f":"IFERROR(IF(A62=\"\",\"\",VLOOKUP(A62,[1]Hoja1!$B$2:$U$4999,18,FALSE)),0)","v":""},{"$f":"IFERROR(IF(A62=\"\",\"\",VLOOKUP(A62,[1]Hoja1!$B$2:$U$4999,19,FALSE)),0)","v":""},"",null,{"$f":"IFERROR(IF(O62=\"\",\"\",VLOOKUP(O62,JORNADA!$A$19:$B$20,2,FALSE)),\"\")","v":""},{"$f":"IFERROR(IF(A62=\"\",\"\",VLOOKUP(A62,[1]Hoja1!$B$2:$U$4999,3,FALSE)),0)","v":""},null,"","",{"$f":"IFERROR(IF(A62=\"\",\"\",VLOOKUP(A62,[1]Hoja1!$B$2:$U$4999,10,FALSE)),0)","v":""},{"$f":"IFERROR(IF(Q62=\"\",\"\",VLOOKUP(Q62,[1]Hoja1!$D$2:$AF$4999,29,FALSE)),\"NO EXISTE CUENTA\")","v":""},null,null,""]
["",{"$f":"IFERROR(IF(A63=\"\",\"\",VLOOKUP(A63,[1]Hoja1!$B$2:$U$4999,9,FALSE)),0)","v":""},{"$f":"IFERROR(IF(A63=\"\",\"\",VLOOKUP(A63,[1]Hoja1!$B$2:$U$4999,2,FALSE)),\" --- NO EXISTE TRABAJADOR --- \")","v":""},null,null,null,null,null,"","","",{"$f":"IFERROR(IF(A63=\"\",\"\",VLOOKUP(A63,[1]Hoja1!$B$2:$U$4999,18,FALSE)),0)","v":""},{"$f":"IFERROR(IF(A63=\"\",\"\",VLOOKUP(A63,[1]Hoja1!$B$2:$U$4999,19,FALSE)),0)","v":""},"",null,{"$f":"IFERROR(IF(O63=\"\",\"\",VLOOKUP(O63,JORNADA!$A$19:$B$20,2,FALSE)),\"\")","v":""},{"$f":"IFERROR(IF(A63=\"\",\"\",VLOOKUP(A63,[1]Hoja1!$B$2:$U$4999,3,FALSE)),0)","v":""},null,"","",{"$f":"IFERROR(IF(A63=\"\",\"\",VLOOKUP(A63,[1]Hoja1!$B$2:$U$4999,10,FALSE)),0)","v":""},{"$f":"IFERROR(IF(Q63=\"\",\"\",VLOOKUP(Q63,[1]Hoja1!$D$2:$AF$4999,29,FALSE)),\"NO EXISTE CUENTA\")","v":""},null,null,""]
["",{"$f":"IFERROR(IF(A64=\"\",\"\",VLOOKUP(A64,[1]Hoja1!$B$2:$U$4999,9,FALSE)),0)","v":""},{"$f":"IFERROR(IF(A64=\"\",\"\",VLOOKUP(A64,[1]Hoja1!$B$2:$U$4999,2,FALSE)),\" --- NO EXISTE TRABAJADOR --- \")","v":""},null,null,null,null,null,"","","",{"$f":"IFERROR(IF(A64=\"\",\"\",VLOOKUP(A64,[1]Hoja1!$B$2:$U$4999,18,FALSE)),0)","v":""},{"$f":"IFERROR(IF(A64=\"\",\"\",VLOOKUP(A64,[1]Hoja1!$B$2:$U$4999,19,FALSE)),0)","v":""},"",null,{"$f":"IFERROR(IF(O64=\"\",\"\",VLOOKUP(O64,JORNADA!$A$19:$B$20,2,FALSE)),\"\")","v":""},{"$f":"IFERROR(IF(A64=\"\",\"\",VLOOKUP(A64,[1]Hoja1!$B$2:$U$4999,3,FALSE)),0)","v":""},null,"","",{"$f":"IFERROR(IF(A64=\"\",\"\",VLOOKUP(A64,[1]Hoja1!$B$2:$U$4999,10,FALSE)),0)","v":""},{"$f":"IFERROR(IF(Q64=\"\",\"\",VLOOKUP(Q64,[1]Hoja1!$D$2:$AF$4999,29,FALSE)),\"NO EXISTE CUENTA\")","v":""},null,null,""]
["",{"$f":"IFERROR(IF(A65=\"\",\"\",VLOOKUP(A65,[1]Hoja1!$B$2:$U$4999,9,FALSE)),0)","v":""},{"$f":"IFERROR(IF(A65=\"\",\"\",VLOOKUP(A65,[1]Hoja1!$B$2:$U$4999,2,FALSE)),\" --- NO EXISTE TRABAJADOR --- \")","v":""},null,null,null,null,null,"","","",{"$f":"IFERROR(IF(A65=\"\",\"\",VLOOKUP(A65,[1]Hoja1!$B$2:$U$4999,18,FALSE)),0)","v":""},{"$f":"IFERROR(IF(A65=\"\",\"\",VLOOKUP(A65,[1]Hoja1!$B$2:$U$4999,19,FALSE)),0)","v":""},"",null,{"$f":"IFERROR(IF(O65=\"\",\"\",VLOOKUP(O65,JORNADA!$A$19:$B$20,2,FALSE)),\"\")","v":""},{"$f":"IFERROR(IF(A65=\"\",\"\",VLOOKUP(A65,[1]Hoja1!$B$2:$U$4999,3,FALSE)),0)","v":""},null,"","",{"$f":"IFERROR(IF(A65=\"\",\"\",VLOOKUP(A65,[1]Hoja1!$B$2:$U$4999,10,FALSE)),0)","v":""},{"$f":"IFERROR(IF(Q65=\"\",\"\",VLOOKUP(Q65,[1]Hoja1!$D$2:$AF$4999,29,FALSE)),\"NO EXISTE CUENTA\")","v":""},null,null,""]
["",{"$f":"IFERROR(IF(A66=\"\",\"\",VLOOKUP(A66,[1]Hoja1!$B$2:$U$4999,9,FALSE)),0)","v":""},{"$f":"IFERROR(IF(A66=\"\",\"\",VLOOKUP(A66,[1]Hoja1!$B$2:$U$4999,2,FALSE)),\" --- NO EXISTE TRABAJADOR --- \")","v":""},null,null,null,null,null,"","","",{"$f":"IFERROR(IF(A66=\"\",\"\",VLOOKUP(A66,[1]Hoja1!$B$2:$U$4999,18,FALSE)),0)","v":""},{"$f":"IFERROR(IF(A66=\"\",\"\",VLOOKUP(A66,[1]Hoja1!$B$2:$U$4999,19,FALSE)),0)","v":""},"",null,{"$f":"IFERROR(IF(O66=\"\",\"\",VLOOKUP(O66,JORNADA!$A$19:$B$20,2,FALSE)),\"\")","v":""},{"$f":"IFERROR(IF(A66=\"\",\"\",VLOOKUP(A66,[1]Hoja1!$B$2:$U$4999,3,FALSE)),0)","v":""},null,"","",{"$f":"IFERROR(IF(A66=\"\",\"\",VLOOKUP(A66,[1]Hoja1!$B$2:$U$4999,10,FALSE)),0)","v":""},{"$f":"IFERROR(IF(Q66=\"\",\"\",VLOOKUP(Q66,[1]Hoja1!$D$2:$AF$4999,29,FALSE)),\"NO EXISTE CUENTA\")","v":""},null,null,""]
[{"$f":"+S67","v":""},{"$f":"IFERROR(IF(A67=\"\",\"\",VLOOKUP(A67,[1]Hoja1!$B$2:$U$4999,9,FALSE)),0)","v":""},{"$f":"IFERROR(IF(A67=\"\",\"\",VLOOKUP(A67,[1]Hoja1!$B$2:$U$4999,2,FALSE)),\" --- NO EXISTE TRABAJADOR --- \")","v":""},null,null,null,null,null,{"$f":"IFERROR(IF(G67=\"\",\"\",VLOOKUP(G67,JORNADA,2,FALSE)),0)","v":""},{"$f":"IFERROR(IF(H67=\"\",\"\",VLOOKUP(H67,ACTIVIDAD,2,FALSE)),0)","v":""},{"$f":"CONCATENATE(J67,G67)","v":""},{"$f":"IFERROR(IF(A67=\"\",\"\",VLOOKUP(A67,[1]Hoja1!$B$2:$U$4999,18,FALSE)),0)","v":""},{"$f":"IFERROR(IF(A67=\"\",\"\",VLOOKUP(A67,[1]Hoja1!$B$2:$U$4999,19,FALSE)),0)","v":""},{"$f":"IFERROR(IF(W67=\"\",\"\",VLOOKUP(W67,LICENCIA,2,FALSE)),\"\")","v":""},null,{"$f":"IFERROR(IF(O67=\"\",\"\",VLOOKUP(O67,JORNADA!$A$19:$B$20,2,FALSE)),\"\")","v":""},{"$f":"IFERROR(IF(A67=\"\",\"\",VLOOKUP(A67,[1]Hoja1!$B$2:$U$4999,3,FALSE)),0)","v":""},null,{"$f":"IFERROR(IF(R67=\"\",\"\",VLOOKUP(R67,DNI,2,FALSE)),0)","v":""},{"$f":"IF(D67<>\"\",COUNTA(INDIRECT(\"D2:D\"&ROW()-1)),\"\")","v":""},{"$f":"IFERROR(IF(A67=\"\",\"\",VLOOKUP(A67,[1]Hoja1!$B$2:$U$4999,10,FALSE)),0)","v":""},{"$f":"IFERROR(IF(Q67=\"\",\"\",VLOOKUP(Q67,[1]Hoja1!$D$2:$AF$4999,29,FALSE)),\"NO EXISTE CUENTA\")","v":""},null,null,{"$f":"+C67","v":""}]
["",{"$f":"IFERROR(IF(A68=\"\",\"\",VLOOKUP(A68,[1]Hoja1!$B$2:$U$4999,9,FALSE)),0)","v":""},{"$f":"IFERROR(IF(A68=\"\",\"\",VLOOKUP(A68,[1]Hoja1!$B$2:$U$4999,2,FALSE)),\" --- NO EXISTE TRABAJADOR --- \")","v":""},null,null,null,null,null,"","","",{"$f":"IFERROR(IF(A68=\"\",\"\",VLOOKUP(A68,[1]Hoja1!$B$2:$U$4999,18,FALSE)),0)","v":""},{"$f":"IFERROR(IF(A68=\"\",\"\",VLOOKUP(A68,[1]Hoja1!$B$2:$U$4999,19,FALSE)),0)","v":""},"",null,{"$f":"IFERROR(IF(O68=\"\",\"\",VLOOKUP(O68,JORNADA!$A$19:$B$20,2,FALSE)),\"\")","v":""},{"$f":"IFERROR(IF(A68=\"\",\"\",VLOOKUP(A68,[1]Hoja1!$B$2:$U$4999,3,FALSE)),0)","v":""},null,"","",{"$f":"IFERROR(IF(A68=\"\",\"\",VLOOKUP(A68,[1]Hoja1!$B$2:$U$4999,10,FALSE)),0)","v":""},{"$f":"IFERROR(IF(Q68=\"\",\"\",VLOOKUP(Q68,[1]Hoja1!$D$2:$AF$4999,29,FALSE)),\"NO EXISTE CUENTA\")","v":""},null,null,""]
["",{"$f":"IFERROR(IF(A69=\"\",\"\",VLOOKUP(A69,[1]Hoja1!$B$2:$U$4999,9,FALSE)),0)","v":""},{"$f":"IFERROR(IF(A69=\"\",\"\",VLOOKUP(A69,[1]Hoja1!$B$2:$U$4999,2,FALSE)),\" --- NO EXISTE TRABAJADOR --- \")","v":""},null,null,null,null,null,"","","",{"$f":"IFERROR(IF(A69=\"\",\"\",VLOOKUP(A69,[1]Hoja1!$B$2:$U$4999,18,FALSE)),0)","v":""},{"$f":"IFERROR(IF(A69=\"\",\"\",VLOOKUP(A69,[1]Hoja1!$B$2:$U$4999,19,FALSE)),0)","v":""},"",null,{"$f":"IFERROR(IF(O69=\"\",\"\",VLOOKUP(O69,JORNADA!$A$19:$B$20,2,FALSE)),\"\")","v":""},{"$f":"IFERROR(IF(A69=\"\",\"\",VLOOKUP(A69,[1]Hoja1!$B$2:$U$4999,3,FALSE)),0)","v":""},null,"","",{"$f":"IFERROR(IF(A69=\"\",\"\",VLOOKUP(A69,[1]Hoja1!$B$2:$U$4999,10,FALSE)),0)","v":""},{"$f":"IFERROR(IF(Q69=\"\",\"\",VLOOKUP(Q69,[1]Hoja1!$D$2:$AF$4999,29,FALSE)),\"NO EXISTE CUENTA\")","v":""},null,null,""]
["",{"$f":"IFERROR(IF(A70=\"\",\"\",VLOOKUP(A70,[1]Hoja1!$B$2:$U$4999,9,FALSE)),0)","v":""},{"$f":"IFERROR(IF(A70=\"\",\"\",VLOOKUP(A70,[1]Hoja1!$B$2:$U$4999,2,FALSE)),\" --- NO EXISTE TRABAJADOR --- \")","v":""},null,null,null,null,null,"","","",{"$f":"IFERROR(IF(A70=\"\",\"\",VLOOKUP(A70,[1]Hoja1!$B$2:$U$4999,18,FALSE)),0)","v":""},{"$f":"IFERROR(IF(A70=\"\",\"\",VLOOKUP(A70,[1]Hoja1!$B$2:$U$4999,19,FALSE)),0)","v":""},"",null,{"$f":"IFERROR(IF(O70=\"\",\"\",VLOOKUP(O70,JORNADA!$A$19:$B$20,2,FALSE)),\"\")","v":""},{"$f":"IFERROR(IF(A70=\"\",\"\",VLOOKUP(A70,[1]Hoja1!$B$2:$U$4999,3,FALSE)),0)","v":""},null,"","",{"$f":"IFERROR(IF(A70=\"\",\"\",VLOOKUP(A70,[1]Hoja1!$B$2:$U$4999,10,FALSE)),0)","v":""},{"$f":"IFERROR(IF(Q70=\"\",\"\",VLOOKUP(Q70,[1]Hoja1!$D$2:$AF$4999,29,FALSE)),\"NO EXISTE CUENTA\")","v":""},null,null,""]
["",{"$f":"IFERROR(IF(A71=\"\",\"\",VLOOKUP(A71,[1]Hoja1!$B$2:$U$4999,9,FALSE)),0)","v":""},{"$f":"IFERROR(IF(A71=\"\",\"\",VLOOKUP(A71,[1]Hoja1!$B$2:$U$4999,2,FALSE)),\" --- NO EXISTE TRABAJADOR --- \")","v":""},null,null,null,null,null,"","","",{"$f":"IFERROR(IF(A71=\"\",\"\",VLOOKUP(A71,[1]Hoja1!$B$2:$U$4999,18,FALSE)),0)","v":""},{"$f":"IFERROR(IF(A71=\"\",\"\",VLOOKUP(A71,[1]Hoja1!$B$2:$U$4999,19,FALSE)),0)","v":""},"",null,{"$f":"IFERROR(IF(O71=\"\",\"\",VLOOKUP(O71,JORNADA!$A$19:$B$20,2,FALSE)),\"\")","v":""},{"$f":"IFERROR(IF(A71=\"\",\"\",VLOOKUP(A71,[1]Hoja1!$B$2:$U$4999,3,FALSE)),0)","v":""},null,"","",{"$f":"IFERROR(IF(A71=\"\",\"\",VLOOKUP(A71,[1]Hoja1!$B$2:$U$4999,10,FALSE)),0)","v":""},{"$f":"IFERROR(IF(Q71=\"\",\"\",VLOOKUP(Q71,[1]Hoja1!$D$2:$AF$4999,29,FALSE)),\"NO EXISTE CUENTA\")","v":""},null,null,""]
["",{"$f":"IFERROR(IF(A72=\"\",\"\",VLOOKUP(A72,[1]Hoja1!$B$2:$U$4999,9,FALSE)),0)","v":""},{"$f":"IFERROR(IF(A72=\"\",\"\",VLOOKUP(A72,[1]Hoja1!$B$2:$U$4999,2,FALSE)),\" --- NO EXISTE TRABAJADOR --- \")","v":""},null,null,null,null,null,"","","",{"$f":"IFERROR(IF(A72=\"\",\"\",VLOOKUP(A72,[1]Hoja1!$B$2:$U$4999,18,FALSE)),0)","v":""},{"$f":"IFERROR(IF(A72=\"\",\"\",VLOOKUP(A72,[1]Hoja1!$B$2:$U$4999,19,FALSE)),0)","v":""},"",null,{"$f":"IFERROR(IF(O72=\"\",\"\",VLOOKUP(O72,JORNADA!$A$19:$B$20,2,FALSE)),\"\")","v":""},{"$f":"IFERROR(IF(A72=\"\",\"\",VLOOKUP(A72,[1]Hoja1!$B$2:$U$4999,3,FALSE)),0)","v":""},null,"","",{"$f":"IFERROR(IF(A72=\"\",\"\",VLOOKUP(A72,[1]Hoja1!$B$2:$U$4999,10,FALSE)),0)","v":""},{"$f":"IFERROR(IF(Q72=\"\",\"\",VLOOKUP(Q72,[1]Hoja1!$D$2:$AF$4999,29,FALSE)),\"NO EXISTE CUENTA\")","v":""},null,null,""]
["",{"$f":"IFERROR(IF(A73=\"\",\"\",VLOOKUP(A73,[1]Hoja1!$B$2:$U$4999,9,FALSE)),0)","v":""},{"$f":"IFERROR(IF(A73=\"\",\"\",VLOOKUP(A73,[1]Hoja1!$B$2:$U$4999,2,FALSE)),\" --- NO EXISTE TRABAJADOR --- \")","v":""},null,null,null,null,null,"","","",{"$f":"IFERROR(IF(A73=\"\",\"\",VLOOKUP(A73,[1]Hoja1!$B$2:$U$4999,18,FALSE)),0)","v":""},{"$f":"IFERROR(IF(A73=\"\",\"\",VLOOKUP(A73,[1]Hoja1!$B$2:$U$4999,19,FALSE)),0)","v":""},"",null,{"$f":"IFERROR(IF(O73=\"\",\"\",VLOOKUP(O73,JORNADA!$A$19:$B$20,2,FALSE)),\"\")","v":""},{"$f":"IFERROR(IF(A73=\"\",\"\",VLOOKUP(A73,[1]Hoja1!$B$2:$U$4999,3,FALSE)),0)","v":""},null,"","",{"$f":"IFERROR(IF(A73=\"\",\"\",VLOOKUP(A73,[1]Hoja1!$B$2:$U$4999,10,FALSE)),0)","v":""},{"$f":"IFERROR(IF(Q73=\"\",\"\",VLOOKUP(Q73,[1]Hoja1!$D$2:$AF$4999,29,FALSE)),\"NO EXISTE CUENTA\")","v":""},null,null,""]
["",{"$f":"IFERROR(IF(A74=\"\",\"\",VLOOKUP(A74,[1]Hoja1!$B$2:$U$4999,9,FALSE)),0)","v":""},{"$f":"IFERROR(IF(A74=\"\",\"\",VLOOKUP(A74,[1]Hoja1!$B$2:$U$4999,2,FALSE)),\" --- NO EXISTE TRABAJADOR --- \")","v":""},null,null,null,null,null,"","","",{"$f":"IFERROR(IF(A74=\"\",\"\",VLOOKUP(A74,[1]Hoja1!$B$2:$U$4999,18,FALSE)),0)","v":""},{"$f":"IFERROR(IF(A74=\"\",\"\",VLOOKUP(A74,[1]Hoja1!$B$2:$U$4999,19,FALSE)),0)","v":""},"",null,{"$f":"IFERROR(IF(O74=\"\",\"\",VLOOKUP(O74,JORNADA!$A$19:$B$20,2,FALSE)),\"\")","v":""},{"$f":"IFERROR(IF(A74=\"\",\"\",VLOOKUP(A74,[1]Hoja1!$B$2:$U$4999,3,FALSE)),0)","v":""},null,"","",{"$f":"IFERROR(IF(A74=\"\",\"\",VLOOKUP(A74,[1]Hoja1!$B$2:$U$4999,10,FALSE)),0)","v":""},{"$f":"IFERROR(IF(Q74=\"\",\"\",VLOOKUP(Q74,[1]Hoja1!$D$2:$AF$4999,29,FALSE)),\"NO EXISTE CUENTA\")","v":""},null,null,""]
["",{"$f":"IFERROR(IF(A75=\"\",\"\",VLOOKUP(A75,[1]Hoja1!$B$2:$U$4999,9,FALSE)),0)","v":""},{"$f":"IFERROR(IF(A75=\"\",\"\",VLOOKUP(A75,[1]Hoja1!$B$2:$U$4999,2,FALSE)),\" --- NO EXISTE TRABAJADOR --- \")","v":""},null,null,null,null,null,"","","",{"$f":"IFERROR(IF(A75=\"\",\"\",VLOOKUP(A75,[1]Hoja1!$B$2:$U$4999,18,FALSE)),0)","v":""},{"$f":"IFERROR(IF(A75=\"\",\"\",VLOOKUP(A75,[1]Hoja1!$B$2:$U$4999,19,FALSE)),0)","v":""},"",null,{"$f":"IFERROR(IF(O75=\"\",\"\",VLOOKUP(O75,JORNADA!$A$19:$B$20,2,FALSE)),\"\")","v":""},{"$f":"IFERROR(IF(A75=\"\",\"\",VLOOKUP(A75,[1]Hoja1!$B$2:$U$4999,3,FALSE)),0)","v":""},null,"","",{"$f":"IFERROR(IF(A75=\"\",\"\",VLOOKUP(A75,[1]Hoja1!$B$2:$U$4999,10,FALSE)),0)","v":""},{"$f":"IFERROR(IF(Q75=\"\",\"\",VLOOKUP(Q75,[1]Hoja1!$D$2:$AF$4999,29,FALSE)),\"NO EXISTE CUENTA\")","v":""},null,null,""]
["",{"$f":"IFERROR(IF(A76=\"\",\"\",VLOOKUP(A76,[1]Hoja1!$B$2:$U$4999,9,FALSE)),0)","v":""},{"$f":"IFERROR(IF(A76=\"\",\"\",VLOOKUP(A76,[1]Hoja1!$B$2:$U$4999,2,FALSE)),\" --- NO EXISTE TRABAJADOR --- \")","v":""},null,null,null,null,null,"","","",{"$f":"IFERROR(IF(A76=\"\",\"\",VLOOKUP(A76,[1]Hoja1!$B$2:$U$4999,18,FALSE)),0)","v":""},{"$f":"IFERROR(IF(A76=\"\",\"\",VLOOKUP(A76,[1]Hoja1!$B$2:$U$4999,19,FALSE)),0)","v":""},"",null,{"$f":"IFERROR(IF(O76=\"\",\"\",VLOOKUP(O76,JORNADA!$A$19:$B$20,2,FALSE)),\"\")","v":""},{"$f":"IFERROR(IF(A76=\"\",\"\",VLOOKUP(A76,[1]Hoja1!$B$2:$U$4999,3,FALSE)),0)","v":""},null,"","",{"$f":"IFERROR(IF(A76=\"\",\"\",VLOOKUP(A76,[1]Hoja1!$B$2:$U$4999,10,FALSE)),0)","v":""},{"$f":"IFERROR(IF(Q76=\"\",\"\",VLOOKUP(Q76,[1]Hoja1!$D$2:$AF$4999,29,FALSE)),\"NO EXISTE CUENTA\")","v":""},null,null,""]
["",{"$f":"IFERROR(IF(A77=\"\",\"\",VLOOKUP(A77,[1]Hoja1!$B$2:$U$4999,9,FALSE)),0)","v":""},{"$f":"IFERROR(IF(A77=\"\",\"\",VLOOKUP(A77,[1]Hoja1!$B$2:$U$4999,2,FALSE)),\" --- NO EXISTE TRABAJADOR --- \")","v":""},null,null,null,null,null,"","","",{"$f":"IFERROR(IF(A77=\"\",\"\",VLOOKUP(A77,[1]Hoja1!$B$2:$U$4999,18,FALSE)),0)","v":""},{"$f":"IFERROR(IF(A77=\"\",\"\",VLOOKUP(A77,[1]Hoja1!$B$2:$U$4999,19,FALSE)),0)","v":""},"",null,{"$f":"IFERROR(IF(O77=\"\",\"\",VLOOKUP(O77,JORNADA!$A$19:$B$20,2,FALSE)),\"\")","v":""},{"$f":"IFERROR(IF(A77=\"\",\"\",VLOOKUP(A77,[1]Hoja1!$B$2:$U$4999,3,FALSE)),0)","v":""},null,"","",{"$f":"IFERROR(IF(A77=\"\",\"\",VLOOKUP(A77,[1]Hoja1!$B$2:$U$4999,10,FALSE)),0)","v":""},{"$f":"IFERROR(IF(Q77=\"\",\"\",VLOOKUP(Q77,[1]Hoja1!$D$2:$AF$4999,29,FALSE)),\"NO EXISTE CUENTA\")","v":""},null,null,""]
["",{"$f":"IFERROR(IF(A78=\"\",\"\",VLOOKUP(A78,[1]Hoja1!$B$2:$U$4999,9,FALSE)),0)","v":""},{"$f":"IFERROR(IF(A78=\"\",\"\",VLOOKUP(A78,[1]Hoja1!$B$2:$U$4999,2,FALSE)),\" --- NO EXISTE TRABAJADOR --- \")","v":""},null,null,null,null,null,"","","",{"$f":"IFERROR(IF(A78=\"\",\"\",VLOOKUP(A78,[1]Hoja1!$B$2:$U$4999,18,FALSE)),0)","v":""},{"$f":"IFERROR(IF(A78=\"\",\"\",VLOOKUP(A78,[1]Hoja1!$B$2:$U$4999,19,FALSE)),0)","v":""},"",null,{"$f":"IFERROR(IF(O78=\"\",\"\",VLOOKUP(O78,JORNADA!$A$19:$B$20,2,FALSE)),\"\")","v":""},{"$f":"IFERROR(IF(A78=\"\",\"\",VLOOKUP(A78,[1]Hoja1!$B$2:$U$4999,3,FALSE)),0)","v":""},null,"","",{"$f":"IFERROR(IF(A78=\"\",\"\",VLOOKUP(A78,[1]Hoja1!$B$2:$U$4999,10,FALSE)),0)","v":""},{"$f":"IFERROR(IF(Q78=\"\",\"\",VLOOKUP(Q78,[1]Hoja1!$D$2:$AF$4999,29,FALSE)),\"NO EXISTE CUENTA\")","v":""},null,null,""]
["",{"$f":"IFERROR(IF(A79=\"\",\"\",VLOOKUP(A79,[1]Hoja1!$B$2:$U$4999,9,FALSE)),0)","v":""},{"$f":"IFERROR(IF(A79=\"\",\"\",VLOOKUP(A79,[1]Hoja1!$B$2:$U$4999,2,FALSE)),\" --- NO EXISTE TRABAJADOR --- \")","v":""},null,null,null,null,null,"","","",{"$f":"IFERROR(IF(A79=\"\",\"\",VLOOKUP(A79,[1]Hoja1!$B$2:$U$4999,18,FALSE)),0)","v":""},{"$f":"IFERROR(IF(A79=\"\",\"\",VLOOKUP(A79,[1]Hoja1!$B$2:$U$4999,19,FALSE)),0)","v":""},"",null,{"$f":"IFERROR(IF(O79=\"\",\"\",VLOOKUP(O79,JORNADA!$A$19:$B$20,2,FALSE)),\"\")","v":""},{"$f":"IFERROR(IF(A79=\"\",\"\",VLOOKUP(A79,[1]Hoja1!$B$2:$U$4999,3,FALSE)),0)","v":""},null,"","",{"$f":"IFERROR(IF(A79=\"\",\"\",VLOOKUP(A79,[1]Hoja1!$B$2:$U$4999,10,FALSE)),0)","v":""},{"$f":"IFERROR(IF(Q79=\"\",\"\",VLOOKUP(Q79,[1]Hoja1!$D$2:$AF$4999,29,FALSE)),\"NO EXISTE CUENTA\")","v":""},null,null,""]
["",{"$f":"IFERROR(IF(A80=\"\",\"\",VLOOKUP(A80,[1]Hoja1!$B$2:$U$4999,9,FALSE)),0)","v":""},{"$f":"IFERROR(IF(A80=\"\",\"\",VLOOKUP(A80,[1]Hoja1!$B$2:$U$4999,2,FALSE)),\" --- NO EXISTE TRABAJADOR --- \")","v":""},null,null,null,null,null,"","","",{"$f":"IFERROR(IF(A80=\"\",\"\",VLOOKUP(A80,[1]Hoja1!$B$2:$U$4999,18,FALSE)),0)","v":""},{"$f":"IFERROR(IF(A80=\"\",\"\",VLOOKUP(A80,[1]Hoja1!$B$2:$U$4999,19,FALSE)),0)","v":""},"",null,{"$f":"IFERROR(IF(O80=\"\",\"\",VLOOKUP(O80,JORNADA!$A$19:$B$20,2,FALSE)),\"\")","v":""},{"$f":"IFERROR(IF(A80=\"\",\"\",VLOOKUP(A80,[1]Hoja1!$B$2:$U$4999,3,FALSE)),0)","v":""},null,"","",{"$f":"IFERROR(IF(A80=\"\",\"\",VLOOKUP(A80,[1]Hoja1!$B$2:$U$4999,10,FALSE)),0)","v":""},{"$f":"IFERROR(IF(Q80=\"\",\"\",VLOOKUP(Q80,[1]Hoja1!$D$2:$AF$4999,29,FALSE)),\"NO EXISTE CUENTA\")","v":""},null,null,""]
["",{"$f":"IFERROR(IF(A81=\"\",\"\",VLOOKUP(A81,[1]Hoja1!$B$2:$U$4999,9,FALSE)),0)","v":""},{"$f":"IFERROR(IF(A81=\"\",\"\",VLOOKUP(A81,[1]Hoja1!$B$2:$U$4999,2,FALSE)),\" --- NO EXISTE TRABAJADOR --- \")","v":""},null,null,null,null,null,"","","",{"$f":"IFERROR(IF(A81=\"\",\"\",VLOOKUP(A81,[1]Hoja1!$B$2:$U$4999,18,FALSE)),0)","v":""},{"$f":"IFERROR(IF(A81=\"\",\"\",VLOOKUP(A81,[1]Hoja1!$B$2:$U$4999,19,FALSE)),0)","v":""},"",null,{"$f":"IFERROR(IF(O81=\"\",\"\",VLOOKUP(O81,JORNADA!$A$19:$B$20,2,FALSE)),\"\")","v":""},{"$f":"IFERROR(IF(A81=\"\",\"\",VLOOKUP(A81,[1]Hoja1!$B$2:$U$4999,3,FALSE)),0)","v":""},null,"","",{"$f":"IFERROR(IF(A81=\"\",\"\",VLOOKUP(A81,[1]Hoja1!$B$2:$U$4999,10,FALSE)),0)","v":""},{"$f":"IFERROR(IF(Q81=\"\",\"\",VLOOKUP(Q81,[1]Hoja1!$D$2:$AF$4999,29,FALSE)),\"NO EXISTE CUENTA\")","v":""},null,null,""]
["",{"$f":"IFERROR(IF(A82=\"\",\"\",VLOOKUP(A82,[1]Hoja1!$B$2:$U$4999,9,FALSE)),0)","v":""},{"$f":"IFERROR(IF(A82=\"\",\"\",VLOOKUP(A82,[1]Hoja1!$B$2:$U$4999,2,FALSE)),\" --- NO EXISTE TRABAJADOR --- \")","v":""},null,null,null,null,null,"","","",{"$f":"IFERROR(IF(A82=\"\",\"\",VLOOKUP(A82,[1]Hoja1!$B$2:$U$4999,18,FALSE)),0)","v":""},{"$f":"IFERROR(IF(A82=\"\",\"\",VLOOKUP(A82,[1]Hoja1!$B$2:$U$4999,19,FALSE)),0)","v":""},"",null,{"$f":"IFERROR(IF(O82=\"\",\"\",VLOOKUP(O82,JORNADA!$A$19:$B$20,2,FALSE)),\"\")","v":""},{"$f":"IFERROR(IF(A82=\"\",\"\",VLOOKUP(A82,[1]Hoja1!$B$2:$U$4999,3,FALSE)),0)","v":""},null,"","",{"$f":"IFERROR(IF(A82=\"\",\"\",VLOOKUP(A82,[1]Hoja1!$B$2:$U$4999,10,FALSE)),0)","v":""},{"$f":"IFERROR(IF(Q82=\"\",\"\",VLOOKUP(Q82,[1]Hoja1!$D$2:$AF$4999,29,FALSE)),\"NO EXISTE CUENTA\")","v":""},null,null,""]
["",{"$f":"IFERROR(IF(A83=\"\",\"\",VLOOKUP(A83,[1]Hoja1!$B$2:$U$4999,9,FALSE)),0)","v":""},{"$f":"IFERROR(IF(A83=\"\",\"\",VLOOKUP(A83,[1]Hoja1!$B$2:$U$4999,2,FALSE)),\" --- NO EXISTE TRABAJADOR --- \")","v":""},null,null,null,null,null,"","","",{"$f":"IFERROR(IF(A83=\"\",\"\",VLOOKUP(A83,[1]Hoja1!$B$2:$U$4999,18,FALSE)),0)","v":""},{"$f":"IFERROR(IF(A83=\"\",\"\",VLOOKUP(A83,[1]Hoja1!$B$2:$U$4999,19,FALSE)),0)","v":""},"",null,{"$f":"IFERROR(IF(O83=\"\",\"\",VLOOKUP(O83,JORNADA!$A$19:$B$20,2,FALSE)),\"\")","v":""},{"$f":"IFERROR(IF(A83=\"\",\"\",VLOOKUP(A83,[1]Hoja1!$B$2:$U$4999,3,FALSE)),0)","v":""},null,"","",{"$f":"IFERROR(IF(A83=\"\",\"\",VLOOKUP(A83,[1]Hoja1!$B$2:$U$4999,10,FALSE)),0)","v":""},{"$f":"IFERROR(IF(Q83=\"\",\"\",VLOOKUP(Q83,[1]Hoja1!$D$2:$AF$4999,29,FALSE)),\"NO EXISTE CUENTA\")","v":""},null,null,""]
["",{"$f":"IFERROR(IF(A84=\"\",\"\",VLOOKUP(A84,[1]Hoja1!$B$2:$U$4999,9,FALSE)),0)","v":""},{"$f":"IFERROR(IF(A84=\"\",\"\",VLOOKUP(A84,[1]Hoja1!$B$2:$U$4999,2,FALSE)),\" --- NO EXISTE TRABAJADOR --- \")","v":""},null,null,null,null,null,"","","",{"$f":"IFERROR(IF(A84=\"\",\"\",VLOOKUP(A84,[1]Hoja1!$B$2:$U$4999,18,FALSE)),0)","v":""},{"$f":"IFERROR(IF(A84=\"\",\"\",VLOOKUP(A84,[1]Hoja1!$B$2:$U$4999,19,FALSE)),0)","v":""},"",null,{"$f":"IFERROR(IF(O84=\"\",\"\",VLOOKUP(O84,JORNADA!$A$19:$B$20,2,FALSE)),\"\")","v":""},{"$f":"IFERROR(IF(A84=\"\",\"\",VLOOKUP(A84,[1]Hoja1!$B$2:$U$4999,3,FALSE)),0)","v":""},null,"","",{"$f":"IFERROR(IF(A84=\"\",\"\",VLOOKUP(A84,[1]Hoja1!$B$2:$U$4999,10,FALSE)),0)","v":""},{"$f":"IFERROR(IF(Q84=\"\",\"\",VLOOKUP(Q84,[1]Hoja1!$D$2:$AF$4999,29,FALSE)),\"NO EXISTE CUENTA\")","v":""},null,null,""]
["",{"$f":"IFERROR(IF(A85=\"\",\"\",VLOOKUP(A85,[1]Hoja1!$B$2:$U$4999,9,FALSE)),0)","v":""},{"$f":"IFERROR(IF(A85=\"\",\"\",VLOOKUP(A85,[1]Hoja1!$B$2:$U$4999,2,FALSE)),\" --- NO EXISTE TRABAJADOR --- \")","v":""},null,null,null,null,null,"","","",{"$f":"IFERROR(IF(A85=\"\",\"\",VLOOKUP(A85,[1]Hoja1!$B$2:$U$4999,18,FALSE)),0)","v":""},{"$f":"IFERROR(IF(A85=\"\",\"\",VLOOKUP(A85,[1]Hoja1!$B$2:$U$4999,19,FALSE)),0)","v":""},"",null,{"$f":"IFERROR(IF(O85=\"\",\"\",VLOOKUP(O85,JORNADA!$A$19:$B$20,2,FALSE)),\"\")","v":""},{"$f":"IFERROR(IF(A85=\"\",\"\",VLOOKUP(A85,[1]Hoja1!$B$2:$U$4999,3,FALSE)),0)","v":""},null,"","",{"$f":"IFERROR(IF(A85=\"\",\"\",VLOOKUP(A85,[1]Hoja1!$B$2:$U$4999,10,FALSE)),0)","v":""},{"$f":"IFERROR(IF(Q85=\"\",\"\",VLOOKUP(Q85,[1]Hoja1!$D$2:$AF$4999,29,FALSE)),\"NO EXISTE CUENTA\")","v":""},null,null,""]
["",{"$f":"IFERROR(IF(A86=\"\",\"\",VLOOKUP(A86,[1]Hoja1!$B$2:$U$4999,9,FALSE)),0)","v":""},{"$f":"IFERROR(IF(A86=\"\",\"\",VLOOKUP(A86,[1]Hoja1!$B$2:$U$4999,2,FALSE)),\" --- NO EXISTE TRABAJADOR --- \")","v":""},null,null,null,null,null,"","","",{"$f":"IFERROR(IF(A86=\"\",\"\",VLOOKUP(A86,[1]Hoja1!$B$2:$U$4999,18,FALSE)),0)","v":""},{"$f":"IFERROR(IF(A86=\"\",\"\",VLOOKUP(A86,[1]Hoja1!$B$2:$U$4999,19,FALSE)),0)","v":""},"",null,{"$f":"IFERROR(IF(O86=\"\",\"\",VLOOKUP(O86,JORNADA!$A$19:$B$20,2,FALSE)),\"\")","v":""},{"$f":"IFERROR(IF(A86=\"\",\"\",VLOOKUP(A86,[1]Hoja1!$B$2:$U$4999,3,FALSE)),0)","v":""},null,"","",{"$f":"IFERROR(IF(A86=\"\",\"\",VLOOKUP(A86,[1]Hoja1!$B$2:$U$4999,10,FALSE)),0)","v":""},{"$f":"IFERROR(IF(Q86=\"\",\"\",VLOOKUP(Q86,[1]Hoja1!$D$2:$AF$4999,29,FALSE)),\"NO EXISTE CUENTA\")","v":""},null,null,""]
["",{"$f":"IFERROR(IF(A87=\"\",\"\",VLOOKUP(A87,[1]Hoja1!$B$2:$U$4999,9,FALSE)),0)","v":""},{"$f":"IFERROR(IF(A87=\"\",\"\",VLOOKUP(A87,[1]Hoja1!$B$2:$U$4999,2,FALSE)),\" --- NO EXISTE TRABAJADOR --- \")","v":""},null,null,null,null,null,"","","",{"$f":"IFERROR(IF(A87=\"\",\"\",VLOOKUP(A87,[1]Hoja1!$B$2:$U$4999,18,FALSE)),0)","v":""},{"$f":"IFERROR(IF(A87=\"\",\"\",VLOOKUP(A87,[1]Hoja1!$B$2:$U$4999,19,FALSE)),0)","v":""},"",null,{"$f":"IFERROR(IF(O87=\"\",\"\",VLOOKUP(O87,JORNADA!$A$19:$B$20,2,FALSE)),\"\")","v":""},{"$f":"IFERROR(IF(A87=\"\",\"\",VLOOKUP(A87,[1]Hoja1!$B$2:$U$4999,3,FALSE)),0)","v":""},null,"","",{"$f":"IFERROR(IF(A87=\"\",\"\",VLOOKUP(A87,[1]Hoja1!$B$2:$U$4999,10,FALSE)),0)","v":""},{"$f":"IFERROR(IF(Q87=\"\",\"\",VLOOKUP(Q87,[1]Hoja1!$D$2:$AF$4999,29,FALSE)),\"NO EXISTE CUENTA\")","v":""},null,null,""]
["",{"$f":"IFERROR(IF(A88=\"\",\"\",VLOOKUP(A88,[1]Hoja1!$B$2:$U$4999,9,FALSE)),0)","v":""},{"$f":"IFERROR(IF(A88=\"\",\"\",VLOOKUP(A88,[1]Hoja1!$B$2:$U$4999,2,FALSE)),\" --- NO EXISTE TRABAJADOR --- \")","v":""},null,null,null,null,null,"","","",{"$f":"IFERROR(IF(A88=\"\",\"\",VLOOKUP(A88,[1]Hoja1!$B$2:$U$4999,18,FALSE)),0)","v":""},{"$f":"IFERROR(IF(A88=\"\",\"\",VLOOKUP(A88,[1]Hoja1!$B$2:$U$4999,19,FALSE)),0)","v":""},"",null,{"$f":"IFERROR(IF(O88=\"\",\"\",VLOOKUP(O88,JORNADA!$A$19:$B$20,2,FALSE)),\"\")","v":""},{"$f":"IFERROR(IF(A88=\"\",\"\",VLOOKUP(A88,[1]Hoja1!$B$2:$U$4999,3,FALSE)),0)","v":""},null,"","",{"$f":"IFERROR(IF(A88=\"\",\"\",VLOOKUP(A88,[1]Hoja1!$B$2:$U$4999,10,FALSE)),0)","v":""},{"$f":"IFERROR(IF(Q88=\"\",\"\",VLOOKUP(Q88,[1]Hoja1!$D$2:$AF$4999,29,FALSE)),\"NO EXISTE CUENTA\")","v":""},null,null,""]
["",{"$f":"IFERROR(IF(A89=\"\",\"\",VLOOKUP(A89,[1]Hoja1!$B$2:$U$4999,9,FALSE)),0)","v":""},{"$f":"IFERROR(IF(A89=\"\",\"\",VLOOKUP(A89,[1]Hoja1!$B$2:$U$4999,2,FALSE)),\" --- NO EXISTE TRABAJADOR --- \")","v":""},null,null,null,null,null,"","","",{"$f":"IFERROR(IF(A89=\"\",\"\",VLOOKUP(A89,[1]Hoja1!$B$2:$U$4999,18,FALSE)),0)","v":""},{"$f":"IFERROR(IF(A89=\"\",\"\",VLOOKUP(A89,[1]Hoja1!$B$2:$U$4999,19,FALSE)),0)","v":""},"",null,{"$f":"IFERROR(IF(O89=\"\",\"\",VLOOKUP(O89,JORNADA!$A$19:$B$20,2,FALSE)),\"\")","v":""},{"$f":"IFERROR(IF(A89=\"\",\"\",VLOOKUP(A89,[1]Hoja1!$B$2:$U$4999,3,FALSE)),0)","v":""},null,"","",{"$f":"IFERROR(IF(A89=\"\",\"\",VLOOKUP(A89,[1]Hoja1!$B$2:$U$4999,10,FALSE)),0)","v":""},{"$f":"IFERROR(IF(Q89=\"\",\"\",VLOOKUP(Q89,[1]Hoja1!$D$2:$AF$4999,29,FALSE)),\"NO EXISTE CUENTA\")","v":""},null,null,""]
["",{"$f":"IFERROR(IF(A90=\"\",\"\",VLOOKUP(A90,[1]Hoja1!$B$2:$U$4999,9,FALSE)),0)","v":""},{"$f":"IFERROR(IF(A90=\"\",\"\",VLOOKUP(A90,[1]Hoja1!$B$2:$U$4999,2,FALSE)),\" --- NO EXISTE TRABAJADOR --- \")","v":""},null,null,null,null,null,"","","",{"$f":"IFERROR(IF(A90=\"\",\"\",VLOOKUP(A90,[1]Hoja1!$B$2:$U$4999,18,FALSE)),0)","v":""},{"$f":"IFERROR(IF(A90=\"\",\"\",VLOOKUP(A90,[1]Hoja1!$B$2:$U$4999,19,FALSE)),0)","v":""},"",null,{"$f":"IFERROR(IF(O90=\"\",\"\",VLOOKUP(O90,JORNADA!$A$19:$B$20,2,FALSE)),\"\")","v":""},{"$f":"IFERROR(IF(A90=\"\",\"\",VLOOKUP(A90,[1]Hoja1!$B$2:$U$4999,3,FALSE)),0)","v":""},null,"","",{"$f":"IFERROR(IF(A90=\"\",\"\",VLOOKUP(A90,[1]Hoja1!$B$2:$U$4999,10,FALSE)),0)","v":""},{"$f":"IFERROR(IF(Q90=\"\",\"\",VLOOKUP(Q90,[1]Hoja1!$D$2:$AF$4999,29,FALSE)),\"NO EXISTE CUENTA\")","v":""},null,null,""]
["",{"$f":"IFERROR(IF(A91=\"\",\"\",VLOOKUP(A91,[1]Hoja1!$B$2:$U$4999,9,FALSE)),0)","v":""},{"$f":"IFERROR(IF(A91=\"\",\"\",VLOOKUP(A91,[1]Hoja1!$B$2:$U$4999,2,FALSE)),\" --- NO EXISTE TRABAJADOR --- \")","v":""},null,null,null,null,null,"","","",{"$f":"IFERROR(IF(A91=\"\",\"\",VLOOKUP(A91,[1]Hoja1!$B$2:$U$4999,18,FALSE)),0)","v":""},{"$f":"IFERROR(IF(A91=\"\",\"\",VLOOKUP(A91,[1]Hoja1!$B$2:$U$4999,19,FALSE)),0)","v":""},"",null,{"$f":"IFERROR(IF(O91=\"\",\"\",VLOOKUP(O91,JORNADA!$A$19:$B$20,2,FALSE)),\"\")","v":""},{"$f":"IFERROR(IF(A91=\"\",\"\",VLOOKUP(A91,[1]Hoja1!$B$2:$U$4999,3,FALSE)),0)","v":""},null,"","",{"$f":"IFERROR(IF(A91=\"\",\"\",VLOOKUP(A91,[1]Hoja1!$B$2:$U$4999,10,FALSE)),0)","v":""},{"$f":"IFERROR(IF(Q91=\"\",\"\",VLOOKUP(Q91,[1]Hoja1!$D$2:$AF$4999,29,FALSE)),\"NO EXISTE CUENTA\")","v":""},null,null,""]
["",{"$f":"IFERROR(IF(A92=\"\",\"\",VLOOKUP(A92,[1]Hoja1!$B$2:$U$4999,9,FALSE)),0)","v":""},{"$f":"IFERROR(IF(A92=\"\",\"\",VLOOKUP(A92,[1]Hoja1!$B$2:$U$4999,2,FALSE)),\" --- NO EXISTE TRABAJADOR --- \")","v":""},null,null,null,null,null,"","","",{"$f":"IFERROR(IF(A92=\"\",\"\",VLOOKUP(A92,[1]Hoja1!$B$2:$U$4999,18,FALSE)),0)","v":""},{"$f":"IFERROR(IF(A92=\"\",\"\",VLOOKUP(A92,[1]Hoja1!$B$2:$U$4999,19,FALSE)),0)","v":""},"",null,{"$f":"IFERROR(IF(O92=\"\",\"\",VLOOKUP(O92,JORNADA!$A$19:$B$20,2,FALSE)),\"\")","v":""},{"$f":"IFERROR(IF(A92=\"\",\"\",VLOOKUP(A92,[1]Hoja1!$B$2:$U$4999,3,FALSE)),0)","v":""},null,"","",{"$f":"IFERROR(IF(A92=\"\",\"\",VLOOKUP(A92,[1]Hoja1!$B$2:$U$4999,10,FALSE)),0)","v":""},{"$f":"IFERROR(IF(Q92=\"\",\"\",VLOOKUP(Q92,[1]Hoja1!$D$2:$AF$4999,29,FALSE)),\"NO EXISTE CUENTA\")","v":""},null,null,""]
["",{"$f":"IFERROR(IF(A93=\"\",\"\",VLOOKUP(A93,[1]Hoja1!$B$2:$U$4999,9,FALSE)),0)","v":""},{"$f":"IFERROR(IF(A93=\"\",\"\",VLOOKUP(A93,[1]Hoja1!$B$2:$U$4999,2,FALSE)),\" --- NO EXISTE TRABAJADOR --- \")","v":""},null,null,null,null,null,"","","",{"$f":"IFERROR(IF(A93=\"\",\"\",VLOOKUP(A93,[1]Hoja1!$B$2:$U$4999,18,FALSE)),0)","v":""},{"$f":"IFERROR(IF(A93=\"\",\"\",VLOOKUP(A93,[1]Hoja1!$B$2:$U$4999,19,FALSE)),0)","v":""},"",null,{"$f":"IFERROR(IF(O93=\"\",\"\",VLOOKUP(O93,JORNADA!$A$19:$B$20,2,FALSE)),\"\")","v":""},{"$f":"IFERROR(IF(A93=\"\",\"\",VLOOKUP(A93,[1]Hoja1!$B$2:$U$4999,3,FALSE)),0)","v":""},null,"","",{"$f":"IFERROR(IF(A93=\"\",\"\",VLOOKUP(A93,[1]Hoja1!$B$2:$U$4999,10,FALSE)),0)","v":""},{"$f":"IFERROR(IF(Q93=\"\",\"\",VLOOKUP(Q93,[1]Hoja1!$D$2:$AF$4999,29,FALSE)),\"NO EXISTE CUENTA\")","v":""},null,null,""]
["",{"$f":"IFERROR(IF(A94=\"\",\"\",VLOOKUP(A94,[1]Hoja1!$B$2:$U$4999,9,FALSE)),0)","v":""},{"$f":"IFERROR(IF(A94=\"\",\"\",VLOOKUP(A94,[1]Hoja1!$B$2:$U$4999,2,FALSE)),\" --- NO EXISTE TRABAJADOR --- \")","v":""},null,null,null,null,null,"","","",{"$f":"IFERROR(IF(A94=\"\",\"\",VLOOKUP(A94,[1]Hoja1!$B$2:$U$4999,18,FALSE)),0)","v":""},{"$f":"IFERROR(IF(A94=\"\",\"\",VLOOKUP(A94,[1]Hoja1!$B$2:$U$4999,19,FALSE)),0)","v":""},"",null,{"$f":"IFERROR(IF(O94=\"\",\"\",VLOOKUP(O94,JORNADA!$A$19:$B$20,2,FALSE)),\"\")","v":""},{"$f":"IFERROR(IF(A94=\"\",\"\",VLOOKUP(A94,[1]Hoja1!$B$2:$U$4999,3,FALSE)),0)","v":""},null,"","",{"$f":"IFERROR(IF(A94=\"\",\"\",VLOOKUP(A94,[1]Hoja1!$B$2:$U$4999,10,FALSE)),0)","v":""},{"$f":"IFERROR(IF(Q94=\"\",\"\",VLOOKUP(Q94,[1]Hoja1!$D$2:$AF$4999,29,FALSE)),\"NO EXISTE CUENTA\")","v":""},null,null,""]
["",{"$f":"IFERROR(IF(A95=\"\",\"\",VLOOKUP(A95,[1]Hoja1!$B$2:$U$4999,9,FALSE)),0)","v":""},{"$f":"IFERROR(IF(A95=\"\",\"\",VLOOKUP(A95,[1]Hoja1!$B$2:$U$4999,2,FALSE)),\" --- NO EXISTE TRABAJADOR --- \")","v":""},null,null,null,null,null,"","","",{"$f":"IFERROR(IF(A95=\"\",\"\",VLOOKUP(A95,[1]Hoja1!$B$2:$U$4999,18,FALSE)),0)","v":""},{"$f":"IFERROR(IF(A95=\"\",\"\",VLOOKUP(A95,[1]Hoja1!$B$2:$U$4999,19,FALSE)),0)","v":""},"",null,{"$f":"IFERROR(IF(O95=\"\",\"\",VLOOKUP(O95,JORNADA!$A$19:$B$20,2,FALSE)),\"\")","v":""},{"$f":"IFERROR(IF(A95=\"\",\"\",VLOOKUP(A95,[1]Hoja1!$B$2:$U$4999,3,FALSE)),0)","v":""},null,"","",{"$f":"IFERROR(IF(A95=\"\",\"\",VLOOKUP(A95,[1]Hoja1!$B$2:$U$4999,10,FALSE)),0)","v":""},{"$f":"IFERROR(IF(Q95=\"\",\"\",VLOOKUP(Q95,[1]Hoja1!$D$2:$AF$4999,29,FALSE)),\"NO EXISTE CUENTA\")","v":""},null,null,""]
["",{"$f":"IFERROR(IF(A96=\"\",\"\",VLOOKUP(A96,[1]Hoja1!$B$2:$U$4999,9,FALSE)),0)","v":""},{"$f":"IFERROR(IF(A96=\"\",\"\",VLOOKUP(A96,[1]Hoja1!$B$2:$U$4999,2,FALSE)),\" --- NO EXISTE TRABAJADOR --- \")","v":""},null,null,null,null,null,"","","",{"$f":"IFERROR(IF(A96=\"\",\"\",VLOOKUP(A96,[1]Hoja1!$B$2:$U$4999,18,FALSE)),0)","v":""},{"$f":"IFERROR(IF(A96=\"\",\"\",VLOOKUP(A96,[1]Hoja1!$B$2:$U$4999,19,FALSE)),0)","v":""},"",null,{"$f":"IFERROR(IF(O96=\"\",\"\",VLOOKUP(O96,JORNADA!$A$19:$B$20,2,FALSE)),\"\")","v":""},{"$f":"IFERROR(IF(A96=\"\",\"\",VLOOKUP(A96,[1]Hoja1!$B$2:$U$4999,3,FALSE)),0)","v":""},null,"","",{"$f":"IFERROR(IF(A96=\"\",\"\",VLOOKUP(A96,[1]Hoja1!$B$2:$U$4999,10,FALSE)),0)","v":""},{"$f":"IFERROR(IF(Q96=\"\",\"\",VLOOKUP(Q96,[1]Hoja1!$D$2:$AF$4999,29,FALSE)),\"NO EXISTE CUENTA\")","v":""},null,null,""]
["",{"$f":"IFERROR(IF(A97=\"\",\"\",VLOOKUP(A97,[1]Hoja1!$B$2:$U$4999,9,FALSE)),0)","v":""},{"$f":"IFERROR(IF(A97=\"\",\"\",VLOOKUP(A97,[1]Hoja1!$B$2:$U$4999,2,FALSE)),\" --- NO EXISTE TRABAJADOR --- \")","v":""},null,null,null,null,null,"","","",{"$f":"IFERROR(IF(A97=\"\",\"\",VLOOKUP(A97,[1]Hoja1!$B$2:$U$4999,18,FALSE)),0)","v":""},{"$f":"IFERROR(IF(A97=\"\",\"\",VLOOKUP(A97,[1]Hoja1!$B$2:$U$4999,19,FALSE)),0)","v":""},"",null,{"$f":"IFERROR(IF(O97=\"\",\"\",VLOOKUP(O97,JORNADA!$A$19:$B$20,2,FALSE)),\"\")","v":""},{"$f":"IFERROR(IF(A97=\"\",\"\",VLOOKUP(A97,[1]Hoja1!$B$2:$U$4999,3,FALSE)),0)","v":""},null,"","",{"$f":"IFERROR(IF(A97=\"\",\"\",VLOOKUP(A97,[1]Hoja1!$B$2:$U$4999,10,FALSE)),0)","v":""},{"$f":"IFERROR(IF(Q97=\"\",\"\",VLOOKUP(Q97,[1]Hoja1!$D$2:$AF$4999,29,FALSE)),\"NO EXISTE CUENTA\")","v":""},null,null,""]
["",{"$f":"IFERROR(IF(A98=\"\",\"\",VLOOKUP(A98,[1]Hoja1!$B$2:$U$4999,9,FALSE)),0)","v":""},{"$f":"IFERROR(IF(A98=\"\",\"\",VLOOKUP(A98,[1]Hoja1!$B$2:$U$4999,2,FALSE)),\" --- NO EXISTE TRABAJADOR --- \")","v":""},null,null,null,null,null,"","","",{"$f":"IFERROR(IF(A98=\"\",\"\",VLOOKUP(A98,[1]Hoja1!$B$2:$U$4999,18,FALSE)),0)","v":""},{"$f":"IFERROR(IF(A98=\"\",\"\",VLOOKUP(A98,[1]Hoja1!$B$2:$U$4999,19,FALSE)),0)","v":""},"",null,{"$f":"IFERROR(IF(O98=\"\",\"\",VLOOKUP(O98,JORNADA!$A$19:$B$20,2,FALSE)),\"\")","v":""},{"$f":"IFERROR(IF(A98=\"\",\"\",VLOOKUP(A98,[1]Hoja1!$B$2:$U$4999,3,FALSE)),0)","v":""},null,"","",{"$f":"IFERROR(IF(A98=\"\",\"\",VLOOKUP(A98,[1]Hoja1!$B$2:$U$4999,10,FALSE)),0)","v":""},{"$f":"IFERROR(IF(Q98=\"\",\"\",VLOOKUP(Q98,[1]Hoja1!$D$2:$AF$4999,29,FALSE)),\"NO EXISTE CUENTA\")","v":""},null,null,""]
["",{"$f":"IFERROR(IF(A99=\"\",\"\",VLOOKUP(A99,[1]Hoja1!$B$2:$U$4999,9,FALSE)),0)","v":""},{"$f":"IFERROR(IF(A99=\"\",\"\",VLOOKUP(A99,[1]Hoja1!$B$2:$U$4999,2,FALSE)),\" --- NO EXISTE TRABAJADOR --- \")","v":""},null,null,null,null,null,"","","",{"$f":"IFERROR(IF(A99=\"\",\"\",VLOOKUP(A99,[1]Hoja1!$B$2:$U$4999,18,FALSE)),0)","v":""},{"$f":"IFERROR(IF(A99=\"\",\"\",VLOOKUP(A99,[1]Hoja1!$B$2:$U$4999,19,FALSE)),0)","v":""},"",null,{"$f":"IFERROR(IF(O99=\"\",\"\",VLOOKUP(O99,JORNADA!$A$19:$B$20,2,FALSE)),\"\")","v":""},{"$f":"IFERROR(IF(A99=\"\",\"\",VLOOKUP(A99,[1]Hoja1!$B$2:$U$4999,3,FALSE)),0)","v":""},null,"","",{"$f":"IFERROR(IF(A99=\"\",\"\",VLOOKUP(A99,[1]Hoja1!$B$2:$U$4999,10,FALSE)),0)","v":""},{"$f":"IFERROR(IF(Q99=\"\",\"\",VLOOKUP(Q99,[1]Hoja1!$D$2:$AF$4999,29,FALSE)),\"NO EXISTE CUENTA\")","v":""},null,null,""]
["",{"$f":"IFERROR(IF(A100=\"\",\"\",VLOOKUP(A100,[1]Hoja1!$B$2:$U$4999,9,FALSE)),0)","v":""},{"$f":"IFERROR(IF(A100=\"\",\"\",VLOOKUP(A100,[1]Hoja1!$B$2:$U$4999,2,FALSE)),\" --- NO EXISTE TRABAJADOR --- \")","v":""},null,null,null,null,null,"","","",{"$f":"IFERROR(IF(A100=\"\",\"\",VLOOKUP(A100,[1]Hoja1!$B$2:$U$4999,18,FALSE)),0)","v":""},{"$f":"IFERROR(IF(A100=\"\",\"\",VLOOKUP(A100,[1]Hoja1!$B$2:$U$4999,19,FALSE)),0)","v":""},"",null,{"$f":"IFERROR(IF(O100=\"\",\"\",VLOOKUP(O100,JORNADA!$A$19:$B$20,2,FALSE)),\"\")","v":""},{"$f":"IFERROR(IF(A100=\"\",\"\",VLOOKUP(A100,[1]Hoja1!$B$2:$U$4999,3,FALSE)),0)","v":""},null,"","",{"$f":"IFERROR(IF(A100=\"\",\"\",VLOOKUP(A100,[1]Hoja1!$B$2:$U$4999,10,FALSE)),0)","v":""},{"$f":"IFERROR(IF(Q100=\"\",\"\",VLOOKUP(Q100,[1]Hoja1!$D$2:$AF$4999,29,FALSE)),\"NO EXISTE CUENTA\")","v":""},null,null,""]
["",{"$f":"IFERROR(IF(A101=\"\",\"\",VLOOKUP(A101,[1]Hoja1!$B$2:$U$4999,9,FALSE)),0)","v":""},{"$f":"IFERROR(IF(A101=\"\",\"\",VLOOKUP(A101,[1]Hoja1!$B$2:$U$4999,2,FALSE)),\" --- NO EXISTE TRABAJADOR --- \")","v":""},null,null,null,null,null,"","","",{"$f":"IFERROR(IF(A101=\"\",\"\",VLOOKUP(A101,[1]Hoja1!$B$2:$U$4999,18,FALSE)),0)","v":""},{"$f":"IFERROR(IF(A101=\"\",\"\",VLOOKUP(A101,[1]Hoja1!$B$2:$U$4999,19,FALSE)),0)","v":""},"",null,{"$f":"IFERROR(IF(O101=\"\",\"\",VLOOKUP(O101,JORNADA!$A$19:$B$20,2,FALSE)),\"\")","v":""},{"$f":"IFERROR(IF(A101=\"\",\"\",VLOOKUP(A101,[1]Hoja1!$B$2:$U$4999,3,FALSE)),0)","v":""},null,"","",{"$f":"IFERROR(IF(A101=\"\",\"\",VLOOKUP(A101,[1]Hoja1!$B$2:$U$4999,10,FALSE)),0)","v":""},{"$f":"IFERROR(IF(Q101=\"\",\"\",VLOOKUP(Q101,[1]Hoja1!$D$2:$AF$4999,29,FALSE)),\"NO EXISTE CUENTA\")","v":""},null,null,""]
["",{"$f":"IFERROR(IF(A102=\"\",\"\",VLOOKUP(A102,[1]Hoja1!$B$2:$U$4999,9,FALSE)),0)","v":""},{"$f":"IFERROR(IF(A102=\"\",\"\",VLOOKUP(A102,[1]Hoja1!$B$2:$U$4999,2,FALSE)),\" --- NO EXISTE TRABAJADOR --- \")","v":""},null,null,null,null,null,"","","",{"$f":"IFERROR(IF(A102=\"\",\"\",VLOOKUP(A102,[1]Hoja1!$B$2:$U$4999,18,FALSE)),0)","v":""},{"$f":"IFERROR(IF(A102=\"\",\"\",VLOOKUP(A102,[1]Hoja1!$B$2:$U$4999,19,FALSE)),0)","v":""},"",null,{"$f":"IFERROR(IF(O102=\"\",\"\",VLOOKUP(O102,JORNADA!$A$19:$B$20,2,FALSE)),\"\")","v":""},{"$f":"IFERROR(IF(A102=\"\",\"\",VLOOKUP(A102,[1]Hoja1!$B$2:$U$4999,3,FALSE)),0)","v":""},null,"","",{"$f":"IFERROR(IF(A102=\"\",\"\",VLOOKUP(A102,[1]Hoja1!$B$2:$U$4999,10,FALSE)),0)","v":""},{"$f":"IFERROR(IF(Q102=\"\",\"\",VLOOKUP(Q102,[1]Hoja1!$D$2:$AF$4999,29,FALSE)),\"NO EXISTE CUENTA\")","v":""},null,null,""]
["",{"$f":"IFERROR(IF(A103=\"\",\"\",VLOOKUP(A103,[1]Hoja1!$B$2:$U$4999,9,FALSE)),0)","v":""},{"$f":"IFERROR(IF(A103=\"\",\"\",VLOOKUP(A103,[1]Hoja1!$B$2:$U$4999,2,FALSE)),\" --- NO EXISTE TRABAJADOR --- \")","v":""},null,null,null,null,null,"","","",{"$f":"IFERROR(IF(A103=\"\",\"\",VLOOKUP(A103,[1]Hoja1!$B$2:$U$4999,18,FALSE)),0)","v":""},{"$f":"IFERROR(IF(A103=\"\",\"\",VLOOKUP(A103,[1]Hoja1!$B$2:$U$4999,19,FALSE)),0)","v":""},"",null,{"$f":"IFERROR(IF(O103=\"\",\"\",VLOOKUP(O103,JORNADA!$A$19:$B$20,2,FALSE)),\"\")","v":""},{"$f":"IFERROR(IF(A103=\"\",\"\",VLOOKUP(A103,[1]Hoja1!$B$2:$U$4999,3,FALSE)),0)","v":""},null,"","",{"$f":"IFERROR(IF(A103=\"\",\"\",VLOOKUP(A103,[1]Hoja1!$B$2:$U$4999,10,FALSE)),0)","v":""},{"$f":"IFERROR(IF(Q103=\"\",\"\",VLOOKUP(Q103,[1]Hoja1!$D$2:$AF$4999,29,FALSE)),\"NO EXISTE CUENTA\")","v":""},null,null,""]
["",{"$f":"IFERROR(IF(A104=\"\",\"\",VLOOKUP(A104,[1]Hoja1!$B$2:$U$4999,9,FALSE)),0)","v":""},{"$f":"IFERROR(IF(A104=\"\",\"\",VLOOKUP(A104,[1]Hoja1!$B$2:$U$4999,2,FALSE)),\" --- NO EXISTE TRABAJADOR --- \")","v":""},null,null,null,null,null,"","","",{"$f":"IFERROR(IF(A104=\"\",\"\",VLOOKUP(A104,[1]Hoja1!$B$2:$U$4999,18,FALSE)),0)","v":""},{"$f":"IFERROR(IF(A104=\"\",\"\",VLOOKUP(A104,[1]Hoja1!$B$2:$U$4999,19,FALSE)),0)","v":""},"",null,{"$f":"IFERROR(IF(O104=\"\",\"\",VLOOKUP(O104,JORNADA!$A$19:$B$20,2,FALSE)),\"\")","v":""},{"$f":"IFERROR(IF(A104=\"\",\"\",VLOOKUP(A104,[1]Hoja1!$B$2:$U$4999,3,FALSE)),0)","v":""},null,"","",{"$f":"IFERROR(IF(A104=\"\",\"\",VLOOKUP(A104,[1]Hoja1!$B$2:$U$4999,10,FALSE)),0)","v":""},{"$f":"IFERROR(IF(Q104=\"\",\"\",VLOOKUP(Q104,[1]Hoja1!$D$2:$AF$4999,29,FALSE)),\"NO EXISTE CUENTA\")","v":""},null,null,""]
["",{"$f":"IFERROR(IF(A105=\"\",\"\",VLOOKUP(A105,[1]Hoja1!$B$2:$U$4999,9,FALSE)),0)","v":""},{"$f":"IFERROR(IF(A105=\"\",\"\",VLOOKUP(A105,[1]Hoja1!$B$2:$U$4999,2,FALSE)),\" --- NO EXISTE TRABAJADOR --- \")","v":""},null,null,null,null,null,"","","",{"$f":"IFERROR(IF(A105=\"\",\"\",VLOOKUP(A105,[1]Hoja1!$B$2:$U$4999,18,FALSE)),0)","v":""},{"$f":"IFERROR(IF(A105=\"\",\"\",VLOOKUP(A105,[1]Hoja1!$B$2:$U$4999,19,FALSE)),0)","v":""},"",null,{"$f":"IFERROR(IF(O105=\"\",\"\",VLOOKUP(O105,JORNADA!$A$19:$B$20,2,FALSE)),\"\")","v":""},{"$f":"IFERROR(IF(A105=\"\",\"\",VLOOKUP(A105,[1]Hoja1!$B$2:$U$4999,3,FALSE)),0)","v":""},null,"","",{"$f":"IFERROR(IF(A105=\"\",\"\",VLOOKUP(A105,[1]Hoja1!$B$2:$U$4999,10,FALSE)),0)","v":""},{"$f":"IFERROR(IF(Q105=\"\",\"\",VLOOKUP(Q105,[1]Hoja1!$D$2:$AF$4999,29,FALSE)),\"NO EXISTE CUENTA\")","v":""},null,null,""]
["",{"$f":"IFERROR(IF(A106=\"\",\"\",VLOOKUP(A106,[1]Hoja1!$B$2:$U$4999,9,FALSE)),0)","v":""},{"$f":"IFERROR(IF(A106=\"\",\"\",VLOOKUP(A106,[1]Hoja1!$B$2:$U$4999,2,FALSE)),\" --- NO EXISTE TRABAJADOR --- \")","v":""},null,null,null,null,null,"","","",{"$f":"IFERROR(IF(A106=\"\",\"\",VLOOKUP(A106,[1]Hoja1!$B$2:$U$4999,18,FALSE)),0)","v":""},{"$f":"IFERROR(IF(A106=\"\",\"\",VLOOKUP(A106,[1]Hoja1!$B$2:$U$4999,19,FALSE)),0)","v":""},"",null,{"$f":"IFERROR(IF(O106=\"\",\"\",VLOOKUP(O106,JORNADA!$A$19:$B$20,2,FALSE)),\"\")","v":""},{"$f":"IFERROR(IF(A106=\"\",\"\",VLOOKUP(A106,[1]Hoja1!$B$2:$U$4999,3,FALSE)),0)","v":""},null,"","",{"$f":"IFERROR(IF(A106=\"\",\"\",VLOOKUP(A106,[1]Hoja1!$B$2:$U$4999,10,FALSE)),0)","v":""},{"$f":"IFERROR(IF(Q106=\"\",\"\",VLOOKUP(Q106,[1]Hoja1!$D$2:$AF$4999,29,FALSE)),\"NO EXISTE CUENTA\")","v":""},null,null,""]
["",{"$f":"IFERROR(IF(A107=\"\",\"\",VLOOKUP(A107,[1]Hoja1!$B$2:$U$4999,9,FALSE)),0)","v":""},{"$f":"IFERROR(IF(A107=\"\",\"\",VLOOKUP(A107,[1]Hoja1!$B$2:$U$4999,2,FALSE)),\" --- NO EXISTE TRABAJADOR --- \")","v":""},null,null,null,null,null,"","","",{"$f":"IFERROR(IF(A107=\"\",\"\",VLOOKUP(A107,[1]Hoja1!$B$2:$U$4999,18,FALSE)),0)","v":""},{"$f":"IFERROR(IF(A107=\"\",\"\",VLOOKUP(A107,[1]Hoja1!$B$2:$U$4999,19,FALSE)),0)","v":""},"",null,{"$f":"IFERROR(IF(O107=\"\",\"\",VLOOKUP(O107,JORNADA!$A$19:$B$20,2,FALSE)),\"\")","v":""},{"$f":"IFERROR(IF(A107=\"\",\"\",VLOOKUP(A107,[1]Hoja1!$B$2:$U$4999,3,FALSE)),0)","v":""},null,"","",{"$f":"IFERROR(IF(A107=\"\",\"\",VLOOKUP(A107,[1]Hoja1!$B$2:$U$4999,10,FALSE)),0)","v":""},{"$f":"IFERROR(IF(Q107=\"\",\"\",VLOOKUP(Q107,[1]Hoja1!$D$2:$AF$4999,29,FALSE)),\"NO EXISTE CUENTA\")","v":""},null,null,""]
["",{"$f":"IFERROR(IF(A108=\"\",\"\",VLOOKUP(A108,[1]Hoja1!$B$2:$U$4999,9,FALSE)),0)","v":""},{"$f":"IFERROR(IF(A108=\"\",\"\",VLOOKUP(A108,[1]Hoja1!$B$2:$U$4999,2,FALSE)),\" --- NO EXISTE TRABAJADOR --- \")","v":""},null,null,null,null,null,"","","",{"$f":"IFERROR(IF(A108=\"\",\"\",VLOOKUP(A108,[1]Hoja1!$B$2:$U$4999,18,FALSE)),0)","v":""},{"$f":"IFERROR(IF(A108=\"\",\"\",VLOOKUP(A108,[1]Hoja1!$B$2:$U$4999,19,FALSE)),0)","v":""},"",null,{"$f":"IFERROR(IF(O108=\"\",\"\",VLOOKUP(O108,JORNADA!$A$19:$B$20,2,FALSE)),\"\")","v":""},{"$f":"IFERROR(IF(A108=\"\",\"\",VLOOKUP(A108,[1]Hoja1!$B$2:$U$4999,3,FALSE)),0)","v":""},null,"","",{"$f":"IFERROR(IF(A108=\"\",\"\",VLOOKUP(A108,[1]Hoja1!$B$2:$U$4999,10,FALSE)),0)","v":""},{"$f":"IFERROR(IF(Q108=\"\",\"\",VLOOKUP(Q108,[1]Hoja1!$D$2:$AF$4999,29,FALSE)),\"NO EXISTE CUENTA\")","v":""},null,null,""]
["",{"$f":"IFERROR(IF(A109=\"\",\"\",VLOOKUP(A109,[1]Hoja1!$B$2:$U$4999,9,FALSE)),0)","v":""},{"$f":"IFERROR(IF(A109=\"\",\"\",VLOOKUP(A109,[1]Hoja1!$B$2:$U$4999,2,FALSE)),\" --- NO EXISTE TRABAJADOR --- \")","v":""},null,null,null,null,null,"","","",{"$f":"IFERROR(IF(A109=\"\",\"\",VLOOKUP(A109,[1]Hoja1!$B$2:$U$4999,18,FALSE)),0)","v":""},{"$f":"IFERROR(IF(A109=\"\",\"\",VLOOKUP(A109,[1]Hoja1!$B$2:$U$4999,19,FALSE)),0)","v":""},"",null,{"$f":"IFERROR(IF(O109=\"\",\"\",VLOOKUP(O109,JORNADA!$A$19:$B$20,2,FALSE)),\"\")","v":""},{"$f":"IFERROR(IF(A109=\"\",\"\",VLOOKUP(A109,[1]Hoja1!$B$2:$U$4999,3,FALSE)),0)","v":""},null,"","",{"$f":"IFERROR(IF(A109=\"\",\"\",VLOOKUP(A109,[1]Hoja1!$B$2:$U$4999,10,FALSE)),0)","v":""},{"$f":"IFERROR(IF(Q109=\"\",\"\",VLOOKUP(Q109,[1]Hoja1!$D$2:$AF$4999,29,FALSE)),\"NO EXISTE CUENTA\")","v":""},null,null,""]
["",{"$f":"IFERROR(IF(A110=\"\",\"\",VLOOKUP(A110,[1]Hoja1!$B$2:$U$4999,9,FALSE)),0)","v":""},{"$f":"IFERROR(IF(A110=\"\",\"\",VLOOKUP(A110,[1]Hoja1!$B$2:$U$4999,2,FALSE)),\" --- NO EXISTE TRABAJADOR --- \")","v":""},null,null,null,null,null,"","","",{"$f":"IFERROR(IF(A110=\"\",\"\",VLOOKUP(A110,[1]Hoja1!$B$2:$U$4999,18,FALSE)),0)","v":""},{"$f":"IFERROR(IF(A110=\"\",\"\",VLOOKUP(A110,[1]Hoja1!$B$2:$U$4999,19,FALSE)),0)","v":""},"",null,{"$f":"IFERROR(IF(O110=\"\",\"\",VLOOKUP(O110,JORNADA!$A$19:$B$20,2,FALSE)),\"\")","v":""},{"$f":"IFERROR(IF(A110=\"\",\"\",VLOOKUP(A110,[1]Hoja1!$B$2:$U$4999,3,FALSE)),0)","v":""},null,"","",{"$f":"IFERROR(IF(A110=\"\",\"\",VLOOKUP(A110,[1]Hoja1!$B$2:$U$4999,10,FALSE)),0)","v":""},{"$f":"IFERROR(IF(Q110=\"\",\"\",VLOOKUP(Q110,[1]Hoja1!$D$2:$AF$4999,29,FALSE)),\"NO EXISTE CUENTA\")","v":""},null,null,""]
["",{"$f":"IFERROR(IF(A111=\"\",\"\",VLOOKUP(A111,[1]Hoja1!$B$2:$U$4999,9,FALSE)),0)","v":""},{"$f":"IFERROR(IF(A111=\"\",\"\",VLOOKUP(A111,[1]Hoja1!$B$2:$U$4999,2,FALSE)),\" --- NO EXISTE TRABAJADOR --- \")","v":""},null,null,null,null,null,"","","",{"$f":"IFERROR(IF(A111=\"\",\"\",VLOOKUP(A111,[1]Hoja1!$B$2:$U$4999,18,FALSE)),0)","v":""},{"$f":"IFERROR(IF(A111=\"\",\"\",VLOOKUP(A111,[1]Hoja1!$B$2:$U$4999,19,FALSE)),0)","v":""},"",null,{"$f":"IFERROR(IF(O111=\"\",\"\",VLOOKUP(O111,JORNADA!$A$19:$B$20,2,FALSE)),\"\")","v":""},{"$f":"IFERROR(IF(A111=\"\",\"\",VLOOKUP(A111,[1]Hoja1!$B$2:$U$4999,3,FALSE)),0)","v":""},null,"","",{"$f":"IFERROR(IF(A111=\"\",\"\",VLOOKUP(A111,[1]Hoja1!$B$2:$U$4999,10,FALSE)),0)","v":""},{"$f":"IFERROR(IF(Q111=\"\",\"\",VLOOKUP(Q111,[1]Hoja1!$D$2:$AF$4999,29,FALSE)),\"NO EXISTE CUENTA\")","v":""},null,null,""]
["",{"$f":"IFERROR(IF(A112=\"\",\"\",VLOOKUP(A112,[1]Hoja1!$B$2:$U$4999,9,FALSE)),0)","v":""},{"$f":"IFERROR(IF(A112=\"\",\"\",VLOOKUP(A112,[1]Hoja1!$B$2:$U$4999,2,FALSE)),\" --- NO EXISTE TRABAJADOR --- \")","v":""},null,null,null,null,null,"","","",{"$f":"IFERROR(IF(A112=\"\",\"\",VLOOKUP(A112,[1]Hoja1!$B$2:$U$4999,18,FALSE)),0)","v":""},{"$f":"IFERROR(IF(A112=\"\",\"\",VLOOKUP(A112,[1]Hoja1!$B$2:$U$4999,19,FALSE)),0)","v":""},"",null,{"$f":"IFERROR(IF(O112=\"\",\"\",VLOOKUP(O112,JORNADA!$A$19:$B$20,2,FALSE)),\"\")","v":""},{"$f":"IFERROR(IF(A112=\"\",\"\",VLOOKUP(A112,[1]Hoja1!$B$2:$U$4999,3,FALSE)),0)","v":""},null,"","",{"$f":"IFERROR(IF(A112=\"\",\"\",VLOOKUP(A112,[1]Hoja1!$B$2:$U$4999,10,FALSE)),0)","v":""},{"$f":"IFERROR(IF(Q112=\"\",\"\",VLOOKUP(Q112,[1]Hoja1!$D$2:$AF$4999,29,FALSE)),\"NO EXISTE CUENTA\")","v":""},null,null,""]
["",{"$f":"IFERROR(IF(A113=\"\",\"\",VLOOKUP(A113,[1]Hoja1!$B$2:$U$4999,9,FALSE)),0)","v":""},{"$f":"IFERROR(IF(A113=\"\",\"\",VLOOKUP(A113,[1]Hoja1!$B$2:$U$4999,2,FALSE)),\" --- NO EXISTE TRABAJADOR --- \")","v":""},null,null,null,null,null,"","","",{"$f":"IFERROR(IF(A113=\"\",\"\",VLOOKUP(A113,[1]Hoja1!$B$2:$U$4999,18,FALSE)),0)","v":""},{"$f":"IFERROR(IF(A113=\"\",\"\",VLOOKUP(A113,[1]Hoja1!$B$2:$U$4999,19,FALSE)),0)","v":""},"",null,{"$f":"IFERROR(IF(O113=\"\",\"\",VLOOKUP(O113,JORNADA!$A$19:$B$20,2,FALSE)),\"\")","v":""},{"$f":"IFERROR(IF(A113=\"\",\"\",VLOOKUP(A113,[1]Hoja1!$B$2:$U$4999,3,FALSE)),0)","v":""},null,"","",{"$f":"IFERROR(IF(A113=\"\",\"\",VLOOKUP(A113,[1]Hoja1!$B$2:$U$4999,10,FALSE)),0)","v":""},{"$f":"IFERROR(IF(Q113=\"\",\"\",VLOOKUP(Q113,[1]Hoja1!$D$2:$AF$4999,29,FALSE)),\"NO EXISTE CUENTA\")","v":""},null,null,""]
["",{"$f":"IFERROR(IF(A114=\"\",\"\",VLOOKUP(A114,[1]Hoja1!$B$2:$U$4999,9,FALSE)),0)","v":""},{"$f":"IFERROR(IF(A114=\"\",\"\",VLOOKUP(A114,[1]Hoja1!$B$2:$U$4999,2,FALSE)),\" --- NO EXISTE TRABAJADOR --- \")","v":""},null,null,null,null,null,"","","",{"$f":"IFERROR(IF(A114=\"\",\"\",VLOOKUP(A114,[1]Hoja1!$B$2:$U$4999,18,FALSE)),0)","v":""},{"$f":"IFERROR(IF(A114=\"\",\"\",VLOOKUP(A114,[1]Hoja1!$B$2:$U$4999,19,FALSE)),0)","v":""},"",null,{"$f":"IFERROR(IF(O114=\"\",\"\",VLOOKUP(O114,JORNADA!$A$19:$B$20,2,FALSE)),\"\")","v":""},{"$f":"IFERROR(IF(A114=\"\",\"\",VLOOKUP(A114,[1]Hoja1!$B$2:$U$4999,3,FALSE)),0)","v":""},null,"","",{"$f":"IFERROR(IF(A114=\"\",\"\",VLOOKUP(A114,[1]Hoja1!$B$2:$U$4999,10,FALSE)),0)","v":""},{"$f":"IFERROR(IF(Q114=\"\",\"\",VLOOKUP(Q114,[1]Hoja1!$D$2:$AF$4999,29,FALSE)),\"NO EXISTE CUENTA\")","v":""},null,null,""]
["",{"$f":"IFERROR(IF(A115=\"\",\"\",VLOOKUP(A115,[1]Hoja1!$B$2:$U$4999,9,FALSE)),0)","v":""},{"$f":"IFERROR(IF(A115=\"\",\"\",VLOOKUP(A115,[1]Hoja1!$B$2:$U$4999,2,FALSE)),\" --- NO EXISTE TRABAJADOR --- \")","v":""},null,null,null,null,null,"","","",{"$f":"IFERROR(IF(A115=\"\",\"\",VLOOKUP(A115,[1]Hoja1!$B$2:$U$4999,18,FALSE)),0)","v":""},{"$f":"IFERROR(IF(A115=\"\",\"\",VLOOKUP(A115,[1]Hoja1!$B$2:$U$4999,19,FALSE)),0)","v":""},"",null,{"$f":"IFERROR(IF(O115=\"\",\"\",VLOOKUP(O115,JORNADA!$A$19:$B$20,2,FALSE)),\"\")","v":""},{"$f":"IFERROR(IF(A115=\"\",\"\",VLOOKUP(A115,[1]Hoja1!$B$2:$U$4999,3,FALSE)),0)","v":""},null,"","",{"$f":"IFERROR(IF(A115=\"\",\"\",VLOOKUP(A115,[1]Hoja1!$B$2:$U$4999,10,FALSE)),0)","v":""},{"$f":"IFERROR(IF(Q115=\"\",\"\",VLOOKUP(Q115,[1]Hoja1!$D$2:$AF$4999,29,FALSE)),\"NO EXISTE CUENTA\")","v":""},null,null,""]
["",{"$f":"IFERROR(IF(A116=\"\",\"\",VLOOKUP(A116,[1]Hoja1!$B$2:$U$4999,9,FALSE)),0)","v":""},{"$f":"IFERROR(IF(A116=\"\",\"\",VLOOKUP(A116,[1]Hoja1!$B$2:$U$4999,2,FALSE)),\" --- NO EXISTE TRABAJADOR --- \")","v":""},null,null,null,null,null,"","","",{"$f":"IFERROR(IF(A116=\"\",\"\",VLOOKUP(A116,[1]Hoja1!$B$2:$U$4999,18,FALSE)),0)","v":""},{"$f":"IFERROR(IF(A116=\"\",\"\",VLOOKUP(A116,[1]Hoja1!$B$2:$U$4999,19,FALSE)),0)","v":""},"",null,{"$f":"IFERROR(IF(O116=\"\",\"\",VLOOKUP(O116,JORNADA!$A$19:$B$20,2,FALSE)),\"\")","v":""},{"$f":"IFERROR(IF(A116=\"\",\"\",VLOOKUP(A116,[1]Hoja1!$B$2:$U$4999,3,FALSE)),0)","v":""},null,"","",{"$f":"IFERROR(IF(A116=\"\",\"\",VLOOKUP(A116,[1]Hoja1!$B$2:$U$4999,10,FALSE)),0)","v":""},{"$f":"IFERROR(IF(Q116=\"\",\"\",VLOOKUP(Q116,[1]Hoja1!$D$2:$AF$4999,29,FALSE)),\"NO EXISTE CUENTA\")","v":""},null,null,""]
["",{"$f":"IFERROR(IF(A117=\"\",\"\",VLOOKUP(A117,[1]Hoja1!$B$2:$U$4999,9,FALSE)),0)","v":""},{"$f":"IFERROR(IF(A117=\"\",\"\",VLOOKUP(A117,[1]Hoja1!$B$2:$U$4999,2,FALSE)),\" --- NO EXISTE TRABAJADOR --- \")","v":""},null,null,null,null,null,"","","",{"$f":"IFERROR(IF(A117=\"\",\"\",VLOOKUP(A117,[1]Hoja1!$B$2:$U$4999,18,FALSE)),0)","v":""},{"$f":"IFERROR(IF(A117=\"\",\"\",VLOOKUP(A117,[1]Hoja1!$B$2:$U$4999,19,FALSE)),0)","v":""},"",null,{"$f":"IFERROR(IF(O117=\"\",\"\",VLOOKUP(O117,JORNADA!$A$19:$B$20,2,FALSE)),\"\")","v":""},{"$f":"IFERROR(IF(A117=\"\",\"\",VLOOKUP(A117,[1]Hoja1!$B$2:$U$4999,3,FALSE)),0)","v":""},null,"","",{"$f":"IFERROR(IF(A117=\"\",\"\",VLOOKUP(A117,[1]Hoja1!$B$2:$U$4999,10,FALSE)),0)","v":""},{"$f":"IFERROR(IF(Q117=\"\",\"\",VLOOKUP(Q117,[1]Hoja1!$D$2:$AF$4999,29,FALSE)),\"NO EXISTE CUENTA\")","v":""},null,null,""]
["",{"$f":"IFERROR(IF(A118=\"\",\"\",VLOOKUP(A118,[1]Hoja1!$B$2:$U$4999,9,FALSE)),0)","v":""},{"$f":"IFERROR(IF(A118=\"\",\"\",VLOOKUP(A118,[1]Hoja1!$B$2:$U$4999,2,FALSE)),\" --- NO EXISTE TRABAJADOR --- \")","v":""},null,null,null,null,null,"","","",{"$f":"IFERROR(IF(A118=\"\",\"\",VLOOKUP(A118,[1]Hoja1!$B$2:$U$4999,18,FALSE)),0)","v":""},{"$f":"IFERROR(IF(A118=\"\",\"\",VLOOKUP(A118,[1]Hoja1!$B$2:$U$4999,19,FALSE)),0)","v":""},"",null,{"$f":"IFERROR(IF(O118=\"\",\"\",VLOOKUP(O118,JORNADA!$A$19:$B$20,2,FALSE)),\"\")","v":""},{"$f":"IFERROR(IF(A118=\"\",\"\",VLOOKUP(A118,[1]Hoja1!$B$2:$U$4999,3,FALSE)),0)","v":""},null,"","",{"$f":"IFERROR(IF(A118=\"\",\"\",VLOOKUP(A118,[1]Hoja1!$B$2:$U$4999,10,FALSE)),0)","v":""},{"$f":"IFERROR(IF(Q118=\"\",\"\",VLOOKUP(Q118,[1]Hoja1!$D$2:$AF$4999,29,FALSE)),\"NO EXISTE CUENTA\")","v":""},null,null,""]
["",{"$f":"IFERROR(IF(A119=\"\",\"\",VLOOKUP(A119,[1]Hoja1!$B$2:$U$4999,9,FALSE)),0)","v":""},{"$f":"IFERROR(IF(A119=\"\",\"\",VLOOKUP(A119,[1]Hoja1!$B$2:$U$4999,2,FALSE)),\" --- NO EXISTE TRABAJADOR --- \")","v":""},null,null,null,null,null,"","","",{"$f":"IFERROR(IF(A119=\"\",\"\",VLOOKUP(A119,[1]Hoja1!$B$2:$U$4999,18,FALSE)),0)","v":""},{"$f":"IFERROR(IF(A119=\"\",\"\",VLOOKUP(A119,[1]Hoja1!$B$2:$U$4999,19,FALSE)),0)","v":""},"",null,{"$f":"IFERROR(IF(O119=\"\",\"\",VLOOKUP(O119,JORNADA!$A$19:$B$20,2,FALSE)),\"\")","v":""},{"$f":"IFERROR(IF(A119=\"\",\"\",VLOOKUP(A119,[1]Hoja1!$B$2:$U$4999,3,FALSE)),0)","v":""},null,"","",{"$f":"IFERROR(IF(A119=\"\",\"\",VLOOKUP(A119,[1]Hoja1!$B$2:$U$4999,10,FALSE)),0)","v":""},{"$f":"IFERROR(IF(Q119=\"\",\"\",VLOOKUP(Q119,[1]Hoja1!$D$2:$AF$4999,29,FALSE)),\"NO EXISTE CUENTA\")","v":""},null,null,""]
["",{"$f":"IFERROR(IF(A120=\"\",\"\",VLOOKUP(A120,[1]Hoja1!$B$2:$U$4999,9,FALSE)),0)","v":""},{"$f":"IFERROR(IF(A120=\"\",\"\",VLOOKUP(A120,[1]Hoja1!$B$2:$U$4999,2,FALSE)),\" --- NO EXISTE TRABAJADOR --- \")","v":""},null,null,null,null,null,"","","",{"$f":"IFERROR(IF(A120=\"\",\"\",VLOOKUP(A120,[1]Hoja1!$B$2:$U$4999,18,FALSE)),0)","v":""},{"$f":"IFERROR(IF(A120=\"\",\"\",VLOOKUP(A120,[1]Hoja1!$B$2:$U$4999,19,FALSE)),0)","v":""},"",null,{"$f":"IFERROR(IF(O120=\"\",\"\",VLOOKUP(O120,JORNADA!$A$19:$B$20,2,FALSE)),\"\")","v":""},{"$f":"IFERROR(IF(A120=\"\",\"\",VLOOKUP(A120,[1]Hoja1!$B$2:$U$4999,3,FALSE)),0)","v":""},null,"","",{"$f":"IFERROR(IF(A120=\"\",\"\",VLOOKUP(A120,[1]Hoja1!$B$2:$U$4999,10,FALSE)),0)","v":""},{"$f":"IFERROR(IF(Q120=\"\",\"\",VLOOKUP(Q120,[1]Hoja1!$D$2:$AF$4999,29,FALSE)),\"NO EXISTE CUENTA\")","v":""},null,null,""]
["",{"$f":"IFERROR(IF(A121=\"\",\"\",VLOOKUP(A121,[1]Hoja1!$B$2:$U$4999,9,FALSE)),0)","v":""},{"$f":"IFERROR(IF(A121=\"\",\"\",VLOOKUP(A121,[1]Hoja1!$B$2:$U$4999,2,FALSE)),\" --- NO EXISTE TRABAJADOR --- \")","v":""},null,null,null,null,null,"","","",{"$f":"IFERROR(IF(A121=\"\",\"\",VLOOKUP(A121,[1]Hoja1!$B$2:$U$4999,18,FALSE)),0)","v":""},{"$f":"IFERROR(IF(A121=\"\",\"\",VLOOKUP(A121,[1]Hoja1!$B$2:$U$4999,19,FALSE)),0)","v":""},"",null,{"$f":"IFERROR(IF(O121=\"\",\"\",VLOOKUP(O121,JORNADA!$A$19:$B$20,2,FALSE)),\"\")","v":""},{"$f":"IFERROR(IF(A121=\"\",\"\",VLOOKUP(A121,[1]Hoja1!$B$2:$U$4999,3,FALSE)),0)","v":""},null,"","",{"$f":"IFERROR(IF(A121=\"\",\"\",VLOOKUP(A121,[1]Hoja1!$B$2:$U$4999,10,FALSE)),0)","v":""},{"$f":"IFERROR(IF(Q121=\"\",\"\",VLOOKUP(Q121,[1]Hoja1!$D$2:$AF$4999,29,FALSE)),\"NO EXISTE CUENTA\")","v":""},null,null,""]
["",{"$f":"IFERROR(IF(A122=\"\",\"\",VLOOKUP(A122,[1]Hoja1!$B$2:$U$4999,9,FALSE)),0)","v":""},{"$f":"IFERROR(IF(A122=\"\",\"\",VLOOKUP(A122,[1]Hoja1!$B$2:$U$4999,2,FALSE)),\" --- NO EXISTE TRABAJADOR --- \")","v":""},null,null,null,null,null,"","","",{"$f":"IFERROR(IF(A122=\"\",\"\",VLOOKUP(A122,[1]Hoja1!$B$2:$U$4999,18,FALSE)),0)","v":""},{"$f":"IFERROR(IF(A122=\"\",\"\",VLOOKUP(A122,[1]Hoja1!$B$2:$U$4999,19,FALSE)),0)","v":""},"",null,{"$f":"IFERROR(IF(O122=\"\",\"\",VLOOKUP(O122,JORNADA!$A$19:$B$20,2,FALSE)),\"\")","v":""},{"$f":"IFERROR(IF(A122=\"\",\"\",VLOOKUP(A122,[1]Hoja1!$B$2:$U$4999,3,FALSE)),0)","v":""},null,"","",{"$f":"IFERROR(IF(A122=\"\",\"\",VLOOKUP(A122,[1]Hoja1!$B$2:$U$4999,10,FALSE)),0)","v":""},{"$f":"IFERROR(IF(Q122=\"\",\"\",VLOOKUP(Q122,[1]Hoja1!$D$2:$AF$4999,29,FALSE)),\"NO EXISTE CUENTA\")","v":""},null,null,""]
["",{"$f":"IFERROR(IF(A123=\"\",\"\",VLOOKUP(A123,[1]Hoja1!$B$2:$U$4999,9,FALSE)),0)","v":""},{"$f":"IFERROR(IF(A123=\"\",\"\",VLOOKUP(A123,[1]Hoja1!$B$2:$U$4999,2,FALSE)),\" --- NO EXISTE TRABAJADOR --- \")","v":""},null,null,null,null,null,"","","",{"$f":"IFERROR(IF(A123=\"\",\"\",VLOOKUP(A123,[1]Hoja1!$B$2:$U$4999,18,FALSE)),0)","v":""},{"$f":"IFERROR(IF(A123=\"\",\"\",VLOOKUP(A123,[1]Hoja1!$B$2:$U$4999,19,FALSE)),0)","v":""},"",null,{"$f":"IFERROR(IF(O123=\"\",\"\",VLOOKUP(O123,JORNADA!$A$19:$B$20,2,FALSE)),\"\")","v":""},{"$f":"IFERROR(IF(A123=\"\",\"\",VLOOKUP(A123,[1]Hoja1!$B$2:$U$4999,3,FALSE)),0)","v":""},null,"","",{"$f":"IFERROR(IF(A123=\"\",\"\",VLOOKUP(A123,[1]Hoja1!$B$2:$U$4999,10,FALSE)),0)","v":""},{"$f":"IFERROR(IF(Q123=\"\",\"\",VLOOKUP(Q123,[1]Hoja1!$D$2:$AF$4999,29,FALSE)),\"NO EXISTE CUENTA\")","v":""},null,null,""]
["",{"$f":"IFERROR(IF(A124=\"\",\"\",VLOOKUP(A124,[1]Hoja1!$B$2:$U$4999,9,FALSE)),0)","v":""},{"$f":"IFERROR(IF(A124=\"\",\"\",VLOOKUP(A124,[1]Hoja1!$B$2:$U$4999,2,FALSE)),\" --- NO EXISTE TRABAJADOR --- \")","v":""},null,null,null,null,null,"","","",{"$f":"IFERROR(IF(A124=\"\",\"\",VLOOKUP(A124,[1]Hoja1!$B$2:$U$4999,18,FALSE)),0)","v":""},{"$f":"IFERROR(IF(A124=\"\",\"\",VLOOKUP(A124,[1]Hoja1!$B$2:$U$4999,19,FALSE)),0)","v":""},"",null,{"$f":"IFERROR(IF(O124=\"\",\"\",VLOOKUP(O124,JORNADA!$A$19:$B$20,2,FALSE)),\"\")","v":""},{"$f":"IFERROR(IF(A124=\"\",\"\",VLOOKUP(A124,[1]Hoja1!$B$2:$U$4999,3,FALSE)),0)","v":""},null,"","",{"$f":"IFERROR(IF(A124=\"\",\"\",VLOOKUP(A124,[1]Hoja1!$B$2:$U$4999,10,FALSE)),0)","v":""},{"$f":"IFERROR(IF(Q124=\"\",\"\",VLOOKUP(Q124,[1]Hoja1!$D$2:$AF$4999,29,FALSE)),\"NO EXISTE CUENTA\")","v":""},null,null,""]
["",{"$f":"IFERROR(IF(A125=\"\",\"\",VLOOKUP(A125,[1]Hoja1!$B$2:$U$4999,9,FALSE)),0)","v":""},{"$f":"IFERROR(IF(A125=\"\",\"\",VLOOKUP(A125,[1]Hoja1!$B$2:$U$4999,2,FALSE)),\" --- NO EXISTE TRABAJADOR --- \")","v":""},null,null,null,null,null,"","","",{"$f":"IFERROR(IF(A125=\"\",\"\",VLOOKUP(A125,[1]Hoja1!$B$2:$U$4999,18,FALSE)),0)","v":""},{"$f":"IFERROR(IF(A125=\"\",\"\",VLOOKUP(A125,[1]Hoja1!$B$2:$U$4999,19,FALSE)),0)","v":""},"",null,{"$f":"IFERROR(IF(O125=\"\",\"\",VLOOKUP(O125,JORNADA!$A$19:$B$20,2,FALSE)),\"\")","v":""},{"$f":"IFERROR(IF(A125=\"\",\"\",VLOOKUP(A125,[1]Hoja1!$B$2:$U$4999,3,FALSE)),0)","v":""},null,"","",{"$f":"IFERROR(IF(A125=\"\",\"\",VLOOKUP(A125,[1]Hoja1!$B$2:$U$4999,10,FALSE)),0)","v":""},{"$f":"IFERROR(IF(Q125=\"\",\"\",VLOOKUP(Q125,[1]Hoja1!$D$2:$AF$4999,29,FALSE)),\"NO EXISTE CUENTA\")","v":""},null,null,""]
["",{"$f":"IFERROR(IF(A126=\"\",\"\",VLOOKUP(A126,[1]Hoja1!$B$2:$U$4999,9,FALSE)),0)","v":""},{"$f":"IFERROR(IF(A126=\"\",\"\",VLOOKUP(A126,[1]Hoja1!$B$2:$U$4999,2,FALSE)),\" --- NO EXISTE TRABAJADOR --- \")","v":""},null,null,null,null,null,"","","",{"$f":"IFERROR(IF(A126=\"\",\"\",VLOOKUP(A126,[1]Hoja1!$B$2:$U$4999,18,FALSE)),0)","v":""},{"$f":"IFERROR(IF(A126=\"\",\"\",VLOOKUP(A126,[1]Hoja1!$B$2:$U$4999,19,FALSE)),0)","v":""},"",null,{"$f":"IFERROR(IF(O126=\"\",\"\",VLOOKUP(O126,JORNADA!$A$19:$B$20,2,FALSE)),\"\")","v":""},{"$f":"IFERROR(IF(A126=\"\",\"\",VLOOKUP(A126,[1]Hoja1!$B$2:$U$4999,3,FALSE)),0)","v":""},null,"","",{"$f":"IFERROR(IF(A126=\"\",\"\",VLOOKUP(A126,[1]Hoja1!$B$2:$U$4999,10,FALSE)),0)","v":""},{"$f":"IFERROR(IF(Q126=\"\",\"\",VLOOKUP(Q126,[1]Hoja1!$D$2:$AF$4999,29,FALSE)),\"NO EXISTE CUENTA\")","v":""},null,null,""]
["",{"$f":"IFERROR(IF(A127=\"\",\"\",VLOOKUP(A127,[1]Hoja1!$B$2:$U$4999,9,FALSE)),0)","v":""},{"$f":"IFERROR(IF(A127=\"\",\"\",VLOOKUP(A127,[1]Hoja1!$B$2:$U$4999,2,FALSE)),\" --- NO EXISTE TRABAJADOR --- \")","v":""},null,null,null,null,null,"","","",{"$f":"IFERROR(IF(A127=\"\",\"\",VLOOKUP(A127,[1]Hoja1!$B$2:$U$4999,18,FALSE)),0)","v":""},{"$f":"IFERROR(IF(A127=\"\",\"\",VLOOKUP(A127,[1]Hoja1!$B$2:$U$4999,19,FALSE)),0)","v":""},"",null,{"$f":"IFERROR(IF(O127=\"\",\"\",VLOOKUP(O127,JORNADA!$A$19:$B$20,2,FALSE)),\"\")","v":""},{"$f":"IFERROR(IF(A127=\"\",\"\",VLOOKUP(A127,[1]Hoja1!$B$2:$U$4999,3,FALSE)),0)","v":""},null,"","",{"$f":"IFERROR(IF(A127=\"\",\"\",VLOOKUP(A127,[1]Hoja1!$B$2:$U$4999,10,FALSE)),0)","v":""},{"$f":"IFERROR(IF(Q127=\"\",\"\",VLOOKUP(Q127,[1]Hoja1!$D$2:$AF$4999,29,FALSE)),\"NO EXISTE CUENTA\")","v":""},null,null,""]
["",{"$f":"IFERROR(IF(A128=\"\",\"\",VLOOKUP(A128,[1]Hoja1!$B$2:$U$4999,9,FALSE)),0)","v":""},{"$f":"IFERROR(IF(A128=\"\",\"\",VLOOKUP(A128,[1]Hoja1!$B$2:$U$4999,2,FALSE)),\" --- NO EXISTE TRABAJADOR --- \")","v":""},null,null,null,null,null,"","","",{"$f":"IFERROR(IF(A128=\"\",\"\",VLOOKUP(A128,[1]Hoja1!$B$2:$U$4999,18,FALSE)),0)","v":""},{"$f":"IFERROR(IF(A128=\"\",\"\",VLOOKUP(A128,[1]Hoja1!$B$2:$U$4999,19,FALSE)),0)","v":""},"",null,{"$f":"IFERROR(IF(O128=\"\",\"\",VLOOKUP(O128,JORNADA!$A$19:$B$20,2,FALSE)),\"\")","v":""},{"$f":"IFERROR(IF(A128=\"\",\"\",VLOOKUP(A128,[1]Hoja1!$B$2:$U$4999,3,FALSE)),0)","v":""},null,"","",{"$f":"IFERROR(IF(A128=\"\",\"\",VLOOKUP(A128,[1]Hoja1!$B$2:$U$4999,10,FALSE)),0)","v":""},{"$f":"IFERROR(IF(Q128=\"\",\"\",VLOOKUP(Q128,[1]Hoja1!$D$2:$AF$4999,29,FALSE)),\"NO EXISTE CUENTA\")","v":""},null,null,""]
["",{"$f":"IFERROR(IF(A129=\"\",\"\",VLOOKUP(A129,[1]Hoja1!$B$2:$U$4999,9,FALSE)),0)","v":""},{"$f":"IFERROR(IF(A129=\"\",\"\",VLOOKUP(A129,[1]Hoja1!$B$2:$U$4999,2,FALSE)),\" --- NO EXISTE TRABAJADOR --- \")","v":""},null,null,null,null,null,"","","",{"$f":"IFERROR(IF(A129=\"\",\"\",VLOOKUP(A129,[1]Hoja1!$B$2:$U$4999,18,FALSE)),0)","v":""},{"$f":"IFERROR(IF(A129=\"\",\"\",VLOOKUP(A129,[1]Hoja1!$B$2:$U$4999,19,FALSE)),0)","v":""},"",null,{"$f":"IFERROR(IF(O129=\"\",\"\",VLOOKUP(O129,JORNADA!$A$19:$B$20,2,FALSE)),\"\")","v":""},{"$f":"IFERROR(IF(A129=\"\",\"\",VLOOKUP(A129,[1]Hoja1!$B$2:$U$4999,3,FALSE)),0)","v":""},null,"","",{"$f":"IFERROR(IF(A129=\"\",\"\",VLOOKUP(A129,[1]Hoja1!$B$2:$U$4999,10,FALSE)),0)","v":""},{"$f":"IFERROR(IF(Q129=\"\",\"\",VLOOKUP(Q129,[1]Hoja1!$D$2:$AF$4999,29,FALSE)),\"NO EXISTE CUENTA\")","v":""},null,null,""]
["",{"$f":"IFERROR(IF(A130=\"\",\"\",VLOOKUP(A130,[1]Hoja1!$B$2:$U$4999,9,FALSE)),0)","v":""},{"$f":"IFERROR(IF(A130=\"\",\"\",VLOOKUP(A130,[1]Hoja1!$B$2:$U$4999,2,FALSE)),\" --- NO EXISTE TRABAJADOR --- \")","v":""},null,null,null,null,null,"","","",{"$f":"IFERROR(IF(A130=\"\",\"\",VLOOKUP(A130,[1]Hoja1!$B$2:$U$4999,18,FALSE)),0)","v":""},{"$f":"IFERROR(IF(A130=\"\",\"\",VLOOKUP(A130,[1]Hoja1!$B$2:$U$4999,19,FALSE)),0)","v":""},"",null,{"$f":"IFERROR(IF(O130=\"\",\"\",VLOOKUP(O130,JORNADA!$A$19:$B$20,2,FALSE)),\"\")","v":""},{"$f":"IFERROR(IF(A130=\"\",\"\",VLOOKUP(A130,[1]Hoja1!$B$2:$U$4999,3,FALSE)),0)","v":""},null,"","",{"$f":"IFERROR(IF(A130=\"\",\"\",VLOOKUP(A130,[1]Hoja1!$B$2:$U$4999,10,FALSE)),0)","v":""},{"$f":"IFERROR(IF(Q130=\"\",\"\",VLOOKUP(Q130,[1]Hoja1!$D$2:$AF$4999,29,FALSE)),\"NO EXISTE CUENTA\")","v":""},null,null,""]
[{"$f":"+S131","v":""},{"$f":"IFERROR(IF(A131=\"\",\"\",VLOOKUP(A131,[1]Hoja1!$B$2:$U$4999,9,FALSE)),0)","v":""},{"$f":"IFERROR(IF(A131=\"\",\"\",VLOOKUP(A131,[1]Hoja1!$B$2:$U$4999,2,FALSE)),\" --- NO EXISTE TRABAJADOR --- \")","v":""},null,null,null,null,null,{"$f":"IFERROR(IF(G131=\"\",\"\",VLOOKUP(G131,JORNADA,2,FALSE)),0)","v":""},{"$f":"IFERROR(IF(H131=\"\",\"\",VLOOKUP(H131,ACTIVIDAD,2,FALSE)),0)","v":""},{"$f":"CONCATENATE(J131,G131)","v":""},{"$f":"IFERROR(IF(A131=\"\",\"\",VLOOKUP(A131,[1]Hoja1!$B$2:$U$4999,18,FALSE)),0)","v":""},{"$f":"IFERROR(IF(A131=\"\",\"\",VLOOKUP(A131,[1]Hoja1!$B$2:$U$4999,19,FALSE)),0)","v":""},{"$f":"IFERROR(IF(W131=\"\",\"\",VLOOKUP(W131,LICENCIA,2,FALSE)),\"\")","v":""},null,{"$f":"IFERROR(IF(O131=\"\",\"\",VLOOKUP(O131,JORNADA!$A$19:$B$20,2,FALSE)),\"\")","v":""},{"$f":"IFERROR(IF(A131=\"\",\"\",VLOOKUP(A131,[1]Hoja1!$B$2:$U$4999,3,FALSE)),0)","v":""},null,{"$f":"IFERROR(IF(R131=\"\",\"\",VLOOKUP(R131,DNI,2,FALSE)),0)","v":""},{"$f":"IF(D131<>\"\",COUNTA(INDIRECT(\"D2:D\"&ROW()-1)),\"\")","v":""},{"$f":"IFERROR(IF(A131=\"\",\"\",VLOOKUP(A131,[1]Hoja1!$B$2:$U$4999,10,FALSE)),0)","v":""},{"$f":"IFERROR(IF(Q131=\"\",\"\",VLOOKUP(Q131,[1]Hoja1!$D$2:$AF$4999,29,FALSE)),\"NO EXISTE CUENTA\")","v":""},null,null,{"$f":"+C131","v":""}]
["",{"$f":"IFERROR(IF(A132=\"\",\"\",VLOOKUP(A132,[1]Hoja1!$B$2:$U$4999,9,FALSE)),0)","v":""},{"$f":"IFERROR(IF(A132=\"\",\"\",VLOOKUP(A132,[1]Hoja1!$B$2:$U$4999,2,FALSE)),\" --- NO EXISTE TRABAJADOR --- \")","v":""},null,null,null,null,null,"","","",{"$f":"IFERROR(IF(A132=\"\",\"\",VLOOKUP(A132,[1]Hoja1!$B$2:$U$4999,18,FALSE)),0)","v":""},{"$f":"IFERROR(IF(A132=\"\",\"\",VLOOKUP(A132,[1]Hoja1!$B$2:$U$4999,19,FALSE)),0)","v":""},"",null,{"$f":"IFERROR(IF(O132=\"\",\"\",VLOOKUP(O132,JORNADA!$A$19:$B$20,2,FALSE)),\"\")","v":""},{"$f":"IFERROR(IF(A132=\"\",\"\",VLOOKUP(A132,[1]Hoja1!$B$2:$U$4999,3,FALSE)),0)","v":""},null,"","",{"$f":"IFERROR(IF(A132=\"\",\"\",VLOOKUP(A132,[1]Hoja1!$B$2:$U$4999,10,FALSE)),0)","v":""},{"$f":"IFERROR(IF(Q132=\"\",\"\",VLOOKUP(Q132,[1]Hoja1!$D$2:$AF$4999,29,FALSE)),\"NO EXISTE CUENTA\")","v":""},null,null,""]
["",{"$f":"IFERROR(IF(A133=\"\",\"\",VLOOKUP(A133,[1]Hoja1!$B$2:$U$4999,9,FALSE)),0)","v":""},{"$f":"IFERROR(IF(A133=\"\",\"\",VLOOKUP(A133,[1]Hoja1!$B$2:$U$4999,2,FALSE)),\" --- NO EXISTE TRABAJADOR --- \")","v":""},null,null,null,null,null,"","","",{"$f":"IFERROR(IF(A133=\"\",\"\",VLOOKUP(A133,[1]Hoja1!$B$2:$U$4999,18,FALSE)),0)","v":""},{"$f":"IFERROR(IF(A133=\"\",\"\",VLOOKUP(A133,[1]Hoja1!$B$2:$U$4999,19,FALSE)),0)","v":""},"",null,{"$f":"IFERROR(IF(O133=\"\",\"\",VLOOKUP(O133,JORNADA!$A$19:$B$20,2,FALSE)),\"\")","v":""},{"$f":"IFERROR(IF(A133=\"\",\"\",VLOOKUP(A133,[1]Hoja1!$B$2:$U$4999,3,FALSE)),0)","v":""},null,"","",{"$f":"IFERROR(IF(A133=\"\",\"\",VLOOKUP(A133,[1]Hoja1!$B$2:$U$4999,10,FALSE)),0)","v":""},{"$f":"IFERROR(IF(Q133=\"\",\"\",VLOOKUP(Q133,[1]Hoja1!$D$2:$AF$4999,29,FALSE)),\"NO EXISTE CUENTA\")","v":""},null,null,""]
["",{"$f":"IFERROR(IF(A134=\"\",\"\",VLOOKUP(A134,[1]Hoja1!$B$2:$U$4999,9,FALSE)),0)","v":""},{"$f":"IFERROR(IF(A134=\"\",\"\",VLOOKUP(A134,[1]Hoja1!$B$2:$U$4999,2,FALSE)),\" --- NO EXISTE TRABAJADOR --- \")","v":""},null,null,null,null,null,"","","",{"$f":"IFERROR(IF(A134=\"\",\"\",VLOOKUP(A134,[1]Hoja1!$B$2:$U$4999,18,FALSE)),0)","v":""},{"$f":"IFERROR(IF(A134=\"\",\"\",VLOOKUP(A134,[1]Hoja1!$B$2:$U$4999,19,FALSE)),0)","v":""},"",null,{"$f":"IFERROR(IF(O134=\"\",\"\",VLOOKUP(O134,JORNADA!$A$19:$B$20,2,FALSE)),\"\")","v":""},{"$f":"IFERROR(IF(A134=\"\",\"\",VLOOKUP(A134,[1]Hoja1!$B$2:$U$4999,3,FALSE)),0)","v":""},null,"","",{"$f":"IFERROR(IF(A134=\"\",\"\",VLOOKUP(A134,[1]Hoja1!$B$2:$U$4999,10,FALSE)),0)","v":""},{"$f":"IFERROR(IF(Q134=\"\",\"\",VLOOKUP(Q134,[1]Hoja1!$D$2:$AF$4999,29,FALSE)),\"NO EXISTE CUENTA\")","v":""},null,null,""]
["",{"$f":"IFERROR(IF(A135=\"\",\"\",VLOOKUP(A135,[1]Hoja1!$B$2:$U$4999,9,FALSE)),0)","v":""},{"$f":"IFERROR(IF(A135=\"\",\"\",VLOOKUP(A135,[1]Hoja1!$B$2:$U$4999,2,FALSE)),\" --- NO EXISTE TRABAJADOR --- \")","v":""},null,null,null,null,null,"","","",{"$f":"IFERROR(IF(A135=\"\",\"\",VLOOKUP(A135,[1]Hoja1!$B$2:$U$4999,18,FALSE)),0)","v":""},{"$f":"IFERROR(IF(A135=\"\",\"\",VLOOKUP(A135,[1]Hoja1!$B$2:$U$4999,19,FALSE)),0)","v":""},"",null,{"$f":"IFERROR(IF(O135=\"\",\"\",VLOOKUP(O135,JORNADA!$A$19:$B$20,2,FALSE)),\"\")","v":""},{"$f":"IFERROR(IF(A135=\"\",\"\",VLOOKUP(A135,[1]Hoja1!$B$2:$U$4999,3,FALSE)),0)","v":""},null,"","",{"$f":"IFERROR(IF(A135=\"\",\"\",VLOOKUP(A135,[1]Hoja1!$B$2:$U$4999,10,FALSE)),0)","v":""},{"$f":"IFERROR(IF(Q135=\"\",\"\",VLOOKUP(Q135,[1]Hoja1!$D$2:$AF$4999,29,FALSE)),\"NO EXISTE CUENTA\")","v":""},null,null,""]
["",{"$f":"IFERROR(IF(A136=\"\",\"\",VLOOKUP(A136,[1]Hoja1!$B$2:$U$4999,9,FALSE)),0)","v":""},{"$f":"IFERROR(IF(A136=\"\",\"\",VLOOKUP(A136,[1]Hoja1!$B$2:$U$4999,2,FALSE)),\" --- NO EXISTE TRABAJADOR --- \")","v":""},null,null,null,null,null,"","","",{"$f":"IFERROR(IF(A136=\"\",\"\",VLOOKUP(A136,[1]Hoja1!$B$2:$U$4999,18,FALSE)),0)","v":""},{"$f":"IFERROR(IF(A136=\"\",\"\",VLOOKUP(A136,[1]Hoja1!$B$2:$U$4999,19,FALSE)),0)","v":""},"",null,{"$f":"IFERROR(IF(O136=\"\",\"\",VLOOKUP(O136,JORNADA!$A$19:$B$20,2,FALSE)),\"\")","v":""},{"$f":"IFERROR(IF(A136=\"\",\"\",VLOOKUP(A136,[1]Hoja1!$B$2:$U$4999,3,FALSE)),0)","v":""},null,"","",{"$f":"IFERROR(IF(A136=\"\",\"\",VLOOKUP(A136,[1]Hoja1!$B$2:$U$4999,10,FALSE)),0)","v":""},{"$f":"IFERROR(IF(Q136=\"\",\"\",VLOOKUP(Q136,[1]Hoja1!$D$2:$AF$4999,29,FALSE)),\"NO EXISTE CUENTA\")","v":""},null,null,""]
["",{"$f":"IFERROR(IF(A137=\"\",\"\",VLOOKUP(A137,[1]Hoja1!$B$2:$U$4999,9,FALSE)),0)","v":""},{"$f":"IFERROR(IF(A137=\"\",\"\",VLOOKUP(A137,[1]Hoja1!$B$2:$U$4999,2,FALSE)),\" --- NO EXISTE TRABAJADOR --- \")","v":""},null,null,null,null,null,"","","",{"$f":"IFERROR(IF(A137=\"\",\"\",VLOOKUP(A137,[1]Hoja1!$B$2:$U$4999,18,FALSE)),0)","v":""},{"$f":"IFERROR(IF(A137=\"\",\"\",VLOOKUP(A137,[1]Hoja1!$B$2:$U$4999,19,FALSE)),0)","v":""},"",null,{"$f":"IFERROR(IF(O137=\"\",\"\",VLOOKUP(O137,JORNADA!$A$19:$B$20,2,FALSE)),\"\")","v":""},{"$f":"IFERROR(IF(A137=\"\",\"\",VLOOKUP(A137,[1]Hoja1!$B$2:$U$4999,3,FALSE)),0)","v":""},null,"","",{"$f":"IFERROR(IF(A137=\"\",\"\",VLOOKUP(A137,[1]Hoja1!$B$2:$U$4999,10,FALSE)),0)","v":""},{"$f":"IFERROR(IF(Q137=\"\",\"\",VLOOKUP(Q137,[1]Hoja1!$D$2:$AF$4999,29,FALSE)),\"NO EXISTE CUENTA\")","v":""},null,null,""]
["",{"$f":"IFERROR(IF(A138=\"\",\"\",VLOOKUP(A138,[1]Hoja1!$B$2:$U$4999,9,FALSE)),0)","v":""},{"$f":"IFERROR(IF(A138=\"\",\"\",VLOOKUP(A138,[1]Hoja1!$B$2:$U$4999,2,FALSE)),\" --- NO EXISTE TRABAJADOR --- \")","v":""},null,null,null,null,null,"","","",{"$f":"IFERROR(IF(A138=\"\",\"\",VLOOKUP(A138,[1]Hoja1!$B$2:$U$4999,18,FALSE)),0)","v":""},{"$f":"IFERROR(IF(A138=\"\",\"\",VLOOKUP(A138,[1]Hoja1!$B$2:$U$4999,19,FALSE)),0)","v":""},"",null,{"$f":"IFERROR(IF(O138=\"\",\"\",VLOOKUP(O138,JORNADA!$A$19:$B$20,2,FALSE)),\"\")","v":""},{"$f":"IFERROR(IF(A138=\"\",\"\",VLOOKUP(A138,[1]Hoja1!$B$2:$U$4999,3,FALSE)),0)","v":""},null,"","",{"$f":"IFERROR(IF(A138=\"\",\"\",VLOOKUP(A138,[1]Hoja1!$B$2:$U$4999,10,FALSE)),0)","v":""},{"$f":"IFERROR(IF(Q138=\"\",\"\",VLOOKUP(Q138,[1]Hoja1!$D$2:$AF$4999,29,FALSE)),\"NO EXISTE CUENTA\")","v":""},null,null,""]
["",{"$f":"IFERROR(IF(A139=\"\",\"\",VLOOKUP(A139,[1]Hoja1!$B$2:$U$4999,9,FALSE)),0)","v":""},{"$f":"IFERROR(IF(A139=\"\",\"\",VLOOKUP(A139,[1]Hoja1!$B$2:$U$4999,2,FALSE)),\" --- NO EXISTE TRABAJADOR --- \")","v":""},null,null,null,null,null,"","","",{"$f":"IFERROR(IF(A139=\"\",\"\",VLOOKUP(A139,[1]Hoja1!$B$2:$U$4999,18,FALSE)),0)","v":""},{"$f":"IFERROR(IF(A139=\"\",\"\",VLOOKUP(A139,[1]Hoja1!$B$2:$U$4999,19,FALSE)),0)","v":""},"",null,{"$f":"IFERROR(IF(O139=\"\",\"\",VLOOKUP(O139,JORNADA!$A$19:$B$20,2,FALSE)),\"\")","v":""},{"$f":"IFERROR(IF(A139=\"\",\"\",VLOOKUP(A139,[1]Hoja1!$B$2:$U$4999,3,FALSE)),0)","v":""},null,"","",{"$f":"IFERROR(IF(A139=\"\",\"\",VLOOKUP(A139,[1]Hoja1!$B$2:$U$4999,10,FALSE)),0)","v":""},{"$f":"IFERROR(IF(Q139=\"\",\"\",VLOOKUP(Q139,[1]Hoja1!$D$2:$AF$4999,29,FALSE)),\"NO EXISTE CUENTA\")","v":""},null,null,""]
["",{"$f":"IFERROR(IF(A140=\"\",\"\",VLOOKUP(A140,[1]Hoja1!$B$2:$U$4999,9,FALSE)),0)","v":""},{"$f":"IFERROR(IF(A140=\"\",\"\",VLOOKUP(A140,[1]Hoja1!$B$2:$U$4999,2,FALSE)),\" --- NO EXISTE TRABAJADOR --- \")","v":""},null,null,null,null,null,"","","",{"$f":"IFERROR(IF(A140=\"\",\"\",VLOOKUP(A140,[1]Hoja1!$B$2:$U$4999,18,FALSE)),0)","v":""},{"$f":"IFERROR(IF(A140=\"\",\"\",VLOOKUP(A140,[1]Hoja1!$B$2:$U$4999,19,FALSE)),0)","v":""},"",null,{"$f":"IFERROR(IF(O140=\"\",\"\",VLOOKUP(O140,JORNADA!$A$19:$B$20,2,FALSE)),\"\")","v":""},{"$f":"IFERROR(IF(A140=\"\",\"\",VLOOKUP(A140,[1]Hoja1!$B$2:$U$4999,3,FALSE)),0)","v":""},null,"","",{"$f":"IFERROR(IF(A140=\"\",\"\",VLOOKUP(A140,[1]Hoja1!$B$2:$U$4999,10,FALSE)),0)","v":""},{"$f":"IFERROR(IF(Q140=\"\",\"\",VLOOKUP(Q140,[1]Hoja1!$D$2:$AF$4999,29,FALSE)),\"NO EXISTE CUENTA\")","v":""},null,null,""]
["",{"$f":"IFERROR(IF(A141=\"\",\"\",VLOOKUP(A141,[1]Hoja1!$B$2:$U$4999,9,FALSE)),0)","v":""},{"$f":"IFERROR(IF(A141=\"\",\"\",VLOOKUP(A141,[1]Hoja1!$B$2:$U$4999,2,FALSE)),\" --- NO EXISTE TRABAJADOR --- \")","v":""},null,null,null,null,null,"","","",{"$f":"IFERROR(IF(A141=\"\",\"\",VLOOKUP(A141,[1]Hoja1!$B$2:$U$4999,18,FALSE)),0)","v":""},{"$f":"IFERROR(IF(A141=\"\",\"\",VLOOKUP(A141,[1]Hoja1!$B$2:$U$4999,19,FALSE)),0)","v":""},"",null,{"$f":"IFERROR(IF(O141=\"\",\"\",VLOOKUP(O141,JORNADA!$A$19:$B$20,2,FALSE)),\"\")","v":""},{"$f":"IFERROR(IF(A141=\"\",\"\",VLOOKUP(A141,[1]Hoja1!$B$2:$U$4999,3,FALSE)),0)","v":""},null,"","",{"$f":"IFERROR(IF(A141=\"\",\"\",VLOOKUP(A141,[1]Hoja1!$B$2:$U$4999,10,FALSE)),0)","v":""},{"$f":"IFERROR(IF(Q141=\"\",\"\",VLOOKUP(Q141,[1]Hoja1!$D$2:$AF$4999,29,FALSE)),\"NO EXISTE CUENTA\")","v":""},null,null,""]
["",{"$f":"IFERROR(IF(A142=\"\",\"\",VLOOKUP(A142,[1]Hoja1!$B$2:$U$4999,9,FALSE)),0)","v":""},{"$f":"IFERROR(IF(A142=\"\",\"\",VLOOKUP(A142,[1]Hoja1!$B$2:$U$4999,2,FALSE)),\" --- NO EXISTE TRABAJADOR --- \")","v":""},null,null,null,null,null,"","","",{"$f":"IFERROR(IF(A142=\"\",\"\",VLOOKUP(A142,[1]Hoja1!$B$2:$U$4999,18,FALSE)),0)","v":""},{"$f":"IFERROR(IF(A142=\"\",\"\",VLOOKUP(A142,[1]Hoja1!$B$2:$U$4999,19,FALSE)),0)","v":""},"",null,{"$f":"IFERROR(IF(O142=\"\",\"\",VLOOKUP(O142,JORNADA!$A$19:$B$20,2,FALSE)),\"\")","v":""},{"$f":"IFERROR(IF(A142=\"\",\"\",VLOOKUP(A142,[1]Hoja1!$B$2:$U$4999,3,FALSE)),0)","v":""},null,"","",{"$f":"IFERROR(IF(A142=\"\",\"\",VLOOKUP(A142,[1]Hoja1!$B$2:$U$4999,10,FALSE)),0)","v":""},{"$f":"IFERROR(IF(Q142=\"\",\"\",VLOOKUP(Q142,[1]Hoja1!$D$2:$AF$4999,29,FALSE)),\"NO EXISTE CUENTA\")","v":""},null,null,""]
["",{"$f":"IFERROR(IF(A143=\"\",\"\",VLOOKUP(A143,[1]Hoja1!$B$2:$U$4999,9,FALSE)),0)","v":""},{"$f":"IFERROR(IF(A143=\"\",\"\",VLOOKUP(A143,[1]Hoja1!$B$2:$U$4999,2,FALSE)),\" --- NO EXISTE TRABAJADOR --- \")","v":""},null,null,null,null,null,"","","",{"$f":"IFERROR(IF(A143=\"\",\"\",VLOOKUP(A143,[1]Hoja1!$B$2:$U$4999,18,FALSE)),0)","v":""},{"$f":"IFERROR(IF(A143=\"\",\"\",VLOOKUP(A143,[1]Hoja1!$B$2:$U$4999,19,FALSE)),0)","v":""},"",null,{"$f":"IFERROR(IF(O143=\"\",\"\",VLOOKUP(O143,JORNADA!$A$19:$B$20,2,FALSE)),\"\")","v":""},{"$f":"IFERROR(IF(A143=\"\",\"\",VLOOKUP(A143,[1]Hoja1!$B$2:$U$4999,3,FALSE)),0)","v":""},null,"","",{"$f":"IFERROR(IF(A143=\"\",\"\",VLOOKUP(A143,[1]Hoja1!$B$2:$U$4999,10,FALSE)),0)","v":""},{"$f":"IFERROR(IF(Q143=\"\",\"\",VLOOKUP(Q143,[1]Hoja1!$D$2:$AF$4999,29,FALSE)),\"NO EXISTE CUENTA\")","v":""},null,null,""]
["",{"$f":"IFERROR(IF(A144=\"\",\"\",VLOOKUP(A144,[1]Hoja1!$B$2:$U$4999,9,FALSE)),0)","v":""},{"$f":"IFERROR(IF(A144=\"\",\"\",VLOOKUP(A144,[1]Hoja1!$B$2:$U$4999,2,FALSE)),\" --- NO EXISTE TRABAJADOR --- \")","v":""},null,null,null,null,null,"","","",{"$f":"IFERROR(IF(A144=\"\",\"\",VLOOKUP(A144,[1]Hoja1!$B$2:$U$4999,18,FALSE)),0)","v":""},{"$f":"IFERROR(IF(A144=\"\",\"\",VLOOKUP(A144,[1]Hoja1!$B$2:$U$4999,19,FALSE)),0)","v":""},"",null,{"$f":"IFERROR(IF(O144=\"\",\"\",VLOOKUP(O144,JORNADA!$A$19:$B$20,2,FALSE)),\"\")","v":""},{"$f":"IFERROR(IF(A144=\"\",\"\",VLOOKUP(A144,[1]Hoja1!$B$2:$U$4999,3,FALSE)),0)","v":""},null,"","",{"$f":"IFERROR(IF(A144=\"\",\"\",VLOOKUP(A144,[1]Hoja1!$B$2:$U$4999,10,FALSE)),0)","v":""},{"$f":"IFERROR(IF(Q144=\"\",\"\",VLOOKUP(Q144,[1]Hoja1!$D$2:$AF$4999,29,FALSE)),\"NO EXISTE CUENTA\")","v":""},null,null,""]
["",{"$f":"IFERROR(IF(A145=\"\",\"\",VLOOKUP(A145,[1]Hoja1!$B$2:$U$4999,9,FALSE)),0)","v":""},{"$f":"IFERROR(IF(A145=\"\",\"\",VLOOKUP(A145,[1]Hoja1!$B$2:$U$4999,2,FALSE)),\" --- NO EXISTE TRABAJADOR --- \")","v":""},null,null,null,null,null,"","","",{"$f":"IFERROR(IF(A145=\"\",\"\",VLOOKUP(A145,[1]Hoja1!$B$2:$U$4999,18,FALSE)),0)","v":""},{"$f":"IFERROR(IF(A145=\"\",\"\",VLOOKUP(A145,[1]Hoja1!$B$2:$U$4999,19,FALSE)),0)","v":""},"",null,{"$f":"IFERROR(IF(O145=\"\",\"\",VLOOKUP(O145,JORNADA!$A$19:$B$20,2,FALSE)),\"\")","v":""},{"$f":"IFERROR(IF(A145=\"\",\"\",VLOOKUP(A145,[1]Hoja1!$B$2:$U$4999,3,FALSE)),0)","v":""},null,"","",{"$f":"IFERROR(IF(A145=\"\",\"\",VLOOKUP(A145,[1]Hoja1!$B$2:$U$4999,10,FALSE)),0)","v":""},{"$f":"IFERROR(IF(Q145=\"\",\"\",VLOOKUP(Q145,[1]Hoja1!$D$2:$AF$4999,29,FALSE)),\"NO EXISTE CUENTA\")","v":""},null,null,""]
["",{"$f":"IFERROR(IF(A146=\"\",\"\",VLOOKUP(A146,[1]Hoja1!$B$2:$U$4999,9,FALSE)),0)","v":""},{"$f":"IFERROR(IF(A146=\"\",\"\",VLOOKUP(A146,[1]Hoja1!$B$2:$U$4999,2,FALSE)),\" --- NO EXISTE TRABAJADOR --- \")","v":""},null,null,null,null,null,"","","",{"$f":"IFERROR(IF(A146=\"\",\"\",VLOOKUP(A146,[1]Hoja1!$B$2:$U$4999,18,FALSE)),0)","v":""},{"$f":"IFERROR(IF(A146=\"\",\"\",VLOOKUP(A146,[1]Hoja1!$B$2:$U$4999,19,FALSE)),0)","v":""},"",null,{"$f":"IFERROR(IF(O146=\"\",\"\",VLOOKUP(O146,JORNADA!$A$19:$B$20,2,FALSE)),\"\")","v":""},{"$f":"IFERROR(IF(A146=\"\",\"\",VLOOKUP(A146,[1]Hoja1!$B$2:$U$4999,3,FALSE)),0)","v":""},null,"","",{"$f":"IFERROR(IF(A146=\"\",\"\",VLOOKUP(A146,[1]Hoja1!$B$2:$U$4999,10,FALSE)),0)","v":""},{"$f":"IFERROR(IF(Q146=\"\",\"\",VLOOKUP(Q146,[1]Hoja1!$D$2:$AF$4999,29,FALSE)),\"NO EXISTE CUENTA\")","v":""},null,null,""]
["",{"$f":"IFERROR(IF(A147=\"\",\"\",VLOOKUP(A147,[1]Hoja1!$B$2:$U$4999,9,FALSE)),0)","v":""},{"$f":"IFERROR(IF(A147=\"\",\"\",VLOOKUP(A147,[1]Hoja1!$B$2:$U$4999,2,FALSE)),\" --- NO EXISTE TRABAJADOR --- \")","v":""},null,null,null,null,null,"","","",{"$f":"IFERROR(IF(A147=\"\",\"\",VLOOKUP(A147,[1]Hoja1!$B$2:$U$4999,18,FALSE)),0)","v":""},{"$f":"IFERROR(IF(A147=\"\",\"\",VLOOKUP(A147,[1]Hoja1!$B$2:$U$4999,19,FALSE)),0)","v":""},"",null,{"$f":"IFERROR(IF(O147=\"\",\"\",VLOOKUP(O147,JORNADA!$A$19:$B$20,2,FALSE)),\"\")","v":""},{"$f":"IFERROR(IF(A147=\"\",\"\",VLOOKUP(A147,[1]Hoja1!$B$2:$U$4999,3,FALSE)),0)","v":""},null,"","",{"$f":"IFERROR(IF(A147=\"\",\"\",VLOOKUP(A147,[1]Hoja1!$B$2:$U$4999,10,FALSE)),0)","v":""},{"$f":"IFERROR(IF(Q147=\"\",\"\",VLOOKUP(Q147,[1]Hoja1!$D$2:$AF$4999,29,FALSE)),\"NO EXISTE CUENTA\")","v":""},null,null,""]
["",{"$f":"IFERROR(IF(A148=\"\",\"\",VLOOKUP(A148,[1]Hoja1!$B$2:$U$4999,9,FALSE)),0)","v":""},{"$f":"IFERROR(IF(A148=\"\",\"\",VLOOKUP(A148,[1]Hoja1!$B$2:$U$4999,2,FALSE)),\" --- NO EXISTE TRABAJADOR --- \")","v":""},null,null,null,null,null,"","","",{"$f":"IFERROR(IF(A148=\"\",\"\",VLOOKUP(A148,[1]Hoja1!$B$2:$U$4999,18,FALSE)),0)","v":""},{"$f":"IFERROR(IF(A148=\"\",\"\",VLOOKUP(A148,[1]Hoja1!$B$2:$U$4999,19,FALSE)),0)","v":""},"",null,{"$f":"IFERROR(IF(O148=\"\",\"\",VLOOKUP(O148,JORNADA!$A$19:$B$20,2,FALSE)),\"\")","v":""},{"$f":"IFERROR(IF(A148=\"\",\"\",VLOOKUP(A148,[1]Hoja1!$B$2:$U$4999,3,FALSE)),0)","v":""},null,"","",{"$f":"IFERROR(IF(A148=\"\",\"\",VLOOKUP(A148,[1]Hoja1!$B$2:$U$4999,10,FALSE)),0)","v":""},{"$f":"IFERROR(IF(Q148=\"\",\"\",VLOOKUP(Q148,[1]Hoja1!$D$2:$AF$4999,29,FALSE)),\"NO EXISTE CUENTA\")","v":""},null,null,""]
["",{"$f":"IFERROR(IF(A149=\"\",\"\",VLOOKUP(A149,[1]Hoja1!$B$2:$U$4999,9,FALSE)),0)","v":""},{"$f":"IFERROR(IF(A149=\"\",\"\",VLOOKUP(A149,[1]Hoja1!$B$2:$U$4999,2,FALSE)),\" --- NO EXISTE TRABAJADOR --- \")","v":""},null,null,null,null,null,"","","",{"$f":"IFERROR(IF(A149=\"\",\"\",VLOOKUP(A149,[1]Hoja1!$B$2:$U$4999,18,FALSE)),0)","v":""},{"$f":"IFERROR(IF(A149=\"\",\"\",VLOOKUP(A149,[1]Hoja1!$B$2:$U$4999,19,FALSE)),0)","v":""},"",null,{"$f":"IFERROR(IF(O149=\"\",\"\",VLOOKUP(O149,JORNADA!$A$19:$B$20,2,FALSE)),\"\")","v":""},{"$f":"IFERROR(IF(A149=\"\",\"\",VLOOKUP(A149,[1]Hoja1!$B$2:$U$4999,3,FALSE)),0)","v":""},null,"","",{"$f":"IFERROR(IF(A149=\"\",\"\",VLOOKUP(A149,[1]Hoja1!$B$2:$U$4999,10,FALSE)),0)","v":""},{"$f":"IFERROR(IF(Q149=\"\",\"\",VLOOKUP(Q149,[1]Hoja1!$D$2:$AF$4999,29,FALSE)),\"NO EXISTE CUENTA\")","v":""},null,null,""]
["",{"$f":"IFERROR(IF(A150=\"\",\"\",VLOOKUP(A150,[1]Hoja1!$B$2:$U$4999,9,FALSE)),0)","v":""},{"$f":"IFERROR(IF(A150=\"\",\"\",VLOOKUP(A150,[1]Hoja1!$B$2:$U$4999,2,FALSE)),\" --- NO EXISTE TRABAJADOR --- \")","v":""},null,null,null,null,null,"","","",{"$f":"IFERROR(IF(A150=\"\",\"\",VLOOKUP(A150,[1]Hoja1!$B$2:$U$4999,18,FALSE)),0)","v":""},{"$f":"IFERROR(IF(A150=\"\",\"\",VLOOKUP(A150,[1]Hoja1!$B$2:$U$4999,19,FALSE)),0)","v":""},"",null,{"$f":"IFERROR(IF(O150=\"\",\"\",VLOOKUP(O150,JORNADA!$A$19:$B$20,2,FALSE)),\"\")","v":""},{"$f":"IFERROR(IF(A150=\"\",\"\",VLOOKUP(A150,[1]Hoja1!$B$2:$U$4999,3,FALSE)),0)","v":""},null,"","",{"$f":"IFERROR(IF(A150=\"\",\"\",VLOOKUP(A150,[1]Hoja1!$B$2:$U$4999,10,FALSE)),0)","v":""},{"$f":"IFERROR(IF(Q150=\"\",\"\",VLOOKUP(Q150,[1]Hoja1!$D$2:$AF$4999,29,FALSE)),\"NO EXISTE CUENTA\")","v":""},null,null,""]
["",{"$f":"IFERROR(IF(A151=\"\",\"\",VLOOKUP(A151,[1]Hoja1!$B$2:$U$4999,9,FALSE)),0)","v":""},{"$f":"IFERROR(IF(A151=\"\",\"\",VLOOKUP(A151,[1]Hoja1!$B$2:$U$4999,2,FALSE)),\" --- NO EXISTE TRABAJADOR --- \")","v":""},null,null,null,null,null,"","","",{"$f":"IFERROR(IF(A151=\"\",\"\",VLOOKUP(A151,[1]Hoja1!$B$2:$U$4999,18,FALSE)),0)","v":""},{"$f":"IFERROR(IF(A151=\"\",\"\",VLOOKUP(A151,[1]Hoja1!$B$2:$U$4999,19,FALSE)),0)","v":""},"",null,{"$f":"IFERROR(IF(O151=\"\",\"\",VLOOKUP(O151,JORNADA!$A$19:$B$20,2,FALSE)),\"\")","v":""},{"$f":"IFERROR(IF(A151=\"\",\"\",VLOOKUP(A151,[1]Hoja1!$B$2:$U$4999,3,FALSE)),0)","v":""},null,"","",{"$f":"IFERROR(IF(A151=\"\",\"\",VLOOKUP(A151,[1]Hoja1!$B$2:$U$4999,10,FALSE)),0)","v":""},{"$f":"IFERROR(IF(Q151=\"\",\"\",VLOOKUP(Q151,[1]Hoja1!$D$2:$AF$4999,29,FALSE)),\"NO EXISTE CUENTA\")","v":""},null,null,""]
["",{"$f":"IFERROR(IF(A152=\"\",\"\",VLOOKUP(A152,[1]Hoja1!$B$2:$U$4999,9,FALSE)),0)","v":""},{"$f":"IFERROR(IF(A152=\"\",\"\",VLOOKUP(A152,[1]Hoja1!$B$2:$U$4999,2,FALSE)),\" --- NO EXISTE TRABAJADOR --- \")","v":""},null,null,null,null,null,"","","",{"$f":"IFERROR(IF(A152=\"\",\"\",VLOOKUP(A152,[1]Hoja1!$B$2:$U$4999,18,FALSE)),0)","v":""},{"$f":"IFERROR(IF(A152=\"\",\"\",VLOOKUP(A152,[1]Hoja1!$B$2:$U$4999,19,FALSE)),0)","v":""},"",null,{"$f":"IFERROR(IF(O152=\"\",\"\",VLOOKUP(O152,JORNADA!$A$19:$B$20,2,FALSE)),\"\")","v":""},{"$f":"IFERROR(IF(A152=\"\",\"\",VLOOKUP(A152,[1]Hoja1!$B$2:$U$4999,3,FALSE)),0)","v":""},null,"","",{"$f":"IFERROR(IF(A152=\"\",\"\",VLOOKUP(A152,[1]Hoja1!$B$2:$U$4999,10,FALSE)),0)","v":""},{"$f":"IFERROR(IF(Q152=\"\",\"\",VLOOKUP(Q152,[1]Hoja1!$D$2:$AF$4999,29,FALSE)),\"NO EXISTE CUENTA\")","v":""},null,null,""]
["",{"$f":"IFERROR(IF(A153=\"\",\"\",VLOOKUP(A153,[1]Hoja1!$B$2:$U$4999,9,FALSE)),0)","v":""},{"$f":"IFERROR(IF(A153=\"\",\"\",VLOOKUP(A153,[1]Hoja1!$B$2:$U$4999,2,FALSE)),\" --- NO EXISTE TRABAJADOR --- \")","v":""},null,null,null,null,null,"","","",{"$f":"IFERROR(IF(A153=\"\",\"\",VLOOKUP(A153,[1]Hoja1!$B$2:$U$4999,18,FALSE)),0)","v":""},{"$f":"IFERROR(IF(A153=\"\",\"\",VLOOKUP(A153,[1]Hoja1!$B$2:$U$4999,19,FALSE)),0)","v":""},"",null,{"$f":"IFERROR(IF(O153=\"\",\"\",VLOOKUP(O153,JORNADA!$A$19:$B$20,2,FALSE)),\"\")","v":""},{"$f":"IFERROR(IF(A153=\"\",\"\",VLOOKUP(A153,[1]Hoja1!$B$2:$U$4999,3,FALSE)),0)","v":""},null,"","",{"$f":"IFERROR(IF(A153=\"\",\"\",VLOOKUP(A153,[1]Hoja1!$B$2:$U$4999,10,FALSE)),0)","v":""},{"$f":"IFERROR(IF(Q153=\"\",\"\",VLOOKUP(Q153,[1]Hoja1!$D$2:$AF$4999,29,FALSE)),\"NO EXISTE CUENTA\")","v":""},null,null,""]
["",{"$f":"IFERROR(IF(A154=\"\",\"\",VLOOKUP(A154,[1]Hoja1!$B$2:$U$4999,9,FALSE)),0)","v":""},{"$f":"IFERROR(IF(A154=\"\",\"\",VLOOKUP(A154,[1]Hoja1!$B$2:$U$4999,2,FALSE)),\" --- NO EXISTE TRABAJADOR --- \")","v":""},null,null,null,null,null,"","","",{"$f":"IFERROR(IF(A154=\"\",\"\",VLOOKUP(A154,[1]Hoja1!$B$2:$U$4999,18,FALSE)),0)","v":""},{"$f":"IFERROR(IF(A154=\"\",\"\",VLOOKUP(A154,[1]Hoja1!$B$2:$U$4999,19,FALSE)),0)","v":""},"",null,{"$f":"IFERROR(IF(O154=\"\",\"\",VLOOKUP(O154,JORNADA!$A$19:$B$20,2,FALSE)),\"\")","v":""},{"$f":"IFERROR(IF(A154=\"\",\"\",VLOOKUP(A154,[1]Hoja1!$B$2:$U$4999,3,FALSE)),0)","v":""},null,"","",{"$f":"IFERROR(IF(A154=\"\",\"\",VLOOKUP(A154,[1]Hoja1!$B$2:$U$4999,10,FALSE)),0)","v":""},{"$f":"IFERROR(IF(Q154=\"\",\"\",VLOOKUP(Q154,[1]Hoja1!$D$2:$AF$4999,29,FALSE)),\"NO EXISTE CUENTA\")","v":""},null,null,""]
["",{"$f":"IFERROR(IF(A155=\"\",\"\",VLOOKUP(A155,[1]Hoja1!$B$2:$U$4999,9,FALSE)),0)","v":""},{"$f":"IFERROR(IF(A155=\"\",\"\",VLOOKUP(A155,[1]Hoja1!$B$2:$U$4999,2,FALSE)),\" --- NO EXISTE TRABAJADOR --- \")","v":""},null,null,null,null,null,"","","",{"$f":"IFERROR(IF(A155=\"\",\"\",VLOOKUP(A155,[1]Hoja1!$B$2:$U$4999,18,FALSE)),0)","v":""},{"$f":"IFERROR(IF(A155=\"\",\"\",VLOOKUP(A155,[1]Hoja1!$B$2:$U$4999,19,FALSE)),0)","v":""},"",null,{"$f":"IFERROR(IF(O155=\"\",\"\",VLOOKUP(O155,JORNADA!$A$19:$B$20,2,FALSE)),\"\")","v":""},{"$f":"IFERROR(IF(A155=\"\",\"\",VLOOKUP(A155,[1]Hoja1!$B$2:$U$4999,3,FALSE)),0)","v":""},null,"","",{"$f":"IFERROR(IF(A155=\"\",\"\",VLOOKUP(A155,[1]Hoja1!$B$2:$U$4999,10,FALSE)),0)","v":""},{"$f":"IFERROR(IF(Q155=\"\",\"\",VLOOKUP(Q155,[1]Hoja1!$D$2:$AF$4999,29,FALSE)),\"NO EXISTE CUENTA\")","v":""},null,null,""]
["",{"$f":"IFERROR(IF(A156=\"\",\"\",VLOOKUP(A156,[1]Hoja1!$B$2:$U$4999,9,FALSE)),0)","v":""},{"$f":"IFERROR(IF(A156=\"\",\"\",VLOOKUP(A156,[1]Hoja1!$B$2:$U$4999,2,FALSE)),\" --- NO EXISTE TRABAJADOR --- \")","v":""},null,null,null,null,null,"","","",{"$f":"IFERROR(IF(A156=\"\",\"\",VLOOKUP(A156,[1]Hoja1!$B$2:$U$4999,18,FALSE)),0)","v":""},{"$f":"IFERROR(IF(A156=\"\",\"\",VLOOKUP(A156,[1]Hoja1!$B$2:$U$4999,19,FALSE)),0)","v":""},"",null,{"$f":"IFERROR(IF(O156=\"\",\"\",VLOOKUP(O156,JORNADA!$A$19:$B$20,2,FALSE)),\"\")","v":""},{"$f":"IFERROR(IF(A156=\"\",\"\",VLOOKUP(A156,[1]Hoja1!$B$2:$U$4999,3,FALSE)),0)","v":""},null,"","",{"$f":"IFERROR(IF(A156=\"\",\"\",VLOOKUP(A156,[1]Hoja1!$B$2:$U$4999,10,FALSE)),0)","v":""},{"$f":"IFERROR(IF(Q156=\"\",\"\",VLOOKUP(Q156,[1]Hoja1!$D$2:$AF$4999,29,FALSE)),\"NO EXISTE CUENTA\")","v":""},null,null,""]
["",{"$f":"IFERROR(IF(A157=\"\",\"\",VLOOKUP(A157,[1]Hoja1!$B$2:$U$4999,9,FALSE)),0)","v":""},{"$f":"IFERROR(IF(A157=\"\",\"\",VLOOKUP(A157,[1]Hoja1!$B$2:$U$4999,2,FALSE)),\" --- NO EXISTE TRABAJADOR --- \")","v":""},null,null,null,null,null,"","","",{"$f":"IFERROR(IF(A157=\"\",\"\",VLOOKUP(A157,[1]Hoja1!$B$2:$U$4999,18,FALSE)),0)","v":""},{"$f":"IFERROR(IF(A157=\"\",\"\",VLOOKUP(A157,[1]Hoja1!$B$2:$U$4999,19,FALSE)),0)","v":""},"",null,{"$f":"IFERROR(IF(O157=\"\",\"\",VLOOKUP(O157,JORNADA!$A$19:$B$20,2,FALSE)),\"\")","v":""},{"$f":"IFERROR(IF(A157=\"\",\"\",VLOOKUP(A157,[1]Hoja1!$B$2:$U$4999,3,FALSE)),0)","v":""},null,"","",{"$f":"IFERROR(IF(A157=\"\",\"\",VLOOKUP(A157,[1]Hoja1!$B$2:$U$4999,10,FALSE)),0)","v":""},{"$f":"IFERROR(IF(Q157=\"\",\"\",VLOOKUP(Q157,[1]Hoja1!$D$2:$AF$4999,29,FALSE)),\"NO EXISTE CUENTA\")","v":""},null,null,""]
["",{"$f":"IFERROR(IF(A158=\"\",\"\",VLOOKUP(A158,[1]Hoja1!$B$2:$U$4999,9,FALSE)),0)","v":""},{"$f":"IFERROR(IF(A158=\"\",\"\",VLOOKUP(A158,[1]Hoja1!$B$2:$U$4999,2,FALSE)),\" --- NO EXISTE TRABAJADOR --- \")","v":""},null,null,null,null,null,"","","",{"$f":"IFERROR(IF(A158=\"\",\"\",VLOOKUP(A158,[1]Hoja1!$B$2:$U$4999,18,FALSE)),0)","v":""},{"$f":"IFERROR(IF(A158=\"\",\"\",VLOOKUP(A158,[1]Hoja1!$B$2:$U$4999,19,FALSE)),0)","v":""},"",null,{"$f":"IFERROR(IF(O158=\"\",\"\",VLOOKUP(O158,JORNADA!$A$19:$B$20,2,FALSE)),\"\")","v":""},{"$f":"IFERROR(IF(A158=\"\",\"\",VLOOKUP(A158,[1]Hoja1!$B$2:$U$4999,3,FALSE)),0)","v":""},null,"","",{"$f":"IFERROR(IF(A158=\"\",\"\",VLOOKUP(A158,[1]Hoja1!$B$2:$U$4999,10,FALSE)),0)","v":""},{"$f":"IFERROR(IF(Q158=\"\",\"\",VLOOKUP(Q158,[1]Hoja1!$D$2:$AF$4999,29,FALSE)),\"NO EXISTE CUENTA\")","v":""},null,null,""]
["",{"$f":"IFERROR(IF(A159=\"\",\"\",VLOOKUP(A159,[1]Hoja1!$B$2:$U$4999,9,FALSE)),0)","v":""},{"$f":"IFERROR(IF(A159=\"\",\"\",VLOOKUP(A159,[1]Hoja1!$B$2:$U$4999,2,FALSE)),\" --- NO EXISTE TRABAJADOR --- \")","v":""},null,null,null,null,null,"","","",{"$f":"IFERROR(IF(A159=\"\",\"\",VLOOKUP(A159,[1]Hoja1!$B$2:$U$4999,18,FALSE)),0)","v":""},{"$f":"IFERROR(IF(A159=\"\",\"\",VLOOKUP(A159,[1]Hoja1!$B$2:$U$4999,19,FALSE)),0)","v":""},"",null,{"$f":"IFERROR(IF(O159=\"\",\"\",VLOOKUP(O159,JORNADA!$A$19:$B$20,2,FALSE)),\"\")","v":""},{"$f":"IFERROR(IF(A159=\"\",\"\",VLOOKUP(A159,[1]Hoja1!$B$2:$U$4999,3,FALSE)),0)","v":""},null,"","",{"$f":"IFERROR(IF(A159=\"\",\"\",VLOOKUP(A159,[1]Hoja1!$B$2:$U$4999,10,FALSE)),0)","v":""},{"$f":"IFERROR(IF(Q159=\"\",\"\",VLOOKUP(Q159,[1]Hoja1!$D$2:$AF$4999,29,FALSE)),\"NO EXISTE CUENTA\")","v":""},null,null,""]
["",{"$f":"IFERROR(IF(A160=\"\",\"\",VLOOKUP(A160,[1]Hoja1!$B$2:$U$4999,9,FALSE)),0)","v":""},{"$f":"IFERROR(IF(A160=\"\",\"\",VLOOKUP(A160,[1]Hoja1!$B$2:$U$4999,2,FALSE)),\" --- NO EXISTE TRABAJADOR --- \")","v":""},null,null,null,null,null,"","","",{"$f":"IFERROR(IF(A160=\"\",\"\",VLOOKUP(A160,[1]Hoja1!$B$2:$U$4999,18,FALSE)),0)","v":""},{"$f":"IFERROR(IF(A160=\"\",\"\",VLOOKUP(A160,[1]Hoja1!$B$2:$U$4999,19,FALSE)),0)","v":""},"",null,{"$f":"IFERROR(IF(O160=\"\",\"\",VLOOKUP(O160,JORNADA!$A$19:$B$20,2,FALSE)),\"\")","v":""},{"$f":"IFERROR(IF(A160=\"\",\"\",VLOOKUP(A160,[1]Hoja1!$B$2:$U$4999,3,FALSE)),0)","v":""},null,"","",{"$f":"IFERROR(IF(A160=\"\",\"\",VLOOKUP(A160,[1]Hoja1!$B$2:$U$4999,10,FALSE)),0)","v":""},{"$f":"IFERROR(IF(Q160=\"\",\"\",VLOOKUP(Q160,[1]Hoja1!$D$2:$AF$4999,29,FALSE)),\"NO EXISTE CUENTA\")","v":""},null,null,""]
["",{"$f":"IFERROR(IF(A161=\"\",\"\",VLOOKUP(A161,[1]Hoja1!$B$2:$U$4999,9,FALSE)),0)","v":""},{"$f":"IFERROR(IF(A161=\"\",\"\",VLOOKUP(A161,[1]Hoja1!$B$2:$U$4999,2,FALSE)),\" --- NO EXISTE TRABAJADOR --- \")","v":""},null,null,null,null,null,"","","",{"$f":"IFERROR(IF(A161=\"\",\"\",VLOOKUP(A161,[1]Hoja1!$B$2:$U$4999,18,FALSE)),0)","v":""},{"$f":"IFERROR(IF(A161=\"\",\"\",VLOOKUP(A161,[1]Hoja1!$B$2:$U$4999,19,FALSE)),0)","v":""},"",null,{"$f":"IFERROR(IF(O161=\"\",\"\",VLOOKUP(O161,JORNADA!$A$19:$B$20,2,FALSE)),\"\")","v":""},{"$f":"IFERROR(IF(A161=\"\",\"\",VLOOKUP(A161,[1]Hoja1!$B$2:$U$4999,3,FALSE)),0)","v":""},null,"","",{"$f":"IFERROR(IF(A161=\"\",\"\",VLOOKUP(A161,[1]Hoja1!$B$2:$U$4999,10,FALSE)),0)","v":""},{"$f":"IFERROR(IF(Q161=\"\",\"\",VLOOKUP(Q161,[1]Hoja1!$D$2:$AF$4999,29,FALSE)),\"NO EXISTE CUENTA\")","v":""},null,null,""]
["",{"$f":"IFERROR(IF(A162=\"\",\"\",VLOOKUP(A162,[1]Hoja1!$B$2:$U$4999,9,FALSE)),0)","v":""},{"$f":"IFERROR(IF(A162=\"\",\"\",VLOOKUP(A162,[1]Hoja1!$B$2:$U$4999,2,FALSE)),\" --- NO EXISTE TRABAJADOR --- \")","v":""},null,null,null,null,null,"","","",{"$f":"IFERROR(IF(A162=\"\",\"\",VLOOKUP(A162,[1]Hoja1!$B$2:$U$4999,18,FALSE)),0)","v":""},{"$f":"IFERROR(IF(A162=\"\",\"\",VLOOKUP(A162,[1]Hoja1!$B$2:$U$4999,19,FALSE)),0)","v":""},"",null,{"$f":"IFERROR(IF(O162=\"\",\"\",VLOOKUP(O162,JORNADA!$A$19:$B$20,2,FALSE)),\"\")","v":""},{"$f":"IFERROR(IF(A162=\"\",\"\",VLOOKUP(A162,[1]Hoja1!$B$2:$U$4999,3,FALSE)),0)","v":""},null,"","",{"$f":"IFERROR(IF(A162=\"\",\"\",VLOOKUP(A162,[1]Hoja1!$B$2:$U$4999,10,FALSE)),0)","v":""},{"$f":"IFERROR(IF(Q162=\"\",\"\",VLOOKUP(Q162,[1]Hoja1!$D$2:$AF$4999,29,FALSE)),\"NO EXISTE CUENTA\")","v":""},null,null,""]
["",{"$f":"IFERROR(IF(A163=\"\",\"\",VLOOKUP(A163,[1]Hoja1!$B$2:$U$4999,9,FALSE)),0)","v":""},{"$f":"IFERROR(IF(A163=\"\",\"\",VLOOKUP(A163,[1]Hoja1!$B$2:$U$4999,2,FALSE)),\" --- NO EXISTE TRABAJADOR --- \")","v":""},null,null,null,null,null,"","","",{"$f":"IFERROR(IF(A163=\"\",\"\",VLOOKUP(A163,[1]Hoja1!$B$2:$U$4999,18,FALSE)),0)","v":""},{"$f":"IFERROR(IF(A163=\"\",\"\",VLOOKUP(A163,[1]Hoja1!$B$2:$U$4999,19,FALSE)),0)","v":""},"",null,{"$f":"IFERROR(IF(O163=\"\",\"\",VLOOKUP(O163,JORNADA!$A$19:$B$20,2,FALSE)),\"\")","v":""},{"$f":"IFERROR(IF(A163=\"\",\"\",VLOOKUP(A163,[1]Hoja1!$B$2:$U$4999,3,FALSE)),0)","v":""},null,"","",{"$f":"IFERROR(IF(A163=\"\",\"\",VLOOKUP(A163,[1]Hoja1!$B$2:$U$4999,10,FALSE)),0)","v":""},{"$f":"IFERROR(IF(Q163=\"\",\"\",VLOOKUP(Q163,[1]Hoja1!$D$2:$AF$4999,29,FALSE)),\"NO EXISTE CUENTA\")","v":""},null,null,""]
["",{"$f":"IFERROR(IF(A164=\"\",\"\",VLOOKUP(A164,[1]Hoja1!$B$2:$U$4999,9,FALSE)),0)","v":""},{"$f":"IFERROR(IF(A164=\"\",\"\",VLOOKUP(A164,[1]Hoja1!$B$2:$U$4999,2,FALSE)),\" --- NO EXISTE TRABAJADOR --- \")","v":""},null,null,null,null,null,"","","",{"$f":"IFERROR(IF(A164=\"\",\"\",VLOOKUP(A164,[1]Hoja1!$B$2:$U$4999,18,FALSE)),0)","v":""},{"$f":"IFERROR(IF(A164=\"\",\"\",VLOOKUP(A164,[1]Hoja1!$B$2:$U$4999,19,FALSE)),0)","v":""},"",null,{"$f":"IFERROR(IF(O164=\"\",\"\",VLOOKUP(O164,JORNADA!$A$19:$B$20,2,FALSE)),\"\")","v":""},{"$f":"IFERROR(IF(A164=\"\",\"\",VLOOKUP(A164,[1]Hoja1!$B$2:$U$4999,3,FALSE)),0)","v":""},null,"","",{"$f":"IFERROR(IF(A164=\"\",\"\",VLOOKUP(A164,[1]Hoja1!$B$2:$U$4999,10,FALSE)),0)","v":""},{"$f":"IFERROR(IF(Q164=\"\",\"\",VLOOKUP(Q164,[1]Hoja1!$D$2:$AF$4999,29,FALSE)),\"NO EXISTE CUENTA\")","v":""},null,null,""]
["",{"$f":"IFERROR(IF(A165=\"\",\"\",VLOOKUP(A165,[1]Hoja1!$B$2:$U$4999,9,FALSE)),0)","v":""},{"$f":"IFERROR(IF(A165=\"\",\"\",VLOOKUP(A165,[1]Hoja1!$B$2:$U$4999,2,FALSE)),\" --- NO EXISTE TRABAJADOR --- \")","v":""},null,null,null,null,null,"","","",{"$f":"IFERROR(IF(A165=\"\",\"\",VLOOKUP(A165,[1]Hoja1!$B$2:$U$4999,18,FALSE)),0)","v":""},{"$f":"IFERROR(IF(A165=\"\",\"\",VLOOKUP(A165,[1]Hoja1!$B$2:$U$4999,19,FALSE)),0)","v":""},"",null,{"$f":"IFERROR(IF(O165=\"\",\"\",VLOOKUP(O165,JORNADA!$A$19:$B$20,2,FALSE)),\"\")","v":""},{"$f":"IFERROR(IF(A165=\"\",\"\",VLOOKUP(A165,[1]Hoja1!$B$2:$U$4999,3,FALSE)),0)","v":""},null,"","",{"$f":"IFERROR(IF(A165=\"\",\"\",VLOOKUP(A165,[1]Hoja1!$B$2:$U$4999,10,FALSE)),0)","v":""},{"$f":"IFERROR(IF(Q165=\"\",\"\",VLOOKUP(Q165,[1]Hoja1!$D$2:$AF$4999,29,FALSE)),\"NO EXISTE CUENTA\")","v":""},null,null,""]
["",{"$f":"IFERROR(IF(A166=\"\",\"\",VLOOKUP(A166,[1]Hoja1!$B$2:$U$4999,9,FALSE)),0)","v":""},{"$f":"IFERROR(IF(A166=\"\",\"\",VLOOKUP(A166,[1]Hoja1!$B$2:$U$4999,2,FALSE)),\" --- NO EXISTE TRABAJADOR --- \")","v":""},null,null,null,null,null,"","","",{"$f":"IFERROR(IF(A166=\"\",\"\",VLOOKUP(A166,[1]Hoja1!$B$2:$U$4999,18,FALSE)),0)","v":""},{"$f":"IFERROR(IF(A166=\"\",\"\",VLOOKUP(A166,[1]Hoja1!$B$2:$U$4999,19,FALSE)),0)","v":""},"",null,{"$f":"IFERROR(IF(O166=\"\",\"\",VLOOKUP(O166,JORNADA!$A$19:$B$20,2,FALSE)),\"\")","v":""},{"$f":"IFERROR(IF(A166=\"\",\"\",VLOOKUP(A166,[1]Hoja1!$B$2:$U$4999,3,FALSE)),0)","v":""},null,"","",{"$f":"IFERROR(IF(A166=\"\",\"\",VLOOKUP(A166,[1]Hoja1!$B$2:$U$4999,10,FALSE)),0)","v":""},{"$f":"IFERROR(IF(Q166=\"\",\"\",VLOOKUP(Q166,[1]Hoja1!$D$2:$AF$4999,29,FALSE)),\"NO EXISTE CUENTA\")","v":""},null,null,""]
["",{"$f":"IFERROR(IF(A167=\"\",\"\",VLOOKUP(A167,[1]Hoja1!$B$2:$U$4999,9,FALSE)),0)","v":""},{"$f":"IFERROR(IF(A167=\"\",\"\",VLOOKUP(A167,[1]Hoja1!$B$2:$U$4999,2,FALSE)),\" --- NO EXISTE TRABAJADOR --- \")","v":""},null,null,null,null,null,"","","",{"$f":"IFERROR(IF(A167=\"\",\"\",VLOOKUP(A167,[1]Hoja1!$B$2:$U$4999,18,FALSE)),0)","v":""},{"$f":"IFERROR(IF(A167=\"\",\"\",VLOOKUP(A167,[1]Hoja1!$B$2:$U$4999,19,FALSE)),0)","v":""},"",null,{"$f":"IFERROR(IF(O167=\"\",\"\",VLOOKUP(O167,JORNADA!$A$19:$B$20,2,FALSE)),\"\")","v":""},{"$f":"IFERROR(IF(A167=\"\",\"\",VLOOKUP(A167,[1]Hoja1!$B$2:$U$4999,3,FALSE)),0)","v":""},null,"","",{"$f":"IFERROR(IF(A167=\"\",\"\",VLOOKUP(A167,[1]Hoja1!$B$2:$U$4999,10,FALSE)),0)","v":""},{"$f":"IFERROR(IF(Q167=\"\",\"\",VLOOKUP(Q167,[1]Hoja1!$D$2:$AF$4999,29,FALSE)),\"NO EXISTE CUENTA\")","v":""},null,null,""]
["",{"$f":"IFERROR(IF(A168=\"\",\"\",VLOOKUP(A168,[1]Hoja1!$B$2:$U$4999,9,FALSE)),0)","v":""},{"$f":"IFERROR(IF(A168=\"\",\"\",VLOOKUP(A168,[1]Hoja1!$B$2:$U$4999,2,FALSE)),\" --- NO EXISTE TRABAJADOR --- \")","v":""},null,null,null,null,null,"","","",{"$f":"IFERROR(IF(A168=\"\",\"\",VLOOKUP(A168,[1]Hoja1!$B$2:$U$4999,18,FALSE)),0)","v":""},{"$f":"IFERROR(IF(A168=\"\",\"\",VLOOKUP(A168,[1]Hoja1!$B$2:$U$4999,19,FALSE)),0)","v":""},"",null,{"$f":"IFERROR(IF(O168=\"\",\"\",VLOOKUP(O168,JORNADA!$A$19:$B$20,2,FALSE)),\"\")","v":""},{"$f":"IFERROR(IF(A168=\"\",\"\",VLOOKUP(A168,[1]Hoja1!$B$2:$U$4999,3,FALSE)),0)","v":""},null,"","",{"$f":"IFERROR(IF(A168=\"\",\"\",VLOOKUP(A168,[1]Hoja1!$B$2:$U$4999,10,FALSE)),0)","v":""},{"$f":"IFERROR(IF(Q168=\"\",\"\",VLOOKUP(Q168,[1]Hoja1!$D$2:$AF$4999,29,FALSE)),\"NO EXISTE CUENTA\")","v":""},null,null,""]
["",{"$f":"IFERROR(IF(A169=\"\",\"\",VLOOKUP(A169,[1]Hoja1!$B$2:$U$4999,9,FALSE)),0)","v":""},{"$f":"IFERROR(IF(A169=\"\",\"\",VLOOKUP(A169,[1]Hoja1!$B$2:$U$4999,2,FALSE)),\" --- NO EXISTE TRABAJADOR --- \")","v":""},null,null,null,null,null,"","","",{"$f":"IFERROR(IF(A169=\"\",\"\",VLOOKUP(A169,[1]Hoja1!$B$2:$U$4999,18,FALSE)),0)","v":""},{"$f":"IFERROR(IF(A169=\"\",\"\",VLOOKUP(A169,[1]Hoja1!$B$2:$U$4999,19,FALSE)),0)","v":""},"",null,{"$f":"IFERROR(IF(O169=\"\",\"\",VLOOKUP(O169,JORNADA!$A$19:$B$20,2,FALSE)),\"\")","v":""},{"$f":"IFERROR(IF(A169=\"\",\"\",VLOOKUP(A169,[1]Hoja1!$B$2:$U$4999,3,FALSE)),0)","v":""},null,"","",{"$f":"IFERROR(IF(A169=\"\",\"\",VLOOKUP(A169,[1]Hoja1!$B$2:$U$4999,10,FALSE)),0)","v":""},{"$f":"IFERROR(IF(Q169=\"\",\"\",VLOOKUP(Q169,[1]Hoja1!$D$2:$AF$4999,29,FALSE)),\"NO EXISTE CUENTA\")","v":""},null,null,""]
["",{"$f":"IFERROR(IF(A170=\"\",\"\",VLOOKUP(A170,[1]Hoja1!$B$2:$U$4999,9,FALSE)),0)","v":""},{"$f":"IFERROR(IF(A170=\"\",\"\",VLOOKUP(A170,[1]Hoja1!$B$2:$U$4999,2,FALSE)),\" --- NO EXISTE TRABAJADOR --- \")","v":""},null,null,null,null,null,"","","",{"$f":"IFERROR(IF(A170=\"\",\"\",VLOOKUP(A170,[1]Hoja1!$B$2:$U$4999,18,FALSE)),0)","v":""},{"$f":"IFERROR(IF(A170=\"\",\"\",VLOOKUP(A170,[1]Hoja1!$B$2:$U$4999,19,FALSE)),0)","v":""},"",null,{"$f":"IFERROR(IF(O170=\"\",\"\",VLOOKUP(O170,JORNADA!$A$19:$B$20,2,FALSE)),\"\")","v":""},{"$f":"IFERROR(IF(A170=\"\",\"\",VLOOKUP(A170,[1]Hoja1!$B$2:$U$4999,3,FALSE)),0)","v":""},null,"","",{"$f":"IFERROR(IF(A170=\"\",\"\",VLOOKUP(A170,[1]Hoja1!$B$2:$U$4999,10,FALSE)),0)","v":""},{"$f":"IFERROR(IF(Q170=\"\",\"\",VLOOKUP(Q170,[1]Hoja1!$D$2:$AF$4999,29,FALSE)),\"NO EXISTE CUENTA\")","v":""},null,null,""]
["",{"$f":"IFERROR(IF(A171=\"\",\"\",VLOOKUP(A171,[1]Hoja1!$B$2:$U$4999,9,FALSE)),0)","v":""},{"$f":"IFERROR(IF(A171=\"\",\"\",VLOOKUP(A171,[1]Hoja1!$B$2:$U$4999,2,FALSE)),\" --- NO EXISTE TRABAJADOR --- \")","v":""},null,null,null,null,null,"","","",{"$f":"IFERROR(IF(A171=\"\",\"\",VLOOKUP(A171,[1]Hoja1!$B$2:$U$4999,18,FALSE)),0)","v":""},{"$f":"IFERROR(IF(A171=\"\",\"\",VLOOKUP(A171,[1]Hoja1!$B$2:$U$4999,19,FALSE)),0)","v":""},"",null,{"$f":"IFERROR(IF(O171=\"\",\"\",VLOOKUP(O171,JORNADA!$A$19:$B$20,2,FALSE)),\"\")","v":""},{"$f":"IFERROR(IF(A171=\"\",\"\",VLOOKUP(A171,[1]Hoja1!$B$2:$U$4999,3,FALSE)),0)","v":""},null,"","",{"$f":"IFERROR(IF(A171=\"\",\"\",VLOOKUP(A171,[1]Hoja1!$B$2:$U$4999,10,FALSE)),0)","v":""},{"$f":"IFERROR(IF(Q171=\"\",\"\",VLOOKUP(Q171,[1]Hoja1!$D$2:$AF$4999,29,FALSE)),\"NO EXISTE CUENTA\")","v":""},null,null,""]
["",{"$f":"IFERROR(IF(A172=\"\",\"\",VLOOKUP(A172,[1]Hoja1!$B$2:$U$4999,9,FALSE)),0)","v":""},{"$f":"IFERROR(IF(A172=\"\",\"\",VLOOKUP(A172,[1]Hoja1!$B$2:$U$4999,2,FALSE)),\" --- NO EXISTE TRABAJADOR --- \")","v":""},null,null,null,null,null,"","","",{"$f":"IFERROR(IF(A172=\"\",\"\",VLOOKUP(A172,[1]Hoja1!$B$2:$U$4999,18,FALSE)),0)","v":""},{"$f":"IFERROR(IF(A172=\"\",\"\",VLOOKUP(A172,[1]Hoja1!$B$2:$U$4999,19,FALSE)),0)","v":""},"",null,{"$f":"IFERROR(IF(O172=\"\",\"\",VLOOKUP(O172,JORNADA!$A$19:$B$20,2,FALSE)),\"\")","v":""},{"$f":"IFERROR(IF(A172=\"\",\"\",VLOOKUP(A172,[1]Hoja1!$B$2:$U$4999,3,FALSE)),0)","v":""},null,"","",{"$f":"IFERROR(IF(A172=\"\",\"\",VLOOKUP(A172,[1]Hoja1!$B$2:$U$4999,10,FALSE)),0)","v":""},{"$f":"IFERROR(IF(Q172=\"\",\"\",VLOOKUP(Q172,[1]Hoja1!$D$2:$AF$4999,29,FALSE)),\"NO EXISTE CUENTA\")","v":""},null,null,""]
["",{"$f":"IFERROR(IF(A173=\"\",\"\",VLOOKUP(A173,[1]Hoja1!$B$2:$U$4999,9,FALSE)),0)","v":""},{"$f":"IFERROR(IF(A173=\"\",\"\",VLOOKUP(A173,[1]Hoja1!$B$2:$U$4999,2,FALSE)),\" --- NO EXISTE TRABAJADOR --- \")","v":""},null,null,null,null,null,"","","",{"$f":"IFERROR(IF(A173=\"\",\"\",VLOOKUP(A173,[1]Hoja1!$B$2:$U$4999,18,FALSE)),0)","v":""},{"$f":"IFERROR(IF(A173=\"\",\"\",VLOOKUP(A173,[1]Hoja1!$B$2:$U$4999,19,FALSE)),0)","v":""},"",null,{"$f":"IFERROR(IF(O173=\"\",\"\",VLOOKUP(O173,JORNADA!$A$19:$B$20,2,FALSE)),\"\")","v":""},{"$f":"IFERROR(IF(A173=\"\",\"\",VLOOKUP(A173,[1]Hoja1!$B$2:$U$4999,3,FALSE)),0)","v":""},null,"","",{"$f":"IFERROR(IF(A173=\"\",\"\",VLOOKUP(A173,[1]Hoja1!$B$2:$U$4999,10,FALSE)),0)","v":""},{"$f":"IFERROR(IF(Q173=\"\",\"\",VLOOKUP(Q173,[1]Hoja1!$D$2:$AF$4999,29,FALSE)),\"NO EXISTE CUENTA\")","v":""},null,null,""]
["",{"$f":"IFERROR(IF(A174=\"\",\"\",VLOOKUP(A174,[1]Hoja1!$B$2:$U$4999,9,FALSE)),0)","v":""},{"$f":"IFERROR(IF(A174=\"\",\"\",VLOOKUP(A174,[1]Hoja1!$B$2:$U$4999,2,FALSE)),\" --- NO EXISTE TRABAJADOR --- \")","v":""},null,null,null,null,null,"","","",{"$f":"IFERROR(IF(A174=\"\",\"\",VLOOKUP(A174,[1]Hoja1!$B$2:$U$4999,18,FALSE)),0)","v":""},{"$f":"IFERROR(IF(A174=\"\",\"\",VLOOKUP(A174,[1]Hoja1!$B$2:$U$4999,19,FALSE)),0)","v":""},"",null,{"$f":"IFERROR(IF(O174=\"\",\"\",VLOOKUP(O174,JORNADA!$A$19:$B$20,2,FALSE)),\"\")","v":""},{"$f":"IFERROR(IF(A174=\"\",\"\",VLOOKUP(A174,[1]Hoja1!$B$2:$U$4999,3,FALSE)),0)","v":""},null,"","",{"$f":"IFERROR(IF(A174=\"\",\"\",VLOOKUP(A174,[1]Hoja1!$B$2:$U$4999,10,FALSE)),0)","v":""},{"$f":"IFERROR(IF(Q174=\"\",\"\",VLOOKUP(Q174,[1]Hoja1!$D$2:$AF$4999,29,FALSE)),\"NO EXISTE CUENTA\")","v":""},null,null,""]
["",{"$f":"IFERROR(IF(A175=\"\",\"\",VLOOKUP(A175,[1]Hoja1!$B$2:$U$4999,9,FALSE)),0)","v":""},{"$f":"IFERROR(IF(A175=\"\",\"\",VLOOKUP(A175,[1]Hoja1!$B$2:$U$4999,2,FALSE)),\" --- NO EXISTE TRABAJADOR --- \")","v":""},null,null,null,null,null,"","","",{"$f":"IFERROR(IF(A175=\"\",\"\",VLOOKUP(A175,[1]Hoja1!$B$2:$U$4999,18,FALSE)),0)","v":""},{"$f":"IFERROR(IF(A175=\"\",\"\",VLOOKUP(A175,[1]Hoja1!$B$2:$U$4999,19,FALSE)),0)","v":""},"",null,{"$f":"IFERROR(IF(O175=\"\",\"\",VLOOKUP(O175,JORNADA!$A$19:$B$20,2,FALSE)),\"\")","v":""},{"$f":"IFERROR(IF(A175=\"\",\"\",VLOOKUP(A175,[1]Hoja1!$B$2:$U$4999,3,FALSE)),0)","v":""},null,"","",{"$f":"IFERROR(IF(A175=\"\",\"\",VLOOKUP(A175,[1]Hoja1!$B$2:$U$4999,10,FALSE)),0)","v":""},{"$f":"IFERROR(IF(Q175=\"\",\"\",VLOOKUP(Q175,[1]Hoja1!$D$2:$AF$4999,29,FALSE)),\"NO EXISTE CUENTA\")","v":""},null,null,""]
["",{"$f":"IFERROR(IF(A176=\"\",\"\",VLOOKUP(A176,[1]Hoja1!$B$2:$U$4999,9,FALSE)),0)","v":""},{"$f":"IFERROR(IF(A176=\"\",\"\",VLOOKUP(A176,[1]Hoja1!$B$2:$U$4999,2,FALSE)),\" --- NO EXISTE TRABAJADOR --- \")","v":""},null,null,null,null,null,"","","",{"$f":"IFERROR(IF(A176=\"\",\"\",VLOOKUP(A176,[1]Hoja1!$B$2:$U$4999,18,FALSE)),0)","v":""},{"$f":"IFERROR(IF(A176=\"\",\"\",VLOOKUP(A176,[1]Hoja1!$B$2:$U$4999,19,FALSE)),0)","v":""},"",null,{"$f":"IFERROR(IF(O176=\"\",\"\",VLOOKUP(O176,JORNADA!$A$19:$B$20,2,FALSE)),\"\")","v":""},{"$f":"IFERROR(IF(A176=\"\",\"\",VLOOKUP(A176,[1]Hoja1!$B$2:$U$4999,3,FALSE)),0)","v":""},null,"","",{"$f":"IFERROR(IF(A176=\"\",\"\",VLOOKUP(A176,[1]Hoja1!$B$2:$U$4999,10,FALSE)),0)","v":""},{"$f":"IFERROR(IF(Q176=\"\",\"\",VLOOKUP(Q176,[1]Hoja1!$D$2:$AF$4999,29,FALSE)),\"NO EXISTE CUENTA\")","v":""},null,null,""]
["",{"$f":"IFERROR(IF(A177=\"\",\"\",VLOOKUP(A177,[1]Hoja1!$B$2:$U$4999,9,FALSE)),0)","v":""},{"$f":"IFERROR(IF(A177=\"\",\"\",VLOOKUP(A177,[1]Hoja1!$B$2:$U$4999,2,FALSE)),\" --- NO EXISTE TRABAJADOR --- \")","v":""},null,null,null,null,null,"","","",{"$f":"IFERROR(IF(A177=\"\",\"\",VLOOKUP(A177,[1]Hoja1!$B$2:$U$4999,18,FALSE)),0)","v":""},{"$f":"IFERROR(IF(A177=\"\",\"\",VLOOKUP(A177,[1]Hoja1!$B$2:$U$4999,19,FALSE)),0)","v":""},"",null,{"$f":"IFERROR(IF(O177=\"\",\"\",VLOOKUP(O177,JORNADA!$A$19:$B$20,2,FALSE)),\"\")","v":""},{"$f":"IFERROR(IF(A177=\"\",\"\",VLOOKUP(A177,[1]Hoja1!$B$2:$U$4999,3,FALSE)),0)","v":""},null,"","",{"$f":"IFERROR(IF(A177=\"\",\"\",VLOOKUP(A177,[1]Hoja1!$B$2:$U$4999,10,FALSE)),0)","v":""},{"$f":"IFERROR(IF(Q177=\"\",\"\",VLOOKUP(Q177,[1]Hoja1!$D$2:$AF$4999,29,FALSE)),\"NO EXISTE CUENTA\")","v":""},null,null,""]
["",{"$f":"IFERROR(IF(A178=\"\",\"\",VLOOKUP(A178,[1]Hoja1!$B$2:$U$4999,9,FALSE)),0)","v":""},{"$f":"IFERROR(IF(A178=\"\",\"\",VLOOKUP(A178,[1]Hoja1!$B$2:$U$4999,2,FALSE)),\" --- NO EXISTE TRABAJADOR --- \")","v":""},null,null,null,null,null,"","","",{"$f":"IFERROR(IF(A178=\"\",\"\",VLOOKUP(A178,[1]Hoja1!$B$2:$U$4999,18,FALSE)),0)","v":""},{"$f":"IFERROR(IF(A178=\"\",\"\",VLOOKUP(A178,[1]Hoja1!$B$2:$U$4999,19,FALSE)),0)","v":""},"",null,{"$f":"IFERROR(IF(O178=\"\",\"\",VLOOKUP(O178,JORNADA!$A$19:$B$20,2,FALSE)),\"\")","v":""},{"$f":"IFERROR(IF(A178=\"\",\"\",VLOOKUP(A178,[1]Hoja1!$B$2:$U$4999,3,FALSE)),0)","v":""},null,"","",{"$f":"IFERROR(IF(A178=\"\",\"\",VLOOKUP(A178,[1]Hoja1!$B$2:$U$4999,10,FALSE)),0)","v":""},{"$f":"IFERROR(IF(Q178=\"\",\"\",VLOOKUP(Q178,[1]Hoja1!$D$2:$AF$4999,29,FALSE)),\"NO EXISTE CUENTA\")","v":""},null,null,""]
["",{"$f":"IFERROR(IF(A179=\"\",\"\",VLOOKUP(A179,[1]Hoja1!$B$2:$U$4999,9,FALSE)),0)","v":""},{"$f":"IFERROR(IF(A179=\"\",\"\",VLOOKUP(A179,[1]Hoja1!$B$2:$U$4999,2,FALSE)),\" --- NO EXISTE TRABAJADOR --- \")","v":""},null,null,null,null,null,"","","",{"$f":"IFERROR(IF(A179=\"\",\"\",VLOOKUP(A179,[1]Hoja1!$B$2:$U$4999,18,FALSE)),0)","v":""},{"$f":"IFERROR(IF(A179=\"\",\"\",VLOOKUP(A179,[1]Hoja1!$B$2:$U$4999,19,FALSE)),0)","v":""},"",null,{"$f":"IFERROR(IF(O179=\"\",\"\",VLOOKUP(O179,JORNADA!$A$19:$B$20,2,FALSE)),\"\")","v":""},{"$f":"IFERROR(IF(A179=\"\",\"\",VLOOKUP(A179,[1]Hoja1!$B$2:$U$4999,3,FALSE)),0)","v":""},null,"","",{"$f":"IFERROR(IF(A179=\"\",\"\",VLOOKUP(A179,[1]Hoja1!$B$2:$U$4999,10,FALSE)),0)","v":""},{"$f":"IFERROR(IF(Q179=\"\",\"\",VLOOKUP(Q179,[1]Hoja1!$D$2:$AF$4999,29,FALSE)),\"NO EXISTE CUENTA\")","v":""},null,null,""]
["",{"$f":"IFERROR(IF(A180=\"\",\"\",VLOOKUP(A180,[1]Hoja1!$B$2:$U$4999,9,FALSE)),0)","v":""},{"$f":"IFERROR(IF(A180=\"\",\"\",VLOOKUP(A180,[1]Hoja1!$B$2:$U$4999,2,FALSE)),\" --- NO EXISTE TRABAJADOR --- \")","v":""},null,null,null,null,null,"","","",{"$f":"IFERROR(IF(A180=\"\",\"\",VLOOKUP(A180,[1]Hoja1!$B$2:$U$4999,18,FALSE)),0)","v":""},{"$f":"IFERROR(IF(A180=\"\",\"\",VLOOKUP(A180,[1]Hoja1!$B$2:$U$4999,19,FALSE)),0)","v":""},"",null,{"$f":"IFERROR(IF(O180=\"\",\"\",VLOOKUP(O180,JORNADA!$A$19:$B$20,2,FALSE)),\"\")","v":""},{"$f":"IFERROR(IF(A180=\"\",\"\",VLOOKUP(A180,[1]Hoja1!$B$2:$U$4999,3,FALSE)),0)","v":""},null,"","",{"$f":"IFERROR(IF(A180=\"\",\"\",VLOOKUP(A180,[1]Hoja1!$B$2:$U$4999,10,FALSE)),0)","v":""},{"$f":"IFERROR(IF(Q180=\"\",\"\",VLOOKUP(Q180,[1]Hoja1!$D$2:$AF$4999,29,FALSE)),\"NO EXISTE CUENTA\")","v":""},null,null,""]
["",{"$f":"IFERROR(IF(A181=\"\",\"\",VLOOKUP(A181,[1]Hoja1!$B$2:$U$4999,9,FALSE)),0)","v":""},{"$f":"IFERROR(IF(A181=\"\",\"\",VLOOKUP(A181,[1]Hoja1!$B$2:$U$4999,2,FALSE)),\" --- NO EXISTE TRABAJADOR --- \")","v":""},null,null,null,null,null,"","","",{"$f":"IFERROR(IF(A181=\"\",\"\",VLOOKUP(A181,[1]Hoja1!$B$2:$U$4999,18,FALSE)),0)","v":""},{"$f":"IFERROR(IF(A181=\"\",\"\",VLOOKUP(A181,[1]Hoja1!$B$2:$U$4999,19,FALSE)),0)","v":""},"",null,{"$f":"IFERROR(IF(O181=\"\",\"\",VLOOKUP(O181,JORNADA!$A$19:$B$20,2,FALSE)),\"\")","v":""},{"$f":"IFERROR(IF(A181=\"\",\"\",VLOOKUP(A181,[1]Hoja1!$B$2:$U$4999,3,FALSE)),0)","v":""},null,"","",{"$f":"IFERROR(IF(A181=\"\",\"\",VLOOKUP(A181,[1]Hoja1!$B$2:$U$4999,10,FALSE)),0)","v":""},{"$f":"IFERROR(IF(Q181=\"\",\"\",VLOOKUP(Q181,[1]Hoja1!$D$2:$AF$4999,29,FALSE)),\"NO EXISTE CUENTA\")","v":""},null,null,""]
["",{"$f":"IFERROR(IF(A182=\"\",\"\",VLOOKUP(A182,[1]Hoja1!$B$2:$U$4999,9,FALSE)),0)","v":""},{"$f":"IFERROR(IF(A182=\"\",\"\",VLOOKUP(A182,[1]Hoja1!$B$2:$U$4999,2,FALSE)),\" --- NO EXISTE TRABAJADOR --- \")","v":""},null,null,null,null,null,"","","",{"$f":"IFERROR(IF(A182=\"\",\"\",VLOOKUP(A182,[1]Hoja1!$B$2:$U$4999,18,FALSE)),0)","v":""},{"$f":"IFERROR(IF(A182=\"\",\"\",VLOOKUP(A182,[1]Hoja1!$B$2:$U$4999,19,FALSE)),0)","v":""},"",null,{"$f":"IFERROR(IF(O182=\"\",\"\",VLOOKUP(O182,JORNADA!$A$19:$B$20,2,FALSE)),\"\")","v":""},{"$f":"IFERROR(IF(A182=\"\",\"\",VLOOKUP(A182,[1]Hoja1!$B$2:$U$4999,3,FALSE)),0)","v":""},null,"","",{"$f":"IFERROR(IF(A182=\"\",\"\",VLOOKUP(A182,[1]Hoja1!$B$2:$U$4999,10,FALSE)),0)","v":""},{"$f":"IFERROR(IF(Q182=\"\",\"\",VLOOKUP(Q182,[1]Hoja1!$D$2:$AF$4999,29,FALSE)),\"NO EXISTE CUENTA\")","v":""},null,null,""]
["",{"$f":"IFERROR(IF(A183=\"\",\"\",VLOOKUP(A183,[1]Hoja1!$B$2:$U$4999,9,FALSE)),0)","v":""},{"$f":"IFERROR(IF(A183=\"\",\"\",VLOOKUP(A183,[1]Hoja1!$B$2:$U$4999,2,FALSE)),\" --- NO EXISTE TRABAJADOR --- \")","v":""},null,null,null,null,null,"","","",{"$f":"IFERROR(IF(A183=\"\",\"\",VLOOKUP(A183,[1]Hoja1!$B$2:$U$4999,18,FALSE)),0)","v":""},{"$f":"IFERROR(IF(A183=\"\",\"\",VLOOKUP(A183,[1]Hoja1!$B$2:$U$4999,19,FALSE)),0)","v":""},"",null,{"$f":"IFERROR(IF(O183=\"\",\"\",VLOOKUP(O183,JORNADA!$A$19:$B$20,2,FALSE)),\"\")","v":""},{"$f":"IFERROR(IF(A183=\"\",\"\",VLOOKUP(A183,[1]Hoja1!$B$2:$U$4999,3,FALSE)),0)","v":""},null,"","",{"$f":"IFERROR(IF(A183=\"\",\"\",VLOOKUP(A183,[1]Hoja1!$B$2:$U$4999,10,FALSE)),0)","v":""},{"$f":"IFERROR(IF(Q183=\"\",\"\",VLOOKUP(Q183,[1]Hoja1!$D$2:$AF$4999,29,FALSE)),\"NO EXISTE CUENTA\")","v":""},null,null,""]
["",{"$f":"IFERROR(IF(A184=\"\",\"\",VLOOKUP(A184,[1]Hoja1!$B$2:$U$4999,9,FALSE)),0)","v":""},{"$f":"IFERROR(IF(A184=\"\",\"\",VLOOKUP(A184,[1]Hoja1!$B$2:$U$4999,2,FALSE)),\" --- NO EXISTE TRABAJADOR --- \")","v":""},null,null,null,null,null,"","","",{"$f":"IFERROR(IF(A184=\"\",\"\",VLOOKUP(A184,[1]Hoja1!$B$2:$U$4999,18,FALSE)),0)","v":""},{"$f":"IFERROR(IF(A184=\"\",\"\",VLOOKUP(A184,[1]Hoja1!$B$2:$U$4999,19,FALSE)),0)","v":""},"",null,{"$f":"IFERROR(IF(O184=\"\",\"\",VLOOKUP(O184,JORNADA!$A$19:$B$20,2,FALSE)),\"\")","v":""},{"$f":"IFERROR(IF(A184=\"\",\"\",VLOOKUP(A184,[1]Hoja1!$B$2:$U$4999,3,FALSE)),0)","v":""},null,"","",{"$f":"IFERROR(IF(A184=\"\",\"\",VLOOKUP(A184,[1]Hoja1!$B$2:$U$4999,10,FALSE)),0)","v":""},{"$f":"IFERROR(IF(Q184=\"\",\"\",VLOOKUP(Q184,[1]Hoja1!$D$2:$AF$4999,29,FALSE)),\"NO EXISTE CUENTA\")","v":""},null,null,""]
["",{"$f":"IFERROR(IF(A185=\"\",\"\",VLOOKUP(A185,[1]Hoja1!$B$2:$U$4999,9,FALSE)),0)","v":""},{"$f":"IFERROR(IF(A185=\"\",\"\",VLOOKUP(A185,[1]Hoja1!$B$2:$U$4999,2,FALSE)),\" --- NO EXISTE TRABAJADOR --- \")","v":""},null,null,null,null,null,"","","",{"$f":"IFERROR(IF(A185=\"\",\"\",VLOOKUP(A185,[1]Hoja1!$B$2:$U$4999,18,FALSE)),0)","v":""},{"$f":"IFERROR(IF(A185=\"\",\"\",VLOOKUP(A185,[1]Hoja1!$B$2:$U$4999,19,FALSE)),0)","v":""},"",null,{"$f":"IFERROR(IF(O185=\"\",\"\",VLOOKUP(O185,JORNADA!$A$19:$B$20,2,FALSE)),\"\")","v":""},{"$f":"IFERROR(IF(A185=\"\",\"\",VLOOKUP(A185,[1]Hoja1!$B$2:$U$4999,3,FALSE)),0)","v":""},null,"","",{"$f":"IFERROR(IF(A185=\"\",\"\",VLOOKUP(A185,[1]Hoja1!$B$2:$U$4999,10,FALSE)),0)","v":""},{"$f":"IFERROR(IF(Q185=\"\",\"\",VLOOKUP(Q185,[1]Hoja1!$D$2:$AF$4999,29,FALSE)),\"NO EXISTE CUENTA\")","v":""},null,null,""]
["",{"$f":"IFERROR(IF(A186=\"\",\"\",VLOOKUP(A186,[1]Hoja1!$B$2:$U$4999,9,FALSE)),0)","v":""},{"$f":"IFERROR(IF(A186=\"\",\"\",VLOOKUP(A186,[1]Hoja1!$B$2:$U$4999,2,FALSE)),\" --- NO EXISTE TRABAJADOR --- \")","v":""},null,null,null,null,null,"","","",{"$f":"IFERROR(IF(A186=\"\",\"\",VLOOKUP(A186,[1]Hoja1!$B$2:$U$4999,18,FALSE)),0)","v":""},{"$f":"IFERROR(IF(A186=\"\",\"\",VLOOKUP(A186,[1]Hoja1!$B$2:$U$4999,19,FALSE)),0)","v":""},"",null,{"$f":"IFERROR(IF(O186=\"\",\"\",VLOOKUP(O186,JORNADA!$A$19:$B$20,2,FALSE)),\"\")","v":""},{"$f":"IFERROR(IF(A186=\"\",\"\",VLOOKUP(A186,[1]Hoja1!$B$2:$U$4999,3,FALSE)),0)","v":""},null,"","",{"$f":"IFERROR(IF(A186=\"\",\"\",VLOOKUP(A186,[1]Hoja1!$B$2:$U$4999,10,FALSE)),0)","v":""},{"$f":"IFERROR(IF(Q186=\"\",\"\",VLOOKUP(Q186,[1]Hoja1!$D$2:$AF$4999,29,FALSE)),\"NO EXISTE CUENTA\")","v":""},null,null,""]
["",{"$f":"IFERROR(IF(A187=\"\",\"\",VLOOKUP(A187,[1]Hoja1!$B$2:$U$4999,9,FALSE)),0)","v":""},{"$f":"IFERROR(IF(A187=\"\",\"\",VLOOKUP(A187,[1]Hoja1!$B$2:$U$4999,2,FALSE)),\" --- NO EXISTE TRABAJADOR --- \")","v":""},null,null,null,null,null,"","","",{"$f":"IFERROR(IF(A187=\"\",\"\",VLOOKUP(A187,[1]Hoja1!$B$2:$U$4999,18,FALSE)),0)","v":""},{"$f":"IFERROR(IF(A187=\"\",\"\",VLOOKUP(A187,[1]Hoja1!$B$2:$U$4999,19,FALSE)),0)","v":""},"",null,{"$f":"IFERROR(IF(O187=\"\",\"\",VLOOKUP(O187,JORNADA!$A$19:$B$20,2,FALSE)),\"\")","v":""},{"$f":"IFERROR(IF(A187=\"\",\"\",VLOOKUP(A187,[1]Hoja1!$B$2:$U$4999,3,FALSE)),0)","v":""},null,"","",{"$f":"IFERROR(IF(A187=\"\",\"\",VLOOKUP(A187,[1]Hoja1!$B$2:$U$4999,10,FALSE)),0)","v":""},{"$f":"IFERROR(IF(Q187=\"\",\"\",VLOOKUP(Q187,[1]Hoja1!$D$2:$AF$4999,29,FALSE)),\"NO EXISTE CUENTA\")","v":""},null,null,""]
["",{"$f":"IFERROR(IF(A188=\"\",\"\",VLOOKUP(A188,[1]Hoja1!$B$2:$U$4999,9,FALSE)),0)","v":""},{"$f":"IFERROR(IF(A188=\"\",\"\",VLOOKUP(A188,[1]Hoja1!$B$2:$U$4999,2,FALSE)),\" --- NO EXISTE TRABAJADOR --- \")","v":""},null,null,null,null,null,"","","",{"$f":"IFERROR(IF(A188=\"\",\"\",VLOOKUP(A188,[1]Hoja1!$B$2:$U$4999,18,FALSE)),0)","v":""},{"$f":"IFERROR(IF(A188=\"\",\"\",VLOOKUP(A188,[1]Hoja1!$B$2:$U$4999,19,FALSE)),0)","v":""},"",null,{"$f":"IFERROR(IF(O188=\"\",\"\",VLOOKUP(O188,JORNADA!$A$19:$B$20,2,FALSE)),\"\")","v":""},{"$f":"IFERROR(IF(A188=\"\",\"\",VLOOKUP(A188,[1]Hoja1!$B$2:$U$4999,3,FALSE)),0)","v":""},null,"","",{"$f":"IFERROR(IF(A188=\"\",\"\",VLOOKUP(A188,[1]Hoja1!$B$2:$U$4999,10,FALSE)),0)","v":""},{"$f":"IFERROR(IF(Q188=\"\",\"\",VLOOKUP(Q188,[1]Hoja1!$D$2:$AF$4999,29,FALSE)),\"NO EXISTE CUENTA\")","v":""},null,null,""]
["",{"$f":"IFERROR(IF(A189=\"\",\"\",VLOOKUP(A189,[1]Hoja1!$B$2:$U$4999,9,FALSE)),0)","v":""},{"$f":"IFERROR(IF(A189=\"\",\"\",VLOOKUP(A189,[1]Hoja1!$B$2:$U$4999,2,FALSE)),\" --- NO EXISTE TRABAJADOR --- \")","v":""},null,null,null,null,null,"","","",{"$f":"IFERROR(IF(A189=\"\",\"\",VLOOKUP(A189,[1]Hoja1!$B$2:$U$4999,18,FALSE)),0)","v":""},{"$f":"IFERROR(IF(A189=\"\",\"\",VLOOKUP(A189,[1]Hoja1!$B$2:$U$4999,19,FALSE)),0)","v":""},"",null,{"$f":"IFERROR(IF(O189=\"\",\"\",VLOOKUP(O189,JORNADA!$A$19:$B$20,2,FALSE)),\"\")","v":""},{"$f":"IFERROR(IF(A189=\"\",\"\",VLOOKUP(A189,[1]Hoja1!$B$2:$U$4999,3,FALSE)),0)","v":""},null,"","",{"$f":"IFERROR(IF(A189=\"\",\"\",VLOOKUP(A189,[1]Hoja1!$B$2:$U$4999,10,FALSE)),0)","v":""},{"$f":"IFERROR(IF(Q189=\"\",\"\",VLOOKUP(Q189,[1]Hoja1!$D$2:$AF$4999,29,FALSE)),\"NO EXISTE CUENTA\")","v":""},null,null,""]
["",{"$f":"IFERROR(IF(A190=\"\",\"\",VLOOKUP(A190,[1]Hoja1!$B$2:$U$4999,9,FALSE)),0)","v":""},{"$f":"IFERROR(IF(A190=\"\",\"\",VLOOKUP(A190,[1]Hoja1!$B$2:$U$4999,2,FALSE)),\" --- NO EXISTE TRABAJADOR --- \")","v":""},null,null,null,null,null,"","","",{"$f":"IFERROR(IF(A190=\"\",\"\",VLOOKUP(A190,[1]Hoja1!$B$2:$U$4999,18,FALSE)),0)","v":""},{"$f":"IFERROR(IF(A190=\"\",\"\",VLOOKUP(A190,[1]Hoja1!$B$2:$U$4999,19,FALSE)),0)","v":""},"",null,{"$f":"IFERROR(IF(O190=\"\",\"\",VLOOKUP(O190,JORNADA!$A$19:$B$20,2,FALSE)),\"\")","v":""},{"$f":"IFERROR(IF(A190=\"\",\"\",VLOOKUP(A190,[1]Hoja1!$B$2:$U$4999,3,FALSE)),0)","v":""},null,"","",{"$f":"IFERROR(IF(A190=\"\",\"\",VLOOKUP(A190,[1]Hoja1!$B$2:$U$4999,10,FALSE)),0)","v":""},{"$f":"IFERROR(IF(Q190=\"\",\"\",VLOOKUP(Q190,[1]Hoja1!$D$2:$AF$4999,29,FALSE)),\"NO EXISTE CUENTA\")","v":""},null,null,""]
["",{"$f":"IFERROR(IF(A191=\"\",\"\",VLOOKUP(A191,[1]Hoja1!$B$2:$U$4999,9,FALSE)),0)","v":""},{"$f":"IFERROR(IF(A191=\"\",\"\",VLOOKUP(A191,[1]Hoja1!$B$2:$U$4999,2,FALSE)),\" --- NO EXISTE TRABAJADOR --- \")","v":""},null,null,null,null,null,"","","",{"$f":"IFERROR(IF(A191=\"\",\"\",VLOOKUP(A191,[1]Hoja1!$B$2:$U$4999,18,FALSE)),0)","v":""},{"$f":"IFERROR(IF(A191=\"\",\"\",VLOOKUP(A191,[1]Hoja1!$B$2:$U$4999,19,FALSE)),0)","v":""},"",null,{"$f":"IFERROR(IF(O191=\"\",\"\",VLOOKUP(O191,JORNADA!$A$19:$B$20,2,FALSE)),\"\")","v":""},{"$f":"IFERROR(IF(A191=\"\",\"\",VLOOKUP(A191,[1]Hoja1!$B$2:$U$4999,3,FALSE)),0)","v":""},null,"","",{"$f":"IFERROR(IF(A191=\"\",\"\",VLOOKUP(A191,[1]Hoja1!$B$2:$U$4999,10,FALSE)),0)","v":""},{"$f":"IFERROR(IF(Q191=\"\",\"\",VLOOKUP(Q191,[1]Hoja1!$D$2:$AF$4999,29,FALSE)),\"NO EXISTE CUENTA\")","v":""},null,null,""]
["",{"$f":"IFERROR(IF(A192=\"\",\"\",VLOOKUP(A192,[1]Hoja1!$B$2:$U$4999,9,FALSE)),0)","v":""},{"$f":"IFERROR(IF(A192=\"\",\"\",VLOOKUP(A192,[1]Hoja1!$B$2:$U$4999,2,FALSE)),\" --- NO EXISTE TRABAJADOR --- \")","v":""},null,null,null,null,null,"","","",{"$f":"IFERROR(IF(A192=\"\",\"\",VLOOKUP(A192,[1]Hoja1!$B$2:$U$4999,18,FALSE)),0)","v":""},{"$f":"IFERROR(IF(A192=\"\",\"\",VLOOKUP(A192,[1]Hoja1!$B$2:$U$4999,19,FALSE)),0)","v":""},"",null,{"$f":"IFERROR(IF(O192=\"\",\"\",VLOOKUP(O192,JORNADA!$A$19:$B$20,2,FALSE)),\"\")","v":""},{"$f":"IFERROR(IF(A192=\"\",\"\",VLOOKUP(A192,[1]Hoja1!$B$2:$U$4999,3,FALSE)),0)","v":""},null,"","",{"$f":"IFERROR(IF(A192=\"\",\"\",VLOOKUP(A192,[1]Hoja1!$B$2:$U$4999,10,FALSE)),0)","v":""},{"$f":"IFERROR(IF(Q192=\"\",\"\",VLOOKUP(Q192,[1]Hoja1!$D$2:$AF$4999,29,FALSE)),\"NO EXISTE CUENTA\")","v":""},null,null,""]
["",{"$f":"IFERROR(IF(A193=\"\",\"\",VLOOKUP(A193,[1]Hoja1!$B$2:$U$4999,9,FALSE)),0)","v":""},{"$f":"IFERROR(IF(A193=\"\",\"\",VLOOKUP(A193,[1]Hoja1!$B$2:$U$4999,2,FALSE)),\" --- NO EXISTE TRABAJADOR --- \")","v":""},null,null,null,null,null,"","","",{"$f":"IFERROR(IF(A193=\"\",\"\",VLOOKUP(A193,[1]Hoja1!$B$2:$U$4999,18,FALSE)),0)","v":""},{"$f":"IFERROR(IF(A193=\"\",\"\",VLOOKUP(A193,[1]Hoja1!$B$2:$U$4999,19,FALSE)),0)","v":""},"",null,{"$f":"IFERROR(IF(O193=\"\",\"\",VLOOKUP(O193,JORNADA!$A$19:$B$20,2,FALSE)),\"\")","v":""},{"$f":"IFERROR(IF(A193=\"\",\"\",VLOOKUP(A193,[1]Hoja1!$B$2:$U$4999,3,FALSE)),0)","v":""},null,"","",{"$f":"IFERROR(IF(A193=\"\",\"\",VLOOKUP(A193,[1]Hoja1!$B$2:$U$4999,10,FALSE)),0)","v":""},{"$f":"IFERROR(IF(Q193=\"\",\"\",VLOOKUP(Q193,[1]Hoja1!$D$2:$AF$4999,29,FALSE)),\"NO EXISTE CUENTA\")","v":""},null,null,""]
["",{"$f":"IFERROR(IF(A194=\"\",\"\",VLOOKUP(A194,[1]Hoja1!$B$2:$U$4999,9,FALSE)),0)","v":""},{"$f":"IFERROR(IF(A194=\"\",\"\",VLOOKUP(A194,[1]Hoja1!$B$2:$U$4999,2,FALSE)),\" --- NO EXISTE TRABAJADOR --- \")","v":""},null,null,null,null,null,"","","",{"$f":"IFERROR(IF(A194=\"\",\"\",VLOOKUP(A194,[1]Hoja1!$B$2:$U$4999,18,FALSE)),0)","v":""},{"$f":"IFERROR(IF(A194=\"\",\"\",VLOOKUP(A194,[1]Hoja1!$B$2:$U$4999,19,FALSE)),0)","v":""},"",null,{"$f":"IFERROR(IF(O194=\"\",\"\",VLOOKUP(O194,JORNADA!$A$19:$B$20,2,FALSE)),\"\")","v":""},{"$f":"IFERROR(IF(A194=\"\",\"\",VLOOKUP(A194,[1]Hoja1!$B$2:$U$4999,3,FALSE)),0)","v":""},null,"","",{"$f":"IFERROR(IF(A194=\"\",\"\",VLOOKUP(A194,[1]Hoja1!$B$2:$U$4999,10,FALSE)),0)","v":""},{"$f":"IFERROR(IF(Q194=\"\",\"\",VLOOKUP(Q194,[1]Hoja1!$D$2:$AF$4999,29,FALSE)),\"NO EXISTE CUENTA\")","v":""},null,null,""]
[{"$f":"+S195","v":""},{"$f":"IFERROR(IF(A195=\"\",\"\",VLOOKUP(A195,[1]Hoja1!$B$2:$U$4999,9,FALSE)),0)","v":""},{"$f":"IFERROR(IF(A195=\"\",\"\",VLOOKUP(A195,[1]Hoja1!$B$2:$U$4999,2,FALSE)),\" --- NO EXISTE TRABAJADOR --- \")","v":""},null,null,null,null,null,{"$f":"IFERROR(IF(G195=\"\",\"\",VLOOKUP(G195,JORNADA,2,FALSE)),0)","v":""},{"$f":"IFERROR(IF(H195=\"\",\"\",VLOOKUP(H195,ACTIVIDAD,2,FALSE)),0)","v":""},{"$f":"CONCATENATE(J195,G195)","v":""},{"$f":"IFERROR(IF(A195=\"\",\"\",VLOOKUP(A195,[1]Hoja1!$B$2:$U$4999,18,FALSE)),0)","v":""},{"$f":"IFERROR(IF(A195=\"\",\"\",VLOOKUP(A195,[1]Hoja1!$B$2:$U$4999,19,FALSE)),0)","v":""},{"$f":"IFERROR(IF(W195=\"\",\"\",VLOOKUP(W195,LICENCIA,2,FALSE)),\"\")","v":""},null,{"$f":"IFERROR(IF(O195=\"\",\"\",VLOOKUP(O195,JORNADA!$A$19:$B$20,2,FALSE)),\"\")","v":""},{"$f":"IFERROR(IF(A195=\"\",\"\",VLOOKUP(A195,[1]Hoja1!$B$2:$U$4999,3,FALSE)),0)","v":""},null,{"$f":"IFERROR(IF(R195=\"\",\"\",VLOOKUP(R195,DNI,2,FALSE)),0)","v":""},{"$f":"IF(D195<>\"\",COUNTA(INDIRECT(\"D2:D\"&ROW()-1)),\"\")","v":""},{"$f":"IFERROR(IF(A195=\"\",\"\",VLOOKUP(A195,[1]Hoja1!$B$2:$U$4999,10,FALSE)),0)","v":""},{"$f":"IFERROR(IF(Q195=\"\",\"\",VLOOKUP(Q195,[1]Hoja1!$D$2:$AF$4999,29,FALSE)),\"NO EXISTE CUENTA\")","v":""},null,null,{"$f":"+C195","v":""}]
["",{"$f":"IFERROR(IF(A196=\"\",\"\",VLOOKUP(A196,[1]Hoja1!$B$2:$U$4999,9,FALSE)),0)","v":""},{"$f":"IFERROR(IF(A196=\"\",\"\",VLOOKUP(A196,[1]Hoja1!$B$2:$U$4999,2,FALSE)),\" --- NO EXISTE TRABAJADOR --- \")","v":""},null,null,null,null,null,"","","",{"$f":"IFERROR(IF(A196=\"\",\"\",VLOOKUP(A196,[1]Hoja1!$B$2:$U$4999,18,FALSE)),0)","v":""},{"$f":"IFERROR(IF(A196=\"\",\"\",VLOOKUP(A196,[1]Hoja1!$B$2:$U$4999,19,FALSE)),0)","v":""},"",null,{"$f":"IFERROR(IF(O196=\"\",\"\",VLOOKUP(O196,JORNADA!$A$19:$B$20,2,FALSE)),\"\")","v":""},{"$f":"IFERROR(IF(A196=\"\",\"\",VLOOKUP(A196,[1]Hoja1!$B$2:$U$4999,3,FALSE)),0)","v":""},null,"","",{"$f":"IFERROR(IF(A196=\"\",\"\",VLOOKUP(A196,[1]Hoja1!$B$2:$U$4999,10,FALSE)),0)","v":""},{"$f":"IFERROR(IF(Q196=\"\",\"\",VLOOKUP(Q196,[1]Hoja1!$D$2:$AF$4999,29,FALSE)),\"NO EXISTE CUENTA\")","v":""},null,null,""]
["",{"$f":"IFERROR(IF(A197=\"\",\"\",VLOOKUP(A197,[1]Hoja1!$B$2:$U$4999,9,FALSE)),0)","v":""},{"$f":"IFERROR(IF(A197=\"\",\"\",VLOOKUP(A197,[1]Hoja1!$B$2:$U$4999,2,FALSE)),\" --- NO EXISTE TRABAJADOR --- \")","v":""},null,null,null,null,null,"","","",{"$f":"IFERROR(IF(A197=\"\",\"\",VLOOKUP(A197,[1]Hoja1!$B$2:$U$4999,18,FALSE)),0)","v":""},{"$f":"IFERROR(IF(A197=\"\",\"\",VLOOKUP(A197,[1]Hoja1!$B$2:$U$4999,19,FALSE)),0)","v":""},"",null,{"$f":"IFERROR(IF(O197=\"\",\"\",VLOOKUP(O197,JORNADA!$A$19:$B$20,2,FALSE)),\"\")","v":""},{"$f":"IFERROR(IF(A197=\"\",\"\",VLOOKUP(A197,[1]Hoja1!$B$2:$U$4999,3,FALSE)),0)","v":""},null,"","",{"$f":"IFERROR(IF(A197=\"\",\"\",VLOOKUP(A197,[1]Hoja1!$B$2:$U$4999,10,FALSE)),0)","v":""},{"$f":"IFERROR(IF(Q197=\"\",\"\",VLOOKUP(Q197,[1]Hoja1!$D$2:$AF$4999,29,FALSE)),\"NO EXISTE CUENTA\")","v":""},null,null,""]
["",{"$f":"IFERROR(IF(A198=\"\",\"\",VLOOKUP(A198,[1]Hoja1!$B$2:$U$4999,9,FALSE)),0)","v":""},{"$f":"IFERROR(IF(A198=\"\",\"\",VLOOKUP(A198,[1]Hoja1!$B$2:$U$4999,2,FALSE)),\" --- NO EXISTE TRABAJADOR --- \")","v":""},null,null,null,null,null,"","","",{"$f":"IFERROR(IF(A198=\"\",\"\",VLOOKUP(A198,[1]Hoja1!$B$2:$U$4999,18,FALSE)),0)","v":""},{"$f":"IFERROR(IF(A198=\"\",\"\",VLOOKUP(A198,[1]Hoja1!$B$2:$U$4999,19,FALSE)),0)","v":""},"",null,{"$f":"IFERROR(IF(O198=\"\",\"\",VLOOKUP(O198,JORNADA!$A$19:$B$20,2,FALSE)),\"\")","v":""},{"$f":"IFERROR(IF(A198=\"\",\"\",VLOOKUP(A198,[1]Hoja1!$B$2:$U$4999,3,FALSE)),0)","v":""},null,"","",{"$f":"IFERROR(IF(A198=\"\",\"\",VLOOKUP(A198,[1]Hoja1!$B$2:$U$4999,10,FALSE)),0)","v":""},{"$f":"IFERROR(IF(Q198=\"\",\"\",VLOOKUP(Q198,[1]Hoja1!$D$2:$AF$4999,29,FALSE)),\"NO EXISTE CUENTA\")","v":""},null,null,""]
["",{"$f":"IFERROR(IF(A199=\"\",\"\",VLOOKUP(A199,[1]Hoja1!$B$2:$U$4999,9,FALSE)),0)","v":""},{"$f":"IFERROR(IF(A199=\"\",\"\",VLOOKUP(A199,[1]Hoja1!$B$2:$U$4999,2,FALSE)),\" --- NO EXISTE TRABAJADOR --- \")","v":""},null,null,null,null,null,"","","",{"$f":"IFERROR(IF(A199=\"\",\"\",VLOOKUP(A199,[1]Hoja1!$B$2:$U$4999,18,FALSE)),0)","v":""},{"$f":"IFERROR(IF(A199=\"\",\"\",VLOOKUP(A199,[1]Hoja1!$B$2:$U$4999,19,FALSE)),0)","v":""},"",null,{"$f":"IFERROR(IF(O199=\"\",\"\",VLOOKUP(O199,JORNADA!$A$19:$B$20,2,FALSE)),\"\")","v":""},{"$f":"IFERROR(IF(A199=\"\",\"\",VLOOKUP(A199,[1]Hoja1!$B$2:$U$4999,3,FALSE)),0)","v":""},null,"","",{"$f":"IFERROR(IF(A199=\"\",\"\",VLOOKUP(A199,[1]Hoja1!$B$2:$U$4999,10,FALSE)),0)","v":""},{"$f":"IFERROR(IF(Q199=\"\",\"\",VLOOKUP(Q199,[1]Hoja1!$D$2:$AF$4999,29,FALSE)),\"NO EXISTE CUENTA\")","v":""},null,null,""]
["",{"$f":"IFERROR(IF(A200=\"\",\"\",VLOOKUP(A200,[1]Hoja1!$B$2:$U$4999,9,FALSE)),0)","v":""},{"$f":"IFERROR(IF(A200=\"\",\"\",VLOOKUP(A200,[1]Hoja1!$B$2:$U$4999,2,FALSE)),\" --- NO EXISTE TRABAJADOR --- \")","v":""},null,null,null,null,null,"","","",{"$f":"IFERROR(IF(A200=\"\",\"\",VLOOKUP(A200,[1]Hoja1!$B$2:$U$4999,18,FALSE)),0)","v":""},{"$f":"IFERROR(IF(A200=\"\",\"\",VLOOKUP(A200,[1]Hoja1!$B$2:$U$4999,19,FALSE)),0)","v":""},"",null,{"$f":"IFERROR(IF(O200=\"\",\"\",VLOOKUP(O200,JORNADA!$A$19:$B$20,2,FALSE)),\"\")","v":""},{"$f":"IFERROR(IF(A200=\"\",\"\",VLOOKUP(A200,[1]Hoja1!$B$2:$U$4999,3,FALSE)),0)","v":""},null,"","",{"$f":"IFERROR(IF(A200=\"\",\"\",VLOOKUP(A200,[1]Hoja1!$B$2:$U$4999,10,FALSE)),0)","v":""},{"$f":"IFERROR(IF(Q200=\"\",\"\",VLOOKUP(Q200,[1]Hoja1!$D$2:$AF$4999,29,FALSE)),\"NO EXISTE CUENTA\")","v":""},null,null,""]
["",{"$f":"IFERROR(IF(A201=\"\",\"\",VLOOKUP(A201,[1]Hoja1!$B$2:$U$4999,9,FALSE)),0)","v":""},{"$f":"IFERROR(IF(A201=\"\",\"\",VLOOKUP(A201,[1]Hoja1!$B$2:$U$4999,2,FALSE)),\" --- NO EXISTE TRABAJADOR --- \")","v":""},null,null,null,null,null,"","","",{"$f":"IFERROR(IF(A201=\"\",\"\",VLOOKUP(A201,[1]Hoja1!$B$2:$U$4999,18,FALSE)),0)","v":""},{"$f":"IFERROR(IF(A201=\"\",\"\",VLOOKUP(A201,[1]Hoja1!$B$2:$U$4999,19,FALSE)),0)","v":""},"",null,{"$f":"IFERROR(IF(O201=\"\",\"\",VLOOKUP(O201,JORNADA!$A$19:$B$20,2,FALSE)),\"\")","v":""},{"$f":"IFERROR(IF(A201=\"\",\"\",VLOOKUP(A201,[1]Hoja1!$B$2:$U$4999,3,FALSE)),0)","v":""},null,"","",{"$f":"IFERROR(IF(A201=\"\",\"\",VLOOKUP(A201,[1]Hoja1!$B$2:$U$4999,10,FALSE)),0)","v":""},{"$f":"IFERROR(IF(Q201=\"\",\"\",VLOOKUP(Q201,[1]Hoja1!$D$2:$AF$4999,29,FALSE)),\"NO EXISTE CUENTA\")","v":""},null,null,""]
["",{"$f":"IFERROR(IF(A202=\"\",\"\",VLOOKUP(A202,[1]Hoja1!$B$2:$U$4999,9,FALSE)),0)","v":""},{"$f":"IFERROR(IF(A202=\"\",\"\",VLOOKUP(A202,[1]Hoja1!$B$2:$U$4999,2,FALSE)),\" --- NO EXISTE TRABAJADOR --- \")","v":""},null,null,null,null,null,"","","",{"$f":"IFERROR(IF(A202=\"\",\"\",VLOOKUP(A202,[1]Hoja1!$B$2:$U$4999,18,FALSE)),0)","v":""},{"$f":"IFERROR(IF(A202=\"\",\"\",VLOOKUP(A202,[1]Hoja1!$B$2:$U$4999,19,FALSE)),0)","v":""},"",null,{"$f":"IFERROR(IF(O202=\"\",\"\",VLOOKUP(O202,JORNADA!$A$19:$B$20,2,FALSE)),\"\")","v":""},{"$f":"IFERROR(IF(A202=\"\",\"\",VLOOKUP(A202,[1]Hoja1!$B$2:$U$4999,3,FALSE)),0)","v":""},null,"","",{"$f":"IFERROR(IF(A202=\"\",\"\",VLOOKUP(A202,[1]Hoja1!$B$2:$U$4999,10,FALSE)),0)","v":""},{"$f":"IFERROR(IF(Q202=\"\",\"\",VLOOKUP(Q202,[1]Hoja1!$D$2:$AF$4999,29,FALSE)),\"NO EXISTE CUENTA\")","v":""},null,null,""]
["",{"$f":"IFERROR(IF(A203=\"\",\"\",VLOOKUP(A203,[1]Hoja1!$B$2:$U$4999,9,FALSE)),0)","v":""},{"$f":"IFERROR(IF(A203=\"\",\"\",VLOOKUP(A203,[1]Hoja1!$B$2:$U$4999,2,FALSE)),\" --- NO EXISTE TRABAJADOR --- \")","v":""},null,null,null,null,null,"","","",{"$f":"IFERROR(IF(A203=\"\",\"\",VLOOKUP(A203,[1]Hoja1!$B$2:$U$4999,18,FALSE)),0)","v":""},{"$f":"IFERROR(IF(A203=\"\",\"\",VLOOKUP(A203,[1]Hoja1!$B$2:$U$4999,19,FALSE)),0)","v":""},"",null,{"$f":"IFERROR(IF(O203=\"\",\"\",VLOOKUP(O203,JORNADA!$A$19:$B$20,2,FALSE)),\"\")","v":""},{"$f":"IFERROR(IF(A203=\"\",\"\",VLOOKUP(A203,[1]Hoja1!$B$2:$U$4999,3,FALSE)),0)","v":""},null,"","",{"$f":"IFERROR(IF(A203=\"\",\"\",VLOOKUP(A203,[1]Hoja1!$B$2:$U$4999,10,FALSE)),0)","v":""},{"$f":"IFERROR(IF(Q203=\"\",\"\",VLOOKUP(Q203,[1]Hoja1!$D$2:$AF$4999,29,FALSE)),\"NO EXISTE CUENTA\")","v":""},null,null,""]
["",{"$f":"IFERROR(IF(A204=\"\",\"\",VLOOKUP(A204,[1]Hoja1!$B$2:$U$4999,9,FALSE)),0)","v":""},{"$f":"IFERROR(IF(A204=\"\",\"\",VLOOKUP(A204,[1]Hoja1!$B$2:$U$4999,2,FALSE)),\" --- NO EXISTE TRABAJADOR --- \")","v":""},null,null,null,null,null,"","","",{"$f":"IFERROR(IF(A204=\"\",\"\",VLOOKUP(A204,[1]Hoja1!$B$2:$U$4999,18,FALSE)),0)","v":""},{"$f":"IFERROR(IF(A204=\"\",\"\",VLOOKUP(A204,[1]Hoja1!$B$2:$U$4999,19,FALSE)),0)","v":""},"",null,{"$f":"IFERROR(IF(O204=\"\",\"\",VLOOKUP(O204,JORNADA!$A$19:$B$20,2,FALSE)),\"\")","v":""},{"$f":"IFERROR(IF(A204=\"\",\"\",VLOOKUP(A204,[1]Hoja1!$B$2:$U$4999,3,FALSE)),0)","v":""},null,"","",{"$f":"IFERROR(IF(A204=\"\",\"\",VLOOKUP(A204,[1]Hoja1!$B$2:$U$4999,10,FALSE)),0)","v":""},{"$f":"IFERROR(IF(Q204=\"\",\"\",VLOOKUP(Q204,[1]Hoja1!$D$2:$AF$4999,29,FALSE)),\"NO EXISTE CUENTA\")","v":""},null,null,""]
["",{"$f":"IFERROR(IF(A205=\"\",\"\",VLOOKUP(A205,[1]Hoja1!$B$2:$U$4999,9,FALSE)),0)","v":""},{"$f":"IFERROR(IF(A205=\"\",\"\",VLOOKUP(A205,[1]Hoja1!$B$2:$U$4999,2,FALSE)),\" --- NO EXISTE TRABAJADOR --- \")","v":""},null,null,null,null,null,"","","",{"$f":"IFERROR(IF(A205=\"\",\"\",VLOOKUP(A205,[1]Hoja1!$B$2:$U$4999,18,FALSE)),0)","v":""},{"$f":"IFERROR(IF(A205=\"\",\"\",VLOOKUP(A205,[1]Hoja1!$B$2:$U$4999,19,FALSE)),0)","v":""},"",null,{"$f":"IFERROR(IF(O205=\"\",\"\",VLOOKUP(O205,JORNADA!$A$19:$B$20,2,FALSE)),\"\")","v":""},{"$f":"IFERROR(IF(A205=\"\",\"\",VLOOKUP(A205,[1]Hoja1!$B$2:$U$4999,3,FALSE)),0)","v":""},null,"","",{"$f":"IFERROR(IF(A205=\"\",\"\",VLOOKUP(A205,[1]Hoja1!$B$2:$U$4999,10,FALSE)),0)","v":""},{"$f":"IFERROR(IF(Q205=\"\",\"\",VLOOKUP(Q205,[1]Hoja1!$D$2:$AF$4999,29,FALSE)),\"NO EXISTE CUENTA\")","v":""},null,null,""]
["",{"$f":"IFERROR(IF(A206=\"\",\"\",VLOOKUP(A206,[1]Hoja1!$B$2:$U$4999,9,FALSE)),0)","v":""},{"$f":"IFERROR(IF(A206=\"\",\"\",VLOOKUP(A206,[1]Hoja1!$B$2:$U$4999,2,FALSE)),\" --- NO EXISTE TRABAJADOR --- \")","v":""},null,null,null,null,null,"","","",{"$f":"IFERROR(IF(A206=\"\",\"\",VLOOKUP(A206,[1]Hoja1!$B$2:$U$4999,18,FALSE)),0)","v":""},{"$f":"IFERROR(IF(A206=\"\",\"\",VLOOKUP(A206,[1]Hoja1!$B$2:$U$4999,19,FALSE)),0)","v":""},"",null,{"$f":"IFERROR(IF(O206=\"\",\"\",VLOOKUP(O206,JORNADA!$A$19:$B$20,2,FALSE)),\"\")","v":""},{"$f":"IFERROR(IF(A206=\"\",\"\",VLOOKUP(A206,[1]Hoja1!$B$2:$U$4999,3,FALSE)),0)","v":""},null,"","",{"$f":"IFERROR(IF(A206=\"\",\"\",VLOOKUP(A206,[1]Hoja1!$B$2:$U$4999,10,FALSE)),0)","v":""},{"$f":"IFERROR(IF(Q206=\"\",\"\",VLOOKUP(Q206,[1]Hoja1!$D$2:$AF$4999,29,FALSE)),\"NO EXISTE CUENTA\")","v":""},null,null,""]
["",{"$f":"IFERROR(IF(A207=\"\",\"\",VLOOKUP(A207,[1]Hoja1!$B$2:$U$4999,9,FALSE)),0)","v":""},{"$f":"IFERROR(IF(A207=\"\",\"\",VLOOKUP(A207,[1]Hoja1!$B$2:$U$4999,2,FALSE)),\" --- NO EXISTE TRABAJADOR --- \")","v":""},null,null,null,null,null,"","","",{"$f":"IFERROR(IF(A207=\"\",\"\",VLOOKUP(A207,[1]Hoja1!$B$2:$U$4999,18,FALSE)),0)","v":""},{"$f":"IFERROR(IF(A207=\"\",\"\",VLOOKUP(A207,[1]Hoja1!$B$2:$U$4999,19,FALSE)),0)","v":""},"",null,{"$f":"IFERROR(IF(O207=\"\",\"\",VLOOKUP(O207,JORNADA!$A$19:$B$20,2,FALSE)),\"\")","v":""},{"$f":"IFERROR(IF(A207=\"\",\"\",VLOOKUP(A207,[1]Hoja1!$B$2:$U$4999,3,FALSE)),0)","v":""},null,"","",{"$f":"IFERROR(IF(A207=\"\",\"\",VLOOKUP(A207,[1]Hoja1!$B$2:$U$4999,10,FALSE)),0)","v":""},{"$f":"IFERROR(IF(Q207=\"\",\"\",VLOOKUP(Q207,[1]Hoja1!$D$2:$AF$4999,29,FALSE)),\"NO EXISTE CUENTA\")","v":""},null,null,""]
["",{"$f":"IFERROR(IF(A208=\"\",\"\",VLOOKUP(A208,[1]Hoja1!$B$2:$U$4999,9,FALSE)),0)","v":""},{"$f":"IFERROR(IF(A208=\"\",\"\",VLOOKUP(A208,[1]Hoja1!$B$2:$U$4999,2,FALSE)),\" --- NO EXISTE TRABAJADOR --- \")","v":""},null,null,null,null,null,"","","",{"$f":"IFERROR(IF(A208=\"\",\"\",VLOOKUP(A208,[1]Hoja1!$B$2:$U$4999,18,FALSE)),0)","v":""},{"$f":"IFERROR(IF(A208=\"\",\"\",VLOOKUP(A208,[1]Hoja1!$B$2:$U$4999,19,FALSE)),0)","v":""},"",null,{"$f":"IFERROR(IF(O208=\"\",\"\",VLOOKUP(O208,JORNADA!$A$19:$B$20,2,FALSE)),\"\")","v":""},{"$f":"IFERROR(IF(A208=\"\",\"\",VLOOKUP(A208,[1]Hoja1!$B$2:$U$4999,3,FALSE)),0)","v":""},null,"","",{"$f":"IFERROR(IF(A208=\"\",\"\",VLOOKUP(A208,[1]Hoja1!$B$2:$U$4999,10,FALSE)),0)","v":""},{"$f":"IFERROR(IF(Q208=\"\",\"\",VLOOKUP(Q208,[1]Hoja1!$D$2:$AF$4999,29,FALSE)),\"NO EXISTE CUENTA\")","v":""},null,null,""]
["",{"$f":"IFERROR(IF(A209=\"\",\"\",VLOOKUP(A209,[1]Hoja1!$B$2:$U$4999,9,FALSE)),0)","v":""},{"$f":"IFERROR(IF(A209=\"\",\"\",VLOOKUP(A209,[1]Hoja1!$B$2:$U$4999,2,FALSE)),\" --- NO EXISTE TRABAJADOR --- \")","v":""},null,null,null,null,null,"","","",{"$f":"IFERROR(IF(A209=\"\",\"\",VLOOKUP(A209,[1]Hoja1!$B$2:$U$4999,18,FALSE)),0)","v":""},{"$f":"IFERROR(IF(A209=\"\",\"\",VLOOKUP(A209,[1]Hoja1!$B$2:$U$4999,19,FALSE)),0)","v":""},"",null,{"$f":"IFERROR(IF(O209=\"\",\"\",VLOOKUP(O209,JORNADA!$A$19:$B$20,2,FALSE)),\"\")","v":""},{"$f":"IFERROR(IF(A209=\"\",\"\",VLOOKUP(A209,[1]Hoja1!$B$2:$U$4999,3,FALSE)),0)","v":""},null,"","",{"$f":"IFERROR(IF(A209=\"\",\"\",VLOOKUP(A209,[1]Hoja1!$B$2:$U$4999,10,FALSE)),0)","v":""},{"$f":"IFERROR(IF(Q209=\"\",\"\",VLOOKUP(Q209,[1]Hoja1!$D$2:$AF$4999,29,FALSE)),\"NO EXISTE CUENTA\")","v":""},null,null,""]
["",{"$f":"IFERROR(IF(A210=\"\",\"\",VLOOKUP(A210,[1]Hoja1!$B$2:$U$4999,9,FALSE)),0)","v":""},{"$f":"IFERROR(IF(A210=\"\",\"\",VLOOKUP(A210,[1]Hoja1!$B$2:$U$4999,2,FALSE)),\" --- NO EXISTE TRABAJADOR --- \")","v":""},null,null,null,null,null,"","","",{"$f":"IFERROR(IF(A210=\"\",\"\",VLOOKUP(A210,[1]Hoja1!$B$2:$U$4999,18,FALSE)),0)","v":""},{"$f":"IFERROR(IF(A210=\"\",\"\",VLOOKUP(A210,[1]Hoja1!$B$2:$U$4999,19,FALSE)),0)","v":""},"",null,{"$f":"IFERROR(IF(O210=\"\",\"\",VLOOKUP(O210,JORNADA!$A$19:$B$20,2,FALSE)),\"\")","v":""},{"$f":"IFERROR(IF(A210=\"\",\"\",VLOOKUP(A210,[1]Hoja1!$B$2:$U$4999,3,FALSE)),0)","v":""},null,"","",{"$f":"IFERROR(IF(A210=\"\",\"\",VLOOKUP(A210,[1]Hoja1!$B$2:$U$4999,10,FALSE)),0)","v":""},{"$f":"IFERROR(IF(Q210=\"\",\"\",VLOOKUP(Q210,[1]Hoja1!$D$2:$AF$4999,29,FALSE)),\"NO EXISTE CUENTA\")","v":""},null,null,""]
["",{"$f":"IFERROR(IF(A211=\"\",\"\",VLOOKUP(A211,[1]Hoja1!$B$2:$U$4999,9,FALSE)),0)","v":""},{"$f":"IFERROR(IF(A211=\"\",\"\",VLOOKUP(A211,[1]Hoja1!$B$2:$U$4999,2,FALSE)),\" --- NO EXISTE TRABAJADOR --- \")","v":""},null,null,null,null,null,"","","",{"$f":"IFERROR(IF(A211=\"\",\"\",VLOOKUP(A211,[1]Hoja1!$B$2:$U$4999,18,FALSE)),0)","v":""},{"$f":"IFERROR(IF(A211=\"\",\"\",VLOOKUP(A211,[1]Hoja1!$B$2:$U$4999,19,FALSE)),0)","v":""},"",null,{"$f":"IFERROR(IF(O211=\"\",\"\",VLOOKUP(O211,JORNADA!$A$19:$B$20,2,FALSE)),\"\")","v":""},{"$f":"IFERROR(IF(A211=\"\",\"\",VLOOKUP(A211,[1]Hoja1!$B$2:$U$4999,3,FALSE)),0)","v":""},null,"","",{"$f":"IFERROR(IF(A211=\"\",\"\",VLOOKUP(A211,[1]Hoja1!$B$2:$U$4999,10,FALSE)),0)","v":""},{"$f":"IFERROR(IF(Q211=\"\",\"\",VLOOKUP(Q211,[1]Hoja1!$D$2:$AF$4999,29,FALSE)),\"NO EXISTE CUENTA\")","v":""},null,null,""]
["",{"$f":"IFERROR(IF(A212=\"\",\"\",VLOOKUP(A212,[1]Hoja1!$B$2:$U$4999,9,FALSE)),0)","v":""},{"$f":"IFERROR(IF(A212=\"\",\"\",VLOOKUP(A212,[1]Hoja1!$B$2:$U$4999,2,FALSE)),\" --- NO EXISTE TRABAJADOR --- \")","v":""},null,null,null,null,null,"","","",{"$f":"IFERROR(IF(A212=\"\",\"\",VLOOKUP(A212,[1]Hoja1!$B$2:$U$4999,18,FALSE)),0)","v":""},{"$f":"IFERROR(IF(A212=\"\",\"\",VLOOKUP(A212,[1]Hoja1!$B$2:$U$4999,19,FALSE)),0)","v":""},"",null,{"$f":"IFERROR(IF(O212=\"\",\"\",VLOOKUP(O212,JORNADA!$A$19:$B$20,2,FALSE)),\"\")","v":""},{"$f":"IFERROR(IF(A212=\"\",\"\",VLOOKUP(A212,[1]Hoja1!$B$2:$U$4999,3,FALSE)),0)","v":""},null,"","",{"$f":"IFERROR(IF(A212=\"\",\"\",VLOOKUP(A212,[1]Hoja1!$B$2:$U$4999,10,FALSE)),0)","v":""},{"$f":"IFERROR(IF(Q212=\"\",\"\",VLOOKUP(Q212,[1]Hoja1!$D$2:$AF$4999,29,FALSE)),\"NO EXISTE CUENTA\")","v":""},null,null,""]
["",{"$f":"IFERROR(IF(A213=\"\",\"\",VLOOKUP(A213,[1]Hoja1!$B$2:$U$4999,9,FALSE)),0)","v":""},{"$f":"IFERROR(IF(A213=\"\",\"\",VLOOKUP(A213,[1]Hoja1!$B$2:$U$4999,2,FALSE)),\" --- NO EXISTE TRABAJADOR --- \")","v":""},null,null,null,null,null,"","","",{"$f":"IFERROR(IF(A213=\"\",\"\",VLOOKUP(A213,[1]Hoja1!$B$2:$U$4999,18,FALSE)),0)","v":""},{"$f":"IFERROR(IF(A213=\"\",\"\",VLOOKUP(A213,[1]Hoja1!$B$2:$U$4999,19,FALSE)),0)","v":""},"",null,{"$f":"IFERROR(IF(O213=\"\",\"\",VLOOKUP(O213,JORNADA!$A$19:$B$20,2,FALSE)),\"\")","v":""},{"$f":"IFERROR(IF(A213=\"\",\"\",VLOOKUP(A213,[1]Hoja1!$B$2:$U$4999,3,FALSE)),0)","v":""},null,"","",{"$f":"IFERROR(IF(A213=\"\",\"\",VLOOKUP(A213,[1]Hoja1!$B$2:$U$4999,10,FALSE)),0)","v":""},{"$f":"IFERROR(IF(Q213=\"\",\"\",VLOOKUP(Q213,[1]Hoja1!$D$2:$AF$4999,29,FALSE)),\"NO EXISTE CUENTA\")","v":""},null,null,""]
["",{"$f":"IFERROR(IF(A214=\"\",\"\",VLOOKUP(A214,[1]Hoja1!$B$2:$U$4999,9,FALSE)),0)","v":""},{"$f":"IFERROR(IF(A214=\"\",\"\",VLOOKUP(A214,[1]Hoja1!$B$2:$U$4999,2,FALSE)),\" --- NO EXISTE TRABAJADOR --- \")","v":""},null,null,null,null,null,"","","",{"$f":"IFERROR(IF(A214=\"\",\"\",VLOOKUP(A214,[1]Hoja1!$B$2:$U$4999,18,FALSE)),0)","v":""},{"$f":"IFERROR(IF(A214=\"\",\"\",VLOOKUP(A214,[1]Hoja1!$B$2:$U$4999,19,FALSE)),0)","v":""},"",null,{"$f":"IFERROR(IF(O214=\"\",\"\",VLOOKUP(O214,JORNADA!$A$19:$B$20,2,FALSE)),\"\")","v":""},{"$f":"IFERROR(IF(A214=\"\",\"\",VLOOKUP(A214,[1]Hoja1!$B$2:$U$4999,3,FALSE)),0)","v":""},null,"","",{"$f":"IFERROR(IF(A214=\"\",\"\",VLOOKUP(A214,[1]Hoja1!$B$2:$U$4999,10,FALSE)),0)","v":""},{"$f":"IFERROR(IF(Q214=\"\",\"\",VLOOKUP(Q214,[1]Hoja1!$D$2:$AF$4999,29,FALSE)),\"NO EXISTE CUENTA\")","v":""},null,null,""]
["",{"$f":"IFERROR(IF(A215=\"\",\"\",VLOOKUP(A215,[1]Hoja1!$B$2:$U$4999,9,FALSE)),0)","v":""},{"$f":"IFERROR(IF(A215=\"\",\"\",VLOOKUP(A215,[1]Hoja1!$B$2:$U$4999,2,FALSE)),\" --- NO EXISTE TRABAJADOR --- \")","v":""},null,null,null,null,null,"","","",{"$f":"IFERROR(IF(A215=\"\",\"\",VLOOKUP(A215,[1]Hoja1!$B$2:$U$4999,18,FALSE)),0)","v":""},{"$f":"IFERROR(IF(A215=\"\",\"\",VLOOKUP(A215,[1]Hoja1!$B$2:$U$4999,19,FALSE)),0)","v":""},"",null,{"$f":"IFERROR(IF(O215=\"\",\"\",VLOOKUP(O215,JORNADA!$A$19:$B$20,2,FALSE)),\"\")","v":""},{"$f":"IFERROR(IF(A215=\"\",\"\",VLOOKUP(A215,[1]Hoja1!$B$2:$U$4999,3,FALSE)),0)","v":""},null,"","",{"$f":"IFERROR(IF(A215=\"\",\"\",VLOOKUP(A215,[1]Hoja1!$B$2:$U$4999,10,FALSE)),0)","v":""},{"$f":"IFERROR(IF(Q215=\"\",\"\",VLOOKUP(Q215,[1]Hoja1!$D$2:$AF$4999,29,FALSE)),\"NO EXISTE CUENTA\")","v":""},null,null,""]
["",{"$f":"IFERROR(IF(A216=\"\",\"\",VLOOKUP(A216,[1]Hoja1!$B$2:$U$4999,9,FALSE)),0)","v":""},{"$f":"IFERROR(IF(A216=\"\",\"\",VLOOKUP(A216,[1]Hoja1!$B$2:$U$4999,2,FALSE)),\" --- NO EXISTE TRABAJADOR --- \")","v":""},null,null,null,null,null,"","","",{"$f":"IFERROR(IF(A216=\"\",\"\",VLOOKUP(A216,[1]Hoja1!$B$2:$U$4999,18,FALSE)),0)","v":""},{"$f":"IFERROR(IF(A216=\"\",\"\",VLOOKUP(A216,[1]Hoja1!$B$2:$U$4999,19,FALSE)),0)","v":""},"",null,{"$f":"IFERROR(IF(O216=\"\",\"\",VLOOKUP(O216,JORNADA!$A$19:$B$20,2,FALSE)),\"\")","v":""},{"$f":"IFERROR(IF(A216=\"\",\"\",VLOOKUP(A216,[1]Hoja1!$B$2:$U$4999,3,FALSE)),0)","v":""},null,"","",{"$f":"IFERROR(IF(A216=\"\",\"\",VLOOKUP(A216,[1]Hoja1!$B$2:$U$4999,10,FALSE)),0)","v":""},{"$f":"IFERROR(IF(Q216=\"\",\"\",VLOOKUP(Q216,[1]Hoja1!$D$2:$AF$4999,29,FALSE)),\"NO EXISTE CUENTA\")","v":""},null,null,""]
["",{"$f":"IFERROR(IF(A217=\"\",\"\",VLOOKUP(A217,[1]Hoja1!$B$2:$U$4999,9,FALSE)),0)","v":""},{"$f":"IFERROR(IF(A217=\"\",\"\",VLOOKUP(A217,[1]Hoja1!$B$2:$U$4999,2,FALSE)),\" --- NO EXISTE TRABAJADOR --- \")","v":""},null,null,null,null,null,"","","",{"$f":"IFERROR(IF(A217=\"\",\"\",VLOOKUP(A217,[1]Hoja1!$B$2:$U$4999,18,FALSE)),0)","v":""},{"$f":"IFERROR(IF(A217=\"\",\"\",VLOOKUP(A217,[1]Hoja1!$B$2:$U$4999,19,FALSE)),0)","v":""},"",null,{"$f":"IFERROR(IF(O217=\"\",\"\",VLOOKUP(O217,JORNADA!$A$19:$B$20,2,FALSE)),\"\")","v":""},{"$f":"IFERROR(IF(A217=\"\",\"\",VLOOKUP(A217,[1]Hoja1!$B$2:$U$4999,3,FALSE)),0)","v":""},null,"","",{"$f":"IFERROR(IF(A217=\"\",\"\",VLOOKUP(A217,[1]Hoja1!$B$2:$U$4999,10,FALSE)),0)","v":""},{"$f":"IFERROR(IF(Q217=\"\",\"\",VLOOKUP(Q217,[1]Hoja1!$D$2:$AF$4999,29,FALSE)),\"NO EXISTE CUENTA\")","v":""},null,null,""]
["",{"$f":"IFERROR(IF(A218=\"\",\"\",VLOOKUP(A218,[1]Hoja1!$B$2:$U$4999,9,FALSE)),0)","v":""},{"$f":"IFERROR(IF(A218=\"\",\"\",VLOOKUP(A218,[1]Hoja1!$B$2:$U$4999,2,FALSE)),\" --- NO EXISTE TRABAJADOR --- \")","v":""},null,null,null,null,null,"","","",{"$f":"IFERROR(IF(A218=\"\",\"\",VLOOKUP(A218,[1]Hoja1!$B$2:$U$4999,18,FALSE)),0)","v":""},{"$f":"IFERROR(IF(A218=\"\",\"\",VLOOKUP(A218,[1]Hoja1!$B$2:$U$4999,19,FALSE)),0)","v":""},"",null,{"$f":"IFERROR(IF(O218=\"\",\"\",VLOOKUP(O218,JORNADA!$A$19:$B$20,2,FALSE)),\"\")","v":""},{"$f":"IFERROR(IF(A218=\"\",\"\",VLOOKUP(A218,[1]Hoja1!$B$2:$U$4999,3,FALSE)),0)","v":""},null,"","",{"$f":"IFERROR(IF(A218=\"\",\"\",VLOOKUP(A218,[1]Hoja1!$B$2:$U$4999,10,FALSE)),0)","v":""},{"$f":"IFERROR(IF(Q218=\"\",\"\",VLOOKUP(Q218,[1]Hoja1!$D$2:$AF$4999,29,FALSE)),\"NO EXISTE CUENTA\")","v":""},null,null,""]
["",{"$f":"IFERROR(IF(A219=\"\",\"\",VLOOKUP(A219,[1]Hoja1!$B$2:$U$4999,9,FALSE)),0)","v":""},{"$f":"IFERROR(IF(A219=\"\",\"\",VLOOKUP(A219,[1]Hoja1!$B$2:$U$4999,2,FALSE)),\" --- NO EXISTE TRABAJADOR --- \")","v":""},null,null,null,null,null,"","","",{"$f":"IFERROR(IF(A219=\"\",\"\",VLOOKUP(A219,[1]Hoja1!$B$2:$U$4999,18,FALSE)),0)","v":""},{"$f":"IFERROR(IF(A219=\"\",\"\",VLOOKUP(A219,[1]Hoja1!$B$2:$U$4999,19,FALSE)),0)","v":""},"",null,{"$f":"IFERROR(IF(O219=\"\",\"\",VLOOKUP(O219,JORNADA!$A$19:$B$20,2,FALSE)),\"\")","v":""},{"$f":"IFERROR(IF(A219=\"\",\"\",VLOOKUP(A219,[1]Hoja1!$B$2:$U$4999,3,FALSE)),0)","v":""},null,"","",{"$f":"IFERROR(IF(A219=\"\",\"\",VLOOKUP(A219,[1]Hoja1!$B$2:$U$4999,10,FALSE)),0)","v":""},{"$f":"IFERROR(IF(Q219=\"\",\"\",VLOOKUP(Q219,[1]Hoja1!$D$2:$AF$4999,29,FALSE)),\"NO EXISTE CUENTA\")","v":""},null,null,""]
["",{"$f":"IFERROR(IF(A220=\"\",\"\",VLOOKUP(A220,[1]Hoja1!$B$2:$U$4999,9,FALSE)),0)","v":""},{"$f":"IFERROR(IF(A220=\"\",\"\",VLOOKUP(A220,[1]Hoja1!$B$2:$U$4999,2,FALSE)),\" --- NO EXISTE TRABAJADOR --- \")","v":""},null,null,null,null,null,"","","",{"$f":"IFERROR(IF(A220=\"\",\"\",VLOOKUP(A220,[1]Hoja1!$B$2:$U$4999,18,FALSE)),0)","v":""},{"$f":"IFERROR(IF(A220=\"\",\"\",VLOOKUP(A220,[1]Hoja1!$B$2:$U$4999,19,FALSE)),0)","v":""},"",null,{"$f":"IFERROR(IF(O220=\"\",\"\",VLOOKUP(O220,JORNADA!$A$19:$B$20,2,FALSE)),\"\")","v":""},{"$f":"IFERROR(IF(A220=\"\",\"\",VLOOKUP(A220,[1]Hoja1!$B$2:$U$4999,3,FALSE)),0)","v":""},null,"","",{"$f":"IFERROR(IF(A220=\"\",\"\",VLOOKUP(A220,[1]Hoja1!$B$2:$U$4999,10,FALSE)),0)","v":""},{"$f":"IFERROR(IF(Q220=\"\",\"\",VLOOKUP(Q220,[1]Hoja1!$D$2:$AF$4999,29,FALSE)),\"NO EXISTE CUENTA\")","v":""},null,null,""]
["",{"$f":"IFERROR(IF(A221=\"\",\"\",VLOOKUP(A221,[1]Hoja1!$B$2:$U$4999,9,FALSE)),0)","v":""},{"$f":"IFERROR(IF(A221=\"\",\"\",VLOOKUP(A221,[1]Hoja1!$B$2:$U$4999,2,FALSE)),\" --- NO EXISTE TRABAJADOR --- \")","v":""},null,null,null,null,null,"","","",{"$f":"IFERROR(IF(A221=\"\",\"\",VLOOKUP(A221,[1]Hoja1!$B$2:$U$4999,18,FALSE)),0)","v":""},{"$f":"IFERROR(IF(A221=\"\",\"\",VLOOKUP(A221,[1]Hoja1!$B$2:$U$4999,19,FALSE)),0)","v":""},"",null,{"$f":"IFERROR(IF(O221=\"\",\"\",VLOOKUP(O221,JORNADA!$A$19:$B$20,2,FALSE)),\"\")","v":""},{"$f":"IFERROR(IF(A221=\"\",\"\",VLOOKUP(A221,[1]Hoja1!$B$2:$U$4999,3,FALSE)),0)","v":""},null,"","",{"$f":"IFERROR(IF(A221=\"\",\"\",VLOOKUP(A221,[1]Hoja1!$B$2:$U$4999,10,FALSE)),0)","v":""},{"$f":"IFERROR(IF(Q221=\"\",\"\",VLOOKUP(Q221,[1]Hoja1!$D$2:$AF$4999,29,FALSE)),\"NO EXISTE CUENTA\")","v":""},null,null,""]
["",{"$f":"IFERROR(IF(A222=\"\",\"\",VLOOKUP(A222,[1]Hoja1!$B$2:$U$4999,9,FALSE)),0)","v":""},{"$f":"IFERROR(IF(A222=\"\",\"\",VLOOKUP(A222,[1]Hoja1!$B$2:$U$4999,2,FALSE)),\" --- NO EXISTE TRABAJADOR --- \")","v":""},null,null,null,null,null,"","","",{"$f":"IFERROR(IF(A222=\"\",\"\",VLOOKUP(A222,[1]Hoja1!$B$2:$U$4999,18,FALSE)),0)","v":""},{"$f":"IFERROR(IF(A222=\"\",\"\",VLOOKUP(A222,[1]Hoja1!$B$2:$U$4999,19,FALSE)),0)","v":""},"",null,{"$f":"IFERROR(IF(O222=\"\",\"\",VLOOKUP(O222,JORNADA!$A$19:$B$20,2,FALSE)),\"\")","v":""},{"$f":"IFERROR(IF(A222=\"\",\"\",VLOOKUP(A222,[1]Hoja1!$B$2:$U$4999,3,FALSE)),0)","v":""},null,"","",{"$f":"IFERROR(IF(A222=\"\",\"\",VLOOKUP(A222,[1]Hoja1!$B$2:$U$4999,10,FALSE)),0)","v":""},{"$f":"IFERROR(IF(Q222=\"\",\"\",VLOOKUP(Q222,[1]Hoja1!$D$2:$AF$4999,29,FALSE)),\"NO EXISTE CUENTA\")","v":""},null,null,""]
["",{"$f":"IFERROR(IF(A223=\"\",\"\",VLOOKUP(A223,[1]Hoja1!$B$2:$U$4999,9,FALSE)),0)","v":""},{"$f":"IFERROR(IF(A223=\"\",\"\",VLOOKUP(A223,[1]Hoja1!$B$2:$U$4999,2,FALSE)),\" --- NO EXISTE TRABAJADOR --- \")","v":""},null,null,null,null,null,"","","",{"$f":"IFERROR(IF(A223=\"\",\"\",VLOOKUP(A223,[1]Hoja1!$B$2:$U$4999,18,FALSE)),0)","v":""},{"$f":"IFERROR(IF(A223=\"\",\"\",VLOOKUP(A223,[1]Hoja1!$B$2:$U$4999,19,FALSE)),0)","v":""},"",null,{"$f":"IFERROR(IF(O223=\"\",\"\",VLOOKUP(O223,JORNADA!$A$19:$B$20,2,FALSE)),\"\")","v":""},{"$f":"IFERROR(IF(A223=\"\",\"\",VLOOKUP(A223,[1]Hoja1!$B$2:$U$4999,3,FALSE)),0)","v":""},null,"","",{"$f":"IFERROR(IF(A223=\"\",\"\",VLOOKUP(A223,[1]Hoja1!$B$2:$U$4999,10,FALSE)),0)","v":""},{"$f":"IFERROR(IF(Q223=\"\",\"\",VLOOKUP(Q223,[1]Hoja1!$D$2:$AF$4999,29,FALSE)),\"NO EXISTE CUENTA\")","v":""},null,null,""]
["",{"$f":"IFERROR(IF(A224=\"\",\"\",VLOOKUP(A224,[1]Hoja1!$B$2:$U$4999,9,FALSE)),0)","v":""},{"$f":"IFERROR(IF(A224=\"\",\"\",VLOOKUP(A224,[1]Hoja1!$B$2:$U$4999,2,FALSE)),\" --- NO EXISTE TRABAJADOR --- \")","v":""},null,null,null,null,null,"","","",{"$f":"IFERROR(IF(A224=\"\",\"\",VLOOKUP(A224,[1]Hoja1!$B$2:$U$4999,18,FALSE)),0)","v":""},{"$f":"IFERROR(IF(A224=\"\",\"\",VLOOKUP(A224,[1]Hoja1!$B$2:$U$4999,19,FALSE)),0)","v":""},"",null,{"$f":"IFERROR(IF(O224=\"\",\"\",VLOOKUP(O224,JORNADA!$A$19:$B$20,2,FALSE)),\"\")","v":""},{"$f":"IFERROR(IF(A224=\"\",\"\",VLOOKUP(A224,[1]Hoja1!$B$2:$U$4999,3,FALSE)),0)","v":""},null,"","",{"$f":"IFERROR(IF(A224=\"\",\"\",VLOOKUP(A224,[1]Hoja1!$B$2:$U$4999,10,FALSE)),0)","v":""},{"$f":"IFERROR(IF(Q224=\"\",\"\",VLOOKUP(Q224,[1]Hoja1!$D$2:$AF$4999,29,FALSE)),\"NO EXISTE CUENTA\")","v":""},null,null,""]
["",{"$f":"IFERROR(IF(A225=\"\",\"\",VLOOKUP(A225,[1]Hoja1!$B$2:$U$4999,9,FALSE)),0)","v":""},{"$f":"IFERROR(IF(A225=\"\",\"\",VLOOKUP(A225,[1]Hoja1!$B$2:$U$4999,2,FALSE)),\" --- NO EXISTE TRABAJADOR --- \")","v":""},null,null,null,null,null,"","","",{"$f":"IFERROR(IF(A225=\"\",\"\",VLOOKUP(A225,[1]Hoja1!$B$2:$U$4999,18,FALSE)),0)","v":""},{"$f":"IFERROR(IF(A225=\"\",\"\",VLOOKUP(A225,[1]Hoja1!$B$2:$U$4999,19,FALSE)),0)","v":""},"",null,{"$f":"IFERROR(IF(O225=\"\",\"\",VLOOKUP(O225,JORNADA!$A$19:$B$20,2,FALSE)),\"\")","v":""},{"$f":"IFERROR(IF(A225=\"\",\"\",VLOOKUP(A225,[1]Hoja1!$B$2:$U$4999,3,FALSE)),0)","v":""},null,"","",{"$f":"IFERROR(IF(A225=\"\",\"\",VLOOKUP(A225,[1]Hoja1!$B$2:$U$4999,10,FALSE)),0)","v":""},{"$f":"IFERROR(IF(Q225=\"\",\"\",VLOOKUP(Q225,[1]Hoja1!$D$2:$AF$4999,29,FALSE)),\"NO EXISTE CUENTA\")","v":""},null,null,""]
["",{"$f":"IFERROR(IF(A226=\"\",\"\",VLOOKUP(A226,[1]Hoja1!$B$2:$U$4999,9,FALSE)),0)","v":""},{"$f":"IFERROR(IF(A226=\"\",\"\",VLOOKUP(A226,[1]Hoja1!$B$2:$U$4999,2,FALSE)),\" --- NO EXISTE TRABAJADOR --- \")","v":""},null,null,null,null,null,"","","",{"$f":"IFERROR(IF(A226=\"\",\"\",VLOOKUP(A226,[1]Hoja1!$B$2:$U$4999,18,FALSE)),0)","v":""},{"$f":"IFERROR(IF(A226=\"\",\"\",VLOOKUP(A226,[1]Hoja1!$B$2:$U$4999,19,FALSE)),0)","v":""},"",null,{"$f":"IFERROR(IF(O226=\"\",\"\",VLOOKUP(O226,JORNADA!$A$19:$B$20,2,FALSE)),\"\")","v":""},{"$f":"IFERROR(IF(A226=\"\",\"\",VLOOKUP(A226,[1]Hoja1!$B$2:$U$4999,3,FALSE)),0)","v":""},null,"","",{"$f":"IFERROR(IF(A226=\"\",\"\",VLOOKUP(A226,[1]Hoja1!$B$2:$U$4999,10,FALSE)),0)","v":""},{"$f":"IFERROR(IF(Q226=\"\",\"\",VLOOKUP(Q226,[1]Hoja1!$D$2:$AF$4999,29,FALSE)),\"NO EXISTE CUENTA\")","v":""},null,null,""]
["",{"$f":"IFERROR(IF(A227=\"\",\"\",VLOOKUP(A227,[1]Hoja1!$B$2:$U$4999,9,FALSE)),0)","v":""},{"$f":"IFERROR(IF(A227=\"\",\"\",VLOOKUP(A227,[1]Hoja1!$B$2:$U$4999,2,FALSE)),\" --- NO EXISTE TRABAJADOR --- \")","v":""},null,null,null,null,null,"","","",{"$f":"IFERROR(IF(A227=\"\",\"\",VLOOKUP(A227,[1]Hoja1!$B$2:$U$4999,18,FALSE)),0)","v":""},{"$f":"IFERROR(IF(A227=\"\",\"\",VLOOKUP(A227,[1]Hoja1!$B$2:$U$4999,19,FALSE)),0)","v":""},"",null,{"$f":"IFERROR(IF(O227=\"\",\"\",VLOOKUP(O227,JORNADA!$A$19:$B$20,2,FALSE)),\"\")","v":""},{"$f":"IFERROR(IF(A227=\"\",\"\",VLOOKUP(A227,[1]Hoja1!$B$2:$U$4999,3,FALSE)),0)","v":""},null,"","",{"$f":"IFERROR(IF(A227=\"\",\"\",VLOOKUP(A227,[1]Hoja1!$B$2:$U$4999,10,FALSE)),0)","v":""},{"$f":"IFERROR(IF(Q227=\"\",\"\",VLOOKUP(Q227,[1]Hoja1!$D$2:$AF$4999,29,FALSE)),\"NO EXISTE CUENTA\")","v":""},null,null,""]
["",{"$f":"IFERROR(IF(A228=\"\",\"\",VLOOKUP(A228,[1]Hoja1!$B$2:$U$4999,9,FALSE)),0)","v":""},{"$f":"IFERROR(IF(A228=\"\",\"\",VLOOKUP(A228,[1]Hoja1!$B$2:$U$4999,2,FALSE)),\" --- NO EXISTE TRABAJADOR --- \")","v":""},null,null,null,null,null,"","","",{"$f":"IFERROR(IF(A228=\"\",\"\",VLOOKUP(A228,[1]Hoja1!$B$2:$U$4999,18,FALSE)),0)","v":""},{"$f":"IFERROR(IF(A228=\"\",\"\",VLOOKUP(A228,[1]Hoja1!$B$2:$U$4999,19,FALSE)),0)","v":""},"",null,{"$f":"IFERROR(IF(O228=\"\",\"\",VLOOKUP(O228,JORNADA!$A$19:$B$20,2,FALSE)),\"\")","v":""},{"$f":"IFERROR(IF(A228=\"\",\"\",VLOOKUP(A228,[1]Hoja1!$B$2:$U$4999,3,FALSE)),0)","v":""},null,"","",{"$f":"IFERROR(IF(A228=\"\",\"\",VLOOKUP(A228,[1]Hoja1!$B$2:$U$4999,10,FALSE)),0)","v":""},{"$f":"IFERROR(IF(Q228=\"\",\"\",VLOOKUP(Q228,[1]Hoja1!$D$2:$AF$4999,29,FALSE)),\"NO EXISTE CUENTA\")","v":""},null,null,""]
["",{"$f":"IFERROR(IF(A229=\"\",\"\",VLOOKUP(A229,[1]Hoja1!$B$2:$U$4999,9,FALSE)),0)","v":""},{"$f":"IFERROR(IF(A229=\"\",\"\",VLOOKUP(A229,[1]Hoja1!$B$2:$U$4999,2,FALSE)),\" --- NO EXISTE TRABAJADOR --- \")","v":""},null,null,null,null,null,"","","",{"$f":"IFERROR(IF(A229=\"\",\"\",VLOOKUP(A229,[1]Hoja1!$B$2:$U$4999,18,FALSE)),0)","v":""},{"$f":"IFERROR(IF(A229=\"\",\"\",VLOOKUP(A229,[1]Hoja1!$B$2:$U$4999,19,FALSE)),0)","v":""},"",null,{"$f":"IFERROR(IF(O229=\"\",\"\",VLOOKUP(O229,JORNADA!$A$19:$B$20,2,FALSE)),\"\")","v":""},{"$f":"IFERROR(IF(A229=\"\",\"\",VLOOKUP(A229,[1]Hoja1!$B$2:$U$4999,3,FALSE)),0)","v":""},null,"","",{"$f":"IFERROR(IF(A229=\"\",\"\",VLOOKUP(A229,[1]Hoja1!$B$2:$U$4999,10,FALSE)),0)","v":""},{"$f":"IFERROR(IF(Q229=\"\",\"\",VLOOKUP(Q229,[1]Hoja1!$D$2:$AF$4999,29,FALSE)),\"NO EXISTE CUENTA\")","v":""},null,null,""]
["",{"$f":"IFERROR(IF(A230=\"\",\"\",VLOOKUP(A230,[1]Hoja1!$B$2:$U$4999,9,FALSE)),0)","v":""},{"$f":"IFERROR(IF(A230=\"\",\"\",VLOOKUP(A230,[1]Hoja1!$B$2:$U$4999,2,FALSE)),\" --- NO EXISTE TRABAJADOR --- \")","v":""},null,null,null,null,null,"","","",{"$f":"IFERROR(IF(A230=\"\",\"\",VLOOKUP(A230,[1]Hoja1!$B$2:$U$4999,18,FALSE)),0)","v":""},{"$f":"IFERROR(IF(A230=\"\",\"\",VLOOKUP(A230,[1]Hoja1!$B$2:$U$4999,19,FALSE)),0)","v":""},"",null,{"$f":"IFERROR(IF(O230=\"\",\"\",VLOOKUP(O230,JORNADA!$A$19:$B$20,2,FALSE)),\"\")","v":""},{"$f":"IFERROR(IF(A230=\"\",\"\",VLOOKUP(A230,[1]Hoja1!$B$2:$U$4999,3,FALSE)),0)","v":""},null,"","",{"$f":"IFERROR(IF(A230=\"\",\"\",VLOOKUP(A230,[1]Hoja1!$B$2:$U$4999,10,FALSE)),0)","v":""},{"$f":"IFERROR(IF(Q230=\"\",\"\",VLOOKUP(Q230,[1]Hoja1!$D$2:$AF$4999,29,FALSE)),\"NO EXISTE CUENTA\")","v":""},null,null,""]
["",{"$f":"IFERROR(IF(A231=\"\",\"\",VLOOKUP(A231,[1]Hoja1!$B$2:$U$4999,9,FALSE)),0)","v":""},{"$f":"IFERROR(IF(A231=\"\",\"\",VLOOKUP(A231,[1]Hoja1!$B$2:$U$4999,2,FALSE)),\" --- NO EXISTE TRABAJADOR --- \")","v":""},null,null,null,null,null,"","","",{"$f":"IFERROR(IF(A231=\"\",\"\",VLOOKUP(A231,[1]Hoja1!$B$2:$U$4999,18,FALSE)),0)","v":""},{"$f":"IFERROR(IF(A231=\"\",\"\",VLOOKUP(A231,[1]Hoja1!$B$2:$U$4999,19,FALSE)),0)","v":""},"",null,{"$f":"IFERROR(IF(O231=\"\",\"\",VLOOKUP(O231,JORNADA!$A$19:$B$20,2,FALSE)),\"\")","v":""},{"$f":"IFERROR(IF(A231=\"\",\"\",VLOOKUP(A231,[1]Hoja1!$B$2:$U$4999,3,FALSE)),0)","v":""},null,"","",{"$f":"IFERROR(IF(A231=\"\",\"\",VLOOKUP(A231,[1]Hoja1!$B$2:$U$4999,10,FALSE)),0)","v":""},{"$f":"IFERROR(IF(Q231=\"\",\"\",VLOOKUP(Q231,[1]Hoja1!$D$2:$AF$4999,29,FALSE)),\"NO EXISTE CUENTA\")","v":""},null,null,""]
["",{"$f":"IFERROR(IF(A232=\"\",\"\",VLOOKUP(A232,[1]Hoja1!$B$2:$U$4999,9,FALSE)),0)","v":""},{"$f":"IFERROR(IF(A232=\"\",\"\",VLOOKUP(A232,[1]Hoja1!$B$2:$U$4999,2,FALSE)),\" --- NO EXISTE TRABAJADOR --- \")","v":""},null,null,null,null,null,"","","",{"$f":"IFERROR(IF(A232=\"\",\"\",VLOOKUP(A232,[1]Hoja1!$B$2:$U$4999,18,FALSE)),0)","v":""},{"$f":"IFERROR(IF(A232=\"\",\"\",VLOOKUP(A232,[1]Hoja1!$B$2:$U$4999,19,FALSE)),0)","v":""},"",null,{"$f":"IFERROR(IF(O232=\"\",\"\",VLOOKUP(O232,JORNADA!$A$19:$B$20,2,FALSE)),\"\")","v":""},{"$f":"IFERROR(IF(A232=\"\",\"\",VLOOKUP(A232,[1]Hoja1!$B$2:$U$4999,3,FALSE)),0)","v":""},null,"","",{"$f":"IFERROR(IF(A232=\"\",\"\",VLOOKUP(A232,[1]Hoja1!$B$2:$U$4999,10,FALSE)),0)","v":""},{"$f":"IFERROR(IF(Q232=\"\",\"\",VLOOKUP(Q232,[1]Hoja1!$D$2:$AF$4999,29,FALSE)),\"NO EXISTE CUENTA\")","v":""},null,null,""]
["",{"$f":"IFERROR(IF(A233=\"\",\"\",VLOOKUP(A233,[1]Hoja1!$B$2:$U$4999,9,FALSE)),0)","v":""},{"$f":"IFERROR(IF(A233=\"\",\"\",VLOOKUP(A233,[1]Hoja1!$B$2:$U$4999,2,FALSE)),\" --- NO EXISTE TRABAJADOR --- \")","v":""},null,null,null,null,null,"","","",{"$f":"IFERROR(IF(A233=\"\",\"\",VLOOKUP(A233,[1]Hoja1!$B$2:$U$4999,18,FALSE)),0)","v":""},{"$f":"IFERROR(IF(A233=\"\",\"\",VLOOKUP(A233,[1]Hoja1!$B$2:$U$4999,19,FALSE)),0)","v":""},"",null,{"$f":"IFERROR(IF(O233=\"\",\"\",VLOOKUP(O233,JORNADA!$A$19:$B$20,2,FALSE)),\"\")","v":""},{"$f":"IFERROR(IF(A233=\"\",\"\",VLOOKUP(A233,[1]Hoja1!$B$2:$U$4999,3,FALSE)),0)","v":""},null,"","",{"$f":"IFERROR(IF(A233=\"\",\"\",VLOOKUP(A233,[1]Hoja1!$B$2:$U$4999,10,FALSE)),0)","v":""},{"$f":"IFERROR(IF(Q233=\"\",\"\",VLOOKUP(Q233,[1]Hoja1!$D$2:$AF$4999,29,FALSE)),\"NO EXISTE CUENTA\")","v":""},null,null,""]
["",{"$f":"IFERROR(IF(A234=\"\",\"\",VLOOKUP(A234,[1]Hoja1!$B$2:$U$4999,9,FALSE)),0)","v":""},{"$f":"IFERROR(IF(A234=\"\",\"\",VLOOKUP(A234,[1]Hoja1!$B$2:$U$4999,2,FALSE)),\" --- NO EXISTE TRABAJADOR --- \")","v":""},null,null,null,null,null,"","","",{"$f":"IFERROR(IF(A234=\"\",\"\",VLOOKUP(A234,[1]Hoja1!$B$2:$U$4999,18,FALSE)),0)","v":""},{"$f":"IFERROR(IF(A234=\"\",\"\",VLOOKUP(A234,[1]Hoja1!$B$2:$U$4999,19,FALSE)),0)","v":""},"",null,{"$f":"IFERROR(IF(O234=\"\",\"\",VLOOKUP(O234,JORNADA!$A$19:$B$20,2,FALSE)),\"\")","v":""},{"$f":"IFERROR(IF(A234=\"\",\"\",VLOOKUP(A234,[1]Hoja1!$B$2:$U$4999,3,FALSE)),0)","v":""},null,"","",{"$f":"IFERROR(IF(A234=\"\",\"\",VLOOKUP(A234,[1]Hoja1!$B$2:$U$4999,10,FALSE)),0)","v":""},{"$f":"IFERROR(IF(Q234=\"\",\"\",VLOOKUP(Q234,[1]Hoja1!$D$2:$AF$4999,29,FALSE)),\"NO EXISTE CUENTA\")","v":""},null,null,""]
["",{"$f":"IFERROR(IF(A235=\"\",\"\",VLOOKUP(A235,[1]Hoja1!$B$2:$U$4999,9,FALSE)),0)","v":""},{"$f":"IFERROR(IF(A235=\"\",\"\",VLOOKUP(A235,[1]Hoja1!$B$2:$U$4999,2,FALSE)),\" --- NO EXISTE TRABAJADOR --- \")","v":""},null,null,null,null,null,"","","",{"$f":"IFERROR(IF(A235=\"\",\"\",VLOOKUP(A235,[1]Hoja1!$B$2:$U$4999,18,FALSE)),0)","v":""},{"$f":"IFERROR(IF(A235=\"\",\"\",VLOOKUP(A235,[1]Hoja1!$B$2:$U$4999,19,FALSE)),0)","v":""},"",null,{"$f":"IFERROR(IF(O235=\"\",\"\",VLOOKUP(O235,JORNADA!$A$19:$B$20,2,FALSE)),\"\")","v":""},{"$f":"IFERROR(IF(A235=\"\",\"\",VLOOKUP(A235,[1]Hoja1!$B$2:$U$4999,3,FALSE)),0)","v":""},null,"","",{"$f":"IFERROR(IF(A235=\"\",\"\",VLOOKUP(A235,[1]Hoja1!$B$2:$U$4999,10,FALSE)),0)","v":""},{"$f":"IFERROR(IF(Q235=\"\",\"\",VLOOKUP(Q235,[1]Hoja1!$D$2:$AF$4999,29,FALSE)),\"NO EXISTE CUENTA\")","v":""},null,null,""]
["",{"$f":"IFERROR(IF(A236=\"\",\"\",VLOOKUP(A236,[1]Hoja1!$B$2:$U$4999,9,FALSE)),0)","v":""},{"$f":"IFERROR(IF(A236=\"\",\"\",VLOOKUP(A236,[1]Hoja1!$B$2:$U$4999,2,FALSE)),\" --- NO EXISTE TRABAJADOR --- \")","v":""},null,null,null,null,null,"","","",{"$f":"IFERROR(IF(A236=\"\",\"\",VLOOKUP(A236,[1]Hoja1!$B$2:$U$4999,18,FALSE)),0)","v":""},{"$f":"IFERROR(IF(A236=\"\",\"\",VLOOKUP(A236,[1]Hoja1!$B$2:$U$4999,19,FALSE)),0)","v":""},"",null,{"$f":"IFERROR(IF(O236=\"\",\"\",VLOOKUP(O236,JORNADA!$A$19:$B$20,2,FALSE)),\"\")","v":""},{"$f":"IFERROR(IF(A236=\"\",\"\",VLOOKUP(A236,[1]Hoja1!$B$2:$U$4999,3,FALSE)),0)","v":""},null,"","",{"$f":"IFERROR(IF(A236=\"\",\"\",VLOOKUP(A236,[1]Hoja1!$B$2:$U$4999,10,FALSE)),0)","v":""},{"$f":"IFERROR(IF(Q236=\"\",\"\",VLOOKUP(Q236,[1]Hoja1!$D$2:$AF$4999,29,FALSE)),\"NO EXISTE CUENTA\")","v":""},null,null,""]
["",{"$f":"IFERROR(IF(A237=\"\",\"\",VLOOKUP(A237,[1]Hoja1!$B$2:$U$4999,9,FALSE)),0)","v":""},{"$f":"IFERROR(IF(A237=\"\",\"\",VLOOKUP(A237,[1]Hoja1!$B$2:$U$4999,2,FALSE)),\" --- NO EXISTE TRABAJADOR --- \")","v":""},null,null,null,null,null,"","","",{"$f":"IFERROR(IF(A237=\"\",\"\",VLOOKUP(A237,[1]Hoja1!$B$2:$U$4999,18,FALSE)),0)","v":""},{"$f":"IFERROR(IF(A237=\"\",\"\",VLOOKUP(A237,[1]Hoja1!$B$2:$U$4999,19,FALSE)),0)","v":""},"",null,{"$f":"IFERROR(IF(O237=\"\",\"\",VLOOKUP(O237,JORNADA!$A$19:$B$20,2,FALSE)),\"\")","v":""},{"$f":"IFERROR(IF(A237=\"\",\"\",VLOOKUP(A237,[1]Hoja1!$B$2:$U$4999,3,FALSE)),0)","v":""},null,"","",{"$f":"IFERROR(IF(A237=\"\",\"\",VLOOKUP(A237,[1]Hoja1!$B$2:$U$4999,10,FALSE)),0)","v":""},{"$f":"IFERROR(IF(Q237=\"\",\"\",VLOOKUP(Q237,[1]Hoja1!$D$2:$AF$4999,29,FALSE)),\"NO EXISTE CUENTA\")","v":""},null,null,""]
["",{"$f":"IFERROR(IF(A238=\"\",\"\",VLOOKUP(A238,[1]Hoja1!$B$2:$U$4999,9,FALSE)),0)","v":""},{"$f":"IFERROR(IF(A238=\"\",\"\",VLOOKUP(A238,[1]Hoja1!$B$2:$U$4999,2,FALSE)),\" --- NO EXISTE TRABAJADOR --- \")","v":""},null,null,null,null,null,"","","",{"$f":"IFERROR(IF(A238=\"\",\"\",VLOOKUP(A238,[1]Hoja1!$B$2:$U$4999,18,FALSE)),0)","v":""},{"$f":"IFERROR(IF(A238=\"\",\"\",VLOOKUP(A238,[1]Hoja1!$B$2:$U$4999,19,FALSE)),0)","v":""},"",null,{"$f":"IFERROR(IF(O238=\"\",\"\",VLOOKUP(O238,JORNADA!$A$19:$B$20,2,FALSE)),\"\")","v":""},{"$f":"IFERROR(IF(A238=\"\",\"\",VLOOKUP(A238,[1]Hoja1!$B$2:$U$4999,3,FALSE)),0)","v":""},null,"","",{"$f":"IFERROR(IF(A238=\"\",\"\",VLOOKUP(A238,[1]Hoja1!$B$2:$U$4999,10,FALSE)),0)","v":""},{"$f":"IFERROR(IF(Q238=\"\",\"\",VLOOKUP(Q238,[1]Hoja1!$D$2:$AF$4999,29,FALSE)),\"NO EXISTE CUENTA\")","v":""},null,null,""]
["",{"$f":"IFERROR(IF(A239=\"\",\"\",VLOOKUP(A239,[1]Hoja1!$B$2:$U$4999,9,FALSE)),0)","v":""},{"$f":"IFERROR(IF(A239=\"\",\"\",VLOOKUP(A239,[1]Hoja1!$B$2:$U$4999,2,FALSE)),\" --- NO EXISTE TRABAJADOR --- \")","v":""},null,null,null,null,null,"","","",{"$f":"IFERROR(IF(A239=\"\",\"\",VLOOKUP(A239,[1]Hoja1!$B$2:$U$4999,18,FALSE)),0)","v":""},{"$f":"IFERROR(IF(A239=\"\",\"\",VLOOKUP(A239,[1]Hoja1!$B$2:$U$4999,19,FALSE)),0)","v":""},"",null,{"$f":"IFERROR(IF(O239=\"\",\"\",VLOOKUP(O239,JORNADA!$A$19:$B$20,2,FALSE)),\"\")","v":""},{"$f":"IFERROR(IF(A239=\"\",\"\",VLOOKUP(A239,[1]Hoja1!$B$2:$U$4999,3,FALSE)),0)","v":""},null,"","",{"$f":"IFERROR(IF(A239=\"\",\"\",VLOOKUP(A239,[1]Hoja1!$B$2:$U$4999,10,FALSE)),0)","v":""},{"$f":"IFERROR(IF(Q239=\"\",\"\",VLOOKUP(Q239,[1]Hoja1!$D$2:$AF$4999,29,FALSE)),\"NO EXISTE CUENTA\")","v":""},null,null,""]
["",{"$f":"IFERROR(IF(A240=\"\",\"\",VLOOKUP(A240,[1]Hoja1!$B$2:$U$4999,9,FALSE)),0)","v":""},{"$f":"IFERROR(IF(A240=\"\",\"\",VLOOKUP(A240,[1]Hoja1!$B$2:$U$4999,2,FALSE)),\" --- NO EXISTE TRABAJADOR --- \")","v":""},null,null,null,null,null,"","","",{"$f":"IFERROR(IF(A240=\"\",\"\",VLOOKUP(A240,[1]Hoja1!$B$2:$U$4999,18,FALSE)),0)","v":""},{"$f":"IFERROR(IF(A240=\"\",\"\",VLOOKUP(A240,[1]Hoja1!$B$2:$U$4999,19,FALSE)),0)","v":""},"",null,{"$f":"IFERROR(IF(O240=\"\",\"\",VLOOKUP(O240,JORNADA!$A$19:$B$20,2,FALSE)),\"\")","v":""},{"$f":"IFERROR(IF(A240=\"\",\"\",VLOOKUP(A240,[1]Hoja1!$B$2:$U$4999,3,FALSE)),0)","v":""},null,"","",{"$f":"IFERROR(IF(A240=\"\",\"\",VLOOKUP(A240,[1]Hoja1!$B$2:$U$4999,10,FALSE)),0)","v":""},{"$f":"IFERROR(IF(Q240=\"\",\"\",VLOOKUP(Q240,[1]Hoja1!$D$2:$AF$4999,29,FALSE)),\"NO EXISTE CUENTA\")","v":""},null,null,""]
["",{"$f":"IFERROR(IF(A241=\"\",\"\",VLOOKUP(A241,[1]Hoja1!$B$2:$U$4999,9,FALSE)),0)","v":""},{"$f":"IFERROR(IF(A241=\"\",\"\",VLOOKUP(A241,[1]Hoja1!$B$2:$U$4999,2,FALSE)),\" --- NO EXISTE TRABAJADOR --- \")","v":""},null,null,null,null,null,"","","",{"$f":"IFERROR(IF(A241=\"\",\"\",VLOOKUP(A241,[1]Hoja1!$B$2:$U$4999,18,FALSE)),0)","v":""},{"$f":"IFERROR(IF(A241=\"\",\"\",VLOOKUP(A241,[1]Hoja1!$B$2:$U$4999,19,FALSE)),0)","v":""},"",null,{"$f":"IFERROR(IF(O241=\"\",\"\",VLOOKUP(O241,JORNADA!$A$19:$B$20,2,FALSE)),\"\")","v":""},{"$f":"IFERROR(IF(A241=\"\",\"\",VLOOKUP(A241,[1]Hoja1!$B$2:$U$4999,3,FALSE)),0)","v":""},null,"","",{"$f":"IFERROR(IF(A241=\"\",\"\",VLOOKUP(A241,[1]Hoja1!$B$2:$U$4999,10,FALSE)),0)","v":""},{"$f":"IFERROR(IF(Q241=\"\",\"\",VLOOKUP(Q241,[1]Hoja1!$D$2:$AF$4999,29,FALSE)),\"NO EXISTE CUENTA\")","v":""},null,null,""]
["",{"$f":"IFERROR(IF(A242=\"\",\"\",VLOOKUP(A242,[1]Hoja1!$B$2:$U$4999,9,FALSE)),0)","v":""},{"$f":"IFERROR(IF(A242=\"\",\"\",VLOOKUP(A242,[1]Hoja1!$B$2:$U$4999,2,FALSE)),\" --- NO EXISTE TRABAJADOR --- \")","v":""},null,null,null,null,null,"","","",{"$f":"IFERROR(IF(A242=\"\",\"\",VLOOKUP(A242,[1]Hoja1!$B$2:$U$4999,18,FALSE)),0)","v":""},{"$f":"IFERROR(IF(A242=\"\",\"\",VLOOKUP(A242,[1]Hoja1!$B$2:$U$4999,19,FALSE)),0)","v":""},"",null,{"$f":"IFERROR(IF(O242=\"\",\"\",VLOOKUP(O242,JORNADA!$A$19:$B$20,2,FALSE)),\"\")","v":""},{"$f":"IFERROR(IF(A242=\"\",\"\",VLOOKUP(A242,[1]Hoja1!$B$2:$U$4999,3,FALSE)),0)","v":""},null,"","",{"$f":"IFERROR(IF(A242=\"\",\"\",VLOOKUP(A242,[1]Hoja1!$B$2:$U$4999,10,FALSE)),0)","v":""},{"$f":"IFERROR(IF(Q242=\"\",\"\",VLOOKUP(Q242,[1]Hoja1!$D$2:$AF$4999,29,FALSE)),\"NO EXISTE CUENTA\")","v":""},null,null,""]
["",{"$f":"IFERROR(IF(A243=\"\",\"\",VLOOKUP(A243,[1]Hoja1!$B$2:$U$4999,9,FALSE)),0)","v":""},{"$f":"IFERROR(IF(A243=\"\",\"\",VLOOKUP(A243,[1]Hoja1!$B$2:$U$4999,2,FALSE)),\" --- NO EXISTE TRABAJADOR --- \")","v":""},null,null,null,null,null,"","","",{"$f":"IFERROR(IF(A243=\"\",\"\",VLOOKUP(A243,[1]Hoja1!$B$2:$U$4999,18,FALSE)),0)","v":""},{"$f":"IFERROR(IF(A243=\"\",\"\",VLOOKUP(A243,[1]Hoja1!$B$2:$U$4999,19,FALSE)),0)","v":""},"",null,{"$f":"IFERROR(IF(O243=\"\",\"\",VLOOKUP(O243,JORNADA!$A$19:$B$20,2,FALSE)),\"\")","v":""},{"$f":"IFERROR(IF(A243=\"\",\"\",VLOOKUP(A243,[1]Hoja1!$B$2:$U$4999,3,FALSE)),0)","v":""},null,"","",{"$f":"IFERROR(IF(A243=\"\",\"\",VLOOKUP(A243,[1]Hoja1!$B$2:$U$4999,10,FALSE)),0)","v":""},{"$f":"IFERROR(IF(Q243=\"\",\"\",VLOOKUP(Q243,[1]Hoja1!$D$2:$AF$4999,29,FALSE)),\"NO EXISTE CUENTA\")","v":""},null,null,""]
["",{"$f":"IFERROR(IF(A244=\"\",\"\",VLOOKUP(A244,[1]Hoja1!$B$2:$U$4999,9,FALSE)),0)","v":""},{"$f":"IFERROR(IF(A244=\"\",\"\",VLOOKUP(A244,[1]Hoja1!$B$2:$U$4999,2,FALSE)),\" --- NO EXISTE TRABAJADOR --- \")","v":""},null,null,null,null,null,"","","",{"$f":"IFERROR(IF(A244=\"\",\"\",VLOOKUP(A244,[1]Hoja1!$B$2:$U$4999,18,FALSE)),0)","v":""},{"$f":"IFERROR(IF(A244=\"\",\"\",VLOOKUP(A244,[1]Hoja1!$B$2:$U$4999,19,FALSE)),0)","v":""},"",null,{"$f":"IFERROR(IF(O244=\"\",\"\",VLOOKUP(O244,JORNADA!$A$19:$B$20,2,FALSE)),\"\")","v":""},{"$f":"IFERROR(IF(A244=\"\",\"\",VLOOKUP(A244,[1]Hoja1!$B$2:$U$4999,3,FALSE)),0)","v":""},null,"","",{"$f":"IFERROR(IF(A244=\"\",\"\",VLOOKUP(A244,[1]Hoja1!$B$2:$U$4999,10,FALSE)),0)","v":""},{"$f":"IFERROR(IF(Q244=\"\",\"\",VLOOKUP(Q244,[1]Hoja1!$D$2:$AF$4999,29,FALSE)),\"NO EXISTE CUENTA\")","v":""},null,null,""]
["",{"$f":"IFERROR(IF(A245=\"\",\"\",VLOOKUP(A245,[1]Hoja1!$B$2:$U$4999,9,FALSE)),0)","v":""},{"$f":"IFERROR(IF(A245=\"\",\"\",VLOOKUP(A245,[1]Hoja1!$B$2:$U$4999,2,FALSE)),\" --- NO EXISTE TRABAJADOR --- \")","v":""},null,null,null,null,null,"","","",{"$f":"IFERROR(IF(A245=\"\",\"\",VLOOKUP(A245,[1]Hoja1!$B$2:$U$4999,18,FALSE)),0)","v":""},{"$f":"IFERROR(IF(A245=\"\",\"\",VLOOKUP(A245,[1]Hoja1!$B$2:$U$4999,19,FALSE)),0)","v":""},"",null,{"$f":"IFERROR(IF(O245=\"\",\"\",VLOOKUP(O245,JORNADA!$A$19:$B$20,2,FALSE)),\"\")","v":""},{"$f":"IFERROR(IF(A245=\"\",\"\",VLOOKUP(A245,[1]Hoja1!$B$2:$U$4999,3,FALSE)),0)","v":""},null,"","",{"$f":"IFERROR(IF(A245=\"\",\"\",VLOOKUP(A245,[1]Hoja1!$B$2:$U$4999,10,FALSE)),0)","v":""},{"$f":"IFERROR(IF(Q245=\"\",\"\",VLOOKUP(Q245,[1]Hoja1!$D$2:$AF$4999,29,FALSE)),\"NO EXISTE CUENTA\")","v":""},null,null,""]
["",{"$f":"IFERROR(IF(A246=\"\",\"\",VLOOKUP(A246,[1]Hoja1!$B$2:$U$4999,9,FALSE)),0)","v":""},{"$f":"IFERROR(IF(A246=\"\",\"\",VLOOKUP(A246,[1]Hoja1!$B$2:$U$4999,2,FALSE)),\" --- NO EXISTE TRABAJADOR --- \")","v":""},null,null,null,null,null,"","","",{"$f":"IFERROR(IF(A246=\"\",\"\",VLOOKUP(A246,[1]Hoja1!$B$2:$U$4999,18,FALSE)),0)","v":""},{"$f":"IFERROR(IF(A246=\"\",\"\",VLOOKUP(A246,[1]Hoja1!$B$2:$U$4999,19,FALSE)),0)","v":""},"",null,{"$f":"IFERROR(IF(O246=\"\",\"\",VLOOKUP(O246,JORNADA!$A$19:$B$20,2,FALSE)),\"\")","v":""},{"$f":"IFERROR(IF(A246=\"\",\"\",VLOOKUP(A246,[1]Hoja1!$B$2:$U$4999,3,FALSE)),0)","v":""},null,"","",{"$f":"IFERROR(IF(A246=\"\",\"\",VLOOKUP(A246,[1]Hoja1!$B$2:$U$4999,10,FALSE)),0)","v":""},{"$f":"IFERROR(IF(Q246=\"\",\"\",VLOOKUP(Q246,[1]Hoja1!$D$2:$AF$4999,29,FALSE)),\"NO EXISTE CUENTA\")","v":""},null,null,""]
["",{"$f":"IFERROR(IF(A247=\"\",\"\",VLOOKUP(A247,[1]Hoja1!$B$2:$U$4999,9,FALSE)),0)","v":""},{"$f":"IFERROR(IF(A247=\"\",\"\",VLOOKUP(A247,[1]Hoja1!$B$2:$U$4999,2,FALSE)),\" --- NO EXISTE TRABAJADOR --- \")","v":""},null,null,null,null,null,"","","",{"$f":"IFERROR(IF(A247=\"\",\"\",VLOOKUP(A247,[1]Hoja1!$B$2:$U$4999,18,FALSE)),0)","v":""},{"$f":"IFERROR(IF(A247=\"\",\"\",VLOOKUP(A247,[1]Hoja1!$B$2:$U$4999,19,FALSE)),0)","v":""},"",null,{"$f":"IFERROR(IF(O247=\"\",\"\",VLOOKUP(O247,JORNADA!$A$19:$B$20,2,FALSE)),\"\")","v":""},{"$f":"IFERROR(IF(A247=\"\",\"\",VLOOKUP(A247,[1]Hoja1!$B$2:$U$4999,3,FALSE)),0)","v":""},null,"","",{"$f":"IFERROR(IF(A247=\"\",\"\",VLOOKUP(A247,[1]Hoja1!$B$2:$U$4999,10,FALSE)),0)","v":""},{"$f":"IFERROR(IF(Q247=\"\",\"\",VLOOKUP(Q247,[1]Hoja1!$D$2:$AF$4999,29,FALSE)),\"NO EXISTE CUENTA\")","v":""},null,null,""]
["",{"$f":"IFERROR(IF(A248=\"\",\"\",VLOOKUP(A248,[1]Hoja1!$B$2:$U$4999,9,FALSE)),0)","v":""},{"$f":"IFERROR(IF(A248=\"\",\"\",VLOOKUP(A248,[1]Hoja1!$B$2:$U$4999,2,FALSE)),\" --- NO EXISTE TRABAJADOR --- \")","v":""},null,null,null,null,null,"","","",{"$f":"IFERROR(IF(A248=\"\",\"\",VLOOKUP(A248,[1]Hoja1!$B$2:$U$4999,18,FALSE)),0)","v":""},{"$f":"IFERROR(IF(A248=\"\",\"\",VLOOKUP(A248,[1]Hoja1!$B$2:$U$4999,19,FALSE)),0)","v":""},"",null,{"$f":"IFERROR(IF(O248=\"\",\"\",VLOOKUP(O248,JORNADA!$A$19:$B$20,2,FALSE)),\"\")","v":""},{"$f":"IFERROR(IF(A248=\"\",\"\",VLOOKUP(A248,[1]Hoja1!$B$2:$U$4999,3,FALSE)),0)","v":""},null,"","",{"$f":"IFERROR(IF(A248=\"\",\"\",VLOOKUP(A248,[1]Hoja1!$B$2:$U$4999,10,FALSE)),0)","v":""},{"$f":"IFERROR(IF(Q248=\"\",\"\",VLOOKUP(Q248,[1]Hoja1!$D$2:$AF$4999,29,FALSE)),\"NO EXISTE CUENTA\")","v":""},null,null,""]
["",{"$f":"IFERROR(IF(A249=\"\",\"\",VLOOKUP(A249,[1]Hoja1!$B$2:$U$4999,9,FALSE)),0)","v":""},{"$f":"IFERROR(IF(A249=\"\",\"\",VLOOKUP(A249,[1]Hoja1!$B$2:$U$4999,2,FALSE)),\" --- NO EXISTE TRABAJADOR --- \")","v":""},null,null,null,null,null,"","","",{"$f":"IFERROR(IF(A249=\"\",\"\",VLOOKUP(A249,[1]Hoja1!$B$2:$U$4999,18,FALSE)),0)","v":""},{"$f":"IFERROR(IF(A249=\"\",\"\",VLOOKUP(A249,[1]Hoja1!$B$2:$U$4999,19,FALSE)),0)","v":""},"",null,{"$f":"IFERROR(IF(O249=\"\",\"\",VLOOKUP(O249,JORNADA!$A$19:$B$20,2,FALSE)),\"\")","v":""},{"$f":"IFERROR(IF(A249=\"\",\"\",VLOOKUP(A249,[1]Hoja1!$B$2:$U$4999,3,FALSE)),0)","v":""},null,"","",{"$f":"IFERROR(IF(A249=\"\",\"\",VLOOKUP(A249,[1]Hoja1!$B$2:$U$4999,10,FALSE)),0)","v":""},{"$f":"IFERROR(IF(Q249=\"\",\"\",VLOOKUP(Q249,[1]Hoja1!$D$2:$AF$4999,29,FALSE)),\"NO EXISTE CUENTA\")","v":""},null,null,""]
["",{"$f":"IFERROR(IF(A250=\"\",\"\",VLOOKUP(A250,[1]Hoja1!$B$2:$U$4999,9,FALSE)),0)","v":""},{"$f":"IFERROR(IF(A250=\"\",\"\",VLOOKUP(A250,[1]Hoja1!$B$2:$U$4999,2,FALSE)),\" --- NO EXISTE TRABAJADOR --- \")","v":""},null,null,null,null,null,"","","",{"$f":"IFERROR(IF(A250=\"\",\"\",VLOOKUP(A250,[1]Hoja1!$B$2:$U$4999,18,FALSE)),0)","v":""},{"$f":"IFERROR(IF(A250=\"\",\"\",VLOOKUP(A250,[1]Hoja1!$B$2:$U$4999,19,FALSE)),0)","v":""},"",null,{"$f":"IFERROR(IF(O250=\"\",\"\",VLOOKUP(O250,JORNADA!$A$19:$B$20,2,FALSE)),\"\")","v":""},{"$f":"IFERROR(IF(A250=\"\",\"\",VLOOKUP(A250,[1]Hoja1!$B$2:$U$4999,3,FALSE)),0)","v":""},null,"","",{"$f":"IFERROR(IF(A250=\"\",\"\",VLOOKUP(A250,[1]Hoja1!$B$2:$U$4999,10,FALSE)),0)","v":""},{"$f":"IFERROR(IF(Q250=\"\",\"\",VLOOKUP(Q250,[1]Hoja1!$D$2:$AF$4999,29,FALSE)),\"NO EXISTE CUENTA\")","v":""},null,null,""]
["",{"$f":"IFERROR(IF(A251=\"\",\"\",VLOOKUP(A251,[1]Hoja1!$B$2:$U$4999,9,FALSE)),0)","v":""},{"$f":"IFERROR(IF(A251=\"\",\"\",VLOOKUP(A251,[1]Hoja1!$B$2:$U$4999,2,FALSE)),\" --- NO EXISTE TRABAJADOR --- \")","v":""},null,null,null,null,null,"","","",{"$f":"IFERROR(IF(A251=\"\",\"\",VLOOKUP(A251,[1]Hoja1!$B$2:$U$4999,18,FALSE)),0)","v":""},{"$f":"IFERROR(IF(A251=\"\",\"\",VLOOKUP(A251,[1]Hoja1!$B$2:$U$4999,19,FALSE)),0)","v":""},"",null,{"$f":"IFERROR(IF(O251=\"\",\"\",VLOOKUP(O251,JORNADA!$A$19:$B$20,2,FALSE)),\"\")","v":""},{"$f":"IFERROR(IF(A251=\"\",\"\",VLOOKUP(A251,[1]Hoja1!$B$2:$U$4999,3,FALSE)),0)","v":""},null,"","",{"$f":"IFERROR(IF(A251=\"\",\"\",VLOOKUP(A251,[1]Hoja1!$B$2:$U$4999,10,FALSE)),0)","v":""},{"$f":"IFERROR(IF(Q251=\"\",\"\",VLOOKUP(Q251,[1]Hoja1!$D$2:$AF$4999,29,FALSE)),\"NO EXISTE CUENTA\")","v":""},null,null,""]
["",{"$f":"IFERROR(IF(A252=\"\",\"\",VLOOKUP(A252,[1]Hoja1!$B$2:$U$4999,9,FALSE)),0)","v":""},{"$f":"IFERROR(IF(A252=\"\",\"\",VLOOKUP(A252,[1]Hoja1!$B$2:$U$4999,2,FALSE)),\" --- NO EXISTE TRABAJADOR --- \")","v":""},null,null,null,null,null,"","","",{"$f":"IFERROR(IF(A252=\"\",\"\",VLOOKUP(A252,[1]Hoja1!$B$2:$U$4999,18,FALSE)),0)","v":""},{"$f":"IFERROR(IF(A252=\"\",\"\",VLOOKUP(A252,[1]Hoja1!$B$2:$U$4999,19,FALSE)),0)","v":""},"",null,{"$f":"IFERROR(IF(O252=\"\",\"\",VLOOKUP(O252,JORNADA!$A$19:$B$20,2,FALSE)),\"\")","v":""},{"$f":"IFERROR(IF(A252=\"\",\"\",VLOOKUP(A252,[1]Hoja1!$B$2:$U$4999,3,FALSE)),0)","v":""},null,"","",{"$f":"IFERROR(IF(A252=\"\",\"\",VLOOKUP(A252,[1]Hoja1!$B$2:$U$4999,10,FALSE)),0)","v":""},{"$f":"IFERROR(IF(Q252=\"\",\"\",VLOOKUP(Q252,[1]Hoja1!$D$2:$AF$4999,29,FALSE)),\"NO EXISTE CUENTA\")","v":""},null,null,""]
["",{"$f":"IFERROR(IF(A253=\"\",\"\",VLOOKUP(A253,[1]Hoja1!$B$2:$U$4999,9,FALSE)),0)","v":""},{"$f":"IFERROR(IF(A253=\"\",\"\",VLOOKUP(A253,[1]Hoja1!$B$2:$U$4999,2,FALSE)),\" --- NO EXISTE TRABAJADOR --- \")","v":""},null,null,null,null,null,"","","",{"$f":"IFERROR(IF(A253=\"\",\"\",VLOOKUP(A253,[1]Hoja1!$B$2:$U$4999,18,FALSE)),0)","v":""},{"$f":"IFERROR(IF(A253=\"\",\"\",VLOOKUP(A253,[1]Hoja1!$B$2:$U$4999,19,FALSE)),0)","v":""},"",null,{"$f":"IFERROR(IF(O253=\"\",\"\",VLOOKUP(O253,JORNADA!$A$19:$B$20,2,FALSE)),\"\")","v":""},{"$f":"IFERROR(IF(A253=\"\",\"\",VLOOKUP(A253,[1]Hoja1!$B$2:$U$4999,3,FALSE)),0)","v":""},null,"","",{"$f":"IFERROR(IF(A253=\"\",\"\",VLOOKUP(A253,[1]Hoja1!$B$2:$U$4999,10,FALSE)),0)","v":""},{"$f":"IFERROR(IF(Q253=\"\",\"\",VLOOKUP(Q253,[1]Hoja1!$D$2:$AF$4999,29,FALSE)),\"NO EXISTE CUENTA\")","v":""},null,null,""]
["",{"$f":"IFERROR(IF(A254=\"\",\"\",VLOOKUP(A254,[1]Hoja1!$B$2:$U$4999,9,FALSE)),0)","v":""},{"$f":"IFERROR(IF(A254=\"\",\"\",VLOOKUP(A254,[1]Hoja1!$B$2:$U$4999,2,FALSE)),\" --- NO EXISTE TRABAJADOR --- \")","v":""},null,null,null,null,null,"","","",{"$f":"IFERROR(IF(A254=\"\",\"\",VLOOKUP(A254,[1]Hoja1!$B$2:$U$4999,18,FALSE)),0)","v":""},{"$f":"IFERROR(IF(A254=\"\",\"\",VLOOKUP(A254,[1]Hoja1!$B$2:$U$4999,19,FALSE)),0)","v":""},"",null,{"$f":"IFERROR(IF(O254=\"\",\"\",VLOOKUP(O254,JORNADA!$A$19:$B$20,2,FALSE)),\"\")","v":""},{"$f":"IFERROR(IF(A254=\"\",\"\",VLOOKUP(A254,[1]Hoja1!$B$2:$U$4999,3,FALSE)),0)","v":""},null,"","",{"$f":"IFERROR(IF(A254=\"\",\"\",VLOOKUP(A254,[1]Hoja1!$B$2:$U$4999,10,FALSE)),0)","v":""},{"$f":"IFERROR(IF(Q254=\"\",\"\",VLOOKUP(Q254,[1]Hoja1!$D$2:$AF$4999,29,FALSE)),\"NO EXISTE CUENTA\")","v":""},null,null,""]
["",{"$f":"IFERROR(IF(A255=\"\",\"\",VLOOKUP(A255,[1]Hoja1!$B$2:$U$4999,9,FALSE)),0)","v":""},{"$f":"IFERROR(IF(A255=\"\",\"\",VLOOKUP(A255,[1]Hoja1!$B$2:$U$4999,2,FALSE)),\" --- NO EXISTE TRABAJADOR --- \")","v":""},null,null,null,null,null,"","","",{"$f":"IFERROR(IF(A255=\"\",\"\",VLOOKUP(A255,[1]Hoja1!$B$2:$U$4999,18,FALSE)),0)","v":""},{"$f":"IFERROR(IF(A255=\"\",\"\",VLOOKUP(A255,[1]Hoja1!$B$2:$U$4999,19,FALSE)),0)","v":""},"",null,{"$f":"IFERROR(IF(O255=\"\",\"\",VLOOKUP(O255,JORNADA!$A$19:$B$20,2,FALSE)),\"\")","v":""},{"$f":"IFERROR(IF(A255=\"\",\"\",VLOOKUP(A255,[1]Hoja1!$B$2:$U$4999,3,FALSE)),0)","v":""},null,"","",{"$f":"IFERROR(IF(A255=\"\",\"\",VLOOKUP(A255,[1]Hoja1!$B$2:$U$4999,10,FALSE)),0)","v":""},{"$f":"IFERROR(IF(Q255=\"\",\"\",VLOOKUP(Q255,[1]Hoja1!$D$2:$AF$4999,29,FALSE)),\"NO EXISTE CUENTA\")","v":""},null,null,""]
["",{"$f":"IFERROR(IF(A256=\"\",\"\",VLOOKUP(A256,[1]Hoja1!$B$2:$U$4999,9,FALSE)),0)","v":""},{"$f":"IFERROR(IF(A256=\"\",\"\",VLOOKUP(A256,[1]Hoja1!$B$2:$U$4999,2,FALSE)),\" --- NO EXISTE TRABAJADOR --- \")","v":""},null,null,null,null,null,"","","",{"$f":"IFERROR(IF(A256=\"\",\"\",VLOOKUP(A256,[1]Hoja1!$B$2:$U$4999,18,FALSE)),0)","v":""},{"$f":"IFERROR(IF(A256=\"\",\"\",VLOOKUP(A256,[1]Hoja1!$B$2:$U$4999,19,FALSE)),0)","v":""},"",null,{"$f":"IFERROR(IF(O256=\"\",\"\",VLOOKUP(O256,JORNADA!$A$19:$B$20,2,FALSE)),\"\")","v":""},{"$f":"IFERROR(IF(A256=\"\",\"\",VLOOKUP(A256,[1]Hoja1!$B$2:$U$4999,3,FALSE)),0)","v":""},null,"","",{"$f":"IFERROR(IF(A256=\"\",\"\",VLOOKUP(A256,[1]Hoja1!$B$2:$U$4999,10,FALSE)),0)","v":""},{"$f":"IFERROR(IF(Q256=\"\",\"\",VLOOKUP(Q256,[1]Hoja1!$D$2:$AF$4999,29,FALSE)),\"NO EXISTE CUENTA\")","v":""},null,null,""]
["",{"$f":"IFERROR(IF(A257=\"\",\"\",VLOOKUP(A257,[1]Hoja1!$B$2:$U$4999,9,FALSE)),0)","v":""},{"$f":"IFERROR(IF(A257=\"\",\"\",VLOOKUP(A257,[1]Hoja1!$B$2:$U$4999,2,FALSE)),\" --- NO EXISTE TRABAJADOR --- \")","v":""},null,null,null,null,null,"","","",{"$f":"IFERROR(IF(A257=\"\",\"\",VLOOKUP(A257,[1]Hoja1!$B$2:$U$4999,18,FALSE)),0)","v":""},{"$f":"IFERROR(IF(A257=\"\",\"\",VLOOKUP(A257,[1]Hoja1!$B$2:$U$4999,19,FALSE)),0)","v":""},"",null,{"$f":"IFERROR(IF(O257=\"\",\"\",VLOOKUP(O257,JORNADA!$A$19:$B$20,2,FALSE)),\"\")","v":""},{"$f":"IFERROR(IF(A257=\"\",\"\",VLOOKUP(A257,[1]Hoja1!$B$2:$U$4999,3,FALSE)),0)","v":""},null,"","",{"$f":"IFERROR(IF(A257=\"\",\"\",VLOOKUP(A257,[1]Hoja1!$B$2:$U$4999,10,FALSE)),0)","v":""},{"$f":"IFERROR(IF(Q257=\"\",\"\",VLOOKUP(Q257,[1]Hoja1!$D$2:$AF$4999,29,FALSE)),\"NO EXISTE CUENTA\")","v":""},null,null,""]
["",{"$f":"IFERROR(IF(A258=\"\",\"\",VLOOKUP(A258,[1]Hoja1!$B$2:$U$4999,9,FALSE)),0)","v":""},{"$f":"IFERROR(IF(A258=\"\",\"\",VLOOKUP(A258,[1]Hoja1!$B$2:$U$4999,2,FALSE)),\" --- NO EXISTE TRABAJADOR --- \")","v":""},null,null,null,null,null,"","","",{"$f":"IFERROR(IF(A258=\"\",\"\",VLOOKUP(A258,[1]Hoja1!$B$2:$U$4999,18,FALSE)),0)","v":""},{"$f":"IFERROR(IF(A258=\"\",\"\",VLOOKUP(A258,[1]Hoja1!$B$2:$U$4999,19,FALSE)),0)","v":""},"",null,{"$f":"IFERROR(IF(O258=\"\",\"\",VLOOKUP(O258,JORNADA!$A$19:$B$20,2,FALSE)),\"\")","v":""},{"$f":"IFERROR(IF(A258=\"\",\"\",VLOOKUP(A258,[1]Hoja1!$B$2:$U$4999,3,FALSE)),0)","v":""},null,"","",{"$f":"IFERROR(IF(A258=\"\",\"\",VLOOKUP(A258,[1]Hoja1!$B$2:$U$4999,10,FALSE)),0)","v":""},{"$f":"IFERROR(IF(Q258=\"\",\"\",VLOOKUP(Q258,[1]Hoja1!$D$2:$AF$4999,29,FALSE)),\"NO EXISTE CUENTA\")","v":""},null,null,""]
[{"$f":"+S259","v":""},{"$f":"IFERROR(IF(A259=\"\",\"\",VLOOKUP(A259,[1]Hoja1!$B$2:$U$4999,9,FALSE)),0)","v":""},{"$f":"IFERROR(IF(A259=\"\",\"\",VLOOKUP(A259,[1]Hoja1!$B$2:$U$4999,2,FALSE)),\" --- NO EXISTE TRABAJADOR --- \")","v":""},null,null,null,null,null,{"$f":"IFERROR(IF(G259=\"\",\"\",VLOOKUP(G259,JORNADA,2,FALSE)),0)","v":""},{"$f":"IFERROR(IF(H259=\"\",\"\",VLOOKUP(H259,ACTIVIDAD,2,FALSE)),0)","v":""},{"$f":"CONCATENATE(J259,G259)","v":""},{"$f":"IFERROR(IF(A259=\"\",\"\",VLOOKUP(A259,[1]Hoja1!$B$2:$U$4999,18,FALSE)),0)","v":""},{"$f":"IFERROR(IF(A259=\"\",\"\",VLOOKUP(A259,[1]Hoja1!$B$2:$U$4999,19,FALSE)),0)","v":""},{"$f":"IFERROR(IF(W259=\"\",\"\",VLOOKUP(W259,LICENCIA,2,FALSE)),\"\")","v":""},null,{"$f":"IFERROR(IF(O259=\"\",\"\",VLOOKUP(O259,JORNADA!$A$19:$B$20,2,FALSE)),\"\")","v":""},{"$f":"IFERROR(IF(A259=\"\",\"\",VLOOKUP(A259,[1]Hoja1!$B$2:$U$4999,3,FALSE)),0)","v":""},null,{"$f":"IFERROR(IF(R259=\"\",\"\",VLOOKUP(R259,DNI,2,FALSE)),0)","v":""},{"$f":"IF(D259<>\"\",COUNTA(INDIRECT(\"D2:D\"&ROW()-1)),\"\")","v":""},{"$f":"IFERROR(IF(A259=\"\",\"\",VLOOKUP(A259,[1]Hoja1!$B$2:$U$4999,10,FALSE)),0)","v":""},{"$f":"IFERROR(IF(Q259=\"\",\"\",VLOOKUP(Q259,[1]Hoja1!$D$2:$AF$4999,29,FALSE)),\"NO EXISTE CUENTA\")","v":""},null,null,{"$f":"+C259","v":""}]
["",{"$f":"IFERROR(IF(A260=\"\",\"\",VLOOKUP(A260,[1]Hoja1!$B$2:$U$4999,9,FALSE)),0)","v":""},{"$f":"IFERROR(IF(A260=\"\",\"\",VLOOKUP(A260,[1]Hoja1!$B$2:$U$4999,2,FALSE)),\" --- NO EXISTE TRABAJADOR --- \")","v":""},null,null,null,null,null,"","","",{"$f":"IFERROR(IF(A260=\"\",\"\",VLOOKUP(A260,[1]Hoja1!$B$2:$U$4999,18,FALSE)),0)","v":""},{"$f":"IFERROR(IF(A260=\"\",\"\",VLOOKUP(A260,[1]Hoja1!$B$2:$U$4999,19,FALSE)),0)","v":""},"",null,{"$f":"IFERROR(IF(O260=\"\",\"\",VLOOKUP(O260,JORNADA!$A$19:$B$20,2,FALSE)),\"\")","v":""},{"$f":"IFERROR(IF(A260=\"\",\"\",VLOOKUP(A260,[1]Hoja1!$B$2:$U$4999,3,FALSE)),0)","v":""},null,"","",{"$f":"IFERROR(IF(A260=\"\",\"\",VLOOKUP(A260,[1]Hoja1!$B$2:$U$4999,10,FALSE)),0)","v":""},{"$f":"IFERROR(IF(Q260=\"\",\"\",VLOOKUP(Q260,[1]Hoja1!$D$2:$AF$4999,29,FALSE)),\"NO EXISTE CUENTA\")","v":""},null,null,""]
["",{"$f":"IFERROR(IF(A261=\"\",\"\",VLOOKUP(A261,[1]Hoja1!$B$2:$U$4999,9,FALSE)),0)","v":""},{"$f":"IFERROR(IF(A261=\"\",\"\",VLOOKUP(A261,[1]Hoja1!$B$2:$U$4999,2,FALSE)),\" --- NO EXISTE TRABAJADOR --- \")","v":""},null,null,null,null,null,"","","",{"$f":"IFERROR(IF(A261=\"\",\"\",VLOOKUP(A261,[1]Hoja1!$B$2:$U$4999,18,FALSE)),0)","v":""},{"$f":"IFERROR(IF(A261=\"\",\"\",VLOOKUP(A261,[1]Hoja1!$B$2:$U$4999,19,FALSE)),0)","v":""},"",null,{"$f":"IFERROR(IF(O261=\"\",\"\",VLOOKUP(O261,JORNADA!$A$19:$B$20,2,FALSE)),\"\")","v":""},{"$f":"IFERROR(IF(A261=\"\",\"\",VLOOKUP(A261,[1]Hoja1!$B$2:$U$4999,3,FALSE)),0)","v":""},null,"","",{"$f":"IFERROR(IF(A261=\"\",\"\",VLOOKUP(A261,[1]Hoja1!$B$2:$U$4999,10,FALSE)),0)","v":""},{"$f":"IFERROR(IF(Q261=\"\",\"\",VLOOKUP(Q261,[1]Hoja1!$D$2:$AF$4999,29,FALSE)),\"NO EXISTE CUENTA\")","v":""},null,null,""]
["",{"$f":"IFERROR(IF(A262=\"\",\"\",VLOOKUP(A262,[1]Hoja1!$B$2:$U$4999,9,FALSE)),0)","v":""},{"$f":"IFERROR(IF(A262=\"\",\"\",VLOOKUP(A262,[1]Hoja1!$B$2:$U$4999,2,FALSE)),\" --- NO EXISTE TRABAJADOR --- \")","v":""},null,null,null,null,null,"","","",{"$f":"IFERROR(IF(A262=\"\",\"\",VLOOKUP(A262,[1]Hoja1!$B$2:$U$4999,18,FALSE)),0)","v":""},{"$f":"IFERROR(IF(A262=\"\",\"\",VLOOKUP(A262,[1]Hoja1!$B$2:$U$4999,19,FALSE)),0)","v":""},"",null,{"$f":"IFERROR(IF(O262=\"\",\"\",VLOOKUP(O262,JORNADA!$A$19:$B$20,2,FALSE)),\"\")","v":""},{"$f":"IFERROR(IF(A262=\"\",\"\",VLOOKUP(A262,[1]Hoja1!$B$2:$U$4999,3,FALSE)),0)","v":""},null,"","",{"$f":"IFERROR(IF(A262=\"\",\"\",VLOOKUP(A262,[1]Hoja1!$B$2:$U$4999,10,FALSE)),0)","v":""},{"$f":"IFERROR(IF(Q262=\"\",\"\",VLOOKUP(Q262,[1]Hoja1!$D$2:$AF$4999,29,FALSE)),\"NO EXISTE CUENTA\")","v":""},null,null,""]
["",{"$f":"IFERROR(IF(A263=\"\",\"\",VLOOKUP(A263,[1]Hoja1!$B$2:$U$4999,9,FALSE)),0)","v":""},{"$f":"IFERROR(IF(A263=\"\",\"\",VLOOKUP(A263,[1]Hoja1!$B$2:$U$4999,2,FALSE)),\" --- NO EXISTE TRABAJADOR --- \")","v":""},null,null,null,null,null,"","","",{"$f":"IFERROR(IF(A263=\"\",\"\",VLOOKUP(A263,[1]Hoja1!$B$2:$U$4999,18,FALSE)),0)","v":""},{"$f":"IFERROR(IF(A263=\"\",\"\",VLOOKUP(A263,[1]Hoja1!$B$2:$U$4999,19,FALSE)),0)","v":""},"",null,{"$f":"IFERROR(IF(O263=\"\",\"\",VLOOKUP(O263,JORNADA!$A$19:$B$20,2,FALSE)),\"\")","v":""},{"$f":"IFERROR(IF(A263=\"\",\"\",VLOOKUP(A263,[1]Hoja1!$B$2:$U$4999,3,FALSE)),0)","v":""},null,"","",{"$f":"IFERROR(IF(A263=\"\",\"\",VLOOKUP(A263,[1]Hoja1!$B$2:$U$4999,10,FALSE)),0)","v":""},{"$f":"IFERROR(IF(Q263=\"\",\"\",VLOOKUP(Q263,[1]Hoja1!$D$2:$AF$4999,29,FALSE)),\"NO EXISTE CUENTA\")","v":""},null,null,""]
["",{"$f":"IFERROR(IF(A264=\"\",\"\",VLOOKUP(A264,[1]Hoja1!$B$2:$U$4999,9,FALSE)),0)","v":""},{"$f":"IFERROR(IF(A264=\"\",\"\",VLOOKUP(A264,[1]Hoja1!$B$2:$U$4999,2,FALSE)),\" --- NO EXISTE TRABAJADOR --- \")","v":""},null,null,null,null,null,"","","",{"$f":"IFERROR(IF(A264=\"\",\"\",VLOOKUP(A264,[1]Hoja1!$B$2:$U$4999,18,FALSE)),0)","v":""},{"$f":"IFERROR(IF(A264=\"\",\"\",VLOOKUP(A264,[1]Hoja1!$B$2:$U$4999,19,FALSE)),0)","v":""},"",null,{"$f":"IFERROR(IF(O264=\"\",\"\",VLOOKUP(O264,JORNADA!$A$19:$B$20,2,FALSE)),\"\")","v":""},{"$f":"IFERROR(IF(A264=\"\",\"\",VLOOKUP(A264,[1]Hoja1!$B$2:$U$4999,3,FALSE)),0)","v":""},null,"","",{"$f":"IFERROR(IF(A264=\"\",\"\",VLOOKUP(A264,[1]Hoja1!$B$2:$U$4999,10,FALSE)),0)","v":""},{"$f":"IFERROR(IF(Q264=\"\",\"\",VLOOKUP(Q264,[1]Hoja1!$D$2:$AF$4999,29,FALSE)),\"NO EXISTE CUENTA\")","v":""},null,null,""]
["",{"$f":"IFERROR(IF(A265=\"\",\"\",VLOOKUP(A265,[1]Hoja1!$B$2:$U$4999,9,FALSE)),0)","v":""},{"$f":"IFERROR(IF(A265=\"\",\"\",VLOOKUP(A265,[1]Hoja1!$B$2:$U$4999,2,FALSE)),\" --- NO EXISTE TRABAJADOR --- \")","v":""},null,null,null,null,null,"","","",{"$f":"IFERROR(IF(A265=\"\",\"\",VLOOKUP(A265,[1]Hoja1!$B$2:$U$4999,18,FALSE)),0)","v":""},{"$f":"IFERROR(IF(A265=\"\",\"\",VLOOKUP(A265,[1]Hoja1!$B$2:$U$4999,19,FALSE)),0)","v":""},"",null,{"$f":"IFERROR(IF(O265=\"\",\"\",VLOOKUP(O265,JORNADA!$A$19:$B$20,2,FALSE)),\"\")","v":""},{"$f":"IFERROR(IF(A265=\"\",\"\",VLOOKUP(A265,[1]Hoja1!$B$2:$U$4999,3,FALSE)),0)","v":""},null,"","",{"$f":"IFERROR(IF(A265=\"\",\"\",VLOOKUP(A265,[1]Hoja1!$B$2:$U$4999,10,FALSE)),0)","v":""},{"$f":"IFERROR(IF(Q265=\"\",\"\",VLOOKUP(Q265,[1]Hoja1!$D$2:$AF$4999,29,FALSE)),\"NO EXISTE CUENTA\")","v":""},null,null,""]
["",{"$f":"IFERROR(IF(A266=\"\",\"\",VLOOKUP(A266,[1]Hoja1!$B$2:$U$4999,9,FALSE)),0)","v":""},{"$f":"IFERROR(IF(A266=\"\",\"\",VLOOKUP(A266,[1]Hoja1!$B$2:$U$4999,2,FALSE)),\" --- NO EXISTE TRABAJADOR --- \")","v":""},null,null,null,null,null,"","","",{"$f":"IFERROR(IF(A266=\"\",\"\",VLOOKUP(A266,[1]Hoja1!$B$2:$U$4999,18,FALSE)),0)","v":""},{"$f":"IFERROR(IF(A266=\"\",\"\",VLOOKUP(A266,[1]Hoja1!$B$2:$U$4999,19,FALSE)),0)","v":""},"",null,{"$f":"IFERROR(IF(O266=\"\",\"\",VLOOKUP(O266,JORNADA!$A$19:$B$20,2,FALSE)),\"\")","v":""},{"$f":"IFERROR(IF(A266=\"\",\"\",VLOOKUP(A266,[1]Hoja1!$B$2:$U$4999,3,FALSE)),0)","v":""},null,"","",{"$f":"IFERROR(IF(A266=\"\",\"\",VLOOKUP(A266,[1]Hoja1!$B$2:$U$4999,10,FALSE)),0)","v":""},{"$f":"IFERROR(IF(Q266=\"\",\"\",VLOOKUP(Q266,[1]Hoja1!$D$2:$AF$4999,29,FALSE)),\"NO EXISTE CUENTA\")","v":""},null,null,""]
["",{"$f":"IFERROR(IF(A267=\"\",\"\",VLOOKUP(A267,[1]Hoja1!$B$2:$U$4999,9,FALSE)),0)","v":""},{"$f":"IFERROR(IF(A267=\"\",\"\",VLOOKUP(A267,[1]Hoja1!$B$2:$U$4999,2,FALSE)),\" --- NO EXISTE TRABAJADOR --- \")","v":""},null,null,null,null,null,"","","",{"$f":"IFERROR(IF(A267=\"\",\"\",VLOOKUP(A267,[1]Hoja1!$B$2:$U$4999,18,FALSE)),0)","v":""},{"$f":"IFERROR(IF(A267=\"\",\"\",VLOOKUP(A267,[1]Hoja1!$B$2:$U$4999,19,FALSE)),0)","v":""},"",null,{"$f":"IFERROR(IF(O267=\"\",\"\",VLOOKUP(O267,JORNADA!$A$19:$B$20,2,FALSE)),\"\")","v":""},{"$f":"IFERROR(IF(A267=\"\",\"\",VLOOKUP(A267,[1]Hoja1!$B$2:$U$4999,3,FALSE)),0)","v":""},null,"","",{"$f":"IFERROR(IF(A267=\"\",\"\",VLOOKUP(A267,[1]Hoja1!$B$2:$U$4999,10,FALSE)),0)","v":""},{"$f":"IFERROR(IF(Q267=\"\",\"\",VLOOKUP(Q267,[1]Hoja1!$D$2:$AF$4999,29,FALSE)),\"NO EXISTE CUENTA\")","v":""},null,null,""]
["",{"$f":"IFERROR(IF(A268=\"\",\"\",VLOOKUP(A268,[1]Hoja1!$B$2:$U$4999,9,FALSE)),0)","v":""},{"$f":"IFERROR(IF(A268=\"\",\"\",VLOOKUP(A268,[1]Hoja1!$B$2:$U$4999,2,FALSE)),\" --- NO EXISTE TRABAJADOR --- \")","v":""},null,null,null,null,null,"","","",{"$f":"IFERROR(IF(A268=\"\",\"\",VLOOKUP(A268,[1]Hoja1!$B$2:$U$4999,18,FALSE)),0)","v":""},{"$f":"IFERROR(IF(A268=\"\",\"\",VLOOKUP(A268,[1]Hoja1!$B$2:$U$4999,19,FALSE)),0)","v":""},"",null,{"$f":"IFERROR(IF(O268=\"\",\"\",VLOOKUP(O268,JORNADA!$A$19:$B$20,2,FALSE)),\"\")","v":""},{"$f":"IFERROR(IF(A268=\"\",\"\",VLOOKUP(A268,[1]Hoja1!$B$2:$U$4999,3,FALSE)),0)","v":""},null,"","",{"$f":"IFERROR(IF(A268=\"\",\"\",VLOOKUP(A268,[1]Hoja1!$B$2:$U$4999,10,FALSE)),0)","v":""},{"$f":"IFERROR(IF(Q268=\"\",\"\",VLOOKUP(Q268,[1]Hoja1!$D$2:$AF$4999,29,FALSE)),\"NO EXISTE CUENTA\")","v":""},null,null,""]
["",{"$f":"IFERROR(IF(A269=\"\",\"\",VLOOKUP(A269,[1]Hoja1!$B$2:$U$4999,9,FALSE)),0)","v":""},{"$f":"IFERROR(IF(A269=\"\",\"\",VLOOKUP(A269,[1]Hoja1!$B$2:$U$4999,2,FALSE)),\" --- NO EXISTE TRABAJADOR --- \")","v":""},null,null,null,null,null,"","","",{"$f":"IFERROR(IF(A269=\"\",\"\",VLOOKUP(A269,[1]Hoja1!$B$2:$U$4999,18,FALSE)),0)","v":""},{"$f":"IFERROR(IF(A269=\"\",\"\",VLOOKUP(A269,[1]Hoja1!$B$2:$U$4999,19,FALSE)),0)","v":""},"",null,{"$f":"IFERROR(IF(O269=\"\",\"\",VLOOKUP(O269,JORNADA!$A$19:$B$20,2,FALSE)),\"\")","v":""},{"$f":"IFERROR(IF(A269=\"\",\"\",VLOOKUP(A269,[1]Hoja1!$B$2:$U$4999,3,FALSE)),0)","v":""},null,"","",{"$f":"IFERROR(IF(A269=\"\",\"\",VLOOKUP(A269,[1]Hoja1!$B$2:$U$4999,10,FALSE)),0)","v":""},{"$f":"IFERROR(IF(Q269=\"\",\"\",VLOOKUP(Q269,[1]Hoja1!$D$2:$AF$4999,29,FALSE)),\"NO EXISTE CUENTA\")","v":""},null,null,""]
["",{"$f":"IFERROR(IF(A270=\"\",\"\",VLOOKUP(A270,[1]Hoja1!$B$2:$U$4999,9,FALSE)),0)","v":""},{"$f":"IFERROR(IF(A270=\"\",\"\",VLOOKUP(A270,[1]Hoja1!$B$2:$U$4999,2,FALSE)),\" --- NO EXISTE TRABAJADOR --- \")","v":""},null,null,null,null,null,"","","",{"$f":"IFERROR(IF(A270=\"\",\"\",VLOOKUP(A270,[1]Hoja1!$B$2:$U$4999,18,FALSE)),0)","v":""},{"$f":"IFERROR(IF(A270=\"\",\"\",VLOOKUP(A270,[1]Hoja1!$B$2:$U$4999,19,FALSE)),0)","v":""},"",null,{"$f":"IFERROR(IF(O270=\"\",\"\",VLOOKUP(O270,JORNADA!$A$19:$B$20,2,FALSE)),\"\")","v":""},{"$f":"IFERROR(IF(A270=\"\",\"\",VLOOKUP(A270,[1]Hoja1!$B$2:$U$4999,3,FALSE)),0)","v":""},null,"","",{"$f":"IFERROR(IF(A270=\"\",\"\",VLOOKUP(A270,[1]Hoja1!$B$2:$U$4999,10,FALSE)),0)","v":""},{"$f":"IFERROR(IF(Q270=\"\",\"\",VLOOKUP(Q270,[1]Hoja1!$D$2:$AF$4999,29,FALSE)),\"NO EXISTE CUENTA\")","v":""},null,null,""]
["",{"$f":"IFERROR(IF(A271=\"\",\"\",VLOOKUP(A271,[1]Hoja1!$B$2:$U$4999,9,FALSE)),0)","v":""},{"$f":"IFERROR(IF(A271=\"\",\"\",VLOOKUP(A271,[1]Hoja1!$B$2:$U$4999,2,FALSE)),\" --- NO EXISTE TRABAJADOR --- \")","v":""},null,null,null,null,null,"","","",{"$f":"IFERROR(IF(A271=\"\",\"\",VLOOKUP(A271,[1]Hoja1!$B$2:$U$4999,18,FALSE)),0)","v":""},{"$f":"IFERROR(IF(A271=\"\",\"\",VLOOKUP(A271,[1]Hoja1!$B$2:$U$4999,19,FALSE)),0)","v":""},"",null,{"$f":"IFERROR(IF(O271=\"\",\"\",VLOOKUP(O271,JORNADA!$A$19:$B$20,2,FALSE)),\"\")","v":""},{"$f":"IFERROR(IF(A271=\"\",\"\",VLOOKUP(A271,[1]Hoja1!$B$2:$U$4999,3,FALSE)),0)","v":""},null,"","",{"$f":"IFERROR(IF(A271=\"\",\"\",VLOOKUP(A271,[1]Hoja1!$B$2:$U$4999,10,FALSE)),0)","v":""},{"$f":"IFERROR(IF(Q271=\"\",\"\",VLOOKUP(Q271,[1]Hoja1!$D$2:$AF$4999,29,FALSE)),\"NO EXISTE CUENTA\")","v":""},null,null,""]
["",{"$f":"IFERROR(IF(A272=\"\",\"\",VLOOKUP(A272,[1]Hoja1!$B$2:$U$4999,9,FALSE)),0)","v":""},{"$f":"IFERROR(IF(A272=\"\",\"\",VLOOKUP(A272,[1]Hoja1!$B$2:$U$4999,2,FALSE)),\" --- NO EXISTE TRABAJADOR --- \")","v":""},null,null,null,null,null,"","","",{"$f":"IFERROR(IF(A272=\"\",\"\",VLOOKUP(A272,[1]Hoja1!$B$2:$U$4999,18,FALSE)),0)","v":""},{"$f":"IFERROR(IF(A272=\"\",\"\",VLOOKUP(A272,[1]Hoja1!$B$2:$U$4999,19,FALSE)),0)","v":""},"",null,{"$f":"IFERROR(IF(O272=\"\",\"\",VLOOKUP(O272,JORNADA!$A$19:$B$20,2,FALSE)),\"\")","v":""},{"$f":"IFERROR(IF(A272=\"\",\"\",VLOOKUP(A272,[1]Hoja1!$B$2:$U$4999,3,FALSE)),0)","v":""},null,"","",{"$f":"IFERROR(IF(A272=\"\",\"\",VLOOKUP(A272,[1]Hoja1!$B$2:$U$4999,10,FALSE)),0)","v":""},{"$f":"IFERROR(IF(Q272=\"\",\"\",VLOOKUP(Q272,[1]Hoja1!$D$2:$AF$4999,29,FALSE)),\"NO EXISTE CUENTA\")","v":""},null,null,""]
["",{"$f":"IFERROR(IF(A273=\"\",\"\",VLOOKUP(A273,[1]Hoja1!$B$2:$U$4999,9,FALSE)),0)","v":""},{"$f":"IFERROR(IF(A273=\"\",\"\",VLOOKUP(A273,[1]Hoja1!$B$2:$U$4999,2,FALSE)),\" --- NO EXISTE TRABAJADOR --- \")","v":""},null,null,null,null,null,"","","",{"$f":"IFERROR(IF(A273=\"\",\"\",VLOOKUP(A273,[1]Hoja1!$B$2:$U$4999,18,FALSE)),0)","v":""},{"$f":"IFERROR(IF(A273=\"\",\"\",VLOOKUP(A273,[1]Hoja1!$B$2:$U$4999,19,FALSE)),0)","v":""},"",null,{"$f":"IFERROR(IF(O273=\"\",\"\",VLOOKUP(O273,JORNADA!$A$19:$B$20,2,FALSE)),\"\")","v":""},{"$f":"IFERROR(IF(A273=\"\",\"\",VLOOKUP(A273,[1]Hoja1!$B$2:$U$4999,3,FALSE)),0)","v":""},null,"","",{"$f":"IFERROR(IF(A273=\"\",\"\",VLOOKUP(A273,[1]Hoja1!$B$2:$U$4999,10,FALSE)),0)","v":""},{"$f":"IFERROR(IF(Q273=\"\",\"\",VLOOKUP(Q273,[1]Hoja1!$D$2:$AF$4999,29,FALSE)),\"NO EXISTE CUENTA\")","v":""},null,null,""]
["",{"$f":"IFERROR(IF(A274=\"\",\"\",VLOOKUP(A274,[1]Hoja1!$B$2:$U$4999,9,FALSE)),0)","v":""},{"$f":"IFERROR(IF(A274=\"\",\"\",VLOOKUP(A274,[1]Hoja1!$B$2:$U$4999,2,FALSE)),\" --- NO EXISTE TRABAJADOR --- \")","v":""},null,null,null,null,null,"","","",{"$f":"IFERROR(IF(A274=\"\",\"\",VLOOKUP(A274,[1]Hoja1!$B$2:$U$4999,18,FALSE)),0)","v":""},{"$f":"IFERROR(IF(A274=\"\",\"\",VLOOKUP(A274,[1]Hoja1!$B$2:$U$4999,19,FALSE)),0)","v":""},"",null,{"$f":"IFERROR(IF(O274=\"\",\"\",VLOOKUP(O274,JORNADA!$A$19:$B$20,2,FALSE)),\"\")","v":""},{"$f":"IFERROR(IF(A274=\"\",\"\",VLOOKUP(A274,[1]Hoja1!$B$2:$U$4999,3,FALSE)),0)","v":""},null,"","",{"$f":"IFERROR(IF(A274=\"\",\"\",VLOOKUP(A274,[1]Hoja1!$B$2:$U$4999,10,FALSE)),0)","v":""},{"$f":"IFERROR(IF(Q274=\"\",\"\",VLOOKUP(Q274,[1]Hoja1!$D$2:$AF$4999,29,FALSE)),\"NO EXISTE CUENTA\")","v":""},null,null,""]
["",{"$f":"IFERROR(IF(A275=\"\",\"\",VLOOKUP(A275,[1]Hoja1!$B$2:$U$4999,9,FALSE)),0)","v":""},{"$f":"IFERROR(IF(A275=\"\",\"\",VLOOKUP(A275,[1]Hoja1!$B$2:$U$4999,2,FALSE)),\" --- NO EXISTE TRABAJADOR --- \")","v":""},null,null,null,null,null,"","","",{"$f":"IFERROR(IF(A275=\"\",\"\",VLOOKUP(A275,[1]Hoja1!$B$2:$U$4999,18,FALSE)),0)","v":""},{"$f":"IFERROR(IF(A275=\"\",\"\",VLOOKUP(A275,[1]Hoja1!$B$2:$U$4999,19,FALSE)),0)","v":""},"",null,{"$f":"IFERROR(IF(O275=\"\",\"\",VLOOKUP(O275,JORNADA!$A$19:$B$20,2,FALSE)),\"\")","v":""},{"$f":"IFERROR(IF(A275=\"\",\"\",VLOOKUP(A275,[1]Hoja1!$B$2:$U$4999,3,FALSE)),0)","v":""},null,"","",{"$f":"IFERROR(IF(A275=\"\",\"\",VLOOKUP(A275,[1]Hoja1!$B$2:$U$4999,10,FALSE)),0)","v":""},{"$f":"IFERROR(IF(Q275=\"\",\"\",VLOOKUP(Q275,[1]Hoja1!$D$2:$AF$4999,29,FALSE)),\"NO EXISTE CUENTA\")","v":""},null,null,""]
["",{"$f":"IFERROR(IF(A276=\"\",\"\",VLOOKUP(A276,[1]Hoja1!$B$2:$U$4999,9,FALSE)),0)","v":""},{"$f":"IFERROR(IF(A276=\"\",\"\",VLOOKUP(A276,[1]Hoja1!$B$2:$U$4999,2,FALSE)),\" --- NO EXISTE TRABAJADOR --- \")","v":""},null,null,null,null,null,"","","",{"$f":"IFERROR(IF(A276=\"\",\"\",VLOOKUP(A276,[1]Hoja1!$B$2:$U$4999,18,FALSE)),0)","v":""},{"$f":"IFERROR(IF(A276=\"\",\"\",VLOOKUP(A276,[1]Hoja1!$B$2:$U$4999,19,FALSE)),0)","v":""},"",null,{"$f":"IFERROR(IF(O276=\"\",\"\",VLOOKUP(O276,JORNADA!$A$19:$B$20,2,FALSE)),\"\")","v":""},{"$f":"IFERROR(IF(A276=\"\",\"\",VLOOKUP(A276,[1]Hoja1!$B$2:$U$4999,3,FALSE)),0)","v":""},null,"","",{"$f":"IFERROR(IF(A276=\"\",\"\",VLOOKUP(A276,[1]Hoja1!$B$2:$U$4999,10,FALSE)),0)","v":""},{"$f":"IFERROR(IF(Q276=\"\",\"\",VLOOKUP(Q276,[1]Hoja1!$D$2:$AF$4999,29,FALSE)),\"NO EXISTE CUENTA\")","v":""},null,null,""]
["",{"$f":"IFERROR(IF(A277=\"\",\"\",VLOOKUP(A277,[1]Hoja1!$B$2:$U$4999,9,FALSE)),0)","v":""},{"$f":"IFERROR(IF(A277=\"\",\"\",VLOOKUP(A277,[1]Hoja1!$B$2:$U$4999,2,FALSE)),\" --- NO EXISTE TRABAJADOR --- \")","v":""},null,null,null,null,null,"","","",{"$f":"IFERROR(IF(A277=\"\",\"\",VLOOKUP(A277,[1]Hoja1!$B$2:$U$4999,18,FALSE)),0)","v":""},{"$f":"IFERROR(IF(A277=\"\",\"\",VLOOKUP(A277,[1]Hoja1!$B$2:$U$4999,19,FALSE)),0)","v":""},"",null,{"$f":"IFERROR(IF(O277=\"\",\"\",VLOOKUP(O277,JORNADA!$A$19:$B$20,2,FALSE)),\"\")","v":""},{"$f":"IFERROR(IF(A277=\"\",\"\",VLOOKUP(A277,[1]Hoja1!$B$2:$U$4999,3,FALSE)),0)","v":""},null,"","",{"$f":"IFERROR(IF(A277=\"\",\"\",VLOOKUP(A277,[1]Hoja1!$B$2:$U$4999,10,FALSE)),0)","v":""},{"$f":"IFERROR(IF(Q277=\"\",\"\",VLOOKUP(Q277,[1]Hoja1!$D$2:$AF$4999,29,FALSE)),\"NO EXISTE CUENTA\")","v":""},null,null,""]
["",{"$f":"IFERROR(IF(A278=\"\",\"\",VLOOKUP(A278,[1]Hoja1!$B$2:$U$4999,9,FALSE)),0)","v":""},{"$f":"IFERROR(IF(A278=\"\",\"\",VLOOKUP(A278,[1]Hoja1!$B$2:$U$4999,2,FALSE)),\" --- NO EXISTE TRABAJADOR --- \")","v":""},null,null,null,null,null,"","","",{"$f":"IFERROR(IF(A278=\"\",\"\",VLOOKUP(A278,[1]Hoja1!$B$2:$U$4999,18,FALSE)),0)","v":""},{"$f":"IFERROR(IF(A278=\"\",\"\",VLOOKUP(A278,[1]Hoja1!$B$2:$U$4999,19,FALSE)),0)","v":""},"",null,{"$f":"IFERROR(IF(O278=\"\",\"\",VLOOKUP(O278,JORNADA!$A$19:$B$20,2,FALSE)),\"\")","v":""},{"$f":"IFERROR(IF(A278=\"\",\"\",VLOOKUP(A278,[1]Hoja1!$B$2:$U$4999,3,FALSE)),0)","v":""},null,"","",{"$f":"IFERROR(IF(A278=\"\",\"\",VLOOKUP(A278,[1]Hoja1!$B$2:$U$4999,10,FALSE)),0)","v":""},{"$f":"IFERROR(IF(Q278=\"\",\"\",VLOOKUP(Q278,[1]Hoja1!$D$2:$AF$4999,29,FALSE)),\"NO EXISTE CUENTA\")","v":""},null,null,""]
["",{"$f":"IFERROR(IF(A279=\"\",\"\",VLOOKUP(A279,[1]Hoja1!$B$2:$U$4999,9,FALSE)),0)","v":""},{"$f":"IFERROR(IF(A279=\"\",\"\",VLOOKUP(A279,[1]Hoja1!$B$2:$U$4999,2,FALSE)),\" --- NO EXISTE TRABAJADOR --- \")","v":""},null,null,null,null,null,"","","",{"$f":"IFERROR(IF(A279=\"\",\"\",VLOOKUP(A279,[1]Hoja1!$B$2:$U$4999,18,FALSE)),0)","v":""},{"$f":"IFERROR(IF(A279=\"\",\"\",VLOOKUP(A279,[1]Hoja1!$B$2:$U$4999,19,FALSE)),0)","v":""},"",null,{"$f":"IFERROR(IF(O279=\"\",\"\",VLOOKUP(O279,JORNADA!$A$19:$B$20,2,FALSE)),\"\")","v":""},{"$f":"IFERROR(IF(A279=\"\",\"\",VLOOKUP(A279,[1]Hoja1!$B$2:$U$4999,3,FALSE)),0)","v":""},null,"","",{"$f":"IFERROR(IF(A279=\"\",\"\",VLOOKUP(A279,[1]Hoja1!$B$2:$U$4999,10,FALSE)),0)","v":""},{"$f":"IFERROR(IF(Q279=\"\",\"\",VLOOKUP(Q279,[1]Hoja1!$D$2:$AF$4999,29,FALSE)),\"NO EXISTE CUENTA\")","v":""},null,null,""]
["",{"$f":"IFERROR(IF(A280=\"\",\"\",VLOOKUP(A280,[1]Hoja1!$B$2:$U$4999,9,FALSE)),0)","v":""},{"$f":"IFERROR(IF(A280=\"\",\"\",VLOOKUP(A280,[1]Hoja1!$B$2:$U$4999,2,FALSE)),\" --- NO EXISTE TRABAJADOR --- \")","v":""},null,null,null,null,null,"","","",{"$f":"IFERROR(IF(A280=\"\",\"\",VLOOKUP(A280,[1]Hoja1!$B$2:$U$4999,18,FALSE)),0)","v":""},{"$f":"IFERROR(IF(A280=\"\",\"\",VLOOKUP(A280,[1]Hoja1!$B$2:$U$4999,19,FALSE)),0)","v":""},"",null,{"$f":"IFERROR(IF(O280=\"\",\"\",VLOOKUP(O280,JORNADA!$A$19:$B$20,2,FALSE)),\"\")","v":""},{"$f":"IFERROR(IF(A280=\"\",\"\",VLOOKUP(A280,[1]Hoja1!$B$2:$U$4999,3,FALSE)),0)","v":""},null,"","",{"$f":"IFERROR(IF(A280=\"\",\"\",VLOOKUP(A280,[1]Hoja1!$B$2:$U$4999,10,FALSE)),0)","v":""},{"$f":"IFERROR(IF(Q280=\"\",\"\",VLOOKUP(Q280,[1]Hoja1!$D$2:$AF$4999,29,FALSE)),\"NO EXISTE CUENTA\")","v":""},null,null,""]
["",{"$f":"IFERROR(IF(A281=\"\",\"\",VLOOKUP(A281,[1]Hoja1!$B$2:$U$4999,9,FALSE)),0)","v":""},{"$f":"IFERROR(IF(A281=\"\",\"\",VLOOKUP(A281,[1]Hoja1!$B$2:$U$4999,2,FALSE)),\" --- NO EXISTE TRABAJADOR --- \")","v":""},null,null,null,null,null,"","","",{"$f":"IFERROR(IF(A281=\"\",\"\",VLOOKUP(A281,[1]Hoja1!$B$2:$U$4999,18,FALSE)),0)","v":""},{"$f":"IFERROR(IF(A281=\"\",\"\",VLOOKUP(A281,[1]Hoja1!$B$2:$U$4999,19,FALSE)),0)","v":""},"",null,{"$f":"IFERROR(IF(O281=\"\",\"\",VLOOKUP(O281,JORNADA!$A$19:$B$20,2,FALSE)),\"\")","v":""},{"$f":"IFERROR(IF(A281=\"\",\"\",VLOOKUP(A281,[1]Hoja1!$B$2:$U$4999,3,FALSE)),0)","v":""},null,"","",{"$f":"IFERROR(IF(A281=\"\",\"\",VLOOKUP(A281,[1]Hoja1!$B$2:$U$4999,10,FALSE)),0)","v":""},{"$f":"IFERROR(IF(Q281=\"\",\"\",VLOOKUP(Q281,[1]Hoja1!$D$2:$AF$4999,29,FALSE)),\"NO EXISTE CUENTA\")","v":""},null,null,""]
["",{"$f":"IFERROR(IF(A282=\"\",\"\",VLOOKUP(A282,[1]Hoja1!$B$2:$U$4999,9,FALSE)),0)","v":""},{"$f":"IFERROR(IF(A282=\"\",\"\",VLOOKUP(A282,[1]Hoja1!$B$2:$U$4999,2,FALSE)),\" --- NO EXISTE TRABAJADOR --- \")","v":""},null,null,null,null,null,"","","",{"$f":"IFERROR(IF(A282=\"\",\"\",VLOOKUP(A282,[1]Hoja1!$B$2:$U$4999,18,FALSE)),0)","v":""},{"$f":"IFERROR(IF(A282=\"\",\"\",VLOOKUP(A282,[1]Hoja1!$B$2:$U$4999,19,FALSE)),0)","v":""},"",null,{"$f":"IFERROR(IF(O282=\"\",\"\",VLOOKUP(O282,JORNADA!$A$19:$B$20,2,FALSE)),\"\")","v":""},{"$f":"IFERROR(IF(A282=\"\",\"\",VLOOKUP(A282,[1]Hoja1!$B$2:$U$4999,3,FALSE)),0)","v":""},null,"","",{"$f":"IFERROR(IF(A282=\"\",\"\",VLOOKUP(A282,[1]Hoja1!$B$2:$U$4999,10,FALSE)),0)","v":""},{"$f":"IFERROR(IF(Q282=\"\",\"\",VLOOKUP(Q282,[1]Hoja1!$D$2:$AF$4999,29,FALSE)),\"NO EXISTE CUENTA\")","v":""},null,null,""]
["",{"$f":"IFERROR(IF(A283=\"\",\"\",VLOOKUP(A283,[1]Hoja1!$B$2:$U$4999,9,FALSE)),0)","v":""},{"$f":"IFERROR(IF(A283=\"\",\"\",VLOOKUP(A283,[1]Hoja1!$B$2:$U$4999,2,FALSE)),\" --- NO EXISTE TRABAJADOR --- \")","v":""},null,null,null,null,null,"","","",{"$f":"IFERROR(IF(A283=\"\",\"\",VLOOKUP(A283,[1]Hoja1!$B$2:$U$4999,18,FALSE)),0)","v":""},{"$f":"IFERROR(IF(A283=\"\",\"\",VLOOKUP(A283,[1]Hoja1!$B$2:$U$4999,19,FALSE)),0)","v":""},"",null,{"$f":"IFERROR(IF(O283=\"\",\"\",VLOOKUP(O283,JORNADA!$A$19:$B$20,2,FALSE)),\"\")","v":""},{"$f":"IFERROR(IF(A283=\"\",\"\",VLOOKUP(A283,[1]Hoja1!$B$2:$U$4999,3,FALSE)),0)","v":""},null,"","",{"$f":"IFERROR(IF(A283=\"\",\"\",VLOOKUP(A283,[1]Hoja1!$B$2:$U$4999,10,FALSE)),0)","v":""},{"$f":"IFERROR(IF(Q283=\"\",\"\",VLOOKUP(Q283,[1]Hoja1!$D$2:$AF$4999,29,FALSE)),\"NO EXISTE CUENTA\")","v":""},null,null,""]
["",{"$f":"IFERROR(IF(A284=\"\",\"\",VLOOKUP(A284,[1]Hoja1!$B$2:$U$4999,9,FALSE)),0)","v":""},{"$f":"IFERROR(IF(A284=\"\",\"\",VLOOKUP(A284,[1]Hoja1!$B$2:$U$4999,2,FALSE)),\" --- NO EXISTE TRABAJADOR --- \")","v":""},null,null,null,null,null,"","","",{"$f":"IFERROR(IF(A284=\"\",\"\",VLOOKUP(A284,[1]Hoja1!$B$2:$U$4999,18,FALSE)),0)","v":""},{"$f":"IFERROR(IF(A284=\"\",\"\",VLOOKUP(A284,[1]Hoja1!$B$2:$U$4999,19,FALSE)),0)","v":""},"",null,{"$f":"IFERROR(IF(O284=\"\",\"\",VLOOKUP(O284,JORNADA!$A$19:$B$20,2,FALSE)),\"\")","v":""},{"$f":"IFERROR(IF(A284=\"\",\"\",VLOOKUP(A284,[1]Hoja1!$B$2:$U$4999,3,FALSE)),0)","v":""},null,"","",{"$f":"IFERROR(IF(A284=\"\",\"\",VLOOKUP(A284,[1]Hoja1!$B$2:$U$4999,10,FALSE)),0)","v":""},{"$f":"IFERROR(IF(Q284=\"\",\"\",VLOOKUP(Q284,[1]Hoja1!$D$2:$AF$4999,29,FALSE)),\"NO EXISTE CUENTA\")","v":""},null,null,""]
["",{"$f":"IFERROR(IF(A285=\"\",\"\",VLOOKUP(A285,[1]Hoja1!$B$2:$U$4999,9,FALSE)),0)","v":""},{"$f":"IFERROR(IF(A285=\"\",\"\",VLOOKUP(A285,[1]Hoja1!$B$2:$U$4999,2,FALSE)),\" --- NO EXISTE TRABAJADOR --- \")","v":""},null,null,null,null,null,"","","",{"$f":"IFERROR(IF(A285=\"\",\"\",VLOOKUP(A285,[1]Hoja1!$B$2:$U$4999,18,FALSE)),0)","v":""},{"$f":"IFERROR(IF(A285=\"\",\"\",VLOOKUP(A285,[1]Hoja1!$B$2:$U$4999,19,FALSE)),0)","v":""},"",null,{"$f":"IFERROR(IF(O285=\"\",\"\",VLOOKUP(O285,JORNADA!$A$19:$B$20,2,FALSE)),\"\")","v":""},{"$f":"IFERROR(IF(A285=\"\",\"\",VLOOKUP(A285,[1]Hoja1!$B$2:$U$4999,3,FALSE)),0)","v":""},null,"","",{"$f":"IFERROR(IF(A285=\"\",\"\",VLOOKUP(A285,[1]Hoja1!$B$2:$U$4999,10,FALSE)),0)","v":""},{"$f":"IFERROR(IF(Q285=\"\",\"\",VLOOKUP(Q285,[1]Hoja1!$D$2:$AF$4999,29,FALSE)),\"NO EXISTE CUENTA\")","v":""},null,null,""]
["",{"$f":"IFERROR(IF(A286=\"\",\"\",VLOOKUP(A286,[1]Hoja1!$B$2:$U$4999,9,FALSE)),0)","v":""},{"$f":"IFERROR(IF(A286=\"\",\"\",VLOOKUP(A286,[1]Hoja1!$B$2:$U$4999,2,FALSE)),\" --- NO EXISTE TRABAJADOR --- \")","v":""},null,null,null,null,null,"","","",{"$f":"IFERROR(IF(A286=\"\",\"\",VLOOKUP(A286,[1]Hoja1!$B$2:$U$4999,18,FALSE)),0)","v":""},{"$f":"IFERROR(IF(A286=\"\",\"\",VLOOKUP(A286,[1]Hoja1!$B$2:$U$4999,19,FALSE)),0)","v":""},"",null,{"$f":"IFERROR(IF(O286=\"\",\"\",VLOOKUP(O286,JORNADA!$A$19:$B$20,2,FALSE)),\"\")","v":""},{"$f":"IFERROR(IF(A286=\"\",\"\",VLOOKUP(A286,[1]Hoja1!$B$2:$U$4999,3,FALSE)),0)","v":""},null,"","",{"$f":"IFERROR(IF(A286=\"\",\"\",VLOOKUP(A286,[1]Hoja1!$B$2:$U$4999,10,FALSE)),0)","v":""},{"$f":"IFERROR(IF(Q286=\"\",\"\",VLOOKUP(Q286,[1]Hoja1!$D$2:$AF$4999,29,FALSE)),\"NO EXISTE CUENTA\")","v":""},null,null,""]
["",{"$f":"IFERROR(IF(A287=\"\",\"\",VLOOKUP(A287,[1]Hoja1!$B$2:$U$4999,9,FALSE)),0)","v":""},{"$f":"IFERROR(IF(A287=\"\",\"\",VLOOKUP(A287,[1]Hoja1!$B$2:$U$4999,2,FALSE)),\" --- NO EXISTE TRABAJADOR --- \")","v":""},null,null,null,null,null,"","","",{"$f":"IFERROR(IF(A287=\"\",\"\",VLOOKUP(A287,[1]Hoja1!$B$2:$U$4999,18,FALSE)),0)","v":""},{"$f":"IFERROR(IF(A287=\"\",\"\",VLOOKUP(A287,[1]Hoja1!$B$2:$U$4999,19,FALSE)),0)","v":""},"",null,{"$f":"IFERROR(IF(O287=\"\",\"\",VLOOKUP(O287,JORNADA!$A$19:$B$20,2,FALSE)),\"\")","v":""},{"$f":"IFERROR(IF(A287=\"\",\"\",VLOOKUP(A287,[1]Hoja1!$B$2:$U$4999,3,FALSE)),0)","v":""},null,"","",{"$f":"IFERROR(IF(A287=\"\",\"\",VLOOKUP(A287,[1]Hoja1!$B$2:$U$4999,10,FALSE)),0)","v":""},{"$f":"IFERROR(IF(Q287=\"\",\"\",VLOOKUP(Q287,[1]Hoja1!$D$2:$AF$4999,29,FALSE)),\"NO EXISTE CUENTA\")","v":""},null,null,""]
["",{"$f":"IFERROR(IF(A288=\"\",\"\",VLOOKUP(A288,[1]Hoja1!$B$2:$U$4999,9,FALSE)),0)","v":""},{"$f":"IFERROR(IF(A288=\"\",\"\",VLOOKUP(A288,[1]Hoja1!$B$2:$U$4999,2,FALSE)),\" --- NO EXISTE TRABAJADOR --- \")","v":""},null,null,null,null,null,"","","",{"$f":"IFERROR(IF(A288=\"\",\"\",VLOOKUP(A288,[1]Hoja1!$B$2:$U$4999,18,FALSE)),0)","v":""},{"$f":"IFERROR(IF(A288=\"\",\"\",VLOOKUP(A288,[1]Hoja1!$B$2:$U$4999,19,FALSE)),0)","v":""},"",null,{"$f":"IFERROR(IF(O288=\"\",\"\",VLOOKUP(O288,JORNADA!$A$19:$B$20,2,FALSE)),\"\")","v":""},{"$f":"IFERROR(IF(A288=\"\",\"\",VLOOKUP(A288,[1]Hoja1!$B$2:$U$4999,3,FALSE)),0)","v":""},null,"","",{"$f":"IFERROR(IF(A288=\"\",\"\",VLOOKUP(A288,[1]Hoja1!$B$2:$U$4999,10,FALSE)),0)","v":""},{"$f":"IFERROR(IF(Q288=\"\",\"\",VLOOKUP(Q288,[1]Hoja1!$D$2:$AF$4999,29,FALSE)),\"NO EXISTE CUENTA\")","v":""},null,null,""]
["",{"$f":"IFERROR(IF(A289=\"\",\"\",VLOOKUP(A289,[1]Hoja1!$B$2:$U$4999,9,FALSE)),0)","v":""},{"$f":"IFERROR(IF(A289=\"\",\"\",VLOOKUP(A289,[1]Hoja1!$B$2:$U$4999,2,FALSE)),\" --- NO EXISTE TRABAJADOR --- \")","v":""},null,null,null,null,null,"","","",{"$f":"IFERROR(IF(A289=\"\",\"\",VLOOKUP(A289,[1]Hoja1!$B$2:$U$4999,18,FALSE)),0)","v":""},{"$f":"IFERROR(IF(A289=\"\",\"\",VLOOKUP(A289,[1]Hoja1!$B$2:$U$4999,19,FALSE)),0)","v":""},"",null,{"$f":"IFERROR(IF(O289=\"\",\"\",VLOOKUP(O289,JORNADA!$A$19:$B$20,2,FALSE)),\"\")","v":""},{"$f":"IFERROR(IF(A289=\"\",\"\",VLOOKUP(A289,[1]Hoja1!$B$2:$U$4999,3,FALSE)),0)","v":""},null,"","",{"$f":"IFERROR(IF(A289=\"\",\"\",VLOOKUP(A289,[1]Hoja1!$B$2:$U$4999,10,FALSE)),0)","v":""},{"$f":"IFERROR(IF(Q289=\"\",\"\",VLOOKUP(Q289,[1]Hoja1!$D$2:$AF$4999,29,FALSE)),\"NO EXISTE CUENTA\")","v":""},null,null,""]
["",{"$f":"IFERROR(IF(A290=\"\",\"\",VLOOKUP(A290,[1]Hoja1!$B$2:$U$4999,9,FALSE)),0)","v":""},{"$f":"IFERROR(IF(A290=\"\",\"\",VLOOKUP(A290,[1]Hoja1!$B$2:$U$4999,2,FALSE)),\" --- NO EXISTE TRABAJADOR --- \")","v":""},null,null,null,null,null,"","","",{"$f":"IFERROR(IF(A290=\"\",\"\",VLOOKUP(A290,[1]Hoja1!$B$2:$U$4999,18,FALSE)),0)","v":""},{"$f":"IFERROR(IF(A290=\"\",\"\",VLOOKUP(A290,[1]Hoja1!$B$2:$U$4999,19,FALSE)),0)","v":""},"",null,{"$f":"IFERROR(IF(O290=\"\",\"\",VLOOKUP(O290,JORNADA!$A$19:$B$20,2,FALSE)),\"\")","v":""},{"$f":"IFERROR(IF(A290=\"\",\"\",VLOOKUP(A290,[1]Hoja1!$B$2:$U$4999,3,FALSE)),0)","v":""},null,"","",{"$f":"IFERROR(IF(A290=\"\",\"\",VLOOKUP(A290,[1]Hoja1!$B$2:$U$4999,10,FALSE)),0)","v":""},{"$f":"IFERROR(IF(Q290=\"\",\"\",VLOOKUP(Q290,[1]Hoja1!$D$2:$AF$4999,29,FALSE)),\"NO EXISTE CUENTA\")","v":""},null,null,""]
["",{"$f":"IFERROR(IF(A291=\"\",\"\",VLOOKUP(A291,[1]Hoja1!$B$2:$U$4999,9,FALSE)),0)","v":""},{"$f":"IFERROR(IF(A291=\"\",\"\",VLOOKUP(A291,[1]Hoja1!$B$2:$U$4999,2,FALSE)),\" --- NO EXISTE TRABAJADOR --- \")","v":""},null,null,null,null,null,"","","",{"$f":"IFERROR(IF(A291=\"\",\"\",VLOOKUP(A291,[1]Hoja1!$B$2:$U$4999,18,FALSE)),0)","v":""},{"$f":"IFERROR(IF(A291=\"\",\"\",VLOOKUP(A291,[1]Hoja1!$B$2:$U$4999,19,FALSE)),0)","v":""},"",null,{"$f":"IFERROR(IF(O291=\"\",\"\",VLOOKUP(O291,JORNADA!$A$19:$B$20,2,FALSE)),\"\")","v":""},{"$f":"IFERROR(IF(A291=\"\",\"\",VLOOKUP(A291,[1]Hoja1!$B$2:$U$4999,3,FALSE)),0)","v":""},null,"","",{"$f":"IFERROR(IF(A291=\"\",\"\",VLOOKUP(A291,[1]Hoja1!$B$2:$U$4999,10,FALSE)),0)","v":""},{"$f":"IFERROR(IF(Q291=\"\",\"\",VLOOKUP(Q291,[1]Hoja1!$D$2:$AF$4999,29,FALSE)),\"NO EXISTE CUENTA\")","v":""},null,null,""]
["",{"$f":"IFERROR(IF(A292=\"\",\"\",VLOOKUP(A292,[1]Hoja1!$B$2:$U$4999,9,FALSE)),0)","v":""},{"$f":"IFERROR(IF(A292=\"\",\"\",VLOOKUP(A292,[1]Hoja1!$B$2:$U$4999,2,FALSE)),\" --- NO EXISTE TRABAJADOR --- \")","v":""},null,null,null,null,null,"","","",{"$f":"IFERROR(IF(A292=\"\",\"\",VLOOKUP(A292,[1]Hoja1!$B$2:$U$4999,18,FALSE)),0)","v":""},{"$f":"IFERROR(IF(A292=\"\",\"\",VLOOKUP(A292,[1]Hoja1!$B$2:$U$4999,19,FALSE)),0)","v":""},"",null,{"$f":"IFERROR(IF(O292=\"\",\"\",VLOOKUP(O292,JORNADA!$A$19:$B$20,2,FALSE)),\"\")","v":""},{"$f":"IFERROR(IF(A292=\"\",\"\",VLOOKUP(A292,[1]Hoja1!$B$2:$U$4999,3,FALSE)),0)","v":""},null,"","",{"$f":"IFERROR(IF(A292=\"\",\"\",VLOOKUP(A292,[1]Hoja1!$B$2:$U$4999,10,FALSE)),0)","v":""},{"$f":"IFERROR(IF(Q292=\"\",\"\",VLOOKUP(Q292,[1]Hoja1!$D$2:$AF$4999,29,FALSE)),\"NO EXISTE CUENTA\")","v":""},null,null,""]
["",{"$f":"IFERROR(IF(A293=\"\",\"\",VLOOKUP(A293,[1]Hoja1!$B$2:$U$4999,9,FALSE)),0)","v":""},{"$f":"IFERROR(IF(A293=\"\",\"\",VLOOKUP(A293,[1]Hoja1!$B$2:$U$4999,2,FALSE)),\" --- NO EXISTE TRABAJADOR --- \")","v":""},null,null,null,null,null,"","","",{"$f":"IFERROR(IF(A293=\"\",\"\",VLOOKUP(A293,[1]Hoja1!$B$2:$U$4999,18,FALSE)),0)","v":""},{"$f":"IFERROR(IF(A293=\"\",\"\",VLOOKUP(A293,[1]Hoja1!$B$2:$U$4999,19,FALSE)),0)","v":""},"",null,{"$f":"IFERROR(IF(O293=\"\",\"\",VLOOKUP(O293,JORNADA!$A$19:$B$20,2,FALSE)),\"\")","v":""},{"$f":"IFERROR(IF(A293=\"\",\"\",VLOOKUP(A293,[1]Hoja1!$B$2:$U$4999,3,FALSE)),0)","v":""},null,"","",{"$f":"IFERROR(IF(A293=\"\",\"\",VLOOKUP(A293,[1]Hoja1!$B$2:$U$4999,10,FALSE)),0)","v":""},{"$f":"IFERROR(IF(Q293=\"\",\"\",VLOOKUP(Q293,[1]Hoja1!$D$2:$AF$4999,29,FALSE)),\"NO EXISTE CUENTA\")","v":""},null,null,""]
["",{"$f":"IFERROR(IF(A294=\"\",\"\",VLOOKUP(A294,[1]Hoja1!$B$2:$U$4999,9,FALSE)),0)","v":""},{"$f":"IFERROR(IF(A294=\"\",\"\",VLOOKUP(A294,[1]Hoja1!$B$2:$U$4999,2,FALSE)),\" --- NO EXISTE TRABAJADOR --- \")","v":""},null,null,null,null,null,"","","",{"$f":"IFERROR(IF(A294=\"\",\"\",VLOOKUP(A294,[1]Hoja1!$B$2:$U$4999,18,FALSE)),0)","v":""},{"$f":"IFERROR(IF(A294=\"\",\"\",VLOOKUP(A294,[1]Hoja1!$B$2:$U$4999,19,FALSE)),0)","v":""},"",null,{"$f":"IFERROR(IF(O294=\"\",\"\",VLOOKUP(O294,JORNADA!$A$19:$B$20,2,FALSE)),\"\")","v":""},{"$f":"IFERROR(IF(A294=\"\",\"\",VLOOKUP(A294,[1]Hoja1!$B$2:$U$4999,3,FALSE)),0)","v":""},null,"","",{"$f":"IFERROR(IF(A294=\"\",\"\",VLOOKUP(A294,[1]Hoja1!$B$2:$U$4999,10,FALSE)),0)","v":""},{"$f":"IFERROR(IF(Q294=\"\",\"\",VLOOKUP(Q294,[1]Hoja1!$D$2:$AF$4999,29,FALSE)),\"NO EXISTE CUENTA\")","v":""},null,null,""]
["",{"$f":"IFERROR(IF(A295=\"\",\"\",VLOOKUP(A295,[1]Hoja1!$B$2:$U$4999,9,FALSE)),0)","v":""},{"$f":"IFERROR(IF(A295=\"\",\"\",VLOOKUP(A295,[1]Hoja1!$B$2:$U$4999,2,FALSE)),\" --- NO EXISTE TRABAJADOR --- \")","v":""},null,null,null,null,null,"","","",{"$f":"IFERROR(IF(A295=\"\",\"\",VLOOKUP(A295,[1]Hoja1!$B$2:$U$4999,18,FALSE)),0)","v":""},{"$f":"IFERROR(IF(A295=\"\",\"\",VLOOKUP(A295,[1]Hoja1!$B$2:$U$4999,19,FALSE)),0)","v":""},"",null,{"$f":"IFERROR(IF(O295=\"\",\"\",VLOOKUP(O295,JORNADA!$A$19:$B$20,2,FALSE)),\"\")","v":""},{"$f":"IFERROR(IF(A295=\"\",\"\",VLOOKUP(A295,[1]Hoja1!$B$2:$U$4999,3,FALSE)),0)","v":""},null,"","",{"$f":"IFERROR(IF(A295=\"\",\"\",VLOOKUP(A295,[1]Hoja1!$B$2:$U$4999,10,FALSE)),0)","v":""},{"$f":"IFERROR(IF(Q295=\"\",\"\",VLOOKUP(Q295,[1]Hoja1!$D$2:$AF$4999,29,FALSE)),\"NO EXISTE CUENTA\")","v":""},null,null,""]
["",{"$f":"IFERROR(IF(A296=\"\",\"\",VLOOKUP(A296,[1]Hoja1!$B$2:$U$4999,9,FALSE)),0)","v":""},{"$f":"IFERROR(IF(A296=\"\",\"\",VLOOKUP(A296,[1]Hoja1!$B$2:$U$4999,2,FALSE)),\" --- NO EXISTE TRABAJADOR --- \")","v":""},null,null,null,null,null,"","","",{"$f":"IFERROR(IF(A296=\"\",\"\",VLOOKUP(A296,[1]Hoja1!$B$2:$U$4999,18,FALSE)),0)","v":""},{"$f":"IFERROR(IF(A296=\"\",\"\",VLOOKUP(A296,[1]Hoja1!$B$2:$U$4999,19,FALSE)),0)","v":""},"",null,{"$f":"IFERROR(IF(O296=\"\",\"\",VLOOKUP(O296,JORNADA!$A$19:$B$20,2,FALSE)),\"\")","v":""},{"$f":"IFERROR(IF(A296=\"\",\"\",VLOOKUP(A296,[1]Hoja1!$B$2:$U$4999,3,FALSE)),0)","v":""},null,"","",{"$f":"IFERROR(IF(A296=\"\",\"\",VLOOKUP(A296,[1]Hoja1!$B$2:$U$4999,10,FALSE)),0)","v":""},{"$f":"IFERROR(IF(Q296=\"\",\"\",VLOOKUP(Q296,[1]Hoja1!$D$2:$AF$4999,29,FALSE)),\"NO EXISTE CUENTA\")","v":""},null,null,""]
["",{"$f":"IFERROR(IF(A297=\"\",\"\",VLOOKUP(A297,[1]Hoja1!$B$2:$U$4999,9,FALSE)),0)","v":""},{"$f":"IFERROR(IF(A297=\"\",\"\",VLOOKUP(A297,[1]Hoja1!$B$2:$U$4999,2,FALSE)),\" --- NO EXISTE TRABAJADOR --- \")","v":""},null,null,null,null,null,"","","",{"$f":"IFERROR(IF(A297=\"\",\"\",VLOOKUP(A297,[1]Hoja1!$B$2:$U$4999,18,FALSE)),0)","v":""},{"$f":"IFERROR(IF(A297=\"\",\"\",VLOOKUP(A297,[1]Hoja1!$B$2:$U$4999,19,FALSE)),0)","v":""},"",null,{"$f":"IFERROR(IF(O297=\"\",\"\",VLOOKUP(O297,JORNADA!$A$19:$B$20,2,FALSE)),\"\")","v":""},{"$f":"IFERROR(IF(A297=\"\",\"\",VLOOKUP(A297,[1]Hoja1!$B$2:$U$4999,3,FALSE)),0)","v":""},null,"","",{"$f":"IFERROR(IF(A297=\"\",\"\",VLOOKUP(A297,[1]Hoja1!$B$2:$U$4999,10,FALSE)),0)","v":""},{"$f":"IFERROR(IF(Q297=\"\",\"\",VLOOKUP(Q297,[1]Hoja1!$D$2:$AF$4999,29,FALSE)),\"NO EXISTE CUENTA\")","v":""},null,null,""]
["",{"$f":"IFERROR(IF(A298=\"\",\"\",VLOOKUP(A298,[1]Hoja1!$B$2:$U$4999,9,FALSE)),0)","v":""},{"$f":"IFERROR(IF(A298=\"\",\"\",VLOOKUP(A298,[1]Hoja1!$B$2:$U$4999,2,FALSE)),\" --- NO EXISTE TRABAJADOR --- \")","v":""},null,null,null,null,null,"","","",{"$f":"IFERROR(IF(A298=\"\",\"\",VLOOKUP(A298,[1]Hoja1!$B$2:$U$4999,18,FALSE)),0)","v":""},{"$f":"IFERROR(IF(A298=\"\",\"\",VLOOKUP(A298,[1]Hoja1!$B$2:$U$4999,19,FALSE)),0)","v":""},"",null,{"$f":"IFERROR(IF(O298=\"\",\"\",VLOOKUP(O298,JORNADA!$A$19:$B$20,2,FALSE)),\"\")","v":""},{"$f":"IFERROR(IF(A298=\"\",\"\",VLOOKUP(A298,[1]Hoja1!$B$2:$U$4999,3,FALSE)),0)","v":""},null,"","",{"$f":"IFERROR(IF(A298=\"\",\"\",VLOOKUP(A298,[1]Hoja1!$B$2:$U$4999,10,FALSE)),0)","v":""},{"$f":"IFERROR(IF(Q298=\"\",\"\",VLOOKUP(Q298,[1]Hoja1!$D$2:$AF$4999,29,FALSE)),\"NO EXISTE CUENTA\")","v":""},null,null,""]
["",{"$f":"IFERROR(IF(A299=\"\",\"\",VLOOKUP(A299,[1]Hoja1!$B$2:$U$4999,9,FALSE)),0)","v":""},{"$f":"IFERROR(IF(A299=\"\",\"\",VLOOKUP(A299,[1]Hoja1!$B$2:$U$4999,2,FALSE)),\" --- NO EXISTE TRABAJADOR --- \")","v":""},null,null,null,null,null,"","","",{"$f":"IFERROR(IF(A299=\"\",\"\",VLOOKUP(A299,[1]Hoja1!$B$2:$U$4999,18,FALSE)),0)","v":""},{"$f":"IFERROR(IF(A299=\"\",\"\",VLOOKUP(A299,[1]Hoja1!$B$2:$U$4999,19,FALSE)),0)","v":""},"",null,{"$f":"IFERROR(IF(O299=\"\",\"\",VLOOKUP(O299,JORNADA!$A$19:$B$20,2,FALSE)),\"\")","v":""},{"$f":"IFERROR(IF(A299=\"\",\"\",VLOOKUP(A299,[1]Hoja1!$B$2:$U$4999,3,FALSE)),0)","v":""},null,"","",{"$f":"IFERROR(IF(A299=\"\",\"\",VLOOKUP(A299,[1]Hoja1!$B$2:$U$4999,10,FALSE)),0)","v":""},{"$f":"IFERROR(IF(Q299=\"\",\"\",VLOOKUP(Q299,[1]Hoja1!$D$2:$AF$4999,29,FALSE)),\"NO EXISTE CUENTA\")","v":""},null,null,""]
["",{"$f":"IFERROR(IF(A300=\"\",\"\",VLOOKUP(A300,[1]Hoja1!$B$2:$U$4999,9,FALSE)),0)","v":""},{"$f":"IFERROR(IF(A300=\"\",\"\",VLOOKUP(A300,[1]Hoja1!$B$2:$U$4999,2,FALSE)),\" --- NO EXISTE TRABAJADOR --- \")","v":""},null,null,null,null,null,"","","",{"$f":"IFERROR(IF(A300=\"\",\"\",VLOOKUP(A300,[1]Hoja1!$B$2:$U$4999,18,FALSE)),0)","v":""},{"$f":"IFERROR(IF(A300=\"\",\"\",VLOOKUP(A300,[1]Hoja1!$B$2:$U$4999,19,FALSE)),0)","v":""},"",null,{"$f":"IFERROR(IF(O300=\"\",\"\",VLOOKUP(O300,JORNADA!$A$19:$B$20,2,FALSE)),\"\")","v":""},{"$f":"IFERROR(IF(A300=\"\",\"\",VLOOKUP(A300,[1]Hoja1!$B$2:$U$4999,3,FALSE)),0)","v":""},null,"","",{"$f":"IFERROR(IF(A300=\"\",\"\",VLOOKUP(A300,[1]Hoja1!$B$2:$U$4999,10,FALSE)),0)","v":""},{"$f":"IFERROR(IF(Q300=\"\",\"\",VLOOKUP(Q300,[1]Hoja1!$D$2:$AF$4999,29,FALSE)),\"NO EXISTE CUENTA\")","v":""},null,null,""]
["",{"$f":"IFERROR(IF(A301=\"\",\"\",VLOOKUP(A301,[1]Hoja1!$B$2:$U$4999,9,FALSE)),0)","v":""},{"$f":"IFERROR(IF(A301=\"\",\"\",VLOOKUP(A301,[1]Hoja1!$B$2:$U$4999,2,FALSE)),\" --- NO EXISTE TRABAJADOR --- \")","v":""},null,null,null,null,null,"","","",{"$f":"IFERROR(IF(A301=\"\",\"\",VLOOKUP(A301,[1]Hoja1!$B$2:$U$4999,18,FALSE)),0)","v":""},{"$f":"IFERROR(IF(A301=\"\",\"\",VLOOKUP(A301,[1]Hoja1!$B$2:$U$4999,19,FALSE)),0)","v":""},"",null,{"$f":"IFERROR(IF(O301=\"\",\"\",VLOOKUP(O301,JORNADA!$A$19:$B$20,2,FALSE)),\"\")","v":""},{"$f":"IFERROR(IF(A301=\"\",\"\",VLOOKUP(A301,[1]Hoja1!$B$2:$U$4999,3,FALSE)),0)","v":""},null,"","",{"$f":"IFERROR(IF(A301=\"\",\"\",VLOOKUP(A301,[1]Hoja1!$B$2:$U$4999,10,FALSE)),0)","v":""},{"$f":"IFERROR(IF(Q301=\"\",\"\",VLOOKUP(Q301,[1]Hoja1!$D$2:$AF$4999,29,FALSE)),\"NO EXISTE CUENTA\")","v":""},null,null,""]
["",{"$f":"IFERROR(IF(A302=\"\",\"\",VLOOKUP(A302,[1]Hoja1!$B$2:$U$4999,9,FALSE)),0)","v":""},{"$f":"IFERROR(IF(A302=\"\",\"\",VLOOKUP(A302,[1]Hoja1!$B$2:$U$4999,2,FALSE)),\" --- NO EXISTE TRABAJADOR --- \")","v":""},null,null,null,null,null,"","","",{"$f":"IFERROR(IF(A302=\"\",\"\",VLOOKUP(A302,[1]Hoja1!$B$2:$U$4999,18,FALSE)),0)","v":""},{"$f":"IFERROR(IF(A302=\"\",\"\",VLOOKUP(A302,[1]Hoja1!$B$2:$U$4999,19,FALSE)),0)","v":""},"",null,{"$f":"IFERROR(IF(O302=\"\",\"\",VLOOKUP(O302,JORNADA!$A$19:$B$20,2,FALSE)),\"\")","v":""},{"$f":"IFERROR(IF(A302=\"\",\"\",VLOOKUP(A302,[1]Hoja1!$B$2:$U$4999,3,FALSE)),0)","v":""},null,"","",{"$f":"IFERROR(IF(A302=\"\",\"\",VLOOKUP(A302,[1]Hoja1!$B$2:$U$4999,10,FALSE)),0)","v":""},{"$f":"IFERROR(IF(Q302=\"\",\"\",VLOOKUP(Q302,[1]Hoja1!$D$2:$AF$4999,29,FALSE)),\"NO EXISTE CUENTA\")","v":""},null,null,""]
["",{"$f":"IFERROR(IF(A303=\"\",\"\",VLOOKUP(A303,[1]Hoja1!$B$2:$U$4999,9,FALSE)),0)","v":""},{"$f":"IFERROR(IF(A303=\"\",\"\",VLOOKUP(A303,[1]Hoja1!$B$2:$U$4999,2,FALSE)),\" --- NO EXISTE TRABAJADOR --- \")","v":""},null,null,null,null,null,"","","",{"$f":"IFERROR(IF(A303=\"\",\"\",VLOOKUP(A303,[1]Hoja1!$B$2:$U$4999,18,FALSE)),0)","v":""},{"$f":"IFERROR(IF(A303=\"\",\"\",VLOOKUP(A303,[1]Hoja1!$B$2:$U$4999,19,FALSE)),0)","v":""},"",null,{"$f":"IFERROR(IF(O303=\"\",\"\",VLOOKUP(O303,JORNADA!$A$19:$B$20,2,FALSE)),\"\")","v":""},{"$f":"IFERROR(IF(A303=\"\",\"\",VLOOKUP(A303,[1]Hoja1!$B$2:$U$4999,3,FALSE)),0)","v":""},null,"","",{"$f":"IFERROR(IF(A303=\"\",\"\",VLOOKUP(A303,[1]Hoja1!$B$2:$U$4999,10,FALSE)),0)","v":""},{"$f":"IFERROR(IF(Q303=\"\",\"\",VLOOKUP(Q303,[1]Hoja1!$D$2:$AF$4999,29,FALSE)),\"NO EXISTE CUENTA\")","v":""},null,null,""]
["",{"$f":"IFERROR(IF(A304=\"\",\"\",VLOOKUP(A304,[1]Hoja1!$B$2:$U$4999,9,FALSE)),0)","v":""},{"$f":"IFERROR(IF(A304=\"\",\"\",VLOOKUP(A304,[1]Hoja1!$B$2:$U$4999,2,FALSE)),\" --- NO EXISTE TRABAJADOR --- \")","v":""},null,null,null,null,null,"","","",{"$f":"IFERROR(IF(A304=\"\",\"\",VLOOKUP(A304,[1]Hoja1!$B$2:$U$4999,18,FALSE)),0)","v":""},{"$f":"IFERROR(IF(A304=\"\",\"\",VLOOKUP(A304,[1]Hoja1!$B$2:$U$4999,19,FALSE)),0)","v":""},"",null,{"$f":"IFERROR(IF(O304=\"\",\"\",VLOOKUP(O304,JORNADA!$A$19:$B$20,2,FALSE)),\"\")","v":""},{"$f":"IFERROR(IF(A304=\"\",\"\",VLOOKUP(A304,[1]Hoja1!$B$2:$U$4999,3,FALSE)),0)","v":""},null,"","",{"$f":"IFERROR(IF(A304=\"\",\"\",VLOOKUP(A304,[1]Hoja1!$B$2:$U$4999,10,FALSE)),0)","v":""},{"$f":"IFERROR(IF(Q304=\"\",\"\",VLOOKUP(Q304,[1]Hoja1!$D$2:$AF$4999,29,FALSE)),\"NO EXISTE CUENTA\")","v":""},null,null,""]
["",{"$f":"IFERROR(IF(A305=\"\",\"\",VLOOKUP(A305,[1]Hoja1!$B$2:$U$4999,9,FALSE)),0)","v":""},{"$f":"IFERROR(IF(A305=\"\",\"\",VLOOKUP(A305,[1]Hoja1!$B$2:$U$4999,2,FALSE)),\" --- NO EXISTE TRABAJADOR --- \")","v":""},null,null,null,null,null,"","","",{"$f":"IFERROR(IF(A305=\"\",\"\",VLOOKUP(A305,[1]Hoja1!$B$2:$U$4999,18,FALSE)),0)","v":""},{"$f":"IFERROR(IF(A305=\"\",\"\",VLOOKUP(A305,[1]Hoja1!$B$2:$U$4999,19,FALSE)),0)","v":""},"",null,{"$f":"IFERROR(IF(O305=\"\",\"\",VLOOKUP(O305,JORNADA!$A$19:$B$20,2,FALSE)),\"\")","v":""},{"$f":"IFERROR(IF(A305=\"\",\"\",VLOOKUP(A305,[1]Hoja1!$B$2:$U$4999,3,FALSE)),0)","v":""},null,"","",{"$f":"IFERROR(IF(A305=\"\",\"\",VLOOKUP(A305,[1]Hoja1!$B$2:$U$4999,10,FALSE)),0)","v":""},{"$f":"IFERROR(IF(Q305=\"\",\"\",VLOOKUP(Q305,[1]Hoja1!$D$2:$AF$4999,29,FALSE)),\"NO EXISTE CUENTA\")","v":""},null,null,""]
["",{"$f":"IFERROR(IF(A306=\"\",\"\",VLOOKUP(A306,[1]Hoja1!$B$2:$U$4999,9,FALSE)),0)","v":""},{"$f":"IFERROR(IF(A306=\"\",\"\",VLOOKUP(A306,[1]Hoja1!$B$2:$U$4999,2,FALSE)),\" --- NO EXISTE TRABAJADOR --- \")","v":""},null,null,null,null,null,"","","",{"$f":"IFERROR(IF(A306=\"\",\"\",VLOOKUP(A306,[1]Hoja1!$B$2:$U$4999,18,FALSE)),0)","v":""},{"$f":"IFERROR(IF(A306=\"\",\"\",VLOOKUP(A306,[1]Hoja1!$B$2:$U$4999,19,FALSE)),0)","v":""},"",null,{"$f":"IFERROR(IF(O306=\"\",\"\",VLOOKUP(O306,JORNADA!$A$19:$B$20,2,FALSE)),\"\")","v":""},{"$f":"IFERROR(IF(A306=\"\",\"\",VLOOKUP(A306,[1]Hoja1!$B$2:$U$4999,3,FALSE)),0)","v":""},null,"","",{"$f":"IFERROR(IF(A306=\"\",\"\",VLOOKUP(A306,[1]Hoja1!$B$2:$U$4999,10,FALSE)),0)","v":""},{"$f":"IFERROR(IF(Q306=\"\",\"\",VLOOKUP(Q306,[1]Hoja1!$D$2:$AF$4999,29,FALSE)),\"NO EXISTE CUENTA\")","v":""},null,null,""]
["",{"$f":"IFERROR(IF(A307=\"\",\"\",VLOOKUP(A307,[1]Hoja1!$B$2:$U$4999,9,FALSE)),0)","v":""},{"$f":"IFERROR(IF(A307=\"\",\"\",VLOOKUP(A307,[1]Hoja1!$B$2:$U$4999,2,FALSE)),\" --- NO EXISTE TRABAJADOR --- \")","v":""},null,null,null,null,null,"","","",{"$f":"IFERROR(IF(A307=\"\",\"\",VLOOKUP(A307,[1]Hoja1!$B$2:$U$4999,18,FALSE)),0)","v":""},{"$f":"IFERROR(IF(A307=\"\",\"\",VLOOKUP(A307,[1]Hoja1!$B$2:$U$4999,19,FALSE)),0)","v":""},"",null,{"$f":"IFERROR(IF(O307=\"\",\"\",VLOOKUP(O307,JORNADA!$A$19:$B$20,2,FALSE)),\"\")","v":""},{"$f":"IFERROR(IF(A307=\"\",\"\",VLOOKUP(A307,[1]Hoja1!$B$2:$U$4999,3,FALSE)),0)","v":""},null,"","",{"$f":"IFERROR(IF(A307=\"\",\"\",VLOOKUP(A307,[1]Hoja1!$B$2:$U$4999,10,FALSE)),0)","v":""},{"$f":"IFERROR(IF(Q307=\"\",\"\",VLOOKUP(Q307,[1]Hoja1!$D$2:$AF$4999,29,FALSE)),\"NO EXISTE CUENTA\")","v":""},null,null,""]
["",{"$f":"IFERROR(IF(A308=\"\",\"\",VLOOKUP(A308,[1]Hoja1!$B$2:$U$4999,9,FALSE)),0)","v":""},{"$f":"IFERROR(IF(A308=\"\",\"\",VLOOKUP(A308,[1]Hoja1!$B$2:$U$4999,2,FALSE)),\" --- NO EXISTE TRABAJADOR --- \")","v":""},null,null,null,null,null,"","","",{"$f":"IFERROR(IF(A308=\"\",\"\",VLOOKUP(A308,[1]Hoja1!$B$2:$U$4999,18,FALSE)),0)","v":""},{"$f":"IFERROR(IF(A308=\"\",\"\",VLOOKUP(A308,[1]Hoja1!$B$2:$U$4999,19,FALSE)),0)","v":""},"",null,{"$f":"IFERROR(IF(O308=\"\",\"\",VLOOKUP(O308,JORNADA!$A$19:$B$20,2,FALSE)),\"\")","v":""},{"$f":"IFERROR(IF(A308=\"\",\"\",VLOOKUP(A308,[1]Hoja1!$B$2:$U$4999,3,FALSE)),0)","v":""},null,"","",{"$f":"IFERROR(IF(A308=\"\",\"\",VLOOKUP(A308,[1]Hoja1!$B$2:$U$4999,10,FALSE)),0)","v":""},{"$f":"IFERROR(IF(Q308=\"\",\"\",VLOOKUP(Q308,[1]Hoja1!$D$2:$AF$4999,29,FALSE)),\"NO EXISTE CUENTA\")","v":""},null,null,""]
["",{"$f":"IFERROR(IF(A309=\"\",\"\",VLOOKUP(A309,[1]Hoja1!$B$2:$U$4999,9,FALSE)),0)","v":""},{"$f":"IFERROR(IF(A309=\"\",\"\",VLOOKUP(A309,[1]Hoja1!$B$2:$U$4999,2,FALSE)),\" --- NO EXISTE TRABAJADOR --- \")","v":""},null,null,null,null,null,"","","",{"$f":"IFERROR(IF(A309=\"\",\"\",VLOOKUP(A309,[1]Hoja1!$B$2:$U$4999,18,FALSE)),0)","v":""},{"$f":"IFERROR(IF(A309=\"\",\"\",VLOOKUP(A309,[1]Hoja1!$B$2:$U$4999,19,FALSE)),0)","v":""},"",null,{"$f":"IFERROR(IF(O309=\"\",\"\",VLOOKUP(O309,JORNADA!$A$19:$B$20,2,FALSE)),\"\")","v":""},{"$f":"IFERROR(IF(A309=\"\",\"\",VLOOKUP(A309,[1]Hoja1!$B$2:$U$4999,3,FALSE)),0)","v":""},null,"","",{"$f":"IFERROR(IF(A309=\"\",\"\",VLOOKUP(A309,[1]Hoja1!$B$2:$U$4999,10,FALSE)),0)","v":""},{"$f":"IFERROR(IF(Q309=\"\",\"\",VLOOKUP(Q309,[1]Hoja1!$D$2:$AF$4999,29,FALSE)),\"NO EXISTE CUENTA\")","v":""},null,null,""]
["",{"$f":"IFERROR(IF(A310=\"\",\"\",VLOOKUP(A310,[1]Hoja1!$B$2:$U$4999,9,FALSE)),0)","v":""},{"$f":"IFERROR(IF(A310=\"\",\"\",VLOOKUP(A310,[1]Hoja1!$B$2:$U$4999,2,FALSE)),\" --- NO EXISTE TRABAJADOR --- \")","v":""},null,null,null,null,null,"","","",{"$f":"IFERROR(IF(A310=\"\",\"\",VLOOKUP(A310,[1]Hoja1!$B$2:$U$4999,18,FALSE)),0)","v":""},{"$f":"IFERROR(IF(A310=\"\",\"\",VLOOKUP(A310,[1]Hoja1!$B$2:$U$4999,19,FALSE)),0)","v":""},"",null,{"$f":"IFERROR(IF(O310=\"\",\"\",VLOOKUP(O310,JORNADA!$A$19:$B$20,2,FALSE)),\"\")","v":""},{"$f":"IFERROR(IF(A310=\"\",\"\",VLOOKUP(A310,[1]Hoja1!$B$2:$U$4999,3,FALSE)),0)","v":""},null,"","",{"$f":"IFERROR(IF(A310=\"\",\"\",VLOOKUP(A310,[1]Hoja1!$B$2:$U$4999,10,FALSE)),0)","v":""},{"$f":"IFERROR(IF(Q310=\"\",\"\",VLOOKUP(Q310,[1]Hoja1!$D$2:$AF$4999,29,FALSE)),\"NO EXISTE CUENTA\")","v":""},null,null,""]
["",{"$f":"IFERROR(IF(A311=\"\",\"\",VLOOKUP(A311,[1]Hoja1!$B$2:$U$4999,9,FALSE)),0)","v":""},{"$f":"IFERROR(IF(A311=\"\",\"\",VLOOKUP(A311,[1]Hoja1!$B$2:$U$4999,2,FALSE)),\" --- NO EXISTE TRABAJADOR --- \")","v":""},null,null,null,null,null,"","","",{"$f":"IFERROR(IF(A311=\"\",\"\",VLOOKUP(A311,[1]Hoja1!$B$2:$U$4999,18,FALSE)),0)","v":""},{"$f":"IFERROR(IF(A311=\"\",\"\",VLOOKUP(A311,[1]Hoja1!$B$2:$U$4999,19,FALSE)),0)","v":""},"",null,{"$f":"IFERROR(IF(O311=\"\",\"\",VLOOKUP(O311,JORNADA!$A$19:$B$20,2,FALSE)),\"\")","v":""},{"$f":"IFERROR(IF(A311=\"\",\"\",VLOOKUP(A311,[1]Hoja1!$B$2:$U$4999,3,FALSE)),0)","v":""},null,"","",{"$f":"IFERROR(IF(A311=\"\",\"\",VLOOKUP(A311,[1]Hoja1!$B$2:$U$4999,10,FALSE)),0)","v":""},{"$f":"IFERROR(IF(Q311=\"\",\"\",VLOOKUP(Q311,[1]Hoja1!$D$2:$AF$4999,29,FALSE)),\"NO EXISTE CUENTA\")","v":""},null,null,""]
["",{"$f":"IFERROR(IF(A312=\"\",\"\",VLOOKUP(A312,[1]Hoja1!$B$2:$U$4999,9,FALSE)),0)","v":""},{"$f":"IFERROR(IF(A312=\"\",\"\",VLOOKUP(A312,[1]Hoja1!$B$2:$U$4999,2,FALSE)),\" --- NO EXISTE TRABAJADOR --- \")","v":""},null,null,null,null,null,"","","",{"$f":"IFERROR(IF(A312=\"\",\"\",VLOOKUP(A312,[1]Hoja1!$B$2:$U$4999,18,FALSE)),0)","v":""},{"$f":"IFERROR(IF(A312=\"\",\"\",VLOOKUP(A312,[1]Hoja1!$B$2:$U$4999,19,FALSE)),0)","v":""},"",null,{"$f":"IFERROR(IF(O312=\"\",\"\",VLOOKUP(O312,JORNADA!$A$19:$B$20,2,FALSE)),\"\")","v":""},{"$f":"IFERROR(IF(A312=\"\",\"\",VLOOKUP(A312,[1]Hoja1!$B$2:$U$4999,3,FALSE)),0)","v":""},null,"","",{"$f":"IFERROR(IF(A312=\"\",\"\",VLOOKUP(A312,[1]Hoja1!$B$2:$U$4999,10,FALSE)),0)","v":""},{"$f":"IFERROR(IF(Q312=\"\",\"\",VLOOKUP(Q312,[1]Hoja1!$D$2:$AF$4999,29,FALSE)),\"NO EXISTE CUENTA\")","v":""},null,null,""]
["",{"$f":"IFERROR(IF(A313=\"\",\"\",VLOOKUP(A313,[1]Hoja1!$B$2:$U$4999,9,FALSE)),0)","v":""},{"$f":"IFERROR(IF(A313=\"\",\"\",VLOOKUP(A313,[1]Hoja1!$B$2:$U$4999,2,FALSE)),\" --- NO EXISTE TRABAJADOR --- \")","v":""},null,null,null,null,null,"","","",{"$f":"IFERROR(IF(A313=\"\",\"\",VLOOKUP(A313,[1]Hoja1!$B$2:$U$4999,18,FALSE)),0)","v":""},{"$f":"IFERROR(IF(A313=\"\",\"\",VLOOKUP(A313,[1]Hoja1!$B$2:$U$4999,19,FALSE)),0)","v":""},"",null,{"$f":"IFERROR(IF(O313=\"\",\"\",VLOOKUP(O313,JORNADA!$A$19:$B$20,2,FALSE)),\"\")","v":""},{"$f":"IFERROR(IF(A313=\"\",\"\",VLOOKUP(A313,[1]Hoja1!$B$2:$U$4999,3,FALSE)),0)","v":""},null,"","",{"$f":"IFERROR(IF(A313=\"\",\"\",VLOOKUP(A313,[1]Hoja1!$B$2:$U$4999,10,FALSE)),0)","v":""},{"$f":"IFERROR(IF(Q313=\"\",\"\",VLOOKUP(Q313,[1]Hoja1!$D$2:$AF$4999,29,FALSE)),\"NO EXISTE CUENTA\")","v":""},null,null,""]
["",{"$f":"IFERROR(IF(A314=\"\",\"\",VLOOKUP(A314,[1]Hoja1!$B$2:$U$4999,9,FALSE)),0)","v":""},{"$f":"IFERROR(IF(A314=\"\",\"\",VLOOKUP(A314,[1]Hoja1!$B$2:$U$4999,2,FALSE)),\" --- NO EXISTE TRABAJADOR --- \")","v":""},null,null,null,null,null,"","","",{"$f":"IFERROR(IF(A314=\"\",\"\",VLOOKUP(A314,[1]Hoja1!$B$2:$U$4999,18,FALSE)),0)","v":""},{"$f":"IFERROR(IF(A314=\"\",\"\",VLOOKUP(A314,[1]Hoja1!$B$2:$U$4999,19,FALSE)),0)","v":""},"",null,{"$f":"IFERROR(IF(O314=\"\",\"\",VLOOKUP(O314,JORNADA!$A$19:$B$20,2,FALSE)),\"\")","v":""},{"$f":"IFERROR(IF(A314=\"\",\"\",VLOOKUP(A314,[1]Hoja1!$B$2:$U$4999,3,FALSE)),0)","v":""},null,"","",{"$f":"IFERROR(IF(A314=\"\",\"\",VLOOKUP(A314,[1]Hoja1!$B$2:$U$4999,10,FALSE)),0)","v":""},{"$f":"IFERROR(IF(Q314=\"\",\"\",VLOOKUP(Q314,[1]Hoja1!$D$2:$AF$4999,29,FALSE)),\"NO EXISTE CUENTA\")","v":""},null,null,""]
["",{"$f":"IFERROR(IF(A315=\"\",\"\",VLOOKUP(A315,[1]Hoja1!$B$2:$U$4999,9,FALSE)),0)","v":""},{"$f":"IFERROR(IF(A315=\"\",\"\",VLOOKUP(A315,[1]Hoja1!$B$2:$U$4999,2,FALSE)),\" --- NO EXISTE TRABAJADOR --- \")","v":""},null,null,null,null,null,"","","",{"$f":"IFERROR(IF(A315=\"\",\"\",VLOOKUP(A315,[1]Hoja1!$B$2:$U$4999,18,FALSE)),0)","v":""},{"$f":"IFERROR(IF(A315=\"\",\"\",VLOOKUP(A315,[1]Hoja1!$B$2:$U$4999,19,FALSE)),0)","v":""},"",null,{"$f":"IFERROR(IF(O315=\"\",\"\",VLOOKUP(O315,JORNADA!$A$19:$B$20,2,FALSE)),\"\")","v":""},{"$f":"IFERROR(IF(A315=\"\",\"\",VLOOKUP(A315,[1]Hoja1!$B$2:$U$4999,3,FALSE)),0)","v":""},null,"","",{"$f":"IFERROR(IF(A315=\"\",\"\",VLOOKUP(A315,[1]Hoja1!$B$2:$U$4999,10,FALSE)),0)","v":""},{"$f":"IFERROR(IF(Q315=\"\",\"\",VLOOKUP(Q315,[1]Hoja1!$D$2:$AF$4999,29,FALSE)),\"NO EXISTE CUENTA\")","v":""},null,null,""]
["",{"$f":"IFERROR(IF(A316=\"\",\"\",VLOOKUP(A316,[1]Hoja1!$B$2:$U$4999,9,FALSE)),0)","v":""},{"$f":"IFERROR(IF(A316=\"\",\"\",VLOOKUP(A316,[1]Hoja1!$B$2:$U$4999,2,FALSE)),\" --- NO EXISTE TRABAJADOR --- \")","v":""},null,null,null,null,null,"","","",{"$f":"IFERROR(IF(A316=\"\",\"\",VLOOKUP(A316,[1]Hoja1!$B$2:$U$4999,18,FALSE)),0)","v":""},{"$f":"IFERROR(IF(A316=\"\",\"\",VLOOKUP(A316,[1]Hoja1!$B$2:$U$4999,19,FALSE)),0)","v":""},"",null,{"$f":"IFERROR(IF(O316=\"\",\"\",VLOOKUP(O316,JORNADA!$A$19:$B$20,2,FALSE)),\"\")","v":""},{"$f":"IFERROR(IF(A316=\"\",\"\",VLOOKUP(A316,[1]Hoja1!$B$2:$U$4999,3,FALSE)),0)","v":""},null,"","",{"$f":"IFERROR(IF(A316=\"\",\"\",VLOOKUP(A316,[1]Hoja1!$B$2:$U$4999,10,FALSE)),0)","v":""},{"$f":"IFERROR(IF(Q316=\"\",\"\",VLOOKUP(Q316,[1]Hoja1!$D$2:$AF$4999,29,FALSE)),\"NO EXISTE CUENTA\")","v":""},null,null,""]
["",{"$f":"IFERROR(IF(A317=\"\",\"\",VLOOKUP(A317,[1]Hoja1!$B$2:$U$4999,9,FALSE)),0)","v":""},{"$f":"IFERROR(IF(A317=\"\",\"\",VLOOKUP(A317,[1]Hoja1!$B$2:$U$4999,2,FALSE)),\" --- NO EXISTE TRABAJADOR --- \")","v":""},null,null,null,null,null,"","","",{"$f":"IFERROR(IF(A317=\"\",\"\",VLOOKUP(A317,[1]Hoja1!$B$2:$U$4999,18,FALSE)),0)","v":""},{"$f":"IFERROR(IF(A317=\"\",\"\",VLOOKUP(A317,[1]Hoja1!$B$2:$U$4999,19,FALSE)),0)","v":""},"",null,{"$f":"IFERROR(IF(O317=\"\",\"\",VLOOKUP(O317,JORNADA!$A$19:$B$20,2,FALSE)),\"\")","v":""},{"$f":"IFERROR(IF(A317=\"\",\"\",VLOOKUP(A317,[1]Hoja1!$B$2:$U$4999,3,FALSE)),0)","v":""},null,"","",{"$f":"IFERROR(IF(A317=\"\",\"\",VLOOKUP(A317,[1]Hoja1!$B$2:$U$4999,10,FALSE)),0)","v":""},{"$f":"IFERROR(IF(Q317=\"\",\"\",VLOOKUP(Q317,[1]Hoja1!$D$2:$AF$4999,29,FALSE)),\"NO EXISTE CUENTA\")","v":""},null,null,""]
["",{"$f":"IFERROR(IF(A318=\"\",\"\",VLOOKUP(A318,[1]Hoja1!$B$2:$U$4999,9,FALSE)),0)","v":""},{"$f":"IFERROR(IF(A318=\"\",\"\",VLOOKUP(A318,[1]Hoja1!$B$2:$U$4999,2,FALSE)),\" --- NO EXISTE TRABAJADOR --- \")","v":""},null,null,null,null,null,"","","",{"$f":"IFERROR(IF(A318=\"\",\"\",VLOOKUP(A318,[1]Hoja1!$B$2:$U$4999,18,FALSE)),0)","v":""},{"$f":"IFERROR(IF(A318=\"\",\"\",VLOOKUP(A318,[1]Hoja1!$B$2:$U$4999,19,FALSE)),0)","v":""},"",null,{"$f":"IFERROR(IF(O318=\"\",\"\",VLOOKUP(O318,JORNADA!$A$19:$B$20,2,FALSE)),\"\")","v":""},{"$f":"IFERROR(IF(A318=\"\",\"\",VLOOKUP(A318,[1]Hoja1!$B$2:$U$4999,3,FALSE)),0)","v":""},null,"","",{"$f":"IFERROR(IF(A318=\"\",\"\",VLOOKUP(A318,[1]Hoja1!$B$2:$U$4999,10,FALSE)),0)","v":""},{"$f":"IFERROR(IF(Q318=\"\",\"\",VLOOKUP(Q318,[1]Hoja1!$D$2:$AF$4999,29,FALSE)),\"NO EXISTE CUENTA\")","v":""},null,null,""]
["",{"$f":"IFERROR(IF(A319=\"\",\"\",VLOOKUP(A319,[1]Hoja1!$B$2:$U$4999,9,FALSE)),0)","v":""},{"$f":"IFERROR(IF(A319=\"\",\"\",VLOOKUP(A319,[1]Hoja1!$B$2:$U$4999,2,FALSE)),\" --- NO EXISTE TRABAJADOR --- \")","v":""},null,null,null,null,null,"","","",{"$f":"IFERROR(IF(A319=\"\",\"\",VLOOKUP(A319,[1]Hoja1!$B$2:$U$4999,18,FALSE)),0)","v":""},{"$f":"IFERROR(IF(A319=\"\",\"\",VLOOKUP(A319,[1]Hoja1!$B$2:$U$4999,19,FALSE)),0)","v":""},"",null,{"$f":"IFERROR(IF(O319=\"\",\"\",VLOOKUP(O319,JORNADA!$A$19:$B$20,2,FALSE)),\"\")","v":""},{"$f":"IFERROR(IF(A319=\"\",\"\",VLOOKUP(A319,[1]Hoja1!$B$2:$U$4999,3,FALSE)),0)","v":""},null,"","",{"$f":"IFERROR(IF(A319=\"\",\"\",VLOOKUP(A319,[1]Hoja1!$B$2:$U$4999,10,FALSE)),0)","v":""},{"$f":"IFERROR(IF(Q319=\"\",\"\",VLOOKUP(Q319,[1]Hoja1!$D$2:$AF$4999,29,FALSE)),\"NO EXISTE CUENTA\")","v":""},null,null,""]
["",{"$f":"IFERROR(IF(A320=\"\",\"\",VLOOKUP(A320,[1]Hoja1!$B$2:$U$4999,9,FALSE)),0)","v":""},{"$f":"IFERROR(IF(A320=\"\",\"\",VLOOKUP(A320,[1]Hoja1!$B$2:$U$4999,2,FALSE)),\" --- NO EXISTE TRABAJADOR --- \")","v":""},null,null,null,null,null,"","","",{"$f":"IFERROR(IF(A320=\"\",\"\",VLOOKUP(A320,[1]Hoja1!$B$2:$U$4999,18,FALSE)),0)","v":""},{"$f":"IFERROR(IF(A320=\"\",\"\",VLOOKUP(A320,[1]Hoja1!$B$2:$U$4999,19,FALSE)),0)","v":""},"",null,{"$f":"IFERROR(IF(O320=\"\",\"\",VLOOKUP(O320,JORNADA!$A$19:$B$20,2,FALSE)),\"\")","v":""},{"$f":"IFERROR(IF(A320=\"\",\"\",VLOOKUP(A320,[1]Hoja1!$B$2:$U$4999,3,FALSE)),0)","v":""},null,"","",{"$f":"IFERROR(IF(A320=\"\",\"\",VLOOKUP(A320,[1]Hoja1!$B$2:$U$4999,10,FALSE)),0)","v":""},{"$f":"IFERROR(IF(Q320=\"\",\"\",VLOOKUP(Q320,[1]Hoja1!$D$2:$AF$4999,29,FALSE)),\"NO EXISTE CUENTA\")","v":""},null,null,""]
["",{"$f":"IFERROR(IF(A321=\"\",\"\",VLOOKUP(A321,[1]Hoja1!$B$2:$U$4999,9,FALSE)),0)","v":""},{"$f":"IFERROR(IF(A321=\"\",\"\",VLOOKUP(A321,[1]Hoja1!$B$2:$U$4999,2,FALSE)),\" --- NO EXISTE TRABAJADOR --- \")","v":""},null,null,null,null,null,"","","",{"$f":"IFERROR(IF(A321=\"\",\"\",VLOOKUP(A321,[1]Hoja1!$B$2:$U$4999,18,FALSE)),0)","v":""},{"$f":"IFERROR(IF(A321=\"\",\"\",VLOOKUP(A321,[1]Hoja1!$B$2:$U$4999,19,FALSE)),0)","v":""},"",null,{"$f":"IFERROR(IF(O321=\"\",\"\",VLOOKUP(O321,JORNADA!$A$19:$B$20,2,FALSE)),\"\")","v":""},{"$f":"IFERROR(IF(A321=\"\",\"\",VLOOKUP(A321,[1]Hoja1!$B$2:$U$4999,3,FALSE)),0)","v":""},null,"","",{"$f":"IFERROR(IF(A321=\"\",\"\",VLOOKUP(A321,[1]Hoja1!$B$2:$U$4999,10,FALSE)),0)","v":""},{"$f":"IFERROR(IF(Q321=\"\",\"\",VLOOKUP(Q321,[1]Hoja1!$D$2:$AF$4999,29,FALSE)),\"NO EXISTE CUENTA\")","v":""},null,null,""]
["",{"$f":"IFERROR(IF(A322=\"\",\"\",VLOOKUP(A322,[1]Hoja1!$B$2:$U$4999,9,FALSE)),0)","v":""},{"$f":"IFERROR(IF(A322=\"\",\"\",VLOOKUP(A322,[1]Hoja1!$B$2:$U$4999,2,FALSE)),\" --- NO EXISTE TRABAJADOR --- \")","v":""},null,null,null,null,null,"","","",{"$f":"IFERROR(IF(A322=\"\",\"\",VLOOKUP(A322,[1]Hoja1!$B$2:$U$4999,18,FALSE)),0)","v":""},{"$f":"IFERROR(IF(A322=\"\",\"\",VLOOKUP(A322,[1]Hoja1!$B$2:$U$4999,19,FALSE)),0)","v":""},"",null,{"$f":"IFERROR(IF(O322=\"\",\"\",VLOOKUP(O322,JORNADA!$A$19:$B$20,2,FALSE)),\"\")","v":""},{"$f":"IFERROR(IF(A322=\"\",\"\",VLOOKUP(A322,[1]Hoja1!$B$2:$U$4999,3,FALSE)),0)","v":""},null,"","",{"$f":"IFERROR(IF(A322=\"\",\"\",VLOOKUP(A322,[1]Hoja1!$B$2:$U$4999,10,FALSE)),0)","v":""},{"$f":"IFERROR(IF(Q322=\"\",\"\",VLOOKUP(Q322,[1]Hoja1!$D$2:$AF$4999,29,FALSE)),\"NO EXISTE CUENTA\")","v":""},null,null,""]
[{"$f":"+S323","v":""},{"$f":"IFERROR(IF(A323=\"\",\"\",VLOOKUP(A323,[1]Hoja1!$B$2:$U$4999,9,FALSE)),0)","v":""},{"$f":"IFERROR(IF(A323=\"\",\"\",VLOOKUP(A323,[1]Hoja1!$B$2:$U$4999,2,FALSE)),\" --- NO EXISTE TRABAJADOR --- \")","v":""},null,null,null,null,null,{"$f":"IFERROR(IF(G323=\"\",\"\",VLOOKUP(G323,JORNADA,2,FALSE)),0)","v":""},{"$f":"IFERROR(IF(H323=\"\",\"\",VLOOKUP(H323,ACTIVIDAD,2,FALSE)),0)","v":""},{"$f":"CONCATENATE(J323,G323)","v":""},{"$f":"IFERROR(IF(A323=\"\",\"\",VLOOKUP(A323,[1]Hoja1!$B$2:$U$4999,18,FALSE)),0)","v":""},{"$f":"IFERROR(IF(A323=\"\",\"\",VLOOKUP(A323,[1]Hoja1!$B$2:$U$4999,19,FALSE)),0)","v":""},{"$f":"IFERROR(IF(W323=\"\",\"\",VLOOKUP(W323,LICENCIA,2,FALSE)),\"\")","v":""},null,{"$f":"IFERROR(IF(O323=\"\",\"\",VLOOKUP(O323,JORNADA!$A$19:$B$20,2,FALSE)),\"\")","v":""},{"$f":"IFERROR(IF(A323=\"\",\"\",VLOOKUP(A323,[1]Hoja1!$B$2:$U$4999,3,FALSE)),0)","v":""},null,{"$f":"IFERROR(IF(R323=\"\",\"\",VLOOKUP(R323,DNI,2,FALSE)),0)","v":""},{"$f":"IF(D323<>\"\",COUNTA(INDIRECT(\"D2:D\"&ROW()-1)),\"\")","v":""},{"$f":"IFERROR(IF(A323=\"\",\"\",VLOOKUP(A323,[1]Hoja1!$B$2:$U$4999,10,FALSE)),0)","v":""},{"$f":"IFERROR(IF(Q323=\"\",\"\",VLOOKUP(Q323,[1]Hoja1!$D$2:$AF$4999,29,FALSE)),\"NO EXISTE CUENTA\")","v":""},null,null,{"$f":"+C323","v":""}]
["",{"$f":"IFERROR(IF(A324=\"\",\"\",VLOOKUP(A324,[1]Hoja1!$B$2:$U$4999,9,FALSE)),0)","v":""},{"$f":"IFERROR(IF(A324=\"\",\"\",VLOOKUP(A324,[1]Hoja1!$B$2:$U$4999,2,FALSE)),\" --- NO EXISTE TRABAJADOR --- \")","v":""},null,null,null,null,null,"","","",{"$f":"IFERROR(IF(A324=\"\",\"\",VLOOKUP(A324,[1]Hoja1!$B$2:$U$4999,18,FALSE)),0)","v":""},{"$f":"IFERROR(IF(A324=\"\",\"\",VLOOKUP(A324,[1]Hoja1!$B$2:$U$4999,19,FALSE)),0)","v":""},"",null,{"$f":"IFERROR(IF(O324=\"\",\"\",VLOOKUP(O324,JORNADA!$A$19:$B$20,2,FALSE)),\"\")","v":""},{"$f":"IFERROR(IF(A324=\"\",\"\",VLOOKUP(A324,[1]Hoja1!$B$2:$U$4999,3,FALSE)),0)","v":""},null,"","",{"$f":"IFERROR(IF(A324=\"\",\"\",VLOOKUP(A324,[1]Hoja1!$B$2:$U$4999,10,FALSE)),0)","v":""},{"$f":"IFERROR(IF(Q324=\"\",\"\",VLOOKUP(Q324,[1]Hoja1!$D$2:$AF$4999,29,FALSE)),\"NO EXISTE CUENTA\")","v":""},null,null,""]
["",{"$f":"IFERROR(IF(A325=\"\",\"\",VLOOKUP(A325,[1]Hoja1!$B$2:$U$4999,9,FALSE)),0)","v":""},{"$f":"IFERROR(IF(A325=\"\",\"\",VLOOKUP(A325,[1]Hoja1!$B$2:$U$4999,2,FALSE)),\" --- NO EXISTE TRABAJADOR --- \")","v":""},null,null,null,null,null,"","","",{"$f":"IFERROR(IF(A325=\"\",\"\",VLOOKUP(A325,[1]Hoja1!$B$2:$U$4999,18,FALSE)),0)","v":""},{"$f":"IFERROR(IF(A325=\"\",\"\",VLOOKUP(A325,[1]Hoja1!$B$2:$U$4999,19,FALSE)),0)","v":""},"",null,{"$f":"IFERROR(IF(O325=\"\",\"\",VLOOKUP(O325,JORNADA!$A$19:$B$20,2,FALSE)),\"\")","v":""},{"$f":"IFERROR(IF(A325=\"\",\"\",VLOOKUP(A325,[1]Hoja1!$B$2:$U$4999,3,FALSE)),0)","v":""},null,"","",{"$f":"IFERROR(IF(A325=\"\",\"\",VLOOKUP(A325,[1]Hoja1!$B$2:$U$4999,10,FALSE)),0)","v":""},{"$f":"IFERROR(IF(Q325=\"\",\"\",VLOOKUP(Q325,[1]Hoja1!$D$2:$AF$4999,29,FALSE)),\"NO EXISTE CUENTA\")","v":""},null,null,""]
["",{"$f":"IFERROR(IF(A326=\"\",\"\",VLOOKUP(A326,[1]Hoja1!$B$2:$U$4999,9,FALSE)),0)","v":""},{"$f":"IFERROR(IF(A326=\"\",\"\",VLOOKUP(A326,[1]Hoja1!$B$2:$U$4999,2,FALSE)),\" --- NO EXISTE TRABAJADOR --- \")","v":""},null,null,null,null,null,"","","",{"$f":"IFERROR(IF(A326=\"\",\"\",VLOOKUP(A326,[1]Hoja1!$B$2:$U$4999,18,FALSE)),0)","v":""},{"$f":"IFERROR(IF(A326=\"\",\"\",VLOOKUP(A326,[1]Hoja1!$B$2:$U$4999,19,FALSE)),0)","v":""},"",null,{"$f":"IFERROR(IF(O326=\"\",\"\",VLOOKUP(O326,JORNADA!$A$19:$B$20,2,FALSE)),\"\")","v":""},{"$f":"IFERROR(IF(A326=\"\",\"\",VLOOKUP(A326,[1]Hoja1!$B$2:$U$4999,3,FALSE)),0)","v":""},null,"","",{"$f":"IFERROR(IF(A326=\"\",\"\",VLOOKUP(A326,[1]Hoja1!$B$2:$U$4999,10,FALSE)),0)","v":""},{"$f":"IFERROR(IF(Q326=\"\",\"\",VLOOKUP(Q326,[1]Hoja1!$D$2:$AF$4999,29,FALSE)),\"NO EXISTE CUENTA\")","v":""},null,null,""]
["",{"$f":"IFERROR(IF(A327=\"\",\"\",VLOOKUP(A327,[1]Hoja1!$B$2:$U$4999,9,FALSE)),0)","v":""},{"$f":"IFERROR(IF(A327=\"\",\"\",VLOOKUP(A327,[1]Hoja1!$B$2:$U$4999,2,FALSE)),\" --- NO EXISTE TRABAJADOR --- \")","v":""},null,null,null,null,null,"","","",{"$f":"IFERROR(IF(A327=\"\",\"\",VLOOKUP(A327,[1]Hoja1!$B$2:$U$4999,18,FALSE)),0)","v":""},{"$f":"IFERROR(IF(A327=\"\",\"\",VLOOKUP(A327,[1]Hoja1!$B$2:$U$4999,19,FALSE)),0)","v":""},"",null,{"$f":"IFERROR(IF(O327=\"\",\"\",VLOOKUP(O327,JORNADA!$A$19:$B$20,2,FALSE)),\"\")","v":""},{"$f":"IFERROR(IF(A327=\"\",\"\",VLOOKUP(A327,[1]Hoja1!$B$2:$U$4999,3,FALSE)),0)","v":""},null,"","",{"$f":"IFERROR(IF(A327=\"\",\"\",VLOOKUP(A327,[1]Hoja1!$B$2:$U$4999,10,FALSE)),0)","v":""},{"$f":"IFERROR(IF(Q327=\"\",\"\",VLOOKUP(Q327,[1]Hoja1!$D$2:$AF$4999,29,FALSE)),\"NO EXISTE CUENTA\")","v":""},null,null,""]
["",{"$f":"IFERROR(IF(A328=\"\",\"\",VLOOKUP(A328,[1]Hoja1!$B$2:$U$4999,9,FALSE)),0)","v":""},{"$f":"IFERROR(IF(A328=\"\",\"\",VLOOKUP(A328,[1]Hoja1!$B$2:$U$4999,2,FALSE)),\" --- NO EXISTE TRABAJADOR --- \")","v":""},null,null,null,null,null,"","","",{"$f":"IFERROR(IF(A328=\"\",\"\",VLOOKUP(A328,[1]Hoja1!$B$2:$U$4999,18,FALSE)),0)","v":""},{"$f":"IFERROR(IF(A328=\"\",\"\",VLOOKUP(A328,[1]Hoja1!$B$2:$U$4999,19,FALSE)),0)","v":""},"",null,{"$f":"IFERROR(IF(O328=\"\",\"\",VLOOKUP(O328,JORNADA!$A$19:$B$20,2,FALSE)),\"\")","v":""},{"$f":"IFERROR(IF(A328=\"\",\"\",VLOOKUP(A328,[1]Hoja1!$B$2:$U$4999,3,FALSE)),0)","v":""},null,"","",{"$f":"IFERROR(IF(A328=\"\",\"\",VLOOKUP(A328,[1]Hoja1!$B$2:$U$4999,10,FALSE)),0)","v":""},{"$f":"IFERROR(IF(Q328=\"\",\"\",VLOOKUP(Q328,[1]Hoja1!$D$2:$AF$4999,29,FALSE)),\"NO EXISTE CUENTA\")","v":""},null,null,""]
["",{"$f":"IFERROR(IF(A329=\"\",\"\",VLOOKUP(A329,[1]Hoja1!$B$2:$U$4999,9,FALSE)),0)","v":""},{"$f":"IFERROR(IF(A329=\"\",\"\",VLOOKUP(A329,[1]Hoja1!$B$2:$U$4999,2,FALSE)),\" --- NO EXISTE TRABAJADOR --- \")","v":""},null,null,null,null,null,"","","",{"$f":"IFERROR(IF(A329=\"\",\"\",VLOOKUP(A329,[1]Hoja1!$B$2:$U$4999,18,FALSE)),0)","v":""},{"$f":"IFERROR(IF(A329=\"\",\"\",VLOOKUP(A329,[1]Hoja1!$B$2:$U$4999,19,FALSE)),0)","v":""},"",null,{"$f":"IFERROR(IF(O329=\"\",\"\",VLOOKUP(O329,JORNADA!$A$19:$B$20,2,FALSE)),\"\")","v":""},{"$f":"IFERROR(IF(A329=\"\",\"\",VLOOKUP(A329,[1]Hoja1!$B$2:$U$4999,3,FALSE)),0)","v":""},null,"","",{"$f":"IFERROR(IF(A329=\"\",\"\",VLOOKUP(A329,[1]Hoja1!$B$2:$U$4999,10,FALSE)),0)","v":""},{"$f":"IFERROR(IF(Q329=\"\",\"\",VLOOKUP(Q329,[1]Hoja1!$D$2:$AF$4999,29,FALSE)),\"NO EXISTE CUENTA\")","v":""},null,null,""]
["",{"$f":"IFERROR(IF(A330=\"\",\"\",VLOOKUP(A330,[1]Hoja1!$B$2:$U$4999,9,FALSE)),0)","v":""},{"$f":"IFERROR(IF(A330=\"\",\"\",VLOOKUP(A330,[1]Hoja1!$B$2:$U$4999,2,FALSE)),\" --- NO EXISTE TRABAJADOR --- \")","v":""},null,null,null,null,null,"","","",{"$f":"IFERROR(IF(A330=\"\",\"\",VLOOKUP(A330,[1]Hoja1!$B$2:$U$4999,18,FALSE)),0)","v":""},{"$f":"IFERROR(IF(A330=\"\",\"\",VLOOKUP(A330,[1]Hoja1!$B$2:$U$4999,19,FALSE)),0)","v":""},"",null,{"$f":"IFERROR(IF(O330=\"\",\"\",VLOOKUP(O330,JORNADA!$A$19:$B$20,2,FALSE)),\"\")","v":""},{"$f":"IFERROR(IF(A330=\"\",\"\",VLOOKUP(A330,[1]Hoja1!$B$2:$U$4999,3,FALSE)),0)","v":""},null,"","",{"$f":"IFERROR(IF(A330=\"\",\"\",VLOOKUP(A330,[1]Hoja1!$B$2:$U$4999,10,FALSE)),0)","v":""},{"$f":"IFERROR(IF(Q330=\"\",\"\",VLOOKUP(Q330,[1]Hoja1!$D$2:$AF$4999,29,FALSE)),\"NO EXISTE CUENTA\")","v":""},null,null,""]
["",{"$f":"IFERROR(IF(A331=\"\",\"\",VLOOKUP(A331,[1]Hoja1!$B$2:$U$4999,9,FALSE)),0)","v":""},{"$f":"IFERROR(IF(A331=\"\",\"\",VLOOKUP(A331,[1]Hoja1!$B$2:$U$4999,2,FALSE)),\" --- NO EXISTE TRABAJADOR --- \")","v":""},null,null,null,null,null,"","","",{"$f":"IFERROR(IF(A331=\"\",\"\",VLOOKUP(A331,[1]Hoja1!$B$2:$U$4999,18,FALSE)),0)","v":""},{"$f":"IFERROR(IF(A331=\"\",\"\",VLOOKUP(A331,[1]Hoja1!$B$2:$U$4999,19,FALSE)),0)","v":""},"",null,{"$f":"IFERROR(IF(O331=\"\",\"\",VLOOKUP(O331,JORNADA!$A$19:$B$20,2,FALSE)),\"\")","v":""},{"$f":"IFERROR(IF(A331=\"\",\"\",VLOOKUP(A331,[1]Hoja1!$B$2:$U$4999,3,FALSE)),0)","v":""},null,"","",{"$f":"IFERROR(IF(A331=\"\",\"\",VLOOKUP(A331,[1]Hoja1!$B$2:$U$4999,10,FALSE)),0)","v":""},{"$f":"IFERROR(IF(Q331=\"\",\"\",VLOOKUP(Q331,[1]Hoja1!$D$2:$AF$4999,29,FALSE)),\"NO EXISTE CUENTA\")","v":""},null,null,""]
["",{"$f":"IFERROR(IF(A332=\"\",\"\",VLOOKUP(A332,[1]Hoja1!$B$2:$U$4999,9,FALSE)),0)","v":""},{"$f":"IFERROR(IF(A332=\"\",\"\",VLOOKUP(A332,[1]Hoja1!$B$2:$U$4999,2,FALSE)),\" --- NO EXISTE TRABAJADOR --- \")","v":""},null,null,null,null,null,"","","",{"$f":"IFERROR(IF(A332=\"\",\"\",VLOOKUP(A332,[1]Hoja1!$B$2:$U$4999,18,FALSE)),0)","v":""},{"$f":"IFERROR(IF(A332=\"\",\"\",VLOOKUP(A332,[1]Hoja1!$B$2:$U$4999,19,FALSE)),0)","v":""},"",null,{"$f":"IFERROR(IF(O332=\"\",\"\",VLOOKUP(O332,JORNADA!$A$19:$B$20,2,FALSE)),\"\")","v":""},{"$f":"IFERROR(IF(A332=\"\",\"\",VLOOKUP(A332,[1]Hoja1!$B$2:$U$4999,3,FALSE)),0)","v":""},null,"","",{"$f":"IFERROR(IF(A332=\"\",\"\",VLOOKUP(A332,[1]Hoja1!$B$2:$U$4999,10,FALSE)),0)","v":""},{"$f":"IFERROR(IF(Q332=\"\",\"\",VLOOKUP(Q332,[1]Hoja1!$D$2:$AF$4999,29,FALSE)),\"NO EXISTE CUENTA\")","v":""},null,null,""]
["",{"$f":"IFERROR(IF(A333=\"\",\"\",VLOOKUP(A333,[1]Hoja1!$B$2:$U$4999,9,FALSE)),0)","v":""},{"$f":"IFERROR(IF(A333=\"\",\"\",VLOOKUP(A333,[1]Hoja1!$B$2:$U$4999,2,FALSE)),\" --- NO EXISTE TRABAJADOR --- \")","v":""},null,null,null,null,null,"","","",{"$f":"IFERROR(IF(A333=\"\",\"\",VLOOKUP(A333,[1]Hoja1!$B$2:$U$4999,18,FALSE)),0)","v":""},{"$f":"IFERROR(IF(A333=\"\",\"\",VLOOKUP(A333,[1]Hoja1!$B$2:$U$4999,19,FALSE)),0)","v":""},"",null,{"$f":"IFERROR(IF(O333=\"\",\"\",VLOOKUP(O333,JORNADA!$A$19:$B$20,2,FALSE)),\"\")","v":""},{"$f":"IFERROR(IF(A333=\"\",\"\",VLOOKUP(A333,[1]Hoja1!$B$2:$U$4999,3,FALSE)),0)","v":""},null,"","",{"$f":"IFERROR(IF(A333=\"\",\"\",VLOOKUP(A333,[1]Hoja1!$B$2:$U$4999,10,FALSE)),0)","v":""},{"$f":"IFERROR(IF(Q333=\"\",\"\",VLOOKUP(Q333,[1]Hoja1!$D$2:$AF$4999,29,FALSE)),\"NO EXISTE CUENTA\")","v":""},null,null,""]
["",{"$f":"IFERROR(IF(A334=\"\",\"\",VLOOKUP(A334,[1]Hoja1!$B$2:$U$4999,9,FALSE)),0)","v":""},{"$f":"IFERROR(IF(A334=\"\",\"\",VLOOKUP(A334,[1]Hoja1!$B$2:$U$4999,2,FALSE)),\" --- NO EXISTE TRABAJADOR --- \")","v":""},null,null,null,null,null,"","","",{"$f":"IFERROR(IF(A334=\"\",\"\",VLOOKUP(A334,[1]Hoja1!$B$2:$U$4999,18,FALSE)),0)","v":""},{"$f":"IFERROR(IF(A334=\"\",\"\",VLOOKUP(A334,[1]Hoja1!$B$2:$U$4999,19,FALSE)),0)","v":""},"",null,{"$f":"IFERROR(IF(O334=\"\",\"\",VLOOKUP(O334,JORNADA!$A$19:$B$20,2,FALSE)),\"\")","v":""},{"$f":"IFERROR(IF(A334=\"\",\"\",VLOOKUP(A334,[1]Hoja1!$B$2:$U$4999,3,FALSE)),0)","v":""},null,"","",{"$f":"IFERROR(IF(A334=\"\",\"\",VLOOKUP(A334,[1]Hoja1!$B$2:$U$4999,10,FALSE)),0)","v":""},{"$f":"IFERROR(IF(Q334=\"\",\"\",VLOOKUP(Q334,[1]Hoja1!$D$2:$AF$4999,29,FALSE)),\"NO EXISTE CUENTA\")","v":""},null,null,""]
["",{"$f":"IFERROR(IF(A335=\"\",\"\",VLOOKUP(A335,[1]Hoja1!$B$2:$U$4999,9,FALSE)),0)","v":""},{"$f":"IFERROR(IF(A335=\"\",\"\",VLOOKUP(A335,[1]Hoja1!$B$2:$U$4999,2,FALSE)),\" --- NO EXISTE TRABAJADOR --- \")","v":""},null,null,null,null,null,"","","",{"$f":"IFERROR(IF(A335=\"\",\"\",VLOOKUP(A335,[1]Hoja1!$B$2:$U$4999,18,FALSE)),0)","v":""},{"$f":"IFERROR(IF(A335=\"\",\"\",VLOOKUP(A335,[1]Hoja1!$B$2:$U$4999,19,FALSE)),0)","v":""},"",null,{"$f":"IFERROR(IF(O335=\"\",\"\",VLOOKUP(O335,JORNADA!$A$19:$B$20,2,FALSE)),\"\")","v":""},{"$f":"IFERROR(IF(A335=\"\",\"\",VLOOKUP(A335,[1]Hoja1!$B$2:$U$4999,3,FALSE)),0)","v":""},null,"","",{"$f":"IFERROR(IF(A335=\"\",\"\",VLOOKUP(A335,[1]Hoja1!$B$2:$U$4999,10,FALSE)),0)","v":""},{"$f":"IFERROR(IF(Q335=\"\",\"\",VLOOKUP(Q335,[1]Hoja1!$D$2:$AF$4999,29,FALSE)),\"NO EXISTE CUENTA\")","v":""},null,null,""]
["",{"$f":"IFERROR(IF(A336=\"\",\"\",VLOOKUP(A336,[1]Hoja1!$B$2:$U$4999,9,FALSE)),0)","v":""},{"$f":"IFERROR(IF(A336=\"\",\"\",VLOOKUP(A336,[1]Hoja1!$B$2:$U$4999,2,FALSE)),\" --- NO EXISTE TRABAJADOR --- \")","v":""},null,null,null,null,null,"","","",{"$f":"IFERROR(IF(A336=\"\",\"\",VLOOKUP(A336,[1]Hoja1!$B$2:$U$4999,18,FALSE)),0)","v":""},{"$f":"IFERROR(IF(A336=\"\",\"\",VLOOKUP(A336,[1]Hoja1!$B$2:$U$4999,19,FALSE)),0)","v":""},"",null,{"$f":"IFERROR(IF(O336=\"\",\"\",VLOOKUP(O336,JORNADA!$A$19:$B$20,2,FALSE)),\"\")","v":""},{"$f":"IFERROR(IF(A336=\"\",\"\",VLOOKUP(A336,[1]Hoja1!$B$2:$U$4999,3,FALSE)),0)","v":""},null,"","",{"$f":"IFERROR(IF(A336=\"\",\"\",VLOOKUP(A336,[1]Hoja1!$B$2:$U$4999,10,FALSE)),0)","v":""},{"$f":"IFERROR(IF(Q336=\"\",\"\",VLOOKUP(Q336,[1]Hoja1!$D$2:$AF$4999,29,FALSE)),\"NO EXISTE CUENTA\")","v":""},null,null,""]
["",{"$f":"IFERROR(IF(A337=\"\",\"\",VLOOKUP(A337,[1]Hoja1!$B$2:$U$4999,9,FALSE)),0)","v":""},{"$f":"IFERROR(IF(A337=\"\",\"\",VLOOKUP(A337,[1]Hoja1!$B$2:$U$4999,2,FALSE)),\" --- NO EXISTE TRABAJADOR --- \")","v":""},null,null,null,null,null,"","","",{"$f":"IFERROR(IF(A337=\"\",\"\",VLOOKUP(A337,[1]Hoja1!$B$2:$U$4999,18,FALSE)),0)","v":""},{"$f":"IFERROR(IF(A337=\"\",\"\",VLOOKUP(A337,[1]Hoja1!$B$2:$U$4999,19,FALSE)),0)","v":""},"",null,{"$f":"IFERROR(IF(O337=\"\",\"\",VLOOKUP(O337,JORNADA!$A$19:$B$20,2,FALSE)),\"\")","v":""},{"$f":"IFERROR(IF(A337=\"\",\"\",VLOOKUP(A337,[1]Hoja1!$B$2:$U$4999,3,FALSE)),0)","v":""},null,"","",{"$f":"IFERROR(IF(A337=\"\",\"\",VLOOKUP(A337,[1]Hoja1!$B$2:$U$4999,10,FALSE)),0)","v":""},{"$f":"IFERROR(IF(Q337=\"\",\"\",VLOOKUP(Q337,[1]Hoja1!$D$2:$AF$4999,29,FALSE)),\"NO EXISTE CUENTA\")","v":""},null,null,""]
["",{"$f":"IFERROR(IF(A338=\"\",\"\",VLOOKUP(A338,[1]Hoja1!$B$2:$U$4999,9,FALSE)),0)","v":""},{"$f":"IFERROR(IF(A338=\"\",\"\",VLOOKUP(A338,[1]Hoja1!$B$2:$U$4999,2,FALSE)),\" --- NO EXISTE TRABAJADOR --- \")","v":""},null,null,null,null,null,"","","",{"$f":"IFERROR(IF(A338=\"\",\"\",VLOOKUP(A338,[1]Hoja1!$B$2:$U$4999,18,FALSE)),0)","v":""},{"$f":"IFERROR(IF(A338=\"\",\"\",VLOOKUP(A338,[1]Hoja1!$B$2:$U$4999,19,FALSE)),0)","v":""},"",null,{"$f":"IFERROR(IF(O338=\"\",\"\",VLOOKUP(O338,JORNADA!$A$19:$B$20,2,FALSE)),\"\")","v":""},{"$f":"IFERROR(IF(A338=\"\",\"\",VLOOKUP(A338,[1]Hoja1!$B$2:$U$4999,3,FALSE)),0)","v":""},null,"","",{"$f":"IFERROR(IF(A338=\"\",\"\",VLOOKUP(A338,[1]Hoja1!$B$2:$U$4999,10,FALSE)),0)","v":""},{"$f":"IFERROR(IF(Q338=\"\",\"\",VLOOKUP(Q338,[1]Hoja1!$D$2:$AF$4999,29,FALSE)),\"NO EXISTE CUENTA\")","v":""},null,null,""]
["",{"$f":"IFERROR(IF(A339=\"\",\"\",VLOOKUP(A339,[1]Hoja1!$B$2:$U$4999,9,FALSE)),0)","v":""},{"$f":"IFERROR(IF(A339=\"\",\"\",VLOOKUP(A339,[1]Hoja1!$B$2:$U$4999,2,FALSE)),\" --- NO EXISTE TRABAJADOR --- \")","v":""},null,null,null,null,null,"","","",{"$f":"IFERROR(IF(A339=\"\",\"\",VLOOKUP(A339,[1]Hoja1!$B$2:$U$4999,18,FALSE)),0)","v":""},{"$f":"IFERROR(IF(A339=\"\",\"\",VLOOKUP(A339,[1]Hoja1!$B$2:$U$4999,19,FALSE)),0)","v":""},"",null,{"$f":"IFERROR(IF(O339=\"\",\"\",VLOOKUP(O339,JORNADA!$A$19:$B$20,2,FALSE)),\"\")","v":""},{"$f":"IFERROR(IF(A339=\"\",\"\",VLOOKUP(A339,[1]Hoja1!$B$2:$U$4999,3,FALSE)),0)","v":""},null,"","",{"$f":"IFERROR(IF(A339=\"\",\"\",VLOOKUP(A339,[1]Hoja1!$B$2:$U$4999,10,FALSE)),0)","v":""},{"$f":"IFERROR(IF(Q339=\"\",\"\",VLOOKUP(Q339,[1]Hoja1!$D$2:$AF$4999,29,FALSE)),\"NO EXISTE CUENTA\")","v":""},null,null,""]
["",{"$f":"IFERROR(IF(A340=\"\",\"\",VLOOKUP(A340,[1]Hoja1!$B$2:$U$4999,9,FALSE)),0)","v":""},{"$f":"IFERROR(IF(A340=\"\",\"\",VLOOKUP(A340,[1]Hoja1!$B$2:$U$4999,2,FALSE)),\" --- NO EXISTE TRABAJADOR --- \")","v":""},null,null,null,null,null,"","","",{"$f":"IFERROR(IF(A340=\"\",\"\",VLOOKUP(A340,[1]Hoja1!$B$2:$U$4999,18,FALSE)),0)","v":""},{"$f":"IFERROR(IF(A340=\"\",\"\",VLOOKUP(A340,[1]Hoja1!$B$2:$U$4999,19,FALSE)),0)","v":""},"",null,{"$f":"IFERROR(IF(O340=\"\",\"\",VLOOKUP(O340,JORNADA!$A$19:$B$20,2,FALSE)),\"\")","v":""},{"$f":"IFERROR(IF(A340=\"\",\"\",VLOOKUP(A340,[1]Hoja1!$B$2:$U$4999,3,FALSE)),0)","v":""},null,"","",{"$f":"IFERROR(IF(A340=\"\",\"\",VLOOKUP(A340,[1]Hoja1!$B$2:$U$4999,10,FALSE)),0)","v":""},{"$f":"IFERROR(IF(Q340=\"\",\"\",VLOOKUP(Q340,[1]Hoja1!$D$2:$AF$4999,29,FALSE)),\"NO EXISTE CUENTA\")","v":""},null,null,""]
["",{"$f":"IFERROR(IF(A341=\"\",\"\",VLOOKUP(A341,[1]Hoja1!$B$2:$U$4999,9,FALSE)),0)","v":""},{"$f":"IFERROR(IF(A341=\"\",\"\",VLOOKUP(A341,[1]Hoja1!$B$2:$U$4999,2,FALSE)),\" --- NO EXISTE TRABAJADOR --- \")","v":""},null,null,null,null,null,"","","",{"$f":"IFERROR(IF(A341=\"\",\"\",VLOOKUP(A341,[1]Hoja1!$B$2:$U$4999,18,FALSE)),0)","v":""},{"$f":"IFERROR(IF(A341=\"\",\"\",VLOOKUP(A341,[1]Hoja1!$B$2:$U$4999,19,FALSE)),0)","v":""},"",null,{"$f":"IFERROR(IF(O341=\"\",\"\",VLOOKUP(O341,JORNADA!$A$19:$B$20,2,FALSE)),\"\")","v":""},{"$f":"IFERROR(IF(A341=\"\",\"\",VLOOKUP(A341,[1]Hoja1!$B$2:$U$4999,3,FALSE)),0)","v":""},null,"","",{"$f":"IFERROR(IF(A341=\"\",\"\",VLOOKUP(A341,[1]Hoja1!$B$2:$U$4999,10,FALSE)),0)","v":""},{"$f":"IFERROR(IF(Q341=\"\",\"\",VLOOKUP(Q341,[1]Hoja1!$D$2:$AF$4999,29,FALSE)),\"NO EXISTE CUENTA\")","v":""},null,null,""]
["",{"$f":"IFERROR(IF(A342=\"\",\"\",VLOOKUP(A342,[1]Hoja1!$B$2:$U$4999,9,FALSE)),0)","v":""},{"$f":"IFERROR(IF(A342=\"\",\"\",VLOOKUP(A342,[1]Hoja1!$B$2:$U$4999,2,FALSE)),\" --- NO EXISTE TRABAJADOR --- \")","v":""},null,null,null,null,null,"","","",{"$f":"IFERROR(IF(A342=\"\",\"\",VLOOKUP(A342,[1]Hoja1!$B$2:$U$4999,18,FALSE)),0)","v":""},{"$f":"IFERROR(IF(A342=\"\",\"\",VLOOKUP(A342,[1]Hoja1!$B$2:$U$4999,19,FALSE)),0)","v":""},"",null,{"$f":"IFERROR(IF(O342=\"\",\"\",VLOOKUP(O342,JORNADA!$A$19:$B$20,2,FALSE)),\"\")","v":""},{"$f":"IFERROR(IF(A342=\"\",\"\",VLOOKUP(A342,[1]Hoja1!$B$2:$U$4999,3,FALSE)),0)","v":""},null,"","",{"$f":"IFERROR(IF(A342=\"\",\"\",VLOOKUP(A342,[1]Hoja1!$B$2:$U$4999,10,FALSE)),0)","v":""},{"$f":"IFERROR(IF(Q342=\"\",\"\",VLOOKUP(Q342,[1]Hoja1!$D$2:$AF$4999,29,FALSE)),\"NO EXISTE CUENTA\")","v":""},null,null,""]
["",{"$f":"IFERROR(IF(A343=\"\",\"\",VLOOKUP(A343,[1]Hoja1!$B$2:$U$4999,9,FALSE)),0)","v":""},{"$f":"IFERROR(IF(A343=\"\",\"\",VLOOKUP(A343,[1]Hoja1!$B$2:$U$4999,2,FALSE)),\" --- NO EXISTE TRABAJADOR --- \")","v":""},null,null,null,null,null,"","","",{"$f":"IFERROR(IF(A343=\"\",\"\",VLOOKUP(A343,[1]Hoja1!$B$2:$U$4999,18,FALSE)),0)","v":""},{"$f":"IFERROR(IF(A343=\"\",\"\",VLOOKUP(A343,[1]Hoja1!$B$2:$U$4999,19,FALSE)),0)","v":""},"",null,{"$f":"IFERROR(IF(O343=\"\",\"\",VLOOKUP(O343,JORNADA!$A$19:$B$20,2,FALSE)),\"\")","v":""},{"$f":"IFERROR(IF(A343=\"\",\"\",VLOOKUP(A343,[1]Hoja1!$B$2:$U$4999,3,FALSE)),0)","v":""},null,"","",{"$f":"IFERROR(IF(A343=\"\",\"\",VLOOKUP(A343,[1]Hoja1!$B$2:$U$4999,10,FALSE)),0)","v":""},{"$f":"IFERROR(IF(Q343=\"\",\"\",VLOOKUP(Q343,[1]Hoja1!$D$2:$AF$4999,29,FALSE)),\"NO EXISTE CUENTA\")","v":""},null,null,""]
["",{"$f":"IFERROR(IF(A344=\"\",\"\",VLOOKUP(A344,[1]Hoja1!$B$2:$U$4999,9,FALSE)),0)","v":""},{"$f":"IFERROR(IF(A344=\"\",\"\",VLOOKUP(A344,[1]Hoja1!$B$2:$U$4999,2,FALSE)),\" --- NO EXISTE TRABAJADOR --- \")","v":""},null,null,null,null,null,"","","",{"$f":"IFERROR(IF(A344=\"\",\"\",VLOOKUP(A344,[1]Hoja1!$B$2:$U$4999,18,FALSE)),0)","v":""},{"$f":"IFERROR(IF(A344=\"\",\"\",VLOOKUP(A344,[1]Hoja1!$B$2:$U$4999,19,FALSE)),0)","v":""},"",null,{"$f":"IFERROR(IF(O344=\"\",\"\",VLOOKUP(O344,JORNADA!$A$19:$B$20,2,FALSE)),\"\")","v":""},{"$f":"IFERROR(IF(A344=\"\",\"\",VLOOKUP(A344,[1]Hoja1!$B$2:$U$4999,3,FALSE)),0)","v":""},null,"","",{"$f":"IFERROR(IF(A344=\"\",\"\",VLOOKUP(A344,[1]Hoja1!$B$2:$U$4999,10,FALSE)),0)","v":""},{"$f":"IFERROR(IF(Q344=\"\",\"\",VLOOKUP(Q344,[1]Hoja1!$D$2:$AF$4999,29,FALSE)),\"NO EXISTE CUENTA\")","v":""},null,null,""]
["",{"$f":"IFERROR(IF(A345=\"\",\"\",VLOOKUP(A345,[1]Hoja1!$B$2:$U$4999,9,FALSE)),0)","v":""},{"$f":"IFERROR(IF(A345=\"\",\"\",VLOOKUP(A345,[1]Hoja1!$B$2:$U$4999,2,FALSE)),\" --- NO EXISTE TRABAJADOR --- \")","v":""},null,null,null,null,null,"","","",{"$f":"IFERROR(IF(A345=\"\",\"\",VLOOKUP(A345,[1]Hoja1!$B$2:$U$4999,18,FALSE)),0)","v":""},{"$f":"IFERROR(IF(A345=\"\",\"\",VLOOKUP(A345,[1]Hoja1!$B$2:$U$4999,19,FALSE)),0)","v":""},"",null,{"$f":"IFERROR(IF(O345=\"\",\"\",VLOOKUP(O345,JORNADA!$A$19:$B$20,2,FALSE)),\"\")","v":""},{"$f":"IFERROR(IF(A345=\"\",\"\",VLOOKUP(A345,[1]Hoja1!$B$2:$U$4999,3,FALSE)),0)","v":""},null,"","",{"$f":"IFERROR(IF(A345=\"\",\"\",VLOOKUP(A345,[1]Hoja1!$B$2:$U$4999,10,FALSE)),0)","v":""},{"$f":"IFERROR(IF(Q345=\"\",\"\",VLOOKUP(Q345,[1]Hoja1!$D$2:$AF$4999,29,FALSE)),\"NO EXISTE CUENTA\")","v":""},null,null,""]
["",{"$f":"IFERROR(IF(A346=\"\",\"\",VLOOKUP(A346,[1]Hoja1!$B$2:$U$4999,9,FALSE)),0)","v":""},{"$f":"IFERROR(IF(A346=\"\",\"\",VLOOKUP(A346,[1]Hoja1!$B$2:$U$4999,2,FALSE)),\" --- NO EXISTE TRABAJADOR --- \")","v":""},null,null,null,null,null,"","","",{"$f":"IFERROR(IF(A346=\"\",\"\",VLOOKUP(A346,[1]Hoja1!$B$2:$U$4999,18,FALSE)),0)","v":""},{"$f":"IFERROR(IF(A346=\"\",\"\",VLOOKUP(A346,[1]Hoja1!$B$2:$U$4999,19,FALSE)),0)","v":""},"",null,{"$f":"IFERROR(IF(O346=\"\",\"\",VLOOKUP(O346,JORNADA!$A$19:$B$20,2,FALSE)),\"\")","v":""},{"$f":"IFERROR(IF(A346=\"\",\"\",VLOOKUP(A346,[1]Hoja1!$B$2:$U$4999,3,FALSE)),0)","v":""},null,"","",{"$f":"IFERROR(IF(A346=\"\",\"\",VLOOKUP(A346,[1]Hoja1!$B$2:$U$4999,10,FALSE)),0)","v":""},{"$f":"IFERROR(IF(Q346=\"\",\"\",VLOOKUP(Q346,[1]Hoja1!$D$2:$AF$4999,29,FALSE)),\"NO EXISTE CUENTA\")","v":""},null,null,""]
["",{"$f":"IFERROR(IF(A347=\"\",\"\",VLOOKUP(A347,[1]Hoja1!$B$2:$U$4999,9,FALSE)),0)","v":""},{"$f":"IFERROR(IF(A347=\"\",\"\",VLOOKUP(A347,[1]Hoja1!$B$2:$U$4999,2,FALSE)),\" --- NO EXISTE TRABAJADOR --- \")","v":""},null,null,null,null,null,"","","",{"$f":"IFERROR(IF(A347=\"\",\"\",VLOOKUP(A347,[1]Hoja1!$B$2:$U$4999,18,FALSE)),0)","v":""},{"$f":"IFERROR(IF(A347=\"\",\"\",VLOOKUP(A347,[1]Hoja1!$B$2:$U$4999,19,FALSE)),0)","v":""},"",null,{"$f":"IFERROR(IF(O347=\"\",\"\",VLOOKUP(O347,JORNADA!$A$19:$B$20,2,FALSE)),\"\")","v":""},{"$f":"IFERROR(IF(A347=\"\",\"\",VLOOKUP(A347,[1]Hoja1!$B$2:$U$4999,3,FALSE)),0)","v":""},null,"","",{"$f":"IFERROR(IF(A347=\"\",\"\",VLOOKUP(A347,[1]Hoja1!$B$2:$U$4999,10,FALSE)),0)","v":""},{"$f":"IFERROR(IF(Q347=\"\",\"\",VLOOKUP(Q347,[1]Hoja1!$D$2:$AF$4999,29,FALSE)),\"NO EXISTE CUENTA\")","v":""},null,null,""]
["",{"$f":"IFERROR(IF(A348=\"\",\"\",VLOOKUP(A348,[1]Hoja1!$B$2:$U$4999,9,FALSE)),0)","v":""},{"$f":"IFERROR(IF(A348=\"\",\"\",VLOOKUP(A348,[1]Hoja1!$B$2:$U$4999,2,FALSE)),\" --- NO EXISTE TRABAJADOR --- \")","v":""},null,null,null,null,null,"","","",{"$f":"IFERROR(IF(A348=\"\",\"\",VLOOKUP(A348,[1]Hoja1!$B$2:$U$4999,18,FALSE)),0)","v":""},{"$f":"IFERROR(IF(A348=\"\",\"\",VLOOKUP(A348,[1]Hoja1!$B$2:$U$4999,19,FALSE)),0)","v":""},"",null,{"$f":"IFERROR(IF(O348=\"\",\"\",VLOOKUP(O348,JORNADA!$A$19:$B$20,2,FALSE)),\"\")","v":""},{"$f":"IFERROR(IF(A348=\"\",\"\",VLOOKUP(A348,[1]Hoja1!$B$2:$U$4999,3,FALSE)),0)","v":""},null,"","",{"$f":"IFERROR(IF(A348=\"\",\"\",VLOOKUP(A348,[1]Hoja1!$B$2:$U$4999,10,FALSE)),0)","v":""},{"$f":"IFERROR(IF(Q348=\"\",\"\",VLOOKUP(Q348,[1]Hoja1!$D$2:$AF$4999,29,FALSE)),\"NO EXISTE CUENTA\")","v":""},null,null,""]
["",{"$f":"IFERROR(IF(A349=\"\",\"\",VLOOKUP(A349,[1]Hoja1!$B$2:$U$4999,9,FALSE)),0)","v":""},{"$f":"IFERROR(IF(A349=\"\",\"\",VLOOKUP(A349,[1]Hoja1!$B$2:$U$4999,2,FALSE)),\" --- NO EXISTE TRABAJADOR --- \")","v":""},null,null,null,null,null,"","","",{"$f":"IFERROR(IF(A349=\"\",\"\",VLOOKUP(A349,[1]Hoja1!$B$2:$U$4999,18,FALSE)),0)","v":""},{"$f":"IFERROR(IF(A349=\"\",\"\",VLOOKUP(A349,[1]Hoja1!$B$2:$U$4999,19,FALSE)),0)","v":""},"",null,{"$f":"IFERROR(IF(O349=\"\",\"\",VLOOKUP(O349,JORNADA!$A$19:$B$20,2,FALSE)),\"\")","v":""},{"$f":"IFERROR(IF(A349=\"\",\"\",VLOOKUP(A349,[1]Hoja1!$B$2:$U$4999,3,FALSE)),0)","v":""},null,"","",{"$f":"IFERROR(IF(A349=\"\",\"\",VLOOKUP(A349,[1]Hoja1!$B$2:$U$4999,10,FALSE)),0)","v":""},{"$f":"IFERROR(IF(Q349=\"\",\"\",VLOOKUP(Q349,[1]Hoja1!$D$2:$AF$4999,29,FALSE)),\"NO EXISTE CUENTA\")","v":""},null,null,""]
["",{"$f":"IFERROR(IF(A350=\"\",\"\",VLOOKUP(A350,[1]Hoja1!$B$2:$U$4999,9,FALSE)),0)","v":""},{"$f":"IFERROR(IF(A350=\"\",\"\",VLOOKUP(A350,[1]Hoja1!$B$2:$U$4999,2,FALSE)),\" --- NO EXISTE TRABAJADOR --- \")","v":""},null,null,null,null,null,"","","",{"$f":"IFERROR(IF(A350=\"\",\"\",VLOOKUP(A350,[1]Hoja1!$B$2:$U$4999,18,FALSE)),0)","v":""},{"$f":"IFERROR(IF(A350=\"\",\"\",VLOOKUP(A350,[1]Hoja1!$B$2:$U$4999,19,FALSE)),0)","v":""},"",null,{"$f":"IFERROR(IF(O350=\"\",\"\",VLOOKUP(O350,JORNADA!$A$19:$B$20,2,FALSE)),\"\")","v":""},{"$f":"IFERROR(IF(A350=\"\",\"\",VLOOKUP(A350,[1]Hoja1!$B$2:$U$4999,3,FALSE)),0)","v":""},null,"","",{"$f":"IFERROR(IF(A350=\"\",\"\",VLOOKUP(A350,[1]Hoja1!$B$2:$U$4999,10,FALSE)),0)","v":""},{"$f":"IFERROR(IF(Q350=\"\",\"\",VLOOKUP(Q350,[1]Hoja1!$D$2:$AF$4999,29,FALSE)),\"NO EXISTE CUENTA\")","v":""},null,null,""]
["",{"$f":"IFERROR(IF(A351=\"\",\"\",VLOOKUP(A351,[1]Hoja1!$B$2:$U$4999,9,FALSE)),0)","v":""},{"$f":"IFERROR(IF(A351=\"\",\"\",VLOOKUP(A351,[1]Hoja1!$B$2:$U$4999,2,FALSE)),\" --- NO EXISTE TRABAJADOR --- \")","v":""},null,null,null,null,null,"","","",{"$f":"IFERROR(IF(A351=\"\",\"\",VLOOKUP(A351,[1]Hoja1!$B$2:$U$4999,18,FALSE)),0)","v":""},{"$f":"IFERROR(IF(A351=\"\",\"\",VLOOKUP(A351,[1]Hoja1!$B$2:$U$4999,19,FALSE)),0)","v":""},"",null,{"$f":"IFERROR(IF(O351=\"\",\"\",VLOOKUP(O351,JORNADA!$A$19:$B$20,2,FALSE)),\"\")","v":""},{"$f":"IFERROR(IF(A351=\"\",\"\",VLOOKUP(A351,[1]Hoja1!$B$2:$U$4999,3,FALSE)),0)","v":""},null,"","",{"$f":"IFERROR(IF(A351=\"\",\"\",VLOOKUP(A351,[1]Hoja1!$B$2:$U$4999,10,FALSE)),0)","v":""},{"$f":"IFERROR(IF(Q351=\"\",\"\",VLOOKUP(Q351,[1]Hoja1!$D$2:$AF$4999,29,FALSE)),\"NO EXISTE CUENTA\")","v":""},null,null,""]
["",{"$f":"IFERROR(IF(A352=\"\",\"\",VLOOKUP(A352,[1]Hoja1!$B$2:$U$4999,9,FALSE)),0)","v":""},{"$f":"IFERROR(IF(A352=\"\",\"\",VLOOKUP(A352,[1]Hoja1!$B$2:$U$4999,2,FALSE)),\" --- NO EXISTE TRABAJADOR --- \")","v":""},null,null,null,null,null,"","","",{"$f":"IFERROR(IF(A352=\"\",\"\",VLOOKUP(A352,[1]Hoja1!$B$2:$U$4999,18,FALSE)),0)","v":""},{"$f":"IFERROR(IF(A352=\"\",\"\",VLOOKUP(A352,[1]Hoja1!$B$2:$U$4999,19,FALSE)),0)","v":""},"",null,{"$f":"IFERROR(IF(O352=\"\",\"\",VLOOKUP(O352,JORNADA!$A$19:$B$20,2,FALSE)),\"\")","v":""},{"$f":"IFERROR(IF(A352=\"\",\"\",VLOOKUP(A352,[1]Hoja1!$B$2:$U$4999,3,FALSE)),0)","v":""},null,"","",{"$f":"IFERROR(IF(A352=\"\",\"\",VLOOKUP(A352,[1]Hoja1!$B$2:$U$4999,10,FALSE)),0)","v":""},{"$f":"IFERROR(IF(Q352=\"\",\"\",VLOOKUP(Q352,[1]Hoja1!$D$2:$AF$4999,29,FALSE)),\"NO EXISTE CUENTA\")","v":""},null,null,""]
["",{"$f":"IFERROR(IF(A353=\"\",\"\",VLOOKUP(A353,[1]Hoja1!$B$2:$U$4999,9,FALSE)),0)","v":""},{"$f":"IFERROR(IF(A353=\"\",\"\",VLOOKUP(A353,[1]Hoja1!$B$2:$U$4999,2,FALSE)),\" --- NO EXISTE TRABAJADOR --- \")","v":""},null,null,null,null,null,"","","",{"$f":"IFERROR(IF(A353=\"\",\"\",VLOOKUP(A353,[1]Hoja1!$B$2:$U$4999,18,FALSE)),0)","v":""},{"$f":"IFERROR(IF(A353=\"\",\"\",VLOOKUP(A353,[1]Hoja1!$B$2:$U$4999,19,FALSE)),0)","v":""},"",null,{"$f":"IFERROR(IF(O353=\"\",\"\",VLOOKUP(O353,JORNADA!$A$19:$B$20,2,FALSE)),\"\")","v":""},{"$f":"IFERROR(IF(A353=\"\",\"\",VLOOKUP(A353,[1]Hoja1!$B$2:$U$4999,3,FALSE)),0)","v":""},null,"","",{"$f":"IFERROR(IF(A353=\"\",\"\",VLOOKUP(A353,[1]Hoja1!$B$2:$U$4999,10,FALSE)),0)","v":""},{"$f":"IFERROR(IF(Q353=\"\",\"\",VLOOKUP(Q353,[1]Hoja1!$D$2:$AF$4999,29,FALSE)),\"NO EXISTE CUENTA\")","v":""},null,null,""]
["",{"$f":"IFERROR(IF(A354=\"\",\"\",VLOOKUP(A354,[1]Hoja1!$B$2:$U$4999,9,FALSE)),0)","v":""},{"$f":"IFERROR(IF(A354=\"\",\"\",VLOOKUP(A354,[1]Hoja1!$B$2:$U$4999,2,FALSE)),\" --- NO EXISTE TRABAJADOR --- \")","v":""},null,null,null,null,null,"","","",{"$f":"IFERROR(IF(A354=\"\",\"\",VLOOKUP(A354,[1]Hoja1!$B$2:$U$4999,18,FALSE)),0)","v":""},{"$f":"IFERROR(IF(A354=\"\",\"\",VLOOKUP(A354,[1]Hoja1!$B$2:$U$4999,19,FALSE)),0)","v":""},"",null,{"$f":"IFERROR(IF(O354=\"\",\"\",VLOOKUP(O354,JORNADA!$A$19:$B$20,2,FALSE)),\"\")","v":""},{"$f":"IFERROR(IF(A354=\"\",\"\",VLOOKUP(A354,[1]Hoja1!$B$2:$U$4999,3,FALSE)),0)","v":""},null,"","",{"$f":"IFERROR(IF(A354=\"\",\"\",VLOOKUP(A354,[1]Hoja1!$B$2:$U$4999,10,FALSE)),0)","v":""},{"$f":"IFERROR(IF(Q354=\"\",\"\",VLOOKUP(Q354,[1]Hoja1!$D$2:$AF$4999,29,FALSE)),\"NO EXISTE CUENTA\")","v":""},null,null,""]
["",{"$f":"IFERROR(IF(A355=\"\",\"\",VLOOKUP(A355,[1]Hoja1!$B$2:$U$4999,9,FALSE)),0)","v":""},{"$f":"IFERROR(IF(A355=\"\",\"\",VLOOKUP(A355,[1]Hoja1!$B$2:$U$4999,2,FALSE)),\" --- NO EXISTE TRABAJADOR --- \")","v":""},null,null,null,null,null,"","","",{"$f":"IFERROR(IF(A355=\"\",\"\",VLOOKUP(A355,[1]Hoja1!$B$2:$U$4999,18,FALSE)),0)","v":""},{"$f":"IFERROR(IF(A355=\"\",\"\",VLOOKUP(A355,[1]Hoja1!$B$2:$U$4999,19,FALSE)),0)","v":""},"",null,{"$f":"IFERROR(IF(O355=\"\",\"\",VLOOKUP(O355,JORNADA!$A$19:$B$20,2,FALSE)),\"\")","v":""},{"$f":"IFERROR(IF(A355=\"\",\"\",VLOOKUP(A355,[1]Hoja1!$B$2:$U$4999,3,FALSE)),0)","v":""},null,"","",{"$f":"IFERROR(IF(A355=\"\",\"\",VLOOKUP(A355,[1]Hoja1!$B$2:$U$4999,10,FALSE)),0)","v":""},{"$f":"IFERROR(IF(Q355=\"\",\"\",VLOOKUP(Q355,[1]Hoja1!$D$2:$AF$4999,29,FALSE)),\"NO EXISTE CUENTA\")","v":""},null,null,""]
["",{"$f":"IFERROR(IF(A356=\"\",\"\",VLOOKUP(A356,[1]Hoja1!$B$2:$U$4999,9,FALSE)),0)","v":""},{"$f":"IFERROR(IF(A356=\"\",\"\",VLOOKUP(A356,[1]Hoja1!$B$2:$U$4999,2,FALSE)),\" --- NO EXISTE TRABAJADOR --- \")","v":""},null,null,null,null,null,"","","",{"$f":"IFERROR(IF(A356=\"\",\"\",VLOOKUP(A356,[1]Hoja1!$B$2:$U$4999,18,FALSE)),0)","v":""},{"$f":"IFERROR(IF(A356=\"\",\"\",VLOOKUP(A356,[1]Hoja1!$B$2:$U$4999,19,FALSE)),0)","v":""},"",null,{"$f":"IFERROR(IF(O356=\"\",\"\",VLOOKUP(O356,JORNADA!$A$19:$B$20,2,FALSE)),\"\")","v":""},{"$f":"IFERROR(IF(A356=\"\",\"\",VLOOKUP(A356,[1]Hoja1!$B$2:$U$4999,3,FALSE)),0)","v":""},null,"","",{"$f":"IFERROR(IF(A356=\"\",\"\",VLOOKUP(A356,[1]Hoja1!$B$2:$U$4999,10,FALSE)),0)","v":""},{"$f":"IFERROR(IF(Q356=\"\",\"\",VLOOKUP(Q356,[1]Hoja1!$D$2:$AF$4999,29,FALSE)),\"NO EXISTE CUENTA\")","v":""},null,null,""]
["",{"$f":"IFERROR(IF(A357=\"\",\"\",VLOOKUP(A357,[1]Hoja1!$B$2:$U$4999,9,FALSE)),0)","v":""},{"$f":"IFERROR(IF(A357=\"\",\"\",VLOOKUP(A357,[1]Hoja1!$B$2:$U$4999,2,FALSE)),\" --- NO EXISTE TRABAJADOR --- \")","v":""},null,null,null,null,null,"","","",{"$f":"IFERROR(IF(A357=\"\",\"\",VLOOKUP(A357,[1]Hoja1!$B$2:$U$4999,18,FALSE)),0)","v":""},{"$f":"IFERROR(IF(A357=\"\",\"\",VLOOKUP(A357,[1]Hoja1!$B$2:$U$4999,19,FALSE)),0)","v":""},"",null,{"$f":"IFERROR(IF(O357=\"\",\"\",VLOOKUP(O357,JORNADA!$A$19:$B$20,2,FALSE)),\"\")","v":""},{"$f":"IFERROR(IF(A357=\"\",\"\",VLOOKUP(A357,[1]Hoja1!$B$2:$U$4999,3,FALSE)),0)","v":""},null,"","",{"$f":"IFERROR(IF(A357=\"\",\"\",VLOOKUP(A357,[1]Hoja1!$B$2:$U$4999,10,FALSE)),0)","v":""},{"$f":"IFERROR(IF(Q357=\"\",\"\",VLOOKUP(Q357,[1]Hoja1!$D$2:$AF$4999,29,FALSE)),\"NO EXISTE CUENTA\")","v":""},null,null,""]
["",{"$f":"IFERROR(IF(A358=\"\",\"\",VLOOKUP(A358,[1]Hoja1!$B$2:$U$4999,9,FALSE)),0)","v":""},{"$f":"IFERROR(IF(A358=\"\",\"\",VLOOKUP(A358,[1]Hoja1!$B$2:$U$4999,2,FALSE)),\" --- NO EXISTE TRABAJADOR --- \")","v":""},null,null,null,null,null,"","","",{"$f":"IFERROR(IF(A358=\"\",\"\",VLOOKUP(A358,[1]Hoja1!$B$2:$U$4999,18,FALSE)),0)","v":""},{"$f":"IFERROR(IF(A358=\"\",\"\",VLOOKUP(A358,[1]Hoja1!$B$2:$U$4999,19,FALSE)),0)","v":""},"",null,{"$f":"IFERROR(IF(O358=\"\",\"\",VLOOKUP(O358,JORNADA!$A$19:$B$20,2,FALSE)),\"\")","v":""},{"$f":"IFERROR(IF(A358=\"\",\"\",VLOOKUP(A358,[1]Hoja1!$B$2:$U$4999,3,FALSE)),0)","v":""},null,"","",{"$f":"IFERROR(IF(A358=\"\",\"\",VLOOKUP(A358,[1]Hoja1!$B$2:$U$4999,10,FALSE)),0)","v":""},{"$f":"IFERROR(IF(Q358=\"\",\"\",VLOOKUP(Q358,[1]Hoja1!$D$2:$AF$4999,29,FALSE)),\"NO EXISTE CUENTA\")","v":""},null,null,""]
["",{"$f":"IFERROR(IF(A359=\"\",\"\",VLOOKUP(A359,[1]Hoja1!$B$2:$U$4999,9,FALSE)),0)","v":""},{"$f":"IFERROR(IF(A359=\"\",\"\",VLOOKUP(A359,[1]Hoja1!$B$2:$U$4999,2,FALSE)),\" --- NO EXISTE TRABAJADOR --- \")","v":""},null,null,null,null,null,"","","",{"$f":"IFERROR(IF(A359=\"\",\"\",VLOOKUP(A359,[1]Hoja1!$B$2:$U$4999,18,FALSE)),0)","v":""},{"$f":"IFERROR(IF(A359=\"\",\"\",VLOOKUP(A359,[1]Hoja1!$B$2:$U$4999,19,FALSE)),0)","v":""},"",null,{"$f":"IFERROR(IF(O359=\"\",\"\",VLOOKUP(O359,JORNADA!$A$19:$B$20,2,FALSE)),\"\")","v":""},{"$f":"IFERROR(IF(A359=\"\",\"\",VLOOKUP(A359,[1]Hoja1!$B$2:$U$4999,3,FALSE)),0)","v":""},null,"","",{"$f":"IFERROR(IF(A359=\"\",\"\",VLOOKUP(A359,[1]Hoja1!$B$2:$U$4999,10,FALSE)),0)","v":""},{"$f":"IFERROR(IF(Q359=\"\",\"\",VLOOKUP(Q359,[1]Hoja1!$D$2:$AF$4999,29,FALSE)),\"NO EXISTE CUENTA\")","v":""},null,null,""]
["",{"$f":"IFERROR(IF(A360=\"\",\"\",VLOOKUP(A360,[1]Hoja1!$B$2:$U$4999,9,FALSE)),0)","v":""},{"$f":"IFERROR(IF(A360=\"\",\"\",VLOOKUP(A360,[1]Hoja1!$B$2:$U$4999,2,FALSE)),\" --- NO EXISTE TRABAJADOR --- \")","v":""},null,null,null,null,null,"","","",{"$f":"IFERROR(IF(A360=\"\",\"\",VLOOKUP(A360,[1]Hoja1!$B$2:$U$4999,18,FALSE)),0)","v":""},{"$f":"IFERROR(IF(A360=\"\",\"\",VLOOKUP(A360,[1]Hoja1!$B$2:$U$4999,19,FALSE)),0)","v":""},"",null,{"$f":"IFERROR(IF(O360=\"\",\"\",VLOOKUP(O360,JORNADA!$A$19:$B$20,2,FALSE)),\"\")","v":""},{"$f":"IFERROR(IF(A360=\"\",\"\",VLOOKUP(A360,[1]Hoja1!$B$2:$U$4999,3,FALSE)),0)","v":""},null,"","",{"$f":"IFERROR(IF(A360=\"\",\"\",VLOOKUP(A360,[1]Hoja1!$B$2:$U$4999,10,FALSE)),0)","v":""},{"$f":"IFERROR(IF(Q360=\"\",\"\",VLOOKUP(Q360,[1]Hoja1!$D$2:$AF$4999,29,FALSE)),\"NO EXISTE CUENTA\")","v":""},null,null,""]
["",{"$f":"IFERROR(IF(A361=\"\",\"\",VLOOKUP(A361,[1]Hoja1!$B$2:$U$4999,9,FALSE)),0)","v":""},{"$f":"IFERROR(IF(A361=\"\",\"\",VLOOKUP(A361,[1]Hoja1!$B$2:$U$4999,2,FALSE)),\" --- NO EXISTE TRABAJADOR --- \")","v":""},null,null,null,null,null,"","","",{"$f":"IFERROR(IF(A361=\"\",\"\",VLOOKUP(A361,[1]Hoja1!$B$2:$U$4999,18,FALSE)),0)","v":""},{"$f":"IFERROR(IF(A361=\"\",\"\",VLOOKUP(A361,[1]Hoja1!$B$2:$U$4999,19,FALSE)),0)","v":""},"",null,{"$f":"IFERROR(IF(O361=\"\",\"\",VLOOKUP(O361,JORNADA!$A$19:$B$20,2,FALSE)),\"\")","v":""},{"$f":"IFERROR(IF(A361=\"\",\"\",VLOOKUP(A361,[1]Hoja1!$B$2:$U$4999,3,FALSE)),0)","v":""},null,"","",{"$f":"IFERROR(IF(A361=\"\",\"\",VLOOKUP(A361,[1]Hoja1!$B$2:$U$4999,10,FALSE)),0)","v":""},{"$f":"IFERROR(IF(Q361=\"\",\"\",VLOOKUP(Q361,[1]Hoja1!$D$2:$AF$4999,29,FALSE)),\"NO EXISTE CUENTA\")","v":""},null,null,""]
["",{"$f":"IFERROR(IF(A362=\"\",\"\",VLOOKUP(A362,[1]Hoja1!$B$2:$U$4999,9,FALSE)),0)","v":""},{"$f":"IFERROR(IF(A362=\"\",\"\",VLOOKUP(A362,[1]Hoja1!$B$2:$U$4999,2,FALSE)),\" --- NO EXISTE TRABAJADOR --- \")","v":""},null,null,null,null,null,"","","",{"$f":"IFERROR(IF(A362=\"\",\"\",VLOOKUP(A362,[1]Hoja1!$B$2:$U$4999,18,FALSE)),0)","v":""},{"$f":"IFERROR(IF(A362=\"\",\"\",VLOOKUP(A362,[1]Hoja1!$B$2:$U$4999,19,FALSE)),0)","v":""},"",null,{"$f":"IFERROR(IF(O362=\"\",\"\",VLOOKUP(O362,JORNADA!$A$19:$B$20,2,FALSE)),\"\")","v":""},{"$f":"IFERROR(IF(A362=\"\",\"\",VLOOKUP(A362,[1]Hoja1!$B$2:$U$4999,3,FALSE)),0)","v":""},null,"","",{"$f":"IFERROR(IF(A362=\"\",\"\",VLOOKUP(A362,[1]Hoja1!$B$2:$U$4999,10,FALSE)),0)","v":""},{"$f":"IFERROR(IF(Q362=\"\",\"\",VLOOKUP(Q362,[1]Hoja1!$D$2:$AF$4999,29,FALSE)),\"NO EXISTE CUENTA\")","v":""},null,null,""]
["",{"$f":"IFERROR(IF(A363=\"\",\"\",VLOOKUP(A363,[1]Hoja1!$B$2:$U$4999,9,FALSE)),0)","v":""},{"$f":"IFERROR(IF(A363=\"\",\"\",VLOOKUP(A363,[1]Hoja1!$B$2:$U$4999,2,FALSE)),\" --- NO EXISTE TRABAJADOR --- \")","v":""},null,null,null,null,null,"","","",{"$f":"IFERROR(IF(A363=\"\",\"\",VLOOKUP(A363,[1]Hoja1!$B$2:$U$4999,18,FALSE)),0)","v":""},{"$f":"IFERROR(IF(A363=\"\",\"\",VLOOKUP(A363,[1]Hoja1!$B$2:$U$4999,19,FALSE)),0)","v":""},"",null,{"$f":"IFERROR(IF(O363=\"\",\"\",VLOOKUP(O363,JORNADA!$A$19:$B$20,2,FALSE)),\"\")","v":""},{"$f":"IFERROR(IF(A363=\"\",\"\",VLOOKUP(A363,[1]Hoja1!$B$2:$U$4999,3,FALSE)),0)","v":""},null,"","",{"$f":"IFERROR(IF(A363=\"\",\"\",VLOOKUP(A363,[1]Hoja1!$B$2:$U$4999,10,FALSE)),0)","v":""},{"$f":"IFERROR(IF(Q363=\"\",\"\",VLOOKUP(Q363,[1]Hoja1!$D$2:$AF$4999,29,FALSE)),\"NO EXISTE CUENTA\")","v":""},null,null,""]
["",{"$f":"IFERROR(IF(A364=\"\",\"\",VLOOKUP(A364,[1]Hoja1!$B$2:$U$4999,9,FALSE)),0)","v":""},{"$f":"IFERROR(IF(A364=\"\",\"\",VLOOKUP(A364,[1]Hoja1!$B$2:$U$4999,2,FALSE)),\" --- NO EXISTE TRABAJADOR --- \")","v":""},null,null,null,null,null,"","","",{"$f":"IFERROR(IF(A364=\"\",\"\",VLOOKUP(A364,[1]Hoja1!$B$2:$U$4999,18,FALSE)),0)","v":""},{"$f":"IFERROR(IF(A364=\"\",\"\",VLOOKUP(A364,[1]Hoja1!$B$2:$U$4999,19,FALSE)),0)","v":""},"",null,{"$f":"IFERROR(IF(O364=\"\",\"\",VLOOKUP(O364,JORNADA!$A$19:$B$20,2,FALSE)),\"\")","v":""},{"$f":"IFERROR(IF(A364=\"\",\"\",VLOOKUP(A364,[1]Hoja1!$B$2:$U$4999,3,FALSE)),0)","v":""},null,"","",{"$f":"IFERROR(IF(A364=\"\",\"\",VLOOKUP(A364,[1]Hoja1!$B$2:$U$4999,10,FALSE)),0)","v":""},{"$f":"IFERROR(IF(Q364=\"\",\"\",VLOOKUP(Q364,[1]Hoja1!$D$2:$AF$4999,29,FALSE)),\"NO EXISTE CUENTA\")","v":""},null,null,""]
["",{"$f":"IFERROR(IF(A365=\"\",\"\",VLOOKUP(A365,[1]Hoja1!$B$2:$U$4999,9,FALSE)),0)","v":""},{"$f":"IFERROR(IF(A365=\"\",\"\",VLOOKUP(A365,[1]Hoja1!$B$2:$U$4999,2,FALSE)),\" --- NO EXISTE TRABAJADOR --- \")","v":""},null,null,null,null,null,"","","",{"$f":"IFERROR(IF(A365=\"\",\"\",VLOOKUP(A365,[1]Hoja1!$B$2:$U$4999,18,FALSE)),0)","v":""},{"$f":"IFERROR(IF(A365=\"\",\"\",VLOOKUP(A365,[1]Hoja1!$B$2:$U$4999,19,FALSE)),0)","v":""},"",null,{"$f":"IFERROR(IF(O365=\"\",\"\",VLOOKUP(O365,JORNADA!$A$19:$B$20,2,FALSE)),\"\")","v":""},{"$f":"IFERROR(IF(A365=\"\",\"\",VLOOKUP(A365,[1]Hoja1!$B$2:$U$4999,3,FALSE)),0)","v":""},null,"","",{"$f":"IFERROR(IF(A365=\"\",\"\",VLOOKUP(A365,[1]Hoja1!$B$2:$U$4999,10,FALSE)),0)","v":""},{"$f":"IFERROR(IF(Q365=\"\",\"\",VLOOKUP(Q365,[1]Hoja1!$D$2:$AF$4999,29,FALSE)),\"NO EXISTE CUENTA\")","v":""},null,null,""]
["",{"$f":"IFERROR(IF(A366=\"\",\"\",VLOOKUP(A366,[1]Hoja1!$B$2:$U$4999,9,FALSE)),0)","v":""},{"$f":"IFERROR(IF(A366=\"\",\"\",VLOOKUP(A366,[1]Hoja1!$B$2:$U$4999,2,FALSE)),\" --- NO EXISTE TRABAJADOR --- \")","v":""},null,null,null,null,null,"","","",{"$f":"IFERROR(IF(A366=\"\",\"\",VLOOKUP(A366,[1]Hoja1!$B$2:$U$4999,18,FALSE)),0)","v":""},{"$f":"IFERROR(IF(A366=\"\",\"\",VLOOKUP(A366,[1]Hoja1!$B$2:$U$4999,19,FALSE)),0)","v":""},"",null,{"$f":"IFERROR(IF(O366=\"\",\"\",VLOOKUP(O366,JORNADA!$A$19:$B$20,2,FALSE)),\"\")","v":""},{"$f":"IFERROR(IF(A366=\"\",\"\",VLOOKUP(A366,[1]Hoja1!$B$2:$U$4999,3,FALSE)),0)","v":""},null,"","",{"$f":"IFERROR(IF(A366=\"\",\"\",VLOOKUP(A366,[1]Hoja1!$B$2:$U$4999,10,FALSE)),0)","v":""},{"$f":"IFERROR(IF(Q366=\"\",\"\",VLOOKUP(Q366,[1]Hoja1!$D$2:$AF$4999,29,FALSE)),\"NO EXISTE CUENTA\")","v":""},null,null,""]
["",{"$f":"IFERROR(IF(A367=\"\",\"\",VLOOKUP(A367,[1]Hoja1!$B$2:$U$4999,9,FALSE)),0)","v":""},{"$f":"IFERROR(IF(A367=\"\",\"\",VLOOKUP(A367,[1]Hoja1!$B$2:$U$4999,2,FALSE)),\" --- NO EXISTE TRABAJADOR --- \")","v":""},null,null,null,null,null,"","","",{"$f":"IFERROR(IF(A367=\"\",\"\",VLOOKUP(A367,[1]Hoja1!$B$2:$U$4999,18,FALSE)),0)","v":""},{"$f":"IFERROR(IF(A367=\"\",\"\",VLOOKUP(A367,[1]Hoja1!$B$2:$U$4999,19,FALSE)),0)","v":""},"",null,{"$f":"IFERROR(IF(O367=\"\",\"\",VLOOKUP(O367,JORNADA!$A$19:$B$20,2,FALSE)),\"\")","v":""},{"$f":"IFERROR(IF(A367=\"\",\"\",VLOOKUP(A367,[1]Hoja1!$B$2:$U$4999,3,FALSE)),0)","v":""},null,"","",{"$f":"IFERROR(IF(A367=\"\",\"\",VLOOKUP(A367,[1]Hoja1!$B$2:$U$4999,10,FALSE)),0)","v":""},{"$f":"IFERROR(IF(Q367=\"\",\"\",VLOOKUP(Q367,[1]Hoja1!$D$2:$AF$4999,29,FALSE)),\"NO EXISTE CUENTA\")","v":""},null,null,""]
["",{"$f":"IFERROR(IF(A368=\"\",\"\",VLOOKUP(A368,[1]Hoja1!$B$2:$U$4999,9,FALSE)),0)","v":""},{"$f":"IFERROR(IF(A368=\"\",\"\",VLOOKUP(A368,[1]Hoja1!$B$2:$U$4999,2,FALSE)),\" --- NO EXISTE TRABAJADOR --- \")","v":""},null,null,null,null,null,"","","",{"$f":"IFERROR(IF(A368=\"\",\"\",VLOOKUP(A368,[1]Hoja1!$B$2:$U$4999,18,FALSE)),0)","v":""},{"$f":"IFERROR(IF(A368=\"\",\"\",VLOOKUP(A368,[1]Hoja1!$B$2:$U$4999,19,FALSE)),0)","v":""},"",null,{"$f":"IFERROR(IF(O368=\"\",\"\",VLOOKUP(O368,JORNADA!$A$19:$B$20,2,FALSE)),\"\")","v":""},{"$f":"IFERROR(IF(A368=\"\",\"\",VLOOKUP(A368,[1]Hoja1!$B$2:$U$4999,3,FALSE)),0)","v":""},null,"","",{"$f":"IFERROR(IF(A368=\"\",\"\",VLOOKUP(A368,[1]Hoja1!$B$2:$U$4999,10,FALSE)),0)","v":""},{"$f":"IFERROR(IF(Q368=\"\",\"\",VLOOKUP(Q368,[1]Hoja1!$D$2:$AF$4999,29,FALSE)),\"NO EXISTE CUENTA\")","v":""},null,null,""]
["",{"$f":"IFERROR(IF(A369=\"\",\"\",VLOOKUP(A369,[1]Hoja1!$B$2:$U$4999,9,FALSE)),0)","v":""},{"$f":"IFERROR(IF(A369=\"\",\"\",VLOOKUP(A369,[1]Hoja1!$B$2:$U$4999,2,FALSE)),\" --- NO EXISTE TRABAJADOR --- \")","v":""},null,null,null,null,null,"","","",{"$f":"IFERROR(IF(A369=\"\",\"\",VLOOKUP(A369,[1]Hoja1!$B$2:$U$4999,18,FALSE)),0)","v":""},{"$f":"IFERROR(IF(A369=\"\",\"\",VLOOKUP(A369,[1]Hoja1!$B$2:$U$4999,19,FALSE)),0)","v":""},"",null,{"$f":"IFERROR(IF(O369=\"\",\"\",VLOOKUP(O369,JORNADA!$A$19:$B$20,2,FALSE)),\"\")","v":""},{"$f":"IFERROR(IF(A369=\"\",\"\",VLOOKUP(A369,[1]Hoja1!$B$2:$U$4999,3,FALSE)),0)","v":""},null,"","",{"$f":"IFERROR(IF(A369=\"\",\"\",VLOOKUP(A369,[1]Hoja1!$B$2:$U$4999,10,FALSE)),0)","v":""},{"$f":"IFERROR(IF(Q369=\"\",\"\",VLOOKUP(Q369,[1]Hoja1!$D$2:$AF$4999,29,FALSE)),\"NO EXISTE CUENTA\")","v":""},null,null,""]
["",{"$f":"IFERROR(IF(A370=\"\",\"\",VLOOKUP(A370,[1]Hoja1!$B$2:$U$4999,9,FALSE)),0)","v":""},{"$f":"IFERROR(IF(A370=\"\",\"\",VLOOKUP(A370,[1]Hoja1!$B$2:$U$4999,2,FALSE)),\" --- NO EXISTE TRABAJADOR --- \")","v":""},null,null,null,null,null,"","","",{"$f":"IFERROR(IF(A370=\"\",\"\",VLOOKUP(A370,[1]Hoja1!$B$2:$U$4999,18,FALSE)),0)","v":""},{"$f":"IFERROR(IF(A370=\"\",\"\",VLOOKUP(A370,[1]Hoja1!$B$2:$U$4999,19,FALSE)),0)","v":""},"",null,{"$f":"IFERROR(IF(O370=\"\",\"\",VLOOKUP(O370,JORNADA!$A$19:$B$20,2,FALSE)),\"\")","v":""},{"$f":"IFERROR(IF(A370=\"\",\"\",VLOOKUP(A370,[1]Hoja1!$B$2:$U$4999,3,FALSE)),0)","v":""},null,"","",{"$f":"IFERROR(IF(A370=\"\",\"\",VLOOKUP(A370,[1]Hoja1!$B$2:$U$4999,10,FALSE)),0)","v":""},{"$f":"IFERROR(IF(Q370=\"\",\"\",VLOOKUP(Q370,[1]Hoja1!$D$2:$AF$4999,29,FALSE)),\"NO EXISTE CUENTA\")","v":""},null,null,""]
["",{"$f":"IFERROR(IF(A371=\"\",\"\",VLOOKUP(A371,[1]Hoja1!$B$2:$U$4999,9,FALSE)),0)","v":""},{"$f":"IFERROR(IF(A371=\"\",\"\",VLOOKUP(A371,[1]Hoja1!$B$2:$U$4999,2,FALSE)),\" --- NO EXISTE TRABAJADOR --- \")","v":""},null,null,null,null,null,"","","",{"$f":"IFERROR(IF(A371=\"\",\"\",VLOOKUP(A371,[1]Hoja1!$B$2:$U$4999,18,FALSE)),0)","v":""},{"$f":"IFERROR(IF(A371=\"\",\"\",VLOOKUP(A371,[1]Hoja1!$B$2:$U$4999,19,FALSE)),0)","v":""},"",null,{"$f":"IFERROR(IF(O371=\"\",\"\",VLOOKUP(O371,JORNADA!$A$19:$B$20,2,FALSE)),\"\")","v":""},{"$f":"IFERROR(IF(A371=\"\",\"\",VLOOKUP(A371,[1]Hoja1!$B$2:$U$4999,3,FALSE)),0)","v":""},null,"","",{"$f":"IFERROR(IF(A371=\"\",\"\",VLOOKUP(A371,[1]Hoja1!$B$2:$U$4999,10,FALSE)),0)","v":""},{"$f":"IFERROR(IF(Q371=\"\",\"\",VLOOKUP(Q371,[1]Hoja1!$D$2:$AF$4999,29,FALSE)),\"NO EXISTE CUENTA\")","v":""},null,null,""]
["",{"$f":"IFERROR(IF(A372=\"\",\"\",VLOOKUP(A372,[1]Hoja1!$B$2:$U$4999,9,FALSE)),0)","v":""},{"$f":"IFERROR(IF(A372=\"\",\"\",VLOOKUP(A372,[1]Hoja1!$B$2:$U$4999,2,FALSE)),\" --- NO EXISTE TRABAJADOR --- \")","v":""},null,null,null,null,null,"","","",{"$f":"IFERROR(IF(A372=\"\",\"\",VLOOKUP(A372,[1]Hoja1!$B$2:$U$4999,18,FALSE)),0)","v":""},{"$f":"IFERROR(IF(A372=\"\",\"\",VLOOKUP(A372,[1]Hoja1!$B$2:$U$4999,19,FALSE)),0)","v":""},"",null,{"$f":"IFERROR(IF(O372=\"\",\"\",VLOOKUP(O372,JORNADA!$A$19:$B$20,2,FALSE)),\"\")","v":""},{"$f":"IFERROR(IF(A372=\"\",\"\",VLOOKUP(A372,[1]Hoja1!$B$2:$U$4999,3,FALSE)),0)","v":""},null,"","",{"$f":"IFERROR(IF(A372=\"\",\"\",VLOOKUP(A372,[1]Hoja1!$B$2:$U$4999,10,FALSE)),0)","v":""},{"$f":"IFERROR(IF(Q372=\"\",\"\",VLOOKUP(Q372,[1]Hoja1!$D$2:$AF$4999,29,FALSE)),\"NO EXISTE CUENTA\")","v":""},null,null,""]
["",{"$f":"IFERROR(IF(A373=\"\",\"\",VLOOKUP(A373,[1]Hoja1!$B$2:$U$4999,9,FALSE)),0)","v":""},{"$f":"IFERROR(IF(A373=\"\",\"\",VLOOKUP(A373,[1]Hoja1!$B$2:$U$4999,2,FALSE)),\" --- NO EXISTE TRABAJADOR --- \")","v":""},null,null,null,null,null,"","","",{"$f":"IFERROR(IF(A373=\"\",\"\",VLOOKUP(A373,[1]Hoja1!$B$2:$U$4999,18,FALSE)),0)","v":""},{"$f":"IFERROR(IF(A373=\"\",\"\",VLOOKUP(A373,[1]Hoja1!$B$2:$U$4999,19,FALSE)),0)","v":""},"",null,{"$f":"IFERROR(IF(O373=\"\",\"\",VLOOKUP(O373,JORNADA!$A$19:$B$20,2,FALSE)),\"\")","v":""},{"$f":"IFERROR(IF(A373=\"\",\"\",VLOOKUP(A373,[1]Hoja1!$B$2:$U$4999,3,FALSE)),0)","v":""},null,"","",{"$f":"IFERROR(IF(A373=\"\",\"\",VLOOKUP(A373,[1]Hoja1!$B$2:$U$4999,10,FALSE)),0)","v":""},{"$f":"IFERROR(IF(Q373=\"\",\"\",VLOOKUP(Q373,[1]Hoja1!$D$2:$AF$4999,29,FALSE)),\"NO EXISTE CUENTA\")","v":""},null,null,""]
["",{"$f":"IFERROR(IF(A374=\"\",\"\",VLOOKUP(A374,[1]Hoja1!$B$2:$U$4999,9,FALSE)),0)","v":""},{"$f":"IFERROR(IF(A374=\"\",\"\",VLOOKUP(A374,[1]Hoja1!$B$2:$U$4999,2,FALSE)),\" --- NO EXISTE TRABAJADOR --- \")","v":""},null,null,null,null,null,"","","",{"$f":"IFERROR(IF(A374=\"\",\"\",VLOOKUP(A374,[1]Hoja1!$B$2:$U$4999,18,FALSE)),0)","v":""},{"$f":"IFERROR(IF(A374=\"\",\"\",VLOOKUP(A374,[1]Hoja1!$B$2:$U$4999,19,FALSE)),0)","v":""},"",null,{"$f":"IFERROR(IF(O374=\"\",\"\",VLOOKUP(O374,JORNADA!$A$19:$B$20,2,FALSE)),\"\")","v":""},{"$f":"IFERROR(IF(A374=\"\",\"\",VLOOKUP(A374,[1]Hoja1!$B$2:$U$4999,3,FALSE)),0)","v":""},null,"","",{"$f":"IFERROR(IF(A374=\"\",\"\",VLOOKUP(A374,[1]Hoja1!$B$2:$U$4999,10,FALSE)),0)","v":""},{"$f":"IFERROR(IF(Q374=\"\",\"\",VLOOKUP(Q374,[1]Hoja1!$D$2:$AF$4999,29,FALSE)),\"NO EXISTE CUENTA\")","v":""},null,null,""]
["",{"$f":"IFERROR(IF(A375=\"\",\"\",VLOOKUP(A375,[1]Hoja1!$B$2:$U$4999,9,FALSE)),0)","v":""},{"$f":"IFERROR(IF(A375=\"\",\"\",VLOOKUP(A375,[1]Hoja1!$B$2:$U$4999,2,FALSE)),\" --- NO EXISTE TRABAJADOR --- \")","v":""},null,null,null,null,null,"","","",{"$f":"IFERROR(IF(A375=\"\",\"\",VLOOKUP(A375,[1]Hoja1!$B$2:$U$4999,18,FALSE)),0)","v":""},{"$f":"IFERROR(IF(A375=\"\",\"\",VLOOKUP(A375,[1]Hoja1!$B$2:$U$4999,19,FALSE)),0)","v":""},"",null,{"$f":"IFERROR(IF(O375=\"\",\"\",VLOOKUP(O375,JORNADA!$A$19:$B$20,2,FALSE)),\"\")","v":""},{"$f":"IFERROR(IF(A375=\"\",\"\",VLOOKUP(A375,[1]Hoja1!$B$2:$U$4999,3,FALSE)),0)","v":""},null,"","",{"$f":"IFERROR(IF(A375=\"\",\"\",VLOOKUP(A375,[1]Hoja1!$B$2:$U$4999,10,FALSE)),0)","v":""},{"$f":"IFERROR(IF(Q375=\"\",\"\",VLOOKUP(Q375,[1]Hoja1!$D$2:$AF$4999,29,FALSE)),\"NO EXISTE CUENTA\")","v":""},null,null,""]
["",{"$f":"IFERROR(IF(A376=\"\",\"\",VLOOKUP(A376,[1]Hoja1!$B$2:$U$4999,9,FALSE)),0)","v":""},{"$f":"IFERROR(IF(A376=\"\",\"\",VLOOKUP(A376,[1]Hoja1!$B$2:$U$4999,2,FALSE)),\" --- NO EXISTE TRABAJADOR --- \")","v":""},null,null,null,null,null,"","","",{"$f":"IFERROR(IF(A376=\"\",\"\",VLOOKUP(A376,[1]Hoja1!$B$2:$U$4999,18,FALSE)),0)","v":""},{"$f":"IFERROR(IF(A376=\"\",\"\",VLOOKUP(A376,[1]Hoja1!$B$2:$U$4999,19,FALSE)),0)","v":""},"",null,{"$f":"IFERROR(IF(O376=\"\",\"\",VLOOKUP(O376,JORNADA!$A$19:$B$20,2,FALSE)),\"\")","v":""},{"$f":"IFERROR(IF(A376=\"\",\"\",VLOOKUP(A376,[1]Hoja1!$B$2:$U$4999,3,FALSE)),0)","v":""},null,"","",{"$f":"IFERROR(IF(A376=\"\",\"\",VLOOKUP(A376,[1]Hoja1!$B$2:$U$4999,10,FALSE)),0)","v":""},{"$f":"IFERROR(IF(Q376=\"\",\"\",VLOOKUP(Q376,[1]Hoja1!$D$2:$AF$4999,29,FALSE)),\"NO EXISTE CUENTA\")","v":""},null,null,""]
["",{"$f":"IFERROR(IF(A377=\"\",\"\",VLOOKUP(A377,[1]Hoja1!$B$2:$U$4999,9,FALSE)),0)","v":""},{"$f":"IFERROR(IF(A377=\"\",\"\",VLOOKUP(A377,[1]Hoja1!$B$2:$U$4999,2,FALSE)),\" --- NO EXISTE TRABAJADOR --- \")","v":""},null,null,null,null,null,"","",null,{"$f":"IFERROR(IF(A377=\"\",\"\",VLOOKUP(A377,[1]Hoja1!$B$2:$U$4999,18,FALSE)),0)","v":""},{"$f":"IFERROR(IF(A377=\"\",\"\",VLOOKUP(A377,[1]Hoja1!$B$2:$U$4999,19,FALSE)),0)","v":""},"",null,{"$f":"IFERROR(IF(O377=\"\",\"\",VLOOKUP(O377,JORNADA!$A$19:$B$20,2,FALSE)),\"\")","v":""},{"$f":"IFERROR(IF(A377=\"\",\"\",VLOOKUP(A377,[1]Hoja1!$B$2:$U$4999,3,FALSE)),0)","v":""},null,"","",{"$f":"IFERROR(IF(A377=\"\",\"\",VLOOKUP(A377,[1]Hoja1!$B$2:$U$4999,10,FALSE)),0)","v":""},{"$f":"IFERROR(IF(Q377=\"\",\"\",VLOOKUP(Q377,[1]Hoja1!$D$2:$AF$4999,29,FALSE)),\"NO EXISTE CUENTA\")","v":""},null,null,""]
["",{"$f":"IFERROR(IF(A378=\"\",\"\",VLOOKUP(A378,[1]Hoja1!$B$2:$U$4999,9,FALSE)),0)","v":""},{"$f":"IFERROR(IF(A378=\"\",\"\",VLOOKUP(A378,[1]Hoja1!$B$2:$U$4999,2,FALSE)),\" --- NO EXISTE TRABAJADOR --- \")","v":""},null,null,null,null,null,"","","",{"$f":"IFERROR(IF(A378=\"\",\"\",VLOOKUP(A378,[1]Hoja1!$B$2:$U$4999,18,FALSE)),0)","v":""},{"$f":"IFERROR(IF(A378=\"\",\"\",VLOOKUP(A378,[1]Hoja1!$B$2:$U$4999,19,FALSE)),0)","v":""},"",null,{"$f":"IFERROR(IF(O378=\"\",\"\",VLOOKUP(O378,JORNADA!$A$19:$B$20,2,FALSE)),\"\")","v":""},{"$f":"IFERROR(IF(A378=\"\",\"\",VLOOKUP(A378,[1]Hoja1!$B$2:$U$4999,3,FALSE)),0)","v":""},null,"","",{"$f":"IFERROR(IF(A378=\"\",\"\",VLOOKUP(A378,[1]Hoja1!$B$2:$U$4999,10,FALSE)),0)","v":""},{"$f":"IFERROR(IF(Q378=\"\",\"\",VLOOKUP(Q378,[1]Hoja1!$D$2:$AF$4999,29,FALSE)),\"NO EXISTE CUENTA\")","v":""},null,null,""]
["",{"$f":"IFERROR(IF(A379=\"\",\"\",VLOOKUP(A379,[1]Hoja1!$B$2:$U$4999,9,FALSE)),0)","v":""},{"$f":"IFERROR(IF(A379=\"\",\"\",VLOOKUP(A379,[1]Hoja1!$B$2:$U$4999,2,FALSE)),\" --- NO EXISTE TRABAJADOR --- \")","v":""},null,null,null,null,null,"","","",{"$f":"IFERROR(IF(A379=\"\",\"\",VLOOKUP(A379,[1]Hoja1!$B$2:$U$4999,18,FALSE)),0)","v":""},{"$f":"IFERROR(IF(A379=\"\",\"\",VLOOKUP(A379,[1]Hoja1!$B$2:$U$4999,19,FALSE)),0)","v":""},"",null,{"$f":"IFERROR(IF(O379=\"\",\"\",VLOOKUP(O379,JORNADA!$A$19:$B$20,2,FALSE)),\"\")","v":""},{"$f":"IFERROR(IF(A379=\"\",\"\",VLOOKUP(A379,[1]Hoja1!$B$2:$U$4999,3,FALSE)),0)","v":""},null,"","",{"$f":"IFERROR(IF(A379=\"\",\"\",VLOOKUP(A379,[1]Hoja1!$B$2:$U$4999,10,FALSE)),0)","v":""},{"$f":"IFERROR(IF(Q379=\"\",\"\",VLOOKUP(Q379,[1]Hoja1!$D$2:$AF$4999,29,FALSE)),\"NO EXISTE CUENTA\")","v":""},null,null,""]
["",{"$f":"IFERROR(IF(A380=\"\",\"\",VLOOKUP(A380,[1]Hoja1!$B$2:$U$4999,9,FALSE)),0)","v":""},{"$f":"IFERROR(IF(A380=\"\",\"\",VLOOKUP(A380,[1]Hoja1!$B$2:$U$4999,2,FALSE)),\" --- NO EXISTE TRABAJADOR --- \")","v":""},null,null,null,null,null,"","","",{"$f":"IFERROR(IF(A380=\"\",\"\",VLOOKUP(A380,[1]Hoja1!$B$2:$U$4999,18,FALSE)),0)","v":""},{"$f":"IFERROR(IF(A380=\"\",\"\",VLOOKUP(A380,[1]Hoja1!$B$2:$U$4999,19,FALSE)),0)","v":""},"",null,{"$f":"IFERROR(IF(O380=\"\",\"\",VLOOKUP(O380,JORNADA!$A$19:$B$20,2,FALSE)),\"\")","v":""},{"$f":"IFERROR(IF(A380=\"\",\"\",VLOOKUP(A380,[1]Hoja1!$B$2:$U$4999,3,FALSE)),0)","v":""},null,"","",{"$f":"IFERROR(IF(A380=\"\",\"\",VLOOKUP(A380,[1]Hoja1!$B$2:$U$4999,10,FALSE)),0)","v":""},{"$f":"IFERROR(IF(Q380=\"\",\"\",VLOOKUP(Q380,[1]Hoja1!$D$2:$AF$4999,29,FALSE)),\"NO EXISTE CUENTA\")","v":""},null,null,""]
["",{"$f":"IFERROR(IF(A381=\"\",\"\",VLOOKUP(A381,[1]Hoja1!$B$2:$U$4999,9,FALSE)),0)","v":""},{"$f":"IFERROR(IF(A381=\"\",\"\",VLOOKUP(A381,[1]Hoja1!$B$2:$U$4999,2,FALSE)),\" --- NO EXISTE TRABAJADOR --- \")","v":""},null,null,null,null,null,"","","",{"$f":"IFERROR(IF(A381=\"\",\"\",VLOOKUP(A381,[1]Hoja1!$B$2:$U$4999,18,FALSE)),0)","v":""},{"$f":"IFERROR(IF(A381=\"\",\"\",VLOOKUP(A381,[1]Hoja1!$B$2:$U$4999,19,FALSE)),0)","v":""},"",null,{"$f":"IFERROR(IF(O381=\"\",\"\",VLOOKUP(O381,JORNADA!$A$19:$B$20,2,FALSE)),\"\")","v":""},{"$f":"IFERROR(IF(A381=\"\",\"\",VLOOKUP(A381,[1]Hoja1!$B$2:$U$4999,3,FALSE)),0)","v":""},null,"","",{"$f":"IFERROR(IF(A381=\"\",\"\",VLOOKUP(A381,[1]Hoja1!$B$2:$U$4999,10,FALSE)),0)","v":""},{"$f":"IFERROR(IF(Q381=\"\",\"\",VLOOKUP(Q381,[1]Hoja1!$D$2:$AF$4999,29,FALSE)),\"NO EXISTE CUENTA\")","v":""},null,null,""]
["",{"$f":"IFERROR(IF(A382=\"\",\"\",VLOOKUP(A382,[1]Hoja1!$B$2:$U$4999,9,FALSE)),0)","v":""},{"$f":"IFERROR(IF(A382=\"\",\"\",VLOOKUP(A382,[1]Hoja1!$B$2:$U$4999,2,FALSE)),\" --- NO EXISTE TRABAJADOR --- \")","v":""},null,null,null,null,null,"","","",{"$f":"IFERROR(IF(A382=\"\",\"\",VLOOKUP(A382,[1]Hoja1!$B$2:$U$4999,18,FALSE)),0)","v":""},{"$f":"IFERROR(IF(A382=\"\",\"\",VLOOKUP(A382,[1]Hoja1!$B$2:$U$4999,19,FALSE)),0)","v":""},"",null,{"$f":"IFERROR(IF(O382=\"\",\"\",VLOOKUP(O382,JORNADA!$A$19:$B$20,2,FALSE)),\"\")","v":""},{"$f":"IFERROR(IF(A382=\"\",\"\",VLOOKUP(A382,[1]Hoja1!$B$2:$U$4999,3,FALSE)),0)","v":""},null,"","",{"$f":"IFERROR(IF(A382=\"\",\"\",VLOOKUP(A382,[1]Hoja1!$B$2:$U$4999,10,FALSE)),0)","v":""},{"$f":"IFERROR(IF(Q382=\"\",\"\",VLOOKUP(Q382,[1]Hoja1!$D$2:$AF$4999,29,FALSE)),\"NO EXISTE CUENTA\")","v":""},null,null,""]
["",{"$f":"IFERROR(IF(A383=\"\",\"\",VLOOKUP(A383,[1]Hoja1!$B$2:$U$4999,9,FALSE)),0)","v":""},{"$f":"IFERROR(IF(A383=\"\",\"\",VLOOKUP(A383,[1]Hoja1!$B$2:$U$4999,2,FALSE)),\" --- NO EXISTE TRABAJADOR --- \")","v":""},null,null,null,null,null,"","","",{"$f":"IFERROR(IF(A383=\"\",\"\",VLOOKUP(A383,[1]Hoja1!$B$2:$U$4999,18,FALSE)),0)","v":""},{"$f":"IFERROR(IF(A383=\"\",\"\",VLOOKUP(A383,[1]Hoja1!$B$2:$U$4999,19,FALSE)),0)","v":""},"",null,{"$f":"IFERROR(IF(O383=\"\",\"\",VLOOKUP(O383,JORNADA!$A$19:$B$20,2,FALSE)),\"\")","v":""},{"$f":"IFERROR(IF(A383=\"\",\"\",VLOOKUP(A383,[1]Hoja1!$B$2:$U$4999,3,FALSE)),0)","v":""},null,"","",{"$f":"IFERROR(IF(A383=\"\",\"\",VLOOKUP(A383,[1]Hoja1!$B$2:$U$4999,10,FALSE)),0)","v":""},{"$f":"IFERROR(IF(Q383=\"\",\"\",VLOOKUP(Q383,[1]Hoja1!$D$2:$AF$4999,29,FALSE)),\"NO EXISTE CUENTA\")","v":""},null,null,""]
["",{"$f":"IFERROR(IF(A384=\"\",\"\",VLOOKUP(A384,[1]Hoja1!$B$2:$U$4999,9,FALSE)),0)","v":""},{"$f":"IFERROR(IF(A384=\"\",\"\",VLOOKUP(A384,[1]Hoja1!$B$2:$U$4999,2,FALSE)),\" --- NO EXISTE TRABAJADOR --- \")","v":""},null,null,null,null,null,"","","",{"$f":"IFERROR(IF(A384=\"\",\"\",VLOOKUP(A384,[1]Hoja1!$B$2:$U$4999,18,FALSE)),0)","v":""},{"$f":"IFERROR(IF(A384=\"\",\"\",VLOOKUP(A384,[1]Hoja1!$B$2:$U$4999,19,FALSE)),0)","v":""},"",null,{"$f":"IFERROR(IF(O384=\"\",\"\",VLOOKUP(O384,JORNADA!$A$19:$B$20,2,FALSE)),\"\")","v":""},{"$f":"IFERROR(IF(A384=\"\",\"\",VLOOKUP(A384,[1]Hoja1!$B$2:$U$4999,3,FALSE)),0)","v":""},null,"","",{"$f":"IFERROR(IF(A384=\"\",\"\",VLOOKUP(A384,[1]Hoja1!$B$2:$U$4999,10,FALSE)),0)","v":""},{"$f":"IFERROR(IF(Q384=\"\",\"\",VLOOKUP(Q384,[1]Hoja1!$D$2:$AF$4999,29,FALSE)),\"NO EXISTE CUENTA\")","v":""},null,null,""]
["",{"$f":"IFERROR(IF(A385=\"\",\"\",VLOOKUP(A385,[1]Hoja1!$B$2:$U$4999,9,FALSE)),0)","v":""},{"$f":"IFERROR(IF(A385=\"\",\"\",VLOOKUP(A385,[1]Hoja1!$B$2:$U$4999,2,FALSE)),\" --- NO EXISTE TRABAJADOR --- \")","v":""},null,null,null,null,null,"","","",{"$f":"IFERROR(IF(A385=\"\",\"\",VLOOKUP(A385,[1]Hoja1!$B$2:$U$4999,18,FALSE)),0)","v":""},{"$f":"IFERROR(IF(A385=\"\",\"\",VLOOKUP(A385,[1]Hoja1!$B$2:$U$4999,19,FALSE)),0)","v":""},"",null,{"$f":"IFERROR(IF(O385=\"\",\"\",VLOOKUP(O385,JORNADA!$A$19:$B$20,2,FALSE)),\"\")","v":""},{"$f":"IFERROR(IF(A385=\"\",\"\",VLOOKUP(A385,[1]Hoja1!$B$2:$U$4999,3,FALSE)),0)","v":""},null,"","",{"$f":"IFERROR(IF(A385=\"\",\"\",VLOOKUP(A385,[1]Hoja1!$B$2:$U$4999,10,FALSE)),0)","v":""},{"$f":"IFERROR(IF(Q385=\"\",\"\",VLOOKUP(Q385,[1]Hoja1!$D$2:$AF$4999,29,FALSE)),\"NO EXISTE CUENTA\")","v":""},null,null,""]
["",{"$f":"IFERROR(IF(A386=\"\",\"\",VLOOKUP(A386,[1]Hoja1!$B$2:$U$4999,9,FALSE)),0)","v":""},{"$f":"IFERROR(IF(A386=\"\",\"\",VLOOKUP(A386,[1]Hoja1!$B$2:$U$4999,2,FALSE)),\" --- NO EXISTE TRABAJADOR --- \")","v":""},null,null,null,null,null,"","","",{"$f":"IFERROR(IF(A386=\"\",\"\",VLOOKUP(A386,[1]Hoja1!$B$2:$U$4999,18,FALSE)),0)","v":""},{"$f":"IFERROR(IF(A386=\"\",\"\",VLOOKUP(A386,[1]Hoja1!$B$2:$U$4999,19,FALSE)),0)","v":""},"",null,{"$f":"IFERROR(IF(O386=\"\",\"\",VLOOKUP(O386,JORNADA!$A$19:$B$20,2,FALSE)),\"\")","v":""},{"$f":"IFERROR(IF(A386=\"\",\"\",VLOOKUP(A386,[1]Hoja1!$B$2:$U$4999,3,FALSE)),0)","v":""},null,"","",{"$f":"IFERROR(IF(A386=\"\",\"\",VLOOKUP(A386,[1]Hoja1!$B$2:$U$4999,10,FALSE)),0)","v":""},{"$f":"IFERROR(IF(Q386=\"\",\"\",VLOOKUP(Q386,[1]Hoja1!$D$2:$AF$4999,29,FALSE)),\"NO EXISTE CUENTA\")","v":""},null,null,{"$f":"+C386","v":""}]
[{"$f":"+S387","v":""},{"$f":"IFERROR(IF(A387=\"\",\"\",VLOOKUP(A387,[1]Hoja1!$B$2:$U$4999,9,FALSE)),0)","v":""},{"$f":"IFERROR(IF(A387=\"\",\"\",VLOOKUP(A387,[1]Hoja1!$B$2:$U$4999,2,FALSE)),\" --- NO EXISTE TRABAJADOR --- \")","v":""},null,null,null,null,null,{"$f":"IFERROR(IF(G387=\"\",\"\",VLOOKUP(G387,JORNADA,2,FALSE)),0)","v":""},{"$f":"IFERROR(IF(H387=\"\",\"\",VLOOKUP(H387,ACTIVIDAD,2,FALSE)),0)","v":""},{"$f":"CONCATENATE(J387,G387)","v":""},{"$f":"IFERROR(IF(A387=\"\",\"\",VLOOKUP(A387,[1]Hoja1!$B$2:$U$4999,18,FALSE)),0)","v":""},{"$f":"IFERROR(IF(A387=\"\",\"\",VLOOKUP(A387,[1]Hoja1!$B$2:$U$4999,19,FALSE)),0)","v":""},{"$f":"IFERROR(IF(W387=\"\",\"\",VLOOKUP(W387,LICENCIA,2,FALSE)),\"\")","v":""},null,{"$f":"IFERROR(IF(O387=\"\",\"\",VLOOKUP(O387,JORNADA!$A$19:$B$20,2,FALSE)),\"\")","v":""},{"$f":"IFERROR(IF(A387=\"\",\"\",VLOOKUP(A387,[1]Hoja1!$B$2:$U$4999,3,FALSE)),0)","v":""},null,{"$f":"IFERROR(IF(R387=\"\",\"\",VLOOKUP(R387,DNI,2,FALSE)),0)","v":""},{"$f":"IF(D387<>\"\",COUNTA(INDIRECT(\"D2:D\"&ROW()-1)),\"\")","v":""},{"$f":"IFERROR(IF(A387=\"\",\"\",VLOOKUP(A387,[1]Hoja1!$B$2:$U$4999,10,FALSE)),0)","v":""},{"$f":"IFERROR(IF(Q387=\"\",\"\",VLOOKUP(Q387,[1]Hoja1!$D$2:$AF$4999,29,FALSE)),\"NO EXISTE CUENTA\")","v":""},null,null,""]
["",{"$f":"IFERROR(IF(A388=\"\",\"\",VLOOKUP(A388,[1]Hoja1!$B$2:$U$4999,9,FALSE)),0)","v":""},{"$f":"IFERROR(IF(A388=\"\",\"\",VLOOKUP(A388,[1]Hoja1!$B$2:$U$4999,2,FALSE)),\" --- NO EXISTE TRABAJADOR --- \")","v":""},null,null,null,null,null,"","","",{"$f":"IFERROR(IF(A388=\"\",\"\",VLOOKUP(A388,[1]Hoja1!$B$2:$U$4999,18,FALSE)),0)","v":""},{"$f":"IFERROR(IF(A388=\"\",\"\",VLOOKUP(A388,[1]Hoja1!$B$2:$U$4999,19,FALSE)),0)","v":""},"",null,{"$f":"IFERROR(IF(O388=\"\",\"\",VLOOKUP(O388,JORNADA!$A$19:$B$20,2,FALSE)),\"\")","v":""},{"$f":"IFERROR(IF(A388=\"\",\"\",VLOOKUP(A388,[1]Hoja1!$B$2:$U$4999,3,FALSE)),0)","v":""},null,"","",{"$f":"IFERROR(IF(A388=\"\",\"\",VLOOKUP(A388,[1]Hoja1!$B$2:$U$4999,10,FALSE)),0)","v":""},{"$f":"IFERROR(IF(Q388=\"\",\"\",VLOOKUP(Q388,[1]Hoja1!$D$2:$AF$4999,29,FALSE)),\"NO EXISTE CUENTA\")","v":""},null,null,""]
["",{"$f":"IFERROR(IF(A389=\"\",\"\",VLOOKUP(A389,[1]Hoja1!$B$2:$U$4999,9,FALSE)),0)","v":""},{"$f":"IFERROR(IF(A389=\"\",\"\",VLOOKUP(A389,[1]Hoja1!$B$2:$U$4999,2,FALSE)),\" --- NO EXISTE TRABAJADOR --- \")","v":""},null,null,null,null,null,"","","",{"$f":"IFERROR(IF(A389=\"\",\"\",VLOOKUP(A389,[1]Hoja1!$B$2:$U$4999,18,FALSE)),0)","v":""},{"$f":"IFERROR(IF(A389=\"\",\"\",VLOOKUP(A389,[1]Hoja1!$B$2:$U$4999,19,FALSE)),0)","v":""},"",null,{"$f":"IFERROR(IF(O389=\"\",\"\",VLOOKUP(O389,JORNADA!$A$19:$B$20,2,FALSE)),\"\")","v":""},{"$f":"IFERROR(IF(A389=\"\",\"\",VLOOKUP(A389,[1]Hoja1!$B$2:$U$4999,3,FALSE)),0)","v":""},null,"","",{"$f":"IFERROR(IF(A389=\"\",\"\",VLOOKUP(A389,[1]Hoja1!$B$2:$U$4999,10,FALSE)),0)","v":""},{"$f":"IFERROR(IF(Q389=\"\",\"\",VLOOKUP(Q389,[1]Hoja1!$D$2:$AF$4999,29,FALSE)),\"NO EXISTE CUENTA\")","v":""},null,null,""]
["",{"$f":"IFERROR(IF(A390=\"\",\"\",VLOOKUP(A390,[1]Hoja1!$B$2:$U$4999,9,FALSE)),0)","v":""},{"$f":"IFERROR(IF(A390=\"\",\"\",VLOOKUP(A390,[1]Hoja1!$B$2:$U$4999,2,FALSE)),\" --- NO EXISTE TRABAJADOR --- \")","v":""},null,null,null,null,null,"","","",{"$f":"IFERROR(IF(A390=\"\",\"\",VLOOKUP(A390,[1]Hoja1!$B$2:$U$4999,18,FALSE)),0)","v":""},{"$f":"IFERROR(IF(A390=\"\",\"\",VLOOKUP(A390,[1]Hoja1!$B$2:$U$4999,19,FALSE)),0)","v":""},"",null,{"$f":"IFERROR(IF(O390=\"\",\"\",VLOOKUP(O390,JORNADA!$A$19:$B$20,2,FALSE)),\"\")","v":""},{"$f":"IFERROR(IF(A390=\"\",\"\",VLOOKUP(A390,[1]Hoja1!$B$2:$U$4999,3,FALSE)),0)","v":""},null,"","",{"$f":"IFERROR(IF(A390=\"\",\"\",VLOOKUP(A390,[1]Hoja1!$B$2:$U$4999,10,FALSE)),0)","v":""},{"$f":"IFERROR(IF(Q390=\"\",\"\",VLOOKUP(Q390,[1]Hoja1!$D$2:$AF$4999,29,FALSE)),\"NO EXISTE CUENTA\")","v":""},null,null,""]
["",{"$f":"IFERROR(IF(A391=\"\",\"\",VLOOKUP(A391,[1]Hoja1!$B$2:$U$4999,9,FALSE)),0)","v":""},{"$f":"IFERROR(IF(A391=\"\",\"\",VLOOKUP(A391,[1]Hoja1!$B$2:$U$4999,2,FALSE)),\" --- NO EXISTE TRABAJADOR --- \")","v":""},null,null,null,null,null,"","","",{"$f":"IFERROR(IF(A391=\"\",\"\",VLOOKUP(A391,[1]Hoja1!$B$2:$U$4999,18,FALSE)),0)","v":""},{"$f":"IFERROR(IF(A391=\"\",\"\",VLOOKUP(A391,[1]Hoja1!$B$2:$U$4999,19,FALSE)),0)","v":""},"",null,{"$f":"IFERROR(IF(O391=\"\",\"\",VLOOKUP(O391,JORNADA!$A$19:$B$20,2,FALSE)),\"\")","v":""},{"$f":"IFERROR(IF(A391=\"\",\"\",VLOOKUP(A391,[1]Hoja1!$B$2:$U$4999,3,FALSE)),0)","v":""},null,"","",{"$f":"IFERROR(IF(A391=\"\",\"\",VLOOKUP(A391,[1]Hoja1!$B$2:$U$4999,10,FALSE)),0)","v":""},{"$f":"IFERROR(IF(Q391=\"\",\"\",VLOOKUP(Q391,[1]Hoja1!$D$2:$AF$4999,29,FALSE)),\"NO EXISTE CUENTA\")","v":""},null,null,""]
["",{"$f":"IFERROR(IF(A392=\"\",\"\",VLOOKUP(A392,[1]Hoja1!$B$2:$U$4999,9,FALSE)),0)","v":""},{"$f":"IFERROR(IF(A392=\"\",\"\",VLOOKUP(A392,[1]Hoja1!$B$2:$U$4999,2,FALSE)),\" --- NO EXISTE TRABAJADOR --- \")","v":""},null,null,null,null,null,"","","",{"$f":"IFERROR(IF(A392=\"\",\"\",VLOOKUP(A392,[1]Hoja1!$B$2:$U$4999,18,FALSE)),0)","v":""},{"$f":"IFERROR(IF(A392=\"\",\"\",VLOOKUP(A392,[1]Hoja1!$B$2:$U$4999,19,FALSE)),0)","v":""},"",null,{"$f":"IFERROR(IF(O392=\"\",\"\",VLOOKUP(O392,JORNADA!$A$19:$B$20,2,FALSE)),\"\")","v":""},{"$f":"IFERROR(IF(A392=\"\",\"\",VLOOKUP(A392,[1]Hoja1!$B$2:$U$4999,3,FALSE)),0)","v":""},null,"","",{"$f":"IFERROR(IF(A392=\"\",\"\",VLOOKUP(A392,[1]Hoja1!$B$2:$U$4999,10,FALSE)),0)","v":""},{"$f":"IFERROR(IF(Q392=\"\",\"\",VLOOKUP(Q392,[1]Hoja1!$D$2:$AF$4999,29,FALSE)),\"NO EXISTE CUENTA\")","v":""},null,null,""]
["",{"$f":"IFERROR(IF(A393=\"\",\"\",VLOOKUP(A393,[1]Hoja1!$B$2:$U$4999,9,FALSE)),0)","v":""},{"$f":"IFERROR(IF(A393=\"\",\"\",VLOOKUP(A393,[1]Hoja1!$B$2:$U$4999,2,FALSE)),\" --- NO EXISTE TRABAJADOR --- \")","v":""},null,null,null,null,null,"","","",{"$f":"IFERROR(IF(A393=\"\",\"\",VLOOKUP(A393,[1]Hoja1!$B$2:$U$4999,18,FALSE)),0)","v":""},{"$f":"IFERROR(IF(A393=\"\",\"\",VLOOKUP(A393,[1]Hoja1!$B$2:$U$4999,19,FALSE)),0)","v":""},"",null,{"$f":"IFERROR(IF(O393=\"\",\"\",VLOOKUP(O393,JORNADA!$A$19:$B$20,2,FALSE)),\"\")","v":""},{"$f":"IFERROR(IF(A393=\"\",\"\",VLOOKUP(A393,[1]Hoja1!$B$2:$U$4999,3,FALSE)),0)","v":""},null,"","",{"$f":"IFERROR(IF(A393=\"\",\"\",VLOOKUP(A393,[1]Hoja1!$B$2:$U$4999,10,FALSE)),0)","v":""},{"$f":"IFERROR(IF(Q393=\"\",\"\",VLOOKUP(Q393,[1]Hoja1!$D$2:$AF$4999,29,FALSE)),\"NO EXISTE CUENTA\")","v":""},null,null,""]
["",{"$f":"IFERROR(IF(A394=\"\",\"\",VLOOKUP(A394,[1]Hoja1!$B$2:$U$4999,9,FALSE)),0)","v":""},{"$f":"IFERROR(IF(A394=\"\",\"\",VLOOKUP(A394,[1]Hoja1!$B$2:$U$4999,2,FALSE)),\" --- NO EXISTE TRABAJADOR --- \")","v":""},null,null,null,null,null,"","","",{"$f":"IFERROR(IF(A394=\"\",\"\",VLOOKUP(A394,[1]Hoja1!$B$2:$U$4999,18,FALSE)),0)","v":""},{"$f":"IFERROR(IF(A394=\"\",\"\",VLOOKUP(A394,[1]Hoja1!$B$2:$U$4999,19,FALSE)),0)","v":""},"",null,{"$f":"IFERROR(IF(O394=\"\",\"\",VLOOKUP(O394,JORNADA!$A$19:$B$20,2,FALSE)),\"\")","v":""},{"$f":"IFERROR(IF(A394=\"\",\"\",VLOOKUP(A394,[1]Hoja1!$B$2:$U$4999,3,FALSE)),0)","v":""},null,"","",{"$f":"IFERROR(IF(A394=\"\",\"\",VLOOKUP(A394,[1]Hoja1!$B$2:$U$4999,10,FALSE)),0)","v":""},{"$f":"IFERROR(IF(Q394=\"\",\"\",VLOOKUP(Q394,[1]Hoja1!$D$2:$AF$4999,29,FALSE)),\"NO EXISTE CUENTA\")","v":""},null,null,""]
["",{"$f":"IFERROR(IF(A395=\"\",\"\",VLOOKUP(A395,[1]Hoja1!$B$2:$U$4999,9,FALSE)),0)","v":""},{"$f":"IFERROR(IF(A395=\"\",\"\",VLOOKUP(A395,[1]Hoja1!$B$2:$U$4999,2,FALSE)),\" --- NO EXISTE TRABAJADOR --- \")","v":""},null,null,null,null,null,"","","",{"$f":"IFERROR(IF(A395=\"\",\"\",VLOOKUP(A395,[1]Hoja1!$B$2:$U$4999,18,FALSE)),0)","v":""},{"$f":"IFERROR(IF(A395=\"\",\"\",VLOOKUP(A395,[1]Hoja1!$B$2:$U$4999,19,FALSE)),0)","v":""},"",null,{"$f":"IFERROR(IF(O395=\"\",\"\",VLOOKUP(O395,JORNADA!$A$19:$B$20,2,FALSE)),\"\")","v":""},{"$f":"IFERROR(IF(A395=\"\",\"\",VLOOKUP(A395,[1]Hoja1!$B$2:$U$4999,3,FALSE)),0)","v":""},null,"","",{"$f":"IFERROR(IF(A395=\"\",\"\",VLOOKUP(A395,[1]Hoja1!$B$2:$U$4999,10,FALSE)),0)","v":""},{"$f":"IFERROR(IF(Q395=\"\",\"\",VLOOKUP(Q395,[1]Hoja1!$D$2:$AF$4999,29,FALSE)),\"NO EXISTE CUENTA\")","v":""},null,null,""]
["",{"$f":"IFERROR(IF(A396=\"\",\"\",VLOOKUP(A396,[1]Hoja1!$B$2:$U$4999,9,FALSE)),0)","v":""},{"$f":"IFERROR(IF(A396=\"\",\"\",VLOOKUP(A396,[1]Hoja1!$B$2:$U$4999,2,FALSE)),\" --- NO EXISTE TRABAJADOR --- \")","v":""},null,null,null,null,null,"","","",{"$f":"IFERROR(IF(A396=\"\",\"\",VLOOKUP(A396,[1]Hoja1!$B$2:$U$4999,18,FALSE)),0)","v":""},{"$f":"IFERROR(IF(A396=\"\",\"\",VLOOKUP(A396,[1]Hoja1!$B$2:$U$4999,19,FALSE)),0)","v":""},"",null,{"$f":"IFERROR(IF(O396=\"\",\"\",VLOOKUP(O396,JORNADA!$A$19:$B$20,2,FALSE)),\"\")","v":""},{"$f":"IFERROR(IF(A396=\"\",\"\",VLOOKUP(A396,[1]Hoja1!$B$2:$U$4999,3,FALSE)),0)","v":""},null,"","",{"$f":"IFERROR(IF(A396=\"\",\"\",VLOOKUP(A396,[1]Hoja1!$B$2:$U$4999,10,FALSE)),0)","v":""},{"$f":"IFERROR(IF(Q396=\"\",\"\",VLOOKUP(Q396,[1]Hoja1!$D$2:$AF$4999,29,FALSE)),\"NO EXISTE CUENTA\")","v":""},null,null,""]
["",{"$f":"IFERROR(IF(A397=\"\",\"\",VLOOKUP(A397,[1]Hoja1!$B$2:$U$4999,9,FALSE)),0)","v":""},{"$f":"IFERROR(IF(A397=\"\",\"\",VLOOKUP(A397,[1]Hoja1!$B$2:$U$4999,2,FALSE)),\" --- NO EXISTE TRABAJADOR --- \")","v":""},null,null,null,null,null,"","","",{"$f":"IFERROR(IF(A397=\"\",\"\",VLOOKUP(A397,[1]Hoja1!$B$2:$U$4999,18,FALSE)),0)","v":""},{"$f":"IFERROR(IF(A397=\"\",\"\",VLOOKUP(A397,[1]Hoja1!$B$2:$U$4999,19,FALSE)),0)","v":""},"",null,{"$f":"IFERROR(IF(O397=\"\",\"\",VLOOKUP(O397,JORNADA!$A$19:$B$20,2,FALSE)),\"\")","v":""},{"$f":"IFERROR(IF(A397=\"\",\"\",VLOOKUP(A397,[1]Hoja1!$B$2:$U$4999,3,FALSE)),0)","v":""},null,"","",{"$f":"IFERROR(IF(A397=\"\",\"\",VLOOKUP(A397,[1]Hoja1!$B$2:$U$4999,10,FALSE)),0)","v":""},{"$f":"IFERROR(IF(Q397=\"\",\"\",VLOOKUP(Q397,[1]Hoja1!$D$2:$AF$4999,29,FALSE)),\"NO EXISTE CUENTA\")","v":""},null,null,""]
["",{"$f":"IFERROR(IF(A398=\"\",\"\",VLOOKUP(A398,[1]Hoja1!$B$2:$U$4999,9,FALSE)),0)","v":""},{"$f":"IFERROR(IF(A398=\"\",\"\",VLOOKUP(A398,[1]Hoja1!$B$2:$U$4999,2,FALSE)),\" --- NO EXISTE TRABAJADOR --- \")","v":""},null,null,null,null,null,"","","",{"$f":"IFERROR(IF(A398=\"\",\"\",VLOOKUP(A398,[1]Hoja1!$B$2:$U$4999,18,FALSE)),0)","v":""},{"$f":"IFERROR(IF(A398=\"\",\"\",VLOOKUP(A398,[1]Hoja1!$B$2:$U$4999,19,FALSE)),0)","v":""},"",null,{"$f":"IFERROR(IF(O398=\"\",\"\",VLOOKUP(O398,JORNADA!$A$19:$B$20,2,FALSE)),\"\")","v":""},{"$f":"IFERROR(IF(A398=\"\",\"\",VLOOKUP(A398,[1]Hoja1!$B$2:$U$4999,3,FALSE)),0)","v":""},null,"","",{"$f":"IFERROR(IF(A398=\"\",\"\",VLOOKUP(A398,[1]Hoja1!$B$2:$U$4999,10,FALSE)),0)","v":""},{"$f":"IFERROR(IF(Q398=\"\",\"\",VLOOKUP(Q398,[1]Hoja1!$D$2:$AF$4999,29,FALSE)),\"NO EXISTE CUENTA\")","v":""},null,null,""]
["",{"$f":"IFERROR(IF(A399=\"\",\"\",VLOOKUP(A399,[1]Hoja1!$B$2:$U$4999,9,FALSE)),0)","v":""},{"$f":"IFERROR(IF(A399=\"\",\"\",VLOOKUP(A399,[1]Hoja1!$B$2:$U$4999,2,FALSE)),\" --- NO EXISTE TRABAJADOR --- \")","v":""},null,null,null,null,null,"","","",{"$f":"IFERROR(IF(A399=\"\",\"\",VLOOKUP(A399,[1]Hoja1!$B$2:$U$4999,18,FALSE)),0)","v":""},{"$f":"IFERROR(IF(A399=\"\",\"\",VLOOKUP(A399,[1]Hoja1!$B$2:$U$4999,19,FALSE)),0)","v":""},"",null,{"$f":"IFERROR(IF(O399=\"\",\"\",VLOOKUP(O399,JORNADA!$A$19:$B$20,2,FALSE)),\"\")","v":""},{"$f":"IFERROR(IF(A399=\"\",\"\",VLOOKUP(A399,[1]Hoja1!$B$2:$U$4999,3,FALSE)),0)","v":""},null,"","",{"$f":"IFERROR(IF(A399=\"\",\"\",VLOOKUP(A399,[1]Hoja1!$B$2:$U$4999,10,FALSE)),0)","v":""},{"$f":"IFERROR(IF(Q399=\"\",\"\",VLOOKUP(Q399,[1]Hoja1!$D$2:$AF$4999,29,FALSE)),\"NO EXISTE CUENTA\")","v":""},null,null,""]
["",{"$f":"IFERROR(IF(A400=\"\",\"\",VLOOKUP(A400,[1]Hoja1!$B$2:$U$4999,9,FALSE)),0)","v":""},{"$f":"IFERROR(IF(A400=\"\",\"\",VLOOKUP(A400,[1]Hoja1!$B$2:$U$4999,2,FALSE)),\" --- NO EXISTE TRABAJADOR --- \")","v":""},null,null,null,null,null,"","","",{"$f":"IFERROR(IF(A400=\"\",\"\",VLOOKUP(A400,[1]Hoja1!$B$2:$U$4999,18,FALSE)),0)","v":""},{"$f":"IFERROR(IF(A400=\"\",\"\",VLOOKUP(A400,[1]Hoja1!$B$2:$U$4999,19,FALSE)),0)","v":""},"",null,{"$f":"IFERROR(IF(O400=\"\",\"\",VLOOKUP(O400,JORNADA!$A$19:$B$20,2,FALSE)),\"\")","v":""},{"$f":"IFERROR(IF(A400=\"\",\"\",VLOOKUP(A400,[1]Hoja1!$B$2:$U$4999,3,FALSE)),0)","v":""},null,"","",{"$f":"IFERROR(IF(A400=\"\",\"\",VLOOKUP(A400,[1]Hoja1!$B$2:$U$4999,10,FALSE)),0)","v":""},{"$f":"IFERROR(IF(Q400=\"\",\"\",VLOOKUP(Q400,[1]Hoja1!$D$2:$AF$4999,29,FALSE)),\"NO EXISTE CUENTA\")","v":""},null,null,""]
["",{"$f":"IFERROR(IF(A401=\"\",\"\",VLOOKUP(A401,[1]Hoja1!$B$2:$U$4999,9,FALSE)),0)","v":""},{"$f":"IFERROR(IF(A401=\"\",\"\",VLOOKUP(A401,[1]Hoja1!$B$2:$U$4999,2,FALSE)),\" --- NO EXISTE TRABAJADOR --- \")","v":""},null,null,null,null,null,"","","",{"$f":"IFERROR(IF(A401=\"\",\"\",VLOOKUP(A401,[1]Hoja1!$B$2:$U$4999,18,FALSE)),0)","v":""},{"$f":"IFERROR(IF(A401=\"\",\"\",VLOOKUP(A401,[1]Hoja1!$B$2:$U$4999,19,FALSE)),0)","v":""},"",null,{"$f":"IFERROR(IF(O401=\"\",\"\",VLOOKUP(O401,JORNADA!$A$19:$B$20,2,FALSE)),\"\")","v":""},{"$f":"IFERROR(IF(A401=\"\",\"\",VLOOKUP(A401,[1]Hoja1!$B$2:$U$4999,3,FALSE)),0)","v":""},null,"","",{"$f":"IFERROR(IF(A401=\"\",\"\",VLOOKUP(A401,[1]Hoja1!$B$2:$U$4999,10,FALSE)),0)","v":""},{"$f":"IFERROR(IF(Q401=\"\",\"\",VLOOKUP(Q401,[1]Hoja1!$D$2:$AF$4999,29,FALSE)),\"NO EXISTE CUENTA\")","v":""},null,null,""]
["",{"$f":"IFERROR(IF(A402=\"\",\"\",VLOOKUP(A402,[1]Hoja1!$B$2:$U$4999,9,FALSE)),0)","v":""},{"$f":"IFERROR(IF(A402=\"\",\"\",VLOOKUP(A402,[1]Hoja1!$B$2:$U$4999,2,FALSE)),\" --- NO EXISTE TRABAJADOR --- \")","v":""},null,null,null,null,null,"","","",{"$f":"IFERROR(IF(A402=\"\",\"\",VLOOKUP(A402,[1]Hoja1!$B$2:$U$4999,18,FALSE)),0)","v":""},{"$f":"IFERROR(IF(A402=\"\",\"\",VLOOKUP(A402,[1]Hoja1!$B$2:$U$4999,19,FALSE)),0)","v":""},"",null,{"$f":"IFERROR(IF(O402=\"\",\"\",VLOOKUP(O402,JORNADA!$A$19:$B$20,2,FALSE)),\"\")","v":""},{"$f":"IFERROR(IF(A402=\"\",\"\",VLOOKUP(A402,[1]Hoja1!$B$2:$U$4999,3,FALSE)),0)","v":""},null,"","",{"$f":"IFERROR(IF(A402=\"\",\"\",VLOOKUP(A402,[1]Hoja1!$B$2:$U$4999,10,FALSE)),0)","v":""},{"$f":"IFERROR(IF(Q402=\"\",\"\",VLOOKUP(Q402,[1]Hoja1!$D$2:$AF$4999,29,FALSE)),\"NO EXISTE CUENTA\")","v":""},null,null,""]
["",{"$f":"IFERROR(IF(A403=\"\",\"\",VLOOKUP(A403,[1]Hoja1!$B$2:$U$4999,9,FALSE)),0)","v":""},{"$f":"IFERROR(IF(A403=\"\",\"\",VLOOKUP(A403,[1]Hoja1!$B$2:$U$4999,2,FALSE)),\" --- NO EXISTE TRABAJADOR --- \")","v":""},null,null,null,null,null,"","","",{"$f":"IFERROR(IF(A403=\"\",\"\",VLOOKUP(A403,[1]Hoja1!$B$2:$U$4999,18,FALSE)),0)","v":""},{"$f":"IFERROR(IF(A403=\"\",\"\",VLOOKUP(A403,[1]Hoja1!$B$2:$U$4999,19,FALSE)),0)","v":""},"",null,{"$f":"IFERROR(IF(O403=\"\",\"\",VLOOKUP(O403,JORNADA!$A$19:$B$20,2,FALSE)),\"\")","v":""},{"$f":"IFERROR(IF(A403=\"\",\"\",VLOOKUP(A403,[1]Hoja1!$B$2:$U$4999,3,FALSE)),0)","v":""},null,"","",{"$f":"IFERROR(IF(A403=\"\",\"\",VLOOKUP(A403,[1]Hoja1!$B$2:$U$4999,10,FALSE)),0)","v":""},{"$f":"IFERROR(IF(Q403=\"\",\"\",VLOOKUP(Q403,[1]Hoja1!$D$2:$AF$4999,29,FALSE)),\"NO EXISTE CUENTA\")","v":""},null,null,""]
["",{"$f":"IFERROR(IF(A404=\"\",\"\",VLOOKUP(A404,[1]Hoja1!$B$2:$U$4999,9,FALSE)),0)","v":""},{"$f":"IFERROR(IF(A404=\"\",\"\",VLOOKUP(A404,[1]Hoja1!$B$2:$U$4999,2,FALSE)),\" --- NO EXISTE TRABAJADOR --- \")","v":""},null,null,null,null,null,"","","",{"$f":"IFERROR(IF(A404=\"\",\"\",VLOOKUP(A404,[1]Hoja1!$B$2:$U$4999,18,FALSE)),0)","v":""},{"$f":"IFERROR(IF(A404=\"\",\"\",VLOOKUP(A404,[1]Hoja1!$B$2:$U$4999,19,FALSE)),0)","v":""},"",null,{"$f":"IFERROR(IF(O404=\"\",\"\",VLOOKUP(O404,JORNADA!$A$19:$B$20,2,FALSE)),\"\")","v":""},{"$f":"IFERROR(IF(A404=\"\",\"\",VLOOKUP(A404,[1]Hoja1!$B$2:$U$4999,3,FALSE)),0)","v":""},null,"","",{"$f":"IFERROR(IF(A404=\"\",\"\",VLOOKUP(A404,[1]Hoja1!$B$2:$U$4999,10,FALSE)),0)","v":""},{"$f":"IFERROR(IF(Q404=\"\",\"\",VLOOKUP(Q404,[1]Hoja1!$D$2:$AF$4999,29,FALSE)),\"NO EXISTE CUENTA\")","v":""},null,null,""]
["",{"$f":"IFERROR(IF(A405=\"\",\"\",VLOOKUP(A405,[1]Hoja1!$B$2:$U$4999,9,FALSE)),0)","v":""},{"$f":"IFERROR(IF(A405=\"\",\"\",VLOOKUP(A405,[1]Hoja1!$B$2:$U$4999,2,FALSE)),\" --- NO EXISTE TRABAJADOR --- \")","v":""},null,null,null,null,null,"","","",{"$f":"IFERROR(IF(A405=\"\",\"\",VLOOKUP(A405,[1]Hoja1!$B$2:$U$4999,18,FALSE)),0)","v":""},{"$f":"IFERROR(IF(A405=\"\",\"\",VLOOKUP(A405,[1]Hoja1!$B$2:$U$4999,19,FALSE)),0)","v":""},"",null,{"$f":"IFERROR(IF(O405=\"\",\"\",VLOOKUP(O405,JORNADA!$A$19:$B$20,2,FALSE)),\"\")","v":""},{"$f":"IFERROR(IF(A405=\"\",\"\",VLOOKUP(A405,[1]Hoja1!$B$2:$U$4999,3,FALSE)),0)","v":""},null,"","",{"$f":"IFERROR(IF(A405=\"\",\"\",VLOOKUP(A405,[1]Hoja1!$B$2:$U$4999,10,FALSE)),0)","v":""},{"$f":"IFERROR(IF(Q405=\"\",\"\",VLOOKUP(Q405,[1]Hoja1!$D$2:$AF$4999,29,FALSE)),\"NO EXISTE CUENTA\")","v":""},null,null,""]
["",{"$f":"IFERROR(IF(A406=\"\",\"\",VLOOKUP(A406,[1]Hoja1!$B$2:$U$4999,9,FALSE)),0)","v":""},{"$f":"IFERROR(IF(A406=\"\",\"\",VLOOKUP(A406,[1]Hoja1!$B$2:$U$4999,2,FALSE)),\" --- NO EXISTE TRABAJADOR --- \")","v":""},null,null,null,null,null,"","","",{"$f":"IFERROR(IF(A406=\"\",\"\",VLOOKUP(A406,[1]Hoja1!$B$2:$U$4999,18,FALSE)),0)","v":""},{"$f":"IFERROR(IF(A406=\"\",\"\",VLOOKUP(A406,[1]Hoja1!$B$2:$U$4999,19,FALSE)),0)","v":""},"",null,{"$f":"IFERROR(IF(O406=\"\",\"\",VLOOKUP(O406,JORNADA!$A$19:$B$20,2,FALSE)),\"\")","v":""},{"$f":"IFERROR(IF(A406=\"\",\"\",VLOOKUP(A406,[1]Hoja1!$B$2:$U$4999,3,FALSE)),0)","v":""},null,"","",{"$f":"IFERROR(IF(A406=\"\",\"\",VLOOKUP(A406,[1]Hoja1!$B$2:$U$4999,10,FALSE)),0)","v":""},{"$f":"IFERROR(IF(Q406=\"\",\"\",VLOOKUP(Q406,[1]Hoja1!$D$2:$AF$4999,29,FALSE)),\"NO EXISTE CUENTA\")","v":""},null,null,""]
["",{"$f":"IFERROR(IF(A407=\"\",\"\",VLOOKUP(A407,[1]Hoja1!$B$2:$U$4999,9,FALSE)),0)","v":""},{"$f":"IFERROR(IF(A407=\"\",\"\",VLOOKUP(A407,[1]Hoja1!$B$2:$U$4999,2,FALSE)),\" --- NO EXISTE TRABAJADOR --- \")","v":""},null,null,null,null,null,"","","",{"$f":"IFERROR(IF(A407=\"\",\"\",VLOOKUP(A407,[1]Hoja1!$B$2:$U$4999,18,FALSE)),0)","v":""},{"$f":"IFERROR(IF(A407=\"\",\"\",VLOOKUP(A407,[1]Hoja1!$B$2:$U$4999,19,FALSE)),0)","v":""},"",null,{"$f":"IFERROR(IF(O407=\"\",\"\",VLOOKUP(O407,JORNADA!$A$19:$B$20,2,FALSE)),\"\")","v":""},{"$f":"IFERROR(IF(A407=\"\",\"\",VLOOKUP(A407,[1]Hoja1!$B$2:$U$4999,3,FALSE)),0)","v":""},null,"","",{"$f":"IFERROR(IF(A407=\"\",\"\",VLOOKUP(A407,[1]Hoja1!$B$2:$U$4999,10,FALSE)),0)","v":""},{"$f":"IFERROR(IF(Q407=\"\",\"\",VLOOKUP(Q407,[1]Hoja1!$D$2:$AF$4999,29,FALSE)),\"NO EXISTE CUENTA\")","v":""},null,null,""]
["",{"$f":"IFERROR(IF(A408=\"\",\"\",VLOOKUP(A408,[1]Hoja1!$B$2:$U$4999,9,FALSE)),0)","v":""},{"$f":"IFERROR(IF(A408=\"\",\"\",VLOOKUP(A408,[1]Hoja1!$B$2:$U$4999,2,FALSE)),\" --- NO EXISTE TRABAJADOR --- \")","v":""},null,null,null,null,null,"","","",{"$f":"IFERROR(IF(A408=\"\",\"\",VLOOKUP(A408,[1]Hoja1!$B$2:$U$4999,18,FALSE)),0)","v":""},{"$f":"IFERROR(IF(A408=\"\",\"\",VLOOKUP(A408,[1]Hoja1!$B$2:$U$4999,19,FALSE)),0)","v":""},"",null,{"$f":"IFERROR(IF(O408=\"\",\"\",VLOOKUP(O408,JORNADA!$A$19:$B$20,2,FALSE)),\"\")","v":""},{"$f":"IFERROR(IF(A408=\"\",\"\",VLOOKUP(A408,[1]Hoja1!$B$2:$U$4999,3,FALSE)),0)","v":""},null,"","",{"$f":"IFERROR(IF(A408=\"\",\"\",VLOOKUP(A408,[1]Hoja1!$B$2:$U$4999,10,FALSE)),0)","v":""},{"$f":"IFERROR(IF(Q408=\"\",\"\",VLOOKUP(Q408,[1]Hoja1!$D$2:$AF$4999,29,FALSE)),\"NO EXISTE CUENTA\")","v":""},null,null,""]
["",{"$f":"IFERROR(IF(A409=\"\",\"\",VLOOKUP(A409,[1]Hoja1!$B$2:$U$4999,9,FALSE)),0)","v":""},{"$f":"IFERROR(IF(A409=\"\",\"\",VLOOKUP(A409,[1]Hoja1!$B$2:$U$4999,2,FALSE)),\" --- NO EXISTE TRABAJADOR --- \")","v":""},null,null,null,null,null,"","","",{"$f":"IFERROR(IF(A409=\"\",\"\",VLOOKUP(A409,[1]Hoja1!$B$2:$U$4999,18,FALSE)),0)","v":""},{"$f":"IFERROR(IF(A409=\"\",\"\",VLOOKUP(A409,[1]Hoja1!$B$2:$U$4999,19,FALSE)),0)","v":""},"",null,{"$f":"IFERROR(IF(O409=\"\",\"\",VLOOKUP(O409,JORNADA!$A$19:$B$20,2,FALSE)),\"\")","v":""},{"$f":"IFERROR(IF(A409=\"\",\"\",VLOOKUP(A409,[1]Hoja1!$B$2:$U$4999,3,FALSE)),0)","v":""},null,"","",{"$f":"IFERROR(IF(A409=\"\",\"\",VLOOKUP(A409,[1]Hoja1!$B$2:$U$4999,10,FALSE)),0)","v":""},{"$f":"IFERROR(IF(Q409=\"\",\"\",VLOOKUP(Q409,[1]Hoja1!$D$2:$AF$4999,29,FALSE)),\"NO EXISTE CUENTA\")","v":""},null,null,""]
["",{"$f":"IFERROR(IF(A410=\"\",\"\",VLOOKUP(A410,[1]Hoja1!$B$2:$U$4999,9,FALSE)),0)","v":""},{"$f":"IFERROR(IF(A410=\"\",\"\",VLOOKUP(A410,[1]Hoja1!$B$2:$U$4999,2,FALSE)),\" --- NO EXISTE TRABAJADOR --- \")","v":""},null,null,null,null,null,"","","",{"$f":"IFERROR(IF(A410=\"\",\"\",VLOOKUP(A410,[1]Hoja1!$B$2:$U$4999,18,FALSE)),0)","v":""},{"$f":"IFERROR(IF(A410=\"\",\"\",VLOOKUP(A410,[1]Hoja1!$B$2:$U$4999,19,FALSE)),0)","v":""},"",null,{"$f":"IFERROR(IF(O410=\"\",\"\",VLOOKUP(O410,JORNADA!$A$19:$B$20,2,FALSE)),\"\")","v":""},{"$f":"IFERROR(IF(A410=\"\",\"\",VLOOKUP(A410,[1]Hoja1!$B$2:$U$4999,3,FALSE)),0)","v":""},null,"","",{"$f":"IFERROR(IF(A410=\"\",\"\",VLOOKUP(A410,[1]Hoja1!$B$2:$U$4999,10,FALSE)),0)","v":""},{"$f":"IFERROR(IF(Q410=\"\",\"\",VLOOKUP(Q410,[1]Hoja1!$D$2:$AF$4999,29,FALSE)),\"NO EXISTE CUENTA\")","v":""},null,null,""]
["",{"$f":"IFERROR(IF(A411=\"\",\"\",VLOOKUP(A411,[1]Hoja1!$B$2:$U$4999,9,FALSE)),0)","v":""},{"$f":"IFERROR(IF(A411=\"\",\"\",VLOOKUP(A411,[1]Hoja1!$B$2:$U$4999,2,FALSE)),\" --- NO EXISTE TRABAJADOR --- \")","v":""},null,null,null,null,null,"","","",{"$f":"IFERROR(IF(A411=\"\",\"\",VLOOKUP(A411,[1]Hoja1!$B$2:$U$4999,18,FALSE)),0)","v":""},{"$f":"IFERROR(IF(A411=\"\",\"\",VLOOKUP(A411,[1]Hoja1!$B$2:$U$4999,19,FALSE)),0)","v":""},"",null,{"$f":"IFERROR(IF(O411=\"\",\"\",VLOOKUP(O411,JORNADA!$A$19:$B$20,2,FALSE)),\"\")","v":""},{"$f":"IFERROR(IF(A411=\"\",\"\",VLOOKUP(A411,[1]Hoja1!$B$2:$U$4999,3,FALSE)),0)","v":""},null,"","",{"$f":"IFERROR(IF(A411=\"\",\"\",VLOOKUP(A411,[1]Hoja1!$B$2:$U$4999,10,FALSE)),0)","v":""},{"$f":"IFERROR(IF(Q411=\"\",\"\",VLOOKUP(Q411,[1]Hoja1!$D$2:$AF$4999,29,FALSE)),\"NO EXISTE CUENTA\")","v":""},null,null,""]
["",{"$f":"IFERROR(IF(A412=\"\",\"\",VLOOKUP(A412,[1]Hoja1!$B$2:$U$4999,9,FALSE)),0)","v":""},{"$f":"IFERROR(IF(A412=\"\",\"\",VLOOKUP(A412,[1]Hoja1!$B$2:$U$4999,2,FALSE)),\" --- NO EXISTE TRABAJADOR --- \")","v":""},null,null,null,null,null,"","","",{"$f":"IFERROR(IF(A412=\"\",\"\",VLOOKUP(A412,[1]Hoja1!$B$2:$U$4999,18,FALSE)),0)","v":""},{"$f":"IFERROR(IF(A412=\"\",\"\",VLOOKUP(A412,[1]Hoja1!$B$2:$U$4999,19,FALSE)),0)","v":""},"",null,{"$f":"IFERROR(IF(O412=\"\",\"\",VLOOKUP(O412,JORNADA!$A$19:$B$20,2,FALSE)),\"\")","v":""},{"$f":"IFERROR(IF(A412=\"\",\"\",VLOOKUP(A412,[1]Hoja1!$B$2:$U$4999,3,FALSE)),0)","v":""},null,"","",{"$f":"IFERROR(IF(A412=\"\",\"\",VLOOKUP(A412,[1]Hoja1!$B$2:$U$4999,10,FALSE)),0)","v":""},{"$f":"IFERROR(IF(Q412=\"\",\"\",VLOOKUP(Q412,[1]Hoja1!$D$2:$AF$4999,29,FALSE)),\"NO EXISTE CUENTA\")","v":""},null,null,""]
["",{"$f":"IFERROR(IF(A413=\"\",\"\",VLOOKUP(A413,[1]Hoja1!$B$2:$U$4999,9,FALSE)),0)","v":""},{"$f":"IFERROR(IF(A413=\"\",\"\",VLOOKUP(A413,[1]Hoja1!$B$2:$U$4999,2,FALSE)),\" --- NO EXISTE TRABAJADOR --- \")","v":""},null,null,null,null,null,"","","",{"$f":"IFERROR(IF(A413=\"\",\"\",VLOOKUP(A413,[1]Hoja1!$B$2:$U$4999,18,FALSE)),0)","v":""},{"$f":"IFERROR(IF(A413=\"\",\"\",VLOOKUP(A413,[1]Hoja1!$B$2:$U$4999,19,FALSE)),0)","v":""},"",null,{"$f":"IFERROR(IF(O413=\"\",\"\",VLOOKUP(O413,JORNADA!$A$19:$B$20,2,FALSE)),\"\")","v":""},{"$f":"IFERROR(IF(A413=\"\",\"\",VLOOKUP(A413,[1]Hoja1!$B$2:$U$4999,3,FALSE)),0)","v":""},null,"","",{"$f":"IFERROR(IF(A413=\"\",\"\",VLOOKUP(A413,[1]Hoja1!$B$2:$U$4999,10,FALSE)),0)","v":""},{"$f":"IFERROR(IF(Q413=\"\",\"\",VLOOKUP(Q413,[1]Hoja1!$D$2:$AF$4999,29,FALSE)),\"NO EXISTE CUENTA\")","v":""},null,null,""]
["",{"$f":"IFERROR(IF(A414=\"\",\"\",VLOOKUP(A414,[1]Hoja1!$B$2:$U$4999,9,FALSE)),0)","v":""},{"$f":"IFERROR(IF(A414=\"\",\"\",VLOOKUP(A414,[1]Hoja1!$B$2:$U$4999,2,FALSE)),\" --- NO EXISTE TRABAJADOR --- \")","v":""},null,null,null,null,null,"","","",{"$f":"IFERROR(IF(A414=\"\",\"\",VLOOKUP(A414,[1]Hoja1!$B$2:$U$4999,18,FALSE)),0)","v":""},{"$f":"IFERROR(IF(A414=\"\",\"\",VLOOKUP(A414,[1]Hoja1!$B$2:$U$4999,19,FALSE)),0)","v":""},"",null,{"$f":"IFERROR(IF(O414=\"\",\"\",VLOOKUP(O414,JORNADA!$A$19:$B$20,2,FALSE)),\"\")","v":""},{"$f":"IFERROR(IF(A414=\"\",\"\",VLOOKUP(A414,[1]Hoja1!$B$2:$U$4999,3,FALSE)),0)","v":""},null,"","",{"$f":"IFERROR(IF(A414=\"\",\"\",VLOOKUP(A414,[1]Hoja1!$B$2:$U$4999,10,FALSE)),0)","v":""},{"$f":"IFERROR(IF(Q414=\"\",\"\",VLOOKUP(Q414,[1]Hoja1!$D$2:$AF$4999,29,FALSE)),\"NO EXISTE CUENTA\")","v":""},null,null,""]
["",{"$f":"IFERROR(IF(A415=\"\",\"\",VLOOKUP(A415,[1]Hoja1!$B$2:$U$4999,9,FALSE)),0)","v":""},{"$f":"IFERROR(IF(A415=\"\",\"\",VLOOKUP(A415,[1]Hoja1!$B$2:$U$4999,2,FALSE)),\" --- NO EXISTE TRABAJADOR --- \")","v":""},null,null,null,null,null,"","","",{"$f":"IFERROR(IF(A415=\"\",\"\",VLOOKUP(A415,[1]Hoja1!$B$2:$U$4999,18,FALSE)),0)","v":""},{"$f":"IFERROR(IF(A415=\"\",\"\",VLOOKUP(A415,[1]Hoja1!$B$2:$U$4999,19,FALSE)),0)","v":""},"",null,{"$f":"IFERROR(IF(O415=\"\",\"\",VLOOKUP(O415,JORNADA!$A$19:$B$20,2,FALSE)),\"\")","v":""},{"$f":"IFERROR(IF(A415=\"\",\"\",VLOOKUP(A415,[1]Hoja1!$B$2:$U$4999,3,FALSE)),0)","v":""},null,"","",{"$f":"IFERROR(IF(A415=\"\",\"\",VLOOKUP(A415,[1]Hoja1!$B$2:$U$4999,10,FALSE)),0)","v":""},{"$f":"IFERROR(IF(Q415=\"\",\"\",VLOOKUP(Q415,[1]Hoja1!$D$2:$AF$4999,29,FALSE)),\"NO EXISTE CUENTA\")","v":""},null,null,""]
["",{"$f":"IFERROR(IF(A416=\"\",\"\",VLOOKUP(A416,[1]Hoja1!$B$2:$U$4999,9,FALSE)),0)","v":""},{"$f":"IFERROR(IF(A416=\"\",\"\",VLOOKUP(A416,[1]Hoja1!$B$2:$U$4999,2,FALSE)),\" --- NO EXISTE TRABAJADOR --- \")","v":""},null,null,null,null,null,"","","",{"$f":"IFERROR(IF(A416=\"\",\"\",VLOOKUP(A416,[1]Hoja1!$B$2:$U$4999,18,FALSE)),0)","v":""},{"$f":"IFERROR(IF(A416=\"\",\"\",VLOOKUP(A416,[1]Hoja1!$B$2:$U$4999,19,FALSE)),0)","v":""},"",null,{"$f":"IFERROR(IF(O416=\"\",\"\",VLOOKUP(O416,JORNADA!$A$19:$B$20,2,FALSE)),\"\")","v":""},{"$f":"IFERROR(IF(A416=\"\",\"\",VLOOKUP(A416,[1]Hoja1!$B$2:$U$4999,3,FALSE)),0)","v":""},null,"","",{"$f":"IFERROR(IF(A416=\"\",\"\",VLOOKUP(A416,[1]Hoja1!$B$2:$U$4999,10,FALSE)),0)","v":""},{"$f":"IFERROR(IF(Q416=\"\",\"\",VLOOKUP(Q416,[1]Hoja1!$D$2:$AF$4999,29,FALSE)),\"NO EXISTE CUENTA\")","v":""},null,null,""]
["",{"$f":"IFERROR(IF(A417=\"\",\"\",VLOOKUP(A417,[1]Hoja1!$B$2:$U$4999,9,FALSE)),0)","v":""},{"$f":"IFERROR(IF(A417=\"\",\"\",VLOOKUP(A417,[1]Hoja1!$B$2:$U$4999,2,FALSE)),\" --- NO EXISTE TRABAJADOR --- \")","v":""},null,null,null,null,null,"","","",{"$f":"IFERROR(IF(A417=\"\",\"\",VLOOKUP(A417,[1]Hoja1!$B$2:$U$4999,18,FALSE)),0)","v":""},{"$f":"IFERROR(IF(A417=\"\",\"\",VLOOKUP(A417,[1]Hoja1!$B$2:$U$4999,19,FALSE)),0)","v":""},"",null,{"$f":"IFERROR(IF(O417=\"\",\"\",VLOOKUP(O417,JORNADA!$A$19:$B$20,2,FALSE)),\"\")","v":""},{"$f":"IFERROR(IF(A417=\"\",\"\",VLOOKUP(A417,[1]Hoja1!$B$2:$U$4999,3,FALSE)),0)","v":""},null,"","",{"$f":"IFERROR(IF(A417=\"\",\"\",VLOOKUP(A417,[1]Hoja1!$B$2:$U$4999,10,FALSE)),0)","v":""},{"$f":"IFERROR(IF(Q417=\"\",\"\",VLOOKUP(Q417,[1]Hoja1!$D$2:$AF$4999,29,FALSE)),\"NO EXISTE CUENTA\")","v":""},null,null,""]
["",{"$f":"IFERROR(IF(A418=\"\",\"\",VLOOKUP(A418,[1]Hoja1!$B$2:$U$4999,9,FALSE)),0)","v":""},{"$f":"IFERROR(IF(A418=\"\",\"\",VLOOKUP(A418,[1]Hoja1!$B$2:$U$4999,2,FALSE)),\" --- NO EXISTE TRABAJADOR --- \")","v":""},null,null,null,null,null,"","","",{"$f":"IFERROR(IF(A418=\"\",\"\",VLOOKUP(A418,[1]Hoja1!$B$2:$U$4999,18,FALSE)),0)","v":""},{"$f":"IFERROR(IF(A418=\"\",\"\",VLOOKUP(A418,[1]Hoja1!$B$2:$U$4999,19,FALSE)),0)","v":""},"",null,{"$f":"IFERROR(IF(O418=\"\",\"\",VLOOKUP(O418,JORNADA!$A$19:$B$20,2,FALSE)),\"\")","v":""},{"$f":"IFERROR(IF(A418=\"\",\"\",VLOOKUP(A418,[1]Hoja1!$B$2:$U$4999,3,FALSE)),0)","v":""},null,"","",{"$f":"IFERROR(IF(A418=\"\",\"\",VLOOKUP(A418,[1]Hoja1!$B$2:$U$4999,10,FALSE)),0)","v":""},{"$f":"IFERROR(IF(Q418=\"\",\"\",VLOOKUP(Q418,[1]Hoja1!$D$2:$AF$4999,29,FALSE)),\"NO EXISTE CUENTA\")","v":""},null,null,""]
["",{"$f":"IFERROR(IF(A419=\"\",\"\",VLOOKUP(A419,[1]Hoja1!$B$2:$U$4999,9,FALSE)),0)","v":""},{"$f":"IFERROR(IF(A419=\"\",\"\",VLOOKUP(A419,[1]Hoja1!$B$2:$U$4999,2,FALSE)),\" --- NO EXISTE TRABAJADOR --- \")","v":""},null,null,null,null,null,"","","",{"$f":"IFERROR(IF(A419=\"\",\"\",VLOOKUP(A419,[1]Hoja1!$B$2:$U$4999,18,FALSE)),0)","v":""},{"$f":"IFERROR(IF(A419=\"\",\"\",VLOOKUP(A419,[1]Hoja1!$B$2:$U$4999,19,FALSE)),0)","v":""},"",null,{"$f":"IFERROR(IF(O419=\"\",\"\",VLOOKUP(O419,JORNADA!$A$19:$B$20,2,FALSE)),\"\")","v":""},{"$f":"IFERROR(IF(A419=\"\",\"\",VLOOKUP(A419,[1]Hoja1!$B$2:$U$4999,3,FALSE)),0)","v":""},null,"","",{"$f":"IFERROR(IF(A419=\"\",\"\",VLOOKUP(A419,[1]Hoja1!$B$2:$U$4999,10,FALSE)),0)","v":""},{"$f":"IFERROR(IF(Q419=\"\",\"\",VLOOKUP(Q419,[1]Hoja1!$D$2:$AF$4999,29,FALSE)),\"NO EXISTE CUENTA\")","v":""},null,null,""]
["",{"$f":"IFERROR(IF(A420=\"\",\"\",VLOOKUP(A420,[1]Hoja1!$B$2:$U$4999,9,FALSE)),0)","v":""},{"$f":"IFERROR(IF(A420=\"\",\"\",VLOOKUP(A420,[1]Hoja1!$B$2:$U$4999,2,FALSE)),\" --- NO EXISTE TRABAJADOR --- \")","v":""},null,null,null,null,null,"","","",{"$f":"IFERROR(IF(A420=\"\",\"\",VLOOKUP(A420,[1]Hoja1!$B$2:$U$4999,18,FALSE)),0)","v":""},{"$f":"IFERROR(IF(A420=\"\",\"\",VLOOKUP(A420,[1]Hoja1!$B$2:$U$4999,19,FALSE)),0)","v":""},"",null,{"$f":"IFERROR(IF(O420=\"\",\"\",VLOOKUP(O420,JORNADA!$A$19:$B$20,2,FALSE)),\"\")","v":""},{"$f":"IFERROR(IF(A420=\"\",\"\",VLOOKUP(A420,[1]Hoja1!$B$2:$U$4999,3,FALSE)),0)","v":""},null,"","",{"$f":"IFERROR(IF(A420=\"\",\"\",VLOOKUP(A420,[1]Hoja1!$B$2:$U$4999,10,FALSE)),0)","v":""},{"$f":"IFERROR(IF(Q420=\"\",\"\",VLOOKUP(Q420,[1]Hoja1!$D$2:$AF$4999,29,FALSE)),\"NO EXISTE CUENTA\")","v":""},null,null,""]
["",{"$f":"IFERROR(IF(A421=\"\",\"\",VLOOKUP(A421,[1]Hoja1!$B$2:$U$4999,9,FALSE)),0)","v":""},{"$f":"IFERROR(IF(A421=\"\",\"\",VLOOKUP(A421,[1]Hoja1!$B$2:$U$4999,2,FALSE)),\" --- NO EXISTE TRABAJADOR --- \")","v":""},null,null,null,null,null,"","","",{"$f":"IFERROR(IF(A421=\"\",\"\",VLOOKUP(A421,[1]Hoja1!$B$2:$U$4999,18,FALSE)),0)","v":""},{"$f":"IFERROR(IF(A421=\"\",\"\",VLOOKUP(A421,[1]Hoja1!$B$2:$U$4999,19,FALSE)),0)","v":""},"",null,{"$f":"IFERROR(IF(O421=\"\",\"\",VLOOKUP(O421,JORNADA!$A$19:$B$20,2,FALSE)),\"\")","v":""},{"$f":"IFERROR(IF(A421=\"\",\"\",VLOOKUP(A421,[1]Hoja1!$B$2:$U$4999,3,FALSE)),0)","v":""},null,"","",{"$f":"IFERROR(IF(A421=\"\",\"\",VLOOKUP(A421,[1]Hoja1!$B$2:$U$4999,10,FALSE)),0)","v":""},{"$f":"IFERROR(IF(Q421=\"\",\"\",VLOOKUP(Q421,[1]Hoja1!$D$2:$AF$4999,29,FALSE)),\"NO EXISTE CUENTA\")","v":""},null,null,""]
["",{"$f":"IFERROR(IF(A422=\"\",\"\",VLOOKUP(A422,[1]Hoja1!$B$2:$U$4999,9,FALSE)),0)","v":""},{"$f":"IFERROR(IF(A422=\"\",\"\",VLOOKUP(A422,[1]Hoja1!$B$2:$U$4999,2,FALSE)),\" --- NO EXISTE TRABAJADOR --- \")","v":""},null,null,null,null,null,"","","",{"$f":"IFERROR(IF(A422=\"\",\"\",VLOOKUP(A422,[1]Hoja1!$B$2:$U$4999,18,FALSE)),0)","v":""},{"$f":"IFERROR(IF(A422=\"\",\"\",VLOOKUP(A422,[1]Hoja1!$B$2:$U$4999,19,FALSE)),0)","v":""},"",null,{"$f":"IFERROR(IF(O422=\"\",\"\",VLOOKUP(O422,JORNADA!$A$19:$B$20,2,FALSE)),\"\")","v":""},{"$f":"IFERROR(IF(A422=\"\",\"\",VLOOKUP(A422,[1]Hoja1!$B$2:$U$4999,3,FALSE)),0)","v":""},null,"","",{"$f":"IFERROR(IF(A422=\"\",\"\",VLOOKUP(A422,[1]Hoja1!$B$2:$U$4999,10,FALSE)),0)","v":""},{"$f":"IFERROR(IF(Q422=\"\",\"\",VLOOKUP(Q422,[1]Hoja1!$D$2:$AF$4999,29,FALSE)),\"NO EXISTE CUENTA\")","v":""},null,null,""]
["",{"$f":"IFERROR(IF(A423=\"\",\"\",VLOOKUP(A423,[1]Hoja1!$B$2:$U$4999,9,FALSE)),0)","v":""},{"$f":"IFERROR(IF(A423=\"\",\"\",VLOOKUP(A423,[1]Hoja1!$B$2:$U$4999,2,FALSE)),\" --- NO EXISTE TRABAJADOR --- \")","v":""},null,null,null,null,null,"","","",{"$f":"IFERROR(IF(A423=\"\",\"\",VLOOKUP(A423,[1]Hoja1!$B$2:$U$4999,18,FALSE)),0)","v":""},{"$f":"IFERROR(IF(A423=\"\",\"\",VLOOKUP(A423,[1]Hoja1!$B$2:$U$4999,19,FALSE)),0)","v":""},"",null,{"$f":"IFERROR(IF(O423=\"\",\"\",VLOOKUP(O423,JORNADA!$A$19:$B$20,2,FALSE)),\"\")","v":""},{"$f":"IFERROR(IF(A423=\"\",\"\",VLOOKUP(A423,[1]Hoja1!$B$2:$U$4999,3,FALSE)),0)","v":""},null,"","",{"$f":"IFERROR(IF(A423=\"\",\"\",VLOOKUP(A423,[1]Hoja1!$B$2:$U$4999,10,FALSE)),0)","v":""},{"$f":"IFERROR(IF(Q423=\"\",\"\",VLOOKUP(Q423,[1]Hoja1!$D$2:$AF$4999,29,FALSE)),\"NO EXISTE CUENTA\")","v":""},null,null,""]
["",{"$f":"IFERROR(IF(A424=\"\",\"\",VLOOKUP(A424,[1]Hoja1!$B$2:$U$4999,9,FALSE)),0)","v":""},{"$f":"IFERROR(IF(A424=\"\",\"\",VLOOKUP(A424,[1]Hoja1!$B$2:$U$4999,2,FALSE)),\" --- NO EXISTE TRABAJADOR --- \")","v":""},null,null,null,null,null,"","","",{"$f":"IFERROR(IF(A424=\"\",\"\",VLOOKUP(A424,[1]Hoja1!$B$2:$U$4999,18,FALSE)),0)","v":""},{"$f":"IFERROR(IF(A424=\"\",\"\",VLOOKUP(A424,[1]Hoja1!$B$2:$U$4999,19,FALSE)),0)","v":""},"",null,{"$f":"IFERROR(IF(O424=\"\",\"\",VLOOKUP(O424,JORNADA!$A$19:$B$20,2,FALSE)),\"\")","v":""},{"$f":"IFERROR(IF(A424=\"\",\"\",VLOOKUP(A424,[1]Hoja1!$B$2:$U$4999,3,FALSE)),0)","v":""},null,"","",{"$f":"IFERROR(IF(A424=\"\",\"\",VLOOKUP(A424,[1]Hoja1!$B$2:$U$4999,10,FALSE)),0)","v":""},{"$f":"IFERROR(IF(Q424=\"\",\"\",VLOOKUP(Q424,[1]Hoja1!$D$2:$AF$4999,29,FALSE)),\"NO EXISTE CUENTA\")","v":""},null,null,""]
["",{"$f":"IFERROR(IF(A425=\"\",\"\",VLOOKUP(A425,[1]Hoja1!$B$2:$U$4999,9,FALSE)),0)","v":""},{"$f":"IFERROR(IF(A425=\"\",\"\",VLOOKUP(A425,[1]Hoja1!$B$2:$U$4999,2,FALSE)),\" --- NO EXISTE TRABAJADOR --- \")","v":""},null,null,null,null,null,"","","",{"$f":"IFERROR(IF(A425=\"\",\"\",VLOOKUP(A425,[1]Hoja1!$B$2:$U$4999,18,FALSE)),0)","v":""},{"$f":"IFERROR(IF(A425=\"\",\"\",VLOOKUP(A425,[1]Hoja1!$B$2:$U$4999,19,FALSE)),0)","v":""},"",null,{"$f":"IFERROR(IF(O425=\"\",\"\",VLOOKUP(O425,JORNADA!$A$19:$B$20,2,FALSE)),\"\")","v":""},{"$f":"IFERROR(IF(A425=\"\",\"\",VLOOKUP(A425,[1]Hoja1!$B$2:$U$4999,3,FALSE)),0)","v":""},null,"","",{"$f":"IFERROR(IF(A425=\"\",\"\",VLOOKUP(A425,[1]Hoja1!$B$2:$U$4999,10,FALSE)),0)","v":""},{"$f":"IFERROR(IF(Q425=\"\",\"\",VLOOKUP(Q425,[1]Hoja1!$D$2:$AF$4999,29,FALSE)),\"NO EXISTE CUENTA\")","v":""},null,null,""]
["",{"$f":"IFERROR(IF(A426=\"\",\"\",VLOOKUP(A426,[1]Hoja1!$B$2:$U$4999,9,FALSE)),0)","v":""},{"$f":"IFERROR(IF(A426=\"\",\"\",VLOOKUP(A426,[1]Hoja1!$B$2:$U$4999,2,FALSE)),\" --- NO EXISTE TRABAJADOR --- \")","v":""},null,null,null,null,null,"","","",{"$f":"IFERROR(IF(A426=\"\",\"\",VLOOKUP(A426,[1]Hoja1!$B$2:$U$4999,18,FALSE)),0)","v":""},{"$f":"IFERROR(IF(A426=\"\",\"\",VLOOKUP(A426,[1]Hoja1!$B$2:$U$4999,19,FALSE)),0)","v":""},"",null,{"$f":"IFERROR(IF(O426=\"\",\"\",VLOOKUP(O426,JORNADA!$A$19:$B$20,2,FALSE)),\"\")","v":""},{"$f":"IFERROR(IF(A426=\"\",\"\",VLOOKUP(A426,[1]Hoja1!$B$2:$U$4999,3,FALSE)),0)","v":""},null,"","",{"$f":"IFERROR(IF(A426=\"\",\"\",VLOOKUP(A426,[1]Hoja1!$B$2:$U$4999,10,FALSE)),0)","v":""},{"$f":"IFERROR(IF(Q426=\"\",\"\",VLOOKUP(Q426,[1]Hoja1!$D$2:$AF$4999,29,FALSE)),\"NO EXISTE CUENTA\")","v":""},null,null,""]
["",{"$f":"IFERROR(IF(A427=\"\",\"\",VLOOKUP(A427,[1]Hoja1!$B$2:$U$4999,9,FALSE)),0)","v":""},{"$f":"IFERROR(IF(A427=\"\",\"\",VLOOKUP(A427,[1]Hoja1!$B$2:$U$4999,2,FALSE)),\" --- NO EXISTE TRABAJADOR --- \")","v":""},null,null,null,null,null,"","","",{"$f":"IFERROR(IF(A427=\"\",\"\",VLOOKUP(A427,[1]Hoja1!$B$2:$U$4999,18,FALSE)),0)","v":""},{"$f":"IFERROR(IF(A427=\"\",\"\",VLOOKUP(A427,[1]Hoja1!$B$2:$U$4999,19,FALSE)),0)","v":""},"",null,{"$f":"IFERROR(IF(O427=\"\",\"\",VLOOKUP(O427,JORNADA!$A$19:$B$20,2,FALSE)),\"\")","v":""},{"$f":"IFERROR(IF(A427=\"\",\"\",VLOOKUP(A427,[1]Hoja1!$B$2:$U$4999,3,FALSE)),0)","v":""},null,"","",{"$f":"IFERROR(IF(A427=\"\",\"\",VLOOKUP(A427,[1]Hoja1!$B$2:$U$4999,10,FALSE)),0)","v":""},{"$f":"IFERROR(IF(Q427=\"\",\"\",VLOOKUP(Q427,[1]Hoja1!$D$2:$AF$4999,29,FALSE)),\"NO EXISTE CUENTA\")","v":""},null,null,""]
["",{"$f":"IFERROR(IF(A428=\"\",\"\",VLOOKUP(A428,[1]Hoja1!$B$2:$U$4999,9,FALSE)),0)","v":""},{"$f":"IFERROR(IF(A428=\"\",\"\",VLOOKUP(A428,[1]Hoja1!$B$2:$U$4999,2,FALSE)),\" --- NO EXISTE TRABAJADOR --- \")","v":""},null,null,null,null,null,"","","",{"$f":"IFERROR(IF(A428=\"\",\"\",VLOOKUP(A428,[1]Hoja1!$B$2:$U$4999,18,FALSE)),0)","v":""},{"$f":"IFERROR(IF(A428=\"\",\"\",VLOOKUP(A428,[1]Hoja1!$B$2:$U$4999,19,FALSE)),0)","v":""},"",null,{"$f":"IFERROR(IF(O428=\"\",\"\",VLOOKUP(O428,JORNADA!$A$19:$B$20,2,FALSE)),\"\")","v":""},{"$f":"IFERROR(IF(A428=\"\",\"\",VLOOKUP(A428,[1]Hoja1!$B$2:$U$4999,3,FALSE)),0)","v":""},null,"","",{"$f":"IFERROR(IF(A428=\"\",\"\",VLOOKUP(A428,[1]Hoja1!$B$2:$U$4999,10,FALSE)),0)","v":""},{"$f":"IFERROR(IF(Q428=\"\",\"\",VLOOKUP(Q428,[1]Hoja1!$D$2:$AF$4999,29,FALSE)),\"NO EXISTE CUENTA\")","v":""},null,null,""]
["",{"$f":"IFERROR(IF(A429=\"\",\"\",VLOOKUP(A429,[1]Hoja1!$B$2:$U$4999,9,FALSE)),0)","v":""},{"$f":"IFERROR(IF(A429=\"\",\"\",VLOOKUP(A429,[1]Hoja1!$B$2:$U$4999,2,FALSE)),\" --- NO EXISTE TRABAJADOR --- \")","v":""},null,null,null,null,null,"","","",{"$f":"IFERROR(IF(A429=\"\",\"\",VLOOKUP(A429,[1]Hoja1!$B$2:$U$4999,18,FALSE)),0)","v":""},{"$f":"IFERROR(IF(A429=\"\",\"\",VLOOKUP(A429,[1]Hoja1!$B$2:$U$4999,19,FALSE)),0)","v":""},"",null,{"$f":"IFERROR(IF(O429=\"\",\"\",VLOOKUP(O429,JORNADA!$A$19:$B$20,2,FALSE)),\"\")","v":""},{"$f":"IFERROR(IF(A429=\"\",\"\",VLOOKUP(A429,[1]Hoja1!$B$2:$U$4999,3,FALSE)),0)","v":""},null,"","",{"$f":"IFERROR(IF(A429=\"\",\"\",VLOOKUP(A429,[1]Hoja1!$B$2:$U$4999,10,FALSE)),0)","v":""},{"$f":"IFERROR(IF(Q429=\"\",\"\",VLOOKUP(Q429,[1]Hoja1!$D$2:$AF$4999,29,FALSE)),\"NO EXISTE CUENTA\")","v":""},null,null,""]
["",{"$f":"IFERROR(IF(A430=\"\",\"\",VLOOKUP(A430,[1]Hoja1!$B$2:$U$4999,9,FALSE)),0)","v":""},{"$f":"IFERROR(IF(A430=\"\",\"\",VLOOKUP(A430,[1]Hoja1!$B$2:$U$4999,2,FALSE)),\" --- NO EXISTE TRABAJADOR --- \")","v":""},null,null,null,null,null,"","","",{"$f":"IFERROR(IF(A430=\"\",\"\",VLOOKUP(A430,[1]Hoja1!$B$2:$U$4999,18,FALSE)),0)","v":""},{"$f":"IFERROR(IF(A430=\"\",\"\",VLOOKUP(A430,[1]Hoja1!$B$2:$U$4999,19,FALSE)),0)","v":""},"",null,{"$f":"IFERROR(IF(O430=\"\",\"\",VLOOKUP(O430,JORNADA!$A$19:$B$20,2,FALSE)),\"\")","v":""},{"$f":"IFERROR(IF(A430=\"\",\"\",VLOOKUP(A430,[1]Hoja1!$B$2:$U$4999,3,FALSE)),0)","v":""},null,"","",{"$f":"IFERROR(IF(A430=\"\",\"\",VLOOKUP(A430,[1]Hoja1!$B$2:$U$4999,10,FALSE)),0)","v":""},{"$f":"IFERROR(IF(Q430=\"\",\"\",VLOOKUP(Q430,[1]Hoja1!$D$2:$AF$4999,29,FALSE)),\"NO EXISTE CUENTA\")","v":""},null,null,""]
["",{"$f":"IFERROR(IF(A431=\"\",\"\",VLOOKUP(A431,[1]Hoja1!$B$2:$U$4999,9,FALSE)),0)","v":""},{"$f":"IFERROR(IF(A431=\"\",\"\",VLOOKUP(A431,[1]Hoja1!$B$2:$U$4999,2,FALSE)),\" --- NO EXISTE TRABAJADOR --- \")","v":""},null,null,null,null,null,"","","",{"$f":"IFERROR(IF(A431=\"\",\"\",VLOOKUP(A431,[1]Hoja1!$B$2:$U$4999,18,FALSE)),0)","v":""},{"$f":"IFERROR(IF(A431=\"\",\"\",VLOOKUP(A431,[1]Hoja1!$B$2:$U$4999,19,FALSE)),0)","v":""},"",null,{"$f":"IFERROR(IF(O431=\"\",\"\",VLOOKUP(O431,JORNADA!$A$19:$B$20,2,FALSE)),\"\")","v":""},{"$f":"IFERROR(IF(A431=\"\",\"\",VLOOKUP(A431,[1]Hoja1!$B$2:$U$4999,3,FALSE)),0)","v":""},null,"","",{"$f":"IFERROR(IF(A431=\"\",\"\",VLOOKUP(A431,[1]Hoja1!$B$2:$U$4999,10,FALSE)),0)","v":""},{"$f":"IFERROR(IF(Q431=\"\",\"\",VLOOKUP(Q431,[1]Hoja1!$D$2:$AF$4999,29,FALSE)),\"NO EXISTE CUENTA\")","v":""},null,null,""]
["",{"$f":"IFERROR(IF(A432=\"\",\"\",VLOOKUP(A432,[1]Hoja1!$B$2:$U$4999,9,FALSE)),0)","v":""},{"$f":"IFERROR(IF(A432=\"\",\"\",VLOOKUP(A432,[1]Hoja1!$B$2:$U$4999,2,FALSE)),\" --- NO EXISTE TRABAJADOR --- \")","v":""},null,null,null,null,null,"","","",{"$f":"IFERROR(IF(A432=\"\",\"\",VLOOKUP(A432,[1]Hoja1!$B$2:$U$4999,18,FALSE)),0)","v":""},{"$f":"IFERROR(IF(A432=\"\",\"\",VLOOKUP(A432,[1]Hoja1!$B$2:$U$4999,19,FALSE)),0)","v":""},"",null,{"$f":"IFERROR(IF(O432=\"\",\"\",VLOOKUP(O432,JORNADA!$A$19:$B$20,2,FALSE)),\"\")","v":""},{"$f":"IFERROR(IF(A432=\"\",\"\",VLOOKUP(A432,[1]Hoja1!$B$2:$U$4999,3,FALSE)),0)","v":""},null,"","",{"$f":"IFERROR(IF(A432=\"\",\"\",VLOOKUP(A432,[1]Hoja1!$B$2:$U$4999,10,FALSE)),0)","v":""},{"$f":"IFERROR(IF(Q432=\"\",\"\",VLOOKUP(Q432,[1]Hoja1!$D$2:$AF$4999,29,FALSE)),\"NO EXISTE CUENTA\")","v":""},null,null,""]
["",{"$f":"IFERROR(IF(A433=\"\",\"\",VLOOKUP(A433,[1]Hoja1!$B$2:$U$4999,9,FALSE)),0)","v":""},{"$f":"IFERROR(IF(A433=\"\",\"\",VLOOKUP(A433,[1]Hoja1!$B$2:$U$4999,2,FALSE)),\" --- NO EXISTE TRABAJADOR --- \")","v":""},null,null,null,null,null,"","","",{"$f":"IFERROR(IF(A433=\"\",\"\",VLOOKUP(A433,[1]Hoja1!$B$2:$U$4999,18,FALSE)),0)","v":""},{"$f":"IFERROR(IF(A433=\"\",\"\",VLOOKUP(A433,[1]Hoja1!$B$2:$U$4999,19,FALSE)),0)","v":""},"",null,{"$f":"IFERROR(IF(O433=\"\",\"\",VLOOKUP(O433,JORNADA!$A$19:$B$20,2,FALSE)),\"\")","v":""},{"$f":"IFERROR(IF(A433=\"\",\"\",VLOOKUP(A433,[1]Hoja1!$B$2:$U$4999,3,FALSE)),0)","v":""},null,"","",{"$f":"IFERROR(IF(A433=\"\",\"\",VLOOKUP(A433,[1]Hoja1!$B$2:$U$4999,10,FALSE)),0)","v":""},{"$f":"IFERROR(IF(Q433=\"\",\"\",VLOOKUP(Q433,[1]Hoja1!$D$2:$AF$4999,29,FALSE)),\"NO EXISTE CUENTA\")","v":""},null,null,""]
["",{"$f":"IFERROR(IF(A434=\"\",\"\",VLOOKUP(A434,[1]Hoja1!$B$2:$U$4999,9,FALSE)),0)","v":""},{"$f":"IFERROR(IF(A434=\"\",\"\",VLOOKUP(A434,[1]Hoja1!$B$2:$U$4999,2,FALSE)),\" --- NO EXISTE TRABAJADOR --- \")","v":""},null,null,null,null,null,"","","",{"$f":"IFERROR(IF(A434=\"\",\"\",VLOOKUP(A434,[1]Hoja1!$B$2:$U$4999,18,FALSE)),0)","v":""},{"$f":"IFERROR(IF(A434=\"\",\"\",VLOOKUP(A434,[1]Hoja1!$B$2:$U$4999,19,FALSE)),0)","v":""},"",null,{"$f":"IFERROR(IF(O434=\"\",\"\",VLOOKUP(O434,JORNADA!$A$19:$B$20,2,FALSE)),\"\")","v":""},{"$f":"IFERROR(IF(A434=\"\",\"\",VLOOKUP(A434,[1]Hoja1!$B$2:$U$4999,3,FALSE)),0)","v":""},null,"","",{"$f":"IFERROR(IF(A434=\"\",\"\",VLOOKUP(A434,[1]Hoja1!$B$2:$U$4999,10,FALSE)),0)","v":""},{"$f":"IFERROR(IF(Q434=\"\",\"\",VLOOKUP(Q434,[1]Hoja1!$D$2:$AF$4999,29,FALSE)),\"NO EXISTE CUENTA\")","v":""},null,null,""]
["",{"$f":"IFERROR(IF(A435=\"\",\"\",VLOOKUP(A435,[1]Hoja1!$B$2:$U$4999,9,FALSE)),0)","v":""},{"$f":"IFERROR(IF(A435=\"\",\"\",VLOOKUP(A435,[1]Hoja1!$B$2:$U$4999,2,FALSE)),\" --- NO EXISTE TRABAJADOR --- \")","v":""},null,null,null,null,null,"","","",{"$f":"IFERROR(IF(A435=\"\",\"\",VLOOKUP(A435,[1]Hoja1!$B$2:$U$4999,18,FALSE)),0)","v":""},{"$f":"IFERROR(IF(A435=\"\",\"\",VLOOKUP(A435,[1]Hoja1!$B$2:$U$4999,19,FALSE)),0)","v":""},"",null,{"$f":"IFERROR(IF(O435=\"\",\"\",VLOOKUP(O435,JORNADA!$A$19:$B$20,2,FALSE)),\"\")","v":""},{"$f":"IFERROR(IF(A435=\"\",\"\",VLOOKUP(A435,[1]Hoja1!$B$2:$U$4999,3,FALSE)),0)","v":""},null,"","",{"$f":"IFERROR(IF(A435=\"\",\"\",VLOOKUP(A435,[1]Hoja1!$B$2:$U$4999,10,FALSE)),0)","v":""},{"$f":"IFERROR(IF(Q435=\"\",\"\",VLOOKUP(Q435,[1]Hoja1!$D$2:$AF$4999,29,FALSE)),\"NO EXISTE CUENTA\")","v":""},null,null,""]
["",{"$f":"IFERROR(IF(A436=\"\",\"\",VLOOKUP(A436,[1]Hoja1!$B$2:$U$4999,9,FALSE)),0)","v":""},{"$f":"IFERROR(IF(A436=\"\",\"\",VLOOKUP(A436,[1]Hoja1!$B$2:$U$4999,2,FALSE)),\" --- NO EXISTE TRABAJADOR --- \")","v":""},null,null,null,null,null,"","","",{"$f":"IFERROR(IF(A436=\"\",\"\",VLOOKUP(A436,[1]Hoja1!$B$2:$U$4999,18,FALSE)),0)","v":""},{"$f":"IFERROR(IF(A436=\"\",\"\",VLOOKUP(A436,[1]Hoja1!$B$2:$U$4999,19,FALSE)),0)","v":""},"",null,{"$f":"IFERROR(IF(O436=\"\",\"\",VLOOKUP(O436,JORNADA!$A$19:$B$20,2,FALSE)),\"\")","v":""},{"$f":"IFERROR(IF(A436=\"\",\"\",VLOOKUP(A436,[1]Hoja1!$B$2:$U$4999,3,FALSE)),0)","v":""},null,"","",{"$f":"IFERROR(IF(A436=\"\",\"\",VLOOKUP(A436,[1]Hoja1!$B$2:$U$4999,10,FALSE)),0)","v":""},{"$f":"IFERROR(IF(Q436=\"\",\"\",VLOOKUP(Q436,[1]Hoja1!$D$2:$AF$4999,29,FALSE)),\"NO EXISTE CUENTA\")","v":""},null,null,""]
["",{"$f":"IFERROR(IF(A437=\"\",\"\",VLOOKUP(A437,[1]Hoja1!$B$2:$U$4999,9,FALSE)),0)","v":""},{"$f":"IFERROR(IF(A437=\"\",\"\",VLOOKUP(A437,[1]Hoja1!$B$2:$U$4999,2,FALSE)),\" --- NO EXISTE TRABAJADOR --- \")","v":""},null,null,null,null,null,"","","",{"$f":"IFERROR(IF(A437=\"\",\"\",VLOOKUP(A437,[1]Hoja1!$B$2:$U$4999,18,FALSE)),0)","v":""},{"$f":"IFERROR(IF(A437=\"\",\"\",VLOOKUP(A437,[1]Hoja1!$B$2:$U$4999,19,FALSE)),0)","v":""},"",null,{"$f":"IFERROR(IF(O437=\"\",\"\",VLOOKUP(O437,JORNADA!$A$19:$B$20,2,FALSE)),\"\")","v":""},{"$f":"IFERROR(IF(A437=\"\",\"\",VLOOKUP(A437,[1]Hoja1!$B$2:$U$4999,3,FALSE)),0)","v":""},null,"","",{"$f":"IFERROR(IF(A437=\"\",\"\",VLOOKUP(A437,[1]Hoja1!$B$2:$U$4999,10,FALSE)),0)","v":""},{"$f":"IFERROR(IF(Q437=\"\",\"\",VLOOKUP(Q437,[1]Hoja1!$D$2:$AF$4999,29,FALSE)),\"NO EXISTE CUENTA\")","v":""},null,null,""]
["",{"$f":"IFERROR(IF(A438=\"\",\"\",VLOOKUP(A438,[1]Hoja1!$B$2:$U$4999,9,FALSE)),0)","v":""},{"$f":"IFERROR(IF(A438=\"\",\"\",VLOOKUP(A438,[1]Hoja1!$B$2:$U$4999,2,FALSE)),\" --- NO EXISTE TRABAJADOR --- \")","v":""},null,null,null,null,null,"","","",{"$f":"IFERROR(IF(A438=\"\",\"\",VLOOKUP(A438,[1]Hoja1!$B$2:$U$4999,18,FALSE)),0)","v":""},{"$f":"IFERROR(IF(A438=\"\",\"\",VLOOKUP(A438,[1]Hoja1!$B$2:$U$4999,19,FALSE)),0)","v":""},"",null,{"$f":"IFERROR(IF(O438=\"\",\"\",VLOOKUP(O438,JORNADA!$A$19:$B$20,2,FALSE)),\"\")","v":""},{"$f":"IFERROR(IF(A438=\"\",\"\",VLOOKUP(A438,[1]Hoja1!$B$2:$U$4999,3,FALSE)),0)","v":""},null,"","",{"$f":"IFERROR(IF(A438=\"\",\"\",VLOOKUP(A438,[1]Hoja1!$B$2:$U$4999,10,FALSE)),0)","v":""},{"$f":"IFERROR(IF(Q438=\"\",\"\",VLOOKUP(Q438,[1]Hoja1!$D$2:$AF$4999,29,FALSE)),\"NO EXISTE CUENTA\")","v":""},null,null,""]
["",{"$f":"IFERROR(IF(A439=\"\",\"\",VLOOKUP(A439,[1]Hoja1!$B$2:$U$4999,9,FALSE)),0)","v":""},{"$f":"IFERROR(IF(A439=\"\",\"\",VLOOKUP(A439,[1]Hoja1!$B$2:$U$4999,2,FALSE)),\" --- NO EXISTE TRABAJADOR --- \")","v":""},null,null,null,null,null,"","","",{"$f":"IFERROR(IF(A439=\"\",\"\",VLOOKUP(A439,[1]Hoja1!$B$2:$U$4999,18,FALSE)),0)","v":""},{"$f":"IFERROR(IF(A439=\"\",\"\",VLOOKUP(A439,[1]Hoja1!$B$2:$U$4999,19,FALSE)),0)","v":""},"",null,{"$f":"IFERROR(IF(O439=\"\",\"\",VLOOKUP(O439,JORNADA!$A$19:$B$20,2,FALSE)),\"\")","v":""},{"$f":"IFERROR(IF(A439=\"\",\"\",VLOOKUP(A439,[1]Hoja1!$B$2:$U$4999,3,FALSE)),0)","v":""},null,"","",{"$f":"IFERROR(IF(A439=\"\",\"\",VLOOKUP(A439,[1]Hoja1!$B$2:$U$4999,10,FALSE)),0)","v":""},{"$f":"IFERROR(IF(Q439=\"\",\"\",VLOOKUP(Q439,[1]Hoja1!$D$2:$AF$4999,29,FALSE)),\"NO EXISTE CUENTA\")","v":""},null,null,""]
["",{"$f":"IFERROR(IF(A440=\"\",\"\",VLOOKUP(A440,[1]Hoja1!$B$2:$U$4999,9,FALSE)),0)","v":""},{"$f":"IFERROR(IF(A440=\"\",\"\",VLOOKUP(A440,[1]Hoja1!$B$2:$U$4999,2,FALSE)),\" --- NO EXISTE TRABAJADOR --- \")","v":""},null,null,null,null,null,"","","",{"$f":"IFERROR(IF(A440=\"\",\"\",VLOOKUP(A440,[1]Hoja1!$B$2:$U$4999,18,FALSE)),0)","v":""},{"$f":"IFERROR(IF(A440=\"\",\"\",VLOOKUP(A440,[1]Hoja1!$B$2:$U$4999,19,FALSE)),0)","v":""},"",null,{"$f":"IFERROR(IF(O440=\"\",\"\",VLOOKUP(O440,JORNADA!$A$19:$B$20,2,FALSE)),\"\")","v":""},{"$f":"IFERROR(IF(A440=\"\",\"\",VLOOKUP(A440,[1]Hoja1!$B$2:$U$4999,3,FALSE)),0)","v":""},null,"","",{"$f":"IFERROR(IF(A440=\"\",\"\",VLOOKUP(A440,[1]Hoja1!$B$2:$U$4999,10,FALSE)),0)","v":""},{"$f":"IFERROR(IF(Q440=\"\",\"\",VLOOKUP(Q440,[1]Hoja1!$D$2:$AF$4999,29,FALSE)),\"NO EXISTE CUENTA\")","v":""},null,null,""]
["",{"$f":"IFERROR(IF(A441=\"\",\"\",VLOOKUP(A441,[1]Hoja1!$B$2:$U$4999,9,FALSE)),0)","v":""},{"$f":"IFERROR(IF(A441=\"\",\"\",VLOOKUP(A441,[1]Hoja1!$B$2:$U$4999,2,FALSE)),\" --- NO EXISTE TRABAJADOR --- \")","v":""},null,null,null,null,null,"","","",{"$f":"IFERROR(IF(A441=\"\",\"\",VLOOKUP(A441,[1]Hoja1!$B$2:$U$4999,18,FALSE)),0)","v":""},{"$f":"IFERROR(IF(A441=\"\",\"\",VLOOKUP(A441,[1]Hoja1!$B$2:$U$4999,19,FALSE)),0)","v":""},"",null,{"$f":"IFERROR(IF(O441=\"\",\"\",VLOOKUP(O441,JORNADA!$A$19:$B$20,2,FALSE)),\"\")","v":""},{"$f":"IFERROR(IF(A441=\"\",\"\",VLOOKUP(A441,[1]Hoja1!$B$2:$U$4999,3,FALSE)),0)","v":""},null,"","",{"$f":"IFERROR(IF(A441=\"\",\"\",VLOOKUP(A441,[1]Hoja1!$B$2:$U$4999,10,FALSE)),0)","v":""},{"$f":"IFERROR(IF(Q441=\"\",\"\",VLOOKUP(Q441,[1]Hoja1!$D$2:$AF$4999,29,FALSE)),\"NO EXISTE CUENTA\")","v":""},null,null,""]
["",{"$f":"IFERROR(IF(A442=\"\",\"\",VLOOKUP(A442,[1]Hoja1!$B$2:$U$4999,9,FALSE)),0)","v":""},{"$f":"IFERROR(IF(A442=\"\",\"\",VLOOKUP(A442,[1]Hoja1!$B$2:$U$4999,2,FALSE)),\" --- NO EXISTE TRABAJADOR --- \")","v":""},null,null,null,null,null,"","","",{"$f":"IFERROR(IF(A442=\"\",\"\",VLOOKUP(A442,[1]Hoja1!$B$2:$U$4999,18,FALSE)),0)","v":""},{"$f":"IFERROR(IF(A442=\"\",\"\",VLOOKUP(A442,[1]Hoja1!$B$2:$U$4999,19,FALSE)),0)","v":""},"",null,{"$f":"IFERROR(IF(O442=\"\",\"\",VLOOKUP(O442,JORNADA!$A$19:$B$20,2,FALSE)),\"\")","v":""},{"$f":"IFERROR(IF(A442=\"\",\"\",VLOOKUP(A442,[1]Hoja1!$B$2:$U$4999,3,FALSE)),0)","v":""},null,"","",{"$f":"IFERROR(IF(A442=\"\",\"\",VLOOKUP(A442,[1]Hoja1!$B$2:$U$4999,10,FALSE)),0)","v":""},{"$f":"IFERROR(IF(Q442=\"\",\"\",VLOOKUP(Q442,[1]Hoja1!$D$2:$AF$4999,29,FALSE)),\"NO EXISTE CUENTA\")","v":""},null,null,""]
["",{"$f":"IFERROR(IF(A443=\"\",\"\",VLOOKUP(A443,[1]Hoja1!$B$2:$U$4999,9,FALSE)),0)","v":""},{"$f":"IFERROR(IF(A443=\"\",\"\",VLOOKUP(A443,[1]Hoja1!$B$2:$U$4999,2,FALSE)),\" --- NO EXISTE TRABAJADOR --- \")","v":""},null,null,null,null,null,"","","",{"$f":"IFERROR(IF(A443=\"\",\"\",VLOOKUP(A443,[1]Hoja1!$B$2:$U$4999,18,FALSE)),0)","v":""},{"$f":"IFERROR(IF(A443=\"\",\"\",VLOOKUP(A443,[1]Hoja1!$B$2:$U$4999,19,FALSE)),0)","v":""},"",null,{"$f":"IFERROR(IF(O443=\"\",\"\",VLOOKUP(O443,JORNADA!$A$19:$B$20,2,FALSE)),\"\")","v":""},{"$f":"IFERROR(IF(A443=\"\",\"\",VLOOKUP(A443,[1]Hoja1!$B$2:$U$4999,3,FALSE)),0)","v":""},null,"","",{"$f":"IFERROR(IF(A443=\"\",\"\",VLOOKUP(A443,[1]Hoja1!$B$2:$U$4999,10,FALSE)),0)","v":""},{"$f":"IFERROR(IF(Q443=\"\",\"\",VLOOKUP(Q443,[1]Hoja1!$D$2:$AF$4999,29,FALSE)),\"NO EXISTE CUENTA\")","v":""},null,null,""]
["",{"$f":"IFERROR(IF(A444=\"\",\"\",VLOOKUP(A444,[1]Hoja1!$B$2:$U$4999,9,FALSE)),0)","v":""},{"$f":"IFERROR(IF(A444=\"\",\"\",VLOOKUP(A444,[1]Hoja1!$B$2:$U$4999,2,FALSE)),\" --- NO EXISTE TRABAJADOR --- \")","v":""},null,null,null,null,null,"","","",{"$f":"IFERROR(IF(A444=\"\",\"\",VLOOKUP(A444,[1]Hoja1!$B$2:$U$4999,18,FALSE)),0)","v":""},{"$f":"IFERROR(IF(A444=\"\",\"\",VLOOKUP(A444,[1]Hoja1!$B$2:$U$4999,19,FALSE)),0)","v":""},"",null,{"$f":"IFERROR(IF(O444=\"\",\"\",VLOOKUP(O444,JORNADA!$A$19:$B$20,2,FALSE)),\"\")","v":""},{"$f":"IFERROR(IF(A444=\"\",\"\",VLOOKUP(A444,[1]Hoja1!$B$2:$U$4999,3,FALSE)),0)","v":""},null,"","",{"$f":"IFERROR(IF(A444=\"\",\"\",VLOOKUP(A444,[1]Hoja1!$B$2:$U$4999,10,FALSE)),0)","v":""},{"$f":"IFERROR(IF(Q444=\"\",\"\",VLOOKUP(Q444,[1]Hoja1!$D$2:$AF$4999,29,FALSE)),\"NO EXISTE CUENTA\")","v":""},null,null,""]
["",{"$f":"IFERROR(IF(A445=\"\",\"\",VLOOKUP(A445,[1]Hoja1!$B$2:$U$4999,9,FALSE)),0)","v":""},{"$f":"IFERROR(IF(A445=\"\",\"\",VLOOKUP(A445,[1]Hoja1!$B$2:$U$4999,2,FALSE)),\" --- NO EXISTE TRABAJADOR --- \")","v":""},null,null,null,null,null,"","","",{"$f":"IFERROR(IF(A445=\"\",\"\",VLOOKUP(A445,[1]Hoja1!$B$2:$U$4999,18,FALSE)),0)","v":""},{"$f":"IFERROR(IF(A445=\"\",\"\",VLOOKUP(A445,[1]Hoja1!$B$2:$U$4999,19,FALSE)),0)","v":""},"",null,{"$f":"IFERROR(IF(O445=\"\",\"\",VLOOKUP(O445,JORNADA!$A$19:$B$20,2,FALSE)),\"\")","v":""},{"$f":"IFERROR(IF(A445=\"\",\"\",VLOOKUP(A445,[1]Hoja1!$B$2:$U$4999,3,FALSE)),0)","v":""},null,"","",{"$f":"IFERROR(IF(A445=\"\",\"\",VLOOKUP(A445,[1]Hoja1!$B$2:$U$4999,10,FALSE)),0)","v":""},{"$f":"IFERROR(IF(Q445=\"\",\"\",VLOOKUP(Q445,[1]Hoja1!$D$2:$AF$4999,29,FALSE)),\"NO EXISTE CUENTA\")","v":""},null,null,""]
["",{"$f":"IFERROR(IF(A446=\"\",\"\",VLOOKUP(A446,[1]Hoja1!$B$2:$U$4999,9,FALSE)),0)","v":""},{"$f":"IFERROR(IF(A446=\"\",\"\",VLOOKUP(A446,[1]Hoja1!$B$2:$U$4999,2,FALSE)),\" --- NO EXISTE TRABAJADOR --- \")","v":""},null,null,null,null,null,"","","",{"$f":"IFERROR(IF(A446=\"\",\"\",VLOOKUP(A446,[1]Hoja1!$B$2:$U$4999,18,FALSE)),0)","v":""},{"$f":"IFERROR(IF(A446=\"\",\"\",VLOOKUP(A446,[1]Hoja1!$B$2:$U$4999,19,FALSE)),0)","v":""},"",null,{"$f":"IFERROR(IF(O446=\"\",\"\",VLOOKUP(O446,JORNADA!$A$19:$B$20,2,FALSE)),\"\")","v":""},{"$f":"IFERROR(IF(A446=\"\",\"\",VLOOKUP(A446,[1]Hoja1!$B$2:$U$4999,3,FALSE)),0)","v":""},null,"","",{"$f":"IFERROR(IF(A446=\"\",\"\",VLOOKUP(A446,[1]Hoja1!$B$2:$U$4999,10,FALSE)),0)","v":""},{"$f":"IFERROR(IF(Q446=\"\",\"\",VLOOKUP(Q446,[1]Hoja1!$D$2:$AF$4999,29,FALSE)),\"NO EXISTE CUENTA\")","v":""},null,null,""]
["",{"$f":"IFERROR(IF(A447=\"\",\"\",VLOOKUP(A447,[1]Hoja1!$B$2:$U$4999,9,FALSE)),0)","v":""},{"$f":"IFERROR(IF(A447=\"\",\"\",VLOOKUP(A447,[1]Hoja1!$B$2:$U$4999,2,FALSE)),\" --- NO EXISTE TRABAJADOR --- \")","v":""},null,null,null,null,null,"","","",{"$f":"IFERROR(IF(A447=\"\",\"\",VLOOKUP(A447,[1]Hoja1!$B$2:$U$4999,18,FALSE)),0)","v":""},{"$f":"IFERROR(IF(A447=\"\",\"\",VLOOKUP(A447,[1]Hoja1!$B$2:$U$4999,19,FALSE)),0)","v":""},"",null,{"$f":"IFERROR(IF(O447=\"\",\"\",VLOOKUP(O447,JORNADA!$A$19:$B$20,2,FALSE)),\"\")","v":""},{"$f":"IFERROR(IF(A447=\"\",\"\",VLOOKUP(A447,[1]Hoja1!$B$2:$U$4999,3,FALSE)),0)","v":""},null,"","",{"$f":"IFERROR(IF(A447=\"\",\"\",VLOOKUP(A447,[1]Hoja1!$B$2:$U$4999,10,FALSE)),0)","v":""},{"$f":"IFERROR(IF(Q447=\"\",\"\",VLOOKUP(Q447,[1]Hoja1!$D$2:$AF$4999,29,FALSE)),\"NO EXISTE CUENTA\")","v":""},null,null,""]
["",{"$f":"IFERROR(IF(A448=\"\",\"\",VLOOKUP(A448,[1]Hoja1!$B$2:$U$4999,9,FALSE)),0)","v":""},{"$f":"IFERROR(IF(A448=\"\",\"\",VLOOKUP(A448,[1]Hoja1!$B$2:$U$4999,2,FALSE)),\" --- NO EXISTE TRABAJADOR --- \")","v":""},null,null,null,null,null,"","","",{"$f":"IFERROR(IF(A448=\"\",\"\",VLOOKUP(A448,[1]Hoja1!$B$2:$U$4999,18,FALSE)),0)","v":""},{"$f":"IFERROR(IF(A448=\"\",\"\",VLOOKUP(A448,[1]Hoja1!$B$2:$U$4999,19,FALSE)),0)","v":""},"",null,{"$f":"IFERROR(IF(O448=\"\",\"\",VLOOKUP(O448,JORNADA!$A$19:$B$20,2,FALSE)),\"\")","v":""},{"$f":"IFERROR(IF(A448=\"\",\"\",VLOOKUP(A448,[1]Hoja1!$B$2:$U$4999,3,FALSE)),0)","v":""},null,"","",{"$f":"IFERROR(IF(A448=\"\",\"\",VLOOKUP(A448,[1]Hoja1!$B$2:$U$4999,10,FALSE)),0)","v":""},{"$f":"IFERROR(IF(Q448=\"\",\"\",VLOOKUP(Q448,[1]Hoja1!$D$2:$AF$4999,29,FALSE)),\"NO EXISTE CUENTA\")","v":""},null,null,""]
["",{"$f":"IFERROR(IF(A449=\"\",\"\",VLOOKUP(A449,[1]Hoja1!$B$2:$U$4999,9,FALSE)),0)","v":""},{"$f":"IFERROR(IF(A449=\"\",\"\",VLOOKUP(A449,[1]Hoja1!$B$2:$U$4999,2,FALSE)),\" --- NO EXISTE TRABAJADOR --- \")","v":""},null,null,null,null,null,"","","",{"$f":"IFERROR(IF(A449=\"\",\"\",VLOOKUP(A449,[1]Hoja1!$B$2:$U$4999,18,FALSE)),0)","v":""},{"$f":"IFERROR(IF(A449=\"\",\"\",VLOOKUP(A449,[1]Hoja1!$B$2:$U$4999,19,FALSE)),0)","v":""},"",null,{"$f":"IFERROR(IF(O449=\"\",\"\",VLOOKUP(O449,JORNADA!$A$19:$B$20,2,FALSE)),\"\")","v":""},{"$f":"IFERROR(IF(A449=\"\",\"\",VLOOKUP(A449,[1]Hoja1!$B$2:$U$4999,3,FALSE)),0)","v":""},null,"","",{"$f":"IFERROR(IF(A449=\"\",\"\",VLOOKUP(A449,[1]Hoja1!$B$2:$U$4999,10,FALSE)),0)","v":""},{"$f":"IFERROR(IF(Q449=\"\",\"\",VLOOKUP(Q449,[1]Hoja1!$D$2:$AF$4999,29,FALSE)),\"NO EXISTE CUENTA\")","v":""},null,null,""]
["",{"$f":"IFERROR(IF(A450=\"\",\"\",VLOOKUP(A450,[1]Hoja1!$B$2:$U$4999,9,FALSE)),0)","v":""},{"$f":"IFERROR(IF(A450=\"\",\"\",VLOOKUP(A450,[1]Hoja1!$B$2:$U$4999,2,FALSE)),\" --- NO EXISTE TRABAJADOR --- \")","v":""},null,null,null,null,null,"","","",{"$f":"IFERROR(IF(A450=\"\",\"\",VLOOKUP(A450,[1]Hoja1!$B$2:$U$4999,18,FALSE)),0)","v":""},{"$f":"IFERROR(IF(A450=\"\",\"\",VLOOKUP(A450,[1]Hoja1!$B$2:$U$4999,19,FALSE)),0)","v":""},"",null,{"$f":"IFERROR(IF(O450=\"\",\"\",VLOOKUP(O450,JORNADA!$A$19:$B$20,2,FALSE)),\"\")","v":""},{"$f":"IFERROR(IF(A450=\"\",\"\",VLOOKUP(A450,[1]Hoja1!$B$2:$U$4999,3,FALSE)),0)","v":""},null,"","",{"$f":"IFERROR(IF(A450=\"\",\"\",VLOOKUP(A450,[1]Hoja1!$B$2:$U$4999,10,FALSE)),0)","v":""},{"$f":"IFERROR(IF(Q450=\"\",\"\",VLOOKUP(Q450,[1]Hoja1!$D$2:$AF$4999,29,FALSE)),\"NO EXISTE CUENTA\")","v":""},null,null,{"$f":"+C450","v":""}]
[{"$f":"+S451","v":""},{"$f":"IFERROR(IF(A451=\"\",\"\",VLOOKUP(A451,[1]Hoja1!$B$2:$U$4999,9,FALSE)),0)","v":""},{"$f":"IFERROR(IF(A451=\"\",\"\",VLOOKUP(A451,[1]Hoja1!$B$2:$U$4999,2,FALSE)),\" --- NO EXISTE TRABAJADOR --- \")","v":""},null,null,null,null,null,{"$f":"IFERROR(IF(G451=\"\",\"\",VLOOKUP(G451,JORNADA,2,FALSE)),0)","v":""},{"$f":"IFERROR(IF(H451=\"\",\"\",VLOOKUP(H451,ACTIVIDAD,2,FALSE)),0)","v":""},{"$f":"CONCATENATE(J451,G451)","v":""},{"$f":"IFERROR(IF(A451=\"\",\"\",VLOOKUP(A451,[1]Hoja1!$B$2:$U$4999,18,FALSE)),0)","v":""},{"$f":"IFERROR(IF(A451=\"\",\"\",VLOOKUP(A451,[1]Hoja1!$B$2:$U$4999,19,FALSE)),0)","v":""},{"$f":"IFERROR(IF(W451=\"\",\"\",VLOOKUP(W451,LICENCIA,2,FALSE)),\"\")","v":""},null,{"$f":"IFERROR(IF(O451=\"\",\"\",VLOOKUP(O451,JORNADA!$A$19:$B$20,2,FALSE)),\"\")","v":""},{"$f":"IFERROR(IF(A451=\"\",\"\",VLOOKUP(A451,[1]Hoja1!$B$2:$U$4999,3,FALSE)),0)","v":""},null,{"$f":"IFERROR(IF(R451=\"\",\"\",VLOOKUP(R451,DNI,2,FALSE)),0)","v":""},{"$f":"IF(D451<>\"\",COUNTA(INDIRECT(\"D2:D\"&ROW()-1)),\"\")","v":""},{"$f":"IFERROR(IF(A451=\"\",\"\",VLOOKUP(A451,[1]Hoja1!$B$2:$U$4999,10,FALSE)),0)","v":""},{"$f":"IFERROR(IF(Q451=\"\",\"\",VLOOKUP(Q451,[1]Hoja1!$D$2:$AF$4999,29,FALSE)),\"NO EXISTE CUENTA\")","v":""},null,null,""]
["",{"$f":"IFERROR(IF(A452=\"\",\"\",VLOOKUP(A452,[1]Hoja1!$B$2:$U$4999,9,FALSE)),0)","v":""},{"$f":"IFERROR(IF(A452=\"\",\"\",VLOOKUP(A452,[1]Hoja1!$B$2:$U$4999,2,FALSE)),\" --- NO EXISTE TRABAJADOR --- \")","v":""},null,null,null,null,null,"","","",{"$f":"IFERROR(IF(A452=\"\",\"\",VLOOKUP(A452,[1]Hoja1!$B$2:$U$4999,18,FALSE)),0)","v":""},{"$f":"IFERROR(IF(A452=\"\",\"\",VLOOKUP(A452,[1]Hoja1!$B$2:$U$4999,19,FALSE)),0)","v":""},"",null,{"$f":"IFERROR(IF(O452=\"\",\"\",VLOOKUP(O452,JORNADA!$A$19:$B$20,2,FALSE)),\"\")","v":""},{"$f":"IFERROR(IF(A452=\"\",\"\",VLOOKUP(A452,[1]Hoja1!$B$2:$U$4999,3,FALSE)),0)","v":""},null,"","",{"$f":"IFERROR(IF(A452=\"\",\"\",VLOOKUP(A452,[1]Hoja1!$B$2:$U$4999,10,FALSE)),0)","v":""},{"$f":"IFERROR(IF(Q452=\"\",\"\",VLOOKUP(Q452,[1]Hoja1!$D$2:$AF$4999,29,FALSE)),\"NO EXISTE CUENTA\")","v":""},null,null,""]
["",{"$f":"IFERROR(IF(A453=\"\",\"\",VLOOKUP(A453,[1]Hoja1!$B$2:$U$4999,9,FALSE)),0)","v":""},{"$f":"IFERROR(IF(A453=\"\",\"\",VLOOKUP(A453,[1]Hoja1!$B$2:$U$4999,2,FALSE)),\" --- NO EXISTE TRABAJADOR --- \")","v":""},null,null,null,null,null,"","","",{"$f":"IFERROR(IF(A453=\"\",\"\",VLOOKUP(A453,[1]Hoja1!$B$2:$U$4999,18,FALSE)),0)","v":""},{"$f":"IFERROR(IF(A453=\"\",\"\",VLOOKUP(A453,[1]Hoja1!$B$2:$U$4999,19,FALSE)),0)","v":""},"",null,{"$f":"IFERROR(IF(O453=\"\",\"\",VLOOKUP(O453,JORNADA!$A$19:$B$20,2,FALSE)),\"\")","v":""},{"$f":"IFERROR(IF(A453=\"\",\"\",VLOOKUP(A453,[1]Hoja1!$B$2:$U$4999,3,FALSE)),0)","v":""},null,"","",{"$f":"IFERROR(IF(A453=\"\",\"\",VLOOKUP(A453,[1]Hoja1!$B$2:$U$4999,10,FALSE)),0)","v":""},{"$f":"IFERROR(IF(Q453=\"\",\"\",VLOOKUP(Q453,[1]Hoja1!$D$2:$AF$4999,29,FALSE)),\"NO EXISTE CUENTA\")","v":""},null,null,""]
["",{"$f":"IFERROR(IF(A454=\"\",\"\",VLOOKUP(A454,[1]Hoja1!$B$2:$U$4999,9,FALSE)),0)","v":""},{"$f":"IFERROR(IF(A454=\"\",\"\",VLOOKUP(A454,[1]Hoja1!$B$2:$U$4999,2,FALSE)),\" --- NO EXISTE TRABAJADOR --- \")","v":""},null,null,null,null,null,"","","",{"$f":"IFERROR(IF(A454=\"\",\"\",VLOOKUP(A454,[1]Hoja1!$B$2:$U$4999,18,FALSE)),0)","v":""},{"$f":"IFERROR(IF(A454=\"\",\"\",VLOOKUP(A454,[1]Hoja1!$B$2:$U$4999,19,FALSE)),0)","v":""},"",null,{"$f":"IFERROR(IF(O454=\"\",\"\",VLOOKUP(O454,JORNADA!$A$19:$B$20,2,FALSE)),\"\")","v":""},{"$f":"IFERROR(IF(A454=\"\",\"\",VLOOKUP(A454,[1]Hoja1!$B$2:$U$4999,3,FALSE)),0)","v":""},null,"","",{"$f":"IFERROR(IF(A454=\"\",\"\",VLOOKUP(A454,[1]Hoja1!$B$2:$U$4999,10,FALSE)),0)","v":""},{"$f":"IFERROR(IF(Q454=\"\",\"\",VLOOKUP(Q454,[1]Hoja1!$D$2:$AF$4999,29,FALSE)),\"NO EXISTE CUENTA\")","v":""},null,null,""]
["",{"$f":"IFERROR(IF(A455=\"\",\"\",VLOOKUP(A455,[1]Hoja1!$B$2:$U$4999,9,FALSE)),0)","v":""},{"$f":"IFERROR(IF(A455=\"\",\"\",VLOOKUP(A455,[1]Hoja1!$B$2:$U$4999,2,FALSE)),\" --- NO EXISTE TRABAJADOR --- \")","v":""},null,null,null,null,null,"","","",{"$f":"IFERROR(IF(A455=\"\",\"\",VLOOKUP(A455,[1]Hoja1!$B$2:$U$4999,18,FALSE)),0)","v":""},{"$f":"IFERROR(IF(A455=\"\",\"\",VLOOKUP(A455,[1]Hoja1!$B$2:$U$4999,19,FALSE)),0)","v":""},"",null,{"$f":"IFERROR(IF(O455=\"\",\"\",VLOOKUP(O455,JORNADA!$A$19:$B$20,2,FALSE)),\"\")","v":""},{"$f":"IFERROR(IF(A455=\"\",\"\",VLOOKUP(A455,[1]Hoja1!$B$2:$U$4999,3,FALSE)),0)","v":""},null,"","",{"$f":"IFERROR(IF(A455=\"\",\"\",VLOOKUP(A455,[1]Hoja1!$B$2:$U$4999,10,FALSE)),0)","v":""},{"$f":"IFERROR(IF(Q455=\"\",\"\",VLOOKUP(Q455,[1]Hoja1!$D$2:$AF$4999,29,FALSE)),\"NO EXISTE CUENTA\")","v":""},null,null,""]
["",{"$f":"IFERROR(IF(A456=\"\",\"\",VLOOKUP(A456,[1]Hoja1!$B$2:$U$4999,9,FALSE)),0)","v":""},{"$f":"IFERROR(IF(A456=\"\",\"\",VLOOKUP(A456,[1]Hoja1!$B$2:$U$4999,2,FALSE)),\" --- NO EXISTE TRABAJADOR --- \")","v":""},null,null,null,null,null,"","","",{"$f":"IFERROR(IF(A456=\"\",\"\",VLOOKUP(A456,[1]Hoja1!$B$2:$U$4999,18,FALSE)),0)","v":""},{"$f":"IFERROR(IF(A456=\"\",\"\",VLOOKUP(A456,[1]Hoja1!$B$2:$U$4999,19,FALSE)),0)","v":""},"",null,{"$f":"IFERROR(IF(O456=\"\",\"\",VLOOKUP(O456,JORNADA!$A$19:$B$20,2,FALSE)),\"\")","v":""},{"$f":"IFERROR(IF(A456=\"\",\"\",VLOOKUP(A456,[1]Hoja1!$B$2:$U$4999,3,FALSE)),0)","v":""},null,"","",{"$f":"IFERROR(IF(A456=\"\",\"\",VLOOKUP(A456,[1]Hoja1!$B$2:$U$4999,10,FALSE)),0)","v":""},{"$f":"IFERROR(IF(Q456=\"\",\"\",VLOOKUP(Q456,[1]Hoja1!$D$2:$AF$4999,29,FALSE)),\"NO EXISTE CUENTA\")","v":""},null,null,""]
["",{"$f":"IFERROR(IF(A457=\"\",\"\",VLOOKUP(A457,[1]Hoja1!$B$2:$U$4999,9,FALSE)),0)","v":""},{"$f":"IFERROR(IF(A457=\"\",\"\",VLOOKUP(A457,[1]Hoja1!$B$2:$U$4999,2,FALSE)),\" --- NO EXISTE TRABAJADOR --- \")","v":""},null,null,null,null,null,"","","",{"$f":"IFERROR(IF(A457=\"\",\"\",VLOOKUP(A457,[1]Hoja1!$B$2:$U$4999,18,FALSE)),0)","v":""},{"$f":"IFERROR(IF(A457=\"\",\"\",VLOOKUP(A457,[1]Hoja1!$B$2:$U$4999,19,FALSE)),0)","v":""},"",null,{"$f":"IFERROR(IF(O457=\"\",\"\",VLOOKUP(O457,JORNADA!$A$19:$B$20,2,FALSE)),\"\")","v":""},{"$f":"IFERROR(IF(A457=\"\",\"\",VLOOKUP(A457,[1]Hoja1!$B$2:$U$4999,3,FALSE)),0)","v":""},null,"","",{"$f":"IFERROR(IF(A457=\"\",\"\",VLOOKUP(A457,[1]Hoja1!$B$2:$U$4999,10,FALSE)),0)","v":""},{"$f":"IFERROR(IF(Q457=\"\",\"\",VLOOKUP(Q457,[1]Hoja1!$D$2:$AF$4999,29,FALSE)),\"NO EXISTE CUENTA\")","v":""},null,null,""]
["",{"$f":"IFERROR(IF(A458=\"\",\"\",VLOOKUP(A458,[1]Hoja1!$B$2:$U$4999,9,FALSE)),0)","v":""},{"$f":"IFERROR(IF(A458=\"\",\"\",VLOOKUP(A458,[1]Hoja1!$B$2:$U$4999,2,FALSE)),\" --- NO EXISTE TRABAJADOR --- \")","v":""},null,null,null,null,null,"","","",{"$f":"IFERROR(IF(A458=\"\",\"\",VLOOKUP(A458,[1]Hoja1!$B$2:$U$4999,18,FALSE)),0)","v":""},{"$f":"IFERROR(IF(A458=\"\",\"\",VLOOKUP(A458,[1]Hoja1!$B$2:$U$4999,19,FALSE)),0)","v":""},"",null,{"$f":"IFERROR(IF(O458=\"\",\"\",VLOOKUP(O458,JORNADA!$A$19:$B$20,2,FALSE)),\"\")","v":""},{"$f":"IFERROR(IF(A458=\"\",\"\",VLOOKUP(A458,[1]Hoja1!$B$2:$U$4999,3,FALSE)),0)","v":""},null,"","",{"$f":"IFERROR(IF(A458=\"\",\"\",VLOOKUP(A458,[1]Hoja1!$B$2:$U$4999,10,FALSE)),0)","v":""},{"$f":"IFERROR(IF(Q458=\"\",\"\",VLOOKUP(Q458,[1]Hoja1!$D$2:$AF$4999,29,FALSE)),\"NO EXISTE CUENTA\")","v":""},null,null,""]
["",{"$f":"IFERROR(IF(A459=\"\",\"\",VLOOKUP(A459,[1]Hoja1!$B$2:$U$4999,9,FALSE)),0)","v":""},{"$f":"IFERROR(IF(A459=\"\",\"\",VLOOKUP(A459,[1]Hoja1!$B$2:$U$4999,2,FALSE)),\" --- NO EXISTE TRABAJADOR --- \")","v":""},null,null,null,null,null,"","","",{"$f":"IFERROR(IF(A459=\"\",\"\",VLOOKUP(A459,[1]Hoja1!$B$2:$U$4999,18,FALSE)),0)","v":""},{"$f":"IFERROR(IF(A459=\"\",\"\",VLOOKUP(A459,[1]Hoja1!$B$2:$U$4999,19,FALSE)),0)","v":""},"",null,{"$f":"IFERROR(IF(O459=\"\",\"\",VLOOKUP(O459,JORNADA!$A$19:$B$20,2,FALSE)),\"\")","v":""},{"$f":"IFERROR(IF(A459=\"\",\"\",VLOOKUP(A459,[1]Hoja1!$B$2:$U$4999,3,FALSE)),0)","v":""},null,"","",{"$f":"IFERROR(IF(A459=\"\",\"\",VLOOKUP(A459,[1]Hoja1!$B$2:$U$4999,10,FALSE)),0)","v":""},{"$f":"IFERROR(IF(Q459=\"\",\"\",VLOOKUP(Q459,[1]Hoja1!$D$2:$AF$4999,29,FALSE)),\"NO EXISTE CUENTA\")","v":""},null,null,""]
["",{"$f":"IFERROR(IF(A460=\"\",\"\",VLOOKUP(A460,[1]Hoja1!$B$2:$U$4999,9,FALSE)),0)","v":""},{"$f":"IFERROR(IF(A460=\"\",\"\",VLOOKUP(A460,[1]Hoja1!$B$2:$U$4999,2,FALSE)),\" --- NO EXISTE TRABAJADOR --- \")","v":""},null,null,null,null,null,"","","",{"$f":"IFERROR(IF(A460=\"\",\"\",VLOOKUP(A460,[1]Hoja1!$B$2:$U$4999,18,FALSE)),0)","v":""},{"$f":"IFERROR(IF(A460=\"\",\"\",VLOOKUP(A460,[1]Hoja1!$B$2:$U$4999,19,FALSE)),0)","v":""},"",null,{"$f":"IFERROR(IF(O460=\"\",\"\",VLOOKUP(O460,JORNADA!$A$19:$B$20,2,FALSE)),\"\")","v":""},{"$f":"IFERROR(IF(A460=\"\",\"\",VLOOKUP(A460,[1]Hoja1!$B$2:$U$4999,3,FALSE)),0)","v":""},null,"","",{"$f":"IFERROR(IF(A460=\"\",\"\",VLOOKUP(A460,[1]Hoja1!$B$2:$U$4999,10,FALSE)),0)","v":""},{"$f":"IFERROR(IF(Q460=\"\",\"\",VLOOKUP(Q460,[1]Hoja1!$D$2:$AF$4999,29,FALSE)),\"NO EXISTE CUENTA\")","v":""},null,null,""]
["",{"$f":"IFERROR(IF(A461=\"\",\"\",VLOOKUP(A461,[1]Hoja1!$B$2:$U$4999,9,FALSE)),0)","v":""},{"$f":"IFERROR(IF(A461=\"\",\"\",VLOOKUP(A461,[1]Hoja1!$B$2:$U$4999,2,FALSE)),\" --- NO EXISTE TRABAJADOR --- \")","v":""},null,null,null,null,null,"","","",{"$f":"IFERROR(IF(A461=\"\",\"\",VLOOKUP(A461,[1]Hoja1!$B$2:$U$4999,18,FALSE)),0)","v":""},{"$f":"IFERROR(IF(A461=\"\",\"\",VLOOKUP(A461,[1]Hoja1!$B$2:$U$4999,19,FALSE)),0)","v":""},"",null,{"$f":"IFERROR(IF(O461=\"\",\"\",VLOOKUP(O461,JORNADA!$A$19:$B$20,2,FALSE)),\"\")","v":""},{"$f":"IFERROR(IF(A461=\"\",\"\",VLOOKUP(A461,[1]Hoja1!$B$2:$U$4999,3,FALSE)),0)","v":""},null,"","",{"$f":"IFERROR(IF(A461=\"\",\"\",VLOOKUP(A461,[1]Hoja1!$B$2:$U$4999,10,FALSE)),0)","v":""},{"$f":"IFERROR(IF(Q461=\"\",\"\",VLOOKUP(Q461,[1]Hoja1!$D$2:$AF$4999,29,FALSE)),\"NO EXISTE CUENTA\")","v":""},null,null,""]
["",{"$f":"IFERROR(IF(A462=\"\",\"\",VLOOKUP(A462,[1]Hoja1!$B$2:$U$4999,9,FALSE)),0)","v":""},{"$f":"IFERROR(IF(A462=\"\",\"\",VLOOKUP(A462,[1]Hoja1!$B$2:$U$4999,2,FALSE)),\" --- NO EXISTE TRABAJADOR --- \")","v":""},null,null,null,null,null,"","","",{"$f":"IFERROR(IF(A462=\"\",\"\",VLOOKUP(A462,[1]Hoja1!$B$2:$U$4999,18,FALSE)),0)","v":""},{"$f":"IFERROR(IF(A462=\"\",\"\",VLOOKUP(A462,[1]Hoja1!$B$2:$U$4999,19,FALSE)),0)","v":""},"",null,{"$f":"IFERROR(IF(O462=\"\",\"\",VLOOKUP(O462,JORNADA!$A$19:$B$20,2,FALSE)),\"\")","v":""},{"$f":"IFERROR(IF(A462=\"\",\"\",VLOOKUP(A462,[1]Hoja1!$B$2:$U$4999,3,FALSE)),0)","v":""},null,"","",{"$f":"IFERROR(IF(A462=\"\",\"\",VLOOKUP(A462,[1]Hoja1!$B$2:$U$4999,10,FALSE)),0)","v":""},{"$f":"IFERROR(IF(Q462=\"\",\"\",VLOOKUP(Q462,[1]Hoja1!$D$2:$AF$4999,29,FALSE)),\"NO EXISTE CUENTA\")","v":""},null,null,""]
["",{"$f":"IFERROR(IF(A463=\"\",\"\",VLOOKUP(A463,[1]Hoja1!$B$2:$U$4999,9,FALSE)),0)","v":""},{"$f":"IFERROR(IF(A463=\"\",\"\",VLOOKUP(A463,[1]Hoja1!$B$2:$U$4999,2,FALSE)),\" --- NO EXISTE TRABAJADOR --- \")","v":""},null,null,null,null,null,"","","",{"$f":"IFERROR(IF(A463=\"\",\"\",VLOOKUP(A463,[1]Hoja1!$B$2:$U$4999,18,FALSE)),0)","v":""},{"$f":"IFERROR(IF(A463=\"\",\"\",VLOOKUP(A463,[1]Hoja1!$B$2:$U$4999,19,FALSE)),0)","v":""},"",null,{"$f":"IFERROR(IF(O463=\"\",\"\",VLOOKUP(O463,JORNADA!$A$19:$B$20,2,FALSE)),\"\")","v":""},{"$f":"IFERROR(IF(A463=\"\",\"\",VLOOKUP(A463,[1]Hoja1!$B$2:$U$4999,3,FALSE)),0)","v":""},null,"","",{"$f":"IFERROR(IF(A463=\"\",\"\",VLOOKUP(A463,[1]Hoja1!$B$2:$U$4999,10,FALSE)),0)","v":""},{"$f":"IFERROR(IF(Q463=\"\",\"\",VLOOKUP(Q463,[1]Hoja1!$D$2:$AF$4999,29,FALSE)),\"NO EXISTE CUENTA\")","v":""},null,null,""]
["",{"$f":"IFERROR(IF(A464=\"\",\"\",VLOOKUP(A464,[1]Hoja1!$B$2:$U$4999,9,FALSE)),0)","v":""},{"$f":"IFERROR(IF(A464=\"\",\"\",VLOOKUP(A464,[1]Hoja1!$B$2:$U$4999,2,FALSE)),\" --- NO EXISTE TRABAJADOR --- \")","v":""},null,null,null,null,null,"","","",{"$f":"IFERROR(IF(A464=\"\",\"\",VLOOKUP(A464,[1]Hoja1!$B$2:$U$4999,18,FALSE)),0)","v":""},{"$f":"IFERROR(IF(A464=\"\",\"\",VLOOKUP(A464,[1]Hoja1!$B$2:$U$4999,19,FALSE)),0)","v":""},"",null,{"$f":"IFERROR(IF(O464=\"\",\"\",VLOOKUP(O464,JORNADA!$A$19:$B$20,2,FALSE)),\"\")","v":""},{"$f":"IFERROR(IF(A464=\"\",\"\",VLOOKUP(A464,[1]Hoja1!$B$2:$U$4999,3,FALSE)),0)","v":""},null,"","",{"$f":"IFERROR(IF(A464=\"\",\"\",VLOOKUP(A464,[1]Hoja1!$B$2:$U$4999,10,FALSE)),0)","v":""},{"$f":"IFERROR(IF(Q464=\"\",\"\",VLOOKUP(Q464,[1]Hoja1!$D$2:$AF$4999,29,FALSE)),\"NO EXISTE CUENTA\")","v":""},null,null,""]
["",{"$f":"IFERROR(IF(A465=\"\",\"\",VLOOKUP(A465,[1]Hoja1!$B$2:$U$4999,9,FALSE)),0)","v":""},{"$f":"IFERROR(IF(A465=\"\",\"\",VLOOKUP(A465,[1]Hoja1!$B$2:$U$4999,2,FALSE)),\" --- NO EXISTE TRABAJADOR --- \")","v":""},null,null,null,null,null,"","","",{"$f":"IFERROR(IF(A465=\"\",\"\",VLOOKUP(A465,[1]Hoja1!$B$2:$U$4999,18,FALSE)),0)","v":""},{"$f":"IFERROR(IF(A465=\"\",\"\",VLOOKUP(A465,[1]Hoja1!$B$2:$U$4999,19,FALSE)),0)","v":""},"",null,{"$f":"IFERROR(IF(O465=\"\",\"\",VLOOKUP(O465,JORNADA!$A$19:$B$20,2,FALSE)),\"\")","v":""},{"$f":"IFERROR(IF(A465=\"\",\"\",VLOOKUP(A465,[1]Hoja1!$B$2:$U$4999,3,FALSE)),0)","v":""},null,"","",{"$f":"IFERROR(IF(A465=\"\",\"\",VLOOKUP(A465,[1]Hoja1!$B$2:$U$4999,10,FALSE)),0)","v":""},{"$f":"IFERROR(IF(Q465=\"\",\"\",VLOOKUP(Q465,[1]Hoja1!$D$2:$AF$4999,29,FALSE)),\"NO EXISTE CUENTA\")","v":""},null,null,""]
["",{"$f":"IFERROR(IF(A466=\"\",\"\",VLOOKUP(A466,[1]Hoja1!$B$2:$U$4999,9,FALSE)),0)","v":""},{"$f":"IFERROR(IF(A466=\"\",\"\",VLOOKUP(A466,[1]Hoja1!$B$2:$U$4999,2,FALSE)),\" --- NO EXISTE TRABAJADOR --- \")","v":""},null,null,null,null,null,"","","",{"$f":"IFERROR(IF(A466=\"\",\"\",VLOOKUP(A466,[1]Hoja1!$B$2:$U$4999,18,FALSE)),0)","v":""},{"$f":"IFERROR(IF(A466=\"\",\"\",VLOOKUP(A466,[1]Hoja1!$B$2:$U$4999,19,FALSE)),0)","v":""},"",null,{"$f":"IFERROR(IF(O466=\"\",\"\",VLOOKUP(O466,JORNADA!$A$19:$B$20,2,FALSE)),\"\")","v":""},{"$f":"IFERROR(IF(A466=\"\",\"\",VLOOKUP(A466,[1]Hoja1!$B$2:$U$4999,3,FALSE)),0)","v":""},null,"","",{"$f":"IFERROR(IF(A466=\"\",\"\",VLOOKUP(A466,[1]Hoja1!$B$2:$U$4999,10,FALSE)),0)","v":""},{"$f":"IFERROR(IF(Q466=\"\",\"\",VLOOKUP(Q466,[1]Hoja1!$D$2:$AF$4999,29,FALSE)),\"NO EXISTE CUENTA\")","v":""},null,null,""]
["",{"$f":"IFERROR(IF(A467=\"\",\"\",VLOOKUP(A467,[1]Hoja1!$B$2:$U$4999,9,FALSE)),0)","v":""},{"$f":"IFERROR(IF(A467=\"\",\"\",VLOOKUP(A467,[1]Hoja1!$B$2:$U$4999,2,FALSE)),\" --- NO EXISTE TRABAJADOR --- \")","v":""},null,null,null,null,null,"","","",{"$f":"IFERROR(IF(A467=\"\",\"\",VLOOKUP(A467,[1]Hoja1!$B$2:$U$4999,18,FALSE)),0)","v":""},{"$f":"IFERROR(IF(A467=\"\",\"\",VLOOKUP(A467,[1]Hoja1!$B$2:$U$4999,19,FALSE)),0)","v":""},"",null,{"$f":"IFERROR(IF(O467=\"\",\"\",VLOOKUP(O467,JORNADA!$A$19:$B$20,2,FALSE)),\"\")","v":""},{"$f":"IFERROR(IF(A467=\"\",\"\",VLOOKUP(A467,[1]Hoja1!$B$2:$U$4999,3,FALSE)),0)","v":""},null,"","",{"$f":"IFERROR(IF(A467=\"\",\"\",VLOOKUP(A467,[1]Hoja1!$B$2:$U$4999,10,FALSE)),0)","v":""},{"$f":"IFERROR(IF(Q467=\"\",\"\",VLOOKUP(Q467,[1]Hoja1!$D$2:$AF$4999,29,FALSE)),\"NO EXISTE CUENTA\")","v":""},null,null,""]
["",{"$f":"IFERROR(IF(A468=\"\",\"\",VLOOKUP(A468,[1]Hoja1!$B$2:$U$4999,9,FALSE)),0)","v":""},{"$f":"IFERROR(IF(A468=\"\",\"\",VLOOKUP(A468,[1]Hoja1!$B$2:$U$4999,2,FALSE)),\" --- NO EXISTE TRABAJADOR --- \")","v":""},null,null,null,null,null,"","","",{"$f":"IFERROR(IF(A468=\"\",\"\",VLOOKUP(A468,[1]Hoja1!$B$2:$U$4999,18,FALSE)),0)","v":""},{"$f":"IFERROR(IF(A468=\"\",\"\",VLOOKUP(A468,[1]Hoja1!$B$2:$U$4999,19,FALSE)),0)","v":""},"",null,{"$f":"IFERROR(IF(O468=\"\",\"\",VLOOKUP(O468,JORNADA!$A$19:$B$20,2,FALSE)),\"\")","v":""},{"$f":"IFERROR(IF(A468=\"\",\"\",VLOOKUP(A468,[1]Hoja1!$B$2:$U$4999,3,FALSE)),0)","v":""},null,"","",{"$f":"IFERROR(IF(A468=\"\",\"\",VLOOKUP(A468,[1]Hoja1!$B$2:$U$4999,10,FALSE)),0)","v":""},{"$f":"IFERROR(IF(Q468=\"\",\"\",VLOOKUP(Q468,[1]Hoja1!$D$2:$AF$4999,29,FALSE)),\"NO EXISTE CUENTA\")","v":""},null,null,""]
["",{"$f":"IFERROR(IF(A469=\"\",\"\",VLOOKUP(A469,[1]Hoja1!$B$2:$U$4999,9,FALSE)),0)","v":""},{"$f":"IFERROR(IF(A469=\"\",\"\",VLOOKUP(A469,[1]Hoja1!$B$2:$U$4999,2,FALSE)),\" --- NO EXISTE TRABAJADOR --- \")","v":""},null,null,null,null,null,"","","",{"$f":"IFERROR(IF(A469=\"\",\"\",VLOOKUP(A469,[1]Hoja1!$B$2:$U$4999,18,FALSE)),0)","v":""},{"$f":"IFERROR(IF(A469=\"\",\"\",VLOOKUP(A469,[1]Hoja1!$B$2:$U$4999,19,FALSE)),0)","v":""},"",null,{"$f":"IFERROR(IF(O469=\"\",\"\",VLOOKUP(O469,JORNADA!$A$19:$B$20,2,FALSE)),\"\")","v":""},{"$f":"IFERROR(IF(A469=\"\",\"\",VLOOKUP(A469,[1]Hoja1!$B$2:$U$4999,3,FALSE)),0)","v":""},null,"","",{"$f":"IFERROR(IF(A469=\"\",\"\",VLOOKUP(A469,[1]Hoja1!$B$2:$U$4999,10,FALSE)),0)","v":""},{"$f":"IFERROR(IF(Q469=\"\",\"\",VLOOKUP(Q469,[1]Hoja1!$D$2:$AF$4999,29,FALSE)),\"NO EXISTE CUENTA\")","v":""},null,null,""]
["",{"$f":"IFERROR(IF(A470=\"\",\"\",VLOOKUP(A470,[1]Hoja1!$B$2:$U$4999,9,FALSE)),0)","v":""},{"$f":"IFERROR(IF(A470=\"\",\"\",VLOOKUP(A470,[1]Hoja1!$B$2:$U$4999,2,FALSE)),\" --- NO EXISTE TRABAJADOR --- \")","v":""},null,null,null,null,null,"","","",{"$f":"IFERROR(IF(A470=\"\",\"\",VLOOKUP(A470,[1]Hoja1!$B$2:$U$4999,18,FALSE)),0)","v":""},{"$f":"IFERROR(IF(A470=\"\",\"\",VLOOKUP(A470,[1]Hoja1!$B$2:$U$4999,19,FALSE)),0)","v":""},"",null,{"$f":"IFERROR(IF(O470=\"\",\"\",VLOOKUP(O470,JORNADA!$A$19:$B$20,2,FALSE)),\"\")","v":""},{"$f":"IFERROR(IF(A470=\"\",\"\",VLOOKUP(A470,[1]Hoja1!$B$2:$U$4999,3,FALSE)),0)","v":""},null,"","",{"$f":"IFERROR(IF(A470=\"\",\"\",VLOOKUP(A470,[1]Hoja1!$B$2:$U$4999,10,FALSE)),0)","v":""},{"$f":"IFERROR(IF(Q470=\"\",\"\",VLOOKUP(Q470,[1]Hoja1!$D$2:$AF$4999,29,FALSE)),\"NO EXISTE CUENTA\")","v":""},null,null,""]
["",{"$f":"IFERROR(IF(A471=\"\",\"\",VLOOKUP(A471,[1]Hoja1!$B$2:$U$4999,9,FALSE)),0)","v":""},{"$f":"IFERROR(IF(A471=\"\",\"\",VLOOKUP(A471,[1]Hoja1!$B$2:$U$4999,2,FALSE)),\" --- NO EXISTE TRABAJADOR --- \")","v":""},null,null,null,null,null,"","","",{"$f":"IFERROR(IF(A471=\"\",\"\",VLOOKUP(A471,[1]Hoja1!$B$2:$U$4999,18,FALSE)),0)","v":""},{"$f":"IFERROR(IF(A471=\"\",\"\",VLOOKUP(A471,[1]Hoja1!$B$2:$U$4999,19,FALSE)),0)","v":""},"",null,{"$f":"IFERROR(IF(O471=\"\",\"\",VLOOKUP(O471,JORNADA!$A$19:$B$20,2,FALSE)),\"\")","v":""},{"$f":"IFERROR(IF(A471=\"\",\"\",VLOOKUP(A471,[1]Hoja1!$B$2:$U$4999,3,FALSE)),0)","v":""},null,"","",{"$f":"IFERROR(IF(A471=\"\",\"\",VLOOKUP(A471,[1]Hoja1!$B$2:$U$4999,10,FALSE)),0)","v":""},{"$f":"IFERROR(IF(Q471=\"\",\"\",VLOOKUP(Q471,[1]Hoja1!$D$2:$AF$4999,29,FALSE)),\"NO EXISTE CUENTA\")","v":""},null,null,""]
["",{"$f":"IFERROR(IF(A472=\"\",\"\",VLOOKUP(A472,[1]Hoja1!$B$2:$U$4999,9,FALSE)),0)","v":""},{"$f":"IFERROR(IF(A472=\"\",\"\",VLOOKUP(A472,[1]Hoja1!$B$2:$U$4999,2,FALSE)),\" --- NO EXISTE TRABAJADOR --- \")","v":""},null,null,null,null,null,"","","",{"$f":"IFERROR(IF(A472=\"\",\"\",VLOOKUP(A472,[1]Hoja1!$B$2:$U$4999,18,FALSE)),0)","v":""},{"$f":"IFERROR(IF(A472=\"\",\"\",VLOOKUP(A472,[1]Hoja1!$B$2:$U$4999,19,FALSE)),0)","v":""},"",null,{"$f":"IFERROR(IF(O472=\"\",\"\",VLOOKUP(O472,JORNADA!$A$19:$B$20,2,FALSE)),\"\")","v":""},{"$f":"IFERROR(IF(A472=\"\",\"\",VLOOKUP(A472,[1]Hoja1!$B$2:$U$4999,3,FALSE)),0)","v":""},null,"","",{"$f":"IFERROR(IF(A472=\"\",\"\",VLOOKUP(A472,[1]Hoja1!$B$2:$U$4999,10,FALSE)),0)","v":""},{"$f":"IFERROR(IF(Q472=\"\",\"\",VLOOKUP(Q472,[1]Hoja1!$D$2:$AF$4999,29,FALSE)),\"NO EXISTE CUENTA\")","v":""},null,null,""]
["",{"$f":"IFERROR(IF(A473=\"\",\"\",VLOOKUP(A473,[1]Hoja1!$B$2:$U$4999,9,FALSE)),0)","v":""},{"$f":"IFERROR(IF(A473=\"\",\"\",VLOOKUP(A473,[1]Hoja1!$B$2:$U$4999,2,FALSE)),\" --- NO EXISTE TRABAJADOR --- \")","v":""},null,null,null,null,null,"","","",{"$f":"IFERROR(IF(A473=\"\",\"\",VLOOKUP(A473,[1]Hoja1!$B$2:$U$4999,18,FALSE)),0)","v":""},{"$f":"IFERROR(IF(A473=\"\",\"\",VLOOKUP(A473,[1]Hoja1!$B$2:$U$4999,19,FALSE)),0)","v":""},"",null,{"$f":"IFERROR(IF(O473=\"\",\"\",VLOOKUP(O473,JORNADA!$A$19:$B$20,2,FALSE)),\"\")","v":""},{"$f":"IFERROR(IF(A473=\"\",\"\",VLOOKUP(A473,[1]Hoja1!$B$2:$U$4999,3,FALSE)),0)","v":""},null,"","",{"$f":"IFERROR(IF(A473=\"\",\"\",VLOOKUP(A473,[1]Hoja1!$B$2:$U$4999,10,FALSE)),0)","v":""},{"$f":"IFERROR(IF(Q473=\"\",\"\",VLOOKUP(Q473,[1]Hoja1!$D$2:$AF$4999,29,FALSE)),\"NO EXISTE CUENTA\")","v":""},null,null,""]
["",{"$f":"IFERROR(IF(A474=\"\",\"\",VLOOKUP(A474,[1]Hoja1!$B$2:$U$4999,9,FALSE)),0)","v":""},{"$f":"IFERROR(IF(A474=\"\",\"\",VLOOKUP(A474,[1]Hoja1!$B$2:$U$4999,2,FALSE)),\" --- NO EXISTE TRABAJADOR --- \")","v":""},null,null,null,null,null,"","","",{"$f":"IFERROR(IF(A474=\"\",\"\",VLOOKUP(A474,[1]Hoja1!$B$2:$U$4999,18,FALSE)),0)","v":""},{"$f":"IFERROR(IF(A474=\"\",\"\",VLOOKUP(A474,[1]Hoja1!$B$2:$U$4999,19,FALSE)),0)","v":""},"",null,{"$f":"IFERROR(IF(O474=\"\",\"\",VLOOKUP(O474,JORNADA!$A$19:$B$20,2,FALSE)),\"\")","v":""},{"$f":"IFERROR(IF(A474=\"\",\"\",VLOOKUP(A474,[1]Hoja1!$B$2:$U$4999,3,FALSE)),0)","v":""},null,"","",{"$f":"IFERROR(IF(A474=\"\",\"\",VLOOKUP(A474,[1]Hoja1!$B$2:$U$4999,10,FALSE)),0)","v":""},{"$f":"IFERROR(IF(Q474=\"\",\"\",VLOOKUP(Q474,[1]Hoja1!$D$2:$AF$4999,29,FALSE)),\"NO EXISTE CUENTA\")","v":""},null,null,""]
["",{"$f":"IFERROR(IF(A475=\"\",\"\",VLOOKUP(A475,[1]Hoja1!$B$2:$U$4999,9,FALSE)),0)","v":""},{"$f":"IFERROR(IF(A475=\"\",\"\",VLOOKUP(A475,[1]Hoja1!$B$2:$U$4999,2,FALSE)),\" --- NO EXISTE TRABAJADOR --- \")","v":""},null,null,null,null,null,"","","",{"$f":"IFERROR(IF(A475=\"\",\"\",VLOOKUP(A475,[1]Hoja1!$B$2:$U$4999,18,FALSE)),0)","v":""},{"$f":"IFERROR(IF(A475=\"\",\"\",VLOOKUP(A475,[1]Hoja1!$B$2:$U$4999,19,FALSE)),0)","v":""},"",null,{"$f":"IFERROR(IF(O475=\"\",\"\",VLOOKUP(O475,JORNADA!$A$19:$B$20,2,FALSE)),\"\")","v":""},{"$f":"IFERROR(IF(A475=\"\",\"\",VLOOKUP(A475,[1]Hoja1!$B$2:$U$4999,3,FALSE)),0)","v":""},null,"","",{"$f":"IFERROR(IF(A475=\"\",\"\",VLOOKUP(A475,[1]Hoja1!$B$2:$U$4999,10,FALSE)),0)","v":""},{"$f":"IFERROR(IF(Q475=\"\",\"\",VLOOKUP(Q475,[1]Hoja1!$D$2:$AF$4999,29,FALSE)),\"NO EXISTE CUENTA\")","v":""},null,null,""]
["",{"$f":"IFERROR(IF(A476=\"\",\"\",VLOOKUP(A476,[1]Hoja1!$B$2:$U$4999,9,FALSE)),0)","v":""},{"$f":"IFERROR(IF(A476=\"\",\"\",VLOOKUP(A476,[1]Hoja1!$B$2:$U$4999,2,FALSE)),\" --- NO EXISTE TRABAJADOR --- \")","v":""},null,null,null,null,null,"","","",{"$f":"IFERROR(IF(A476=\"\",\"\",VLOOKUP(A476,[1]Hoja1!$B$2:$U$4999,18,FALSE)),0)","v":""},{"$f":"IFERROR(IF(A476=\"\",\"\",VLOOKUP(A476,[1]Hoja1!$B$2:$U$4999,19,FALSE)),0)","v":""},"",null,{"$f":"IFERROR(IF(O476=\"\",\"\",VLOOKUP(O476,JORNADA!$A$19:$B$20,2,FALSE)),\"\")","v":""},{"$f":"IFERROR(IF(A476=\"\",\"\",VLOOKUP(A476,[1]Hoja1!$B$2:$U$4999,3,FALSE)),0)","v":""},null,"","",{"$f":"IFERROR(IF(A476=\"\",\"\",VLOOKUP(A476,[1]Hoja1!$B$2:$U$4999,10,FALSE)),0)","v":""},{"$f":"IFERROR(IF(Q476=\"\",\"\",VLOOKUP(Q476,[1]Hoja1!$D$2:$AF$4999,29,FALSE)),\"NO EXISTE CUENTA\")","v":""},null,null,""]
["",{"$f":"IFERROR(IF(A477=\"\",\"\",VLOOKUP(A477,[1]Hoja1!$B$2:$U$4999,9,FALSE)),0)","v":""},{"$f":"IFERROR(IF(A477=\"\",\"\",VLOOKUP(A477,[1]Hoja1!$B$2:$U$4999,2,FALSE)),\" --- NO EXISTE TRABAJADOR --- \")","v":""},null,null,null,null,null,"","","",{"$f":"IFERROR(IF(A477=\"\",\"\",VLOOKUP(A477,[1]Hoja1!$B$2:$U$4999,18,FALSE)),0)","v":""},{"$f":"IFERROR(IF(A477=\"\",\"\",VLOOKUP(A477,[1]Hoja1!$B$2:$U$4999,19,FALSE)),0)","v":""},"",null,{"$f":"IFERROR(IF(O477=\"\",\"\",VLOOKUP(O477,JORNADA!$A$19:$B$20,2,FALSE)),\"\")","v":""},{"$f":"IFERROR(IF(A477=\"\",\"\",VLOOKUP(A477,[1]Hoja1!$B$2:$U$4999,3,FALSE)),0)","v":""},null,"","",{"$f":"IFERROR(IF(A477=\"\",\"\",VLOOKUP(A477,[1]Hoja1!$B$2:$U$4999,10,FALSE)),0)","v":""},{"$f":"IFERROR(IF(Q477=\"\",\"\",VLOOKUP(Q477,[1]Hoja1!$D$2:$AF$4999,29,FALSE)),\"NO EXISTE CUENTA\")","v":""},null,null,""]
["",{"$f":"IFERROR(IF(A478=\"\",\"\",VLOOKUP(A478,[1]Hoja1!$B$2:$U$4999,9,FALSE)),0)","v":""},{"$f":"IFERROR(IF(A478=\"\",\"\",VLOOKUP(A478,[1]Hoja1!$B$2:$U$4999,2,FALSE)),\" --- NO EXISTE TRABAJADOR --- \")","v":""},null,null,null,null,null,"","","",{"$f":"IFERROR(IF(A478=\"\",\"\",VLOOKUP(A478,[1]Hoja1!$B$2:$U$4999,18,FALSE)),0)","v":""},{"$f":"IFERROR(IF(A478=\"\",\"\",VLOOKUP(A478,[1]Hoja1!$B$2:$U$4999,19,FALSE)),0)","v":""},"",null,{"$f":"IFERROR(IF(O478=\"\",\"\",VLOOKUP(O478,JORNADA!$A$19:$B$20,2,FALSE)),\"\")","v":""},{"$f":"IFERROR(IF(A478=\"\",\"\",VLOOKUP(A478,[1]Hoja1!$B$2:$U$4999,3,FALSE)),0)","v":""},null,"","",{"$f":"IFERROR(IF(A478=\"\",\"\",VLOOKUP(A478,[1]Hoja1!$B$2:$U$4999,10,FALSE)),0)","v":""},{"$f":"IFERROR(IF(Q478=\"\",\"\",VLOOKUP(Q478,[1]Hoja1!$D$2:$AF$4999,29,FALSE)),\"NO EXISTE CUENTA\")","v":""},null,null,""]
["",{"$f":"IFERROR(IF(A479=\"\",\"\",VLOOKUP(A479,[1]Hoja1!$B$2:$U$4999,9,FALSE)),0)","v":""},{"$f":"IFERROR(IF(A479=\"\",\"\",VLOOKUP(A479,[1]Hoja1!$B$2:$U$4999,2,FALSE)),\" --- NO EXISTE TRABAJADOR --- \")","v":""},null,null,null,null,null,"","","",{"$f":"IFERROR(IF(A479=\"\",\"\",VLOOKUP(A479,[1]Hoja1!$B$2:$U$4999,18,FALSE)),0)","v":""},{"$f":"IFERROR(IF(A479=\"\",\"\",VLOOKUP(A479,[1]Hoja1!$B$2:$U$4999,19,FALSE)),0)","v":""},"",null,{"$f":"IFERROR(IF(O479=\"\",\"\",VLOOKUP(O479,JORNADA!$A$19:$B$20,2,FALSE)),\"\")","v":""},{"$f":"IFERROR(IF(A479=\"\",\"\",VLOOKUP(A479,[1]Hoja1!$B$2:$U$4999,3,FALSE)),0)","v":""},null,"","",{"$f":"IFERROR(IF(A479=\"\",\"\",VLOOKUP(A479,[1]Hoja1!$B$2:$U$4999,10,FALSE)),0)","v":""},{"$f":"IFERROR(IF(Q479=\"\",\"\",VLOOKUP(Q479,[1]Hoja1!$D$2:$AF$4999,29,FALSE)),\"NO EXISTE CUENTA\")","v":""},null,null,""]
["",{"$f":"IFERROR(IF(A480=\"\",\"\",VLOOKUP(A480,[1]Hoja1!$B$2:$U$4999,9,FALSE)),0)","v":""},{"$f":"IFERROR(IF(A480=\"\",\"\",VLOOKUP(A480,[1]Hoja1!$B$2:$U$4999,2,FALSE)),\" --- NO EXISTE TRABAJADOR --- \")","v":""},null,null,null,null,null,"","","",{"$f":"IFERROR(IF(A480=\"\",\"\",VLOOKUP(A480,[1]Hoja1!$B$2:$U$4999,18,FALSE)),0)","v":""},{"$f":"IFERROR(IF(A480=\"\",\"\",VLOOKUP(A480,[1]Hoja1!$B$2:$U$4999,19,FALSE)),0)","v":""},"",null,{"$f":"IFERROR(IF(O480=\"\",\"\",VLOOKUP(O480,JORNADA!$A$19:$B$20,2,FALSE)),\"\")","v":""},{"$f":"IFERROR(IF(A480=\"\",\"\",VLOOKUP(A480,[1]Hoja1!$B$2:$U$4999,3,FALSE)),0)","v":""},null,"","",{"$f":"IFERROR(IF(A480=\"\",\"\",VLOOKUP(A480,[1]Hoja1!$B$2:$U$4999,10,FALSE)),0)","v":""},{"$f":"IFERROR(IF(Q480=\"\",\"\",VLOOKUP(Q480,[1]Hoja1!$D$2:$AF$4999,29,FALSE)),\"NO EXISTE CUENTA\")","v":""},null,null,""]
["",{"$f":"IFERROR(IF(A481=\"\",\"\",VLOOKUP(A481,[1]Hoja1!$B$2:$U$4999,9,FALSE)),0)","v":""},{"$f":"IFERROR(IF(A481=\"\",\"\",VLOOKUP(A481,[1]Hoja1!$B$2:$U$4999,2,FALSE)),\" --- NO EXISTE TRABAJADOR --- \")","v":""},null,null,null,null,null,"","","",{"$f":"IFERROR(IF(A481=\"\",\"\",VLOOKUP(A481,[1]Hoja1!$B$2:$U$4999,18,FALSE)),0)","v":""},{"$f":"IFERROR(IF(A481=\"\",\"\",VLOOKUP(A481,[1]Hoja1!$B$2:$U$4999,19,FALSE)),0)","v":""},"",null,{"$f":"IFERROR(IF(O481=\"\",\"\",VLOOKUP(O481,JORNADA!$A$19:$B$20,2,FALSE)),\"\")","v":""},{"$f":"IFERROR(IF(A481=\"\",\"\",VLOOKUP(A481,[1]Hoja1!$B$2:$U$4999,3,FALSE)),0)","v":""},null,"","",{"$f":"IFERROR(IF(A481=\"\",\"\",VLOOKUP(A481,[1]Hoja1!$B$2:$U$4999,10,FALSE)),0)","v":""},{"$f":"IFERROR(IF(Q481=\"\",\"\",VLOOKUP(Q481,[1]Hoja1!$D$2:$AF$4999,29,FALSE)),\"NO EXISTE CUENTA\")","v":""},null,null,""]
["",{"$f":"IFERROR(IF(A482=\"\",\"\",VLOOKUP(A482,[1]Hoja1!$B$2:$U$4999,9,FALSE)),0)","v":""},{"$f":"IFERROR(IF(A482=\"\",\"\",VLOOKUP(A482,[1]Hoja1!$B$2:$U$4999,2,FALSE)),\" --- NO EXISTE TRABAJADOR --- \")","v":""},null,null,null,null,null,"","","",{"$f":"IFERROR(IF(A482=\"\",\"\",VLOOKUP(A482,[1]Hoja1!$B$2:$U$4999,18,FALSE)),0)","v":""},{"$f":"IFERROR(IF(A482=\"\",\"\",VLOOKUP(A482,[1]Hoja1!$B$2:$U$4999,19,FALSE)),0)","v":""},"",null,{"$f":"IFERROR(IF(O482=\"\",\"\",VLOOKUP(O482,JORNADA!$A$19:$B$20,2,FALSE)),\"\")","v":""},{"$f":"IFERROR(IF(A482=\"\",\"\",VLOOKUP(A482,[1]Hoja1!$B$2:$U$4999,3,FALSE)),0)","v":""},null,"","",{"$f":"IFERROR(IF(A482=\"\",\"\",VLOOKUP(A482,[1]Hoja1!$B$2:$U$4999,10,FALSE)),0)","v":""},{"$f":"IFERROR(IF(Q482=\"\",\"\",VLOOKUP(Q482,[1]Hoja1!$D$2:$AF$4999,29,FALSE)),\"NO EXISTE CUENTA\")","v":""},null,null,""]
["",{"$f":"IFERROR(IF(A483=\"\",\"\",VLOOKUP(A483,[1]Hoja1!$B$2:$U$4999,9,FALSE)),0)","v":""},{"$f":"IFERROR(IF(A483=\"\",\"\",VLOOKUP(A483,[1]Hoja1!$B$2:$U$4999,2,FALSE)),\" --- NO EXISTE TRABAJADOR --- \")","v":""},null,null,null,null,null,"","","",{"$f":"IFERROR(IF(A483=\"\",\"\",VLOOKUP(A483,[1]Hoja1!$B$2:$U$4999,18,FALSE)),0)","v":""},{"$f":"IFERROR(IF(A483=\"\",\"\",VLOOKUP(A483,[1]Hoja1!$B$2:$U$4999,19,FALSE)),0)","v":""},"",null,{"$f":"IFERROR(IF(O483=\"\",\"\",VLOOKUP(O483,JORNADA!$A$19:$B$20,2,FALSE)),\"\")","v":""},{"$f":"IFERROR(IF(A483=\"\",\"\",VLOOKUP(A483,[1]Hoja1!$B$2:$U$4999,3,FALSE)),0)","v":""},null,"","",{"$f":"IFERROR(IF(A483=\"\",\"\",VLOOKUP(A483,[1]Hoja1!$B$2:$U$4999,10,FALSE)),0)","v":""},{"$f":"IFERROR(IF(Q483=\"\",\"\",VLOOKUP(Q483,[1]Hoja1!$D$2:$AF$4999,29,FALSE)),\"NO EXISTE CUENTA\")","v":""},null,null,""]
["",{"$f":"IFERROR(IF(A484=\"\",\"\",VLOOKUP(A484,[1]Hoja1!$B$2:$U$4999,9,FALSE)),0)","v":""},{"$f":"IFERROR(IF(A484=\"\",\"\",VLOOKUP(A484,[1]Hoja1!$B$2:$U$4999,2,FALSE)),\" --- NO EXISTE TRABAJADOR --- \")","v":""},null,null,null,null,null,"","","",{"$f":"IFERROR(IF(A484=\"\",\"\",VLOOKUP(A484,[1]Hoja1!$B$2:$U$4999,18,FALSE)),0)","v":""},{"$f":"IFERROR(IF(A484=\"\",\"\",VLOOKUP(A484,[1]Hoja1!$B$2:$U$4999,19,FALSE)),0)","v":""},"",null,{"$f":"IFERROR(IF(O484=\"\",\"\",VLOOKUP(O484,JORNADA!$A$19:$B$20,2,FALSE)),\"\")","v":""},{"$f":"IFERROR(IF(A484=\"\",\"\",VLOOKUP(A484,[1]Hoja1!$B$2:$U$4999,3,FALSE)),0)","v":""},null,"","",{"$f":"IFERROR(IF(A484=\"\",\"\",VLOOKUP(A484,[1]Hoja1!$B$2:$U$4999,10,FALSE)),0)","v":""},{"$f":"IFERROR(IF(Q484=\"\",\"\",VLOOKUP(Q484,[1]Hoja1!$D$2:$AF$4999,29,FALSE)),\"NO EXISTE CUENTA\")","v":""},null,null,""]
["",{"$f":"IFERROR(IF(A485=\"\",\"\",VLOOKUP(A485,[1]Hoja1!$B$2:$U$4999,9,FALSE)),0)","v":""},{"$f":"IFERROR(IF(A485=\"\",\"\",VLOOKUP(A485,[1]Hoja1!$B$2:$U$4999,2,FALSE)),\" --- NO EXISTE TRABAJADOR --- \")","v":""},null,null,null,null,null,"","","",{"$f":"IFERROR(IF(A485=\"\",\"\",VLOOKUP(A485,[1]Hoja1!$B$2:$U$4999,18,FALSE)),0)","v":""},{"$f":"IFERROR(IF(A485=\"\",\"\",VLOOKUP(A485,[1]Hoja1!$B$2:$U$4999,19,FALSE)),0)","v":""},"",null,{"$f":"IFERROR(IF(O485=\"\",\"\",VLOOKUP(O485,JORNADA!$A$19:$B$20,2,FALSE)),\"\")","v":""},{"$f":"IFERROR(IF(A485=\"\",\"\",VLOOKUP(A485,[1]Hoja1!$B$2:$U$4999,3,FALSE)),0)","v":""},null,"","",{"$f":"IFERROR(IF(A485=\"\",\"\",VLOOKUP(A485,[1]Hoja1!$B$2:$U$4999,10,FALSE)),0)","v":""},{"$f":"IFERROR(IF(Q485=\"\",\"\",VLOOKUP(Q485,[1]Hoja1!$D$2:$AF$4999,29,FALSE)),\"NO EXISTE CUENTA\")","v":""},null,null,""]
["",{"$f":"IFERROR(IF(A486=\"\",\"\",VLOOKUP(A486,[1]Hoja1!$B$2:$U$4999,9,FALSE)),0)","v":""},{"$f":"IFERROR(IF(A486=\"\",\"\",VLOOKUP(A486,[1]Hoja1!$B$2:$U$4999,2,FALSE)),\" --- NO EXISTE TRABAJADOR --- \")","v":""},null,null,null,null,null,"","","",{"$f":"IFERROR(IF(A486=\"\",\"\",VLOOKUP(A486,[1]Hoja1!$B$2:$U$4999,18,FALSE)),0)","v":""},{"$f":"IFERROR(IF(A486=\"\",\"\",VLOOKUP(A486,[1]Hoja1!$B$2:$U$4999,19,FALSE)),0)","v":""},"",null,{"$f":"IFERROR(IF(O486=\"\",\"\",VLOOKUP(O486,JORNADA!$A$19:$B$20,2,FALSE)),\"\")","v":""},{"$f":"IFERROR(IF(A486=\"\",\"\",VLOOKUP(A486,[1]Hoja1!$B$2:$U$4999,3,FALSE)),0)","v":""},null,"","",{"$f":"IFERROR(IF(A486=\"\",\"\",VLOOKUP(A486,[1]Hoja1!$B$2:$U$4999,10,FALSE)),0)","v":""},{"$f":"IFERROR(IF(Q486=\"\",\"\",VLOOKUP(Q486,[1]Hoja1!$D$2:$AF$4999,29,FALSE)),\"NO EXISTE CUENTA\")","v":""},null,null,""]
["",{"$f":"IFERROR(IF(A487=\"\",\"\",VLOOKUP(A487,[1]Hoja1!$B$2:$U$4999,9,FALSE)),0)","v":""},{"$f":"IFERROR(IF(A487=\"\",\"\",VLOOKUP(A487,[1]Hoja1!$B$2:$U$4999,2,FALSE)),\" --- NO EXISTE TRABAJADOR --- \")","v":""},null,null,null,null,null,"","","",{"$f":"IFERROR(IF(A487=\"\",\"\",VLOOKUP(A487,[1]Hoja1!$B$2:$U$4999,18,FALSE)),0)","v":""},{"$f":"IFERROR(IF(A487=\"\",\"\",VLOOKUP(A487,[1]Hoja1!$B$2:$U$4999,19,FALSE)),0)","v":""},"",null,{"$f":"IFERROR(IF(O487=\"\",\"\",VLOOKUP(O487,JORNADA!$A$19:$B$20,2,FALSE)),\"\")","v":""},{"$f":"IFERROR(IF(A487=\"\",\"\",VLOOKUP(A487,[1]Hoja1!$B$2:$U$4999,3,FALSE)),0)","v":""},null,"","",{"$f":"IFERROR(IF(A487=\"\",\"\",VLOOKUP(A487,[1]Hoja1!$B$2:$U$4999,10,FALSE)),0)","v":""},{"$f":"IFERROR(IF(Q487=\"\",\"\",VLOOKUP(Q487,[1]Hoja1!$D$2:$AF$4999,29,FALSE)),\"NO EXISTE CUENTA\")","v":""},null,null,""]
["",{"$f":"IFERROR(IF(A488=\"\",\"\",VLOOKUP(A488,[1]Hoja1!$B$2:$U$4999,9,FALSE)),0)","v":""},{"$f":"IFERROR(IF(A488=\"\",\"\",VLOOKUP(A488,[1]Hoja1!$B$2:$U$4999,2,FALSE)),\" --- NO EXISTE TRABAJADOR --- \")","v":""},null,null,null,null,null,"","","",{"$f":"IFERROR(IF(A488=\"\",\"\",VLOOKUP(A488,[1]Hoja1!$B$2:$U$4999,18,FALSE)),0)","v":""},{"$f":"IFERROR(IF(A488=\"\",\"\",VLOOKUP(A488,[1]Hoja1!$B$2:$U$4999,19,FALSE)),0)","v":""},"",null,{"$f":"IFERROR(IF(O488=\"\",\"\",VLOOKUP(O488,JORNADA!$A$19:$B$20,2,FALSE)),\"\")","v":""},{"$f":"IFERROR(IF(A488=\"\",\"\",VLOOKUP(A488,[1]Hoja1!$B$2:$U$4999,3,FALSE)),0)","v":""},null,"","",{"$f":"IFERROR(IF(A488=\"\",\"\",VLOOKUP(A488,[1]Hoja1!$B$2:$U$4999,10,FALSE)),0)","v":""},{"$f":"IFERROR(IF(Q488=\"\",\"\",VLOOKUP(Q488,[1]Hoja1!$D$2:$AF$4999,29,FALSE)),\"NO EXISTE CUENTA\")","v":""},null,null,""]
["",{"$f":"IFERROR(IF(A489=\"\",\"\",VLOOKUP(A489,[1]Hoja1!$B$2:$U$4999,9,FALSE)),0)","v":""},{"$f":"IFERROR(IF(A489=\"\",\"\",VLOOKUP(A489,[1]Hoja1!$B$2:$U$4999,2,FALSE)),\" --- NO EXISTE TRABAJADOR --- \")","v":""},null,null,null,null,null,"","","",{"$f":"IFERROR(IF(A489=\"\",\"\",VLOOKUP(A489,[1]Hoja1!$B$2:$U$4999,18,FALSE)),0)","v":""},{"$f":"IFERROR(IF(A489=\"\",\"\",VLOOKUP(A489,[1]Hoja1!$B$2:$U$4999,19,FALSE)),0)","v":""},"",null,{"$f":"IFERROR(IF(O489=\"\",\"\",VLOOKUP(O489,JORNADA!$A$19:$B$20,2,FALSE)),\"\")","v":""},{"$f":"IFERROR(IF(A489=\"\",\"\",VLOOKUP(A489,[1]Hoja1!$B$2:$U$4999,3,FALSE)),0)","v":""},null,"","",{"$f":"IFERROR(IF(A489=\"\",\"\",VLOOKUP(A489,[1]Hoja1!$B$2:$U$4999,10,FALSE)),0)","v":""},{"$f":"IFERROR(IF(Q489=\"\",\"\",VLOOKUP(Q489,[1]Hoja1!$D$2:$AF$4999,29,FALSE)),\"NO EXISTE CUENTA\")","v":""},null,null,""]
["",{"$f":"IFERROR(IF(A490=\"\",\"\",VLOOKUP(A490,[1]Hoja1!$B$2:$U$4999,9,FALSE)),0)","v":""},{"$f":"IFERROR(IF(A490=\"\",\"\",VLOOKUP(A490,[1]Hoja1!$B$2:$U$4999,2,FALSE)),\" --- NO EXISTE TRABAJADOR --- \")","v":""},null,null,null,null,null,"","","",{"$f":"IFERROR(IF(A490=\"\",\"\",VLOOKUP(A490,[1]Hoja1!$B$2:$U$4999,18,FALSE)),0)","v":""},{"$f":"IFERROR(IF(A490=\"\",\"\",VLOOKUP(A490,[1]Hoja1!$B$2:$U$4999,19,FALSE)),0)","v":""},"",null,{"$f":"IFERROR(IF(O490=\"\",\"\",VLOOKUP(O490,JORNADA!$A$19:$B$20,2,FALSE)),\"\")","v":""},{"$f":"IFERROR(IF(A490=\"\",\"\",VLOOKUP(A490,[1]Hoja1!$B$2:$U$4999,3,FALSE)),0)","v":""},null,"","",{"$f":"IFERROR(IF(A490=\"\",\"\",VLOOKUP(A490,[1]Hoja1!$B$2:$U$4999,10,FALSE)),0)","v":""},{"$f":"IFERROR(IF(Q490=\"\",\"\",VLOOKUP(Q490,[1]Hoja1!$D$2:$AF$4999,29,FALSE)),\"NO EXISTE CUENTA\")","v":""},null,null,""]
["",{"$f":"IFERROR(IF(A491=\"\",\"\",VLOOKUP(A491,[1]Hoja1!$B$2:$U$4999,9,FALSE)),0)","v":""},{"$f":"IFERROR(IF(A491=\"\",\"\",VLOOKUP(A491,[1]Hoja1!$B$2:$U$4999,2,FALSE)),\" --- NO EXISTE TRABAJADOR --- \")","v":""},null,null,null,null,null,"","","",{"$f":"IFERROR(IF(A491=\"\",\"\",VLOOKUP(A491,[1]Hoja1!$B$2:$U$4999,18,FALSE)),0)","v":""},{"$f":"IFERROR(IF(A491=\"\",\"\",VLOOKUP(A491,[1]Hoja1!$B$2:$U$4999,19,FALSE)),0)","v":""},"",null,{"$f":"IFERROR(IF(O491=\"\",\"\",VLOOKUP(O491,JORNADA!$A$19:$B$20,2,FALSE)),\"\")","v":""},{"$f":"IFERROR(IF(A491=\"\",\"\",VLOOKUP(A491,[1]Hoja1!$B$2:$U$4999,3,FALSE)),0)","v":""},null,"","",{"$f":"IFERROR(IF(A491=\"\",\"\",VLOOKUP(A491,[1]Hoja1!$B$2:$U$4999,10,FALSE)),0)","v":""},{"$f":"IFERROR(IF(Q491=\"\",\"\",VLOOKUP(Q491,[1]Hoja1!$D$2:$AF$4999,29,FALSE)),\"NO EXISTE CUENTA\")","v":""},null,null,""]
["",{"$f":"IFERROR(IF(A492=\"\",\"\",VLOOKUP(A492,[1]Hoja1!$B$2:$U$4999,9,FALSE)),0)","v":""},{"$f":"IFERROR(IF(A492=\"\",\"\",VLOOKUP(A492,[1]Hoja1!$B$2:$U$4999,2,FALSE)),\" --- NO EXISTE TRABAJADOR --- \")","v":""},null,null,null,null,null,"","","",{"$f":"IFERROR(IF(A492=\"\",\"\",VLOOKUP(A492,[1]Hoja1!$B$2:$U$4999,18,FALSE)),0)","v":""},{"$f":"IFERROR(IF(A492=\"\",\"\",VLOOKUP(A492,[1]Hoja1!$B$2:$U$4999,19,FALSE)),0)","v":""},"",null,{"$f":"IFERROR(IF(O492=\"\",\"\",VLOOKUP(O492,JORNADA!$A$19:$B$20,2,FALSE)),\"\")","v":""},{"$f":"IFERROR(IF(A492=\"\",\"\",VLOOKUP(A492,[1]Hoja1!$B$2:$U$4999,3,FALSE)),0)","v":""},null,"","",{"$f":"IFERROR(IF(A492=\"\",\"\",VLOOKUP(A492,[1]Hoja1!$B$2:$U$4999,10,FALSE)),0)","v":""},{"$f":"IFERROR(IF(Q492=\"\",\"\",VLOOKUP(Q492,[1]Hoja1!$D$2:$AF$4999,29,FALSE)),\"NO EXISTE CUENTA\")","v":""},null,null,""]
["",{"$f":"IFERROR(IF(A493=\"\",\"\",VLOOKUP(A493,[1]Hoja1!$B$2:$U$4999,9,FALSE)),0)","v":""},{"$f":"IFERROR(IF(A493=\"\",\"\",VLOOKUP(A493,[1]Hoja1!$B$2:$U$4999,2,FALSE)),\" --- NO EXISTE TRABAJADOR --- \")","v":""},null,null,null,null,null,"","","",{"$f":"IFERROR(IF(A493=\"\",\"\",VLOOKUP(A493,[1]Hoja1!$B$2:$U$4999,18,FALSE)),0)","v":""},{"$f":"IFERROR(IF(A493=\"\",\"\",VLOOKUP(A493,[1]Hoja1!$B$2:$U$4999,19,FALSE)),0)","v":""},"",null,{"$f":"IFERROR(IF(O493=\"\",\"\",VLOOKUP(O493,JORNADA!$A$19:$B$20,2,FALSE)),\"\")","v":""},{"$f":"IFERROR(IF(A493=\"\",\"\",VLOOKUP(A493,[1]Hoja1!$B$2:$U$4999,3,FALSE)),0)","v":""},null,"","",{"$f":"IFERROR(IF(A493=\"\",\"\",VLOOKUP(A493,[1]Hoja1!$B$2:$U$4999,10,FALSE)),0)","v":""},{"$f":"IFERROR(IF(Q493=\"\",\"\",VLOOKUP(Q493,[1]Hoja1!$D$2:$AF$4999,29,FALSE)),\"NO EXISTE CUENTA\")","v":""},null,null,""]
["",{"$f":"IFERROR(IF(A494=\"\",\"\",VLOOKUP(A494,[1]Hoja1!$B$2:$U$4999,9,FALSE)),0)","v":""},{"$f":"IFERROR(IF(A494=\"\",\"\",VLOOKUP(A494,[1]Hoja1!$B$2:$U$4999,2,FALSE)),\" --- NO EXISTE TRABAJADOR --- \")","v":""},null,null,null,null,null,"","","",{"$f":"IFERROR(IF(A494=\"\",\"\",VLOOKUP(A494,[1]Hoja1!$B$2:$U$4999,18,FALSE)),0)","v":""},{"$f":"IFERROR(IF(A494=\"\",\"\",VLOOKUP(A494,[1]Hoja1!$B$2:$U$4999,19,FALSE)),0)","v":""},"",null,{"$f":"IFERROR(IF(O494=\"\",\"\",VLOOKUP(O494,JORNADA!$A$19:$B$20,2,FALSE)),\"\")","v":""},{"$f":"IFERROR(IF(A494=\"\",\"\",VLOOKUP(A494,[1]Hoja1!$B$2:$U$4999,3,FALSE)),0)","v":""},null,"","",{"$f":"IFERROR(IF(A494=\"\",\"\",VLOOKUP(A494,[1]Hoja1!$B$2:$U$4999,10,FALSE)),0)","v":""},{"$f":"IFERROR(IF(Q494=\"\",\"\",VLOOKUP(Q494,[1]Hoja1!$D$2:$AF$4999,29,FALSE)),\"NO EXISTE CUENTA\")","v":""},null,null,""]
["",{"$f":"IFERROR(IF(A495=\"\",\"\",VLOOKUP(A495,[1]Hoja1!$B$2:$U$4999,9,FALSE)),0)","v":""},{"$f":"IFERROR(IF(A495=\"\",\"\",VLOOKUP(A495,[1]Hoja1!$B$2:$U$4999,2,FALSE)),\" --- NO EXISTE TRABAJADOR --- \")","v":""},null,null,null,null,null,"","","",{"$f":"IFERROR(IF(A495=\"\",\"\",VLOOKUP(A495,[1]Hoja1!$B$2:$U$4999,18,FALSE)),0)","v":""},{"$f":"IFERROR(IF(A495=\"\",\"\",VLOOKUP(A495,[1]Hoja1!$B$2:$U$4999,19,FALSE)),0)","v":""},"",null,{"$f":"IFERROR(IF(O495=\"\",\"\",VLOOKUP(O495,JORNADA!$A$19:$B$20,2,FALSE)),\"\")","v":""},{"$f":"IFERROR(IF(A495=\"\",\"\",VLOOKUP(A495,[1]Hoja1!$B$2:$U$4999,3,FALSE)),0)","v":""},null,"","",{"$f":"IFERROR(IF(A495=\"\",\"\",VLOOKUP(A495,[1]Hoja1!$B$2:$U$4999,10,FALSE)),0)","v":""},{"$f":"IFERROR(IF(Q495=\"\",\"\",VLOOKUP(Q495,[1]Hoja1!$D$2:$AF$4999,29,FALSE)),\"NO EXISTE CUENTA\")","v":""},null,null,""]
["",{"$f":"IFERROR(IF(A496=\"\",\"\",VLOOKUP(A496,[1]Hoja1!$B$2:$U$4999,9,FALSE)),0)","v":""},{"$f":"IFERROR(IF(A496=\"\",\"\",VLOOKUP(A496,[1]Hoja1!$B$2:$U$4999,2,FALSE)),\" --- NO EXISTE TRABAJADOR --- \")","v":""},null,null,null,null,null,"","","",{"$f":"IFERROR(IF(A496=\"\",\"\",VLOOKUP(A496,[1]Hoja1!$B$2:$U$4999,18,FALSE)),0)","v":""},{"$f":"IFERROR(IF(A496=\"\",\"\",VLOOKUP(A496,[1]Hoja1!$B$2:$U$4999,19,FALSE)),0)","v":""},"",null,{"$f":"IFERROR(IF(O496=\"\",\"\",VLOOKUP(O496,JORNADA!$A$19:$B$20,2,FALSE)),\"\")","v":""},{"$f":"IFERROR(IF(A496=\"\",\"\",VLOOKUP(A496,[1]Hoja1!$B$2:$U$4999,3,FALSE)),0)","v":""},null,"","",{"$f":"IFERROR(IF(A496=\"\",\"\",VLOOKUP(A496,[1]Hoja1!$B$2:$U$4999,10,FALSE)),0)","v":""},{"$f":"IFERROR(IF(Q496=\"\",\"\",VLOOKUP(Q496,[1]Hoja1!$D$2:$AF$4999,29,FALSE)),\"NO EXISTE CUENTA\")","v":""},null,null,""]
["",{"$f":"IFERROR(IF(A497=\"\",\"\",VLOOKUP(A497,[1]Hoja1!$B$2:$U$4999,9,FALSE)),0)","v":""},{"$f":"IFERROR(IF(A497=\"\",\"\",VLOOKUP(A497,[1]Hoja1!$B$2:$U$4999,2,FALSE)),\" --- NO EXISTE TRABAJADOR --- \")","v":""},null,null,null,null,null,"","","",{"$f":"IFERROR(IF(A497=\"\",\"\",VLOOKUP(A497,[1]Hoja1!$B$2:$U$4999,18,FALSE)),0)","v":""},{"$f":"IFERROR(IF(A497=\"\",\"\",VLOOKUP(A497,[1]Hoja1!$B$2:$U$4999,19,FALSE)),0)","v":""},"",null,{"$f":"IFERROR(IF(O497=\"\",\"\",VLOOKUP(O497,JORNADA!$A$19:$B$20,2,FALSE)),\"\")","v":""},{"$f":"IFERROR(IF(A497=\"\",\"\",VLOOKUP(A497,[1]Hoja1!$B$2:$U$4999,3,FALSE)),0)","v":""},null,"","",{"$f":"IFERROR(IF(A497=\"\",\"\",VLOOKUP(A497,[1]Hoja1!$B$2:$U$4999,10,FALSE)),0)","v":""},{"$f":"IFERROR(IF(Q497=\"\",\"\",VLOOKUP(Q497,[1]Hoja1!$D$2:$AF$4999,29,FALSE)),\"NO EXISTE CUENTA\")","v":""},null,null,""]
["",{"$f":"IFERROR(IF(A498=\"\",\"\",VLOOKUP(A498,[1]Hoja1!$B$2:$U$4999,9,FALSE)),0)","v":""},{"$f":"IFERROR(IF(A498=\"\",\"\",VLOOKUP(A498,[1]Hoja1!$B$2:$U$4999,2,FALSE)),\" --- NO EXISTE TRABAJADOR --- \")","v":""},null,null,null,null,null,"","","",{"$f":"IFERROR(IF(A498=\"\",\"\",VLOOKUP(A498,[1]Hoja1!$B$2:$U$4999,18,FALSE)),0)","v":""},{"$f":"IFERROR(IF(A498=\"\",\"\",VLOOKUP(A498,[1]Hoja1!$B$2:$U$4999,19,FALSE)),0)","v":""},"",null,{"$f":"IFERROR(IF(O498=\"\",\"\",VLOOKUP(O498,JORNADA!$A$19:$B$20,2,FALSE)),\"\")","v":""},{"$f":"IFERROR(IF(A498=\"\",\"\",VLOOKUP(A498,[1]Hoja1!$B$2:$U$4999,3,FALSE)),0)","v":""},null,"","",{"$f":"IFERROR(IF(A498=\"\",\"\",VLOOKUP(A498,[1]Hoja1!$B$2:$U$4999,10,FALSE)),0)","v":""},{"$f":"IFERROR(IF(Q498=\"\",\"\",VLOOKUP(Q498,[1]Hoja1!$D$2:$AF$4999,29,FALSE)),\"NO EXISTE CUENTA\")","v":""},null,null,""]
["",{"$f":"IFERROR(IF(A499=\"\",\"\",VLOOKUP(A499,[1]Hoja1!$B$2:$U$4999,9,FALSE)),0)","v":""},{"$f":"IFERROR(IF(A499=\"\",\"\",VLOOKUP(A499,[1]Hoja1!$B$2:$U$4999,2,FALSE)),\" --- NO EXISTE TRABAJADOR --- \")","v":""},null,null,null,null,null,"","","",{"$f":"IFERROR(IF(A499=\"\",\"\",VLOOKUP(A499,[1]Hoja1!$B$2:$U$4999,18,FALSE)),0)","v":""},{"$f":"IFERROR(IF(A499=\"\",\"\",VLOOKUP(A499,[1]Hoja1!$B$2:$U$4999,19,FALSE)),0)","v":""},"",null,{"$f":"IFERROR(IF(O499=\"\",\"\",VLOOKUP(O499,JORNADA!$A$19:$B$20,2,FALSE)),\"\")","v":""},{"$f":"IFERROR(IF(A499=\"\",\"\",VLOOKUP(A499,[1]Hoja1!$B$2:$U$4999,3,FALSE)),0)","v":""},null,"","",{"$f":"IFERROR(IF(A499=\"\",\"\",VLOOKUP(A499,[1]Hoja1!$B$2:$U$4999,10,FALSE)),0)","v":""},{"$f":"IFERROR(IF(Q499=\"\",\"\",VLOOKUP(Q499,[1]Hoja1!$D$2:$AF$4999,29,FALSE)),\"NO EXISTE CUENTA\")","v":""},null,null,""]
["",{"$f":"IFERROR(IF(A500=\"\",\"\",VLOOKUP(A500,[1]Hoja1!$B$2:$U$4999,9,FALSE)),0)","v":""},{"$f":"IFERROR(IF(A500=\"\",\"\",VLOOKUP(A500,[1]Hoja1!$B$2:$U$4999,2,FALSE)),\" --- NO EXISTE TRABAJADOR --- \")","v":""},null,null,null,null,null,"","","",{"$f":"IFERROR(IF(A500=\"\",\"\",VLOOKUP(A500,[1]Hoja1!$B$2:$U$4999,18,FALSE)),0)","v":""},{"$f":"IFERROR(IF(A500=\"\",\"\",VLOOKUP(A500,[1]Hoja1!$B$2:$U$4999,19,FALSE)),0)","v":""},"",null,{"$f":"IFERROR(IF(O500=\"\",\"\",VLOOKUP(O500,JORNADA!$A$19:$B$20,2,FALSE)),\"\")","v":""},{"$f":"IFERROR(IF(A500=\"\",\"\",VLOOKUP(A500,[1]Hoja1!$B$2:$U$4999,3,FALSE)),0)","v":""},null,"","",{"$f":"IFERROR(IF(A500=\"\",\"\",VLOOKUP(A500,[1]Hoja1!$B$2:$U$4999,10,FALSE)),0)","v":""},{"$f":"IFERROR(IF(Q500=\"\",\"\",VLOOKUP(Q500,[1]Hoja1!$D$2:$AF$4999,29,FALSE)),\"NO EXISTE CUENTA\")","v":""},null,null,""]
["",{"$f":"IFERROR(IF(A501=\"\",\"\",VLOOKUP(A501,[1]Hoja1!$B$2:$U$4999,9,FALSE)),0)","v":""},{"$f":"IFERROR(IF(A501=\"\",\"\",VLOOKUP(A501,[1]Hoja1!$B$2:$U$4999,2,FALSE)),\" --- NO EXISTE TRABAJADOR --- \")","v":""},null,null,null,null,null,"","","",{"$f":"IFERROR(IF(A501=\"\",\"\",VLOOKUP(A501,[1]Hoja1!$B$2:$U$4999,18,FALSE)),0)","v":""},{"$f":"IFERROR(IF(A501=\"\",\"\",VLOOKUP(A501,[1]Hoja1!$B$2:$U$4999,19,FALSE)),0)","v":""},"",null,{"$f":"IFERROR(IF(O501=\"\",\"\",VLOOKUP(O501,JORNADA!$A$19:$B$20,2,FALSE)),\"\")","v":""},{"$f":"IFERROR(IF(A501=\"\",\"\",VLOOKUP(A501,[1]Hoja1!$B$2:$U$4999,3,FALSE)),0)","v":""},null,"","",{"$f":"IFERROR(IF(A501=\"\",\"\",VLOOKUP(A501,[1]Hoja1!$B$2:$U$4999,10,FALSE)),0)","v":""},{"$f":"IFERROR(IF(Q501=\"\",\"\",VLOOKUP(Q501,[1]Hoja1!$D$2:$AF$4999,29,FALSE)),\"NO EXISTE CUENTA\")","v":""},null,null,""]
["",{"$f":"IFERROR(IF(A502=\"\",\"\",VLOOKUP(A502,[1]Hoja1!$B$2:$U$4999,9,FALSE)),0)","v":""},{"$f":"IFERROR(IF(A502=\"\",\"\",VLOOKUP(A502,[1]Hoja1!$B$2:$U$4999,2,FALSE)),\" --- NO EXISTE TRABAJADOR --- \")","v":""},null,null,null,null,null,"","","",{"$f":"IFERROR(IF(A502=\"\",\"\",VLOOKUP(A502,[1]Hoja1!$B$2:$U$4999,18,FALSE)),0)","v":""},{"$f":"IFERROR(IF(A502=\"\",\"\",VLOOKUP(A502,[1]Hoja1!$B$2:$U$4999,19,FALSE)),0)","v":""},"",null,{"$f":"IFERROR(IF(O502=\"\",\"\",VLOOKUP(O502,JORNADA!$A$19:$B$20,2,FALSE)),\"\")","v":""},{"$f":"IFERROR(IF(A502=\"\",\"\",VLOOKUP(A502,[1]Hoja1!$B$2:$U$4999,3,FALSE)),0)","v":""},null,"","",{"$f":"IFERROR(IF(A502=\"\",\"\",VLOOKUP(A502,[1]Hoja1!$B$2:$U$4999,10,FALSE)),0)","v":""},{"$f":"IFERROR(IF(Q502=\"\",\"\",VLOOKUP(Q502,[1]Hoja1!$D$2:$AF$4999,29,FALSE)),\"NO EXISTE CUENTA\")","v":""},null,null,""]
["",{"$f":"IFERROR(IF(A503=\"\",\"\",VLOOKUP(A503,[1]Hoja1!$B$2:$U$4999,9,FALSE)),0)","v":""},{"$f":"IFERROR(IF(A503=\"\",\"\",VLOOKUP(A503,[1]Hoja1!$B$2:$U$4999,2,FALSE)),\" --- NO EXISTE TRABAJADOR --- \")","v":""},null,null,null,null,null,"","","",{"$f":"IFERROR(IF(A503=\"\",\"\",VLOOKUP(A503,[1]Hoja1!$B$2:$U$4999,18,FALSE)),0)","v":""},{"$f":"IFERROR(IF(A503=\"\",\"\",VLOOKUP(A503,[1]Hoja1!$B$2:$U$4999,19,FALSE)),0)","v":""},"",null,{"$f":"IFERROR(IF(O503=\"\",\"\",VLOOKUP(O503,JORNADA!$A$19:$B$20,2,FALSE)),\"\")","v":""},{"$f":"IFERROR(IF(A503=\"\",\"\",VLOOKUP(A503,[1]Hoja1!$B$2:$U$4999,3,FALSE)),0)","v":""},null,"","",{"$f":"IFERROR(IF(A503=\"\",\"\",VLOOKUP(A503,[1]Hoja1!$B$2:$U$4999,10,FALSE)),0)","v":""},{"$f":"IFERROR(IF(Q503=\"\",\"\",VLOOKUP(Q503,[1]Hoja1!$D$2:$AF$4999,29,FALSE)),\"NO EXISTE CUENTA\")","v":""},null,null,""]
["",{"$f":"IFERROR(IF(A504=\"\",\"\",VLOOKUP(A504,[1]Hoja1!$B$2:$U$4999,9,FALSE)),0)","v":""},{"$f":"IFERROR(IF(A504=\"\",\"\",VLOOKUP(A504,[1]Hoja1!$B$2:$U$4999,2,FALSE)),\" --- NO EXISTE TRABAJADOR --- \")","v":""},null,null,null,null,null,"","","",{"$f":"IFERROR(IF(A504=\"\",\"\",VLOOKUP(A504,[1]Hoja1!$B$2:$U$4999,18,FALSE)),0)","v":""},{"$f":"IFERROR(IF(A504=\"\",\"\",VLOOKUP(A504,[1]Hoja1!$B$2:$U$4999,19,FALSE)),0)","v":""},"",null,{"$f":"IFERROR(IF(O504=\"\",\"\",VLOOKUP(O504,JORNADA!$A$19:$B$20,2,FALSE)),\"\")","v":""},{"$f":"IFERROR(IF(A504=\"\",\"\",VLOOKUP(A504,[1]Hoja1!$B$2:$U$4999,3,FALSE)),0)","v":""},null,"","",{"$f":"IFERROR(IF(A504=\"\",\"\",VLOOKUP(A504,[1]Hoja1!$B$2:$U$4999,10,FALSE)),0)","v":""},{"$f":"IFERROR(IF(Q504=\"\",\"\",VLOOKUP(Q504,[1]Hoja1!$D$2:$AF$4999,29,FALSE)),\"NO EXISTE CUENTA\")","v":""},null,null,""]
["",{"$f":"IFERROR(IF(A505=\"\",\"\",VLOOKUP(A505,[1]Hoja1!$B$2:$U$4999,9,FALSE)),0)","v":""},{"$f":"IFERROR(IF(A505=\"\",\"\",VLOOKUP(A505,[1]Hoja1!$B$2:$U$4999,2,FALSE)),\" --- NO EXISTE TRABAJADOR --- \")","v":""},null,null,null,null,null,"","","",{"$f":"IFERROR(IF(A505=\"\",\"\",VLOOKUP(A505,[1]Hoja1!$B$2:$U$4999,18,FALSE)),0)","v":""},{"$f":"IFERROR(IF(A505=\"\",\"\",VLOOKUP(A505,[1]Hoja1!$B$2:$U$4999,19,FALSE)),0)","v":""},"",null,{"$f":"IFERROR(IF(O505=\"\",\"\",VLOOKUP(O505,JORNADA!$A$19:$B$20,2,FALSE)),\"\")","v":""},{"$f":"IFERROR(IF(A505=\"\",\"\",VLOOKUP(A505,[1]Hoja1!$B$2:$U$4999,3,FALSE)),0)","v":""},null,"","",{"$f":"IFERROR(IF(A505=\"\",\"\",VLOOKUP(A505,[1]Hoja1!$B$2:$U$4999,10,FALSE)),0)","v":""},{"$f":"IFERROR(IF(Q505=\"\",\"\",VLOOKUP(Q505,[1]Hoja1!$D$2:$AF$4999,29,FALSE)),\"NO EXISTE CUENTA\")","v":""},null,null,""]
["",{"$f":"IFERROR(IF(A506=\"\",\"\",VLOOKUP(A506,[1]Hoja1!$B$2:$U$4999,9,FALSE)),0)","v":""},{"$f":"IFERROR(IF(A506=\"\",\"\",VLOOKUP(A506,[1]Hoja1!$B$2:$U$4999,2,FALSE)),\" --- NO EXISTE TRABAJADOR --- \")","v":""},null,null,null,null,null,"","","",{"$f":"IFERROR(IF(A506=\"\",\"\",VLOOKUP(A506,[1]Hoja1!$B$2:$U$4999,18,FALSE)),0)","v":""},{"$f":"IFERROR(IF(A506=\"\",\"\",VLOOKUP(A506,[1]Hoja1!$B$2:$U$4999,19,FALSE)),0)","v":""},"",null,{"$f":"IFERROR(IF(O506=\"\",\"\",VLOOKUP(O506,JORNADA!$A$19:$B$20,2,FALSE)),\"\")","v":""},{"$f":"IFERROR(IF(A506=\"\",\"\",VLOOKUP(A506,[1]Hoja1!$B$2:$U$4999,3,FALSE)),0)","v":""},null,"","",{"$f":"IFERROR(IF(A506=\"\",\"\",VLOOKUP(A506,[1]Hoja1!$B$2:$U$4999,10,FALSE)),0)","v":""},{"$f":"IFERROR(IF(Q506=\"\",\"\",VLOOKUP(Q506,[1]Hoja1!$D$2:$AF$4999,29,FALSE)),\"NO EXISTE CUENTA\")","v":""},null,null,""]
["",{"$f":"IFERROR(IF(A507=\"\",\"\",VLOOKUP(A507,[1]Hoja1!$B$2:$U$4999,9,FALSE)),0)","v":""},{"$f":"IFERROR(IF(A507=\"\",\"\",VLOOKUP(A507,[1]Hoja1!$B$2:$U$4999,2,FALSE)),\" --- NO EXISTE TRABAJADOR --- \")","v":""},null,null,null,null,null,"","","",{"$f":"IFERROR(IF(A507=\"\",\"\",VLOOKUP(A507,[1]Hoja1!$B$2:$U$4999,18,FALSE)),0)","v":""},{"$f":"IFERROR(IF(A507=\"\",\"\",VLOOKUP(A507,[1]Hoja1!$B$2:$U$4999,19,FALSE)),0)","v":""},"",null,{"$f":"IFERROR(IF(O507=\"\",\"\",VLOOKUP(O507,JORNADA!$A$19:$B$20,2,FALSE)),\"\")","v":""},{"$f":"IFERROR(IF(A507=\"\",\"\",VLOOKUP(A507,[1]Hoja1!$B$2:$U$4999,3,FALSE)),0)","v":""},null,"","",{"$f":"IFERROR(IF(A507=\"\",\"\",VLOOKUP(A507,[1]Hoja1!$B$2:$U$4999,10,FALSE)),0)","v":""},{"$f":"IFERROR(IF(Q507=\"\",\"\",VLOOKUP(Q507,[1]Hoja1!$D$2:$AF$4999,29,FALSE)),\"NO EXISTE CUENTA\")","v":""},null,null,""]
["",{"$f":"IFERROR(IF(A508=\"\",\"\",VLOOKUP(A508,[1]Hoja1!$B$2:$U$4999,9,FALSE)),0)","v":""},{"$f":"IFERROR(IF(A508=\"\",\"\",VLOOKUP(A508,[1]Hoja1!$B$2:$U$4999,2,FALSE)),\" --- NO EXISTE TRABAJADOR --- \")","v":""},null,null,null,null,null,"","","",{"$f":"IFERROR(IF(A508=\"\",\"\",VLOOKUP(A508,[1]Hoja1!$B$2:$U$4999,18,FALSE)),0)","v":""},{"$f":"IFERROR(IF(A508=\"\",\"\",VLOOKUP(A508,[1]Hoja1!$B$2:$U$4999,19,FALSE)),0)","v":""},"",null,{"$f":"IFERROR(IF(O508=\"\",\"\",VLOOKUP(O508,JORNADA!$A$19:$B$20,2,FALSE)),\"\")","v":""},{"$f":"IFERROR(IF(A508=\"\",\"\",VLOOKUP(A508,[1]Hoja1!$B$2:$U$4999,3,FALSE)),0)","v":""},null,"","",{"$f":"IFERROR(IF(A508=\"\",\"\",VLOOKUP(A508,[1]Hoja1!$B$2:$U$4999,10,FALSE)),0)","v":""},{"$f":"IFERROR(IF(Q508=\"\",\"\",VLOOKUP(Q508,[1]Hoja1!$D$2:$AF$4999,29,FALSE)),\"NO EXISTE CUENTA\")","v":""},null,null,""]
["",{"$f":"IFERROR(IF(A509=\"\",\"\",VLOOKUP(A509,[1]Hoja1!$B$2:$U$4999,9,FALSE)),0)","v":""},{"$f":"IFERROR(IF(A509=\"\",\"\",VLOOKUP(A509,[1]Hoja1!$B$2:$U$4999,2,FALSE)),\" --- NO EXISTE TRABAJADOR --- \")","v":""},null,null,null,null,null,"","","",{"$f":"IFERROR(IF(A509=\"\",\"\",VLOOKUP(A509,[1]Hoja1!$B$2:$U$4999,18,FALSE)),0)","v":""},{"$f":"IFERROR(IF(A509=\"\",\"\",VLOOKUP(A509,[1]Hoja1!$B$2:$U$4999,19,FALSE)),0)","v":""},"",null,{"$f":"IFERROR(IF(O509=\"\",\"\",VLOOKUP(O509,JORNADA!$A$19:$B$20,2,FALSE)),\"\")","v":""},{"$f":"IFERROR(IF(A509=\"\",\"\",VLOOKUP(A509,[1]Hoja1!$B$2:$U$4999,3,FALSE)),0)","v":""},null,"","",{"$f":"IFERROR(IF(A509=\"\",\"\",VLOOKUP(A509,[1]Hoja1!$B$2:$U$4999,10,FALSE)),0)","v":""},{"$f":"IFERROR(IF(Q509=\"\",\"\",VLOOKUP(Q509,[1]Hoja1!$D$2:$AF$4999,29,FALSE)),\"NO EXISTE CUENTA\")","v":""},null,null,""]
["",{"$f":"IFERROR(IF(A510=\"\",\"\",VLOOKUP(A510,[1]Hoja1!$B$2:$U$4999,9,FALSE)),0)","v":""},{"$f":"IFERROR(IF(A510=\"\",\"\",VLOOKUP(A510,[1]Hoja1!$B$2:$U$4999,2,FALSE)),\" --- NO EXISTE TRABAJADOR --- \")","v":""},null,null,null,null,null,"","","",{"$f":"IFERROR(IF(A510=\"\",\"\",VLOOKUP(A510,[1]Hoja1!$B$2:$U$4999,18,FALSE)),0)","v":""},{"$f":"IFERROR(IF(A510=\"\",\"\",VLOOKUP(A510,[1]Hoja1!$B$2:$U$4999,19,FALSE)),0)","v":""},"",null,{"$f":"IFERROR(IF(O510=\"\",\"\",VLOOKUP(O510,JORNADA!$A$19:$B$20,2,FALSE)),\"\")","v":""},{"$f":"IFERROR(IF(A510=\"\",\"\",VLOOKUP(A510,[1]Hoja1!$B$2:$U$4999,3,FALSE)),0)","v":""},null,"","",{"$f":"IFERROR(IF(A510=\"\",\"\",VLOOKUP(A510,[1]Hoja1!$B$2:$U$4999,10,FALSE)),0)","v":""},{"$f":"IFERROR(IF(Q510=\"\",\"\",VLOOKUP(Q510,[1]Hoja1!$D$2:$AF$4999,29,FALSE)),\"NO EXISTE CUENTA\")","v":""},null,null,""]
["",{"$f":"IFERROR(IF(A511=\"\",\"\",VLOOKUP(A511,[1]Hoja1!$B$2:$U$4999,9,FALSE)),0)","v":""},{"$f":"IFERROR(IF(A511=\"\",\"\",VLOOKUP(A511,[1]Hoja1!$B$2:$U$4999,2,FALSE)),\" --- NO EXISTE TRABAJADOR --- \")","v":""},null,null,null,null,null,"","","",{"$f":"IFERROR(IF(A511=\"\",\"\",VLOOKUP(A511,[1]Hoja1!$B$2:$U$4999,18,FALSE)),0)","v":""},{"$f":"IFERROR(IF(A511=\"\",\"\",VLOOKUP(A511,[1]Hoja1!$B$2:$U$4999,19,FALSE)),0)","v":""},"",null,{"$f":"IFERROR(IF(O511=\"\",\"\",VLOOKUP(O511,JORNADA!$A$19:$B$20,2,FALSE)),\"\")","v":""},{"$f":"IFERROR(IF(A511=\"\",\"\",VLOOKUP(A511,[1]Hoja1!$B$2:$U$4999,3,FALSE)),0)","v":""},null,"","",{"$f":"IFERROR(IF(A511=\"\",\"\",VLOOKUP(A511,[1]Hoja1!$B$2:$U$4999,10,FALSE)),0)","v":""},{"$f":"IFERROR(IF(Q511=\"\",\"\",VLOOKUP(Q511,[1]Hoja1!$D$2:$AF$4999,29,FALSE)),\"NO EXISTE CUENTA\")","v":""},null,null,""]
["",{"$f":"IFERROR(IF(A512=\"\",\"\",VLOOKUP(A512,[1]Hoja1!$B$2:$U$4999,9,FALSE)),0)","v":""},{"$f":"IFERROR(IF(A512=\"\",\"\",VLOOKUP(A512,[1]Hoja1!$B$2:$U$4999,2,FALSE)),\" --- NO EXISTE TRABAJADOR --- \")","v":""},null,null,null,null,null,"","","",{"$f":"IFERROR(IF(A512=\"\",\"\",VLOOKUP(A512,[1]Hoja1!$B$2:$U$4999,18,FALSE)),0)","v":""},{"$f":"IFERROR(IF(A512=\"\",\"\",VLOOKUP(A512,[1]Hoja1!$B$2:$U$4999,19,FALSE)),0)","v":""},"",null,{"$f":"IFERROR(IF(O512=\"\",\"\",VLOOKUP(O512,JORNADA!$A$19:$B$20,2,FALSE)),\"\")","v":""},{"$f":"IFERROR(IF(A512=\"\",\"\",VLOOKUP(A512,[1]Hoja1!$B$2:$U$4999,3,FALSE)),0)","v":""},null,"","",{"$f":"IFERROR(IF(A512=\"\",\"\",VLOOKUP(A512,[1]Hoja1!$B$2:$U$4999,10,FALSE)),0)","v":""},{"$f":"IFERROR(IF(Q512=\"\",\"\",VLOOKUP(Q512,[1]Hoja1!$D$2:$AF$4999,29,FALSE)),\"NO EXISTE CUENTA\")","v":""},null,null,""]
["",{"$f":"IFERROR(IF(A513=\"\",\"\",VLOOKUP(A513,[1]Hoja1!$B$2:$U$4999,9,FALSE)),0)","v":""},{"$f":"IFERROR(IF(A513=\"\",\"\",VLOOKUP(A513,[1]Hoja1!$B$2:$U$4999,2,FALSE)),\" --- NO EXISTE TRABAJADOR --- \")","v":""},null,null,null,null,null,"","","",{"$f":"IFERROR(IF(A513=\"\",\"\",VLOOKUP(A513,[1]Hoja1!$B$2:$U$4999,18,FALSE)),0)","v":""},{"$f":"IFERROR(IF(A513=\"\",\"\",VLOOKUP(A513,[1]Hoja1!$B$2:$U$4999,19,FALSE)),0)","v":""},"",null,{"$f":"IFERROR(IF(O513=\"\",\"\",VLOOKUP(O513,JORNADA!$A$19:$B$20,2,FALSE)),\"\")","v":""},{"$f":"IFERROR(IF(A513=\"\",\"\",VLOOKUP(A513,[1]Hoja1!$B$2:$U$4999,3,FALSE)),0)","v":""},null,"","",{"$f":"IFERROR(IF(A513=\"\",\"\",VLOOKUP(A513,[1]Hoja1!$B$2:$U$4999,10,FALSE)),0)","v":""},{"$f":"IFERROR(IF(Q513=\"\",\"\",VLOOKUP(Q513,[1]Hoja1!$D$2:$AF$4999,29,FALSE)),\"NO EXISTE CUENTA\")","v":""},null,null,""]
["",{"$f":"IFERROR(IF(A514=\"\",\"\",VLOOKUP(A514,[1]Hoja1!$B$2:$U$4999,9,FALSE)),0)","v":""},{"$f":"IFERROR(IF(A514=\"\",\"\",VLOOKUP(A514,[1]Hoja1!$B$2:$U$4999,2,FALSE)),\" --- NO EXISTE TRABAJADOR --- \")","v":""},null,null,null,null,null,"","","",{"$f":"IFERROR(IF(A514=\"\",\"\",VLOOKUP(A514,[1]Hoja1!$B$2:$U$4999,18,FALSE)),0)","v":""},{"$f":"IFERROR(IF(A514=\"\",\"\",VLOOKUP(A514,[1]Hoja1!$B$2:$U$4999,19,FALSE)),0)","v":""},"",null,{"$f":"IFERROR(IF(O514=\"\",\"\",VLOOKUP(O514,JORNADA!$A$19:$B$20,2,FALSE)),\"\")","v":""},{"$f":"IFERROR(IF(A514=\"\",\"\",VLOOKUP(A514,[1]Hoja1!$B$2:$U$4999,3,FALSE)),0)","v":""},null,"","",{"$f":"IFERROR(IF(A514=\"\",\"\",VLOOKUP(A514,[1]Hoja1!$B$2:$U$4999,10,FALSE)),0)","v":""},{"$f":"IFERROR(IF(Q514=\"\",\"\",VLOOKUP(Q514,[1]Hoja1!$D$2:$AF$4999,29,FALSE)),\"NO EXISTE CUENTA\")","v":""},null,null,{"$f":"+C514","v":""}]
[{"$f":"+S515","v":""},{"$f":"IFERROR(IF(A515=\"\",\"\",VLOOKUP(A515,[1]Hoja1!$B$2:$U$4999,9,FALSE)),0)","v":""},{"$f":"IFERROR(IF(A515=\"\",\"\",VLOOKUP(A515,[1]Hoja1!$B$2:$U$4999,2,FALSE)),\" --- NO EXISTE TRABAJADOR --- \")","v":""},null,null,null,null,null,{"$f":"IFERROR(IF(G515=\"\",\"\",VLOOKUP(G515,JORNADA,2,FALSE)),0)","v":""},{"$f":"IFERROR(IF(H515=\"\",\"\",VLOOKUP(H515,ACTIVIDAD,2,FALSE)),0)","v":""},{"$f":"CONCATENATE(J515,G515)","v":""},{"$f":"IFERROR(IF(A515=\"\",\"\",VLOOKUP(A515,[1]Hoja1!$B$2:$U$4999,18,FALSE)),0)","v":""},{"$f":"IFERROR(IF(A515=\"\",\"\",VLOOKUP(A515,[1]Hoja1!$B$2:$U$4999,19,FALSE)),0)","v":""},{"$f":"IFERROR(IF(W515=\"\",\"\",VLOOKUP(W515,LICENCIA,2,FALSE)),\"\")","v":""},null,{"$f":"IFERROR(IF(O515=\"\",\"\",VLOOKUP(O515,JORNADA!$A$19:$B$20,2,FALSE)),\"\")","v":""},{"$f":"IFERROR(IF(A515=\"\",\"\",VLOOKUP(A515,[1]Hoja1!$B$2:$U$4999,3,FALSE)),0)","v":""},null,{"$f":"IFERROR(IF(R515=\"\",\"\",VLOOKUP(R515,DNI,2,FALSE)),0)","v":""},{"$f":"IF(D515<>\"\",COUNTA(INDIRECT(\"D2:D\"&ROW()-1)),\"\")","v":""},{"$f":"IFERROR(IF(A515=\"\",\"\",VLOOKUP(A515,[1]Hoja1!$B$2:$U$4999,10,FALSE)),0)","v":""},{"$f":"IFERROR(IF(Q515=\"\",\"\",VLOOKUP(Q515,[1]Hoja1!$D$2:$AF$4999,29,FALSE)),\"NO EXISTE CUENTA\")","v":""},null,null,""]
["",{"$f":"IFERROR(IF(A516=\"\",\"\",VLOOKUP(A516,[1]Hoja1!$B$2:$U$4999,9,FALSE)),0)","v":""},{"$f":"IFERROR(IF(A516=\"\",\"\",VLOOKUP(A516,[1]Hoja1!$B$2:$U$4999,2,FALSE)),\" --- NO EXISTE TRABAJADOR --- \")","v":""},null,null,null,null,null,"","","",{"$f":"IFERROR(IF(A516=\"\",\"\",VLOOKUP(A516,[1]Hoja1!$B$2:$U$4999,18,FALSE)),0)","v":""},{"$f":"IFERROR(IF(A516=\"\",\"\",VLOOKUP(A516,[1]Hoja1!$B$2:$U$4999,19,FALSE)),0)","v":""},"",null,{"$f":"IFERROR(IF(O516=\"\",\"\",VLOOKUP(O516,JORNADA!$A$19:$B$20,2,FALSE)),\"\")","v":""},{"$f":"IFERROR(IF(A516=\"\",\"\",VLOOKUP(A516,[1]Hoja1!$B$2:$U$4999,3,FALSE)),0)","v":""},null,"","",{"$f":"IFERROR(IF(A516=\"\",\"\",VLOOKUP(A516,[1]Hoja1!$B$2:$U$4999,10,FALSE)),0)","v":""},{"$f":"IFERROR(IF(Q516=\"\",\"\",VLOOKUP(Q516,[1]Hoja1!$D$2:$AF$4999,29,FALSE)),\"NO EXISTE CUENTA\")","v":""},null,null,""]
["",{"$f":"IFERROR(IF(A517=\"\",\"\",VLOOKUP(A517,[1]Hoja1!$B$2:$U$4999,9,FALSE)),0)","v":""},{"$f":"IFERROR(IF(A517=\"\",\"\",VLOOKUP(A517,[1]Hoja1!$B$2:$U$4999,2,FALSE)),\" --- NO EXISTE TRABAJADOR --- \")","v":""},null,null,null,null,null,"","","",{"$f":"IFERROR(IF(A517=\"\",\"\",VLOOKUP(A517,[1]Hoja1!$B$2:$U$4999,18,FALSE)),0)","v":""},{"$f":"IFERROR(IF(A517=\"\",\"\",VLOOKUP(A517,[1]Hoja1!$B$2:$U$4999,19,FALSE)),0)","v":""},"",null,{"$f":"IFERROR(IF(O517=\"\",\"\",VLOOKUP(O517,JORNADA!$A$19:$B$20,2,FALSE)),\"\")","v":""},{"$f":"IFERROR(IF(A517=\"\",\"\",VLOOKUP(A517,[1]Hoja1!$B$2:$U$4999,3,FALSE)),0)","v":""},null,"","",{"$f":"IFERROR(IF(A517=\"\",\"\",VLOOKUP(A517,[1]Hoja1!$B$2:$U$4999,10,FALSE)),0)","v":""},{"$f":"IFERROR(IF(Q517=\"\",\"\",VLOOKUP(Q517,[1]Hoja1!$D$2:$AF$4999,29,FALSE)),\"NO EXISTE CUENTA\")","v":""},null,null,""]
["",{"$f":"IFERROR(IF(A518=\"\",\"\",VLOOKUP(A518,[1]Hoja1!$B$2:$U$4999,9,FALSE)),0)","v":""},{"$f":"IFERROR(IF(A518=\"\",\"\",VLOOKUP(A518,[1]Hoja1!$B$2:$U$4999,2,FALSE)),\" --- NO EXISTE TRABAJADOR --- \")","v":""},null,null,null,null,null,"","","",{"$f":"IFERROR(IF(A518=\"\",\"\",VLOOKUP(A518,[1]Hoja1!$B$2:$U$4999,18,FALSE)),0)","v":""},{"$f":"IFERROR(IF(A518=\"\",\"\",VLOOKUP(A518,[1]Hoja1!$B$2:$U$4999,19,FALSE)),0)","v":""},"",null,{"$f":"IFERROR(IF(O518=\"\",\"\",VLOOKUP(O518,JORNADA!$A$19:$B$20,2,FALSE)),\"\")","v":""},{"$f":"IFERROR(IF(A518=\"\",\"\",VLOOKUP(A518,[1]Hoja1!$B$2:$U$4999,3,FALSE)),0)","v":""},null,"","",{"$f":"IFERROR(IF(A518=\"\",\"\",VLOOKUP(A518,[1]Hoja1!$B$2:$U$4999,10,FALSE)),0)","v":""},{"$f":"IFERROR(IF(Q518=\"\",\"\",VLOOKUP(Q518,[1]Hoja1!$D$2:$AF$4999,29,FALSE)),\"NO EXISTE CUENTA\")","v":""},null,null,""]
["",{"$f":"IFERROR(IF(A519=\"\",\"\",VLOOKUP(A519,[1]Hoja1!$B$2:$U$4999,9,FALSE)),0)","v":""},{"$f":"IFERROR(IF(A519=\"\",\"\",VLOOKUP(A519,[1]Hoja1!$B$2:$U$4999,2,FALSE)),\" --- NO EXISTE TRABAJADOR --- \")","v":""},null,null,null,null,null,"","","",{"$f":"IFERROR(IF(A519=\"\",\"\",VLOOKUP(A519,[1]Hoja1!$B$2:$U$4999,18,FALSE)),0)","v":""},{"$f":"IFERROR(IF(A519=\"\",\"\",VLOOKUP(A519,[1]Hoja1!$B$2:$U$4999,19,FALSE)),0)","v":""},"",null,{"$f":"IFERROR(IF(O519=\"\",\"\",VLOOKUP(O519,JORNADA!$A$19:$B$20,2,FALSE)),\"\")","v":""},{"$f":"IFERROR(IF(A519=\"\",\"\",VLOOKUP(A519,[1]Hoja1!$B$2:$U$4999,3,FALSE)),0)","v":""},null,"","",{"$f":"IFERROR(IF(A519=\"\",\"\",VLOOKUP(A519,[1]Hoja1!$B$2:$U$4999,10,FALSE)),0)","v":""},{"$f":"IFERROR(IF(Q519=\"\",\"\",VLOOKUP(Q519,[1]Hoja1!$D$2:$AF$4999,29,FALSE)),\"NO EXISTE CUENTA\")","v":""},null,null,""]
["",{"$f":"IFERROR(IF(A520=\"\",\"\",VLOOKUP(A520,[1]Hoja1!$B$2:$U$4999,9,FALSE)),0)","v":""},{"$f":"IFERROR(IF(A520=\"\",\"\",VLOOKUP(A520,[1]Hoja1!$B$2:$U$4999,2,FALSE)),\" --- NO EXISTE TRABAJADOR --- \")","v":""},null,null,null,null,null,"","","",{"$f":"IFERROR(IF(A520=\"\",\"\",VLOOKUP(A520,[1]Hoja1!$B$2:$U$4999,18,FALSE)),0)","v":""},{"$f":"IFERROR(IF(A520=\"\",\"\",VLOOKUP(A520,[1]Hoja1!$B$2:$U$4999,19,FALSE)),0)","v":""},"",null,{"$f":"IFERROR(IF(O520=\"\",\"\",VLOOKUP(O520,JORNADA!$A$19:$B$20,2,FALSE)),\"\")","v":""},{"$f":"IFERROR(IF(A520=\"\",\"\",VLOOKUP(A520,[1]Hoja1!$B$2:$U$4999,3,FALSE)),0)","v":""},null,"","",{"$f":"IFERROR(IF(A520=\"\",\"\",VLOOKUP(A520,[1]Hoja1!$B$2:$U$4999,10,FALSE)),0)","v":""},{"$f":"IFERROR(IF(Q520=\"\",\"\",VLOOKUP(Q520,[1]Hoja1!$D$2:$AF$4999,29,FALSE)),\"NO EXISTE CUENTA\")","v":""},null,null,""]
["",{"$f":"IFERROR(IF(A521=\"\",\"\",VLOOKUP(A521,[1]Hoja1!$B$2:$U$4999,9,FALSE)),0)","v":""},{"$f":"IFERROR(IF(A521=\"\",\"\",VLOOKUP(A521,[1]Hoja1!$B$2:$U$4999,2,FALSE)),\" --- NO EXISTE TRABAJADOR --- \")","v":""},null,null,null,null,null,"","","",{"$f":"IFERROR(IF(A521=\"\",\"\",VLOOKUP(A521,[1]Hoja1!$B$2:$U$4999,18,FALSE)),0)","v":""},{"$f":"IFERROR(IF(A521=\"\",\"\",VLOOKUP(A521,[1]Hoja1!$B$2:$U$4999,19,FALSE)),0)","v":""},"",null,{"$f":"IFERROR(IF(O521=\"\",\"\",VLOOKUP(O521,JORNADA!$A$19:$B$20,2,FALSE)),\"\")","v":""},{"$f":"IFERROR(IF(A521=\"\",\"\",VLOOKUP(A521,[1]Hoja1!$B$2:$U$4999,3,FALSE)),0)","v":""},null,"","",{"$f":"IFERROR(IF(A521=\"\",\"\",VLOOKUP(A521,[1]Hoja1!$B$2:$U$4999,10,FALSE)),0)","v":""},{"$f":"IFERROR(IF(Q521=\"\",\"\",VLOOKUP(Q521,[1]Hoja1!$D$2:$AF$4999,29,FALSE)),\"NO EXISTE CUENTA\")","v":""},null,null,""]
["",{"$f":"IFERROR(IF(A522=\"\",\"\",VLOOKUP(A522,[1]Hoja1!$B$2:$U$4999,9,FALSE)),0)","v":""},{"$f":"IFERROR(IF(A522=\"\",\"\",VLOOKUP(A522,[1]Hoja1!$B$2:$U$4999,2,FALSE)),\" --- NO EXISTE TRABAJADOR --- \")","v":""},null,null,null,null,null,"","","",{"$f":"IFERROR(IF(A522=\"\",\"\",VLOOKUP(A522,[1]Hoja1!$B$2:$U$4999,18,FALSE)),0)","v":""},{"$f":"IFERROR(IF(A522=\"\",\"\",VLOOKUP(A522,[1]Hoja1!$B$2:$U$4999,19,FALSE)),0)","v":""},"",null,{"$f":"IFERROR(IF(O522=\"\",\"\",VLOOKUP(O522,JORNADA!$A$19:$B$20,2,FALSE)),\"\")","v":""},{"$f":"IFERROR(IF(A522=\"\",\"\",VLOOKUP(A522,[1]Hoja1!$B$2:$U$4999,3,FALSE)),0)","v":""},null,"","",{"$f":"IFERROR(IF(A522=\"\",\"\",VLOOKUP(A522,[1]Hoja1!$B$2:$U$4999,10,FALSE)),0)","v":""},{"$f":"IFERROR(IF(Q522=\"\",\"\",VLOOKUP(Q522,[1]Hoja1!$D$2:$AF$4999,29,FALSE)),\"NO EXISTE CUENTA\")","v":""},null,null,""]
["",{"$f":"IFERROR(IF(A523=\"\",\"\",VLOOKUP(A523,[1]Hoja1!$B$2:$U$4999,9,FALSE)),0)","v":""},{"$f":"IFERROR(IF(A523=\"\",\"\",VLOOKUP(A523,[1]Hoja1!$B$2:$U$4999,2,FALSE)),\" --- NO EXISTE TRABAJADOR --- \")","v":""},null,null,null,null,null,"","","",{"$f":"IFERROR(IF(A523=\"\",\"\",VLOOKUP(A523,[1]Hoja1!$B$2:$U$4999,18,FALSE)),0)","v":""},{"$f":"IFERROR(IF(A523=\"\",\"\",VLOOKUP(A523,[1]Hoja1!$B$2:$U$4999,19,FALSE)),0)","v":""},"",null,{"$f":"IFERROR(IF(O523=\"\",\"\",VLOOKUP(O523,JORNADA!$A$19:$B$20,2,FALSE)),\"\")","v":""},{"$f":"IFERROR(IF(A523=\"\",\"\",VLOOKUP(A523,[1]Hoja1!$B$2:$U$4999,3,FALSE)),0)","v":""},null,"","",{"$f":"IFERROR(IF(A523=\"\",\"\",VLOOKUP(A523,[1]Hoja1!$B$2:$U$4999,10,FALSE)),0)","v":""},{"$f":"IFERROR(IF(Q523=\"\",\"\",VLOOKUP(Q523,[1]Hoja1!$D$2:$AF$4999,29,FALSE)),\"NO EXISTE CUENTA\")","v":""},null,null,""]
["",{"$f":"IFERROR(IF(A524=\"\",\"\",VLOOKUP(A524,[1]Hoja1!$B$2:$U$4999,9,FALSE)),0)","v":""},{"$f":"IFERROR(IF(A524=\"\",\"\",VLOOKUP(A524,[1]Hoja1!$B$2:$U$4999,2,FALSE)),\" --- NO EXISTE TRABAJADOR --- \")","v":""},null,null,null,null,null,"","","",{"$f":"IFERROR(IF(A524=\"\",\"\",VLOOKUP(A524,[1]Hoja1!$B$2:$U$4999,18,FALSE)),0)","v":""},{"$f":"IFERROR(IF(A524=\"\",\"\",VLOOKUP(A524,[1]Hoja1!$B$2:$U$4999,19,FALSE)),0)","v":""},"",null,{"$f":"IFERROR(IF(O524=\"\",\"\",VLOOKUP(O524,JORNADA!$A$19:$B$20,2,FALSE)),\"\")","v":""},{"$f":"IFERROR(IF(A524=\"\",\"\",VLOOKUP(A524,[1]Hoja1!$B$2:$U$4999,3,FALSE)),0)","v":""},null,"","",{"$f":"IFERROR(IF(A524=\"\",\"\",VLOOKUP(A524,[1]Hoja1!$B$2:$U$4999,10,FALSE)),0)","v":""},{"$f":"IFERROR(IF(Q524=\"\",\"\",VLOOKUP(Q524,[1]Hoja1!$D$2:$AF$4999,29,FALSE)),\"NO EXISTE CUENTA\")","v":""},null,null,""]
["",{"$f":"IFERROR(IF(A525=\"\",\"\",VLOOKUP(A525,[1]Hoja1!$B$2:$U$4999,9,FALSE)),0)","v":""},{"$f":"IFERROR(IF(A525=\"\",\"\",VLOOKUP(A525,[1]Hoja1!$B$2:$U$4999,2,FALSE)),\" --- NO EXISTE TRABAJADOR --- \")","v":""},null,null,null,null,null,"","","",{"$f":"IFERROR(IF(A525=\"\",\"\",VLOOKUP(A525,[1]Hoja1!$B$2:$U$4999,18,FALSE)),0)","v":""},{"$f":"IFERROR(IF(A525=\"\",\"\",VLOOKUP(A525,[1]Hoja1!$B$2:$U$4999,19,FALSE)),0)","v":""},"",null,{"$f":"IFERROR(IF(O525=\"\",\"\",VLOOKUP(O525,JORNADA!$A$19:$B$20,2,FALSE)),\"\")","v":""},{"$f":"IFERROR(IF(A525=\"\",\"\",VLOOKUP(A525,[1]Hoja1!$B$2:$U$4999,3,FALSE)),0)","v":""},null,"","",{"$f":"IFERROR(IF(A525=\"\",\"\",VLOOKUP(A525,[1]Hoja1!$B$2:$U$4999,10,FALSE)),0)","v":""},{"$f":"IFERROR(IF(Q525=\"\",\"\",VLOOKUP(Q525,[1]Hoja1!$D$2:$AF$4999,29,FALSE)),\"NO EXISTE CUENTA\")","v":""},null,null,""]
["",{"$f":"IFERROR(IF(A526=\"\",\"\",VLOOKUP(A526,[1]Hoja1!$B$2:$U$4999,9,FALSE)),0)","v":""},{"$f":"IFERROR(IF(A526=\"\",\"\",VLOOKUP(A526,[1]Hoja1!$B$2:$U$4999,2,FALSE)),\" --- NO EXISTE TRABAJADOR --- \")","v":""},null,null,null,null,null,"","","",{"$f":"IFERROR(IF(A526=\"\",\"\",VLOOKUP(A526,[1]Hoja1!$B$2:$U$4999,18,FALSE)),0)","v":""},{"$f":"IFERROR(IF(A526=\"\",\"\",VLOOKUP(A526,[1]Hoja1!$B$2:$U$4999,19,FALSE)),0)","v":""},"",null,{"$f":"IFERROR(IF(O526=\"\",\"\",VLOOKUP(O526,JORNADA!$A$19:$B$20,2,FALSE)),\"\")","v":""},{"$f":"IFERROR(IF(A526=\"\",\"\",VLOOKUP(A526,[1]Hoja1!$B$2:$U$4999,3,FALSE)),0)","v":""},null,"","",{"$f":"IFERROR(IF(A526=\"\",\"\",VLOOKUP(A526,[1]Hoja1!$B$2:$U$4999,10,FALSE)),0)","v":""},{"$f":"IFERROR(IF(Q526=\"\",\"\",VLOOKUP(Q526,[1]Hoja1!$D$2:$AF$4999,29,FALSE)),\"NO EXISTE CUENTA\")","v":""},null,null,""]
["",{"$f":"IFERROR(IF(A527=\"\",\"\",VLOOKUP(A527,[1]Hoja1!$B$2:$U$4999,9,FALSE)),0)","v":""},{"$f":"IFERROR(IF(A527=\"\",\"\",VLOOKUP(A527,[1]Hoja1!$B$2:$U$4999,2,FALSE)),\" --- NO EXISTE TRABAJADOR --- \")","v":""},null,null,null,null,null,"","","",{"$f":"IFERROR(IF(A527=\"\",\"\",VLOOKUP(A527,[1]Hoja1!$B$2:$U$4999,18,FALSE)),0)","v":""},{"$f":"IFERROR(IF(A527=\"\",\"\",VLOOKUP(A527,[1]Hoja1!$B$2:$U$4999,19,FALSE)),0)","v":""},"",null,{"$f":"IFERROR(IF(O527=\"\",\"\",VLOOKUP(O527,JORNADA!$A$19:$B$20,2,FALSE)),\"\")","v":""},{"$f":"IFERROR(IF(A527=\"\",\"\",VLOOKUP(A527,[1]Hoja1!$B$2:$U$4999,3,FALSE)),0)","v":""},null,"","",{"$f":"IFERROR(IF(A527=\"\",\"\",VLOOKUP(A527,[1]Hoja1!$B$2:$U$4999,10,FALSE)),0)","v":""},{"$f":"IFERROR(IF(Q527=\"\",\"\",VLOOKUP(Q527,[1]Hoja1!$D$2:$AF$4999,29,FALSE)),\"NO EXISTE CUENTA\")","v":""},null,null,""]
["",{"$f":"IFERROR(IF(A528=\"\",\"\",VLOOKUP(A528,[1]Hoja1!$B$2:$U$4999,9,FALSE)),0)","v":""},{"$f":"IFERROR(IF(A528=\"\",\"\",VLOOKUP(A528,[1]Hoja1!$B$2:$U$4999,2,FALSE)),\" --- NO EXISTE TRABAJADOR --- \")","v":""},null,null,null,null,null,"","","",{"$f":"IFERROR(IF(A528=\"\",\"\",VLOOKUP(A528,[1]Hoja1!$B$2:$U$4999,18,FALSE)),0)","v":""},{"$f":"IFERROR(IF(A528=\"\",\"\",VLOOKUP(A528,[1]Hoja1!$B$2:$U$4999,19,FALSE)),0)","v":""},"",null,{"$f":"IFERROR(IF(O528=\"\",\"\",VLOOKUP(O528,JORNADA!$A$19:$B$20,2,FALSE)),\"\")","v":""},{"$f":"IFERROR(IF(A528=\"\",\"\",VLOOKUP(A528,[1]Hoja1!$B$2:$U$4999,3,FALSE)),0)","v":""},null,"","",{"$f":"IFERROR(IF(A528=\"\",\"\",VLOOKUP(A528,[1]Hoja1!$B$2:$U$4999,10,FALSE)),0)","v":""},{"$f":"IFERROR(IF(Q528=\"\",\"\",VLOOKUP(Q528,[1]Hoja1!$D$2:$AF$4999,29,FALSE)),\"NO EXISTE CUENTA\")","v":""},null,null,""]
["",{"$f":"IFERROR(IF(A529=\"\",\"\",VLOOKUP(A529,[1]Hoja1!$B$2:$U$4999,9,FALSE)),0)","v":""},{"$f":"IFERROR(IF(A529=\"\",\"\",VLOOKUP(A529,[1]Hoja1!$B$2:$U$4999,2,FALSE)),\" --- NO EXISTE TRABAJADOR --- \")","v":""},null,null,null,null,null,"","","",{"$f":"IFERROR(IF(A529=\"\",\"\",VLOOKUP(A529,[1]Hoja1!$B$2:$U$4999,18,FALSE)),0)","v":""},{"$f":"IFERROR(IF(A529=\"\",\"\",VLOOKUP(A529,[1]Hoja1!$B$2:$U$4999,19,FALSE)),0)","v":""},"",null,{"$f":"IFERROR(IF(O529=\"\",\"\",VLOOKUP(O529,JORNADA!$A$19:$B$20,2,FALSE)),\"\")","v":""},{"$f":"IFERROR(IF(A529=\"\",\"\",VLOOKUP(A529,[1]Hoja1!$B$2:$U$4999,3,FALSE)),0)","v":""},null,"","",{"$f":"IFERROR(IF(A529=\"\",\"\",VLOOKUP(A529,[1]Hoja1!$B$2:$U$4999,10,FALSE)),0)","v":""},{"$f":"IFERROR(IF(Q529=\"\",\"\",VLOOKUP(Q529,[1]Hoja1!$D$2:$AF$4999,29,FALSE)),\"NO EXISTE CUENTA\")","v":""},null,null,""]
["",{"$f":"IFERROR(IF(A530=\"\",\"\",VLOOKUP(A530,[1]Hoja1!$B$2:$U$4999,9,FALSE)),0)","v":""},{"$f":"IFERROR(IF(A530=\"\",\"\",VLOOKUP(A530,[1]Hoja1!$B$2:$U$4999,2,FALSE)),\" --- NO EXISTE TRABAJADOR --- \")","v":""},null,null,null,null,null,"","","",{"$f":"IFERROR(IF(A530=\"\",\"\",VLOOKUP(A530,[1]Hoja1!$B$2:$U$4999,18,FALSE)),0)","v":""},{"$f":"IFERROR(IF(A530=\"\",\"\",VLOOKUP(A530,[1]Hoja1!$B$2:$U$4999,19,FALSE)),0)","v":""},"",null,{"$f":"IFERROR(IF(O530=\"\",\"\",VLOOKUP(O530,JORNADA!$A$19:$B$20,2,FALSE)),\"\")","v":""},{"$f":"IFERROR(IF(A530=\"\",\"\",VLOOKUP(A530,[1]Hoja1!$B$2:$U$4999,3,FALSE)),0)","v":""},null,"","",{"$f":"IFERROR(IF(A530=\"\",\"\",VLOOKUP(A530,[1]Hoja1!$B$2:$U$4999,10,FALSE)),0)","v":""},{"$f":"IFERROR(IF(Q530=\"\",\"\",VLOOKUP(Q530,[1]Hoja1!$D$2:$AF$4999,29,FALSE)),\"NO EXISTE CUENTA\")","v":""},null,null,""]
["",{"$f":"IFERROR(IF(A531=\"\",\"\",VLOOKUP(A531,[1]Hoja1!$B$2:$U$4999,9,FALSE)),0)","v":""},{"$f":"IFERROR(IF(A531=\"\",\"\",VLOOKUP(A531,[1]Hoja1!$B$2:$U$4999,2,FALSE)),\" --- NO EXISTE TRABAJADOR --- \")","v":""},null,null,null,null,null,"","","",{"$f":"IFERROR(IF(A531=\"\",\"\",VLOOKUP(A531,[1]Hoja1!$B$2:$U$4999,18,FALSE)),0)","v":""},{"$f":"IFERROR(IF(A531=\"\",\"\",VLOOKUP(A531,[1]Hoja1!$B$2:$U$4999,19,FALSE)),0)","v":""},"",null,{"$f":"IFERROR(IF(O531=\"\",\"\",VLOOKUP(O531,JORNADA!$A$19:$B$20,2,FALSE)),\"\")","v":""},{"$f":"IFERROR(IF(A531=\"\",\"\",VLOOKUP(A531,[1]Hoja1!$B$2:$U$4999,3,FALSE)),0)","v":""},null,"","",{"$f":"IFERROR(IF(A531=\"\",\"\",VLOOKUP(A531,[1]Hoja1!$B$2:$U$4999,10,FALSE)),0)","v":""},{"$f":"IFERROR(IF(Q531=\"\",\"\",VLOOKUP(Q531,[1]Hoja1!$D$2:$AF$4999,29,FALSE)),\"NO EXISTE CUENTA\")","v":""},null,null,""]
["",{"$f":"IFERROR(IF(A532=\"\",\"\",VLOOKUP(A532,[1]Hoja1!$B$2:$U$4999,9,FALSE)),0)","v":""},{"$f":"IFERROR(IF(A532=\"\",\"\",VLOOKUP(A532,[1]Hoja1!$B$2:$U$4999,2,FALSE)),\" --- NO EXISTE TRABAJADOR --- \")","v":""},null,null,null,null,null,"","","",{"$f":"IFERROR(IF(A532=\"\",\"\",VLOOKUP(A532,[1]Hoja1!$B$2:$U$4999,18,FALSE)),0)","v":""},{"$f":"IFERROR(IF(A532=\"\",\"\",VLOOKUP(A532,[1]Hoja1!$B$2:$U$4999,19,FALSE)),0)","v":""},"",null,{"$f":"IFERROR(IF(O532=\"\",\"\",VLOOKUP(O532,JORNADA!$A$19:$B$20,2,FALSE)),\"\")","v":""},{"$f":"IFERROR(IF(A532=\"\",\"\",VLOOKUP(A532,[1]Hoja1!$B$2:$U$4999,3,FALSE)),0)","v":""},null,"","",{"$f":"IFERROR(IF(A532=\"\",\"\",VLOOKUP(A532,[1]Hoja1!$B$2:$U$4999,10,FALSE)),0)","v":""},{"$f":"IFERROR(IF(Q532=\"\",\"\",VLOOKUP(Q532,[1]Hoja1!$D$2:$AF$4999,29,FALSE)),\"NO EXISTE CUENTA\")","v":""},null,null,""]
["",{"$f":"IFERROR(IF(A533=\"\",\"\",VLOOKUP(A533,[1]Hoja1!$B$2:$U$4999,9,FALSE)),0)","v":""},{"$f":"IFERROR(IF(A533=\"\",\"\",VLOOKUP(A533,[1]Hoja1!$B$2:$U$4999,2,FALSE)),\" --- NO EXISTE TRABAJADOR --- \")","v":""},null,null,null,null,null,"","","",{"$f":"IFERROR(IF(A533=\"\",\"\",VLOOKUP(A533,[1]Hoja1!$B$2:$U$4999,18,FALSE)),0)","v":""},{"$f":"IFERROR(IF(A533=\"\",\"\",VLOOKUP(A533,[1]Hoja1!$B$2:$U$4999,19,FALSE)),0)","v":""},"",null,{"$f":"IFERROR(IF(O533=\"\",\"\",VLOOKUP(O533,JORNADA!$A$19:$B$20,2,FALSE)),\"\")","v":""},{"$f":"IFERROR(IF(A533=\"\",\"\",VLOOKUP(A533,[1]Hoja1!$B$2:$U$4999,3,FALSE)),0)","v":""},null,"","",{"$f":"IFERROR(IF(A533=\"\",\"\",VLOOKUP(A533,[1]Hoja1!$B$2:$U$4999,10,FALSE)),0)","v":""},{"$f":"IFERROR(IF(Q533=\"\",\"\",VLOOKUP(Q533,[1]Hoja1!$D$2:$AF$4999,29,FALSE)),\"NO EXISTE CUENTA\")","v":""},null,null,""]
["",{"$f":"IFERROR(IF(A534=\"\",\"\",VLOOKUP(A534,[1]Hoja1!$B$2:$U$4999,9,FALSE)),0)","v":""},{"$f":"IFERROR(IF(A534=\"\",\"\",VLOOKUP(A534,[1]Hoja1!$B$2:$U$4999,2,FALSE)),\" --- NO EXISTE TRABAJADOR --- \")","v":""},null,null,null,null,null,"","","",{"$f":"IFERROR(IF(A534=\"\",\"\",VLOOKUP(A534,[1]Hoja1!$B$2:$U$4999,18,FALSE)),0)","v":""},{"$f":"IFERROR(IF(A534=\"\",\"\",VLOOKUP(A534,[1]Hoja1!$B$2:$U$4999,19,FALSE)),0)","v":""},"",null,{"$f":"IFERROR(IF(O534=\"\",\"\",VLOOKUP(O534,JORNADA!$A$19:$B$20,2,FALSE)),\"\")","v":""},{"$f":"IFERROR(IF(A534=\"\",\"\",VLOOKUP(A534,[1]Hoja1!$B$2:$U$4999,3,FALSE)),0)","v":""},null,"","",{"$f":"IFERROR(IF(A534=\"\",\"\",VLOOKUP(A534,[1]Hoja1!$B$2:$U$4999,10,FALSE)),0)","v":""},{"$f":"IFERROR(IF(Q534=\"\",\"\",VLOOKUP(Q534,[1]Hoja1!$D$2:$AF$4999,29,FALSE)),\"NO EXISTE CUENTA\")","v":""},null,null,""]
["",{"$f":"IFERROR(IF(A535=\"\",\"\",VLOOKUP(A535,[1]Hoja1!$B$2:$U$4999,9,FALSE)),0)","v":""},{"$f":"IFERROR(IF(A535=\"\",\"\",VLOOKUP(A535,[1]Hoja1!$B$2:$U$4999,2,FALSE)),\" --- NO EXISTE TRABAJADOR --- \")","v":""},null,null,null,null,null,"","","",{"$f":"IFERROR(IF(A535=\"\",\"\",VLOOKUP(A535,[1]Hoja1!$B$2:$U$4999,18,FALSE)),0)","v":""},{"$f":"IFERROR(IF(A535=\"\",\"\",VLOOKUP(A535,[1]Hoja1!$B$2:$U$4999,19,FALSE)),0)","v":""},"",null,{"$f":"IFERROR(IF(O535=\"\",\"\",VLOOKUP(O535,JORNADA!$A$19:$B$20,2,FALSE)),\"\")","v":""},{"$f":"IFERROR(IF(A535=\"\",\"\",VLOOKUP(A535,[1]Hoja1!$B$2:$U$4999,3,FALSE)),0)","v":""},null,"","",{"$f":"IFERROR(IF(A535=\"\",\"\",VLOOKUP(A535,[1]Hoja1!$B$2:$U$4999,10,FALSE)),0)","v":""},{"$f":"IFERROR(IF(Q535=\"\",\"\",VLOOKUP(Q535,[1]Hoja1!$D$2:$AF$4999,29,FALSE)),\"NO EXISTE CUENTA\")","v":""},null,null,""]
["",{"$f":"IFERROR(IF(A536=\"\",\"\",VLOOKUP(A536,[1]Hoja1!$B$2:$U$4999,9,FALSE)),0)","v":""},{"$f":"IFERROR(IF(A536=\"\",\"\",VLOOKUP(A536,[1]Hoja1!$B$2:$U$4999,2,FALSE)),\" --- NO EXISTE TRABAJADOR --- \")","v":""},null,null,null,null,null,"","","",{"$f":"IFERROR(IF(A536=\"\",\"\",VLOOKUP(A536,[1]Hoja1!$B$2:$U$4999,18,FALSE)),0)","v":""},{"$f":"IFERROR(IF(A536=\"\",\"\",VLOOKUP(A536,[1]Hoja1!$B$2:$U$4999,19,FALSE)),0)","v":""},"",null,{"$f":"IFERROR(IF(O536=\"\",\"\",VLOOKUP(O536,JORNADA!$A$19:$B$20,2,FALSE)),\"\")","v":""},{"$f":"IFERROR(IF(A536=\"\",\"\",VLOOKUP(A536,[1]Hoja1!$B$2:$U$4999,3,FALSE)),0)","v":""},null,"","",{"$f":"IFERROR(IF(A536=\"\",\"\",VLOOKUP(A536,[1]Hoja1!$B$2:$U$4999,10,FALSE)),0)","v":""},{"$f":"IFERROR(IF(Q536=\"\",\"\",VLOOKUP(Q536,[1]Hoja1!$D$2:$AF$4999,29,FALSE)),\"NO EXISTE CUENTA\")","v":""},null,null,""]
["",{"$f":"IFERROR(IF(A537=\"\",\"\",VLOOKUP(A537,[1]Hoja1!$B$2:$U$4999,9,FALSE)),0)","v":""},{"$f":"IFERROR(IF(A537=\"\",\"\",VLOOKUP(A537,[1]Hoja1!$B$2:$U$4999,2,FALSE)),\" --- NO EXISTE TRABAJADOR --- \")","v":""},null,null,null,null,null,"","","",{"$f":"IFERROR(IF(A537=\"\",\"\",VLOOKUP(A537,[1]Hoja1!$B$2:$U$4999,18,FALSE)),0)","v":""},{"$f":"IFERROR(IF(A537=\"\",\"\",VLOOKUP(A537,[1]Hoja1!$B$2:$U$4999,19,FALSE)),0)","v":""},"",null,{"$f":"IFERROR(IF(O537=\"\",\"\",VLOOKUP(O537,JORNADA!$A$19:$B$20,2,FALSE)),\"\")","v":""},{"$f":"IFERROR(IF(A537=\"\",\"\",VLOOKUP(A537,[1]Hoja1!$B$2:$U$4999,3,FALSE)),0)","v":""},null,"","",{"$f":"IFERROR(IF(A537=\"\",\"\",VLOOKUP(A537,[1]Hoja1!$B$2:$U$4999,10,FALSE)),0)","v":""},{"$f":"IFERROR(IF(Q537=\"\",\"\",VLOOKUP(Q537,[1]Hoja1!$D$2:$AF$4999,29,FALSE)),\"NO EXISTE CUENTA\")","v":""},null,null,""]
["",{"$f":"IFERROR(IF(A538=\"\",\"\",VLOOKUP(A538,[1]Hoja1!$B$2:$U$4999,9,FALSE)),0)","v":""},{"$f":"IFERROR(IF(A538=\"\",\"\",VLOOKUP(A538,[1]Hoja1!$B$2:$U$4999,2,FALSE)),\" --- NO EXISTE TRABAJADOR --- \")","v":""},null,null,null,null,null,"","","",{"$f":"IFERROR(IF(A538=\"\",\"\",VLOOKUP(A538,[1]Hoja1!$B$2:$U$4999,18,FALSE)),0)","v":""},{"$f":"IFERROR(IF(A538=\"\",\"\",VLOOKUP(A538,[1]Hoja1!$B$2:$U$4999,19,FALSE)),0)","v":""},"",null,{"$f":"IFERROR(IF(O538=\"\",\"\",VLOOKUP(O538,JORNADA!$A$19:$B$20,2,FALSE)),\"\")","v":""},{"$f":"IFERROR(IF(A538=\"\",\"\",VLOOKUP(A538,[1]Hoja1!$B$2:$U$4999,3,FALSE)),0)","v":""},null,"","",{"$f":"IFERROR(IF(A538=\"\",\"\",VLOOKUP(A538,[1]Hoja1!$B$2:$U$4999,10,FALSE)),0)","v":""},{"$f":"IFERROR(IF(Q538=\"\",\"\",VLOOKUP(Q538,[1]Hoja1!$D$2:$AF$4999,29,FALSE)),\"NO EXISTE CUENTA\")","v":""},null,null,""]
["",{"$f":"IFERROR(IF(A539=\"\",\"\",VLOOKUP(A539,[1]Hoja1!$B$2:$U$4999,9,FALSE)),0)","v":""},{"$f":"IFERROR(IF(A539=\"\",\"\",VLOOKUP(A539,[1]Hoja1!$B$2:$U$4999,2,FALSE)),\" --- NO EXISTE TRABAJADOR --- \")","v":""},null,null,null,null,null,"","","",{"$f":"IFERROR(IF(A539=\"\",\"\",VLOOKUP(A539,[1]Hoja1!$B$2:$U$4999,18,FALSE)),0)","v":""},{"$f":"IFERROR(IF(A539=\"\",\"\",VLOOKUP(A539,[1]Hoja1!$B$2:$U$4999,19,FALSE)),0)","v":""},"",null,{"$f":"IFERROR(IF(O539=\"\",\"\",VLOOKUP(O539,JORNADA!$A$19:$B$20,2,FALSE)),\"\")","v":""},{"$f":"IFERROR(IF(A539=\"\",\"\",VLOOKUP(A539,[1]Hoja1!$B$2:$U$4999,3,FALSE)),0)","v":""},null,"","",{"$f":"IFERROR(IF(A539=\"\",\"\",VLOOKUP(A539,[1]Hoja1!$B$2:$U$4999,10,FALSE)),0)","v":""},{"$f":"IFERROR(IF(Q539=\"\",\"\",VLOOKUP(Q539,[1]Hoja1!$D$2:$AF$4999,29,FALSE)),\"NO EXISTE CUENTA\")","v":""},null,null,""]
["",{"$f":"IFERROR(IF(A540=\"\",\"\",VLOOKUP(A540,[1]Hoja1!$B$2:$U$4999,9,FALSE)),0)","v":""},{"$f":"IFERROR(IF(A540=\"\",\"\",VLOOKUP(A540,[1]Hoja1!$B$2:$U$4999,2,FALSE)),\" --- NO EXISTE TRABAJADOR --- \")","v":""},null,null,null,null,null,"","","",{"$f":"IFERROR(IF(A540=\"\",\"\",VLOOKUP(A540,[1]Hoja1!$B$2:$U$4999,18,FALSE)),0)","v":""},{"$f":"IFERROR(IF(A540=\"\",\"\",VLOOKUP(A540,[1]Hoja1!$B$2:$U$4999,19,FALSE)),0)","v":""},"",null,{"$f":"IFERROR(IF(O540=\"\",\"\",VLOOKUP(O540,JORNADA!$A$19:$B$20,2,FALSE)),\"\")","v":""},{"$f":"IFERROR(IF(A540=\"\",\"\",VLOOKUP(A540,[1]Hoja1!$B$2:$U$4999,3,FALSE)),0)","v":""},null,"","",{"$f":"IFERROR(IF(A540=\"\",\"\",VLOOKUP(A540,[1]Hoja1!$B$2:$U$4999,10,FALSE)),0)","v":""},{"$f":"IFERROR(IF(Q540=\"\",\"\",VLOOKUP(Q540,[1]Hoja1!$D$2:$AF$4999,29,FALSE)),\"NO EXISTE CUENTA\")","v":""},null,null,""]
["",{"$f":"IFERROR(IF(A541=\"\",\"\",VLOOKUP(A541,[1]Hoja1!$B$2:$U$4999,9,FALSE)),0)","v":""},{"$f":"IFERROR(IF(A541=\"\",\"\",VLOOKUP(A541,[1]Hoja1!$B$2:$U$4999,2,FALSE)),\" --- NO EXISTE TRABAJADOR --- \")","v":""},null,null,null,null,null,"","","",{"$f":"IFERROR(IF(A541=\"\",\"\",VLOOKUP(A541,[1]Hoja1!$B$2:$U$4999,18,FALSE)),0)","v":""},{"$f":"IFERROR(IF(A541=\"\",\"\",VLOOKUP(A541,[1]Hoja1!$B$2:$U$4999,19,FALSE)),0)","v":""},"",null,{"$f":"IFERROR(IF(O541=\"\",\"\",VLOOKUP(O541,JORNADA!$A$19:$B$20,2,FALSE)),\"\")","v":""},{"$f":"IFERROR(IF(A541=\"\",\"\",VLOOKUP(A541,[1]Hoja1!$B$2:$U$4999,3,FALSE)),0)","v":""},null,"","",{"$f":"IFERROR(IF(A541=\"\",\"\",VLOOKUP(A541,[1]Hoja1!$B$2:$U$4999,10,FALSE)),0)","v":""},{"$f":"IFERROR(IF(Q541=\"\",\"\",VLOOKUP(Q541,[1]Hoja1!$D$2:$AF$4999,29,FALSE)),\"NO EXISTE CUENTA\")","v":""},null,null,""]
["",{"$f":"IFERROR(IF(A542=\"\",\"\",VLOOKUP(A542,[1]Hoja1!$B$2:$U$4999,9,FALSE)),0)","v":""},{"$f":"IFERROR(IF(A542=\"\",\"\",VLOOKUP(A542,[1]Hoja1!$B$2:$U$4999,2,FALSE)),\" --- NO EXISTE TRABAJADOR --- \")","v":""},null,null,null,null,null,"","","",{"$f":"IFERROR(IF(A542=\"\",\"\",VLOOKUP(A542,[1]Hoja1!$B$2:$U$4999,18,FALSE)),0)","v":""},{"$f":"IFERROR(IF(A542=\"\",\"\",VLOOKUP(A542,[1]Hoja1!$B$2:$U$4999,19,FALSE)),0)","v":""},"",null,{"$f":"IFERROR(IF(O542=\"\",\"\",VLOOKUP(O542,JORNADA!$A$19:$B$20,2,FALSE)),\"\")","v":""},{"$f":"IFERROR(IF(A542=\"\",\"\",VLOOKUP(A542,[1]Hoja1!$B$2:$U$4999,3,FALSE)),0)","v":""},null,"","",{"$f":"IFERROR(IF(A542=\"\",\"\",VLOOKUP(A542,[1]Hoja1!$B$2:$U$4999,10,FALSE)),0)","v":""},{"$f":"IFERROR(IF(Q542=\"\",\"\",VLOOKUP(Q542,[1]Hoja1!$D$2:$AF$4999,29,FALSE)),\"NO EXISTE CUENTA\")","v":""},null,null,""]
["",{"$f":"IFERROR(IF(A543=\"\",\"\",VLOOKUP(A543,[1]Hoja1!$B$2:$U$4999,9,FALSE)),0)","v":""},{"$f":"IFERROR(IF(A543=\"\",\"\",VLOOKUP(A543,[1]Hoja1!$B$2:$U$4999,2,FALSE)),\" --- NO EXISTE TRABAJADOR --- \")","v":""},null,null,null,null,null,"","","",{"$f":"IFERROR(IF(A543=\"\",\"\",VLOOKUP(A543,[1]Hoja1!$B$2:$U$4999,18,FALSE)),0)","v":""},{"$f":"IFERROR(IF(A543=\"\",\"\",VLOOKUP(A543,[1]Hoja1!$B$2:$U$4999,19,FALSE)),0)","v":""},"",null,{"$f":"IFERROR(IF(O543=\"\",\"\",VLOOKUP(O543,JORNADA!$A$19:$B$20,2,FALSE)),\"\")","v":""},{"$f":"IFERROR(IF(A543=\"\",\"\",VLOOKUP(A543,[1]Hoja1!$B$2:$U$4999,3,FALSE)),0)","v":""},null,"","",{"$f":"IFERROR(IF(A543=\"\",\"\",VLOOKUP(A543,[1]Hoja1!$B$2:$U$4999,10,FALSE)),0)","v":""},{"$f":"IFERROR(IF(Q543=\"\",\"\",VLOOKUP(Q543,[1]Hoja1!$D$2:$AF$4999,29,FALSE)),\"NO EXISTE CUENTA\")","v":""},null,null,""]
["",{"$f":"IFERROR(IF(A544=\"\",\"\",VLOOKUP(A544,[1]Hoja1!$B$2:$U$4999,9,FALSE)),0)","v":""},{"$f":"IFERROR(IF(A544=\"\",\"\",VLOOKUP(A544,[1]Hoja1!$B$2:$U$4999,2,FALSE)),\" --- NO EXISTE TRABAJADOR --- \")","v":""},null,null,null,null,null,"","","",{"$f":"IFERROR(IF(A544=\"\",\"\",VLOOKUP(A544,[1]Hoja1!$B$2:$U$4999,18,FALSE)),0)","v":""},{"$f":"IFERROR(IF(A544=\"\",\"\",VLOOKUP(A544,[1]Hoja1!$B$2:$U$4999,19,FALSE)),0)","v":""},"",null,{"$f":"IFERROR(IF(O544=\"\",\"\",VLOOKUP(O544,JORNADA!$A$19:$B$20,2,FALSE)),\"\")","v":""},{"$f":"IFERROR(IF(A544=\"\",\"\",VLOOKUP(A544,[1]Hoja1!$B$2:$U$4999,3,FALSE)),0)","v":""},null,"","",{"$f":"IFERROR(IF(A544=\"\",\"\",VLOOKUP(A544,[1]Hoja1!$B$2:$U$4999,10,FALSE)),0)","v":""},{"$f":"IFERROR(IF(Q544=\"\",\"\",VLOOKUP(Q544,[1]Hoja1!$D$2:$AF$4999,29,FALSE)),\"NO EXISTE CUENTA\")","v":""},null,null,""]
["",{"$f":"IFERROR(IF(A545=\"\",\"\",VLOOKUP(A545,[1]Hoja1!$B$2:$U$4999,9,FALSE)),0)","v":""},{"$f":"IFERROR(IF(A545=\"\",\"\",VLOOKUP(A545,[1]Hoja1!$B$2:$U$4999,2,FALSE)),\" --- NO EXISTE TRABAJADOR --- \")","v":""},null,null,null,null,null,"","","",{"$f":"IFERROR(IF(A545=\"\",\"\",VLOOKUP(A545,[1]Hoja1!$B$2:$U$4999,18,FALSE)),0)","v":""},{"$f":"IFERROR(IF(A545=\"\",\"\",VLOOKUP(A545,[1]Hoja1!$B$2:$U$4999,19,FALSE)),0)","v":""},"",null,{"$f":"IFERROR(IF(O545=\"\",\"\",VLOOKUP(O545,JORNADA!$A$19:$B$20,2,FALSE)),\"\")","v":""},{"$f":"IFERROR(IF(A545=\"\",\"\",VLOOKUP(A545,[1]Hoja1!$B$2:$U$4999,3,FALSE)),0)","v":""},null,"","",{"$f":"IFERROR(IF(A545=\"\",\"\",VLOOKUP(A545,[1]Hoja1!$B$2:$U$4999,10,FALSE)),0)","v":""},{"$f":"IFERROR(IF(Q545=\"\",\"\",VLOOKUP(Q545,[1]Hoja1!$D$2:$AF$4999,29,FALSE)),\"NO EXISTE CUENTA\")","v":""},null,null,""]
["",{"$f":"IFERROR(IF(A546=\"\",\"\",VLOOKUP(A546,[1]Hoja1!$B$2:$U$4999,9,FALSE)),0)","v":""},{"$f":"IFERROR(IF(A546=\"\",\"\",VLOOKUP(A546,[1]Hoja1!$B$2:$U$4999,2,FALSE)),\" --- NO EXISTE TRABAJADOR --- \")","v":""},null,null,null,null,null,"","","",{"$f":"IFERROR(IF(A546=\"\",\"\",VLOOKUP(A546,[1]Hoja1!$B$2:$U$4999,18,FALSE)),0)","v":""},{"$f":"IFERROR(IF(A546=\"\",\"\",VLOOKUP(A546,[1]Hoja1!$B$2:$U$4999,19,FALSE)),0)","v":""},"",null,{"$f":"IFERROR(IF(O546=\"\",\"\",VLOOKUP(O546,JORNADA!$A$19:$B$20,2,FALSE)),\"\")","v":""},{"$f":"IFERROR(IF(A546=\"\",\"\",VLOOKUP(A546,[1]Hoja1!$B$2:$U$4999,3,FALSE)),0)","v":""},null,"","",{"$f":"IFERROR(IF(A546=\"\",\"\",VLOOKUP(A546,[1]Hoja1!$B$2:$U$4999,10,FALSE)),0)","v":""},{"$f":"IFERROR(IF(Q546=\"\",\"\",VLOOKUP(Q546,[1]Hoja1!$D$2:$AF$4999,29,FALSE)),\"NO EXISTE CUENTA\")","v":""},null,null,""]
["",{"$f":"IFERROR(IF(A547=\"\",\"\",VLOOKUP(A547,[1]Hoja1!$B$2:$U$4999,9,FALSE)),0)","v":""},{"$f":"IFERROR(IF(A547=\"\",\"\",VLOOKUP(A547,[1]Hoja1!$B$2:$U$4999,2,FALSE)),\" --- NO EXISTE TRABAJADOR --- \")","v":""},null,null,null,null,null,"","","",{"$f":"IFERROR(IF(A547=\"\",\"\",VLOOKUP(A547,[1]Hoja1!$B$2:$U$4999,18,FALSE)),0)","v":""},{"$f":"IFERROR(IF(A547=\"\",\"\",VLOOKUP(A547,[1]Hoja1!$B$2:$U$4999,19,FALSE)),0)","v":""},"",null,{"$f":"IFERROR(IF(O547=\"\",\"\",VLOOKUP(O547,JORNADA!$A$19:$B$20,2,FALSE)),\"\")","v":""},{"$f":"IFERROR(IF(A547=\"\",\"\",VLOOKUP(A547,[1]Hoja1!$B$2:$U$4999,3,FALSE)),0)","v":""},null,"","",{"$f":"IFERROR(IF(A547=\"\",\"\",VLOOKUP(A547,[1]Hoja1!$B$2:$U$4999,10,FALSE)),0)","v":""},{"$f":"IFERROR(IF(Q547=\"\",\"\",VLOOKUP(Q547,[1]Hoja1!$D$2:$AF$4999,29,FALSE)),\"NO EXISTE CUENTA\")","v":""},null,null,""]
["",{"$f":"IFERROR(IF(A548=\"\",\"\",VLOOKUP(A548,[1]Hoja1!$B$2:$U$4999,9,FALSE)),0)","v":""},{"$f":"IFERROR(IF(A548=\"\",\"\",VLOOKUP(A548,[1]Hoja1!$B$2:$U$4999,2,FALSE)),\" --- NO EXISTE TRABAJADOR --- \")","v":""},null,null,null,null,null,"","","",{"$f":"IFERROR(IF(A548=\"\",\"\",VLOOKUP(A548,[1]Hoja1!$B$2:$U$4999,18,FALSE)),0)","v":""},{"$f":"IFERROR(IF(A548=\"\",\"\",VLOOKUP(A548,[1]Hoja1!$B$2:$U$4999,19,FALSE)),0)","v":""},"",null,{"$f":"IFERROR(IF(O548=\"\",\"\",VLOOKUP(O548,JORNADA!$A$19:$B$20,2,FALSE)),\"\")","v":""},{"$f":"IFERROR(IF(A548=\"\",\"\",VLOOKUP(A548,[1]Hoja1!$B$2:$U$4999,3,FALSE)),0)","v":""},null,"","",{"$f":"IFERROR(IF(A548=\"\",\"\",VLOOKUP(A548,[1]Hoja1!$B$2:$U$4999,10,FALSE)),0)","v":""},{"$f":"IFERROR(IF(Q548=\"\",\"\",VLOOKUP(Q548,[1]Hoja1!$D$2:$AF$4999,29,FALSE)),\"NO EXISTE CUENTA\")","v":""},null,null,""]
["",{"$f":"IFERROR(IF(A549=\"\",\"\",VLOOKUP(A549,[1]Hoja1!$B$2:$U$4999,9,FALSE)),0)","v":""},{"$f":"IFERROR(IF(A549=\"\",\"\",VLOOKUP(A549,[1]Hoja1!$B$2:$U$4999,2,FALSE)),\" --- NO EXISTE TRABAJADOR --- \")","v":""},null,null,null,null,null,"","","",{"$f":"IFERROR(IF(A549=\"\",\"\",VLOOKUP(A549,[1]Hoja1!$B$2:$U$4999,18,FALSE)),0)","v":""},{"$f":"IFERROR(IF(A549=\"\",\"\",VLOOKUP(A549,[1]Hoja1!$B$2:$U$4999,19,FALSE)),0)","v":""},"",null,{"$f":"IFERROR(IF(O549=\"\",\"\",VLOOKUP(O549,JORNADA!$A$19:$B$20,2,FALSE)),\"\")","v":""},{"$f":"IFERROR(IF(A549=\"\",\"\",VLOOKUP(A549,[1]Hoja1!$B$2:$U$4999,3,FALSE)),0)","v":""},null,"","",{"$f":"IFERROR(IF(A549=\"\",\"\",VLOOKUP(A549,[1]Hoja1!$B$2:$U$4999,10,FALSE)),0)","v":""},{"$f":"IFERROR(IF(Q549=\"\",\"\",VLOOKUP(Q549,[1]Hoja1!$D$2:$AF$4999,29,FALSE)),\"NO EXISTE CUENTA\")","v":""},null,null,""]
["",{"$f":"IFERROR(IF(A550=\"\",\"\",VLOOKUP(A550,[1]Hoja1!$B$2:$U$4999,9,FALSE)),0)","v":""},{"$f":"IFERROR(IF(A550=\"\",\"\",VLOOKUP(A550,[1]Hoja1!$B$2:$U$4999,2,FALSE)),\" --- NO EXISTE TRABAJADOR --- \")","v":""},null,null,null,null,null,"","","",{"$f":"IFERROR(IF(A550=\"\",\"\",VLOOKUP(A550,[1]Hoja1!$B$2:$U$4999,18,FALSE)),0)","v":""},{"$f":"IFERROR(IF(A550=\"\",\"\",VLOOKUP(A550,[1]Hoja1!$B$2:$U$4999,19,FALSE)),0)","v":""},"",null,{"$f":"IFERROR(IF(O550=\"\",\"\",VLOOKUP(O550,JORNADA!$A$19:$B$20,2,FALSE)),\"\")","v":""},{"$f":"IFERROR(IF(A550=\"\",\"\",VLOOKUP(A550,[1]Hoja1!$B$2:$U$4999,3,FALSE)),0)","v":""},null,"","",{"$f":"IFERROR(IF(A550=\"\",\"\",VLOOKUP(A550,[1]Hoja1!$B$2:$U$4999,10,FALSE)),0)","v":""},{"$f":"IFERROR(IF(Q550=\"\",\"\",VLOOKUP(Q550,[1]Hoja1!$D$2:$AF$4999,29,FALSE)),\"NO EXISTE CUENTA\")","v":""},null,null,""]
["",{"$f":"IFERROR(IF(A551=\"\",\"\",VLOOKUP(A551,[1]Hoja1!$B$2:$U$4999,9,FALSE)),0)","v":""},{"$f":"IFERROR(IF(A551=\"\",\"\",VLOOKUP(A551,[1]Hoja1!$B$2:$U$4999,2,FALSE)),\" --- NO EXISTE TRABAJADOR --- \")","v":""},null,null,null,null,null,"","","",{"$f":"IFERROR(IF(A551=\"\",\"\",VLOOKUP(A551,[1]Hoja1!$B$2:$U$4999,18,FALSE)),0)","v":""},{"$f":"IFERROR(IF(A551=\"\",\"\",VLOOKUP(A551,[1]Hoja1!$B$2:$U$4999,19,FALSE)),0)","v":""},"",null,{"$f":"IFERROR(IF(O551=\"\",\"\",VLOOKUP(O551,JORNADA!$A$19:$B$20,2,FALSE)),\"\")","v":""},{"$f":"IFERROR(IF(A551=\"\",\"\",VLOOKUP(A551,[1]Hoja1!$B$2:$U$4999,3,FALSE)),0)","v":""},null,"","",{"$f":"IFERROR(IF(A551=\"\",\"\",VLOOKUP(A551,[1]Hoja1!$B$2:$U$4999,10,FALSE)),0)","v":""},{"$f":"IFERROR(IF(Q551=\"\",\"\",VLOOKUP(Q551,[1]Hoja1!$D$2:$AF$4999,29,FALSE)),\"NO EXISTE CUENTA\")","v":""},null,null,""]
["",{"$f":"IFERROR(IF(A552=\"\",\"\",VLOOKUP(A552,[1]Hoja1!$B$2:$U$4999,9,FALSE)),0)","v":""},{"$f":"IFERROR(IF(A552=\"\",\"\",VLOOKUP(A552,[1]Hoja1!$B$2:$U$4999,2,FALSE)),\" --- NO EXISTE TRABAJADOR --- \")","v":""},null,null,null,null,null,"","","",{"$f":"IFERROR(IF(A552=\"\",\"\",VLOOKUP(A552,[1]Hoja1!$B$2:$U$4999,18,FALSE)),0)","v":""},{"$f":"IFERROR(IF(A552=\"\",\"\",VLOOKUP(A552,[1]Hoja1!$B$2:$U$4999,19,FALSE)),0)","v":""},"",null,{"$f":"IFERROR(IF(O552=\"\",\"\",VLOOKUP(O552,JORNADA!$A$19:$B$20,2,FALSE)),\"\")","v":""},{"$f":"IFERROR(IF(A552=\"\",\"\",VLOOKUP(A552,[1]Hoja1!$B$2:$U$4999,3,FALSE)),0)","v":""},null,"","",{"$f":"IFERROR(IF(A552=\"\",\"\",VLOOKUP(A552,[1]Hoja1!$B$2:$U$4999,10,FALSE)),0)","v":""},{"$f":"IFERROR(IF(Q552=\"\",\"\",VLOOKUP(Q552,[1]Hoja1!$D$2:$AF$4999,29,FALSE)),\"NO EXISTE CUENTA\")","v":""},null,null,""]
["",{"$f":"IFERROR(IF(A553=\"\",\"\",VLOOKUP(A553,[1]Hoja1!$B$2:$U$4999,9,FALSE)),0)","v":""},{"$f":"IFERROR(IF(A553=\"\",\"\",VLOOKUP(A553,[1]Hoja1!$B$2:$U$4999,2,FALSE)),\" --- NO EXISTE TRABAJADOR --- \")","v":""},null,null,null,null,null,"","","",{"$f":"IFERROR(IF(A553=\"\",\"\",VLOOKUP(A553,[1]Hoja1!$B$2:$U$4999,18,FALSE)),0)","v":""},{"$f":"IFERROR(IF(A553=\"\",\"\",VLOOKUP(A553,[1]Hoja1!$B$2:$U$4999,19,FALSE)),0)","v":""},"",null,{"$f":"IFERROR(IF(O553=\"\",\"\",VLOOKUP(O553,JORNADA!$A$19:$B$20,2,FALSE)),\"\")","v":""},{"$f":"IFERROR(IF(A553=\"\",\"\",VLOOKUP(A553,[1]Hoja1!$B$2:$U$4999,3,FALSE)),0)","v":""},null,"","",{"$f":"IFERROR(IF(A553=\"\",\"\",VLOOKUP(A553,[1]Hoja1!$B$2:$U$4999,10,FALSE)),0)","v":""},{"$f":"IFERROR(IF(Q553=\"\",\"\",VLOOKUP(Q553,[1]Hoja1!$D$2:$AF$4999,29,FALSE)),\"NO EXISTE CUENTA\")","v":""},null,null,""]
["",{"$f":"IFERROR(IF(A554=\"\",\"\",VLOOKUP(A554,[1]Hoja1!$B$2:$U$4999,9,FALSE)),0)","v":""},{"$f":"IFERROR(IF(A554=\"\",\"\",VLOOKUP(A554,[1]Hoja1!$B$2:$U$4999,2,FALSE)),\" --- NO EXISTE TRABAJADOR --- \")","v":""},null,null,null,null,null,"","","",{"$f":"IFERROR(IF(A554=\"\",\"\",VLOOKUP(A554,[1]Hoja1!$B$2:$U$4999,18,FALSE)),0)","v":""},{"$f":"IFERROR(IF(A554=\"\",\"\",VLOOKUP(A554,[1]Hoja1!$B$2:$U$4999,19,FALSE)),0)","v":""},"",null,{"$f":"IFERROR(IF(O554=\"\",\"\",VLOOKUP(O554,JORNADA!$A$19:$B$20,2,FALSE)),\"\")","v":""},{"$f":"IFERROR(IF(A554=\"\",\"\",VLOOKUP(A554,[1]Hoja1!$B$2:$U$4999,3,FALSE)),0)","v":""},null,"","",{"$f":"IFERROR(IF(A554=\"\",\"\",VLOOKUP(A554,[1]Hoja1!$B$2:$U$4999,10,FALSE)),0)","v":""},{"$f":"IFERROR(IF(Q554=\"\",\"\",VLOOKUP(Q554,[1]Hoja1!$D$2:$AF$4999,29,FALSE)),\"NO EXISTE CUENTA\")","v":""},null,null,""]
["",{"$f":"IFERROR(IF(A555=\"\",\"\",VLOOKUP(A555,[1]Hoja1!$B$2:$U$4999,9,FALSE)),0)","v":""},{"$f":"IFERROR(IF(A555=\"\",\"\",VLOOKUP(A555,[1]Hoja1!$B$2:$U$4999,2,FALSE)),\" --- NO EXISTE TRABAJADOR --- \")","v":""},null,null,null,null,null,"","","",{"$f":"IFERROR(IF(A555=\"\",\"\",VLOOKUP(A555,[1]Hoja1!$B$2:$U$4999,18,FALSE)),0)","v":""},{"$f":"IFERROR(IF(A555=\"\",\"\",VLOOKUP(A555,[1]Hoja1!$B$2:$U$4999,19,FALSE)),0)","v":""},"",null,{"$f":"IFERROR(IF(O555=\"\",\"\",VLOOKUP(O555,JORNADA!$A$19:$B$20,2,FALSE)),\"\")","v":""},{"$f":"IFERROR(IF(A555=\"\",\"\",VLOOKUP(A555,[1]Hoja1!$B$2:$U$4999,3,FALSE)),0)","v":""},null,"","",{"$f":"IFERROR(IF(A555=\"\",\"\",VLOOKUP(A555,[1]Hoja1!$B$2:$U$4999,10,FALSE)),0)","v":""},{"$f":"IFERROR(IF(Q555=\"\",\"\",VLOOKUP(Q555,[1]Hoja1!$D$2:$AF$4999,29,FALSE)),\"NO EXISTE CUENTA\")","v":""},null,null,""]
["",{"$f":"IFERROR(IF(A556=\"\",\"\",VLOOKUP(A556,[1]Hoja1!$B$2:$U$4999,9,FALSE)),0)","v":""},{"$f":"IFERROR(IF(A556=\"\",\"\",VLOOKUP(A556,[1]Hoja1!$B$2:$U$4999,2,FALSE)),\" --- NO EXISTE TRABAJADOR --- \")","v":""},null,null,null,null,null,"","","",{"$f":"IFERROR(IF(A556=\"\",\"\",VLOOKUP(A556,[1]Hoja1!$B$2:$U$4999,18,FALSE)),0)","v":""},{"$f":"IFERROR(IF(A556=\"\",\"\",VLOOKUP(A556,[1]Hoja1!$B$2:$U$4999,19,FALSE)),0)","v":""},"",null,{"$f":"IFERROR(IF(O556=\"\",\"\",VLOOKUP(O556,JORNADA!$A$19:$B$20,2,FALSE)),\"\")","v":""},{"$f":"IFERROR(IF(A556=\"\",\"\",VLOOKUP(A556,[1]Hoja1!$B$2:$U$4999,3,FALSE)),0)","v":""},null,"","",{"$f":"IFERROR(IF(A556=\"\",\"\",VLOOKUP(A556,[1]Hoja1!$B$2:$U$4999,10,FALSE)),0)","v":""},{"$f":"IFERROR(IF(Q556=\"\",\"\",VLOOKUP(Q556,[1]Hoja1!$D$2:$AF$4999,29,FALSE)),\"NO EXISTE CUENTA\")","v":""},null,null,""]
["",{"$f":"IFERROR(IF(A557=\"\",\"\",VLOOKUP(A557,[1]Hoja1!$B$2:$U$4999,9,FALSE)),0)","v":""},{"$f":"IFERROR(IF(A557=\"\",\"\",VLOOKUP(A557,[1]Hoja1!$B$2:$U$4999,2,FALSE)),\" --- NO EXISTE TRABAJADOR --- \")","v":""},null,null,null,null,null,"","","",{"$f":"IFERROR(IF(A557=\"\",\"\",VLOOKUP(A557,[1]Hoja1!$B$2:$U$4999,18,FALSE)),0)","v":""},{"$f":"IFERROR(IF(A557=\"\",\"\",VLOOKUP(A557,[1]Hoja1!$B$2:$U$4999,19,FALSE)),0)","v":""},"",null,{"$f":"IFERROR(IF(O557=\"\",\"\",VLOOKUP(O557,JORNADA!$A$19:$B$20,2,FALSE)),\"\")","v":""},{"$f":"IFERROR(IF(A557=\"\",\"\",VLOOKUP(A557,[1]Hoja1!$B$2:$U$4999,3,FALSE)),0)","v":""},null,"","",{"$f":"IFERROR(IF(A557=\"\",\"\",VLOOKUP(A557,[1]Hoja1!$B$2:$U$4999,10,FALSE)),0)","v":""},{"$f":"IFERROR(IF(Q557=\"\",\"\",VLOOKUP(Q557,[1]Hoja1!$D$2:$AF$4999,29,FALSE)),\"NO EXISTE CUENTA\")","v":""},null,null,""]
["",{"$f":"IFERROR(IF(A558=\"\",\"\",VLOOKUP(A558,[1]Hoja1!$B$2:$U$4999,9,FALSE)),0)","v":""},{"$f":"IFERROR(IF(A558=\"\",\"\",VLOOKUP(A558,[1]Hoja1!$B$2:$U$4999,2,FALSE)),\" --- NO EXISTE TRABAJADOR --- \")","v":""},null,null,null,null,null,"","","",{"$f":"IFERROR(IF(A558=\"\",\"\",VLOOKUP(A558,[1]Hoja1!$B$2:$U$4999,18,FALSE)),0)","v":""},{"$f":"IFERROR(IF(A558=\"\",\"\",VLOOKUP(A558,[1]Hoja1!$B$2:$U$4999,19,FALSE)),0)","v":""},"",null,{"$f":"IFERROR(IF(O558=\"\",\"\",VLOOKUP(O558,JORNADA!$A$19:$B$20,2,FALSE)),\"\")","v":""},{"$f":"IFERROR(IF(A558=\"\",\"\",VLOOKUP(A558,[1]Hoja1!$B$2:$U$4999,3,FALSE)),0)","v":""},null,"","",{"$f":"IFERROR(IF(A558=\"\",\"\",VLOOKUP(A558,[1]Hoja1!$B$2:$U$4999,10,FALSE)),0)","v":""},{"$f":"IFERROR(IF(Q558=\"\",\"\",VLOOKUP(Q558,[1]Hoja1!$D$2:$AF$4999,29,FALSE)),\"NO EXISTE CUENTA\")","v":""},null,null,""]
["",{"$f":"IFERROR(IF(A559=\"\",\"\",VLOOKUP(A559,[1]Hoja1!$B$2:$U$4999,9,FALSE)),0)","v":""},{"$f":"IFERROR(IF(A559=\"\",\"\",VLOOKUP(A559,[1]Hoja1!$B$2:$U$4999,2,FALSE)),\" --- NO EXISTE TRABAJADOR --- \")","v":""},null,null,null,null,null,"","","",{"$f":"IFERROR(IF(A559=\"\",\"\",VLOOKUP(A559,[1]Hoja1!$B$2:$U$4999,18,FALSE)),0)","v":""},{"$f":"IFERROR(IF(A559=\"\",\"\",VLOOKUP(A559,[1]Hoja1!$B$2:$U$4999,19,FALSE)),0)","v":""},"",null,{"$f":"IFERROR(IF(O559=\"\",\"\",VLOOKUP(O559,JORNADA!$A$19:$B$20,2,FALSE)),\"\")","v":""},{"$f":"IFERROR(IF(A559=\"\",\"\",VLOOKUP(A559,[1]Hoja1!$B$2:$U$4999,3,FALSE)),0)","v":""},null,"","",{"$f":"IFERROR(IF(A559=\"\",\"\",VLOOKUP(A559,[1]Hoja1!$B$2:$U$4999,10,FALSE)),0)","v":""},{"$f":"IFERROR(IF(Q559=\"\",\"\",VLOOKUP(Q559,[1]Hoja1!$D$2:$AF$4999,29,FALSE)),\"NO EXISTE CUENTA\")","v":""},null,null,""]
["",{"$f":"IFERROR(IF(A560=\"\",\"\",VLOOKUP(A560,[1]Hoja1!$B$2:$U$4999,9,FALSE)),0)","v":""},{"$f":"IFERROR(IF(A560=\"\",\"\",VLOOKUP(A560,[1]Hoja1!$B$2:$U$4999,2,FALSE)),\" --- NO EXISTE TRABAJADOR --- \")","v":""},null,null,null,null,null,"","","",{"$f":"IFERROR(IF(A560=\"\",\"\",VLOOKUP(A560,[1]Hoja1!$B$2:$U$4999,18,FALSE)),0)","v":""},{"$f":"IFERROR(IF(A560=\"\",\"\",VLOOKUP(A560,[1]Hoja1!$B$2:$U$4999,19,FALSE)),0)","v":""},"",null,{"$f":"IFERROR(IF(O560=\"\",\"\",VLOOKUP(O560,JORNADA!$A$19:$B$20,2,FALSE)),\"\")","v":""},{"$f":"IFERROR(IF(A560=\"\",\"\",VLOOKUP(A560,[1]Hoja1!$B$2:$U$4999,3,FALSE)),0)","v":""},null,"","",{"$f":"IFERROR(IF(A560=\"\",\"\",VLOOKUP(A560,[1]Hoja1!$B$2:$U$4999,10,FALSE)),0)","v":""},{"$f":"IFERROR(IF(Q560=\"\",\"\",VLOOKUP(Q560,[1]Hoja1!$D$2:$AF$4999,29,FALSE)),\"NO EXISTE CUENTA\")","v":""},null,null,""]
["",{"$f":"IFERROR(IF(A561=\"\",\"\",VLOOKUP(A561,[1]Hoja1!$B$2:$U$4999,9,FALSE)),0)","v":""},{"$f":"IFERROR(IF(A561=\"\",\"\",VLOOKUP(A561,[1]Hoja1!$B$2:$U$4999,2,FALSE)),\" --- NO EXISTE TRABAJADOR --- \")","v":""},null,null,null,null,null,"","","",{"$f":"IFERROR(IF(A561=\"\",\"\",VLOOKUP(A561,[1]Hoja1!$B$2:$U$4999,18,FALSE)),0)","v":""},{"$f":"IFERROR(IF(A561=\"\",\"\",VLOOKUP(A561,[1]Hoja1!$B$2:$U$4999,19,FALSE)),0)","v":""},"",null,{"$f":"IFERROR(IF(O561=\"\",\"\",VLOOKUP(O561,JORNADA!$A$19:$B$20,2,FALSE)),\"\")","v":""},{"$f":"IFERROR(IF(A561=\"\",\"\",VLOOKUP(A561,[1]Hoja1!$B$2:$U$4999,3,FALSE)),0)","v":""},null,"","",{"$f":"IFERROR(IF(A561=\"\",\"\",VLOOKUP(A561,[1]Hoja1!$B$2:$U$4999,10,FALSE)),0)","v":""},{"$f":"IFERROR(IF(Q561=\"\",\"\",VLOOKUP(Q561,[1]Hoja1!$D$2:$AF$4999,29,FALSE)),\"NO EXISTE CUENTA\")","v":""},null,null,""]
["",{"$f":"IFERROR(IF(A562=\"\",\"\",VLOOKUP(A562,[1]Hoja1!$B$2:$U$4999,9,FALSE)),0)","v":""},{"$f":"IFERROR(IF(A562=\"\",\"\",VLOOKUP(A562,[1]Hoja1!$B$2:$U$4999,2,FALSE)),\" --- NO EXISTE TRABAJADOR --- \")","v":""},null,null,null,null,null,"","","",{"$f":"IFERROR(IF(A562=\"\",\"\",VLOOKUP(A562,[1]Hoja1!$B$2:$U$4999,18,FALSE)),0)","v":""},{"$f":"IFERROR(IF(A562=\"\",\"\",VLOOKUP(A562,[1]Hoja1!$B$2:$U$4999,19,FALSE)),0)","v":""},"",null,{"$f":"IFERROR(IF(O562=\"\",\"\",VLOOKUP(O562,JORNADA!$A$19:$B$20,2,FALSE)),\"\")","v":""},{"$f":"IFERROR(IF(A562=\"\",\"\",VLOOKUP(A562,[1]Hoja1!$B$2:$U$4999,3,FALSE)),0)","v":""},null,"","",{"$f":"IFERROR(IF(A562=\"\",\"\",VLOOKUP(A562,[1]Hoja1!$B$2:$U$4999,10,FALSE)),0)","v":""},{"$f":"IFERROR(IF(Q562=\"\",\"\",VLOOKUP(Q562,[1]Hoja1!$D$2:$AF$4999,29,FALSE)),\"NO EXISTE CUENTA\")","v":""},null,null,""]
["",{"$f":"IFERROR(IF(A563=\"\",\"\",VLOOKUP(A563,[1]Hoja1!$B$2:$U$4999,9,FALSE)),0)","v":""},{"$f":"IFERROR(IF(A563=\"\",\"\",VLOOKUP(A563,[1]Hoja1!$B$2:$U$4999,2,FALSE)),\" --- NO EXISTE TRABAJADOR --- \")","v":""},null,null,null,null,null,"","","",{"$f":"IFERROR(IF(A563=\"\",\"\",VLOOKUP(A563,[1]Hoja1!$B$2:$U$4999,18,FALSE)),0)","v":""},{"$f":"IFERROR(IF(A563=\"\",\"\",VLOOKUP(A563,[1]Hoja1!$B$2:$U$4999,19,FALSE)),0)","v":""},"",null,{"$f":"IFERROR(IF(O563=\"\",\"\",VLOOKUP(O563,JORNADA!$A$19:$B$20,2,FALSE)),\"\")","v":""},{"$f":"IFERROR(IF(A563=\"\",\"\",VLOOKUP(A563,[1]Hoja1!$B$2:$U$4999,3,FALSE)),0)","v":""},null,"","",{"$f":"IFERROR(IF(A563=\"\",\"\",VLOOKUP(A563,[1]Hoja1!$B$2:$U$4999,10,FALSE)),0)","v":""},{"$f":"IFERROR(IF(Q563=\"\",\"\",VLOOKUP(Q563,[1]Hoja1!$D$2:$AF$4999,29,FALSE)),\"NO EXISTE CUENTA\")","v":""},null,null,""]
["",{"$f":"IFERROR(IF(A564=\"\",\"\",VLOOKUP(A564,[1]Hoja1!$B$2:$U$4999,9,FALSE)),0)","v":""},{"$f":"IFERROR(IF(A564=\"\",\"\",VLOOKUP(A564,[1]Hoja1!$B$2:$U$4999,2,FALSE)),\" --- NO EXISTE TRABAJADOR --- \")","v":""},null,null,null,null,null,"","","",{"$f":"IFERROR(IF(A564=\"\",\"\",VLOOKUP(A564,[1]Hoja1!$B$2:$U$4999,18,FALSE)),0)","v":""},{"$f":"IFERROR(IF(A564=\"\",\"\",VLOOKUP(A564,[1]Hoja1!$B$2:$U$4999,19,FALSE)),0)","v":""},"",null,{"$f":"IFERROR(IF(O564=\"\",\"\",VLOOKUP(O564,JORNADA!$A$19:$B$20,2,FALSE)),\"\")","v":""},{"$f":"IFERROR(IF(A564=\"\",\"\",VLOOKUP(A564,[1]Hoja1!$B$2:$U$4999,3,FALSE)),0)","v":""},null,"","",{"$f":"IFERROR(IF(A564=\"\",\"\",VLOOKUP(A564,[1]Hoja1!$B$2:$U$4999,10,FALSE)),0)","v":""},{"$f":"IFERROR(IF(Q564=\"\",\"\",VLOOKUP(Q564,[1]Hoja1!$D$2:$AF$4999,29,FALSE)),\"NO EXISTE CUENTA\")","v":""},null,null,""]
["",{"$f":"IFERROR(IF(A565=\"\",\"\",VLOOKUP(A565,[1]Hoja1!$B$2:$U$4999,9,FALSE)),0)","v":""},{"$f":"IFERROR(IF(A565=\"\",\"\",VLOOKUP(A565,[1]Hoja1!$B$2:$U$4999,2,FALSE)),\" --- NO EXISTE TRABAJADOR --- \")","v":""},null,null,null,null,null,"","","",{"$f":"IFERROR(IF(A565=\"\",\"\",VLOOKUP(A565,[1]Hoja1!$B$2:$U$4999,18,FALSE)),0)","v":""},{"$f":"IFERROR(IF(A565=\"\",\"\",VLOOKUP(A565,[1]Hoja1!$B$2:$U$4999,19,FALSE)),0)","v":""},"",null,{"$f":"IFERROR(IF(O565=\"\",\"\",VLOOKUP(O565,JORNADA!$A$19:$B$20,2,FALSE)),\"\")","v":""},{"$f":"IFERROR(IF(A565=\"\",\"\",VLOOKUP(A565,[1]Hoja1!$B$2:$U$4999,3,FALSE)),0)","v":""},null,"","",{"$f":"IFERROR(IF(A565=\"\",\"\",VLOOKUP(A565,[1]Hoja1!$B$2:$U$4999,10,FALSE)),0)","v":""},{"$f":"IFERROR(IF(Q565=\"\",\"\",VLOOKUP(Q565,[1]Hoja1!$D$2:$AF$4999,29,FALSE)),\"NO EXISTE CUENTA\")","v":""},null,null,""]
["",{"$f":"IFERROR(IF(A566=\"\",\"\",VLOOKUP(A566,[1]Hoja1!$B$2:$U$4999,9,FALSE)),0)","v":""},{"$f":"IFERROR(IF(A566=\"\",\"\",VLOOKUP(A566,[1]Hoja1!$B$2:$U$4999,2,FALSE)),\" --- NO EXISTE TRABAJADOR --- \")","v":""},null,null,null,null,null,"","","",{"$f":"IFERROR(IF(A566=\"\",\"\",VLOOKUP(A566,[1]Hoja1!$B$2:$U$4999,18,FALSE)),0)","v":""},{"$f":"IFERROR(IF(A566=\"\",\"\",VLOOKUP(A566,[1]Hoja1!$B$2:$U$4999,19,FALSE)),0)","v":""},"",null,{"$f":"IFERROR(IF(O566=\"\",\"\",VLOOKUP(O566,JORNADA!$A$19:$B$20,2,FALSE)),\"\")","v":""},{"$f":"IFERROR(IF(A566=\"\",\"\",VLOOKUP(A566,[1]Hoja1!$B$2:$U$4999,3,FALSE)),0)","v":""},null,"","",{"$f":"IFERROR(IF(A566=\"\",\"\",VLOOKUP(A566,[1]Hoja1!$B$2:$U$4999,10,FALSE)),0)","v":""},{"$f":"IFERROR(IF(Q566=\"\",\"\",VLOOKUP(Q566,[1]Hoja1!$D$2:$AF$4999,29,FALSE)),\"NO EXISTE CUENTA\")","v":""},null,null,""]
["",{"$f":"IFERROR(IF(A567=\"\",\"\",VLOOKUP(A567,[1]Hoja1!$B$2:$U$4999,9,FALSE)),0)","v":""},{"$f":"IFERROR(IF(A567=\"\",\"\",VLOOKUP(A567,[1]Hoja1!$B$2:$U$4999,2,FALSE)),\" --- NO EXISTE TRABAJADOR --- \")","v":""},null,null,null,null,null,"","","",{"$f":"IFERROR(IF(A567=\"\",\"\",VLOOKUP(A567,[1]Hoja1!$B$2:$U$4999,18,FALSE)),0)","v":""},{"$f":"IFERROR(IF(A567=\"\",\"\",VLOOKUP(A567,[1]Hoja1!$B$2:$U$4999,19,FALSE)),0)","v":""},"",null,{"$f":"IFERROR(IF(O567=\"\",\"\",VLOOKUP(O567,JORNADA!$A$19:$B$20,2,FALSE)),\"\")","v":""},{"$f":"IFERROR(IF(A567=\"\",\"\",VLOOKUP(A567,[1]Hoja1!$B$2:$U$4999,3,FALSE)),0)","v":""},null,"","",{"$f":"IFERROR(IF(A567=\"\",\"\",VLOOKUP(A567,[1]Hoja1!$B$2:$U$4999,10,FALSE)),0)","v":""},{"$f":"IFERROR(IF(Q567=\"\",\"\",VLOOKUP(Q567,[1]Hoja1!$D$2:$AF$4999,29,FALSE)),\"NO EXISTE CUENTA\")","v":""},null,null,""]
["",{"$f":"IFERROR(IF(A568=\"\",\"\",VLOOKUP(A568,[1]Hoja1!$B$2:$U$4999,9,FALSE)),0)","v":""},{"$f":"IFERROR(IF(A568=\"\",\"\",VLOOKUP(A568,[1]Hoja1!$B$2:$U$4999,2,FALSE)),\" --- NO EXISTE TRABAJADOR --- \")","v":""},null,null,null,null,null,"","","",{"$f":"IFERROR(IF(A568=\"\",\"\",VLOOKUP(A568,[1]Hoja1!$B$2:$U$4999,18,FALSE)),0)","v":""},{"$f":"IFERROR(IF(A568=\"\",\"\",VLOOKUP(A568,[1]Hoja1!$B$2:$U$4999,19,FALSE)),0)","v":""},"",null,{"$f":"IFERROR(IF(O568=\"\",\"\",VLOOKUP(O568,JORNADA!$A$19:$B$20,2,FALSE)),\"\")","v":""},{"$f":"IFERROR(IF(A568=\"\",\"\",VLOOKUP(A568,[1]Hoja1!$B$2:$U$4999,3,FALSE)),0)","v":""},null,"","",{"$f":"IFERROR(IF(A568=\"\",\"\",VLOOKUP(A568,[1]Hoja1!$B$2:$U$4999,10,FALSE)),0)","v":""},{"$f":"IFERROR(IF(Q568=\"\",\"\",VLOOKUP(Q568,[1]Hoja1!$D$2:$AF$4999,29,FALSE)),\"NO EXISTE CUENTA\")","v":""},null,null,""]
["",{"$f":"IFERROR(IF(A569=\"\",\"\",VLOOKUP(A569,[1]Hoja1!$B$2:$U$4999,9,FALSE)),0)","v":""},{"$f":"IFERROR(IF(A569=\"\",\"\",VLOOKUP(A569,[1]Hoja1!$B$2:$U$4999,2,FALSE)),\" --- NO EXISTE TRABAJADOR --- \")","v":""},null,null,null,null,null,"","","",{"$f":"IFERROR(IF(A569=\"\",\"\",VLOOKUP(A569,[1]Hoja1!$B$2:$U$4999,18,FALSE)),0)","v":""},{"$f":"IFERROR(IF(A569=\"\",\"\",VLOOKUP(A569,[1]Hoja1!$B$2:$U$4999,19,FALSE)),0)","v":""},"",null,{"$f":"IFERROR(IF(O569=\"\",\"\",VLOOKUP(O569,JORNADA!$A$19:$B$20,2,FALSE)),\"\")","v":""},{"$f":"IFERROR(IF(A569=\"\",\"\",VLOOKUP(A569,[1]Hoja1!$B$2:$U$4999,3,FALSE)),0)","v":""},null,"","",{"$f":"IFERROR(IF(A569=\"\",\"\",VLOOKUP(A569,[1]Hoja1!$B$2:$U$4999,10,FALSE)),0)","v":""},{"$f":"IFERROR(IF(Q569=\"\",\"\",VLOOKUP(Q569,[1]Hoja1!$D$2:$AF$4999,29,FALSE)),\"NO EXISTE CUENTA\")","v":""},null,null,""]
["",{"$f":"IFERROR(IF(A570=\"\",\"\",VLOOKUP(A570,[1]Hoja1!$B$2:$U$4999,9,FALSE)),0)","v":""},{"$f":"IFERROR(IF(A570=\"\",\"\",VLOOKUP(A570,[1]Hoja1!$B$2:$U$4999,2,FALSE)),\" --- NO EXISTE TRABAJADOR --- \")","v":""},null,null,null,null,null,"","","",{"$f":"IFERROR(IF(A570=\"\",\"\",VLOOKUP(A570,[1]Hoja1!$B$2:$U$4999,18,FALSE)),0)","v":""},{"$f":"IFERROR(IF(A570=\"\",\"\",VLOOKUP(A570,[1]Hoja1!$B$2:$U$4999,19,FALSE)),0)","v":""},"",null,{"$f":"IFERROR(IF(O570=\"\",\"\",VLOOKUP(O570,JORNADA!$A$19:$B$20,2,FALSE)),\"\")","v":""},{"$f":"IFERROR(IF(A570=\"\",\"\",VLOOKUP(A570,[1]Hoja1!$B$2:$U$4999,3,FALSE)),0)","v":""},null,"","",{"$f":"IFERROR(IF(A570=\"\",\"\",VLOOKUP(A570,[1]Hoja1!$B$2:$U$4999,10,FALSE)),0)","v":""},{"$f":"IFERROR(IF(Q570=\"\",\"\",VLOOKUP(Q570,[1]Hoja1!$D$2:$AF$4999,29,FALSE)),\"NO EXISTE CUENTA\")","v":""},null,null,""]
["",{"$f":"IFERROR(IF(A571=\"\",\"\",VLOOKUP(A571,[1]Hoja1!$B$2:$U$4999,9,FALSE)),0)","v":""},{"$f":"IFERROR(IF(A571=\"\",\"\",VLOOKUP(A571,[1]Hoja1!$B$2:$U$4999,2,FALSE)),\" --- NO EXISTE TRABAJADOR --- \")","v":""},null,null,null,null,null,"","","",{"$f":"IFERROR(IF(A571=\"\",\"\",VLOOKUP(A571,[1]Hoja1!$B$2:$U$4999,18,FALSE)),0)","v":""},{"$f":"IFERROR(IF(A571=\"\",\"\",VLOOKUP(A571,[1]Hoja1!$B$2:$U$4999,19,FALSE)),0)","v":""},"",null,{"$f":"IFERROR(IF(O571=\"\",\"\",VLOOKUP(O571,JORNADA!$A$19:$B$20,2,FALSE)),\"\")","v":""},{"$f":"IFERROR(IF(A571=\"\",\"\",VLOOKUP(A571,[1]Hoja1!$B$2:$U$4999,3,FALSE)),0)","v":""},null,"","",{"$f":"IFERROR(IF(A571=\"\",\"\",VLOOKUP(A571,[1]Hoja1!$B$2:$U$4999,10,FALSE)),0)","v":""},{"$f":"IFERROR(IF(Q571=\"\",\"\",VLOOKUP(Q571,[1]Hoja1!$D$2:$AF$4999,29,FALSE)),\"NO EXISTE CUENTA\")","v":""},null,null,""]
["",{"$f":"IFERROR(IF(A572=\"\",\"\",VLOOKUP(A572,[1]Hoja1!$B$2:$U$4999,9,FALSE)),0)","v":""},{"$f":"IFERROR(IF(A572=\"\",\"\",VLOOKUP(A572,[1]Hoja1!$B$2:$U$4999,2,FALSE)),\" --- NO EXISTE TRABAJADOR --- \")","v":""},null,null,null,null,null,"","","",{"$f":"IFERROR(IF(A572=\"\",\"\",VLOOKUP(A572,[1]Hoja1!$B$2:$U$4999,18,FALSE)),0)","v":""},{"$f":"IFERROR(IF(A572=\"\",\"\",VLOOKUP(A572,[1]Hoja1!$B$2:$U$4999,19,FALSE)),0)","v":""},"",null,{"$f":"IFERROR(IF(O572=\"\",\"\",VLOOKUP(O572,JORNADA!$A$19:$B$20,2,FALSE)),\"\")","v":""},{"$f":"IFERROR(IF(A572=\"\",\"\",VLOOKUP(A572,[1]Hoja1!$B$2:$U$4999,3,FALSE)),0)","v":""},null,"","",{"$f":"IFERROR(IF(A572=\"\",\"\",VLOOKUP(A572,[1]Hoja1!$B$2:$U$4999,10,FALSE)),0)","v":""},{"$f":"IFERROR(IF(Q572=\"\",\"\",VLOOKUP(Q572,[1]Hoja1!$D$2:$AF$4999,29,FALSE)),\"NO EXISTE CUENTA\")","v":""},null,null,""]
["",{"$f":"IFERROR(IF(A573=\"\",\"\",VLOOKUP(A573,[1]Hoja1!$B$2:$U$4999,9,FALSE)),0)","v":""},{"$f":"IFERROR(IF(A573=\"\",\"\",VLOOKUP(A573,[1]Hoja1!$B$2:$U$4999,2,FALSE)),\" --- NO EXISTE TRABAJADOR --- \")","v":""},null,null,null,null,null,"","","",{"$f":"IFERROR(IF(A573=\"\",\"\",VLOOKUP(A573,[1]Hoja1!$B$2:$U$4999,18,FALSE)),0)","v":""},{"$f":"IFERROR(IF(A573=\"\",\"\",VLOOKUP(A573,[1]Hoja1!$B$2:$U$4999,19,FALSE)),0)","v":""},"",null,{"$f":"IFERROR(IF(O573=\"\",\"\",VLOOKUP(O573,JORNADA!$A$19:$B$20,2,FALSE)),\"\")","v":""},{"$f":"IFERROR(IF(A573=\"\",\"\",VLOOKUP(A573,[1]Hoja1!$B$2:$U$4999,3,FALSE)),0)","v":""},null,"","",{"$f":"IFERROR(IF(A573=\"\",\"\",VLOOKUP(A573,[1]Hoja1!$B$2:$U$4999,10,FALSE)),0)","v":""},{"$f":"IFERROR(IF(Q573=\"\",\"\",VLOOKUP(Q573,[1]Hoja1!$D$2:$AF$4999,29,FALSE)),\"NO EXISTE CUENTA\")","v":""},null,null,""]
["",{"$f":"IFERROR(IF(A574=\"\",\"\",VLOOKUP(A574,[1]Hoja1!$B$2:$U$4999,9,FALSE)),0)","v":""},{"$f":"IFERROR(IF(A574=\"\",\"\",VLOOKUP(A574,[1]Hoja1!$B$2:$U$4999,2,FALSE)),\" --- NO EXISTE TRABAJADOR --- \")","v":""},null,null,null,null,null,"","","",{"$f":"IFERROR(IF(A574=\"\",\"\",VLOOKUP(A574,[1]Hoja1!$B$2:$U$4999,18,FALSE)),0)","v":""},{"$f":"IFERROR(IF(A574=\"\",\"\",VLOOKUP(A574,[1]Hoja1!$B$2:$U$4999,19,FALSE)),0)","v":""},"",null,{"$f":"IFERROR(IF(O574=\"\",\"\",VLOOKUP(O574,JORNADA!$A$19:$B$20,2,FALSE)),\"\")","v":""},{"$f":"IFERROR(IF(A574=\"\",\"\",VLOOKUP(A574,[1]Hoja1!$B$2:$U$4999,3,FALSE)),0)","v":""},null,"","",{"$f":"IFERROR(IF(A574=\"\",\"\",VLOOKUP(A574,[1]Hoja1!$B$2:$U$4999,10,FALSE)),0)","v":""},{"$f":"IFERROR(IF(Q574=\"\",\"\",VLOOKUP(Q574,[1]Hoja1!$D$2:$AF$4999,29,FALSE)),\"NO EXISTE CUENTA\")","v":""},null,null,""]
["",{"$f":"IFERROR(IF(A575=\"\",\"\",VLOOKUP(A575,[1]Hoja1!$B$2:$U$4999,9,FALSE)),0)","v":""},{"$f":"IFERROR(IF(A575=\"\",\"\",VLOOKUP(A575,[1]Hoja1!$B$2:$U$4999,2,FALSE)),\" --- NO EXISTE TRABAJADOR --- \")","v":""},null,null,null,null,null,"","","",{"$f":"IFERROR(IF(A575=\"\",\"\",VLOOKUP(A575,[1]Hoja1!$B$2:$U$4999,18,FALSE)),0)","v":""},{"$f":"IFERROR(IF(A575=\"\",\"\",VLOOKUP(A575,[1]Hoja1!$B$2:$U$4999,19,FALSE)),0)","v":""},"",null,{"$f":"IFERROR(IF(O575=\"\",\"\",VLOOKUP(O575,JORNADA!$A$19:$B$20,2,FALSE)),\"\")","v":""},{"$f":"IFERROR(IF(A575=\"\",\"\",VLOOKUP(A575,[1]Hoja1!$B$2:$U$4999,3,FALSE)),0)","v":""},null,"","",{"$f":"IFERROR(IF(A575=\"\",\"\",VLOOKUP(A575,[1]Hoja1!$B$2:$U$4999,10,FALSE)),0)","v":""},{"$f":"IFERROR(IF(Q575=\"\",\"\",VLOOKUP(Q575,[1]Hoja1!$D$2:$AF$4999,29,FALSE)),\"NO EXISTE CUENTA\")","v":""},null,null,""]
["",{"$f":"IFERROR(IF(A576=\"\",\"\",VLOOKUP(A576,[1]Hoja1!$B$2:$U$4999,9,FALSE)),0)","v":""},{"$f":"IFERROR(IF(A576=\"\",\"\",VLOOKUP(A576,[1]Hoja1!$B$2:$U$4999,2,FALSE)),\" --- NO EXISTE TRABAJADOR --- \")","v":""},null,null,null,null,null,"","","",{"$f":"IFERROR(IF(A576=\"\",\"\",VLOOKUP(A576,[1]Hoja1!$B$2:$U$4999,18,FALSE)),0)","v":""},{"$f":"IFERROR(IF(A576=\"\",\"\",VLOOKUP(A576,[1]Hoja1!$B$2:$U$4999,19,FALSE)),0)","v":""},"",null,{"$f":"IFERROR(IF(O576=\"\",\"\",VLOOKUP(O576,JORNADA!$A$19:$B$20,2,FALSE)),\"\")","v":""},{"$f":"IFERROR(IF(A576=\"\",\"\",VLOOKUP(A576,[1]Hoja1!$B$2:$U$4999,3,FALSE)),0)","v":""},null,"","",{"$f":"IFERROR(IF(A576=\"\",\"\",VLOOKUP(A576,[1]Hoja1!$B$2:$U$4999,10,FALSE)),0)","v":""},{"$f":"IFERROR(IF(Q576=\"\",\"\",VLOOKUP(Q576,[1]Hoja1!$D$2:$AF$4999,29,FALSE)),\"NO EXISTE CUENTA\")","v":""},null,null,""]
["",{"$f":"IFERROR(IF(A577=\"\",\"\",VLOOKUP(A577,[1]Hoja1!$B$2:$U$4999,9,FALSE)),0)","v":""},{"$f":"IFERROR(IF(A577=\"\",\"\",VLOOKUP(A577,[1]Hoja1!$B$2:$U$4999,2,FALSE)),\" --- NO EXISTE TRABAJADOR --- \")","v":""},null,null,null,null,null,"","","",{"$f":"IFERROR(IF(A577=\"\",\"\",VLOOKUP(A577,[1]Hoja1!$B$2:$U$4999,18,FALSE)),0)","v":""},{"$f":"IFERROR(IF(A577=\"\",\"\",VLOOKUP(A577,[1]Hoja1!$B$2:$U$4999,19,FALSE)),0)","v":""},"",null,{"$f":"IFERROR(IF(O577=\"\",\"\",VLOOKUP(O577,JORNADA!$A$19:$B$20,2,FALSE)),\"\")","v":""},{"$f":"IFERROR(IF(A577=\"\",\"\",VLOOKUP(A577,[1]Hoja1!$B$2:$U$4999,3,FALSE)),0)","v":""},null,"","",{"$f":"IFERROR(IF(A577=\"\",\"\",VLOOKUP(A577,[1]Hoja1!$B$2:$U$4999,10,FALSE)),0)","v":""},{"$f":"IFERROR(IF(Q577=\"\",\"\",VLOOKUP(Q577,[1]Hoja1!$D$2:$AF$4999,29,FALSE)),\"NO EXISTE CUENTA\")","v":""},null,null,""]
["",{"$f":"IFERROR(IF(A578=\"\",\"\",VLOOKUP(A578,[1]Hoja1!$B$2:$U$4999,9,FALSE)),0)","v":""},{"$f":"IFERROR(IF(A578=\"\",\"\",VLOOKUP(A578,[1]Hoja1!$B$2:$U$4999,2,FALSE)),\" --- NO EXISTE TRABAJADOR --- \")","v":""},null,null,null,null,null,"","","",{"$f":"IFERROR(IF(A578=\"\",\"\",VLOOKUP(A578,[1]Hoja1!$B$2:$U$4999,18,FALSE)),0)","v":""},{"$f":"IFERROR(IF(A578=\"\",\"\",VLOOKUP(A578,[1]Hoja1!$B$2:$U$4999,19,FALSE)),0)","v":""},"",null,{"$f":"IFERROR(IF(O578=\"\",\"\",VLOOKUP(O578,JORNADA!$A$19:$B$20,2,FALSE)),\"\")","v":""},{"$f":"IFERROR(IF(A578=\"\",\"\",VLOOKUP(A578,[1]Hoja1!$B$2:$U$4999,3,FALSE)),0)","v":""},null,"","",{"$f":"IFERROR(IF(A578=\"\",\"\",VLOOKUP(A578,[1]Hoja1!$B$2:$U$4999,10,FALSE)),0)","v":""},{"$f":"IFERROR(IF(Q578=\"\",\"\",VLOOKUP(Q578,[1]Hoja1!$D$2:$AF$4999,29,FALSE)),\"NO EXISTE CUENTA\")","v":""},null,null,{"$f":"+C578","v":""}]
[{"$f":"+S579","v":""},{"$f":"IFERROR(IF(A579=\"\",\"\",VLOOKUP(A579,[1]Hoja1!$B$2:$U$4999,9,FALSE)),0)","v":""},{"$f":"IFERROR(IF(A579=\"\",\"\",VLOOKUP(A579,[1]Hoja1!$B$2:$U$4999,2,FALSE)),\" --- NO EXISTE TRABAJADOR --- \")","v":""},null,null,null,null,null,{"$f":"IFERROR(IF(G579=\"\",\"\",VLOOKUP(G579,JORNADA,2,FALSE)),0)","v":""},{"$f":"IFERROR(IF(H579=\"\",\"\",VLOOKUP(H579,ACTIVIDAD,2,FALSE)),0)","v":""},{"$f":"CONCATENATE(J579,G579)","v":""},{"$f":"IFERROR(IF(A579=\"\",\"\",VLOOKUP(A579,[1]Hoja1!$B$2:$U$4999,18,FALSE)),0)","v":""},{"$f":"IFERROR(IF(A579=\"\",\"\",VLOOKUP(A579,[1]Hoja1!$B$2:$U$4999,19,FALSE)),0)","v":""},{"$f":"IFERROR(IF(W579=\"\",\"\",VLOOKUP(W579,LICENCIA,2,FALSE)),\"\")","v":""},null,{"$f":"IFERROR(IF(O579=\"\",\"\",VLOOKUP(O579,JORNADA!$A$19:$B$20,2,FALSE)),\"\")","v":""},{"$f":"IFERROR(IF(A579=\"\",\"\",VLOOKUP(A579,[1]Hoja1!$B$2:$U$4999,3,FALSE)),0)","v":""},null,{"$f":"IFERROR(IF(R579=\"\",\"\",VLOOKUP(R579,DNI,2,FALSE)),0)","v":""},{"$f":"IF(D579<>\"\",COUNTA(INDIRECT(\"D2:D\"&ROW()-1)),\"\")","v":""},{"$f":"IFERROR(IF(A579=\"\",\"\",VLOOKUP(A579,[1]Hoja1!$B$2:$U$4999,10,FALSE)),0)","v":""},{"$f":"IFERROR(IF(Q579=\"\",\"\",VLOOKUP(Q579,[1]Hoja1!$D$2:$AF$4999,29,FALSE)),\"NO EXISTE CUENTA\")","v":""},null,null,""]
["",{"$f":"IFERROR(IF(A580=\"\",\"\",VLOOKUP(A580,[1]Hoja1!$B$2:$U$4999,9,FALSE)),0)","v":""},{"$f":"IFERROR(IF(A580=\"\",\"\",VLOOKUP(A580,[1]Hoja1!$B$2:$U$4999,2,FALSE)),\" --- NO EXISTE TRABAJADOR --- \")","v":""},null,null,null,null,null,"","","",{"$f":"IFERROR(IF(A580=\"\",\"\",VLOOKUP(A580,[1]Hoja1!$B$2:$U$4999,18,FALSE)),0)","v":""},{"$f":"IFERROR(IF(A580=\"\",\"\",VLOOKUP(A580,[1]Hoja1!$B$2:$U$4999,19,FALSE)),0)","v":""},"",null,{"$f":"IFERROR(IF(O580=\"\",\"\",VLOOKUP(O580,JORNADA!$A$19:$B$20,2,FALSE)),\"\")","v":""},{"$f":"IFERROR(IF(A580=\"\",\"\",VLOOKUP(A580,[1]Hoja1!$B$2:$U$4999,3,FALSE)),0)","v":""},null,"","",{"$f":"IFERROR(IF(A580=\"\",\"\",VLOOKUP(A580,[1]Hoja1!$B$2:$U$4999,10,FALSE)),0)","v":""},{"$f":"IFERROR(IF(Q580=\"\",\"\",VLOOKUP(Q580,[1]Hoja1!$D$2:$AF$4999,29,FALSE)),\"NO EXISTE CUENTA\")","v":""},null,null,""]
["",{"$f":"IFERROR(IF(A581=\"\",\"\",VLOOKUP(A581,[1]Hoja1!$B$2:$U$4999,9,FALSE)),0)","v":""},{"$f":"IFERROR(IF(A581=\"\",\"\",VLOOKUP(A581,[1]Hoja1!$B$2:$U$4999,2,FALSE)),\" --- NO EXISTE TRABAJADOR --- \")","v":""},null,null,null,null,null,"","","",{"$f":"IFERROR(IF(A581=\"\",\"\",VLOOKUP(A581,[1]Hoja1!$B$2:$U$4999,18,FALSE)),0)","v":""},{"$f":"IFERROR(IF(A581=\"\",\"\",VLOOKUP(A581,[1]Hoja1!$B$2:$U$4999,19,FALSE)),0)","v":""},"",null,{"$f":"IFERROR(IF(O581=\"\",\"\",VLOOKUP(O581,JORNADA!$A$19:$B$20,2,FALSE)),\"\")","v":""},{"$f":"IFERROR(IF(A581=\"\",\"\",VLOOKUP(A581,[1]Hoja1!$B$2:$U$4999,3,FALSE)),0)","v":""},null,"","",{"$f":"IFERROR(IF(A581=\"\",\"\",VLOOKUP(A581,[1]Hoja1!$B$2:$U$4999,10,FALSE)),0)","v":""},{"$f":"IFERROR(IF(Q581=\"\",\"\",VLOOKUP(Q581,[1]Hoja1!$D$2:$AF$4999,29,FALSE)),\"NO EXISTE CUENTA\")","v":""},null,null,""]
["",{"$f":"IFERROR(IF(A582=\"\",\"\",VLOOKUP(A582,[1]Hoja1!$B$2:$U$4999,9,FALSE)),0)","v":""},{"$f":"IFERROR(IF(A582=\"\",\"\",VLOOKUP(A582,[1]Hoja1!$B$2:$U$4999,2,FALSE)),\" --- NO EXISTE TRABAJADOR --- \")","v":""},null,null,null,null,null,"","","",{"$f":"IFERROR(IF(A582=\"\",\"\",VLOOKUP(A582,[1]Hoja1!$B$2:$U$4999,18,FALSE)),0)","v":""},{"$f":"IFERROR(IF(A582=\"\",\"\",VLOOKUP(A582,[1]Hoja1!$B$2:$U$4999,19,FALSE)),0)","v":""},"",null,{"$f":"IFERROR(IF(O582=\"\",\"\",VLOOKUP(O582,JORNADA!$A$19:$B$20,2,FALSE)),\"\")","v":""},{"$f":"IFERROR(IF(A582=\"\",\"\",VLOOKUP(A582,[1]Hoja1!$B$2:$U$4999,3,FALSE)),0)","v":""},null,"","",{"$f":"IFERROR(IF(A582=\"\",\"\",VLOOKUP(A582,[1]Hoja1!$B$2:$U$4999,10,FALSE)),0)","v":""},{"$f":"IFERROR(IF(Q582=\"\",\"\",VLOOKUP(Q582,[1]Hoja1!$D$2:$AF$4999,29,FALSE)),\"NO EXISTE CUENTA\")","v":""},null,null,""]
["",{"$f":"IFERROR(IF(A583=\"\",\"\",VLOOKUP(A583,[1]Hoja1!$B$2:$U$4999,9,FALSE)),0)","v":""},{"$f":"IFERROR(IF(A583=\"\",\"\",VLOOKUP(A583,[1]Hoja1!$B$2:$U$4999,2,FALSE)),\" --- NO EXISTE TRABAJADOR --- \")","v":""},null,null,null,null,null,"","","",{"$f":"IFERROR(IF(A583=\"\",\"\",VLOOKUP(A583,[1]Hoja1!$B$2:$U$4999,18,FALSE)),0)","v":""},{"$f":"IFERROR(IF(A583=\"\",\"\",VLOOKUP(A583,[1]Hoja1!$B$2:$U$4999,19,FALSE)),0)","v":""},"",null,{"$f":"IFERROR(IF(O583=\"\",\"\",VLOOKUP(O583,JORNADA!$A$19:$B$20,2,FALSE)),\"\")","v":""},{"$f":"IFERROR(IF(A583=\"\",\"\",VLOOKUP(A583,[1]Hoja1!$B$2:$U$4999,3,FALSE)),0)","v":""},null,"","",{"$f":"IFERROR(IF(A583=\"\",\"\",VLOOKUP(A583,[1]Hoja1!$B$2:$U$4999,10,FALSE)),0)","v":""},{"$f":"IFERROR(IF(Q583=\"\",\"\",VLOOKUP(Q583,[1]Hoja1!$D$2:$AF$4999,29,FALSE)),\"NO EXISTE CUENTA\")","v":""},null,null,""]
["",{"$f":"IFERROR(IF(A584=\"\",\"\",VLOOKUP(A584,[1]Hoja1!$B$2:$U$4999,9,FALSE)),0)","v":""},{"$f":"IFERROR(IF(A584=\"\",\"\",VLOOKUP(A584,[1]Hoja1!$B$2:$U$4999,2,FALSE)),\" --- NO EXISTE TRABAJADOR --- \")","v":""},null,null,null,null,null,"","","",{"$f":"IFERROR(IF(A584=\"\",\"\",VLOOKUP(A584,[1]Hoja1!$B$2:$U$4999,18,FALSE)),0)","v":""},{"$f":"IFERROR(IF(A584=\"\",\"\",VLOOKUP(A584,[1]Hoja1!$B$2:$U$4999,19,FALSE)),0)","v":""},"",null,{"$f":"IFERROR(IF(O584=\"\",\"\",VLOOKUP(O584,JORNADA!$A$19:$B$20,2,FALSE)),\"\")","v":""},{"$f":"IFERROR(IF(A584=\"\",\"\",VLOOKUP(A584,[1]Hoja1!$B$2:$U$4999,3,FALSE)),0)","v":""},null,"","",{"$f":"IFERROR(IF(A584=\"\",\"\",VLOOKUP(A584,[1]Hoja1!$B$2:$U$4999,10,FALSE)),0)","v":""},{"$f":"IFERROR(IF(Q584=\"\",\"\",VLOOKUP(Q584,[1]Hoja1!$D$2:$AF$4999,29,FALSE)),\"NO EXISTE CUENTA\")","v":""},null,null,""]
["",{"$f":"IFERROR(IF(A585=\"\",\"\",VLOOKUP(A585,[1]Hoja1!$B$2:$U$4999,9,FALSE)),0)","v":""},{"$f":"IFERROR(IF(A585=\"\",\"\",VLOOKUP(A585,[1]Hoja1!$B$2:$U$4999,2,FALSE)),\" --- NO EXISTE TRABAJADOR --- \")","v":""},null,null,null,null,null,"","","",{"$f":"IFERROR(IF(A585=\"\",\"\",VLOOKUP(A585,[1]Hoja1!$B$2:$U$4999,18,FALSE)),0)","v":""},{"$f":"IFERROR(IF(A585=\"\",\"\",VLOOKUP(A585,[1]Hoja1!$B$2:$U$4999,19,FALSE)),0)","v":""},"",null,{"$f":"IFERROR(IF(O585=\"\",\"\",VLOOKUP(O585,JORNADA!$A$19:$B$20,2,FALSE)),\"\")","v":""},{"$f":"IFERROR(IF(A585=\"\",\"\",VLOOKUP(A585,[1]Hoja1!$B$2:$U$4999,3,FALSE)),0)","v":""},null,"","",{"$f":"IFERROR(IF(A585=\"\",\"\",VLOOKUP(A585,[1]Hoja1!$B$2:$U$4999,10,FALSE)),0)","v":""},{"$f":"IFERROR(IF(Q585=\"\",\"\",VLOOKUP(Q585,[1]Hoja1!$D$2:$AF$4999,29,FALSE)),\"NO EXISTE CUENTA\")","v":""},null,null,""]
["",{"$f":"IFERROR(IF(A586=\"\",\"\",VLOOKUP(A586,[1]Hoja1!$B$2:$U$4999,9,FALSE)),0)","v":""},{"$f":"IFERROR(IF(A586=\"\",\"\",VLOOKUP(A586,[1]Hoja1!$B$2:$U$4999,2,FALSE)),\" --- NO EXISTE TRABAJADOR --- \")","v":""},null,null,null,null,null,"","","",{"$f":"IFERROR(IF(A586=\"\",\"\",VLOOKUP(A586,[1]Hoja1!$B$2:$U$4999,18,FALSE)),0)","v":""},{"$f":"IFERROR(IF(A586=\"\",\"\",VLOOKUP(A586,[1]Hoja1!$B$2:$U$4999,19,FALSE)),0)","v":""},"",null,{"$f":"IFERROR(IF(O586=\"\",\"\",VLOOKUP(O586,JORNADA!$A$19:$B$20,2,FALSE)),\"\")","v":""},{"$f":"IFERROR(IF(A586=\"\",\"\",VLOOKUP(A586,[1]Hoja1!$B$2:$U$4999,3,FALSE)),0)","v":""},null,"","",{"$f":"IFERROR(IF(A586=\"\",\"\",VLOOKUP(A586,[1]Hoja1!$B$2:$U$4999,10,FALSE)),0)","v":""},{"$f":"IFERROR(IF(Q586=\"\",\"\",VLOOKUP(Q586,[1]Hoja1!$D$2:$AF$4999,29,FALSE)),\"NO EXISTE CUENTA\")","v":""},null,null,""]
["",{"$f":"IFERROR(IF(A587=\"\",\"\",VLOOKUP(A587,[1]Hoja1!$B$2:$U$4999,9,FALSE)),0)","v":""},{"$f":"IFERROR(IF(A587=\"\",\"\",VLOOKUP(A587,[1]Hoja1!$B$2:$U$4999,2,FALSE)),\" --- NO EXISTE TRABAJADOR --- \")","v":""},null,null,null,null,null,"","","",{"$f":"IFERROR(IF(A587=\"\",\"\",VLOOKUP(A587,[1]Hoja1!$B$2:$U$4999,18,FALSE)),0)","v":""},{"$f":"IFERROR(IF(A587=\"\",\"\",VLOOKUP(A587,[1]Hoja1!$B$2:$U$4999,19,FALSE)),0)","v":""},"",null,{"$f":"IFERROR(IF(O587=\"\",\"\",VLOOKUP(O587,JORNADA!$A$19:$B$20,2,FALSE)),\"\")","v":""},{"$f":"IFERROR(IF(A587=\"\",\"\",VLOOKUP(A587,[1]Hoja1!$B$2:$U$4999,3,FALSE)),0)","v":""},null,"","",{"$f":"IFERROR(IF(A587=\"\",\"\",VLOOKUP(A587,[1]Hoja1!$B$2:$U$4999,10,FALSE)),0)","v":""},{"$f":"IFERROR(IF(Q587=\"\",\"\",VLOOKUP(Q587,[1]Hoja1!$D$2:$AF$4999,29,FALSE)),\"NO EXISTE CUENTA\")","v":""},null,null,""]
["",{"$f":"IFERROR(IF(A588=\"\",\"\",VLOOKUP(A588,[1]Hoja1!$B$2:$U$4999,9,FALSE)),0)","v":""},{"$f":"IFERROR(IF(A588=\"\",\"\",VLOOKUP(A588,[1]Hoja1!$B$2:$U$4999,2,FALSE)),\" --- NO EXISTE TRABAJADOR --- \")","v":""},null,null,null,null,null,"","","",{"$f":"IFERROR(IF(A588=\"\",\"\",VLOOKUP(A588,[1]Hoja1!$B$2:$U$4999,18,FALSE)),0)","v":""},{"$f":"IFERROR(IF(A588=\"\",\"\",VLOOKUP(A588,[1]Hoja1!$B$2:$U$4999,19,FALSE)),0)","v":""},"",null,{"$f":"IFERROR(IF(O588=\"\",\"\",VLOOKUP(O588,JORNADA!$A$19:$B$20,2,FALSE)),\"\")","v":""},{"$f":"IFERROR(IF(A588=\"\",\"\",VLOOKUP(A588,[1]Hoja1!$B$2:$U$4999,3,FALSE)),0)","v":""},null,"","",{"$f":"IFERROR(IF(A588=\"\",\"\",VLOOKUP(A588,[1]Hoja1!$B$2:$U$4999,10,FALSE)),0)","v":""},{"$f":"IFERROR(IF(Q588=\"\",\"\",VLOOKUP(Q588,[1]Hoja1!$D$2:$AF$4999,29,FALSE)),\"NO EXISTE CUENTA\")","v":""},null,null,""]
["",{"$f":"IFERROR(IF(A589=\"\",\"\",VLOOKUP(A589,[1]Hoja1!$B$2:$U$4999,9,FALSE)),0)","v":""},{"$f":"IFERROR(IF(A589=\"\",\"\",VLOOKUP(A589,[1]Hoja1!$B$2:$U$4999,2,FALSE)),\" --- NO EXISTE TRABAJADOR --- \")","v":""},null,null,null,null,null,"","","",{"$f":"IFERROR(IF(A589=\"\",\"\",VLOOKUP(A589,[1]Hoja1!$B$2:$U$4999,18,FALSE)),0)","v":""},{"$f":"IFERROR(IF(A589=\"\",\"\",VLOOKUP(A589,[1]Hoja1!$B$2:$U$4999,19,FALSE)),0)","v":""},"",null,{"$f":"IFERROR(IF(O589=\"\",\"\",VLOOKUP(O589,JORNADA!$A$19:$B$20,2,FALSE)),\"\")","v":""},{"$f":"IFERROR(IF(A589=\"\",\"\",VLOOKUP(A589,[1]Hoja1!$B$2:$U$4999,3,FALSE)),0)","v":""},null,"","",{"$f":"IFERROR(IF(A589=\"\",\"\",VLOOKUP(A589,[1]Hoja1!$B$2:$U$4999,10,FALSE)),0)","v":""},{"$f":"IFERROR(IF(Q589=\"\",\"\",VLOOKUP(Q589,[1]Hoja1!$D$2:$AF$4999,29,FALSE)),\"NO EXISTE CUENTA\")","v":""},null,null,""]
["",{"$f":"IFERROR(IF(A590=\"\",\"\",VLOOKUP(A590,[1]Hoja1!$B$2:$U$4999,9,FALSE)),0)","v":""},{"$f":"IFERROR(IF(A590=\"\",\"\",VLOOKUP(A590,[1]Hoja1!$B$2:$U$4999,2,FALSE)),\" --- NO EXISTE TRABAJADOR --- \")","v":""},null,null,null,null,null,"","","",{"$f":"IFERROR(IF(A590=\"\",\"\",VLOOKUP(A590,[1]Hoja1!$B$2:$U$4999,18,FALSE)),0)","v":""},{"$f":"IFERROR(IF(A590=\"\",\"\",VLOOKUP(A590,[1]Hoja1!$B$2:$U$4999,19,FALSE)),0)","v":""},"",null,{"$f":"IFERROR(IF(O590=\"\",\"\",VLOOKUP(O590,JORNADA!$A$19:$B$20,2,FALSE)),\"\")","v":""},{"$f":"IFERROR(IF(A590=\"\",\"\",VLOOKUP(A590,[1]Hoja1!$B$2:$U$4999,3,FALSE)),0)","v":""},null,"","",{"$f":"IFERROR(IF(A590=\"\",\"\",VLOOKUP(A590,[1]Hoja1!$B$2:$U$4999,10,FALSE)),0)","v":""},{"$f":"IFERROR(IF(Q590=\"\",\"\",VLOOKUP(Q590,[1]Hoja1!$D$2:$AF$4999,29,FALSE)),\"NO EXISTE CUENTA\")","v":""},null,null,""]
["",{"$f":"IFERROR(IF(A591=\"\",\"\",VLOOKUP(A591,[1]Hoja1!$B$2:$U$4999,9,FALSE)),0)","v":""},{"$f":"IFERROR(IF(A591=\"\",\"\",VLOOKUP(A591,[1]Hoja1!$B$2:$U$4999,2,FALSE)),\" --- NO EXISTE TRABAJADOR --- \")","v":""},null,null,null,null,null,"","","",{"$f":"IFERROR(IF(A591=\"\",\"\",VLOOKUP(A591,[1]Hoja1!$B$2:$U$4999,18,FALSE)),0)","v":""},{"$f":"IFERROR(IF(A591=\"\",\"\",VLOOKUP(A591,[1]Hoja1!$B$2:$U$4999,19,FALSE)),0)","v":""},"",null,{"$f":"IFERROR(IF(O591=\"\",\"\",VLOOKUP(O591,JORNADA!$A$19:$B$20,2,FALSE)),\"\")","v":""},{"$f":"IFERROR(IF(A591=\"\",\"\",VLOOKUP(A591,[1]Hoja1!$B$2:$U$4999,3,FALSE)),0)","v":""},null,"","",{"$f":"IFERROR(IF(A591=\"\",\"\",VLOOKUP(A591,[1]Hoja1!$B$2:$U$4999,10,FALSE)),0)","v":""},{"$f":"IFERROR(IF(Q591=\"\",\"\",VLOOKUP(Q591,[1]Hoja1!$D$2:$AF$4999,29,FALSE)),\"NO EXISTE CUENTA\")","v":""},null,null,""]
["",{"$f":"IFERROR(IF(A592=\"\",\"\",VLOOKUP(A592,[1]Hoja1!$B$2:$U$4999,9,FALSE)),0)","v":""},{"$f":"IFERROR(IF(A592=\"\",\"\",VLOOKUP(A592,[1]Hoja1!$B$2:$U$4999,2,FALSE)),\" --- NO EXISTE TRABAJADOR --- \")","v":""},null,null,null,null,null,"","","",{"$f":"IFERROR(IF(A592=\"\",\"\",VLOOKUP(A592,[1]Hoja1!$B$2:$U$4999,18,FALSE)),0)","v":""},{"$f":"IFERROR(IF(A592=\"\",\"\",VLOOKUP(A592,[1]Hoja1!$B$2:$U$4999,19,FALSE)),0)","v":""},"",null,{"$f":"IFERROR(IF(O592=\"\",\"\",VLOOKUP(O592,JORNADA!$A$19:$B$20,2,FALSE)),\"\")","v":""},{"$f":"IFERROR(IF(A592=\"\",\"\",VLOOKUP(A592,[1]Hoja1!$B$2:$U$4999,3,FALSE)),0)","v":""},null,"","",{"$f":"IFERROR(IF(A592=\"\",\"\",VLOOKUP(A592,[1]Hoja1!$B$2:$U$4999,10,FALSE)),0)","v":""},{"$f":"IFERROR(IF(Q592=\"\",\"\",VLOOKUP(Q592,[1]Hoja1!$D$2:$AF$4999,29,FALSE)),\"NO EXISTE CUENTA\")","v":""},null,null,""]
["",{"$f":"IFERROR(IF(A593=\"\",\"\",VLOOKUP(A593,[1]Hoja1!$B$2:$U$4999,9,FALSE)),0)","v":""},{"$f":"IFERROR(IF(A593=\"\",\"\",VLOOKUP(A593,[1]Hoja1!$B$2:$U$4999,2,FALSE)),\" --- NO EXISTE TRABAJADOR --- \")","v":""},null,null,null,null,null,"","","",{"$f":"IFERROR(IF(A593=\"\",\"\",VLOOKUP(A593,[1]Hoja1!$B$2:$U$4999,18,FALSE)),0)","v":""},{"$f":"IFERROR(IF(A593=\"\",\"\",VLOOKUP(A593,[1]Hoja1!$B$2:$U$4999,19,FALSE)),0)","v":""},"",null,{"$f":"IFERROR(IF(O593=\"\",\"\",VLOOKUP(O593,JORNADA!$A$19:$B$20,2,FALSE)),\"\")","v":""},{"$f":"IFERROR(IF(A593=\"\",\"\",VLOOKUP(A593,[1]Hoja1!$B$2:$U$4999,3,FALSE)),0)","v":""},null,"","",{"$f":"IFERROR(IF(A593=\"\",\"\",VLOOKUP(A593,[1]Hoja1!$B$2:$U$4999,10,FALSE)),0)","v":""},{"$f":"IFERROR(IF(Q593=\"\",\"\",VLOOKUP(Q593,[1]Hoja1!$D$2:$AF$4999,29,FALSE)),\"NO EXISTE CUENTA\")","v":""},null,null,""]
["",{"$f":"IFERROR(IF(A594=\"\",\"\",VLOOKUP(A594,[1]Hoja1!$B$2:$U$4999,9,FALSE)),0)","v":""},{"$f":"IFERROR(IF(A594=\"\",\"\",VLOOKUP(A594,[1]Hoja1!$B$2:$U$4999,2,FALSE)),\" --- NO EXISTE TRABAJADOR --- \")","v":""},null,null,null,null,null,"","","",{"$f":"IFERROR(IF(A594=\"\",\"\",VLOOKUP(A594,[1]Hoja1!$B$2:$U$4999,18,FALSE)),0)","v":""},{"$f":"IFERROR(IF(A594=\"\",\"\",VLOOKUP(A594,[1]Hoja1!$B$2:$U$4999,19,FALSE)),0)","v":""},"",null,{"$f":"IFERROR(IF(O594=\"\",\"\",VLOOKUP(O594,JORNADA!$A$19:$B$20,2,FALSE)),\"\")","v":""},{"$f":"IFERROR(IF(A594=\"\",\"\",VLOOKUP(A594,[1]Hoja1!$B$2:$U$4999,3,FALSE)),0)","v":""},null,"","",{"$f":"IFERROR(IF(A594=\"\",\"\",VLOOKUP(A594,[1]Hoja1!$B$2:$U$4999,10,FALSE)),0)","v":""},{"$f":"IFERROR(IF(Q594=\"\",\"\",VLOOKUP(Q594,[1]Hoja1!$D$2:$AF$4999,29,FALSE)),\"NO EXISTE CUENTA\")","v":""},null,null,""]
["",{"$f":"IFERROR(IF(A595=\"\",\"\",VLOOKUP(A595,[1]Hoja1!$B$2:$U$4999,9,FALSE)),0)","v":""},{"$f":"IFERROR(IF(A595=\"\",\"\",VLOOKUP(A595,[1]Hoja1!$B$2:$U$4999,2,FALSE)),\" --- NO EXISTE TRABAJADOR --- \")","v":""},null,null,null,null,null,"","","",{"$f":"IFERROR(IF(A595=\"\",\"\",VLOOKUP(A595,[1]Hoja1!$B$2:$U$4999,18,FALSE)),0)","v":""},{"$f":"IFERROR(IF(A595=\"\",\"\",VLOOKUP(A595,[1]Hoja1!$B$2:$U$4999,19,FALSE)),0)","v":""},"",null,{"$f":"IFERROR(IF(O595=\"\",\"\",VLOOKUP(O595,JORNADA!$A$19:$B$20,2,FALSE)),\"\")","v":""},{"$f":"IFERROR(IF(A595=\"\",\"\",VLOOKUP(A595,[1]Hoja1!$B$2:$U$4999,3,FALSE)),0)","v":""},null,"","",{"$f":"IFERROR(IF(A595=\"\",\"\",VLOOKUP(A595,[1]Hoja1!$B$2:$U$4999,10,FALSE)),0)","v":""},{"$f":"IFERROR(IF(Q595=\"\",\"\",VLOOKUP(Q595,[1]Hoja1!$D$2:$AF$4999,29,FALSE)),\"NO EXISTE CUENTA\")","v":""},null,null,""]
["",{"$f":"IFERROR(IF(A596=\"\",\"\",VLOOKUP(A596,[1]Hoja1!$B$2:$U$4999,9,FALSE)),0)","v":""},{"$f":"IFERROR(IF(A596=\"\",\"\",VLOOKUP(A596,[1]Hoja1!$B$2:$U$4999,2,FALSE)),\" --- NO EXISTE TRABAJADOR --- \")","v":""},null,null,null,null,null,"","","",{"$f":"IFERROR(IF(A596=\"\",\"\",VLOOKUP(A596,[1]Hoja1!$B$2:$U$4999,18,FALSE)),0)","v":""},{"$f":"IFERROR(IF(A596=\"\",\"\",VLOOKUP(A596,[1]Hoja1!$B$2:$U$4999,19,FALSE)),0)","v":""},"",null,{"$f":"IFERROR(IF(O596=\"\",\"\",VLOOKUP(O596,JORNADA!$A$19:$B$20,2,FALSE)),\"\")","v":""},{"$f":"IFERROR(IF(A596=\"\",\"\",VLOOKUP(A596,[1]Hoja1!$B$2:$U$4999,3,FALSE)),0)","v":""},null,"","",{"$f":"IFERROR(IF(A596=\"\",\"\",VLOOKUP(A596,[1]Hoja1!$B$2:$U$4999,10,FALSE)),0)","v":""},{"$f":"IFERROR(IF(Q596=\"\",\"\",VLOOKUP(Q596,[1]Hoja1!$D$2:$AF$4999,29,FALSE)),\"NO EXISTE CUENTA\")","v":""},null,null,""]
["",{"$f":"IFERROR(IF(A597=\"\",\"\",VLOOKUP(A597,[1]Hoja1!$B$2:$U$4999,9,FALSE)),0)","v":""},{"$f":"IFERROR(IF(A597=\"\",\"\",VLOOKUP(A597,[1]Hoja1!$B$2:$U$4999,2,FALSE)),\" --- NO EXISTE TRABAJADOR --- \")","v":""},null,null,null,null,null,"","","",{"$f":"IFERROR(IF(A597=\"\",\"\",VLOOKUP(A597,[1]Hoja1!$B$2:$U$4999,18,FALSE)),0)","v":""},{"$f":"IFERROR(IF(A597=\"\",\"\",VLOOKUP(A597,[1]Hoja1!$B$2:$U$4999,19,FALSE)),0)","v":""},"",null,{"$f":"IFERROR(IF(O597=\"\",\"\",VLOOKUP(O597,JORNADA!$A$19:$B$20,2,FALSE)),\"\")","v":""},{"$f":"IFERROR(IF(A597=\"\",\"\",VLOOKUP(A597,[1]Hoja1!$B$2:$U$4999,3,FALSE)),0)","v":""},null,"","",{"$f":"IFERROR(IF(A597=\"\",\"\",VLOOKUP(A597,[1]Hoja1!$B$2:$U$4999,10,FALSE)),0)","v":""},{"$f":"IFERROR(IF(Q597=\"\",\"\",VLOOKUP(Q597,[1]Hoja1!$D$2:$AF$4999,29,FALSE)),\"NO EXISTE CUENTA\")","v":""},null,null,""]
["",{"$f":"IFERROR(IF(A598=\"\",\"\",VLOOKUP(A598,[1]Hoja1!$B$2:$U$4999,9,FALSE)),0)","v":""},{"$f":"IFERROR(IF(A598=\"\",\"\",VLOOKUP(A598,[1]Hoja1!$B$2:$U$4999,2,FALSE)),\" --- NO EXISTE TRABAJADOR --- \")","v":""},null,null,null,null,null,"","","",{"$f":"IFERROR(IF(A598=\"\",\"\",VLOOKUP(A598,[1]Hoja1!$B$2:$U$4999,18,FALSE)),0)","v":""},{"$f":"IFERROR(IF(A598=\"\",\"\",VLOOKUP(A598,[1]Hoja1!$B$2:$U$4999,19,FALSE)),0)","v":""},"",null,{"$f":"IFERROR(IF(O598=\"\",\"\",VLOOKUP(O598,JORNADA!$A$19:$B$20,2,FALSE)),\"\")","v":""},{"$f":"IFERROR(IF(A598=\"\",\"\",VLOOKUP(A598,[1]Hoja1!$B$2:$U$4999,3,FALSE)),0)","v":""},null,"","",{"$f":"IFERROR(IF(A598=\"\",\"\",VLOOKUP(A598,[1]Hoja1!$B$2:$U$4999,10,FALSE)),0)","v":""},{"$f":"IFERROR(IF(Q598=\"\",\"\",VLOOKUP(Q598,[1]Hoja1!$D$2:$AF$4999,29,FALSE)),\"NO EXISTE CUENTA\")","v":""},null,null,""]
["",{"$f":"IFERROR(IF(A599=\"\",\"\",VLOOKUP(A599,[1]Hoja1!$B$2:$U$4999,9,FALSE)),0)","v":""},{"$f":"IFERROR(IF(A599=\"\",\"\",VLOOKUP(A599,[1]Hoja1!$B$2:$U$4999,2,FALSE)),\" --- NO EXISTE TRABAJADOR --- \")","v":""},null,null,null,null,null,"","","",{"$f":"IFERROR(IF(A599=\"\",\"\",VLOOKUP(A599,[1]Hoja1!$B$2:$U$4999,18,FALSE)),0)","v":""},{"$f":"IFERROR(IF(A599=\"\",\"\",VLOOKUP(A599,[1]Hoja1!$B$2:$U$4999,19,FALSE)),0)","v":""},"",null,{"$f":"IFERROR(IF(O599=\"\",\"\",VLOOKUP(O599,JORNADA!$A$19:$B$20,2,FALSE)),\"\")","v":""},{"$f":"IFERROR(IF(A599=\"\",\"\",VLOOKUP(A599,[1]Hoja1!$B$2:$U$4999,3,FALSE)),0)","v":""},null,"","",{"$f":"IFERROR(IF(A599=\"\",\"\",VLOOKUP(A599,[1]Hoja1!$B$2:$U$4999,10,FALSE)),0)","v":""},{"$f":"IFERROR(IF(Q599=\"\",\"\",VLOOKUP(Q599,[1]Hoja1!$D$2:$AF$4999,29,FALSE)),\"NO EXISTE CUENTA\")","v":""},null,null,""]
["",{"$f":"IFERROR(IF(A600=\"\",\"\",VLOOKUP(A600,[1]Hoja1!$B$2:$U$4999,9,FALSE)),0)","v":""},{"$f":"IFERROR(IF(A600=\"\",\"\",VLOOKUP(A600,[1]Hoja1!$B$2:$U$4999,2,FALSE)),\" --- NO EXISTE TRABAJADOR --- \")","v":""},null,null,null,null,null,"","","",{"$f":"IFERROR(IF(A600=\"\",\"\",VLOOKUP(A600,[1]Hoja1!$B$2:$U$4999,18,FALSE)),0)","v":""},{"$f":"IFERROR(IF(A600=\"\",\"\",VLOOKUP(A600,[1]Hoja1!$B$2:$U$4999,19,FALSE)),0)","v":""},"",null,{"$f":"IFERROR(IF(O600=\"\",\"\",VLOOKUP(O600,JORNADA!$A$19:$B$20,2,FALSE)),\"\")","v":""},{"$f":"IFERROR(IF(A600=\"\",\"\",VLOOKUP(A600,[1]Hoja1!$B$2:$U$4999,3,FALSE)),0)","v":""},null,"","",{"$f":"IFERROR(IF(A600=\"\",\"\",VLOOKUP(A600,[1]Hoja1!$B$2:$U$4999,10,FALSE)),0)","v":""},{"$f":"IFERROR(IF(Q600=\"\",\"\",VLOOKUP(Q600,[1]Hoja1!$D$2:$AF$4999,29,FALSE)),\"NO EXISTE CUENTA\")","v":""},null,null,""]
["",{"$f":"IFERROR(IF(A601=\"\",\"\",VLOOKUP(A601,[1]Hoja1!$B$2:$U$4999,9,FALSE)),0)","v":""},{"$f":"IFERROR(IF(A601=\"\",\"\",VLOOKUP(A601,[1]Hoja1!$B$2:$U$4999,2,FALSE)),\" --- NO EXISTE TRABAJADOR --- \")","v":""},null,null,null,null,null,"","","",{"$f":"IFERROR(IF(A601=\"\",\"\",VLOOKUP(A601,[1]Hoja1!$B$2:$U$4999,18,FALSE)),0)","v":""},{"$f":"IFERROR(IF(A601=\"\",\"\",VLOOKUP(A601,[1]Hoja1!$B$2:$U$4999,19,FALSE)),0)","v":""},"",null,{"$f":"IFERROR(IF(O601=\"\",\"\",VLOOKUP(O601,JORNADA!$A$19:$B$20,2,FALSE)),\"\")","v":""},{"$f":"IFERROR(IF(A601=\"\",\"\",VLOOKUP(A601,[1]Hoja1!$B$2:$U$4999,3,FALSE)),0)","v":""},null,"","",{"$f":"IFERROR(IF(A601=\"\",\"\",VLOOKUP(A601,[1]Hoja1!$B$2:$U$4999,10,FALSE)),0)","v":""},{"$f":"IFERROR(IF(Q601=\"\",\"\",VLOOKUP(Q601,[1]Hoja1!$D$2:$AF$4999,29,FALSE)),\"NO EXISTE CUENTA\")","v":""},null,null,""]
["",{"$f":"IFERROR(IF(A602=\"\",\"\",VLOOKUP(A602,[1]Hoja1!$B$2:$U$4999,9,FALSE)),0)","v":""},{"$f":"IFERROR(IF(A602=\"\",\"\",VLOOKUP(A602,[1]Hoja1!$B$2:$U$4999,2,FALSE)),\" --- NO EXISTE TRABAJADOR --- \")","v":""},null,null,null,null,null,"","","",{"$f":"IFERROR(IF(A602=\"\",\"\",VLOOKUP(A602,[1]Hoja1!$B$2:$U$4999,18,FALSE)),0)","v":""},{"$f":"IFERROR(IF(A602=\"\",\"\",VLOOKUP(A602,[1]Hoja1!$B$2:$U$4999,19,FALSE)),0)","v":""},"",null,{"$f":"IFERROR(IF(O602=\"\",\"\",VLOOKUP(O602,JORNADA!$A$19:$B$20,2,FALSE)),\"\")","v":""},{"$f":"IFERROR(IF(A602=\"\",\"\",VLOOKUP(A602,[1]Hoja1!$B$2:$U$4999,3,FALSE)),0)","v":""},null,"","",{"$f":"IFERROR(IF(A602=\"\",\"\",VLOOKUP(A602,[1]Hoja1!$B$2:$U$4999,10,FALSE)),0)","v":""},{"$f":"IFERROR(IF(Q602=\"\",\"\",VLOOKUP(Q602,[1]Hoja1!$D$2:$AF$4999,29,FALSE)),\"NO EXISTE CUENTA\")","v":""},null,null,""]
["",{"$f":"IFERROR(IF(A603=\"\",\"\",VLOOKUP(A603,[1]Hoja1!$B$2:$U$4999,9,FALSE)),0)","v":""},{"$f":"IFERROR(IF(A603=\"\",\"\",VLOOKUP(A603,[1]Hoja1!$B$2:$U$4999,2,FALSE)),\" --- NO EXISTE TRABAJADOR --- \")","v":""},null,null,null,null,null,"","","",{"$f":"IFERROR(IF(A603=\"\",\"\",VLOOKUP(A603,[1]Hoja1!$B$2:$U$4999,18,FALSE)),0)","v":""},{"$f":"IFERROR(IF(A603=\"\",\"\",VLOOKUP(A603,[1]Hoja1!$B$2:$U$4999,19,FALSE)),0)","v":""},"",null,{"$f":"IFERROR(IF(O603=\"\",\"\",VLOOKUP(O603,JORNADA!$A$19:$B$20,2,FALSE)),\"\")","v":""},{"$f":"IFERROR(IF(A603=\"\",\"\",VLOOKUP(A603,[1]Hoja1!$B$2:$U$4999,3,FALSE)),0)","v":""},null,"","",{"$f":"IFERROR(IF(A603=\"\",\"\",VLOOKUP(A603,[1]Hoja1!$B$2:$U$4999,10,FALSE)),0)","v":""},{"$f":"IFERROR(IF(Q603=\"\",\"\",VLOOKUP(Q603,[1]Hoja1!$D$2:$AF$4999,29,FALSE)),\"NO EXISTE CUENTA\")","v":""},null,null,""]
["",{"$f":"IFERROR(IF(A604=\"\",\"\",VLOOKUP(A604,[1]Hoja1!$B$2:$U$4999,9,FALSE)),0)","v":""},{"$f":"IFERROR(IF(A604=\"\",\"\",VLOOKUP(A604,[1]Hoja1!$B$2:$U$4999,2,FALSE)),\" --- NO EXISTE TRABAJADOR --- \")","v":""},null,null,null,null,null,"","","",{"$f":"IFERROR(IF(A604=\"\",\"\",VLOOKUP(A604,[1]Hoja1!$B$2:$U$4999,18,FALSE)),0)","v":""},{"$f":"IFERROR(IF(A604=\"\",\"\",VLOOKUP(A604,[1]Hoja1!$B$2:$U$4999,19,FALSE)),0)","v":""},"",null,{"$f":"IFERROR(IF(O604=\"\",\"\",VLOOKUP(O604,JORNADA!$A$19:$B$20,2,FALSE)),\"\")","v":""},{"$f":"IFERROR(IF(A604=\"\",\"\",VLOOKUP(A604,[1]Hoja1!$B$2:$U$4999,3,FALSE)),0)","v":""},null,"","",{"$f":"IFERROR(IF(A604=\"\",\"\",VLOOKUP(A604,[1]Hoja1!$B$2:$U$4999,10,FALSE)),0)","v":""},{"$f":"IFERROR(IF(Q604=\"\",\"\",VLOOKUP(Q604,[1]Hoja1!$D$2:$AF$4999,29,FALSE)),\"NO EXISTE CUENTA\")","v":""},null,null,""]
["",{"$f":"IFERROR(IF(A605=\"\",\"\",VLOOKUP(A605,[1]Hoja1!$B$2:$U$4999,9,FALSE)),0)","v":""},{"$f":"IFERROR(IF(A605=\"\",\"\",VLOOKUP(A605,[1]Hoja1!$B$2:$U$4999,2,FALSE)),\" --- NO EXISTE TRABAJADOR --- \")","v":""},null,null,null,null,null,"","","",{"$f":"IFERROR(IF(A605=\"\",\"\",VLOOKUP(A605,[1]Hoja1!$B$2:$U$4999,18,FALSE)),0)","v":""},{"$f":"IFERROR(IF(A605=\"\",\"\",VLOOKUP(A605,[1]Hoja1!$B$2:$U$4999,19,FALSE)),0)","v":""},"",null,{"$f":"IFERROR(IF(O605=\"\",\"\",VLOOKUP(O605,JORNADA!$A$19:$B$20,2,FALSE)),\"\")","v":""},{"$f":"IFERROR(IF(A605=\"\",\"\",VLOOKUP(A605,[1]Hoja1!$B$2:$U$4999,3,FALSE)),0)","v":""},null,"","",{"$f":"IFERROR(IF(A605=\"\",\"\",VLOOKUP(A605,[1]Hoja1!$B$2:$U$4999,10,FALSE)),0)","v":""},{"$f":"IFERROR(IF(Q605=\"\",\"\",VLOOKUP(Q605,[1]Hoja1!$D$2:$AF$4999,29,FALSE)),\"NO EXISTE CUENTA\")","v":""},null,null,""]
["",{"$f":"IFERROR(IF(A606=\"\",\"\",VLOOKUP(A606,[1]Hoja1!$B$2:$U$4999,9,FALSE)),0)","v":""},{"$f":"IFERROR(IF(A606=\"\",\"\",VLOOKUP(A606,[1]Hoja1!$B$2:$U$4999,2,FALSE)),\" --- NO EXISTE TRABAJADOR --- \")","v":""},null,null,null,null,null,"","","",{"$f":"IFERROR(IF(A606=\"\",\"\",VLOOKUP(A606,[1]Hoja1!$B$2:$U$4999,18,FALSE)),0)","v":""},{"$f":"IFERROR(IF(A606=\"\",\"\",VLOOKUP(A606,[1]Hoja1!$B$2:$U$4999,19,FALSE)),0)","v":""},"",null,{"$f":"IFERROR(IF(O606=\"\",\"\",VLOOKUP(O606,JORNADA!$A$19:$B$20,2,FALSE)),\"\")","v":""},{"$f":"IFERROR(IF(A606=\"\",\"\",VLOOKUP(A606,[1]Hoja1!$B$2:$U$4999,3,FALSE)),0)","v":""},null,"","",{"$f":"IFERROR(IF(A606=\"\",\"\",VLOOKUP(A606,[1]Hoja1!$B$2:$U$4999,10,FALSE)),0)","v":""},{"$f":"IFERROR(IF(Q606=\"\",\"\",VLOOKUP(Q606,[1]Hoja1!$D$2:$AF$4999,29,FALSE)),\"NO EXISTE CUENTA\")","v":""},null,null,""]
["",{"$f":"IFERROR(IF(A607=\"\",\"\",VLOOKUP(A607,[1]Hoja1!$B$2:$U$4999,9,FALSE)),0)","v":""},{"$f":"IFERROR(IF(A607=\"\",\"\",VLOOKUP(A607,[1]Hoja1!$B$2:$U$4999,2,FALSE)),\" --- NO EXISTE TRABAJADOR --- \")","v":""},null,null,null,null,null,"","","",{"$f":"IFERROR(IF(A607=\"\",\"\",VLOOKUP(A607,[1]Hoja1!$B$2:$U$4999,18,FALSE)),0)","v":""},{"$f":"IFERROR(IF(A607=\"\",\"\",VLOOKUP(A607,[1]Hoja1!$B$2:$U$4999,19,FALSE)),0)","v":""},"",null,{"$f":"IFERROR(IF(O607=\"\",\"\",VLOOKUP(O607,JORNADA!$A$19:$B$20,2,FALSE)),\"\")","v":""},{"$f":"IFERROR(IF(A607=\"\",\"\",VLOOKUP(A607,[1]Hoja1!$B$2:$U$4999,3,FALSE)),0)","v":""},null,"","",{"$f":"IFERROR(IF(A607=\"\",\"\",VLOOKUP(A607,[1]Hoja1!$B$2:$U$4999,10,FALSE)),0)","v":""},{"$f":"IFERROR(IF(Q607=\"\",\"\",VLOOKUP(Q607,[1]Hoja1!$D$2:$AF$4999,29,FALSE)),\"NO EXISTE CUENTA\")","v":""},null,null,""]
["",{"$f":"IFERROR(IF(A608=\"\",\"\",VLOOKUP(A608,[1]Hoja1!$B$2:$U$4999,9,FALSE)),0)","v":""},{"$f":"IFERROR(IF(A608=\"\",\"\",VLOOKUP(A608,[1]Hoja1!$B$2:$U$4999,2,FALSE)),\" --- NO EXISTE TRABAJADOR --- \")","v":""},null,null,null,null,null,"","","",{"$f":"IFERROR(IF(A608=\"\",\"\",VLOOKUP(A608,[1]Hoja1!$B$2:$U$4999,18,FALSE)),0)","v":""},{"$f":"IFERROR(IF(A608=\"\",\"\",VLOOKUP(A608,[1]Hoja1!$B$2:$U$4999,19,FALSE)),0)","v":""},"",null,{"$f":"IFERROR(IF(O608=\"\",\"\",VLOOKUP(O608,JORNADA!$A$19:$B$20,2,FALSE)),\"\")","v":""},{"$f":"IFERROR(IF(A608=\"\",\"\",VLOOKUP(A608,[1]Hoja1!$B$2:$U$4999,3,FALSE)),0)","v":""},null,"","",{"$f":"IFERROR(IF(A608=\"\",\"\",VLOOKUP(A608,[1]Hoja1!$B$2:$U$4999,10,FALSE)),0)","v":""},{"$f":"IFERROR(IF(Q608=\"\",\"\",VLOOKUP(Q608,[1]Hoja1!$D$2:$AF$4999,29,FALSE)),\"NO EXISTE CUENTA\")","v":""},null,null,""]
["",{"$f":"IFERROR(IF(A609=\"\",\"\",VLOOKUP(A609,[1]Hoja1!$B$2:$U$4999,9,FALSE)),0)","v":""},{"$f":"IFERROR(IF(A609=\"\",\"\",VLOOKUP(A609,[1]Hoja1!$B$2:$U$4999,2,FALSE)),\" --- NO EXISTE TRABAJADOR --- \")","v":""},null,null,null,null,null,"","","",{"$f":"IFERROR(IF(A609=\"\",\"\",VLOOKUP(A609,[1]Hoja1!$B$2:$U$4999,18,FALSE)),0)","v":""},{"$f":"IFERROR(IF(A609=\"\",\"\",VLOOKUP(A609,[1]Hoja1!$B$2:$U$4999,19,FALSE)),0)","v":""},"",null,{"$f":"IFERROR(IF(O609=\"\",\"\",VLOOKUP(O609,JORNADA!$A$19:$B$20,2,FALSE)),\"\")","v":""},{"$f":"IFERROR(IF(A609=\"\",\"\",VLOOKUP(A609,[1]Hoja1!$B$2:$U$4999,3,FALSE)),0)","v":""},null,"","",{"$f":"IFERROR(IF(A609=\"\",\"\",VLOOKUP(A609,[1]Hoja1!$B$2:$U$4999,10,FALSE)),0)","v":""},{"$f":"IFERROR(IF(Q609=\"\",\"\",VLOOKUP(Q609,[1]Hoja1!$D$2:$AF$4999,29,FALSE)),\"NO EXISTE CUENTA\")","v":""},null,null,""]
["",{"$f":"IFERROR(IF(A610=\"\",\"\",VLOOKUP(A610,[1]Hoja1!$B$2:$U$4999,9,FALSE)),0)","v":""},{"$f":"IFERROR(IF(A610=\"\",\"\",VLOOKUP(A610,[1]Hoja1!$B$2:$U$4999,2,FALSE)),\" --- NO EXISTE TRABAJADOR --- \")","v":""},null,null,null,null,null,"","","",{"$f":"IFERROR(IF(A610=\"\",\"\",VLOOKUP(A610,[1]Hoja1!$B$2:$U$4999,18,FALSE)),0)","v":""},{"$f":"IFERROR(IF(A610=\"\",\"\",VLOOKUP(A610,[1]Hoja1!$B$2:$U$4999,19,FALSE)),0)","v":""},"",null,{"$f":"IFERROR(IF(O610=\"\",\"\",VLOOKUP(O610,JORNADA!$A$19:$B$20,2,FALSE)),\"\")","v":""},{"$f":"IFERROR(IF(A610=\"\",\"\",VLOOKUP(A610,[1]Hoja1!$B$2:$U$4999,3,FALSE)),0)","v":""},null,"","",{"$f":"IFERROR(IF(A610=\"\",\"\",VLOOKUP(A610,[1]Hoja1!$B$2:$U$4999,10,FALSE)),0)","v":""},{"$f":"IFERROR(IF(Q610=\"\",\"\",VLOOKUP(Q610,[1]Hoja1!$D$2:$AF$4999,29,FALSE)),\"NO EXISTE CUENTA\")","v":""},null,null,""]
["",{"$f":"IFERROR(IF(A611=\"\",\"\",VLOOKUP(A611,[1]Hoja1!$B$2:$U$4999,9,FALSE)),0)","v":""},{"$f":"IFERROR(IF(A611=\"\",\"\",VLOOKUP(A611,[1]Hoja1!$B$2:$U$4999,2,FALSE)),\" --- NO EXISTE TRABAJADOR --- \")","v":""},null,null,null,null,null,"","","",{"$f":"IFERROR(IF(A611=\"\",\"\",VLOOKUP(A611,[1]Hoja1!$B$2:$U$4999,18,FALSE)),0)","v":""},{"$f":"IFERROR(IF(A611=\"\",\"\",VLOOKUP(A611,[1]Hoja1!$B$2:$U$4999,19,FALSE)),0)","v":""},"",null,{"$f":"IFERROR(IF(O611=\"\",\"\",VLOOKUP(O611,JORNADA!$A$19:$B$20,2,FALSE)),\"\")","v":""},{"$f":"IFERROR(IF(A611=\"\",\"\",VLOOKUP(A611,[1]Hoja1!$B$2:$U$4999,3,FALSE)),0)","v":""},null,"","",{"$f":"IFERROR(IF(A611=\"\",\"\",VLOOKUP(A611,[1]Hoja1!$B$2:$U$4999,10,FALSE)),0)","v":""},{"$f":"IFERROR(IF(Q611=\"\",\"\",VLOOKUP(Q611,[1]Hoja1!$D$2:$AF$4999,29,FALSE)),\"NO EXISTE CUENTA\")","v":""},null,null,""]
["",{"$f":"IFERROR(IF(A612=\"\",\"\",VLOOKUP(A612,[1]Hoja1!$B$2:$U$4999,9,FALSE)),0)","v":""},{"$f":"IFERROR(IF(A612=\"\",\"\",VLOOKUP(A612,[1]Hoja1!$B$2:$U$4999,2,FALSE)),\" --- NO EXISTE TRABAJADOR --- \")","v":""},null,null,null,null,null,"","","",{"$f":"IFERROR(IF(A612=\"\",\"\",VLOOKUP(A612,[1]Hoja1!$B$2:$U$4999,18,FALSE)),0)","v":""},{"$f":"IFERROR(IF(A612=\"\",\"\",VLOOKUP(A612,[1]Hoja1!$B$2:$U$4999,19,FALSE)),0)","v":""},"",null,{"$f":"IFERROR(IF(O612=\"\",\"\",VLOOKUP(O612,JORNADA!$A$19:$B$20,2,FALSE)),\"\")","v":""},{"$f":"IFERROR(IF(A612=\"\",\"\",VLOOKUP(A612,[1]Hoja1!$B$2:$U$4999,3,FALSE)),0)","v":""},null,"","",{"$f":"IFERROR(IF(A612=\"\",\"\",VLOOKUP(A612,[1]Hoja1!$B$2:$U$4999,10,FALSE)),0)","v":""},{"$f":"IFERROR(IF(Q612=\"\",\"\",VLOOKUP(Q612,[1]Hoja1!$D$2:$AF$4999,29,FALSE)),\"NO EXISTE CUENTA\")","v":""},null,null,""]
["",{"$f":"IFERROR(IF(A613=\"\",\"\",VLOOKUP(A613,[1]Hoja1!$B$2:$U$4999,9,FALSE)),0)","v":""},{"$f":"IFERROR(IF(A613=\"\",\"\",VLOOKUP(A613,[1]Hoja1!$B$2:$U$4999,2,FALSE)),\" --- NO EXISTE TRABAJADOR --- \")","v":""},null,null,null,null,null,"","","",{"$f":"IFERROR(IF(A613=\"\",\"\",VLOOKUP(A613,[1]Hoja1!$B$2:$U$4999,18,FALSE)),0)","v":""},{"$f":"IFERROR(IF(A613=\"\",\"\",VLOOKUP(A613,[1]Hoja1!$B$2:$U$4999,19,FALSE)),0)","v":""},"",null,{"$f":"IFERROR(IF(O613=\"\",\"\",VLOOKUP(O613,JORNADA!$A$19:$B$20,2,FALSE)),\"\")","v":""},{"$f":"IFERROR(IF(A613=\"\",\"\",VLOOKUP(A613,[1]Hoja1!$B$2:$U$4999,3,FALSE)),0)","v":""},null,"","",{"$f":"IFERROR(IF(A613=\"\",\"\",VLOOKUP(A613,[1]Hoja1!$B$2:$U$4999,10,FALSE)),0)","v":""},{"$f":"IFERROR(IF(Q613=\"\",\"\",VLOOKUP(Q613,[1]Hoja1!$D$2:$AF$4999,29,FALSE)),\"NO EXISTE CUENTA\")","v":""},null,null,""]
["",{"$f":"IFERROR(IF(A614=\"\",\"\",VLOOKUP(A614,[1]Hoja1!$B$2:$U$4999,9,FALSE)),0)","v":""},{"$f":"IFERROR(IF(A614=\"\",\"\",VLOOKUP(A614,[1]Hoja1!$B$2:$U$4999,2,FALSE)),\" --- NO EXISTE TRABAJADOR --- \")","v":""},null,null,null,null,null,"","","",{"$f":"IFERROR(IF(A614=\"\",\"\",VLOOKUP(A614,[1]Hoja1!$B$2:$U$4999,18,FALSE)),0)","v":""},{"$f":"IFERROR(IF(A614=\"\",\"\",VLOOKUP(A614,[1]Hoja1!$B$2:$U$4999,19,FALSE)),0)","v":""},"",null,{"$f":"IFERROR(IF(O614=\"\",\"\",VLOOKUP(O614,JORNADA!$A$19:$B$20,2,FALSE)),\"\")","v":""},{"$f":"IFERROR(IF(A614=\"\",\"\",VLOOKUP(A614,[1]Hoja1!$B$2:$U$4999,3,FALSE)),0)","v":""},null,"","",{"$f":"IFERROR(IF(A614=\"\",\"\",VLOOKUP(A614,[1]Hoja1!$B$2:$U$4999,10,FALSE)),0)","v":""},{"$f":"IFERROR(IF(Q614=\"\",\"\",VLOOKUP(Q614,[1]Hoja1!$D$2:$AF$4999,29,FALSE)),\"NO EXISTE CUENTA\")","v":""},null,null,""]
["",{"$f":"IFERROR(IF(A615=\"\",\"\",VLOOKUP(A615,[1]Hoja1!$B$2:$U$4999,9,FALSE)),0)","v":""},{"$f":"IFERROR(IF(A615=\"\",\"\",VLOOKUP(A615,[1]Hoja1!$B$2:$U$4999,2,FALSE)),\" --- NO EXISTE TRABAJADOR --- \")","v":""},null,null,null,null,null,"","","",{"$f":"IFERROR(IF(A615=\"\",\"\",VLOOKUP(A615,[1]Hoja1!$B$2:$U$4999,18,FALSE)),0)","v":""},{"$f":"IFERROR(IF(A615=\"\",\"\",VLOOKUP(A615,[1]Hoja1!$B$2:$U$4999,19,FALSE)),0)","v":""},"",null,{"$f":"IFERROR(IF(O615=\"\",\"\",VLOOKUP(O615,JORNADA!$A$19:$B$20,2,FALSE)),\"\")","v":""},{"$f":"IFERROR(IF(A615=\"\",\"\",VLOOKUP(A615,[1]Hoja1!$B$2:$U$4999,3,FALSE)),0)","v":""},null,"","",{"$f":"IFERROR(IF(A615=\"\",\"\",VLOOKUP(A615,[1]Hoja1!$B$2:$U$4999,10,FALSE)),0)","v":""},{"$f":"IFERROR(IF(Q615=\"\",\"\",VLOOKUP(Q615,[1]Hoja1!$D$2:$AF$4999,29,FALSE)),\"NO EXISTE CUENTA\")","v":""},null,null,""]
["",{"$f":"IFERROR(IF(A616=\"\",\"\",VLOOKUP(A616,[1]Hoja1!$B$2:$U$4999,9,FALSE)),0)","v":""},{"$f":"IFERROR(IF(A616=\"\",\"\",VLOOKUP(A616,[1]Hoja1!$B$2:$U$4999,2,FALSE)),\" --- NO EXISTE TRABAJADOR --- \")","v":""},null,null,null,null,null,"","","",{"$f":"IFERROR(IF(A616=\"\",\"\",VLOOKUP(A616,[1]Hoja1!$B$2:$U$4999,18,FALSE)),0)","v":""},{"$f":"IFERROR(IF(A616=\"\",\"\",VLOOKUP(A616,[1]Hoja1!$B$2:$U$4999,19,FALSE)),0)","v":""},"",null,{"$f":"IFERROR(IF(O616=\"\",\"\",VLOOKUP(O616,JORNADA!$A$19:$B$20,2,FALSE)),\"\")","v":""},{"$f":"IFERROR(IF(A616=\"\",\"\",VLOOKUP(A616,[1]Hoja1!$B$2:$U$4999,3,FALSE)),0)","v":""},null,"","",{"$f":"IFERROR(IF(A616=\"\",\"\",VLOOKUP(A616,[1]Hoja1!$B$2:$U$4999,10,FALSE)),0)","v":""},{"$f":"IFERROR(IF(Q616=\"\",\"\",VLOOKUP(Q616,[1]Hoja1!$D$2:$AF$4999,29,FALSE)),\"NO EXISTE CUENTA\")","v":""},null,null,""]
["",{"$f":"IFERROR(IF(A617=\"\",\"\",VLOOKUP(A617,[1]Hoja1!$B$2:$U$4999,9,FALSE)),0)","v":""},{"$f":"IFERROR(IF(A617=\"\",\"\",VLOOKUP(A617,[1]Hoja1!$B$2:$U$4999,2,FALSE)),\" --- NO EXISTE TRABAJADOR --- \")","v":""},null,null,null,null,null,"","","",{"$f":"IFERROR(IF(A617=\"\",\"\",VLOOKUP(A617,[1]Hoja1!$B$2:$U$4999,18,FALSE)),0)","v":""},{"$f":"IFERROR(IF(A617=\"\",\"\",VLOOKUP(A617,[1]Hoja1!$B$2:$U$4999,19,FALSE)),0)","v":""},"",null,{"$f":"IFERROR(IF(O617=\"\",\"\",VLOOKUP(O617,JORNADA!$A$19:$B$20,2,FALSE)),\"\")","v":""},{"$f":"IFERROR(IF(A617=\"\",\"\",VLOOKUP(A617,[1]Hoja1!$B$2:$U$4999,3,FALSE)),0)","v":""},null,"","",{"$f":"IFERROR(IF(A617=\"\",\"\",VLOOKUP(A617,[1]Hoja1!$B$2:$U$4999,10,FALSE)),0)","v":""},{"$f":"IFERROR(IF(Q617=\"\",\"\",VLOOKUP(Q617,[1]Hoja1!$D$2:$AF$4999,29,FALSE)),\"NO EXISTE CUENTA\")","v":""},null,null,""]
["",{"$f":"IFERROR(IF(A618=\"\",\"\",VLOOKUP(A618,[1]Hoja1!$B$2:$U$4999,9,FALSE)),0)","v":""},{"$f":"IFERROR(IF(A618=\"\",\"\",VLOOKUP(A618,[1]Hoja1!$B$2:$U$4999,2,FALSE)),\" --- NO EXISTE TRABAJADOR --- \")","v":""},null,null,null,null,null,"","","",{"$f":"IFERROR(IF(A618=\"\",\"\",VLOOKUP(A618,[1]Hoja1!$B$2:$U$4999,18,FALSE)),0)","v":""},{"$f":"IFERROR(IF(A618=\"\",\"\",VLOOKUP(A618,[1]Hoja1!$B$2:$U$4999,19,FALSE)),0)","v":""},"",null,{"$f":"IFERROR(IF(O618=\"\",\"\",VLOOKUP(O618,JORNADA!$A$19:$B$20,2,FALSE)),\"\")","v":""},{"$f":"IFERROR(IF(A618=\"\",\"\",VLOOKUP(A618,[1]Hoja1!$B$2:$U$4999,3,FALSE)),0)","v":""},null,"","",{"$f":"IFERROR(IF(A618=\"\",\"\",VLOOKUP(A618,[1]Hoja1!$B$2:$U$4999,10,FALSE)),0)","v":""},{"$f":"IFERROR(IF(Q618=\"\",\"\",VLOOKUP(Q618,[1]Hoja1!$D$2:$AF$4999,29,FALSE)),\"NO EXISTE CUENTA\")","v":""},null,null,""]
["",{"$f":"IFERROR(IF(A619=\"\",\"\",VLOOKUP(A619,[1]Hoja1!$B$2:$U$4999,9,FALSE)),0)","v":""},{"$f":"IFERROR(IF(A619=\"\",\"\",VLOOKUP(A619,[1]Hoja1!$B$2:$U$4999,2,FALSE)),\" --- NO EXISTE TRABAJADOR --- \")","v":""},null,null,null,null,null,"","","",{"$f":"IFERROR(IF(A619=\"\",\"\",VLOOKUP(A619,[1]Hoja1!$B$2:$U$4999,18,FALSE)),0)","v":""},{"$f":"IFERROR(IF(A619=\"\",\"\",VLOOKUP(A619,[1]Hoja1!$B$2:$U$4999,19,FALSE)),0)","v":""},"",null,{"$f":"IFERROR(IF(O619=\"\",\"\",VLOOKUP(O619,JORNADA!$A$19:$B$20,2,FALSE)),\"\")","v":""},{"$f":"IFERROR(IF(A619=\"\",\"\",VLOOKUP(A619,[1]Hoja1!$B$2:$U$4999,3,FALSE)),0)","v":""},null,"","",{"$f":"IFERROR(IF(A619=\"\",\"\",VLOOKUP(A619,[1]Hoja1!$B$2:$U$4999,10,FALSE)),0)","v":""},{"$f":"IFERROR(IF(Q619=\"\",\"\",VLOOKUP(Q619,[1]Hoja1!$D$2:$AF$4999,29,FALSE)),\"NO EXISTE CUENTA\")","v":""},null,null,""]
["",{"$f":"IFERROR(IF(A620=\"\",\"\",VLOOKUP(A620,[1]Hoja1!$B$2:$U$4999,9,FALSE)),0)","v":""},{"$f":"IFERROR(IF(A620=\"\",\"\",VLOOKUP(A620,[1]Hoja1!$B$2:$U$4999,2,FALSE)),\" --- NO EXISTE TRABAJADOR --- \")","v":""},null,null,null,null,null,"","","",{"$f":"IFERROR(IF(A620=\"\",\"\",VLOOKUP(A620,[1]Hoja1!$B$2:$U$4999,18,FALSE)),0)","v":""},{"$f":"IFERROR(IF(A620=\"\",\"\",VLOOKUP(A620,[1]Hoja1!$B$2:$U$4999,19,FALSE)),0)","v":""},"",null,{"$f":"IFERROR(IF(O620=\"\",\"\",VLOOKUP(O620,JORNADA!$A$19:$B$20,2,FALSE)),\"\")","v":""},{"$f":"IFERROR(IF(A620=\"\",\"\",VLOOKUP(A620,[1]Hoja1!$B$2:$U$4999,3,FALSE)),0)","v":""},null,"","",{"$f":"IFERROR(IF(A620=\"\",\"\",VLOOKUP(A620,[1]Hoja1!$B$2:$U$4999,10,FALSE)),0)","v":""},{"$f":"IFERROR(IF(Q620=\"\",\"\",VLOOKUP(Q620,[1]Hoja1!$D$2:$AF$4999,29,FALSE)),\"NO EXISTE CUENTA\")","v":""},null,null,""]
["",{"$f":"IFERROR(IF(A621=\"\",\"\",VLOOKUP(A621,[1]Hoja1!$B$2:$U$4999,9,FALSE)),0)","v":""},{"$f":"IFERROR(IF(A621=\"\",\"\",VLOOKUP(A621,[1]Hoja1!$B$2:$U$4999,2,FALSE)),\" --- NO EXISTE TRABAJADOR --- \")","v":""},null,null,null,null,null,"","","",{"$f":"IFERROR(IF(A621=\"\",\"\",VLOOKUP(A621,[1]Hoja1!$B$2:$U$4999,18,FALSE)),0)","v":""},{"$f":"IFERROR(IF(A621=\"\",\"\",VLOOKUP(A621,[1]Hoja1!$B$2:$U$4999,19,FALSE)),0)","v":""},"",null,{"$f":"IFERROR(IF(O621=\"\",\"\",VLOOKUP(O621,JORNADA!$A$19:$B$20,2,FALSE)),\"\")","v":""},{"$f":"IFERROR(IF(A621=\"\",\"\",VLOOKUP(A621,[1]Hoja1!$B$2:$U$4999,3,FALSE)),0)","v":""},null,"","",{"$f":"IFERROR(IF(A621=\"\",\"\",VLOOKUP(A621,[1]Hoja1!$B$2:$U$4999,10,FALSE)),0)","v":""},{"$f":"IFERROR(IF(Q621=\"\",\"\",VLOOKUP(Q621,[1]Hoja1!$D$2:$AF$4999,29,FALSE)),\"NO EXISTE CUENTA\")","v":""},null,null,""]
["",{"$f":"IFERROR(IF(A622=\"\",\"\",VLOOKUP(A622,[1]Hoja1!$B$2:$U$4999,9,FALSE)),0)","v":""},{"$f":"IFERROR(IF(A622=\"\",\"\",VLOOKUP(A622,[1]Hoja1!$B$2:$U$4999,2,FALSE)),\" --- NO EXISTE TRABAJADOR --- \")","v":""},null,null,null,null,null,"","","",{"$f":"IFERROR(IF(A622=\"\",\"\",VLOOKUP(A622,[1]Hoja1!$B$2:$U$4999,18,FALSE)),0)","v":""},{"$f":"IFERROR(IF(A622=\"\",\"\",VLOOKUP(A622,[1]Hoja1!$B$2:$U$4999,19,FALSE)),0)","v":""},"",null,{"$f":"IFERROR(IF(O622=\"\",\"\",VLOOKUP(O622,JORNADA!$A$19:$B$20,2,FALSE)),\"\")","v":""},{"$f":"IFERROR(IF(A622=\"\",\"\",VLOOKUP(A622,[1]Hoja1!$B$2:$U$4999,3,FALSE)),0)","v":""},null,"","",{"$f":"IFERROR(IF(A622=\"\",\"\",VLOOKUP(A622,[1]Hoja1!$B$2:$U$4999,10,FALSE)),0)","v":""},{"$f":"IFERROR(IF(Q622=\"\",\"\",VLOOKUP(Q622,[1]Hoja1!$D$2:$AF$4999,29,FALSE)),\"NO EXISTE CUENTA\")","v":""},null,null,""]
["",{"$f":"IFERROR(IF(A623=\"\",\"\",VLOOKUP(A623,[1]Hoja1!$B$2:$U$4999,9,FALSE)),0)","v":""},{"$f":"IFERROR(IF(A623=\"\",\"\",VLOOKUP(A623,[1]Hoja1!$B$2:$U$4999,2,FALSE)),\" --- NO EXISTE TRABAJADOR --- \")","v":""},null,null,null,null,null,"","","",{"$f":"IFERROR(IF(A623=\"\",\"\",VLOOKUP(A623,[1]Hoja1!$B$2:$U$4999,18,FALSE)),0)","v":""},{"$f":"IFERROR(IF(A623=\"\",\"\",VLOOKUP(A623,[1]Hoja1!$B$2:$U$4999,19,FALSE)),0)","v":""},"",null,{"$f":"IFERROR(IF(O623=\"\",\"\",VLOOKUP(O623,JORNADA!$A$19:$B$20,2,FALSE)),\"\")","v":""},{"$f":"IFERROR(IF(A623=\"\",\"\",VLOOKUP(A623,[1]Hoja1!$B$2:$U$4999,3,FALSE)),0)","v":""},null,"","",{"$f":"IFERROR(IF(A623=\"\",\"\",VLOOKUP(A623,[1]Hoja1!$B$2:$U$4999,10,FALSE)),0)","v":""},{"$f":"IFERROR(IF(Q623=\"\",\"\",VLOOKUP(Q623,[1]Hoja1!$D$2:$AF$4999,29,FALSE)),\"NO EXISTE CUENTA\")","v":""},null,null,""]
["",{"$f":"IFERROR(IF(A624=\"\",\"\",VLOOKUP(A624,[1]Hoja1!$B$2:$U$4999,9,FALSE)),0)","v":""},{"$f":"IFERROR(IF(A624=\"\",\"\",VLOOKUP(A624,[1]Hoja1!$B$2:$U$4999,2,FALSE)),\" --- NO EXISTE TRABAJADOR --- \")","v":""},null,null,null,null,null,"","","",{"$f":"IFERROR(IF(A624=\"\",\"\",VLOOKUP(A624,[1]Hoja1!$B$2:$U$4999,18,FALSE)),0)","v":""},{"$f":"IFERROR(IF(A624=\"\",\"\",VLOOKUP(A624,[1]Hoja1!$B$2:$U$4999,19,FALSE)),0)","v":""},"",null,{"$f":"IFERROR(IF(O624=\"\",\"\",VLOOKUP(O624,JORNADA!$A$19:$B$20,2,FALSE)),\"\")","v":""},{"$f":"IFERROR(IF(A624=\"\",\"\",VLOOKUP(A624,[1]Hoja1!$B$2:$U$4999,3,FALSE)),0)","v":""},null,"","",{"$f":"IFERROR(IF(A624=\"\",\"\",VLOOKUP(A624,[1]Hoja1!$B$2:$U$4999,10,FALSE)),0)","v":""},{"$f":"IFERROR(IF(Q624=\"\",\"\",VLOOKUP(Q624,[1]Hoja1!$D$2:$AF$4999,29,FALSE)),\"NO EXISTE CUENTA\")","v":""},null,null,""]
["",{"$f":"IFERROR(IF(A625=\"\",\"\",VLOOKUP(A625,[1]Hoja1!$B$2:$U$4999,9,FALSE)),0)","v":""},{"$f":"IFERROR(IF(A625=\"\",\"\",VLOOKUP(A625,[1]Hoja1!$B$2:$U$4999,2,FALSE)),\" --- NO EXISTE TRABAJADOR --- \")","v":""},null,null,null,null,null,"","","",{"$f":"IFERROR(IF(A625=\"\",\"\",VLOOKUP(A625,[1]Hoja1!$B$2:$U$4999,18,FALSE)),0)","v":""},{"$f":"IFERROR(IF(A625=\"\",\"\",VLOOKUP(A625,[1]Hoja1!$B$2:$U$4999,19,FALSE)),0)","v":""},"",null,{"$f":"IFERROR(IF(O625=\"\",\"\",VLOOKUP(O625,JORNADA!$A$19:$B$20,2,FALSE)),\"\")","v":""},{"$f":"IFERROR(IF(A625=\"\",\"\",VLOOKUP(A625,[1]Hoja1!$B$2:$U$4999,3,FALSE)),0)","v":""},null,"","",{"$f":"IFERROR(IF(A625=\"\",\"\",VLOOKUP(A625,[1]Hoja1!$B$2:$U$4999,10,FALSE)),0)","v":""},{"$f":"IFERROR(IF(Q625=\"\",\"\",VLOOKUP(Q625,[1]Hoja1!$D$2:$AF$4999,29,FALSE)),\"NO EXISTE CUENTA\")","v":""},null,null,""]
["",{"$f":"IFERROR(IF(A626=\"\",\"\",VLOOKUP(A626,[1]Hoja1!$B$2:$U$4999,9,FALSE)),0)","v":""},{"$f":"IFERROR(IF(A626=\"\",\"\",VLOOKUP(A626,[1]Hoja1!$B$2:$U$4999,2,FALSE)),\" --- NO EXISTE TRABAJADOR --- \")","v":""},null,null,null,null,null,"","","",{"$f":"IFERROR(IF(A626=\"\",\"\",VLOOKUP(A626,[1]Hoja1!$B$2:$U$4999,18,FALSE)),0)","v":""},{"$f":"IFERROR(IF(A626=\"\",\"\",VLOOKUP(A626,[1]Hoja1!$B$2:$U$4999,19,FALSE)),0)","v":""},"",null,{"$f":"IFERROR(IF(O626=\"\",\"\",VLOOKUP(O626,JORNADA!$A$19:$B$20,2,FALSE)),\"\")","v":""},{"$f":"IFERROR(IF(A626=\"\",\"\",VLOOKUP(A626,[1]Hoja1!$B$2:$U$4999,3,FALSE)),0)","v":""},null,"","",{"$f":"IFERROR(IF(A626=\"\",\"\",VLOOKUP(A626,[1]Hoja1!$B$2:$U$4999,10,FALSE)),0)","v":""},{"$f":"IFERROR(IF(Q626=\"\",\"\",VLOOKUP(Q626,[1]Hoja1!$D$2:$AF$4999,29,FALSE)),\"NO EXISTE CUENTA\")","v":""},null,null,""]
["",{"$f":"IFERROR(IF(A627=\"\",\"\",VLOOKUP(A627,[1]Hoja1!$B$2:$U$4999,9,FALSE)),0)","v":""},{"$f":"IFERROR(IF(A627=\"\",\"\",VLOOKUP(A627,[1]Hoja1!$B$2:$U$4999,2,FALSE)),\" --- NO EXISTE TRABAJADOR --- \")","v":""},null,null,null,null,null,"","","",{"$f":"IFERROR(IF(A627=\"\",\"\",VLOOKUP(A627,[1]Hoja1!$B$2:$U$4999,18,FALSE)),0)","v":""},{"$f":"IFERROR(IF(A627=\"\",\"\",VLOOKUP(A627,[1]Hoja1!$B$2:$U$4999,19,FALSE)),0)","v":""},"",null,{"$f":"IFERROR(IF(O627=\"\",\"\",VLOOKUP(O627,JORNADA!$A$19:$B$20,2,FALSE)),\"\")","v":""},{"$f":"IFERROR(IF(A627=\"\",\"\",VLOOKUP(A627,[1]Hoja1!$B$2:$U$4999,3,FALSE)),0)","v":""},null,"","",{"$f":"IFERROR(IF(A627=\"\",\"\",VLOOKUP(A627,[1]Hoja1!$B$2:$U$4999,10,FALSE)),0)","v":""},{"$f":"IFERROR(IF(Q627=\"\",\"\",VLOOKUP(Q627,[1]Hoja1!$D$2:$AF$4999,29,FALSE)),\"NO EXISTE CUENTA\")","v":""},null,null,""]
[null,{"$f":"IFERROR(IF(A628=\"\",\"\",VLOOKUP(A628,[1]Hoja1!$B$2:$U$4999,9,FALSE)),0)","v":""},{"$f":"IFERROR(IF(A628=\"\",\"\",VLOOKUP(A628,[1]Hoja1!$B$2:$U$4999,2,FALSE)),\" --- NO EXISTE TRABAJADOR --- \")","v":""},null,null,null,null,null,"","","",{"$f":"IFERROR(IF(A628=\"\",\"\",VLOOKUP(A628,[1]Hoja1!$B$2:$U$4999,18,FALSE)),0)","v":""},{"$f":"IFERROR(IF(A628=\"\",\"\",VLOOKUP(A628,[1]Hoja1!$B$2:$U$4999,19,FALSE)),0)","v":""},"",null,{"$f":"IFERROR(IF(O628=\"\",\"\",VLOOKUP(O628,JORNADA!$A$19:$B$20,2,FALSE)),\"\")","v":""},{"$f":"IFERROR(IF(A628=\"\",\"\",VLOOKUP(A628,[1]Hoja1!$B$2:$U$4999,3,FALSE)),0)","v":""},null,"","",{"$f":"IFERROR(IF(A628=\"\",\"\",VLOOKUP(A628,[1]Hoja1!$B$2:$U$4999,10,FALSE)),0)","v":""},{"$f":"IFERROR(IF(Q628=\"\",\"\",VLOOKUP(Q628,[1]Hoja1!$D$2:$AF$4999,29,FALSE)),\"NO EXISTE CUENTA\")","v":""},null,null,""]
[null,{"$f":"IFERROR(IF(A629=\"\",\"\",VLOOKUP(A629,[1]Hoja1!$B$2:$U$4999,9,FALSE)),0)","v":""},{"$f":"IFERROR(IF(A629=\"\",\"\",VLOOKUP(A629,[1]Hoja1!$B$2:$U$4999,2,FALSE)),\" --- NO EXISTE TRABAJADOR --- \")","v":""},null,null,null,null,null,"","","",{"$f":"IFERROR(IF(A629=\"\",\"\",VLOOKUP(A629,[1]Hoja1!$B$2:$U$4999,18,FALSE)),0)","v":""},{"$f":"IFERROR(IF(A629=\"\",\"\",VLOOKUP(A629,[1]Hoja1!$B$2:$U$4999,19,FALSE)),0)","v":""},"",null,{"$f":"IFERROR(IF(O629=\"\",\"\",VLOOKUP(O629,JORNADA!$A$19:$B$20,2,FALSE)),\"\")","v":""},{"$f":"IFERROR(IF(A629=\"\",\"\",VLOOKUP(A629,[1]Hoja1!$B$2:$U$4999,3,FALSE)),0)","v":""},null,"","",{"$f":"IFERROR(IF(A629=\"\",\"\",VLOOKUP(A629,[1]Hoja1!$B$2:$U$4999,10,FALSE)),0)","v":""},{"$f":"IFERROR(IF(Q629=\"\",\"\",VLOOKUP(Q629,[1]Hoja1!$D$2:$AF$4999,29,FALSE)),\"NO EXISTE CUENTA\")","v":""},null,null,""]
[null,{"$f":"IFERROR(IF(A630=\"\",\"\",VLOOKUP(A630,[1]Hoja1!$B$2:$U$4999,9,FALSE)),0)","v":""},{"$f":"IFERROR(IF(A630=\"\",\"\",VLOOKUP(A630,[1]Hoja1!$B$2:$U$4999,2,FALSE)),\" --- NO EXISTE TRABAJADOR --- \")","v":""},null,null,null,null,null,"","","",{"$f":"IFERROR(IF(A630=\"\",\"\",VLOOKUP(A630,[1]Hoja1!$B$2:$U$4999,18,FALSE)),0)","v":""},{"$f":"IFERROR(IF(A630=\"\",\"\",VLOOKUP(A630,[1]Hoja1!$B$2:$U$4999,19,FALSE)),0)","v":""},"",null,{"$f":"IFERROR(IF(O630=\"\",\"\",VLOOKUP(O630,JORNADA!$A$19:$B$20,2,FALSE)),\"\")","v":""},{"$f":"IFERROR(IF(A630=\"\",\"\",VLOOKUP(A630,[1]Hoja1!$B$2:$U$4999,3,FALSE)),0)","v":""},null,"","",{"$f":"IFERROR(IF(A630=\"\",\"\",VLOOKUP(A630,[1]Hoja1!$B$2:$U$4999,10,FALSE)),0)","v":""},{"$f":"IFERROR(IF(Q630=\"\",\"\",VLOOKUP(Q630,[1]Hoja1!$D$2:$AF$4999,29,FALSE)),\"NO EXISTE CUENTA\")","v":""},null,null,""]
[null,{"$f":"IFERROR(IF(A631=\"\",\"\",VLOOKUP(A631,[1]Hoja1!$B$2:$U$4999,9,FALSE)),0)","v":""},{"$f":"IFERROR(IF(A631=\"\",\"\",VLOOKUP(A631,[1]Hoja1!$B$2:$U$4999,2,FALSE)),\" --- NO EXISTE TRABAJADOR --- \")","v":""},null,null,null,null,null,"","","",{"$f":"IFERROR(IF(A631=\"\",\"\",VLOOKUP(A631,[1]Hoja1!$B$2:$U$4999,18,FALSE)),0)","v":""},{"$f":"IFERROR(IF(A631=\"\",\"\",VLOOKUP(A631,[1]Hoja1!$B$2:$U$4999,19,FALSE)),0)","v":""},"",null,{"$f":"IFERROR(IF(O631=\"\",\"\",VLOOKUP(O631,JORNADA!$A$19:$B$20,2,FALSE)),\"\")","v":""},{"$f":"IFERROR(IF(A631=\"\",\"\",VLOOKUP(A631,[1]Hoja1!$B$2:$U$4999,3,FALSE)),0)","v":""},null,"","",{"$f":"IFERROR(IF(A631=\"\",\"\",VLOOKUP(A631,[1]Hoja1!$B$2:$U$4999,10,FALSE)),0)","v":""},{"$f":"IFERROR(IF(Q631=\"\",\"\",VLOOKUP(Q631,[1]Hoja1!$D$2:$AF$4999,29,FALSE)),\"NO EXISTE CUENTA\")","v":""},null,null,""]
[null,{"$f":"IFERROR(IF(A632=\"\",\"\",VLOOKUP(A632,[1]Hoja1!$B$2:$U$4999,9,FALSE)),0)","v":""},{"$f":"IFERROR(IF(A632=\"\",\"\",VLOOKUP(A632,[1]Hoja1!$B$2:$U$4999,2,FALSE)),\" --- NO EXISTE TRABAJADOR --- \")","v":""},null,null,null,null,null,"","","",{"$f":"IFERROR(IF(A632=\"\",\"\",VLOOKUP(A632,[1]Hoja1!$B$2:$U$4999,18,FALSE)),0)","v":""},{"$f":"IFERROR(IF(A632=\"\",\"\",VLOOKUP(A632,[1]Hoja1!$B$2:$U$4999,19,FALSE)),0)","v":""},"",null,{"$f":"IFERROR(IF(O632=\"\",\"\",VLOOKUP(O632,JORNADA!$A$19:$B$20,2,FALSE)),\"\")","v":""},{"$f":"IFERROR(IF(A632=\"\",\"\",VLOOKUP(A632,[1]Hoja1!$B$2:$U$4999,3,FALSE)),0)","v":""},null,"","",{"$f":"IFERROR(IF(A632=\"\",\"\",VLOOKUP(A632,[1]Hoja1!$B$2:$U$4999,10,FALSE)),0)","v":""},{"$f":"IFERROR(IF(Q632=\"\",\"\",VLOOKUP(Q632,[1]Hoja1!$D$2:$AF$4999,29,FALSE)),\"NO EXISTE CUENTA\")","v":""},null,null,""]
[null,{"$f":"IFERROR(IF(A633=\"\",\"\",VLOOKUP(A633,[1]Hoja1!$B$2:$U$4999,9,FALSE)),0)","v":""},{"$f":"IFERROR(IF(A633=\"\",\"\",VLOOKUP(A633,[1]Hoja1!$B$2:$U$4999,2,FALSE)),\" --- NO EXISTE TRABAJADOR --- \")","v":""},null,null,null,null,null,"","","",{"$f":"IFERROR(IF(A633=\"\",\"\",VLOOKUP(A633,[1]Hoja1!$B$2:$U$4999,18,FALSE)),0)","v":""},{"$f":"IFERROR(IF(A633=\"\",\"\",VLOOKUP(A633,[1]Hoja1!$B$2:$U$4999,19,FALSE)),0)","v":""},"",null,{"$f":"IFERROR(IF(O633=\"\",\"\",VLOOKUP(O633,JORNADA!$A$19:$B$20,2,FALSE)),\"\")","v":""},{"$f":"IFERROR(IF(A633=\"\",\"\",VLOOKUP(A633,[1]Hoja1!$B$2:$U$4999,3,FALSE)),0)","v":""},null,"","",{"$f":"IFERROR(IF(A633=\"\",\"\",VLOOKUP(A633,[1]Hoja1!$B$2:$U$4999,10,FALSE)),0)","v":""},{"$f":"IFERROR(IF(Q633=\"\",\"\",VLOOKUP(Q633,[1]Hoja1!$D$2:$AF$4999,29,FALSE)),\"NO EXISTE CUENTA\")","v":""},null,null,""]
[null,{"$f":"IFERROR(IF(A634=\"\",\"\",VLOOKUP(A634,[1]Hoja1!$B$2:$U$4999,9,FALSE)),0)","v":""},{"$f":"IFERROR(IF(A634=\"\",\"\",VLOOKUP(A634,[1]Hoja1!$B$2:$U$4999,2,FALSE)),\" --- NO EXISTE TRABAJADOR --- \")","v":""},null,null,null,null,null,"","","",{"$f":"IFERROR(IF(A634=\"\",\"\",VLOOKUP(A634,[1]Hoja1!$B$2:$U$4999,18,FALSE)),0)","v":""},{"$f":"IFERROR(IF(A634=\"\",\"\",VLOOKUP(A634,[1]Hoja1!$B$2:$U$4999,19,FALSE)),0)","v":""},"",null,{"$f":"IFERROR(IF(O634=\"\",\"\",VLOOKUP(O634,JORNADA!$A$19:$B$20,2,FALSE)),\"\")","v":""},{"$f":"IFERROR(IF(A634=\"\",\"\",VLOOKUP(A634,[1]Hoja1!$B$2:$U$4999,3,FALSE)),0)","v":""},null,"","",{"$f":"IFERROR(IF(A634=\"\",\"\",VLOOKUP(A634,[1]Hoja1!$B$2:$U$4999,10,FALSE)),0)","v":""},{"$f":"IFERROR(IF(Q634=\"\",\"\",VLOOKUP(Q634,[1]Hoja1!$D$2:$AF$4999,29,FALSE)),\"NO EXISTE CUENTA\")","v":""},null,null,""]
[null,{"$f":"IFERROR(IF(A635=\"\",\"\",VLOOKUP(A635,[1]Hoja1!$B$2:$U$4999,9,FALSE)),0)","v":""},{"$f":"IFERROR(IF(A635=\"\",\"\",VLOOKUP(A635,[1]Hoja1!$B$2:$U$4999,2,FALSE)),\" --- NO EXISTE TRABAJADOR --- \")","v":""},null,null,null,null,null,"","","",{"$f":"IFERROR(IF(A635=\"\",\"\",VLOOKUP(A635,[1]Hoja1!$B$2:$U$4999,18,FALSE)),0)","v":""},{"$f":"IFERROR(IF(A635=\"\",\"\",VLOOKUP(A635,[1]Hoja1!$B$2:$U$4999,19,FALSE)),0)","v":""},"",null,{"$f":"IFERROR(IF(O635=\"\",\"\",VLOOKUP(O635,JORNADA!$A$19:$B$20,2,FALSE)),\"\")","v":""},{"$f":"IFERROR(IF(A635=\"\",\"\",VLOOKUP(A635,[1]Hoja1!$B$2:$U$4999,3,FALSE)),0)","v":""},null,"","",{"$f":"IFERROR(IF(A635=\"\",\"\",VLOOKUP(A635,[1]Hoja1!$B$2:$U$4999,10,FALSE)),0)","v":""},{"$f":"IFERROR(IF(Q635=\"\",\"\",VLOOKUP(Q635,[1]Hoja1!$D$2:$AF$4999,29,FALSE)),\"NO EXISTE CUENTA\")","v":""},null,null,""]
[null,{"$f":"IFERROR(IF(A636=\"\",\"\",VLOOKUP(A636,[1]Hoja1!$B$2:$U$4999,9,FALSE)),0)","v":""},{"$f":"IFERROR(IF(A636=\"\",\"\",VLOOKUP(A636,[1]Hoja1!$B$2:$U$4999,2,FALSE)),\" --- NO EXISTE TRABAJADOR --- \")","v":""},null,null,null,null,null,"","","",{"$f":"IFERROR(IF(A636=\"\",\"\",VLOOKUP(A636,[1]Hoja1!$B$2:$U$4999,18,FALSE)),0)","v":""},{"$f":"IFERROR(IF(A636=\"\",\"\",VLOOKUP(A636,[1]Hoja1!$B$2:$U$4999,19,FALSE)),0)","v":""},"",null,{"$f":"IFERROR(IF(O636=\"\",\"\",VLOOKUP(O636,JORNADA!$A$19:$B$20,2,FALSE)),\"\")","v":""},{"$f":"IFERROR(IF(A636=\"\",\"\",VLOOKUP(A636,[1]Hoja1!$B$2:$U$4999,3,FALSE)),0)","v":""},null,"","",{"$f":"IFERROR(IF(A636=\"\",\"\",VLOOKUP(A636,[1]Hoja1!$B$2:$U$4999,10,FALSE)),0)","v":""},{"$f":"IFERROR(IF(Q636=\"\",\"\",VLOOKUP(Q636,[1]Hoja1!$D$2:$AF$4999,29,FALSE)),\"NO EXISTE CUENTA\")","v":""},null,null,""]
[null,{"$f":"IFERROR(IF(A637=\"\",\"\",VLOOKUP(A637,[1]Hoja1!$B$2:$U$4999,9,FALSE)),0)","v":""},{"$f":"IFERROR(IF(A637=\"\",\"\",VLOOKUP(A637,[1]Hoja1!$B$2:$U$4999,2,FALSE)),\" --- NO EXISTE TRABAJADOR --- \")","v":""},null,null,null,null,null,"","","",{"$f":"IFERROR(IF(A637=\"\",\"\",VLOOKUP(A637,[1]Hoja1!$B$2:$U$4999,18,FALSE)),0)","v":""},{"$f":"IFERROR(IF(A637=\"\",\"\",VLOOKUP(A637,[1]Hoja1!$B$2:$U$4999,19,FALSE)),0)","v":""},"",null,{"$f":"IFERROR(IF(O637=\"\",\"\",VLOOKUP(O637,JORNADA!$A$19:$B$20,2,FALSE)),\"\")","v":""},{"$f":"IFERROR(IF(A637=\"\",\"\",VLOOKUP(A637,[1]Hoja1!$B$2:$U$4999,3,FALSE)),0)","v":""},null,"","",{"$f":"IFERROR(IF(A637=\"\",\"\",VLOOKUP(A637,[1]Hoja1!$B$2:$U$4999,10,FALSE)),0)","v":""},{"$f":"IFERROR(IF(Q637=\"\",\"\",VLOOKUP(Q637,[1]Hoja1!$D$2:$AF$4999,29,FALSE)),\"NO EXISTE CUENTA\")","v":""},null,null,""]
[null,{"$f":"IFERROR(IF(A638=\"\",\"\",VLOOKUP(A638,[1]Hoja1!$B$2:$U$4999,9,FALSE)),0)","v":""},{"$f":"IFERROR(IF(A638=\"\",\"\",VLOOKUP(A638,[1]Hoja1!$B$2:$U$4999,2,FALSE)),\" --- NO EXISTE TRABAJADOR --- \")","v":""},null,null,null,null,null,"","","",{"$f":"IFERROR(IF(A638=\"\",\"\",VLOOKUP(A638,[1]Hoja1!$B$2:$U$4999,18,FALSE)),0)","v":""},{"$f":"IFERROR(IF(A638=\"\",\"\",VLOOKUP(A638,[1]Hoja1!$B$2:$U$4999,19,FALSE)),0)","v":""},"",null,{"$f":"IFERROR(IF(O638=\"\",\"\",VLOOKUP(O638,JORNADA!$A$19:$B$20,2,FALSE)),\"\")","v":""},{"$f":"IFERROR(IF(A638=\"\",\"\",VLOOKUP(A638,[1]Hoja1!$B$2:$U$4999,3,FALSE)),0)","v":""},null,"","",{"$f":"IFERROR(IF(A638=\"\",\"\",VLOOKUP(A638,[1]Hoja1!$B$2:$U$4999,10,FALSE)),0)","v":""},{"$f":"IFERROR(IF(Q638=\"\",\"\",VLOOKUP(Q638,[1]Hoja1!$D$2:$AF$4999,29,FALSE)),\"NO EXISTE CUENTA\")","v":""},null,null,""]
[null,{"$f":"IFERROR(IF(A639=\"\",\"\",VLOOKUP(A639,[1]Hoja1!$B$2:$U$4999,9,FALSE)),0)","v":""},{"$f":"IFERROR(IF(A639=\"\",\"\",VLOOKUP(A639,[1]Hoja1!$B$2:$U$4999,2,FALSE)),\" --- NO EXISTE TRABAJADOR --- \")","v":""},null,null,null,null,null,"","","",{"$f":"IFERROR(IF(A639=\"\",\"\",VLOOKUP(A639,[1]Hoja1!$B$2:$U$4999,18,FALSE)),0)","v":""},{"$f":"IFERROR(IF(A639=\"\",\"\",VLOOKUP(A639,[1]Hoja1!$B$2:$U$4999,19,FALSE)),0)","v":""},"",null,{"$f":"IFERROR(IF(O639=\"\",\"\",VLOOKUP(O639,JORNADA!$A$19:$B$20,2,FALSE)),\"\")","v":""},{"$f":"IFERROR(IF(A639=\"\",\"\",VLOOKUP(A639,[1]Hoja1!$B$2:$U$4999,3,FALSE)),0)","v":""},null,"","",{"$f":"IFERROR(IF(A639=\"\",\"\",VLOOKUP(A639,[1]Hoja1!$B$2:$U$4999,10,FALSE)),0)","v":""},{"$f":"IFERROR(IF(Q639=\"\",\"\",VLOOKUP(Q639,[1]Hoja1!$D$2:$AF$4999,29,FALSE)),\"NO EXISTE CUENTA\")","v":""},null,null,""]
[null,{"$f":"IFERROR(IF(A640=\"\",\"\",VLOOKUP(A640,[1]Hoja1!$B$2:$U$4999,9,FALSE)),0)","v":""},{"$f":"IFERROR(IF(A640=\"\",\"\",VLOOKUP(A640,[1]Hoja1!$B$2:$U$4999,2,FALSE)),\" --- NO EXISTE TRABAJADOR --- \")","v":""},null,null,null,null,null,"","","",{"$f":"IFERROR(IF(A640=\"\",\"\",VLOOKUP(A640,[1]Hoja1!$B$2:$U$4999,18,FALSE)),0)","v":""},{"$f":"IFERROR(IF(A640=\"\",\"\",VLOOKUP(A640,[1]Hoja1!$B$2:$U$4999,19,FALSE)),0)","v":""},"",null,{"$f":"IFERROR(IF(O640=\"\",\"\",VLOOKUP(O640,JORNADA!$A$19:$B$20,2,FALSE)),\"\")","v":""},{"$f":"IFERROR(IF(A640=\"\",\"\",VLOOKUP(A640,[1]Hoja1!$B$2:$U$4999,3,FALSE)),0)","v":""},null,"","",{"$f":"IFERROR(IF(A640=\"\",\"\",VLOOKUP(A640,[1]Hoja1!$B$2:$U$4999,10,FALSE)),0)","v":""},{"$f":"IFERROR(IF(Q640=\"\",\"\",VLOOKUP(Q640,[1]Hoja1!$D$2:$AF$4999,29,FALSE)),\"NO EXISTE CUENTA\")","v":""},null,null,""]
[null,{"$f":"IFERROR(IF(A641=\"\",\"\",VLOOKUP(A641,[1]Hoja1!$B$2:$U$4999,9,FALSE)),0)","v":""},{"$f":"IFERROR(IF(A641=\"\",\"\",VLOOKUP(A641,[1]Hoja1!$B$2:$U$4999,2,FALSE)),\" --- NO EXISTE TRABAJADOR --- \")","v":""},null,null,null,null,null,"","","",{"$f":"IFERROR(IF(A641=\"\",\"\",VLOOKUP(A641,[1]Hoja1!$B$2:$U$4999,18,FALSE)),0)","v":""},{"$f":"IFERROR(IF(A641=\"\",\"\",VLOOKUP(A641,[1]Hoja1!$B$2:$U$4999,19,FALSE)),0)","v":""},"",null,{"$f":"IFERROR(IF(O641=\"\",\"\",VLOOKUP(O641,JORNADA!$A$19:$B$20,2,FALSE)),\"\")","v":""},{"$f":"IFERROR(IF(A641=\"\",\"\",VLOOKUP(A641,[1]Hoja1!$B$2:$U$4999,3,FALSE)),0)","v":""},null,"","",{"$f":"IFERROR(IF(A641=\"\",\"\",VLOOKUP(A641,[1]Hoja1!$B$2:$U$4999,10,FALSE)),0)","v":""},{"$f":"IFERROR(IF(Q641=\"\",\"\",VLOOKUP(Q641,[1]Hoja1!$D$2:$AF$4999,29,FALSE)),\"NO EXISTE CUENTA\")","v":""},null,null,""]
[null,{"$f":"IFERROR(IF(A642=\"\",\"\",VLOOKUP(A642,[1]Hoja1!$B$2:$U$4999,9,FALSE)),0)","v":""},{"$f":"IFERROR(IF(A642=\"\",\"\",VLOOKUP(A642,[1]Hoja1!$B$2:$U$4999,2,FALSE)),\" --- NO EXISTE TRABAJADOR --- \")","v":""},null,null,null,null,null,"","","",{"$f":"IFERROR(IF(A642=\"\",\"\",VLOOKUP(A642,[1]Hoja1!$B$2:$U$4999,18,FALSE)),0)","v":""},{"$f":"IFERROR(IF(A642=\"\",\"\",VLOOKUP(A642,[1]Hoja1!$B$2:$U$4999,19,FALSE)),0)","v":""},"",null,{"$f":"IFERROR(IF(O642=\"\",\"\",VLOOKUP(O642,JORNADA!$A$19:$B$20,2,FALSE)),\"\")","v":""},{"$f":"IFERROR(IF(A642=\"\",\"\",VLOOKUP(A642,[1]Hoja1!$B$2:$U$4999,3,FALSE)),0)","v":""},null,"","",{"$f":"IFERROR(IF(A642=\"\",\"\",VLOOKUP(A642,[1]Hoja1!$B$2:$U$4999,10,FALSE)),0)","v":""},{"$f":"IFERROR(IF(Q642=\"\",\"\",VLOOKUP(Q642,[1]Hoja1!$D$2:$AF$4999,29,FALSE)),\"NO EXISTE CUENTA\")","v":""},null,null,{"$f":"+C642","v":""}]
[null,{"$f":"IFERROR(IF(A643=\"\",\"\",VLOOKUP(A643,[1]Hoja1!$B$2:$U$4999,9,FALSE)),0)","v":""},{"$f":"IFERROR(IF(A643=\"\",\"\",VLOOKUP(A643,[1]Hoja1!$B$2:$U$4999,2,FALSE)),\" --- NO EXISTE TRABAJADOR --- \")","v":""},null,null,null,null,null,{"$f":"IFERROR(IF(G643=\"\",\"\",VLOOKUP(G643,JORNADA,2,FALSE)),0)","v":""},{"$f":"IFERROR(IF(H643=\"\",\"\",VLOOKUP(H643,ACTIVIDAD,2,FALSE)),0)","v":""},{"$f":"CONCATENATE(J643,G643)","v":""},{"$f":"IFERROR(IF(A643=\"\",\"\",VLOOKUP(A643,[1]Hoja1!$B$2:$U$4999,18,FALSE)),0)","v":""},{"$f":"IFERROR(IF(A643=\"\",\"\",VLOOKUP(A643,[1]Hoja1!$B$2:$U$4999,19,FALSE)),0)","v":""},{"$f":"IFERROR(IF(W643=\"\",\"\",VLOOKUP(W643,LICENCIA,2,FALSE)),\"\")","v":""},null,{"$f":"IFERROR(IF(O643=\"\",\"\",VLOOKUP(O643,JORNADA!$A$19:$B$20,2,FALSE)),\"\")","v":""},{"$f":"IFERROR(IF(A643=\"\",\"\",VLOOKUP(A643,[1]Hoja1!$B$2:$U$4999,3,FALSE)),0)","v":""},null,{"$f":"IFERROR(IF(R643=\"\",\"\",VLOOKUP(R643,DNI,2,FALSE)),0)","v":""},{"$f":"IF(D643<>\"\",COUNTA(INDIRECT(\"D2:D\"&ROW()-1)),\"\")","v":""},{"$f":"IFERROR(IF(A643=\"\",\"\",VLOOKUP(A643,[1]Hoja1!$B$2:$U$4999,10,FALSE)),0)","v":""},{"$f":"IFERROR(IF(Q643=\"\",\"\",VLOOKUP(Q643,[1]Hoja1!$D$2:$AF$4999,29,FALSE)),\"NO EXISTE CUENTA\")","v":""},null,null,""]
[null,{"$f":"IFERROR(IF(A644=\"\",\"\",VLOOKUP(A644,[1]Hoja1!$B$2:$U$4999,9,FALSE)),0)","v":""},{"$f":"IFERROR(IF(A644=\"\",\"\",VLOOKUP(A644,[1]Hoja1!$B$2:$U$4999,2,FALSE)),\" --- NO EXISTE TRABAJADOR --- \")","v":""},null,null,null,null,null,"","","",{"$f":"IFERROR(IF(A644=\"\",\"\",VLOOKUP(A644,[1]Hoja1!$B$2:$U$4999,18,FALSE)),0)","v":""},{"$f":"IFERROR(IF(A644=\"\",\"\",VLOOKUP(A644,[1]Hoja1!$B$2:$U$4999,19,FALSE)),0)","v":""},"",null,{"$f":"IFERROR(IF(O644=\"\",\"\",VLOOKUP(O644,JORNADA!$A$19:$B$20,2,FALSE)),\"\")","v":""},{"$f":"IFERROR(IF(A644=\"\",\"\",VLOOKUP(A644,[1]Hoja1!$B$2:$U$4999,3,FALSE)),0)","v":""},null,"","",{"$f":"IFERROR(IF(A644=\"\",\"\",VLOOKUP(A644,[1]Hoja1!$B$2:$U$4999,10,FALSE)),0)","v":""},{"$f":"IFERROR(IF(Q644=\"\",\"\",VLOOKUP(Q644,[1]Hoja1!$D$2:$AF$4999,29,FALSE)),\"NO EXISTE CUENTA\")","v":""},null,null,""]
[null,{"$f":"IFERROR(IF(A645=\"\",\"\",VLOOKUP(A645,[1]Hoja1!$B$2:$U$4999,9,FALSE)),0)","v":""},{"$f":"IFERROR(IF(A645=\"\",\"\",VLOOKUP(A645,[1]Hoja1!$B$2:$U$4999,2,FALSE)),\" --- NO EXISTE TRABAJADOR --- \")","v":""},null,null,null,null,null,"","","",{"$f":"IFERROR(IF(A645=\"\",\"\",VLOOKUP(A645,[1]Hoja1!$B$2:$U$4999,18,FALSE)),0)","v":""},{"$f":"IFERROR(IF(A645=\"\",\"\",VLOOKUP(A645,[1]Hoja1!$B$2:$U$4999,19,FALSE)),0)","v":""},"",null,{"$f":"IFERROR(IF(O645=\"\",\"\",VLOOKUP(O645,JORNADA!$A$19:$B$20,2,FALSE)),\"\")","v":""},{"$f":"IFERROR(IF(A645=\"\",\"\",VLOOKUP(A645,[1]Hoja1!$B$2:$U$4999,3,FALSE)),0)","v":""},null,"","",{"$f":"IFERROR(IF(A645=\"\",\"\",VLOOKUP(A645,[1]Hoja1!$B$2:$U$4999,10,FALSE)),0)","v":""},{"$f":"IFERROR(IF(Q645=\"\",\"\",VLOOKUP(Q645,[1]Hoja1!$D$2:$AF$4999,29,FALSE)),\"NO EXISTE CUENTA\")","v":""},null,null,""]
[null,{"$f":"IFERROR(IF(A646=\"\",\"\",VLOOKUP(A646,[1]Hoja1!$B$2:$U$4999,9,FALSE)),0)","v":""},{"$f":"IFERROR(IF(A646=\"\",\"\",VLOOKUP(A646,[1]Hoja1!$B$2:$U$4999,2,FALSE)),\" --- NO EXISTE TRABAJADOR --- \")","v":""},null,null,null,null,null,"","","",{"$f":"IFERROR(IF(A646=\"\",\"\",VLOOKUP(A646,[1]Hoja1!$B$2:$U$4999,18,FALSE)),0)","v":""},{"$f":"IFERROR(IF(A646=\"\",\"\",VLOOKUP(A646,[1]Hoja1!$B$2:$U$4999,19,FALSE)),0)","v":""},"",null,{"$f":"IFERROR(IF(O646=\"\",\"\",VLOOKUP(O646,JORNADA!$A$19:$B$20,2,FALSE)),\"\")","v":""},{"$f":"IFERROR(IF(A646=\"\",\"\",VLOOKUP(A646,[1]Hoja1!$B$2:$U$4999,3,FALSE)),0)","v":""},null,"","",{"$f":"IFERROR(IF(A646=\"\",\"\",VLOOKUP(A646,[1]Hoja1!$B$2:$U$4999,10,FALSE)),0)","v":""},{"$f":"IFERROR(IF(Q646=\"\",\"\",VLOOKUP(Q646,[1]Hoja1!$D$2:$AF$4999,29,FALSE)),\"NO EXISTE CUENTA\")","v":""},null,null,""]
[null,{"$f":"IFERROR(IF(A647=\"\",\"\",VLOOKUP(A647,[1]Hoja1!$B$2:$U$4999,9,FALSE)),0)","v":""},{"$f":"IFERROR(IF(A647=\"\",\"\",VLOOKUP(A647,[1]Hoja1!$B$2:$U$4999,2,FALSE)),\" --- NO EXISTE TRABAJADOR --- \")","v":""},null,null,null,null,null,"","","",{"$f":"IFERROR(IF(A647=\"\",\"\",VLOOKUP(A647,[1]Hoja1!$B$2:$U$4999,18,FALSE)),0)","v":""},{"$f":"IFERROR(IF(A647=\"\",\"\",VLOOKUP(A647,[1]Hoja1!$B$2:$U$4999,19,FALSE)),0)","v":""},"",null,{"$f":"IFERROR(IF(O647=\"\",\"\",VLOOKUP(O647,JORNADA!$A$19:$B$20,2,FALSE)),\"\")","v":""},{"$f":"IFERROR(IF(A647=\"\",\"\",VLOOKUP(A647,[1]Hoja1!$B$2:$U$4999,3,FALSE)),0)","v":""},null,"","",{"$f":"IFERROR(IF(A647=\"\",\"\",VLOOKUP(A647,[1]Hoja1!$B$2:$U$4999,10,FALSE)),0)","v":""},{"$f":"IFERROR(IF(Q647=\"\",\"\",VLOOKUP(Q647,[1]Hoja1!$D$2:$AF$4999,29,FALSE)),\"NO EXISTE CUENTA\")","v":""},null,null,""]
[null,{"$f":"IFERROR(IF(A648=\"\",\"\",VLOOKUP(A648,[1]Hoja1!$B$2:$U$4999,9,FALSE)),0)","v":""},{"$f":"IFERROR(IF(A648=\"\",\"\",VLOOKUP(A648,[1]Hoja1!$B$2:$U$4999,2,FALSE)),\" --- NO EXISTE TRABAJADOR --- \")","v":""},null,null,null,null,null,"","","",{"$f":"IFERROR(IF(A648=\"\",\"\",VLOOKUP(A648,[1]Hoja1!$B$2:$U$4999,18,FALSE)),0)","v":""},{"$f":"IFERROR(IF(A648=\"\",\"\",VLOOKUP(A648,[1]Hoja1!$B$2:$U$4999,19,FALSE)),0)","v":""},"",null,{"$f":"IFERROR(IF(O648=\"\",\"\",VLOOKUP(O648,JORNADA!$A$19:$B$20,2,FALSE)),\"\")","v":""},{"$f":"IFERROR(IF(A648=\"\",\"\",VLOOKUP(A648,[1]Hoja1!$B$2:$U$4999,3,FALSE)),0)","v":""},null,"","",{"$f":"IFERROR(IF(A648=\"\",\"\",VLOOKUP(A648,[1]Hoja1!$B$2:$U$4999,10,FALSE)),0)","v":""},{"$f":"IFERROR(IF(Q648=\"\",\"\",VLOOKUP(Q648,[1]Hoja1!$D$2:$AF$4999,29,FALSE)),\"NO EXISTE CUENTA\")","v":""},null,null,""]
[null,{"$f":"IFERROR(IF(A649=\"\",\"\",VLOOKUP(A649,[1]Hoja1!$B$2:$U$4999,9,FALSE)),0)","v":""},{"$f":"IFERROR(IF(A649=\"\",\"\",VLOOKUP(A649,[1]Hoja1!$B$2:$U$4999,2,FALSE)),\" --- NO EXISTE TRABAJADOR --- \")","v":""},null,null,null,null,null,"","","",{"$f":"IFERROR(IF(A649=\"\",\"\",VLOOKUP(A649,[1]Hoja1!$B$2:$U$4999,18,FALSE)),0)","v":""},{"$f":"IFERROR(IF(A649=\"\",\"\",VLOOKUP(A649,[1]Hoja1!$B$2:$U$4999,19,FALSE)),0)","v":""},"",null,{"$f":"IFERROR(IF(O649=\"\",\"\",VLOOKUP(O649,JORNADA!$A$19:$B$20,2,FALSE)),\"\")","v":""},{"$f":"IFERROR(IF(A649=\"\",\"\",VLOOKUP(A649,[1]Hoja1!$B$2:$U$4999,3,FALSE)),0)","v":""},null,"","",{"$f":"IFERROR(IF(A649=\"\",\"\",VLOOKUP(A649,[1]Hoja1!$B$2:$U$4999,10,FALSE)),0)","v":""},{"$f":"IFERROR(IF(Q649=\"\",\"\",VLOOKUP(Q649,[1]Hoja1!$D$2:$AF$4999,29,FALSE)),\"NO EXISTE CUENTA\")","v":""},null,null,""]
[null,{"$f":"IFERROR(IF(A650=\"\",\"\",VLOOKUP(A650,[1]Hoja1!$B$2:$U$4999,9,FALSE)),0)","v":""},{"$f":"IFERROR(IF(A650=\"\",\"\",VLOOKUP(A650,[1]Hoja1!$B$2:$U$4999,2,FALSE)),\" --- NO EXISTE TRABAJADOR --- \")","v":""},null,null,null,null,null,"","","",{"$f":"IFERROR(IF(A650=\"\",\"\",VLOOKUP(A650,[1]Hoja1!$B$2:$U$4999,18,FALSE)),0)","v":""},{"$f":"IFERROR(IF(A650=\"\",\"\",VLOOKUP(A650,[1]Hoja1!$B$2:$U$4999,19,FALSE)),0)","v":""},"",null,{"$f":"IFERROR(IF(O650=\"\",\"\",VLOOKUP(O650,JORNADA!$A$19:$B$20,2,FALSE)),\"\")","v":""},{"$f":"IFERROR(IF(A650=\"\",\"\",VLOOKUP(A650,[1]Hoja1!$B$2:$U$4999,3,FALSE)),0)","v":""},null,"","",{"$f":"IFERROR(IF(A650=\"\",\"\",VLOOKUP(A650,[1]Hoja1!$B$2:$U$4999,10,FALSE)),0)","v":""},{"$f":"IFERROR(IF(Q650=\"\",\"\",VLOOKUP(Q650,[1]Hoja1!$D$2:$AF$4999,29,FALSE)),\"NO EXISTE CUENTA\")","v":""},null,null,""]
[null,{"$f":"IFERROR(IF(A651=\"\",\"\",VLOOKUP(A651,[1]Hoja1!$B$2:$U$4999,9,FALSE)),0)","v":""},{"$f":"IFERROR(IF(A651=\"\",\"\",VLOOKUP(A651,[1]Hoja1!$B$2:$U$4999,2,FALSE)),\" --- NO EXISTE TRABAJADOR --- \")","v":""},null,null,null,null,null,"","","",{"$f":"IFERROR(IF(A651=\"\",\"\",VLOOKUP(A651,[1]Hoja1!$B$2:$U$4999,18,FALSE)),0)","v":""},{"$f":"IFERROR(IF(A651=\"\",\"\",VLOOKUP(A651,[1]Hoja1!$B$2:$U$4999,19,FALSE)),0)","v":""},"",null,{"$f":"IFERROR(IF(O651=\"\",\"\",VLOOKUP(O651,JORNADA!$A$19:$B$20,2,FALSE)),\"\")","v":""},{"$f":"IFERROR(IF(A651=\"\",\"\",VLOOKUP(A651,[1]Hoja1!$B$2:$U$4999,3,FALSE)),0)","v":""},null,"","",{"$f":"IFERROR(IF(A651=\"\",\"\",VLOOKUP(A651,[1]Hoja1!$B$2:$U$4999,10,FALSE)),0)","v":""},{"$f":"IFERROR(IF(Q651=\"\",\"\",VLOOKUP(Q651,[1]Hoja1!$D$2:$AF$4999,29,FALSE)),\"NO EXISTE CUENTA\")","v":""},null,null,""]
[null,{"$f":"IFERROR(IF(A652=\"\",\"\",VLOOKUP(A652,[1]Hoja1!$B$2:$U$4999,9,FALSE)),0)","v":""},{"$f":"IFERROR(IF(A652=\"\",\"\",VLOOKUP(A652,[1]Hoja1!$B$2:$U$4999,2,FALSE)),\" --- NO EXISTE TRABAJADOR --- \")","v":""},null,null,null,null,null,"","","",{"$f":"IFERROR(IF(A652=\"\",\"\",VLOOKUP(A652,[1]Hoja1!$B$2:$U$4999,18,FALSE)),0)","v":""},{"$f":"IFERROR(IF(A652=\"\",\"\",VLOOKUP(A652,[1]Hoja1!$B$2:$U$4999,19,FALSE)),0)","v":""},"",null,{"$f":"IFERROR(IF(O652=\"\",\"\",VLOOKUP(O652,JORNADA!$A$19:$B$20,2,FALSE)),\"\")","v":""},{"$f":"IFERROR(IF(A652=\"\",\"\",VLOOKUP(A652,[1]Hoja1!$B$2:$U$4999,3,FALSE)),0)","v":""},null,"","",{"$f":"IFERROR(IF(A652=\"\",\"\",VLOOKUP(A652,[1]Hoja1!$B$2:$U$4999,10,FALSE)),0)","v":""},{"$f":"IFERROR(IF(Q652=\"\",\"\",VLOOKUP(Q652,[1]Hoja1!$D$2:$AF$4999,29,FALSE)),\"NO EXISTE CUENTA\")","v":""},null,null,""]
[null,{"$f":"IFERROR(IF(A653=\"\",\"\",VLOOKUP(A653,[1]Hoja1!$B$2:$U$4999,9,FALSE)),0)","v":""},{"$f":"IFERROR(IF(A653=\"\",\"\",VLOOKUP(A653,[1]Hoja1!$B$2:$U$4999,2,FALSE)),\" --- NO EXISTE TRABAJADOR --- \")","v":""},null,null,null,null,null,"","","",{"$f":"IFERROR(IF(A653=\"\",\"\",VLOOKUP(A653,[1]Hoja1!$B$2:$U$4999,18,FALSE)),0)","v":""},{"$f":"IFERROR(IF(A653=\"\",\"\",VLOOKUP(A653,[1]Hoja1!$B$2:$U$4999,19,FALSE)),0)","v":""},"",null,{"$f":"IFERROR(IF(O653=\"\",\"\",VLOOKUP(O653,JORNADA!$A$19:$B$20,2,FALSE)),\"\")","v":""},{"$f":"IFERROR(IF(A653=\"\",\"\",VLOOKUP(A653,[1]Hoja1!$B$2:$U$4999,3,FALSE)),0)","v":""},null,"","",{"$f":"IFERROR(IF(A653=\"\",\"\",VLOOKUP(A653,[1]Hoja1!$B$2:$U$4999,10,FALSE)),0)","v":""},{"$f":"IFERROR(IF(Q653=\"\",\"\",VLOOKUP(Q653,[1]Hoja1!$D$2:$AF$4999,29,FALSE)),\"NO EXISTE CUENTA\")","v":""},null,null,""]
[null,{"$f":"IFERROR(IF(A654=\"\",\"\",VLOOKUP(A654,[1]Hoja1!$B$2:$U$4999,9,FALSE)),0)","v":""},{"$f":"IFERROR(IF(A654=\"\",\"\",VLOOKUP(A654,[1]Hoja1!$B$2:$U$4999,2,FALSE)),\" --- NO EXISTE TRABAJADOR --- \")","v":""},null,null,null,null,null,"","","",{"$f":"IFERROR(IF(A654=\"\",\"\",VLOOKUP(A654,[1]Hoja1!$B$2:$U$4999,18,FALSE)),0)","v":""},{"$f":"IFERROR(IF(A654=\"\",\"\",VLOOKUP(A654,[1]Hoja1!$B$2:$U$4999,19,FALSE)),0)","v":""},"",null,{"$f":"IFERROR(IF(O654=\"\",\"\",VLOOKUP(O654,JORNADA!$A$19:$B$20,2,FALSE)),\"\")","v":""},{"$f":"IFERROR(IF(A654=\"\",\"\",VLOOKUP(A654,[1]Hoja1!$B$2:$U$4999,3,FALSE)),0)","v":""},null,"","",{"$f":"IFERROR(IF(A654=\"\",\"\",VLOOKUP(A654,[1]Hoja1!$B$2:$U$4999,10,FALSE)),0)","v":""},{"$f":"IFERROR(IF(Q654=\"\",\"\",VLOOKUP(Q654,[1]Hoja1!$D$2:$AF$4999,29,FALSE)),\"NO EXISTE CUENTA\")","v":""},null,null,""]
[null,{"$f":"IFERROR(IF(A655=\"\",\"\",VLOOKUP(A655,[1]Hoja1!$B$2:$U$4999,9,FALSE)),0)","v":""},{"$f":"IFERROR(IF(A655=\"\",\"\",VLOOKUP(A655,[1]Hoja1!$B$2:$U$4999,2,FALSE)),\" --- NO EXISTE TRABAJADOR --- \")","v":""},null,null,null,null,null,"","","",{"$f":"IFERROR(IF(A655=\"\",\"\",VLOOKUP(A655,[1]Hoja1!$B$2:$U$4999,18,FALSE)),0)","v":""},{"$f":"IFERROR(IF(A655=\"\",\"\",VLOOKUP(A655,[1]Hoja1!$B$2:$U$4999,19,FALSE)),0)","v":""},"",null,{"$f":"IFERROR(IF(O655=\"\",\"\",VLOOKUP(O655,JORNADA!$A$19:$B$20,2,FALSE)),\"\")","v":""},{"$f":"IFERROR(IF(A655=\"\",\"\",VLOOKUP(A655,[1]Hoja1!$B$2:$U$4999,3,FALSE)),0)","v":""},null,"","",{"$f":"IFERROR(IF(A655=\"\",\"\",VLOOKUP(A655,[1]Hoja1!$B$2:$U$4999,10,FALSE)),0)","v":""},{"$f":"IFERROR(IF(Q655=\"\",\"\",VLOOKUP(Q655,[1]Hoja1!$D$2:$AF$4999,29,FALSE)),\"NO EXISTE CUENTA\")","v":""},null,null,""]
[null,{"$f":"IFERROR(IF(A656=\"\",\"\",VLOOKUP(A656,[1]Hoja1!$B$2:$U$4999,9,FALSE)),0)","v":""},{"$f":"IFERROR(IF(A656=\"\",\"\",VLOOKUP(A656,[1]Hoja1!$B$2:$U$4999,2,FALSE)),\" --- NO EXISTE TRABAJADOR --- \")","v":""},null,null,null,null,null,"","","",{"$f":"IFERROR(IF(A656=\"\",\"\",VLOOKUP(A656,[1]Hoja1!$B$2:$U$4999,18,FALSE)),0)","v":""},{"$f":"IFERROR(IF(A656=\"\",\"\",VLOOKUP(A656,[1]Hoja1!$B$2:$U$4999,19,FALSE)),0)","v":""},"",null,{"$f":"IFERROR(IF(O656=\"\",\"\",VLOOKUP(O656,JORNADA!$A$19:$B$20,2,FALSE)),\"\")","v":""},{"$f":"IFERROR(IF(A656=\"\",\"\",VLOOKUP(A656,[1]Hoja1!$B$2:$U$4999,3,FALSE)),0)","v":""},null,"","",{"$f":"IFERROR(IF(A656=\"\",\"\",VLOOKUP(A656,[1]Hoja1!$B$2:$U$4999,10,FALSE)),0)","v":""},{"$f":"IFERROR(IF(Q656=\"\",\"\",VLOOKUP(Q656,[1]Hoja1!$D$2:$AF$4999,29,FALSE)),\"NO EXISTE CUENTA\")","v":""},null,null,""]
[null,{"$f":"IFERROR(IF(A657=\"\",\"\",VLOOKUP(A657,[1]Hoja1!$B$2:$U$4999,9,FALSE)),0)","v":""},{"$f":"IFERROR(IF(A657=\"\",\"\",VLOOKUP(A657,[1]Hoja1!$B$2:$U$4999,2,FALSE)),\" --- NO EXISTE TRABAJADOR --- \")","v":""},null,null,null,null,null,"","","",{"$f":"IFERROR(IF(A657=\"\",\"\",VLOOKUP(A657,[1]Hoja1!$B$2:$U$4999,18,FALSE)),0)","v":""},{"$f":"IFERROR(IF(A657=\"\",\"\",VLOOKUP(A657,[1]Hoja1!$B$2:$U$4999,19,FALSE)),0)","v":""},"",null,{"$f":"IFERROR(IF(O657=\"\",\"\",VLOOKUP(O657,JORNADA!$A$19:$B$20,2,FALSE)),\"\")","v":""},{"$f":"IFERROR(IF(A657=\"\",\"\",VLOOKUP(A657,[1]Hoja1!$B$2:$U$4999,3,FALSE)),0)","v":""},null,"","",{"$f":"IFERROR(IF(A657=\"\",\"\",VLOOKUP(A657,[1]Hoja1!$B$2:$U$4999,10,FALSE)),0)","v":""},{"$f":"IFERROR(IF(Q657=\"\",\"\",VLOOKUP(Q657,[1]Hoja1!$D$2:$AF$4999,29,FALSE)),\"NO EXISTE CUENTA\")","v":""},null,null,""]
[null,{"$f":"IFERROR(IF(A658=\"\",\"\",VLOOKUP(A658,[1]Hoja1!$B$2:$U$4999,9,FALSE)),0)","v":""},{"$f":"IFERROR(IF(A658=\"\",\"\",VLOOKUP(A658,[1]Hoja1!$B$2:$U$4999,2,FALSE)),\" --- NO EXISTE TRABAJADOR --- \")","v":""},null,null,null,null,null,"","","",{"$f":"IFERROR(IF(A658=\"\",\"\",VLOOKUP(A658,[1]Hoja1!$B$2:$U$4999,18,FALSE)),0)","v":""},{"$f":"IFERROR(IF(A658=\"\",\"\",VLOOKUP(A658,[1]Hoja1!$B$2:$U$4999,19,FALSE)),0)","v":""},"",null,{"$f":"IFERROR(IF(O658=\"\",\"\",VLOOKUP(O658,JORNADA!$A$19:$B$20,2,FALSE)),\"\")","v":""},{"$f":"IFERROR(IF(A658=\"\",\"\",VLOOKUP(A658,[1]Hoja1!$B$2:$U$4999,3,FALSE)),0)","v":""},null,"","",{"$f":"IFERROR(IF(A658=\"\",\"\",VLOOKUP(A658,[1]Hoja1!$B$2:$U$4999,10,FALSE)),0)","v":""},{"$f":"IFERROR(IF(Q658=\"\",\"\",VLOOKUP(Q658,[1]Hoja1!$D$2:$AF$4999,29,FALSE)),\"NO EXISTE CUENTA\")","v":""},null,null,""]
[null,{"$f":"IFERROR(IF(A659=\"\",\"\",VLOOKUP(A659,[1]Hoja1!$B$2:$U$4999,9,FALSE)),0)","v":""},{"$f":"IFERROR(IF(A659=\"\",\"\",VLOOKUP(A659,[1]Hoja1!$B$2:$U$4999,2,FALSE)),\" --- NO EXISTE TRABAJADOR --- \")","v":""},null,null,null,null,null,"","","",{"$f":"IFERROR(IF(A659=\"\",\"\",VLOOKUP(A659,[1]Hoja1!$B$2:$U$4999,18,FALSE)),0)","v":""},{"$f":"IFERROR(IF(A659=\"\",\"\",VLOOKUP(A659,[1]Hoja1!$B$2:$U$4999,19,FALSE)),0)","v":""},"",null,{"$f":"IFERROR(IF(O659=\"\",\"\",VLOOKUP(O659,JORNADA!$A$19:$B$20,2,FALSE)),\"\")","v":""},{"$f":"IFERROR(IF(A659=\"\",\"\",VLOOKUP(A659,[1]Hoja1!$B$2:$U$4999,3,FALSE)),0)","v":""},null,"","",{"$f":"IFERROR(IF(A659=\"\",\"\",VLOOKUP(A659,[1]Hoja1!$B$2:$U$4999,10,FALSE)),0)","v":""},{"$f":"IFERROR(IF(Q659=\"\",\"\",VLOOKUP(Q659,[1]Hoja1!$D$2:$AF$4999,29,FALSE)),\"NO EXISTE CUENTA\")","v":""},null,null,""]
[null,{"$f":"IFERROR(IF(A660=\"\",\"\",VLOOKUP(A660,[1]Hoja1!$B$2:$U$4999,9,FALSE)),0)","v":""},{"$f":"IFERROR(IF(A660=\"\",\"\",VLOOKUP(A660,[1]Hoja1!$B$2:$U$4999,2,FALSE)),\" --- NO EXISTE TRABAJADOR --- \")","v":""},null,null,null,null,null,"","","",{"$f":"IFERROR(IF(A660=\"\",\"\",VLOOKUP(A660,[1]Hoja1!$B$2:$U$4999,18,FALSE)),0)","v":""},{"$f":"IFERROR(IF(A660=\"\",\"\",VLOOKUP(A660,[1]Hoja1!$B$2:$U$4999,19,FALSE)),0)","v":""},"",null,{"$f":"IFERROR(IF(O660=\"\",\"\",VLOOKUP(O660,JORNADA!$A$19:$B$20,2,FALSE)),\"\")","v":""},{"$f":"IFERROR(IF(A660=\"\",\"\",VLOOKUP(A660,[1]Hoja1!$B$2:$U$4999,3,FALSE)),0)","v":""},null,"","",{"$f":"IFERROR(IF(A660=\"\",\"\",VLOOKUP(A660,[1]Hoja1!$B$2:$U$4999,10,FALSE)),0)","v":""},{"$f":"IFERROR(IF(Q660=\"\",\"\",VLOOKUP(Q660,[1]Hoja1!$D$2:$AF$4999,29,FALSE)),\"NO EXISTE CUENTA\")","v":""},null,null,""]
[null,{"$f":"IFERROR(IF(A661=\"\",\"\",VLOOKUP(A661,[1]Hoja1!$B$2:$U$4999,9,FALSE)),0)","v":""},{"$f":"IFERROR(IF(A661=\"\",\"\",VLOOKUP(A661,[1]Hoja1!$B$2:$U$4999,2,FALSE)),\" --- NO EXISTE TRABAJADOR --- \")","v":""},null,null,null,null,null,"","","",{"$f":"IFERROR(IF(A661=\"\",\"\",VLOOKUP(A661,[1]Hoja1!$B$2:$U$4999,18,FALSE)),0)","v":""},{"$f":"IFERROR(IF(A661=\"\",\"\",VLOOKUP(A661,[1]Hoja1!$B$2:$U$4999,19,FALSE)),0)","v":""},"",null,{"$f":"IFERROR(IF(O661=\"\",\"\",VLOOKUP(O661,JORNADA!$A$19:$B$20,2,FALSE)),\"\")","v":""},{"$f":"IFERROR(IF(A661=\"\",\"\",VLOOKUP(A661,[1]Hoja1!$B$2:$U$4999,3,FALSE)),0)","v":""},null,"","",{"$f":"IFERROR(IF(A661=\"\",\"\",VLOOKUP(A661,[1]Hoja1!$B$2:$U$4999,10,FALSE)),0)","v":""},{"$f":"IFERROR(IF(Q661=\"\",\"\",VLOOKUP(Q661,[1]Hoja1!$D$2:$AF$4999,29,FALSE)),\"NO EXISTE CUENTA\")","v":""},null,null,""]
[null,{"$f":"IFERROR(IF(A662=\"\",\"\",VLOOKUP(A662,[1]Hoja1!$B$2:$U$4999,9,FALSE)),0)","v":""},{"$f":"IFERROR(IF(A662=\"\",\"\",VLOOKUP(A662,[1]Hoja1!$B$2:$U$4999,2,FALSE)),\" --- NO EXISTE TRABAJADOR --- \")","v":""},null,null,null,null,null,"","","",{"$f":"IFERROR(IF(A662=\"\",\"\",VLOOKUP(A662,[1]Hoja1!$B$2:$U$4999,18,FALSE)),0)","v":""},{"$f":"IFERROR(IF(A662=\"\",\"\",VLOOKUP(A662,[1]Hoja1!$B$2:$U$4999,19,FALSE)),0)","v":""},"",null,{"$f":"IFERROR(IF(O662=\"\",\"\",VLOOKUP(O662,JORNADA!$A$19:$B$20,2,FALSE)),\"\")","v":""},{"$f":"IFERROR(IF(A662=\"\",\"\",VLOOKUP(A662,[1]Hoja1!$B$2:$U$4999,3,FALSE)),0)","v":""},null,"","",{"$f":"IFERROR(IF(A662=\"\",\"\",VLOOKUP(A662,[1]Hoja1!$B$2:$U$4999,10,FALSE)),0)","v":""},{"$f":"IFERROR(IF(Q662=\"\",\"\",VLOOKUP(Q662,[1]Hoja1!$D$2:$AF$4999,29,FALSE)),\"NO EXISTE CUENTA\")","v":""},null,null,""]
[null,{"$f":"IFERROR(IF(A663=\"\",\"\",VLOOKUP(A663,[1]Hoja1!$B$2:$U$4999,9,FALSE)),0)","v":""},{"$f":"IFERROR(IF(A663=\"\",\"\",VLOOKUP(A663,[1]Hoja1!$B$2:$U$4999,2,FALSE)),\" --- NO EXISTE TRABAJADOR --- \")","v":""},null,null,null,null,null,"","","",{"$f":"IFERROR(IF(A663=\"\",\"\",VLOOKUP(A663,[1]Hoja1!$B$2:$U$4999,18,FALSE)),0)","v":""},{"$f":"IFERROR(IF(A663=\"\",\"\",VLOOKUP(A663,[1]Hoja1!$B$2:$U$4999,19,FALSE)),0)","v":""},"",null,{"$f":"IFERROR(IF(O663=\"\",\"\",VLOOKUP(O663,JORNADA!$A$19:$B$20,2,FALSE)),\"\")","v":""},{"$f":"IFERROR(IF(A663=\"\",\"\",VLOOKUP(A663,[1]Hoja1!$B$2:$U$4999,3,FALSE)),0)","v":""},null,"","",{"$f":"IFERROR(IF(A663=\"\",\"\",VLOOKUP(A663,[1]Hoja1!$B$2:$U$4999,10,FALSE)),0)","v":""},{"$f":"IFERROR(IF(Q663=\"\",\"\",VLOOKUP(Q663,[1]Hoja1!$D$2:$AF$4999,29,FALSE)),\"NO EXISTE CUENTA\")","v":""},null,null,""]
[null,{"$f":"IFERROR(IF(A664=\"\",\"\",VLOOKUP(A664,[1]Hoja1!$B$2:$U$4999,9,FALSE)),0)","v":""},{"$f":"IFERROR(IF(A664=\"\",\"\",VLOOKUP(A664,[1]Hoja1!$B$2:$U$4999,2,FALSE)),\" --- NO EXISTE TRABAJADOR --- \")","v":""},null,null,null,null,null,"","","",{"$f":"IFERROR(IF(A664=\"\",\"\",VLOOKUP(A664,[1]Hoja1!$B$2:$U$4999,18,FALSE)),0)","v":""},{"$f":"IFERROR(IF(A664=\"\",\"\",VLOOKUP(A664,[1]Hoja1!$B$2:$U$4999,19,FALSE)),0)","v":""},"",null,{"$f":"IFERROR(IF(O664=\"\",\"\",VLOOKUP(O664,JORNADA!$A$19:$B$20,2,FALSE)),\"\")","v":""},{"$f":"IFERROR(IF(A664=\"\",\"\",VLOOKUP(A664,[1]Hoja1!$B$2:$U$4999,3,FALSE)),0)","v":""},null,"","",{"$f":"IFERROR(IF(A664=\"\",\"\",VLOOKUP(A664,[1]Hoja1!$B$2:$U$4999,10,FALSE)),0)","v":""},{"$f":"IFERROR(IF(Q664=\"\",\"\",VLOOKUP(Q664,[1]Hoja1!$D$2:$AF$4999,29,FALSE)),\"NO EXISTE CUENTA\")","v":""},null,null,""]
[null,{"$f":"IFERROR(IF(A665=\"\",\"\",VLOOKUP(A665,[1]Hoja1!$B$2:$U$4999,9,FALSE)),0)","v":""},{"$f":"IFERROR(IF(A665=\"\",\"\",VLOOKUP(A665,[1]Hoja1!$B$2:$U$4999,2,FALSE)),\" --- NO EXISTE TRABAJADOR --- \")","v":""},null,null,null,null,null,"","","",{"$f":"IFERROR(IF(A665=\"\",\"\",VLOOKUP(A665,[1]Hoja1!$B$2:$U$4999,18,FALSE)),0)","v":""},{"$f":"IFERROR(IF(A665=\"\",\"\",VLOOKUP(A665,[1]Hoja1!$B$2:$U$4999,19,FALSE)),0)","v":""},"",null,{"$f":"IFERROR(IF(O665=\"\",\"\",VLOOKUP(O665,JORNADA!$A$19:$B$20,2,FALSE)),\"\")","v":""},{"$f":"IFERROR(IF(A665=\"\",\"\",VLOOKUP(A665,[1]Hoja1!$B$2:$U$4999,3,FALSE)),0)","v":""},null,"","",{"$f":"IFERROR(IF(A665=\"\",\"\",VLOOKUP(A665,[1]Hoja1!$B$2:$U$4999,10,FALSE)),0)","v":""},{"$f":"IFERROR(IF(Q665=\"\",\"\",VLOOKUP(Q665,[1]Hoja1!$D$2:$AF$4999,29,FALSE)),\"NO EXISTE CUENTA\")","v":""},null,null,""]
[null,{"$f":"IFERROR(IF(A666=\"\",\"\",VLOOKUP(A666,[1]Hoja1!$B$2:$U$4999,9,FALSE)),0)","v":""},{"$f":"IFERROR(IF(A666=\"\",\"\",VLOOKUP(A666,[1]Hoja1!$B$2:$U$4999,2,FALSE)),\" --- NO EXISTE TRABAJADOR --- \")","v":""},null,null,null,null,null,"","","",{"$f":"IFERROR(IF(A666=\"\",\"\",VLOOKUP(A666,[1]Hoja1!$B$2:$U$4999,18,FALSE)),0)","v":""},{"$f":"IFERROR(IF(A666=\"\",\"\",VLOOKUP(A666,[1]Hoja1!$B$2:$U$4999,19,FALSE)),0)","v":""},"",null,{"$f":"IFERROR(IF(O666=\"\",\"\",VLOOKUP(O666,JORNADA!$A$19:$B$20,2,FALSE)),\"\")","v":""},{"$f":"IFERROR(IF(A666=\"\",\"\",VLOOKUP(A666,[1]Hoja1!$B$2:$U$4999,3,FALSE)),0)","v":""},null,"","",{"$f":"IFERROR(IF(A666=\"\",\"\",VLOOKUP(A666,[1]Hoja1!$B$2:$U$4999,10,FALSE)),0)","v":""},{"$f":"IFERROR(IF(Q666=\"\",\"\",VLOOKUP(Q666,[1]Hoja1!$D$2:$AF$4999,29,FALSE)),\"NO EXISTE CUENTA\")","v":""},null,null,""]
[null,{"$f":"IFERROR(IF(A667=\"\",\"\",VLOOKUP(A667,[1]Hoja1!$B$2:$U$4999,9,FALSE)),0)","v":""},{"$f":"IFERROR(IF(A667=\"\",\"\",VLOOKUP(A667,[1]Hoja1!$B$2:$U$4999,2,FALSE)),\" --- NO EXISTE TRABAJADOR --- \")","v":""},null,null,null,null,null,"","","",{"$f":"IFERROR(IF(A667=\"\",\"\",VLOOKUP(A667,[1]Hoja1!$B$2:$U$4999,18,FALSE)),0)","v":""},{"$f":"IFERROR(IF(A667=\"\",\"\",VLOOKUP(A667,[1]Hoja1!$B$2:$U$4999,19,FALSE)),0)","v":""},"",null,{"$f":"IFERROR(IF(O667=\"\",\"\",VLOOKUP(O667,JORNADA!$A$19:$B$20,2,FALSE)),\"\")","v":""},{"$f":"IFERROR(IF(A667=\"\",\"\",VLOOKUP(A667,[1]Hoja1!$B$2:$U$4999,3,FALSE)),0)","v":""},null,"","",{"$f":"IFERROR(IF(A667=\"\",\"\",VLOOKUP(A667,[1]Hoja1!$B$2:$U$4999,10,FALSE)),0)","v":""},{"$f":"IFERROR(IF(Q667=\"\",\"\",VLOOKUP(Q667,[1]Hoja1!$D$2:$AF$4999,29,FALSE)),\"NO EXISTE CUENTA\")","v":""},null,null,""]
[null,{"$f":"IFERROR(IF(A668=\"\",\"\",VLOOKUP(A668,[1]Hoja1!$B$2:$U$4999,9,FALSE)),0)","v":""},{"$f":"IFERROR(IF(A668=\"\",\"\",VLOOKUP(A668,[1]Hoja1!$B$2:$U$4999,2,FALSE)),\" --- NO EXISTE TRABAJADOR --- \")","v":""},null,null,null,null,null,"","","",{"$f":"IFERROR(IF(A668=\"\",\"\",VLOOKUP(A668,[1]Hoja1!$B$2:$U$4999,18,FALSE)),0)","v":""},{"$f":"IFERROR(IF(A668=\"\",\"\",VLOOKUP(A668,[1]Hoja1!$B$2:$U$4999,19,FALSE)),0)","v":""},"",null,{"$f":"IFERROR(IF(O668=\"\",\"\",VLOOKUP(O668,JORNADA!$A$19:$B$20,2,FALSE)),\"\")","v":""},{"$f":"IFERROR(IF(A668=\"\",\"\",VLOOKUP(A668,[1]Hoja1!$B$2:$U$4999,3,FALSE)),0)","v":""},null,"","",{"$f":"IFERROR(IF(A668=\"\",\"\",VLOOKUP(A668,[1]Hoja1!$B$2:$U$4999,10,FALSE)),0)","v":""},{"$f":"IFERROR(IF(Q668=\"\",\"\",VLOOKUP(Q668,[1]Hoja1!$D$2:$AF$4999,29,FALSE)),\"NO EXISTE CUENTA\")","v":""},null,null,""]
[null,{"$f":"IFERROR(IF(A669=\"\",\"\",VLOOKUP(A669,[1]Hoja1!$B$2:$U$4999,9,FALSE)),0)","v":""},{"$f":"IFERROR(IF(A669=\"\",\"\",VLOOKUP(A669,[1]Hoja1!$B$2:$U$4999,2,FALSE)),\" --- NO EXISTE TRABAJADOR --- \")","v":""},null,null,null,null,null,"","","",{"$f":"IFERROR(IF(A669=\"\",\"\",VLOOKUP(A669,[1]Hoja1!$B$2:$U$4999,18,FALSE)),0)","v":""},{"$f":"IFERROR(IF(A669=\"\",\"\",VLOOKUP(A669,[1]Hoja1!$B$2:$U$4999,19,FALSE)),0)","v":""},"",null,{"$f":"IFERROR(IF(O669=\"\",\"\",VLOOKUP(O669,JORNADA!$A$19:$B$20,2,FALSE)),\"\")","v":""},{"$f":"IFERROR(IF(A669=\"\",\"\",VLOOKUP(A669,[1]Hoja1!$B$2:$U$4999,3,FALSE)),0)","v":""},null,"","",{"$f":"IFERROR(IF(A669=\"\",\"\",VLOOKUP(A669,[1]Hoja1!$B$2:$U$4999,10,FALSE)),0)","v":""},{"$f":"IFERROR(IF(Q669=\"\",\"\",VLOOKUP(Q669,[1]Hoja1!$D$2:$AF$4999,29,FALSE)),\"NO EXISTE CUENTA\")","v":""},null,null,""]
[null,{"$f":"IFERROR(IF(A670=\"\",\"\",VLOOKUP(A670,[1]Hoja1!$B$2:$U$4999,9,FALSE)),0)","v":""},{"$f":"IFERROR(IF(A670=\"\",\"\",VLOOKUP(A670,[1]Hoja1!$B$2:$U$4999,2,FALSE)),\" --- NO EXISTE TRABAJADOR --- \")","v":""},null,null,null,null,null,"","","",{"$f":"IFERROR(IF(A670=\"\",\"\",VLOOKUP(A670,[1]Hoja1!$B$2:$U$4999,18,FALSE)),0)","v":""},{"$f":"IFERROR(IF(A670=\"\",\"\",VLOOKUP(A670,[1]Hoja1!$B$2:$U$4999,19,FALSE)),0)","v":""},"",null,{"$f":"IFERROR(IF(O670=\"\",\"\",VLOOKUP(O670,JORNADA!$A$19:$B$20,2,FALSE)),\"\")","v":""},{"$f":"IFERROR(IF(A670=\"\",\"\",VLOOKUP(A670,[1]Hoja1!$B$2:$U$4999,3,FALSE)),0)","v":""},null,"","",{"$f":"IFERROR(IF(A670=\"\",\"\",VLOOKUP(A670,[1]Hoja1!$B$2:$U$4999,10,FALSE)),0)","v":""},{"$f":"IFERROR(IF(Q670=\"\",\"\",VLOOKUP(Q670,[1]Hoja1!$D$2:$AF$4999,29,FALSE)),\"NO EXISTE CUENTA\")","v":""},null,null,""]
[null,{"$f":"IFERROR(IF(A671=\"\",\"\",VLOOKUP(A671,[1]Hoja1!$B$2:$U$4999,9,FALSE)),0)","v":""},{"$f":"IFERROR(IF(A671=\"\",\"\",VLOOKUP(A671,[1]Hoja1!$B$2:$U$4999,2,FALSE)),\" --- NO EXISTE TRABAJADOR --- \")","v":""},null,null,null,null,null,"","","",{"$f":"IFERROR(IF(A671=\"\",\"\",VLOOKUP(A671,[1]Hoja1!$B$2:$U$4999,18,FALSE)),0)","v":""},{"$f":"IFERROR(IF(A671=\"\",\"\",VLOOKUP(A671,[1]Hoja1!$B$2:$U$4999,19,FALSE)),0)","v":""},"",null,{"$f":"IFERROR(IF(O671=\"\",\"\",VLOOKUP(O671,JORNADA!$A$19:$B$20,2,FALSE)),\"\")","v":""},{"$f":"IFERROR(IF(A671=\"\",\"\",VLOOKUP(A671,[1]Hoja1!$B$2:$U$4999,3,FALSE)),0)","v":""},null,"","",{"$f":"IFERROR(IF(A671=\"\",\"\",VLOOKUP(A671,[1]Hoja1!$B$2:$U$4999,10,FALSE)),0)","v":""},{"$f":"IFERROR(IF(Q671=\"\",\"\",VLOOKUP(Q671,[1]Hoja1!$D$2:$AF$4999,29,FALSE)),\"NO EXISTE CUENTA\")","v":""},null,null,""]
[null,{"$f":"IFERROR(IF(A672=\"\",\"\",VLOOKUP(A672,[1]Hoja1!$B$2:$U$4999,9,FALSE)),0)","v":""},{"$f":"IFERROR(IF(A672=\"\",\"\",VLOOKUP(A672,[1]Hoja1!$B$2:$U$4999,2,FALSE)),\" --- NO EXISTE TRABAJADOR --- \")","v":""},null,null,null,null,null,"","","",{"$f":"IFERROR(IF(A672=\"\",\"\",VLOOKUP(A672,[1]Hoja1!$B$2:$U$4999,18,FALSE)),0)","v":""},{"$f":"IFERROR(IF(A672=\"\",\"\",VLOOKUP(A672,[1]Hoja1!$B$2:$U$4999,19,FALSE)),0)","v":""},"",null,{"$f":"IFERROR(IF(O672=\"\",\"\",VLOOKUP(O672,JORNADA!$A$19:$B$20,2,FALSE)),\"\")","v":""},{"$f":"IFERROR(IF(A672=\"\",\"\",VLOOKUP(A672,[1]Hoja1!$B$2:$U$4999,3,FALSE)),0)","v":""},null,"","",{"$f":"IFERROR(IF(A672=\"\",\"\",VLOOKUP(A672,[1]Hoja1!$B$2:$U$4999,10,FALSE)),0)","v":""},{"$f":"IFERROR(IF(Q672=\"\",\"\",VLOOKUP(Q672,[1]Hoja1!$D$2:$AF$4999,29,FALSE)),\"NO EXISTE CUENTA\")","v":""},null,null,""]
[null,{"$f":"IFERROR(IF(A673=\"\",\"\",VLOOKUP(A673,[1]Hoja1!$B$2:$U$4999,9,FALSE)),0)","v":""},{"$f":"IFERROR(IF(A673=\"\",\"\",VLOOKUP(A673,[1]Hoja1!$B$2:$U$4999,2,FALSE)),\" --- NO EXISTE TRABAJADOR --- \")","v":""},null,null,null,null,null,"","","",{"$f":"IFERROR(IF(A673=\"\",\"\",VLOOKUP(A673,[1]Hoja1!$B$2:$U$4999,18,FALSE)),0)","v":""},{"$f":"IFERROR(IF(A673=\"\",\"\",VLOOKUP(A673,[1]Hoja1!$B$2:$U$4999,19,FALSE)),0)","v":""},"",null,{"$f":"IFERROR(IF(O673=\"\",\"\",VLOOKUP(O673,JORNADA!$A$19:$B$20,2,FALSE)),\"\")","v":""},{"$f":"IFERROR(IF(A673=\"\",\"\",VLOOKUP(A673,[1]Hoja1!$B$2:$U$4999,3,FALSE)),0)","v":""},null,"","",{"$f":"IFERROR(IF(A673=\"\",\"\",VLOOKUP(A673,[1]Hoja1!$B$2:$U$4999,10,FALSE)),0)","v":""},{"$f":"IFERROR(IF(Q673=\"\",\"\",VLOOKUP(Q673,[1]Hoja1!$D$2:$AF$4999,29,FALSE)),\"NO EXISTE CUENTA\")","v":""},null,null,""]
[null,{"$f":"IFERROR(IF(A674=\"\",\"\",VLOOKUP(A674,[1]Hoja1!$B$2:$U$4999,9,FALSE)),0)","v":""},{"$f":"IFERROR(IF(A674=\"\",\"\",VLOOKUP(A674,[1]Hoja1!$B$2:$U$4999,2,FALSE)),\" --- NO EXISTE TRABAJADOR --- \")","v":""},null,null,null,null,null,"","","",{"$f":"IFERROR(IF(A674=\"\",\"\",VLOOKUP(A674,[1]Hoja1!$B$2:$U$4999,18,FALSE)),0)","v":""},{"$f":"IFERROR(IF(A674=\"\",\"\",VLOOKUP(A674,[1]Hoja1!$B$2:$U$4999,19,FALSE)),0)","v":""},"",null,{"$f":"IFERROR(IF(O674=\"\",\"\",VLOOKUP(O674,JORNADA!$A$19:$B$20,2,FALSE)),\"\")","v":""},{"$f":"IFERROR(IF(A674=\"\",\"\",VLOOKUP(A674,[1]Hoja1!$B$2:$U$4999,3,FALSE)),0)","v":""},null,"","",{"$f":"IFERROR(IF(A674=\"\",\"\",VLOOKUP(A674,[1]Hoja1!$B$2:$U$4999,10,FALSE)),0)","v":""},{"$f":"IFERROR(IF(Q674=\"\",\"\",VLOOKUP(Q674,[1]Hoja1!$D$2:$AF$4999,29,FALSE)),\"NO EXISTE CUENTA\")","v":""},null,null,""]
[null,{"$f":"IFERROR(IF(A675=\"\",\"\",VLOOKUP(A675,[1]Hoja1!$B$2:$U$4999,9,FALSE)),0)","v":""},{"$f":"IFERROR(IF(A675=\"\",\"\",VLOOKUP(A675,[1]Hoja1!$B$2:$U$4999,2,FALSE)),\" --- NO EXISTE TRABAJADOR --- \")","v":""},null,null,null,null,null,"","","",{"$f":"IFERROR(IF(A675=\"\",\"\",VLOOKUP(A675,[1]Hoja1!$B$2:$U$4999,18,FALSE)),0)","v":""},{"$f":"IFERROR(IF(A675=\"\",\"\",VLOOKUP(A675,[1]Hoja1!$B$2:$U$4999,19,FALSE)),0)","v":""},"",null,{"$f":"IFERROR(IF(O675=\"\",\"\",VLOOKUP(O675,JORNADA!$A$19:$B$20,2,FALSE)),\"\")","v":""},{"$f":"IFERROR(IF(A675=\"\",\"\",VLOOKUP(A675,[1]Hoja1!$B$2:$U$4999,3,FALSE)),0)","v":""},null,"","",{"$f":"IFERROR(IF(A675=\"\",\"\",VLOOKUP(A675,[1]Hoja1!$B$2:$U$4999,10,FALSE)),0)","v":""},{"$f":"IFERROR(IF(Q675=\"\",\"\",VLOOKUP(Q675,[1]Hoja1!$D$2:$AF$4999,29,FALSE)),\"NO EXISTE CUENTA\")","v":""},null,null,""]
[null,{"$f":"IFERROR(IF(A676=\"\",\"\",VLOOKUP(A676,[1]Hoja1!$B$2:$U$4999,9,FALSE)),0)","v":""},{"$f":"IFERROR(IF(A676=\"\",\"\",VLOOKUP(A676,[1]Hoja1!$B$2:$U$4999,2,FALSE)),\" --- NO EXISTE TRABAJADOR --- \")","v":""},null,null,null,null,null,"","","",{"$f":"IFERROR(IF(A676=\"\",\"\",VLOOKUP(A676,[1]Hoja1!$B$2:$U$4999,18,FALSE)),0)","v":""},{"$f":"IFERROR(IF(A676=\"\",\"\",VLOOKUP(A676,[1]Hoja1!$B$2:$U$4999,19,FALSE)),0)","v":""},"",null,{"$f":"IFERROR(IF(O676=\"\",\"\",VLOOKUP(O676,JORNADA!$A$19:$B$20,2,FALSE)),\"\")","v":""},{"$f":"IFERROR(IF(A676=\"\",\"\",VLOOKUP(A676,[1]Hoja1!$B$2:$U$4999,3,FALSE)),0)","v":""},null,"","",{"$f":"IFERROR(IF(A676=\"\",\"\",VLOOKUP(A676,[1]Hoja1!$B$2:$U$4999,10,FALSE)),0)","v":""},{"$f":"IFERROR(IF(Q676=\"\",\"\",VLOOKUP(Q676,[1]Hoja1!$D$2:$AF$4999,29,FALSE)),\"NO EXISTE CUENTA\")","v":""},null,null,""]
[null,{"$f":"IFERROR(IF(A677=\"\",\"\",VLOOKUP(A677,[1]Hoja1!$B$2:$U$4999,9,FALSE)),0)","v":""},{"$f":"IFERROR(IF(A677=\"\",\"\",VLOOKUP(A677,[1]Hoja1!$B$2:$U$4999,2,FALSE)),\" --- NO EXISTE TRABAJADOR --- \")","v":""},null,null,null,null,null,"","","",{"$f":"IFERROR(IF(A677=\"\",\"\",VLOOKUP(A677,[1]Hoja1!$B$2:$U$4999,18,FALSE)),0)","v":""},{"$f":"IFERROR(IF(A677=\"\",\"\",VLOOKUP(A677,[1]Hoja1!$B$2:$U$4999,19,FALSE)),0)","v":""},"",null,{"$f":"IFERROR(IF(O677=\"\",\"\",VLOOKUP(O677,JORNADA!$A$19:$B$20,2,FALSE)),\"\")","v":""},{"$f":"IFERROR(IF(A677=\"\",\"\",VLOOKUP(A677,[1]Hoja1!$B$2:$U$4999,3,FALSE)),0)","v":""},null,"","",{"$f":"IFERROR(IF(A677=\"\",\"\",VLOOKUP(A677,[1]Hoja1!$B$2:$U$4999,10,FALSE)),0)","v":""},{"$f":"IFERROR(IF(Q677=\"\",\"\",VLOOKUP(Q677,[1]Hoja1!$D$2:$AF$4999,29,FALSE)),\"NO EXISTE CUENTA\")","v":""},null,null,""]
[null,{"$f":"IFERROR(IF(A678=\"\",\"\",VLOOKUP(A678,[1]Hoja1!$B$2:$U$4999,9,FALSE)),0)","v":""},{"$f":"IFERROR(IF(A678=\"\",\"\",VLOOKUP(A678,[1]Hoja1!$B$2:$U$4999,2,FALSE)),\" --- NO EXISTE TRABAJADOR --- \")","v":""},null,null,null,null,null,"","","",{"$f":"IFERROR(IF(A678=\"\",\"\",VLOOKUP(A678,[1]Hoja1!$B$2:$U$4999,18,FALSE)),0)","v":""},{"$f":"IFERROR(IF(A678=\"\",\"\",VLOOKUP(A678,[1]Hoja1!$B$2:$U$4999,19,FALSE)),0)","v":""},"",null,{"$f":"IFERROR(IF(O678=\"\",\"\",VLOOKUP(O678,JORNADA!$A$19:$B$20,2,FALSE)),\"\")","v":""},{"$f":"IFERROR(IF(A678=\"\",\"\",VLOOKUP(A678,[1]Hoja1!$B$2:$U$4999,3,FALSE)),0)","v":""},null,"","",{"$f":"IFERROR(IF(A678=\"\",\"\",VLOOKUP(A678,[1]Hoja1!$B$2:$U$4999,10,FALSE)),0)","v":""},{"$f":"IFERROR(IF(Q678=\"\",\"\",VLOOKUP(Q678,[1]Hoja1!$D$2:$AF$4999,29,FALSE)),\"NO EXISTE CUENTA\")","v":""},null,null,""]
[null,{"$f":"IFERROR(IF(A679=\"\",\"\",VLOOKUP(A679,[1]Hoja1!$B$2:$U$4999,9,FALSE)),0)","v":""},{"$f":"IFERROR(IF(A679=\"\",\"\",VLOOKUP(A679,[1]Hoja1!$B$2:$U$4999,2,FALSE)),\" --- NO EXISTE TRABAJADOR --- \")","v":""},null,null,null,null,null,"","","",{"$f":"IFERROR(IF(A679=\"\",\"\",VLOOKUP(A679,[1]Hoja1!$B$2:$U$4999,18,FALSE)),0)","v":""},{"$f":"IFERROR(IF(A679=\"\",\"\",VLOOKUP(A679,[1]Hoja1!$B$2:$U$4999,19,FALSE)),0)","v":""},"",null,{"$f":"IFERROR(IF(O679=\"\",\"\",VLOOKUP(O679,JORNADA!$A$19:$B$20,2,FALSE)),\"\")","v":""},{"$f":"IFERROR(IF(A679=\"\",\"\",VLOOKUP(A679,[1]Hoja1!$B$2:$U$4999,3,FALSE)),0)","v":""},null,"","",{"$f":"IFERROR(IF(A679=\"\",\"\",VLOOKUP(A679,[1]Hoja1!$B$2:$U$4999,10,FALSE)),0)","v":""},{"$f":"IFERROR(IF(Q679=\"\",\"\",VLOOKUP(Q679,[1]Hoja1!$D$2:$AF$4999,29,FALSE)),\"NO EXISTE CUENTA\")","v":""},null,null,""]
[null,{"$f":"IFERROR(IF(A680=\"\",\"\",VLOOKUP(A680,[1]Hoja1!$B$2:$U$4999,9,FALSE)),0)","v":""},{"$f":"IFERROR(IF(A680=\"\",\"\",VLOOKUP(A680,[1]Hoja1!$B$2:$U$4999,2,FALSE)),\" --- NO EXISTE TRABAJADOR --- \")","v":""},null,null,null,null,null,"","","",{"$f":"IFERROR(IF(A680=\"\",\"\",VLOOKUP(A680,[1]Hoja1!$B$2:$U$4999,18,FALSE)),0)","v":""},{"$f":"IFERROR(IF(A680=\"\",\"\",VLOOKUP(A680,[1]Hoja1!$B$2:$U$4999,19,FALSE)),0)","v":""},"",null,{"$f":"IFERROR(IF(O680=\"\",\"\",VLOOKUP(O680,JORNADA!$A$19:$B$20,2,FALSE)),\"\")","v":""},{"$f":"IFERROR(IF(A680=\"\",\"\",VLOOKUP(A680,[1]Hoja1!$B$2:$U$4999,3,FALSE)),0)","v":""},null,"","",{"$f":"IFERROR(IF(A680=\"\",\"\",VLOOKUP(A680,[1]Hoja1!$B$2:$U$4999,10,FALSE)),0)","v":""},{"$f":"IFERROR(IF(Q680=\"\",\"\",VLOOKUP(Q680,[1]Hoja1!$D$2:$AF$4999,29,FALSE)),\"NO EXISTE CUENTA\")","v":""},null,null,""]
[null,{"$f":"IFERROR(IF(A681=\"\",\"\",VLOOKUP(A681,[1]Hoja1!$B$2:$U$4999,9,FALSE)),0)","v":""},{"$f":"IFERROR(IF(A681=\"\",\"\",VLOOKUP(A681,[1]Hoja1!$B$2:$U$4999,2,FALSE)),\" --- NO EXISTE TRABAJADOR --- \")","v":""},null,null,null,null,null,"","","",{"$f":"IFERROR(IF(A681=\"\",\"\",VLOOKUP(A681,[1]Hoja1!$B$2:$U$4999,18,FALSE)),0)","v":""},{"$f":"IFERROR(IF(A681=\"\",\"\",VLOOKUP(A681,[1]Hoja1!$B$2:$U$4999,19,FALSE)),0)","v":""},"",null,{"$f":"IFERROR(IF(O681=\"\",\"\",VLOOKUP(O681,JORNADA!$A$19:$B$20,2,FALSE)),\"\")","v":""},{"$f":"IFERROR(IF(A681=\"\",\"\",VLOOKUP(A681,[1]Hoja1!$B$2:$U$4999,3,FALSE)),0)","v":""},null,"","",{"$f":"IFERROR(IF(A681=\"\",\"\",VLOOKUP(A681,[1]Hoja1!$B$2:$U$4999,10,FALSE)),0)","v":""},{"$f":"IFERROR(IF(Q681=\"\",\"\",VLOOKUP(Q681,[1]Hoja1!$D$2:$AF$4999,29,FALSE)),\"NO EXISTE CUENTA\")","v":""},null,null,""]
[null,{"$f":"IFERROR(IF(A682=\"\",\"\",VLOOKUP(A682,[1]Hoja1!$B$2:$U$4999,9,FALSE)),0)","v":""},{"$f":"IFERROR(IF(A682=\"\",\"\",VLOOKUP(A682,[1]Hoja1!$B$2:$U$4999,2,FALSE)),\" --- NO EXISTE TRABAJADOR --- \")","v":""},null,null,null,null,null,"","","",{"$f":"IFERROR(IF(A682=\"\",\"\",VLOOKUP(A682,[1]Hoja1!$B$2:$U$4999,18,FALSE)),0)","v":""},{"$f":"IFERROR(IF(A682=\"\",\"\",VLOOKUP(A682,[1]Hoja1!$B$2:$U$4999,19,FALSE)),0)","v":""},"",null,{"$f":"IFERROR(IF(O682=\"\",\"\",VLOOKUP(O682,JORNADA!$A$19:$B$20,2,FALSE)),\"\")","v":""},{"$f":"IFERROR(IF(A682=\"\",\"\",VLOOKUP(A682,[1]Hoja1!$B$2:$U$4999,3,FALSE)),0)","v":""},null,"","",{"$f":"IFERROR(IF(A682=\"\",\"\",VLOOKUP(A682,[1]Hoja1!$B$2:$U$4999,10,FALSE)),0)","v":""},{"$f":"IFERROR(IF(Q682=\"\",\"\",VLOOKUP(Q682,[1]Hoja1!$D$2:$AF$4999,29,FALSE)),\"NO EXISTE CUENTA\")","v":""},null,null,""]
[null,{"$f":"IFERROR(IF(A683=\"\",\"\",VLOOKUP(A683,[1]Hoja1!$B$2:$U$4999,9,FALSE)),0)","v":""},{"$f":"IFERROR(IF(A683=\"\",\"\",VLOOKUP(A683,[1]Hoja1!$B$2:$U$4999,2,FALSE)),\" --- NO EXISTE TRABAJADOR --- \")","v":""},null,null,null,null,null,"","","",{"$f":"IFERROR(IF(A683=\"\",\"\",VLOOKUP(A683,[1]Hoja1!$B$2:$U$4999,18,FALSE)),0)","v":""},{"$f":"IFERROR(IF(A683=\"\",\"\",VLOOKUP(A683,[1]Hoja1!$B$2:$U$4999,19,FALSE)),0)","v":""},"",null,{"$f":"IFERROR(IF(O683=\"\",\"\",VLOOKUP(O683,JORNADA!$A$19:$B$20,2,FALSE)),\"\")","v":""},{"$f":"IFERROR(IF(A683=\"\",\"\",VLOOKUP(A683,[1]Hoja1!$B$2:$U$4999,3,FALSE)),0)","v":""},null,"","",{"$f":"IFERROR(IF(A683=\"\",\"\",VLOOKUP(A683,[1]Hoja1!$B$2:$U$4999,10,FALSE)),0)","v":""},{"$f":"IFERROR(IF(Q683=\"\",\"\",VLOOKUP(Q683,[1]Hoja1!$D$2:$AF$4999,29,FALSE)),\"NO EXISTE CUENTA\")","v":""},null,null,""]
[null,{"$f":"IFERROR(IF(A684=\"\",\"\",VLOOKUP(A684,[1]Hoja1!$B$2:$U$4999,9,FALSE)),0)","v":""},{"$f":"IFERROR(IF(A684=\"\",\"\",VLOOKUP(A684,[1]Hoja1!$B$2:$U$4999,2,FALSE)),\" --- NO EXISTE TRABAJADOR --- \")","v":""},null,null,null,null,null,"","","",{"$f":"IFERROR(IF(A684=\"\",\"\",VLOOKUP(A684,[1]Hoja1!$B$2:$U$4999,18,FALSE)),0)","v":""},{"$f":"IFERROR(IF(A684=\"\",\"\",VLOOKUP(A684,[1]Hoja1!$B$2:$U$4999,19,FALSE)),0)","v":""},"",null,{"$f":"IFERROR(IF(O684=\"\",\"\",VLOOKUP(O684,JORNADA!$A$19:$B$20,2,FALSE)),\"\")","v":""},{"$f":"IFERROR(IF(A684=\"\",\"\",VLOOKUP(A684,[1]Hoja1!$B$2:$U$4999,3,FALSE)),0)","v":""},null,"","",{"$f":"IFERROR(IF(A684=\"\",\"\",VLOOKUP(A684,[1]Hoja1!$B$2:$U$4999,10,FALSE)),0)","v":""},{"$f":"IFERROR(IF(Q684=\"\",\"\",VLOOKUP(Q684,[1]Hoja1!$D$2:$AF$4999,29,FALSE)),\"NO EXISTE CUENTA\")","v":""},null,null,""]
[null,{"$f":"IFERROR(IF(A685=\"\",\"\",VLOOKUP(A685,[1]Hoja1!$B$2:$U$4999,9,FALSE)),0)","v":""},{"$f":"IFERROR(IF(A685=\"\",\"\",VLOOKUP(A685,[1]Hoja1!$B$2:$U$4999,2,FALSE)),\" --- NO EXISTE TRABAJADOR --- \")","v":""},null,null,null,null,null,"","","",{"$f":"IFERROR(IF(A685=\"\",\"\",VLOOKUP(A685,[1]Hoja1!$B$2:$U$4999,18,FALSE)),0)","v":""},{"$f":"IFERROR(IF(A685=\"\",\"\",VLOOKUP(A685,[1]Hoja1!$B$2:$U$4999,19,FALSE)),0)","v":""},"",null,{"$f":"IFERROR(IF(O685=\"\",\"\",VLOOKUP(O685,JORNADA!$A$19:$B$20,2,FALSE)),\"\")","v":""},{"$f":"IFERROR(IF(A685=\"\",\"\",VLOOKUP(A685,[1]Hoja1!$B$2:$U$4999,3,FALSE)),0)","v":""},null,"","",{"$f":"IFERROR(IF(A685=\"\",\"\",VLOOKUP(A685,[1]Hoja1!$B$2:$U$4999,10,FALSE)),0)","v":""},{"$f":"IFERROR(IF(Q685=\"\",\"\",VLOOKUP(Q685,[1]Hoja1!$D$2:$AF$4999,29,FALSE)),\"NO EXISTE CUENTA\")","v":""},null,null,""]
[null,{"$f":"IFERROR(IF(A686=\"\",\"\",VLOOKUP(A686,[1]Hoja1!$B$2:$U$4999,9,FALSE)),0)","v":""},{"$f":"IFERROR(IF(A686=\"\",\"\",VLOOKUP(A686,[1]Hoja1!$B$2:$U$4999,2,FALSE)),\" --- NO EXISTE TRABAJADOR --- \")","v":""},null,null,null,null,null,"","","",{"$f":"IFERROR(IF(A686=\"\",\"\",VLOOKUP(A686,[1]Hoja1!$B$2:$U$4999,18,FALSE)),0)","v":""},{"$f":"IFERROR(IF(A686=\"\",\"\",VLOOKUP(A686,[1]Hoja1!$B$2:$U$4999,19,FALSE)),0)","v":""},"",null,{"$f":"IFERROR(IF(O686=\"\",\"\",VLOOKUP(O686,JORNADA!$A$19:$B$20,2,FALSE)),\"\")","v":""},{"$f":"IFERROR(IF(A686=\"\",\"\",VLOOKUP(A686,[1]Hoja1!$B$2:$U$4999,3,FALSE)),0)","v":""},null,"","",{"$f":"IFERROR(IF(A686=\"\",\"\",VLOOKUP(A686,[1]Hoja1!$B$2:$U$4999,10,FALSE)),0)","v":""},{"$f":"IFERROR(IF(Q686=\"\",\"\",VLOOKUP(Q686,[1]Hoja1!$D$2:$AF$4999,29,FALSE)),\"NO EXISTE CUENTA\")","v":""},null,null,""]
[null,{"$f":"IFERROR(IF(A687=\"\",\"\",VLOOKUP(A687,[1]Hoja1!$B$2:$U$4999,9,FALSE)),0)","v":""},{"$f":"IFERROR(IF(A687=\"\",\"\",VLOOKUP(A687,[1]Hoja1!$B$2:$U$4999,2,FALSE)),\" --- NO EXISTE TRABAJADOR --- \")","v":""},null,null,null,null,null,"","","",{"$f":"IFERROR(IF(A687=\"\",\"\",VLOOKUP(A687,[1]Hoja1!$B$2:$U$4999,18,FALSE)),0)","v":""},{"$f":"IFERROR(IF(A687=\"\",\"\",VLOOKUP(A687,[1]Hoja1!$B$2:$U$4999,19,FALSE)),0)","v":""},"",null,{"$f":"IFERROR(IF(O687=\"\",\"\",VLOOKUP(O687,JORNADA!$A$19:$B$20,2,FALSE)),\"\")","v":""},{"$f":"IFERROR(IF(A687=\"\",\"\",VLOOKUP(A687,[1]Hoja1!$B$2:$U$4999,3,FALSE)),0)","v":""},null,"","",{"$f":"IFERROR(IF(A687=\"\",\"\",VLOOKUP(A687,[1]Hoja1!$B$2:$U$4999,10,FALSE)),0)","v":""},{"$f":"IFERROR(IF(Q687=\"\",\"\",VLOOKUP(Q687,[1]Hoja1!$D$2:$AF$4999,29,FALSE)),\"NO EXISTE CUENTA\")","v":""},null,null,""]
[null,{"$f":"IFERROR(IF(A688=\"\",\"\",VLOOKUP(A688,[1]Hoja1!$B$2:$U$4999,9,FALSE)),0)","v":""},{"$f":"IFERROR(IF(A688=\"\",\"\",VLOOKUP(A688,[1]Hoja1!$B$2:$U$4999,2,FALSE)),\" --- NO EXISTE TRABAJADOR --- \")","v":""},null,null,null,null,null,"","","",{"$f":"IFERROR(IF(A688=\"\",\"\",VLOOKUP(A688,[1]Hoja1!$B$2:$U$4999,18,FALSE)),0)","v":""},{"$f":"IFERROR(IF(A688=\"\",\"\",VLOOKUP(A688,[1]Hoja1!$B$2:$U$4999,19,FALSE)),0)","v":""},"",null,{"$f":"IFERROR(IF(O688=\"\",\"\",VLOOKUP(O688,JORNADA!$A$19:$B$20,2,FALSE)),\"\")","v":""},{"$f":"IFERROR(IF(A688=\"\",\"\",VLOOKUP(A688,[1]Hoja1!$B$2:$U$4999,3,FALSE)),0)","v":""},null,"","",{"$f":"IFERROR(IF(A688=\"\",\"\",VLOOKUP(A688,[1]Hoja1!$B$2:$U$4999,10,FALSE)),0)","v":""},{"$f":"IFERROR(IF(Q688=\"\",\"\",VLOOKUP(Q688,[1]Hoja1!$D$2:$AF$4999,29,FALSE)),\"NO EXISTE CUENTA\")","v":""},null,null,""]
[null,{"$f":"IFERROR(IF(A689=\"\",\"\",VLOOKUP(A689,[1]Hoja1!$B$2:$U$4999,9,FALSE)),0)","v":""},{"$f":"IFERROR(IF(A689=\"\",\"\",VLOOKUP(A689,[1]Hoja1!$B$2:$U$4999,2,FALSE)),\" --- NO EXISTE TRABAJADOR --- \")","v":""},null,null,null,null,null,"","","",{"$f":"IFERROR(IF(A689=\"\",\"\",VLOOKUP(A689,[1]Hoja1!$B$2:$U$4999,18,FALSE)),0)","v":""},{"$f":"IFERROR(IF(A689=\"\",\"\",VLOOKUP(A689,[1]Hoja1!$B$2:$U$4999,19,FALSE)),0)","v":""},"",null,{"$f":"IFERROR(IF(O689=\"\",\"\",VLOOKUP(O689,JORNADA!$A$19:$B$20,2,FALSE)),\"\")","v":""},{"$f":"IFERROR(IF(A689=\"\",\"\",VLOOKUP(A689,[1]Hoja1!$B$2:$U$4999,3,FALSE)),0)","v":""},null,"","",{"$f":"IFERROR(IF(A689=\"\",\"\",VLOOKUP(A689,[1]Hoja1!$B$2:$U$4999,10,FALSE)),0)","v":""},{"$f":"IFERROR(IF(Q689=\"\",\"\",VLOOKUP(Q689,[1]Hoja1!$D$2:$AF$4999,29,FALSE)),\"NO EXISTE CUENTA\")","v":""},null,null,""]
[null,{"$f":"IFERROR(IF(A690=\"\",\"\",VLOOKUP(A690,[1]Hoja1!$B$2:$U$4999,9,FALSE)),0)","v":""},{"$f":"IFERROR(IF(A690=\"\",\"\",VLOOKUP(A690,[1]Hoja1!$B$2:$U$4999,2,FALSE)),\" --- NO EXISTE TRABAJADOR --- \")","v":""},null,null,null,null,null,"","","",{"$f":"IFERROR(IF(A690=\"\",\"\",VLOOKUP(A690,[1]Hoja1!$B$2:$U$4999,18,FALSE)),0)","v":""},{"$f":"IFERROR(IF(A690=\"\",\"\",VLOOKUP(A690,[1]Hoja1!$B$2:$U$4999,19,FALSE)),0)","v":""},"",null,{"$f":"IFERROR(IF(O690=\"\",\"\",VLOOKUP(O690,JORNADA!$A$19:$B$20,2,FALSE)),\"\")","v":""},{"$f":"IFERROR(IF(A690=\"\",\"\",VLOOKUP(A690,[1]Hoja1!$B$2:$U$4999,3,FALSE)),0)","v":""},null,"","",{"$f":"IFERROR(IF(A690=\"\",\"\",VLOOKUP(A690,[1]Hoja1!$B$2:$U$4999,10,FALSE)),0)","v":""},{"$f":"IFERROR(IF(Q690=\"\",\"\",VLOOKUP(Q690,[1]Hoja1!$D$2:$AF$4999,29,FALSE)),\"NO EXISTE CUENTA\")","v":""},null,null,""]
[null,{"$f":"IFERROR(IF(A691=\"\",\"\",VLOOKUP(A691,[1]Hoja1!$B$2:$U$4999,9,FALSE)),0)","v":""},{"$f":"IFERROR(IF(A691=\"\",\"\",VLOOKUP(A691,[1]Hoja1!$B$2:$U$4999,2,FALSE)),\" --- NO EXISTE TRABAJADOR --- \")","v":""},null,null,null,null,null,"","","",{"$f":"IFERROR(IF(A691=\"\",\"\",VLOOKUP(A691,[1]Hoja1!$B$2:$U$4999,18,FALSE)),0)","v":""},{"$f":"IFERROR(IF(A691=\"\",\"\",VLOOKUP(A691,[1]Hoja1!$B$2:$U$4999,19,FALSE)),0)","v":""},"",null,{"$f":"IFERROR(IF(O691=\"\",\"\",VLOOKUP(O691,JORNADA!$A$19:$B$20,2,FALSE)),\"\")","v":""},{"$f":"IFERROR(IF(A691=\"\",\"\",VLOOKUP(A691,[1]Hoja1!$B$2:$U$4999,3,FALSE)),0)","v":""},null,"","",{"$f":"IFERROR(IF(A691=\"\",\"\",VLOOKUP(A691,[1]Hoja1!$B$2:$U$4999,10,FALSE)),0)","v":""},{"$f":"IFERROR(IF(Q691=\"\",\"\",VLOOKUP(Q691,[1]Hoja1!$D$2:$AF$4999,29,FALSE)),\"NO EXISTE CUENTA\")","v":""},null,null,""]
[null,{"$f":"IFERROR(IF(A692=\"\",\"\",VLOOKUP(A692,[1]Hoja1!$B$2:$U$4999,9,FALSE)),0)","v":""},{"$f":"IFERROR(IF(A692=\"\",\"\",VLOOKUP(A692,[1]Hoja1!$B$2:$U$4999,2,FALSE)),\" --- NO EXISTE TRABAJADOR --- \")","v":""},null,null,null,null,null,"","","",{"$f":"IFERROR(IF(A692=\"\",\"\",VLOOKUP(A692,[1]Hoja1!$B$2:$U$4999,18,FALSE)),0)","v":""},{"$f":"IFERROR(IF(A692=\"\",\"\",VLOOKUP(A692,[1]Hoja1!$B$2:$U$4999,19,FALSE)),0)","v":""},"",null,{"$f":"IFERROR(IF(O692=\"\",\"\",VLOOKUP(O692,JORNADA!$A$19:$B$20,2,FALSE)),\"\")","v":""},{"$f":"IFERROR(IF(A692=\"\",\"\",VLOOKUP(A692,[1]Hoja1!$B$2:$U$4999,3,FALSE)),0)","v":""},null,"","",{"$f":"IFERROR(IF(A692=\"\",\"\",VLOOKUP(A692,[1]Hoja1!$B$2:$U$4999,10,FALSE)),0)","v":""},{"$f":"IFERROR(IF(Q692=\"\",\"\",VLOOKUP(Q692,[1]Hoja1!$D$2:$AF$4999,29,FALSE)),\"NO EXISTE CUENTA\")","v":""},null,null,""]
[null,{"$f":"IFERROR(IF(A693=\"\",\"\",VLOOKUP(A693,[1]Hoja1!$B$2:$U$4999,9,FALSE)),0)","v":""},{"$f":"IFERROR(IF(A693=\"\",\"\",VLOOKUP(A693,[1]Hoja1!$B$2:$U$4999,2,FALSE)),\" --- NO EXISTE TRABAJADOR --- \")","v":""},null,null,null,null,null,"","","",{"$f":"IFERROR(IF(A693=\"\",\"\",VLOOKUP(A693,[1]Hoja1!$B$2:$U$4999,18,FALSE)),0)","v":""},{"$f":"IFERROR(IF(A693=\"\",\"\",VLOOKUP(A693,[1]Hoja1!$B$2:$U$4999,19,FALSE)),0)","v":""},"",null,{"$f":"IFERROR(IF(O693=\"\",\"\",VLOOKUP(O693,JORNADA!$A$19:$B$20,2,FALSE)),\"\")","v":""},{"$f":"IFERROR(IF(A693=\"\",\"\",VLOOKUP(A693,[1]Hoja1!$B$2:$U$4999,3,FALSE)),0)","v":""},null,"","",{"$f":"IFERROR(IF(A693=\"\",\"\",VLOOKUP(A693,[1]Hoja1!$B$2:$U$4999,10,FALSE)),0)","v":""},{"$f":"IFERROR(IF(Q693=\"\",\"\",VLOOKUP(Q693,[1]Hoja1!$D$2:$AF$4999,29,FALSE)),\"NO EXISTE CUENTA\")","v":""},null,null,""]
[null,{"$f":"IFERROR(IF(A694=\"\",\"\",VLOOKUP(A694,[1]Hoja1!$B$2:$U$4999,9,FALSE)),0)","v":""},{"$f":"IFERROR(IF(A694=\"\",\"\",VLOOKUP(A694,[1]Hoja1!$B$2:$U$4999,2,FALSE)),\" --- NO EXISTE TRABAJADOR --- \")","v":""},null,null,null,null,null,"","","",{"$f":"IFERROR(IF(A694=\"\",\"\",VLOOKUP(A694,[1]Hoja1!$B$2:$U$4999,18,FALSE)),0)","v":""},{"$f":"IFERROR(IF(A694=\"\",\"\",VLOOKUP(A694,[1]Hoja1!$B$2:$U$4999,19,FALSE)),0)","v":""},"",null,{"$f":"IFERROR(IF(O694=\"\",\"\",VLOOKUP(O694,JORNADA!$A$19:$B$20,2,FALSE)),\"\")","v":""},{"$f":"IFERROR(IF(A694=\"\",\"\",VLOOKUP(A694,[1]Hoja1!$B$2:$U$4999,3,FALSE)),0)","v":""},null,"","",{"$f":"IFERROR(IF(A694=\"\",\"\",VLOOKUP(A694,[1]Hoja1!$B$2:$U$4999,10,FALSE)),0)","v":""},{"$f":"IFERROR(IF(Q694=\"\",\"\",VLOOKUP(Q694,[1]Hoja1!$D$2:$AF$4999,29,FALSE)),\"NO EXISTE CUENTA\")","v":""},null,null,""]
[null,{"$f":"IFERROR(IF(A695=\"\",\"\",VLOOKUP(A695,[1]Hoja1!$B$2:$U$4999,9,FALSE)),0)","v":""},{"$f":"IFERROR(IF(A695=\"\",\"\",VLOOKUP(A695,[1]Hoja1!$B$2:$U$4999,2,FALSE)),\" --- NO EXISTE TRABAJADOR --- \")","v":""},null,null,null,null,null,"","","",{"$f":"IFERROR(IF(A695=\"\",\"\",VLOOKUP(A695,[1]Hoja1!$B$2:$U$4999,18,FALSE)),0)","v":""},{"$f":"IFERROR(IF(A695=\"\",\"\",VLOOKUP(A695,[1]Hoja1!$B$2:$U$4999,19,FALSE)),0)","v":""},"",null,{"$f":"IFERROR(IF(O695=\"\",\"\",VLOOKUP(O695,JORNADA!$A$19:$B$20,2,FALSE)),\"\")","v":""},{"$f":"IFERROR(IF(A695=\"\",\"\",VLOOKUP(A695,[1]Hoja1!$B$2:$U$4999,3,FALSE)),0)","v":""},null,"","",{"$f":"IFERROR(IF(A695=\"\",\"\",VLOOKUP(A695,[1]Hoja1!$B$2:$U$4999,10,FALSE)),0)","v":""},{"$f":"IFERROR(IF(Q695=\"\",\"\",VLOOKUP(Q695,[1]Hoja1!$D$2:$AF$4999,29,FALSE)),\"NO EXISTE CUENTA\")","v":""},null,null,""]
[null,{"$f":"IFERROR(IF(A696=\"\",\"\",VLOOKUP(A696,[1]Hoja1!$B$2:$U$4999,9,FALSE)),0)","v":""},{"$f":"IFERROR(IF(A696=\"\",\"\",VLOOKUP(A696,[1]Hoja1!$B$2:$U$4999,2,FALSE)),\" --- NO EXISTE TRABAJADOR --- \")","v":""},null,null,null,null,null,"","","",{"$f":"IFERROR(IF(A696=\"\",\"\",VLOOKUP(A696,[1]Hoja1!$B$2:$U$4999,18,FALSE)),0)","v":""},{"$f":"IFERROR(IF(A696=\"\",\"\",VLOOKUP(A696,[1]Hoja1!$B$2:$U$4999,19,FALSE)),0)","v":""},"",null,{"$f":"IFERROR(IF(O696=\"\",\"\",VLOOKUP(O696,JORNADA!$A$19:$B$20,2,FALSE)),\"\")","v":""},{"$f":"IFERROR(IF(A696=\"\",\"\",VLOOKUP(A696,[1]Hoja1!$B$2:$U$4999,3,FALSE)),0)","v":""},null,"","",{"$f":"IFERROR(IF(A696=\"\",\"\",VLOOKUP(A696,[1]Hoja1!$B$2:$U$4999,10,FALSE)),0)","v":""},{"$f":"IFERROR(IF(Q696=\"\",\"\",VLOOKUP(Q696,[1]Hoja1!$D$2:$AF$4999,29,FALSE)),\"NO EXISTE CUENTA\")","v":""},null,null,""]
[null,{"$f":"IFERROR(IF(A697=\"\",\"\",VLOOKUP(A697,[1]Hoja1!$B$2:$U$4999,9,FALSE)),0)","v":""},{"$f":"IFERROR(IF(A697=\"\",\"\",VLOOKUP(A697,[1]Hoja1!$B$2:$U$4999,2,FALSE)),\" --- NO EXISTE TRABAJADOR --- \")","v":""},null,null,null,null,null,"","","",{"$f":"IFERROR(IF(A697=\"\",\"\",VLOOKUP(A697,[1]Hoja1!$B$2:$U$4999,18,FALSE)),0)","v":""},{"$f":"IFERROR(IF(A697=\"\",\"\",VLOOKUP(A697,[1]Hoja1!$B$2:$U$4999,19,FALSE)),0)","v":""},"",null,{"$f":"IFERROR(IF(O697=\"\",\"\",VLOOKUP(O697,JORNADA!$A$19:$B$20,2,FALSE)),\"\")","v":""},{"$f":"IFERROR(IF(A697=\"\",\"\",VLOOKUP(A697,[1]Hoja1!$B$2:$U$4999,3,FALSE)),0)","v":""},null,"","",{"$f":"IFERROR(IF(A697=\"\",\"\",VLOOKUP(A697,[1]Hoja1!$B$2:$U$4999,10,FALSE)),0)","v":""},{"$f":"IFERROR(IF(Q697=\"\",\"\",VLOOKUP(Q697,[1]Hoja1!$D$2:$AF$4999,29,FALSE)),\"NO EXISTE CUENTA\")","v":""},null,null,""]
[null,{"$f":"IFERROR(IF(A698=\"\",\"\",VLOOKUP(A698,[1]Hoja1!$B$2:$U$4999,9,FALSE)),0)","v":""},{"$f":"IFERROR(IF(A698=\"\",\"\",VLOOKUP(A698,[1]Hoja1!$B$2:$U$4999,2,FALSE)),\" --- NO EXISTE TRABAJADOR --- \")","v":""},null,null,null,null,null,"","","",{"$f":"IFERROR(IF(A698=\"\",\"\",VLOOKUP(A698,[1]Hoja1!$B$2:$U$4999,18,FALSE)),0)","v":""},{"$f":"IFERROR(IF(A698=\"\",\"\",VLOOKUP(A698,[1]Hoja1!$B$2:$U$4999,19,FALSE)),0)","v":""},"",null,{"$f":"IFERROR(IF(O698=\"\",\"\",VLOOKUP(O698,JORNADA!$A$19:$B$20,2,FALSE)),\"\")","v":""},{"$f":"IFERROR(IF(A698=\"\",\"\",VLOOKUP(A698,[1]Hoja1!$B$2:$U$4999,3,FALSE)),0)","v":""},null,"","",{"$f":"IFERROR(IF(A698=\"\",\"\",VLOOKUP(A698,[1]Hoja1!$B$2:$U$4999,10,FALSE)),0)","v":""},{"$f":"IFERROR(IF(Q698=\"\",\"\",VLOOKUP(Q698,[1]Hoja1!$D$2:$AF$4999,29,FALSE)),\"NO EXISTE CUENTA\")","v":""},null,null,""]
[null,{"$f":"IFERROR(IF(A699=\"\",\"\",VLOOKUP(A699,[1]Hoja1!$B$2:$U$4999,9,FALSE)),0)","v":""},{"$f":"IFERROR(IF(A699=\"\",\"\",VLOOKUP(A699,[1]Hoja1!$B$2:$U$4999,2,FALSE)),\" --- NO EXISTE TRABAJADOR --- \")","v":""},null,null,null,null,null,"","","",{"$f":"IFERROR(IF(A699=\"\",\"\",VLOOKUP(A699,[1]Hoja1!$B$2:$U$4999,18,FALSE)),0)","v":""},{"$f":"IFERROR(IF(A699=\"\",\"\",VLOOKUP(A699,[1]Hoja1!$B$2:$U$4999,19,FALSE)),0)","v":""},"",null,{"$f":"IFERROR(IF(O699=\"\",\"\",VLOOKUP(O699,JORNADA!$A$19:$B$20,2,FALSE)),\"\")","v":""},{"$f":"IFERROR(IF(A699=\"\",\"\",VLOOKUP(A699,[1]Hoja1!$B$2:$U$4999,3,FALSE)),0)","v":""},null,"","",{"$f":"IFERROR(IF(A699=\"\",\"\",VLOOKUP(A699,[1]Hoja1!$B$2:$U$4999,10,FALSE)),0)","v":""},{"$f":"IFERROR(IF(Q699=\"\",\"\",VLOOKUP(Q699,[1]Hoja1!$D$2:$AF$4999,29,FALSE)),\"NO EXISTE CUENTA\")","v":""},null,null,""]
[null,{"$f":"IFERROR(IF(A700=\"\",\"\",VLOOKUP(A700,[1]Hoja1!$B$2:$U$4999,9,FALSE)),0)","v":""},{"$f":"IFERROR(IF(A700=\"\",\"\",VLOOKUP(A700,[1]Hoja1!$B$2:$U$4999,2,FALSE)),\" --- NO EXISTE TRABAJADOR --- \")","v":""},null,null,null,null,null,"","","",{"$f":"IFERROR(IF(A700=\"\",\"\",VLOOKUP(A700,[1]Hoja1!$B$2:$U$4999,18,FALSE)),0)","v":""},{"$f":"IFERROR(IF(A700=\"\",\"\",VLOOKUP(A700,[1]Hoja1!$B$2:$U$4999,19,FALSE)),0)","v":""},"",null,{"$f":"IFERROR(IF(O700=\"\",\"\",VLOOKUP(O700,JORNADA!$A$19:$B$20,2,FALSE)),\"\")","v":""},{"$f":"IFERROR(IF(A700=\"\",\"\",VLOOKUP(A700,[1]Hoja1!$B$2:$U$4999,3,FALSE)),0)","v":""},null,"","",{"$f":"IFERROR(IF(A700=\"\",\"\",VLOOKUP(A700,[1]Hoja1!$B$2:$U$4999,10,FALSE)),0)","v":""},{"$f":"IFERROR(IF(Q700=\"\",\"\",VLOOKUP(Q700,[1]Hoja1!$D$2:$AF$4999,29,FALSE)),\"NO EXISTE CUENTA\")","v":""},null,null,""]
[null,{"$f":"IFERROR(IF(A701=\"\",\"\",VLOOKUP(A701,[1]Hoja1!$B$2:$U$4999,9,FALSE)),0)","v":""},{"$f":"IFERROR(IF(A701=\"\",\"\",VLOOKUP(A701,[1]Hoja1!$B$2:$U$4999,2,FALSE)),\" --- NO EXISTE TRABAJADOR --- \")","v":""},null,null,null,null,null,"","","",{"$f":"IFERROR(IF(A701=\"\",\"\",VLOOKUP(A701,[1]Hoja1!$B$2:$U$4999,18,FALSE)),0)","v":""},{"$f":"IFERROR(IF(A701=\"\",\"\",VLOOKUP(A701,[1]Hoja1!$B$2:$U$4999,19,FALSE)),0)","v":""},"",null,{"$f":"IFERROR(IF(O701=\"\",\"\",VLOOKUP(O701,JORNADA!$A$19:$B$20,2,FALSE)),\"\")","v":""},{"$f":"IFERROR(IF(A701=\"\",\"\",VLOOKUP(A701,[1]Hoja1!$B$2:$U$4999,3,FALSE)),0)","v":""},null,"","",{"$f":"IFERROR(IF(A701=\"\",\"\",VLOOKUP(A701,[1]Hoja1!$B$2:$U$4999,10,FALSE)),0)","v":""},{"$f":"IFERROR(IF(Q701=\"\",\"\",VLOOKUP(Q701,[1]Hoja1!$D$2:$AF$4999,29,FALSE)),\"NO EXISTE CUENTA\")","v":""},null,null,""]
[null,{"$f":"IFERROR(IF(A702=\"\",\"\",VLOOKUP(A702,[1]Hoja1!$B$2:$U$4999,9,FALSE)),0)","v":""},{"$f":"IFERROR(IF(A702=\"\",\"\",VLOOKUP(A702,[1]Hoja1!$B$2:$U$4999,2,FALSE)),\" --- NO EXISTE TRABAJADOR --- \")","v":""},null,null,null,null,null,"","","",{"$f":"IFERROR(IF(A702=\"\",\"\",VLOOKUP(A702,[1]Hoja1!$B$2:$U$4999,18,FALSE)),0)","v":""},{"$f":"IFERROR(IF(A702=\"\",\"\",VLOOKUP(A702,[1]Hoja1!$B$2:$U$4999,19,FALSE)),0)","v":""},"",null,{"$f":"IFERROR(IF(O702=\"\",\"\",VLOOKUP(O702,JORNADA!$A$19:$B$20,2,FALSE)),\"\")","v":""},{"$f":"IFERROR(IF(A702=\"\",\"\",VLOOKUP(A702,[1]Hoja1!$B$2:$U$4999,3,FALSE)),0)","v":""},null,"","",{"$f":"IFERROR(IF(A702=\"\",\"\",VLOOKUP(A702,[1]Hoja1!$B$2:$U$4999,10,FALSE)),0)","v":""},{"$f":"IFERROR(IF(Q702=\"\",\"\",VLOOKUP(Q702,[1]Hoja1!$D$2:$AF$4999,29,FALSE)),\"NO EXISTE CUENTA\")","v":""},null,null,""]
[null,{"$f":"IFERROR(IF(A703=\"\",\"\",VLOOKUP(A703,[1]Hoja1!$B$2:$U$4999,9,FALSE)),0)","v":""},{"$f":"IFERROR(IF(A703=\"\",\"\",VLOOKUP(A703,[1]Hoja1!$B$2:$U$4999,2,FALSE)),\" --- NO EXISTE TRABAJADOR --- \")","v":""},null,null,null,null,null,"","","",{"$f":"IFERROR(IF(A703=\"\",\"\",VLOOKUP(A703,[1]Hoja1!$B$2:$U$4999,18,FALSE)),0)","v":""},{"$f":"IFERROR(IF(A703=\"\",\"\",VLOOKUP(A703,[1]Hoja1!$B$2:$U$4999,19,FALSE)),0)","v":""},"",null,{"$f":"IFERROR(IF(O703=\"\",\"\",VLOOKUP(O703,JORNADA!$A$19:$B$20,2,FALSE)),\"\")","v":""},{"$f":"IFERROR(IF(A703=\"\",\"\",VLOOKUP(A703,[1]Hoja1!$B$2:$U$4999,3,FALSE)),0)","v":""},null,"","",{"$f":"IFERROR(IF(A703=\"\",\"\",VLOOKUP(A703,[1]Hoja1!$B$2:$U$4999,10,FALSE)),0)","v":""},{"$f":"IFERROR(IF(Q703=\"\",\"\",VLOOKUP(Q703,[1]Hoja1!$D$2:$AF$4999,29,FALSE)),\"NO EXISTE CUENTA\")","v":""},null,null,""]
[null,{"$f":"IFERROR(IF(A704=\"\",\"\",VLOOKUP(A704,[1]Hoja1!$B$2:$U$4999,9,FALSE)),0)","v":""},{"$f":"IFERROR(IF(A704=\"\",\"\",VLOOKUP(A704,[1]Hoja1!$B$2:$U$4999,2,FALSE)),\" --- NO EXISTE TRABAJADOR --- \")","v":""},null,null,null,null,null,"","","",{"$f":"IFERROR(IF(A704=\"\",\"\",VLOOKUP(A704,[1]Hoja1!$B$2:$U$4999,18,FALSE)),0)","v":""},{"$f":"IFERROR(IF(A704=\"\",\"\",VLOOKUP(A704,[1]Hoja1!$B$2:$U$4999,19,FALSE)),0)","v":""},"",null,{"$f":"IFERROR(IF(O704=\"\",\"\",VLOOKUP(O704,JORNADA!$A$19:$B$20,2,FALSE)),\"\")","v":""},{"$f":"IFERROR(IF(A704=\"\",\"\",VLOOKUP(A704,[1]Hoja1!$B$2:$U$4999,3,FALSE)),0)","v":""},null,"","",{"$f":"IFERROR(IF(A704=\"\",\"\",VLOOKUP(A704,[1]Hoja1!$B$2:$U$4999,10,FALSE)),0)","v":""},{"$f":"IFERROR(IF(Q704=\"\",\"\",VLOOKUP(Q704,[1]Hoja1!$D$2:$AF$4999,29,FALSE)),\"NO EXISTE CUENTA\")","v":""},null,null,""]
[null,{"$f":"IFERROR(IF(A705=\"\",\"\",VLOOKUP(A705,[1]Hoja1!$B$2:$U$4999,9,FALSE)),0)","v":""},{"$f":"IFERROR(IF(A705=\"\",\"\",VLOOKUP(A705,[1]Hoja1!$B$2:$U$4999,2,FALSE)),\" --- NO EXISTE TRABAJADOR --- \")","v":""},null,null,null,null,null,"","","",{"$f":"IFERROR(IF(A705=\"\",\"\",VLOOKUP(A705,[1]Hoja1!$B$2:$U$4999,18,FALSE)),0)","v":""},{"$f":"IFERROR(IF(A705=\"\",\"\",VLOOKUP(A705,[1]Hoja1!$B$2:$U$4999,19,FALSE)),0)","v":""},"",null,{"$f":"IFERROR(IF(O705=\"\",\"\",VLOOKUP(O705,JORNADA!$A$19:$B$20,2,FALSE)),\"\")","v":""},{"$f":"IFERROR(IF(A705=\"\",\"\",VLOOKUP(A705,[1]Hoja1!$B$2:$U$4999,3,FALSE)),0)","v":""},null,"","",{"$f":"IFERROR(IF(A705=\"\",\"\",VLOOKUP(A705,[1]Hoja1!$B$2:$U$4999,10,FALSE)),0)","v":""},{"$f":"IFERROR(IF(Q705=\"\",\"\",VLOOKUP(Q705,[1]Hoja1!$D$2:$AF$4999,29,FALSE)),\"NO EXISTE CUENTA\")","v":""},null,null,""]
[null,{"$f":"IFERROR(IF(A706=\"\",\"\",VLOOKUP(A706,[1]Hoja1!$B$2:$U$4999,9,FALSE)),0)","v":""},{"$f":"IFERROR(IF(A706=\"\",\"\",VLOOKUP(A706,[1]Hoja1!$B$2:$U$4999,2,FALSE)),\" --- NO EXISTE TRABAJADOR --- \")","v":""},null,null,null,null,null,"","","",{"$f":"IFERROR(IF(A706=\"\",\"\",VLOOKUP(A706,[1]Hoja1!$B$2:$U$4999,18,FALSE)),0)","v":""},{"$f":"IFERROR(IF(A706=\"\",\"\",VLOOKUP(A706,[1]Hoja1!$B$2:$U$4999,19,FALSE)),0)","v":""},"",null,{"$f":"IFERROR(IF(O706=\"\",\"\",VLOOKUP(O706,JORNADA!$A$19:$B$20,2,FALSE)),\"\")","v":""},{"$f":"IFERROR(IF(A706=\"\",\"\",VLOOKUP(A706,[1]Hoja1!$B$2:$U$4999,3,FALSE)),0)","v":""},null,"","",{"$f":"IFERROR(IF(A706=\"\",\"\",VLOOKUP(A706,[1]Hoja1!$B$2:$U$4999,10,FALSE)),0)","v":""},{"$f":"IFERROR(IF(Q706=\"\",\"\",VLOOKUP(Q706,[1]Hoja1!$D$2:$AF$4999,29,FALSE)),\"NO EXISTE CUENTA\")","v":""},null,null,{"$f":"+C706","v":""}]
[null,{"$f":"IFERROR(IF(A707=\"\",\"\",VLOOKUP(A707,[1]Hoja1!$B$2:$U$4999,9,FALSE)),0)","v":""},{"$f":"IFERROR(IF(A707=\"\",\"\",VLOOKUP(A707,[1]Hoja1!$B$2:$U$4999,2,FALSE)),\" --- NO EXISTE TRABAJADOR --- \")","v":""},null,null,null,null,null,{"$f":"IFERROR(IF(G707=\"\",\"\",VLOOKUP(G707,JORNADA,2,FALSE)),0)","v":""},{"$f":"IFERROR(IF(H707=\"\",\"\",VLOOKUP(H707,ACTIVIDAD,2,FALSE)),0)","v":""},{"$f":"CONCATENATE(J707,G707)","v":""},{"$f":"IFERROR(IF(A707=\"\",\"\",VLOOKUP(A707,[1]Hoja1!$B$2:$U$4999,18,FALSE)),0)","v":""},{"$f":"IFERROR(IF(A707=\"\",\"\",VLOOKUP(A707,[1]Hoja1!$B$2:$U$4999,19,FALSE)),0)","v":""},{"$f":"IFERROR(IF(W707=\"\",\"\",VLOOKUP(W707,LICENCIA,2,FALSE)),\"\")","v":""},null,{"$f":"IFERROR(IF(O707=\"\",\"\",VLOOKUP(O707,JORNADA!$A$19:$B$20,2,FALSE)),\"\")","v":""},{"$f":"IFERROR(IF(A707=\"\",\"\",VLOOKUP(A707,[1]Hoja1!$B$2:$U$4999,3,FALSE)),0)","v":""},null,{"$f":"IFERROR(IF(R707=\"\",\"\",VLOOKUP(R707,DNI,2,FALSE)),0)","v":""},{"$f":"IF(D707<>\"\",COUNTA(INDIRECT(\"D2:D\"&ROW()-1)),\"\")","v":""},{"$f":"IFERROR(IF(A707=\"\",\"\",VLOOKUP(A707,[1]Hoja1!$B$2:$U$4999,10,FALSE)),0)","v":""},{"$f":"IFERROR(IF(Q707=\"\",\"\",VLOOKUP(Q707,[1]Hoja1!$D$2:$AF$4999,29,FALSE)),\"NO EXISTE CUENTA\")","v":""},null,null,""]
[null,{"$f":"IFERROR(IF(A708=\"\",\"\",VLOOKUP(A708,[1]Hoja1!$B$2:$U$4999,9,FALSE)),0)","v":""},{"$f":"IFERROR(IF(A708=\"\",\"\",VLOOKUP(A708,[1]Hoja1!$B$2:$U$4999,2,FALSE)),\" --- NO EXISTE TRABAJADOR --- \")","v":""},null,null,null,null,null,"","","",{"$f":"IFERROR(IF(A708=\"\",\"\",VLOOKUP(A708,[1]Hoja1!$B$2:$U$4999,18,FALSE)),0)","v":""},{"$f":"IFERROR(IF(A708=\"\",\"\",VLOOKUP(A708,[1]Hoja1!$B$2:$U$4999,19,FALSE)),0)","v":""},"",null,{"$f":"IFERROR(IF(O708=\"\",\"\",VLOOKUP(O708,JORNADA!$A$19:$B$20,2,FALSE)),\"\")","v":""},{"$f":"IFERROR(IF(A708=\"\",\"\",VLOOKUP(A708,[1]Hoja1!$B$2:$U$4999,3,FALSE)),0)","v":""},null,"","",{"$f":"IFERROR(IF(A708=\"\",\"\",VLOOKUP(A708,[1]Hoja1!$B$2:$U$4999,10,FALSE)),0)","v":""},{"$f":"IFERROR(IF(Q708=\"\",\"\",VLOOKUP(Q708,[1]Hoja1!$D$2:$AF$4999,29,FALSE)),\"NO EXISTE CUENTA\")","v":""},null,null,""]
[null,{"$f":"IFERROR(IF(A709=\"\",\"\",VLOOKUP(A709,[1]Hoja1!$B$2:$U$4999,9,FALSE)),0)","v":""},{"$f":"IFERROR(IF(A709=\"\",\"\",VLOOKUP(A709,[1]Hoja1!$B$2:$U$4999,2,FALSE)),\" --- NO EXISTE TRABAJADOR --- \")","v":""},null,null,null,null,null,"","","",{"$f":"IFERROR(IF(A709=\"\",\"\",VLOOKUP(A709,[1]Hoja1!$B$2:$U$4999,18,FALSE)),0)","v":""},{"$f":"IFERROR(IF(A709=\"\",\"\",VLOOKUP(A709,[1]Hoja1!$B$2:$U$4999,19,FALSE)),0)","v":""},"",null,{"$f":"IFERROR(IF(O709=\"\",\"\",VLOOKUP(O709,JORNADA!$A$19:$B$20,2,FALSE)),\"\")","v":""},{"$f":"IFERROR(IF(A709=\"\",\"\",VLOOKUP(A709,[1]Hoja1!$B$2:$U$4999,3,FALSE)),0)","v":""},null,"","",{"$f":"IFERROR(IF(A709=\"\",\"\",VLOOKUP(A709,[1]Hoja1!$B$2:$U$4999,10,FALSE)),0)","v":""},{"$f":"IFERROR(IF(Q709=\"\",\"\",VLOOKUP(Q709,[1]Hoja1!$D$2:$AF$4999,29,FALSE)),\"NO EXISTE CUENTA\")","v":""},null,null,""]
[null,{"$f":"IFERROR(IF(A710=\"\",\"\",VLOOKUP(A710,[1]Hoja1!$B$2:$U$4999,9,FALSE)),0)","v":""},{"$f":"IFERROR(IF(A710=\"\",\"\",VLOOKUP(A710,[1]Hoja1!$B$2:$U$4999,2,FALSE)),\" --- NO EXISTE TRABAJADOR --- \")","v":""},null,null,null,null,null,"","","",{"$f":"IFERROR(IF(A710=\"\",\"\",VLOOKUP(A710,[1]Hoja1!$B$2:$U$4999,18,FALSE)),0)","v":""},{"$f":"IFERROR(IF(A710=\"\",\"\",VLOOKUP(A710,[1]Hoja1!$B$2:$U$4999,19,FALSE)),0)","v":""},"",null,{"$f":"IFERROR(IF(O710=\"\",\"\",VLOOKUP(O710,JORNADA!$A$19:$B$20,2,FALSE)),\"\")","v":""},{"$f":"IFERROR(IF(A710=\"\",\"\",VLOOKUP(A710,[1]Hoja1!$B$2:$U$4999,3,FALSE)),0)","v":""},null,"","",{"$f":"IFERROR(IF(A710=\"\",\"\",VLOOKUP(A710,[1]Hoja1!$B$2:$U$4999,10,FALSE)),0)","v":""},{"$f":"IFERROR(IF(Q710=\"\",\"\",VLOOKUP(Q710,[1]Hoja1!$D$2:$AF$4999,29,FALSE)),\"NO EXISTE CUENTA\")","v":""},null,null,""]
[null,{"$f":"IFERROR(IF(A711=\"\",\"\",VLOOKUP(A711,[1]Hoja1!$B$2:$U$4999,9,FALSE)),0)","v":""},{"$f":"IFERROR(IF(A711=\"\",\"\",VLOOKUP(A711,[1]Hoja1!$B$2:$U$4999,2,FALSE)),\" --- NO EXISTE TRABAJADOR --- \")","v":""},null,null,null,null,null,"","","",{"$f":"IFERROR(IF(A711=\"\",\"\",VLOOKUP(A711,[1]Hoja1!$B$2:$U$4999,18,FALSE)),0)","v":""},{"$f":"IFERROR(IF(A711=\"\",\"\",VLOOKUP(A711,[1]Hoja1!$B$2:$U$4999,19,FALSE)),0)","v":""},"",null,{"$f":"IFERROR(IF(O711=\"\",\"\",VLOOKUP(O711,JORNADA!$A$19:$B$20,2,FALSE)),\"\")","v":""},{"$f":"IFERROR(IF(A711=\"\",\"\",VLOOKUP(A711,[1]Hoja1!$B$2:$U$4999,3,FALSE)),0)","v":""},null,"","",{"$f":"IFERROR(IF(A711=\"\",\"\",VLOOKUP(A711,[1]Hoja1!$B$2:$U$4999,10,FALSE)),0)","v":""},{"$f":"IFERROR(IF(Q711=\"\",\"\",VLOOKUP(Q711,[1]Hoja1!$D$2:$AF$4999,29,FALSE)),\"NO EXISTE CUENTA\")","v":""},null,null,""]
[null,{"$f":"IFERROR(IF(A712=\"\",\"\",VLOOKUP(A712,[1]Hoja1!$B$2:$U$4999,9,FALSE)),0)","v":""},{"$f":"IFERROR(IF(A712=\"\",\"\",VLOOKUP(A712,[1]Hoja1!$B$2:$U$4999,2,FALSE)),\" --- NO EXISTE TRABAJADOR --- \")","v":""},null,null,null,null,null,"","","",{"$f":"IFERROR(IF(A712=\"\",\"\",VLOOKUP(A712,[1]Hoja1!$B$2:$U$4999,18,FALSE)),0)","v":""},{"$f":"IFERROR(IF(A712=\"\",\"\",VLOOKUP(A712,[1]Hoja1!$B$2:$U$4999,19,FALSE)),0)","v":""},"",null,{"$f":"IFERROR(IF(O712=\"\",\"\",VLOOKUP(O712,JORNADA!$A$19:$B$20,2,FALSE)),\"\")","v":""},{"$f":"IFERROR(IF(A712=\"\",\"\",VLOOKUP(A712,[1]Hoja1!$B$2:$U$4999,3,FALSE)),0)","v":""},null,"","",{"$f":"IFERROR(IF(A712=\"\",\"\",VLOOKUP(A712,[1]Hoja1!$B$2:$U$4999,10,FALSE)),0)","v":""},{"$f":"IFERROR(IF(Q712=\"\",\"\",VLOOKUP(Q712,[1]Hoja1!$D$2:$AF$4999,29,FALSE)),\"NO EXISTE CUENTA\")","v":""},null,null,""]
[null,{"$f":"IFERROR(IF(A713=\"\",\"\",VLOOKUP(A713,[1]Hoja1!$B$2:$U$4999,9,FALSE)),0)","v":""},{"$f":"IFERROR(IF(A713=\"\",\"\",VLOOKUP(A713,[1]Hoja1!$B$2:$U$4999,2,FALSE)),\" --- NO EXISTE TRABAJADOR --- \")","v":""},null,null,null,null,null,"","","",{"$f":"IFERROR(IF(A713=\"\",\"\",VLOOKUP(A713,[1]Hoja1!$B$2:$U$4999,18,FALSE)),0)","v":""},{"$f":"IFERROR(IF(A713=\"\",\"\",VLOOKUP(A713,[1]Hoja1!$B$2:$U$4999,19,FALSE)),0)","v":""},"",null,{"$f":"IFERROR(IF(O713=\"\",\"\",VLOOKUP(O713,JORNADA!$A$19:$B$20,2,FALSE)),\"\")","v":""},{"$f":"IFERROR(IF(A713=\"\",\"\",VLOOKUP(A713,[1]Hoja1!$B$2:$U$4999,3,FALSE)),0)","v":""},null,"","",{"$f":"IFERROR(IF(A713=\"\",\"\",VLOOKUP(A713,[1]Hoja1!$B$2:$U$4999,10,FALSE)),0)","v":""},{"$f":"IFERROR(IF(Q713=\"\",\"\",VLOOKUP(Q713,[1]Hoja1!$D$2:$AF$4999,29,FALSE)),\"NO EXISTE CUENTA\")","v":""},null,null,""]
[null,{"$f":"IFERROR(IF(A714=\"\",\"\",VLOOKUP(A714,[1]Hoja1!$B$2:$U$4999,9,FALSE)),0)","v":""},{"$f":"IFERROR(IF(A714=\"\",\"\",VLOOKUP(A714,[1]Hoja1!$B$2:$U$4999,2,FALSE)),\" --- NO EXISTE TRABAJADOR --- \")","v":""},null,null,null,null,null,"","","",{"$f":"IFERROR(IF(A714=\"\",\"\",VLOOKUP(A714,[1]Hoja1!$B$2:$U$4999,18,FALSE)),0)","v":""},{"$f":"IFERROR(IF(A714=\"\",\"\",VLOOKUP(A714,[1]Hoja1!$B$2:$U$4999,19,FALSE)),0)","v":""},"",null,{"$f":"IFERROR(IF(O714=\"\",\"\",VLOOKUP(O714,JORNADA!$A$19:$B$20,2,FALSE)),\"\")","v":""},{"$f":"IFERROR(IF(A714=\"\",\"\",VLOOKUP(A714,[1]Hoja1!$B$2:$U$4999,3,FALSE)),0)","v":""},null,"","",{"$f":"IFERROR(IF(A714=\"\",\"\",VLOOKUP(A714,[1]Hoja1!$B$2:$U$4999,10,FALSE)),0)","v":""},{"$f":"IFERROR(IF(Q714=\"\",\"\",VLOOKUP(Q714,[1]Hoja1!$D$2:$AF$4999,29,FALSE)),\"NO EXISTE CUENTA\")","v":""},null,null,""]
[null,{"$f":"IFERROR(IF(A715=\"\",\"\",VLOOKUP(A715,[1]Hoja1!$B$2:$U$4999,9,FALSE)),0)","v":""},{"$f":"IFERROR(IF(A715=\"\",\"\",VLOOKUP(A715,[1]Hoja1!$B$2:$U$4999,2,FALSE)),\" --- NO EXISTE TRABAJADOR --- \")","v":""},null,null,null,null,null,"","","",{"$f":"IFERROR(IF(A715=\"\",\"\",VLOOKUP(A715,[1]Hoja1!$B$2:$U$4999,18,FALSE)),0)","v":""},{"$f":"IFERROR(IF(A715=\"\",\"\",VLOOKUP(A715,[1]Hoja1!$B$2:$U$4999,19,FALSE)),0)","v":""},"",null,{"$f":"IFERROR(IF(O715=\"\",\"\",VLOOKUP(O715,JORNADA!$A$19:$B$20,2,FALSE)),\"\")","v":""},{"$f":"IFERROR(IF(A715=\"\",\"\",VLOOKUP(A715,[1]Hoja1!$B$2:$U$4999,3,FALSE)),0)","v":""},null,"","",{"$f":"IFERROR(IF(A715=\"\",\"\",VLOOKUP(A715,[1]Hoja1!$B$2:$U$4999,10,FALSE)),0)","v":""},{"$f":"IFERROR(IF(Q715=\"\",\"\",VLOOKUP(Q715,[1]Hoja1!$D$2:$AF$4999,29,FALSE)),\"NO EXISTE CUENTA\")","v":""},null,null,""]
[null,{"$f":"IFERROR(IF(A716=\"\",\"\",VLOOKUP(A716,[1]Hoja1!$B$2:$U$4999,9,FALSE)),0)","v":""},{"$f":"IFERROR(IF(A716=\"\",\"\",VLOOKUP(A716,[1]Hoja1!$B$2:$U$4999,2,FALSE)),\" --- NO EXISTE TRABAJADOR --- \")","v":""},null,null,null,null,null,"","","",{"$f":"IFERROR(IF(A716=\"\",\"\",VLOOKUP(A716,[1]Hoja1!$B$2:$U$4999,18,FALSE)),0)","v":""},{"$f":"IFERROR(IF(A716=\"\",\"\",VLOOKUP(A716,[1]Hoja1!$B$2:$U$4999,19,FALSE)),0)","v":""},"",null,{"$f":"IFERROR(IF(O716=\"\",\"\",VLOOKUP(O716,JORNADA!$A$19:$B$20,2,FALSE)),\"\")","v":""},{"$f":"IFERROR(IF(A716=\"\",\"\",VLOOKUP(A716,[1]Hoja1!$B$2:$U$4999,3,FALSE)),0)","v":""},null,"","",{"$f":"IFERROR(IF(A716=\"\",\"\",VLOOKUP(A716,[1]Hoja1!$B$2:$U$4999,10,FALSE)),0)","v":""},{"$f":"IFERROR(IF(Q716=\"\",\"\",VLOOKUP(Q716,[1]Hoja1!$D$2:$AF$4999,29,FALSE)),\"NO EXISTE CUENTA\")","v":""},null,null,""]
[null,{"$f":"IFERROR(IF(A717=\"\",\"\",VLOOKUP(A717,[1]Hoja1!$B$2:$U$4999,9,FALSE)),0)","v":""},{"$f":"IFERROR(IF(A717=\"\",\"\",VLOOKUP(A717,[1]Hoja1!$B$2:$U$4999,2,FALSE)),\" --- NO EXISTE TRABAJADOR --- \")","v":""},null,null,null,null,null,"","","",{"$f":"IFERROR(IF(A717=\"\",\"\",VLOOKUP(A717,[1]Hoja1!$B$2:$U$4999,18,FALSE)),0)","v":""},{"$f":"IFERROR(IF(A717=\"\",\"\",VLOOKUP(A717,[1]Hoja1!$B$2:$U$4999,19,FALSE)),0)","v":""},"",null,{"$f":"IFERROR(IF(O717=\"\",\"\",VLOOKUP(O717,JORNADA!$A$19:$B$20,2,FALSE)),\"\")","v":""},{"$f":"IFERROR(IF(A717=\"\",\"\",VLOOKUP(A717,[1]Hoja1!$B$2:$U$4999,3,FALSE)),0)","v":""},null,"","",{"$f":"IFERROR(IF(A717=\"\",\"\",VLOOKUP(A717,[1]Hoja1!$B$2:$U$4999,10,FALSE)),0)","v":""},{"$f":"IFERROR(IF(Q717=\"\",\"\",VLOOKUP(Q717,[1]Hoja1!$D$2:$AF$4999,29,FALSE)),\"NO EXISTE CUENTA\")","v":""},null,null,""]
[null,{"$f":"IFERROR(IF(A718=\"\",\"\",VLOOKUP(A718,[1]Hoja1!$B$2:$U$4999,9,FALSE)),0)","v":""},{"$f":"IFERROR(IF(A718=\"\",\"\",VLOOKUP(A718,[1]Hoja1!$B$2:$U$4999,2,FALSE)),\" --- NO EXISTE TRABAJADOR --- \")","v":""},null,null,null,null,null,"","","",{"$f":"IFERROR(IF(A718=\"\",\"\",VLOOKUP(A718,[1]Hoja1!$B$2:$U$4999,18,FALSE)),0)","v":""},{"$f":"IFERROR(IF(A718=\"\",\"\",VLOOKUP(A718,[1]Hoja1!$B$2:$U$4999,19,FALSE)),0)","v":""},"",null,{"$f":"IFERROR(IF(O718=\"\",\"\",VLOOKUP(O718,JORNADA!$A$19:$B$20,2,FALSE)),\"\")","v":""},{"$f":"IFERROR(IF(A718=\"\",\"\",VLOOKUP(A718,[1]Hoja1!$B$2:$U$4999,3,FALSE)),0)","v":""},null,"","",{"$f":"IFERROR(IF(A718=\"\",\"\",VLOOKUP(A718,[1]Hoja1!$B$2:$U$4999,10,FALSE)),0)","v":""},{"$f":"IFERROR(IF(Q718=\"\",\"\",VLOOKUP(Q718,[1]Hoja1!$D$2:$AF$4999,29,FALSE)),\"NO EXISTE CUENTA\")","v":""},null,null,""]
[null,{"$f":"IFERROR(IF(A719=\"\",\"\",VLOOKUP(A719,[1]Hoja1!$B$2:$U$4999,9,FALSE)),0)","v":""},{"$f":"IFERROR(IF(A719=\"\",\"\",VLOOKUP(A719,[1]Hoja1!$B$2:$U$4999,2,FALSE)),\" --- NO EXISTE TRABAJADOR --- \")","v":""},null,null,null,null,null,"","","",{"$f":"IFERROR(IF(A719=\"\",\"\",VLOOKUP(A719,[1]Hoja1!$B$2:$U$4999,18,FALSE)),0)","v":""},{"$f":"IFERROR(IF(A719=\"\",\"\",VLOOKUP(A719,[1]Hoja1!$B$2:$U$4999,19,FALSE)),0)","v":""},"",null,{"$f":"IFERROR(IF(O719=\"\",\"\",VLOOKUP(O719,JORNADA!$A$19:$B$20,2,FALSE)),\"\")","v":""},{"$f":"IFERROR(IF(A719=\"\",\"\",VLOOKUP(A719,[1]Hoja1!$B$2:$U$4999,3,FALSE)),0)","v":""},null,"","",{"$f":"IFERROR(IF(A719=\"\",\"\",VLOOKUP(A719,[1]Hoja1!$B$2:$U$4999,10,FALSE)),0)","v":""},{"$f":"IFERROR(IF(Q719=\"\",\"\",VLOOKUP(Q719,[1]Hoja1!$D$2:$AF$4999,29,FALSE)),\"NO EXISTE CUENTA\")","v":""},null,null,""]
[null,{"$f":"IFERROR(IF(A720=\"\",\"\",VLOOKUP(A720,[1]Hoja1!$B$2:$U$4999,9,FALSE)),0)","v":""},{"$f":"IFERROR(IF(A720=\"\",\"\",VLOOKUP(A720,[1]Hoja1!$B$2:$U$4999,2,FALSE)),\" --- NO EXISTE TRABAJADOR --- \")","v":""},null,null,null,null,null,"","","",{"$f":"IFERROR(IF(A720=\"\",\"\",VLOOKUP(A720,[1]Hoja1!$B$2:$U$4999,18,FALSE)),0)","v":""},{"$f":"IFERROR(IF(A720=\"\",\"\",VLOOKUP(A720,[1]Hoja1!$B$2:$U$4999,19,FALSE)),0)","v":""},"",null,{"$f":"IFERROR(IF(O720=\"\",\"\",VLOOKUP(O720,JORNADA!$A$19:$B$20,2,FALSE)),\"\")","v":""},{"$f":"IFERROR(IF(A720=\"\",\"\",VLOOKUP(A720,[1]Hoja1!$B$2:$U$4999,3,FALSE)),0)","v":""},null,"","",{"$f":"IFERROR(IF(A720=\"\",\"\",VLOOKUP(A720,[1]Hoja1!$B$2:$U$4999,10,FALSE)),0)","v":""},{"$f":"IFERROR(IF(Q720=\"\",\"\",VLOOKUP(Q720,[1]Hoja1!$D$2:$AF$4999,29,FALSE)),\"NO EXISTE CUENTA\")","v":""},null,null,""]
[null,{"$f":"IFERROR(IF(A721=\"\",\"\",VLOOKUP(A721,[1]Hoja1!$B$2:$U$4999,9,FALSE)),0)","v":""},{"$f":"IFERROR(IF(A721=\"\",\"\",VLOOKUP(A721,[1]Hoja1!$B$2:$U$4999,2,FALSE)),\" --- NO EXISTE TRABAJADOR --- \")","v":""},null,null,null,null,null,"","","",{"$f":"IFERROR(IF(A721=\"\",\"\",VLOOKUP(A721,[1]Hoja1!$B$2:$U$4999,18,FALSE)),0)","v":""},{"$f":"IFERROR(IF(A721=\"\",\"\",VLOOKUP(A721,[1]Hoja1!$B$2:$U$4999,19,FALSE)),0)","v":""},"",null,{"$f":"IFERROR(IF(O721=\"\",\"\",VLOOKUP(O721,JORNADA!$A$19:$B$20,2,FALSE)),\"\")","v":""},{"$f":"IFERROR(IF(A721=\"\",\"\",VLOOKUP(A721,[1]Hoja1!$B$2:$U$4999,3,FALSE)),0)","v":""},null,"","",{"$f":"IFERROR(IF(A721=\"\",\"\",VLOOKUP(A721,[1]Hoja1!$B$2:$U$4999,10,FALSE)),0)","v":""},{"$f":"IFERROR(IF(Q721=\"\",\"\",VLOOKUP(Q721,[1]Hoja1!$D$2:$AF$4999,29,FALSE)),\"NO EXISTE CUENTA\")","v":""},null,null,""]
[null,{"$f":"IFERROR(IF(A722=\"\",\"\",VLOOKUP(A722,[1]Hoja1!$B$2:$U$4999,9,FALSE)),0)","v":""},{"$f":"IFERROR(IF(A722=\"\",\"\",VLOOKUP(A722,[1]Hoja1!$B$2:$U$4999,2,FALSE)),\" --- NO EXISTE TRABAJADOR --- \")","v":""},null,null,null,null,null,"","","",{"$f":"IFERROR(IF(A722=\"\",\"\",VLOOKUP(A722,[1]Hoja1!$B$2:$U$4999,18,FALSE)),0)","v":""},{"$f":"IFERROR(IF(A722=\"\",\"\",VLOOKUP(A722,[1]Hoja1!$B$2:$U$4999,19,FALSE)),0)","v":""},"",null,{"$f":"IFERROR(IF(O722=\"\",\"\",VLOOKUP(O722,JORNADA!$A$19:$B$20,2,FALSE)),\"\")","v":""},{"$f":"IFERROR(IF(A722=\"\",\"\",VLOOKUP(A722,[1]Hoja1!$B$2:$U$4999,3,FALSE)),0)","v":""},null,"","",{"$f":"IFERROR(IF(A722=\"\",\"\",VLOOKUP(A722,[1]Hoja1!$B$2:$U$4999,10,FALSE)),0)","v":""},{"$f":"IFERROR(IF(Q722=\"\",\"\",VLOOKUP(Q722,[1]Hoja1!$D$2:$AF$4999,29,FALSE)),\"NO EXISTE CUENTA\")","v":""},null,null,""]
[null,{"$f":"IFERROR(IF(A723=\"\",\"\",VLOOKUP(A723,[1]Hoja1!$B$2:$U$4999,9,FALSE)),0)","v":""},{"$f":"IFERROR(IF(A723=\"\",\"\",VLOOKUP(A723,[1]Hoja1!$B$2:$U$4999,2,FALSE)),\" --- NO EXISTE TRABAJADOR --- \")","v":""},null,null,null,null,null,"","","",{"$f":"IFERROR(IF(A723=\"\",\"\",VLOOKUP(A723,[1]Hoja1!$B$2:$U$4999,18,FALSE)),0)","v":""},{"$f":"IFERROR(IF(A723=\"\",\"\",VLOOKUP(A723,[1]Hoja1!$B$2:$U$4999,19,FALSE)),0)","v":""},"",null,{"$f":"IFERROR(IF(O723=\"\",\"\",VLOOKUP(O723,JORNADA!$A$19:$B$20,2,FALSE)),\"\")","v":""},{"$f":"IFERROR(IF(A723=\"\",\"\",VLOOKUP(A723,[1]Hoja1!$B$2:$U$4999,3,FALSE)),0)","v":""},null,"","",{"$f":"IFERROR(IF(A723=\"\",\"\",VLOOKUP(A723,[1]Hoja1!$B$2:$U$4999,10,FALSE)),0)","v":""},{"$f":"IFERROR(IF(Q723=\"\",\"\",VLOOKUP(Q723,[1]Hoja1!$D$2:$AF$4999,29,FALSE)),\"NO EXISTE CUENTA\")","v":""},null,null,""]
[null,{"$f":"IFERROR(IF(A724=\"\",\"\",VLOOKUP(A724,[1]Hoja1!$B$2:$U$4999,9,FALSE)),0)","v":""},{"$f":"IFERROR(IF(A724=\"\",\"\",VLOOKUP(A724,[1]Hoja1!$B$2:$U$4999,2,FALSE)),\" --- NO EXISTE TRABAJADOR --- \")","v":""},null,null,null,null,null,"","","",{"$f":"IFERROR(IF(A724=\"\",\"\",VLOOKUP(A724,[1]Hoja1!$B$2:$U$4999,18,FALSE)),0)","v":""},{"$f":"IFERROR(IF(A724=\"\",\"\",VLOOKUP(A724,[1]Hoja1!$B$2:$U$4999,19,FALSE)),0)","v":""},"",null,{"$f":"IFERROR(IF(O724=\"\",\"\",VLOOKUP(O724,JORNADA!$A$19:$B$20,2,FALSE)),\"\")","v":""},{"$f":"IFERROR(IF(A724=\"\",\"\",VLOOKUP(A724,[1]Hoja1!$B$2:$U$4999,3,FALSE)),0)","v":""},null,"","",{"$f":"IFERROR(IF(A724=\"\",\"\",VLOOKUP(A724,[1]Hoja1!$B$2:$U$4999,10,FALSE)),0)","v":""},{"$f":"IFERROR(IF(Q724=\"\",\"\",VLOOKUP(Q724,[1]Hoja1!$D$2:$AF$4999,29,FALSE)),\"NO EXISTE CUENTA\")","v":""},null,null,""]
[null,{"$f":"IFERROR(IF(A725=\"\",\"\",VLOOKUP(A725,[1]Hoja1!$B$2:$U$4999,9,FALSE)),0)","v":""},{"$f":"IFERROR(IF(A725=\"\",\"\",VLOOKUP(A725,[1]Hoja1!$B$2:$U$4999,2,FALSE)),\" --- NO EXISTE TRABAJADOR --- \")","v":""},null,null,null,null,null,"","","",{"$f":"IFERROR(IF(A725=\"\",\"\",VLOOKUP(A725,[1]Hoja1!$B$2:$U$4999,18,FALSE)),0)","v":""},{"$f":"IFERROR(IF(A725=\"\",\"\",VLOOKUP(A725,[1]Hoja1!$B$2:$U$4999,19,FALSE)),0)","v":""},"",null,{"$f":"IFERROR(IF(O725=\"\",\"\",VLOOKUP(O725,JORNADA!$A$19:$B$20,2,FALSE)),\"\")","v":""},{"$f":"IFERROR(IF(A725=\"\",\"\",VLOOKUP(A725,[1]Hoja1!$B$2:$U$4999,3,FALSE)),0)","v":""},null,"","",{"$f":"IFERROR(IF(A725=\"\",\"\",VLOOKUP(A725,[1]Hoja1!$B$2:$U$4999,10,FALSE)),0)","v":""},{"$f":"IFERROR(IF(Q725=\"\",\"\",VLOOKUP(Q725,[1]Hoja1!$D$2:$AF$4999,29,FALSE)),\"NO EXISTE CUENTA\")","v":""},null,null,""]
[null,{"$f":"IFERROR(IF(A726=\"\",\"\",VLOOKUP(A726,[1]Hoja1!$B$2:$U$4999,9,FALSE)),0)","v":""},{"$f":"IFERROR(IF(A726=\"\",\"\",VLOOKUP(A726,[1]Hoja1!$B$2:$U$4999,2,FALSE)),\" --- NO EXISTE TRABAJADOR --- \")","v":""},null,null,null,null,null,"","","",{"$f":"IFERROR(IF(A726=\"\",\"\",VLOOKUP(A726,[1]Hoja1!$B$2:$U$4999,18,FALSE)),0)","v":""},{"$f":"IFERROR(IF(A726=\"\",\"\",VLOOKUP(A726,[1]Hoja1!$B$2:$U$4999,19,FALSE)),0)","v":""},"",null,{"$f":"IFERROR(IF(O726=\"\",\"\",VLOOKUP(O726,JORNADA!$A$19:$B$20,2,FALSE)),\"\")","v":""},{"$f":"IFERROR(IF(A726=\"\",\"\",VLOOKUP(A726,[1]Hoja1!$B$2:$U$4999,3,FALSE)),0)","v":""},null,"","",{"$f":"IFERROR(IF(A726=\"\",\"\",VLOOKUP(A726,[1]Hoja1!$B$2:$U$4999,10,FALSE)),0)","v":""},{"$f":"IFERROR(IF(Q726=\"\",\"\",VLOOKUP(Q726,[1]Hoja1!$D$2:$AF$4999,29,FALSE)),\"NO EXISTE CUENTA\")","v":""},null,null,""]
[null,{"$f":"IFERROR(IF(A727=\"\",\"\",VLOOKUP(A727,[1]Hoja1!$B$2:$U$4999,9,FALSE)),0)","v":""},{"$f":"IFERROR(IF(A727=\"\",\"\",VLOOKUP(A727,[1]Hoja1!$B$2:$U$4999,2,FALSE)),\" --- NO EXISTE TRABAJADOR --- \")","v":""},null,null,null,null,null,"","","",{"$f":"IFERROR(IF(A727=\"\",\"\",VLOOKUP(A727,[1]Hoja1!$B$2:$U$4999,18,FALSE)),0)","v":""},{"$f":"IFERROR(IF(A727=\"\",\"\",VLOOKUP(A727,[1]Hoja1!$B$2:$U$4999,19,FALSE)),0)","v":""},"",null,{"$f":"IFERROR(IF(O727=\"\",\"\",VLOOKUP(O727,JORNADA!$A$19:$B$20,2,FALSE)),\"\")","v":""},{"$f":"IFERROR(IF(A727=\"\",\"\",VLOOKUP(A727,[1]Hoja1!$B$2:$U$4999,3,FALSE)),0)","v":""},null,"","",{"$f":"IFERROR(IF(A727=\"\",\"\",VLOOKUP(A727,[1]Hoja1!$B$2:$U$4999,10,FALSE)),0)","v":""},{"$f":"IFERROR(IF(Q727=\"\",\"\",VLOOKUP(Q727,[1]Hoja1!$D$2:$AF$4999,29,FALSE)),\"NO EXISTE CUENTA\")","v":""},null,null,""]
[null,{"$f":"IFERROR(IF(A728=\"\",\"\",VLOOKUP(A728,[1]Hoja1!$B$2:$U$4999,9,FALSE)),0)","v":""},{"$f":"IFERROR(IF(A728=\"\",\"\",VLOOKUP(A728,[1]Hoja1!$B$2:$U$4999,2,FALSE)),\" --- NO EXISTE TRABAJADOR --- \")","v":""},null,null,null,null,null,"","","",{"$f":"IFERROR(IF(A728=\"\",\"\",VLOOKUP(A728,[1]Hoja1!$B$2:$U$4999,18,FALSE)),0)","v":""},{"$f":"IFERROR(IF(A728=\"\",\"\",VLOOKUP(A728,[1]Hoja1!$B$2:$U$4999,19,FALSE)),0)","v":""},"",null,{"$f":"IFERROR(IF(O728=\"\",\"\",VLOOKUP(O728,JORNADA!$A$19:$B$20,2,FALSE)),\"\")","v":""},{"$f":"IFERROR(IF(A728=\"\",\"\",VLOOKUP(A728,[1]Hoja1!$B$2:$U$4999,3,FALSE)),0)","v":""},null,"","",{"$f":"IFERROR(IF(A728=\"\",\"\",VLOOKUP(A728,[1]Hoja1!$B$2:$U$4999,10,FALSE)),0)","v":""},{"$f":"IFERROR(IF(Q728=\"\",\"\",VLOOKUP(Q728,[1]Hoja1!$D$2:$AF$4999,29,FALSE)),\"NO EXISTE CUENTA\")","v":""},null,null,""]
[null,{"$f":"IFERROR(IF(A729=\"\",\"\",VLOOKUP(A729,[1]Hoja1!$B$2:$U$4999,9,FALSE)),0)","v":""},{"$f":"IFERROR(IF(A729=\"\",\"\",VLOOKUP(A729,[1]Hoja1!$B$2:$U$4999,2,FALSE)),\" --- NO EXISTE TRABAJADOR --- \")","v":""},null,null,null,null,null,"","","",{"$f":"IFERROR(IF(A729=\"\",\"\",VLOOKUP(A729,[1]Hoja1!$B$2:$U$4999,18,FALSE)),0)","v":""},{"$f":"IFERROR(IF(A729=\"\",\"\",VLOOKUP(A729,[1]Hoja1!$B$2:$U$4999,19,FALSE)),0)","v":""},"",null,{"$f":"IFERROR(IF(O729=\"\",\"\",VLOOKUP(O729,JORNADA!$A$19:$B$20,2,FALSE)),\"\")","v":""},{"$f":"IFERROR(IF(A729=\"\",\"\",VLOOKUP(A729,[1]Hoja1!$B$2:$U$4999,3,FALSE)),0)","v":""},null,"","",{"$f":"IFERROR(IF(A729=\"\",\"\",VLOOKUP(A729,[1]Hoja1!$B$2:$U$4999,10,FALSE)),0)","v":""},{"$f":"IFERROR(IF(Q729=\"\",\"\",VLOOKUP(Q729,[1]Hoja1!$D$2:$AF$4999,29,FALSE)),\"NO EXISTE CUENTA\")","v":""},null,null,""]
[null,{"$f":"IFERROR(IF(A730=\"\",\"\",VLOOKUP(A730,[1]Hoja1!$B$2:$U$4999,9,FALSE)),0)","v":""},{"$f":"IFERROR(IF(A730=\"\",\"\",VLOOKUP(A730,[1]Hoja1!$B$2:$U$4999,2,FALSE)),\" --- NO EXISTE TRABAJADOR --- \")","v":""},null,null,null,null,null,"","","",{"$f":"IFERROR(IF(A730=\"\",\"\",VLOOKUP(A730,[1]Hoja1!$B$2:$U$4999,18,FALSE)),0)","v":""},{"$f":"IFERROR(IF(A730=\"\",\"\",VLOOKUP(A730,[1]Hoja1!$B$2:$U$4999,19,FALSE)),0)","v":""},"",null,{"$f":"IFERROR(IF(O730=\"\",\"\",VLOOKUP(O730,JORNADA!$A$19:$B$20,2,FALSE)),\"\")","v":""},{"$f":"IFERROR(IF(A730=\"\",\"\",VLOOKUP(A730,[1]Hoja1!$B$2:$U$4999,3,FALSE)),0)","v":""},null,"","",{"$f":"IFERROR(IF(A730=\"\",\"\",VLOOKUP(A730,[1]Hoja1!$B$2:$U$4999,10,FALSE)),0)","v":""},{"$f":"IFERROR(IF(Q730=\"\",\"\",VLOOKUP(Q730,[1]Hoja1!$D$2:$AF$4999,29,FALSE)),\"NO EXISTE CUENTA\")","v":""},null,null,""]
[null,{"$f":"IFERROR(IF(A731=\"\",\"\",VLOOKUP(A731,[1]Hoja1!$B$2:$U$4999,9,FALSE)),0)","v":""},{"$f":"IFERROR(IF(A731=\"\",\"\",VLOOKUP(A731,[1]Hoja1!$B$2:$U$4999,2,FALSE)),\" --- NO EXISTE TRABAJADOR --- \")","v":""},null,null,null,null,null,"","","",{"$f":"IFERROR(IF(A731=\"\",\"\",VLOOKUP(A731,[1]Hoja1!$B$2:$U$4999,18,FALSE)),0)","v":""},{"$f":"IFERROR(IF(A731=\"\",\"\",VLOOKUP(A731,[1]Hoja1!$B$2:$U$4999,19,FALSE)),0)","v":""},"",null,{"$f":"IFERROR(IF(O731=\"\",\"\",VLOOKUP(O731,JORNADA!$A$19:$B$20,2,FALSE)),\"\")","v":""},{"$f":"IFERROR(IF(A731=\"\",\"\",VLOOKUP(A731,[1]Hoja1!$B$2:$U$4999,3,FALSE)),0)","v":""},null,"","",{"$f":"IFERROR(IF(A731=\"\",\"\",VLOOKUP(A731,[1]Hoja1!$B$2:$U$4999,10,FALSE)),0)","v":""},{"$f":"IFERROR(IF(Q731=\"\",\"\",VLOOKUP(Q731,[1]Hoja1!$D$2:$AF$4999,29,FALSE)),\"NO EXISTE CUENTA\")","v":""},null,null,""]
[null,{"$f":"IFERROR(IF(A732=\"\",\"\",VLOOKUP(A732,[1]Hoja1!$B$2:$U$4999,9,FALSE)),0)","v":""},{"$f":"IFERROR(IF(A732=\"\",\"\",VLOOKUP(A732,[1]Hoja1!$B$2:$U$4999,2,FALSE)),\" --- NO EXISTE TRABAJADOR --- \")","v":""},null,null,null,null,null,"","","",{"$f":"IFERROR(IF(A732=\"\",\"\",VLOOKUP(A732,[1]Hoja1!$B$2:$U$4999,18,FALSE)),0)","v":""},{"$f":"IFERROR(IF(A732=\"\",\"\",VLOOKUP(A732,[1]Hoja1!$B$2:$U$4999,19,FALSE)),0)","v":""},"",null,{"$f":"IFERROR(IF(O732=\"\",\"\",VLOOKUP(O732,JORNADA!$A$19:$B$20,2,FALSE)),\"\")","v":""},{"$f":"IFERROR(IF(A732=\"\",\"\",VLOOKUP(A732,[1]Hoja1!$B$2:$U$4999,3,FALSE)),0)","v":""},null,"","",{"$f":"IFERROR(IF(A732=\"\",\"\",VLOOKUP(A732,[1]Hoja1!$B$2:$U$4999,10,FALSE)),0)","v":""},{"$f":"IFERROR(IF(Q732=\"\",\"\",VLOOKUP(Q732,[1]Hoja1!$D$2:$AF$4999,29,FALSE)),\"NO EXISTE CUENTA\")","v":""},null,null,""]
[null,{"$f":"IFERROR(IF(A733=\"\",\"\",VLOOKUP(A733,[1]Hoja1!$B$2:$U$4999,9,FALSE)),0)","v":""},{"$f":"IFERROR(IF(A733=\"\",\"\",VLOOKUP(A733,[1]Hoja1!$B$2:$U$4999,2,FALSE)),\" --- NO EXISTE TRABAJADOR --- \")","v":""},null,null,null,null,null,"","","",{"$f":"IFERROR(IF(A733=\"\",\"\",VLOOKUP(A733,[1]Hoja1!$B$2:$U$4999,18,FALSE)),0)","v":""},{"$f":"IFERROR(IF(A733=\"\",\"\",VLOOKUP(A733,[1]Hoja1!$B$2:$U$4999,19,FALSE)),0)","v":""},"",null,{"$f":"IFERROR(IF(O733=\"\",\"\",VLOOKUP(O733,JORNADA!$A$19:$B$20,2,FALSE)),\"\")","v":""},{"$f":"IFERROR(IF(A733=\"\",\"\",VLOOKUP(A733,[1]Hoja1!$B$2:$U$4999,3,FALSE)),0)","v":""},null,"","",{"$f":"IFERROR(IF(A733=\"\",\"\",VLOOKUP(A733,[1]Hoja1!$B$2:$U$4999,10,FALSE)),0)","v":""},{"$f":"IFERROR(IF(Q733=\"\",\"\",VLOOKUP(Q733,[1]Hoja1!$D$2:$AF$4999,29,FALSE)),\"NO EXISTE CUENTA\")","v":""},null,null,""]
[null,{"$f":"IFERROR(IF(A734=\"\",\"\",VLOOKUP(A734,[1]Hoja1!$B$2:$U$4999,9,FALSE)),0)","v":""},{"$f":"IFERROR(IF(A734=\"\",\"\",VLOOKUP(A734,[1]Hoja1!$B$2:$U$4999,2,FALSE)),\" --- NO EXISTE TRABAJADOR --- \")","v":""},null,null,null,null,null,"","","",{"$f":"IFERROR(IF(A734=\"\",\"\",VLOOKUP(A734,[1]Hoja1!$B$2:$U$4999,18,FALSE)),0)","v":""},{"$f":"IFERROR(IF(A734=\"\",\"\",VLOOKUP(A734,[1]Hoja1!$B$2:$U$4999,19,FALSE)),0)","v":""},"",null,{"$f":"IFERROR(IF(O734=\"\",\"\",VLOOKUP(O734,JORNADA!$A$19:$B$20,2,FALSE)),\"\")","v":""},{"$f":"IFERROR(IF(A734=\"\",\"\",VLOOKUP(A734,[1]Hoja1!$B$2:$U$4999,3,FALSE)),0)","v":""},null,"","",{"$f":"IFERROR(IF(A734=\"\",\"\",VLOOKUP(A734,[1]Hoja1!$B$2:$U$4999,10,FALSE)),0)","v":""},{"$f":"IFERROR(IF(Q734=\"\",\"\",VLOOKUP(Q734,[1]Hoja1!$D$2:$AF$4999,29,FALSE)),\"NO EXISTE CUENTA\")","v":""},null,null,""]
[null,{"$f":"IFERROR(IF(A735=\"\",\"\",VLOOKUP(A735,[1]Hoja1!$B$2:$U$4999,9,FALSE)),0)","v":""},{"$f":"IFERROR(IF(A735=\"\",\"\",VLOOKUP(A735,[1]Hoja1!$B$2:$U$4999,2,FALSE)),\" --- NO EXISTE TRABAJADOR --- \")","v":""},null,null,null,null,null,"","","",{"$f":"IFERROR(IF(A735=\"\",\"\",VLOOKUP(A735,[1]Hoja1!$B$2:$U$4999,18,FALSE)),0)","v":""},{"$f":"IFERROR(IF(A735=\"\",\"\",VLOOKUP(A735,[1]Hoja1!$B$2:$U$4999,19,FALSE)),0)","v":""},"",null,{"$f":"IFERROR(IF(O735=\"\",\"\",VLOOKUP(O735,JORNADA!$A$19:$B$20,2,FALSE)),\"\")","v":""},{"$f":"IFERROR(IF(A735=\"\",\"\",VLOOKUP(A735,[1]Hoja1!$B$2:$U$4999,3,FALSE)),0)","v":""},null,"","",{"$f":"IFERROR(IF(A735=\"\",\"\",VLOOKUP(A735,[1]Hoja1!$B$2:$U$4999,10,FALSE)),0)","v":""},{"$f":"IFERROR(IF(Q735=\"\",\"\",VLOOKUP(Q735,[1]Hoja1!$D$2:$AF$4999,29,FALSE)),\"NO EXISTE CUENTA\")","v":""},null,null,""]
[null,{"$f":"IFERROR(IF(A736=\"\",\"\",VLOOKUP(A736,[1]Hoja1!$B$2:$U$4999,9,FALSE)),0)","v":""},{"$f":"IFERROR(IF(A736=\"\",\"\",VLOOKUP(A736,[1]Hoja1!$B$2:$U$4999,2,FALSE)),\" --- NO EXISTE TRABAJADOR --- \")","v":""},null,null,null,null,null,"","","",{"$f":"IFERROR(IF(A736=\"\",\"\",VLOOKUP(A736,[1]Hoja1!$B$2:$U$4999,18,FALSE)),0)","v":""},{"$f":"IFERROR(IF(A736=\"\",\"\",VLOOKUP(A736,[1]Hoja1!$B$2:$U$4999,19,FALSE)),0)","v":""},"",null,{"$f":"IFERROR(IF(O736=\"\",\"\",VLOOKUP(O736,JORNADA!$A$19:$B$20,2,FALSE)),\"\")","v":""},{"$f":"IFERROR(IF(A736=\"\",\"\",VLOOKUP(A736,[1]Hoja1!$B$2:$U$4999,3,FALSE)),0)","v":""},null,"","",{"$f":"IFERROR(IF(A736=\"\",\"\",VLOOKUP(A736,[1]Hoja1!$B$2:$U$4999,10,FALSE)),0)","v":""},{"$f":"IFERROR(IF(Q736=\"\",\"\",VLOOKUP(Q736,[1]Hoja1!$D$2:$AF$4999,29,FALSE)),\"NO EXISTE CUENTA\")","v":""},null,null,""]
[null,{"$f":"IFERROR(IF(A737=\"\",\"\",VLOOKUP(A737,[1]Hoja1!$B$2:$U$4999,9,FALSE)),0)","v":""},{"$f":"IFERROR(IF(A737=\"\",\"\",VLOOKUP(A737,[1]Hoja1!$B$2:$U$4999,2,FALSE)),\" --- NO EXISTE TRABAJADOR --- \")","v":""},null,null,null,null,null,"","","",{"$f":"IFERROR(IF(A737=\"\",\"\",VLOOKUP(A737,[1]Hoja1!$B$2:$U$4999,18,FALSE)),0)","v":""},{"$f":"IFERROR(IF(A737=\"\",\"\",VLOOKUP(A737,[1]Hoja1!$B$2:$U$4999,19,FALSE)),0)","v":""},"",null,{"$f":"IFERROR(IF(O737=\"\",\"\",VLOOKUP(O737,JORNADA!$A$19:$B$20,2,FALSE)),\"\")","v":""},{"$f":"IFERROR(IF(A737=\"\",\"\",VLOOKUP(A737,[1]Hoja1!$B$2:$U$4999,3,FALSE)),0)","v":""},null,"","",{"$f":"IFERROR(IF(A737=\"\",\"\",VLOOKUP(A737,[1]Hoja1!$B$2:$U$4999,10,FALSE)),0)","v":""},{"$f":"IFERROR(IF(Q737=\"\",\"\",VLOOKUP(Q737,[1]Hoja1!$D$2:$AF$4999,29,FALSE)),\"NO EXISTE CUENTA\")","v":""},null,null,""]
[null,{"$f":"IFERROR(IF(A738=\"\",\"\",VLOOKUP(A738,[1]Hoja1!$B$2:$U$4999,9,FALSE)),0)","v":""},{"$f":"IFERROR(IF(A738=\"\",\"\",VLOOKUP(A738,[1]Hoja1!$B$2:$U$4999,2,FALSE)),\" --- NO EXISTE TRABAJADOR --- \")","v":""},null,null,null,null,null,"","","",{"$f":"IFERROR(IF(A738=\"\",\"\",VLOOKUP(A738,[1]Hoja1!$B$2:$U$4999,18,FALSE)),0)","v":""},{"$f":"IFERROR(IF(A738=\"\",\"\",VLOOKUP(A738,[1]Hoja1!$B$2:$U$4999,19,FALSE)),0)","v":""},"",null,{"$f":"IFERROR(IF(O738=\"\",\"\",VLOOKUP(O738,JORNADA!$A$19:$B$20,2,FALSE)),\"\")","v":""},{"$f":"IFERROR(IF(A738=\"\",\"\",VLOOKUP(A738,[1]Hoja1!$B$2:$U$4999,3,FALSE)),0)","v":""},null,"","",{"$f":"IFERROR(IF(A738=\"\",\"\",VLOOKUP(A738,[1]Hoja1!$B$2:$U$4999,10,FALSE)),0)","v":""},{"$f":"IFERROR(IF(Q738=\"\",\"\",VLOOKUP(Q738,[1]Hoja1!$D$2:$AF$4999,29,FALSE)),\"NO EXISTE CUENTA\")","v":""},null,null,""]
[null,{"$f":"IFERROR(IF(A739=\"\",\"\",VLOOKUP(A739,[1]Hoja1!$B$2:$U$4999,9,FALSE)),0)","v":""},{"$f":"IFERROR(IF(A739=\"\",\"\",VLOOKUP(A739,[1]Hoja1!$B$2:$U$4999,2,FALSE)),\" --- NO EXISTE TRABAJADOR --- \")","v":""},null,null,null,null,null,"","","",{"$f":"IFERROR(IF(A739=\"\",\"\",VLOOKUP(A739,[1]Hoja1!$B$2:$U$4999,18,FALSE)),0)","v":""},{"$f":"IFERROR(IF(A739=\"\",\"\",VLOOKUP(A739,[1]Hoja1!$B$2:$U$4999,19,FALSE)),0)","v":""},"",null,{"$f":"IFERROR(IF(O739=\"\",\"\",VLOOKUP(O739,JORNADA!$A$19:$B$20,2,FALSE)),\"\")","v":""},{"$f":"IFERROR(IF(A739=\"\",\"\",VLOOKUP(A739,[1]Hoja1!$B$2:$U$4999,3,FALSE)),0)","v":""},null,"","",{"$f":"IFERROR(IF(A739=\"\",\"\",VLOOKUP(A739,[1]Hoja1!$B$2:$U$4999,10,FALSE)),0)","v":""},{"$f":"IFERROR(IF(Q739=\"\",\"\",VLOOKUP(Q739,[1]Hoja1!$D$2:$AF$4999,29,FALSE)),\"NO EXISTE CUENTA\")","v":""},null,null,""]
[null,{"$f":"IFERROR(IF(A740=\"\",\"\",VLOOKUP(A740,[1]Hoja1!$B$2:$U$4999,9,FALSE)),0)","v":""},{"$f":"IFERROR(IF(A740=\"\",\"\",VLOOKUP(A740,[1]Hoja1!$B$2:$U$4999,2,FALSE)),\" --- NO EXISTE TRABAJADOR --- \")","v":""},null,null,null,null,null,"","","",{"$f":"IFERROR(IF(A740=\"\",\"\",VLOOKUP(A740,[1]Hoja1!$B$2:$U$4999,18,FALSE)),0)","v":""},{"$f":"IFERROR(IF(A740=\"\",\"\",VLOOKUP(A740,[1]Hoja1!$B$2:$U$4999,19,FALSE)),0)","v":""},"",null,{"$f":"IFERROR(IF(O740=\"\",\"\",VLOOKUP(O740,JORNADA!$A$19:$B$20,2,FALSE)),\"\")","v":""},{"$f":"IFERROR(IF(A740=\"\",\"\",VLOOKUP(A740,[1]Hoja1!$B$2:$U$4999,3,FALSE)),0)","v":""},null,"","",{"$f":"IFERROR(IF(A740=\"\",\"\",VLOOKUP(A740,[1]Hoja1!$B$2:$U$4999,10,FALSE)),0)","v":""},{"$f":"IFERROR(IF(Q740=\"\",\"\",VLOOKUP(Q740,[1]Hoja1!$D$2:$AF$4999,29,FALSE)),\"NO EXISTE CUENTA\")","v":""},null,null,""]
[null,{"$f":"IFERROR(IF(A741=\"\",\"\",VLOOKUP(A741,[1]Hoja1!$B$2:$U$4999,9,FALSE)),0)","v":""},{"$f":"IFERROR(IF(A741=\"\",\"\",VLOOKUP(A741,[1]Hoja1!$B$2:$U$4999,2,FALSE)),\" --- NO EXISTE TRABAJADOR --- \")","v":""},null,null,null,null,null,"","","",{"$f":"IFERROR(IF(A741=\"\",\"\",VLOOKUP(A741,[1]Hoja1!$B$2:$U$4999,18,FALSE)),0)","v":""},{"$f":"IFERROR(IF(A741=\"\",\"\",VLOOKUP(A741,[1]Hoja1!$B$2:$U$4999,19,FALSE)),0)","v":""},"",null,{"$f":"IFERROR(IF(O741=\"\",\"\",VLOOKUP(O741,JORNADA!$A$19:$B$20,2,FALSE)),\"\")","v":""},{"$f":"IFERROR(IF(A741=\"\",\"\",VLOOKUP(A741,[1]Hoja1!$B$2:$U$4999,3,FALSE)),0)","v":""},null,"","",{"$f":"IFERROR(IF(A741=\"\",\"\",VLOOKUP(A741,[1]Hoja1!$B$2:$U$4999,10,FALSE)),0)","v":""},{"$f":"IFERROR(IF(Q741=\"\",\"\",VLOOKUP(Q741,[1]Hoja1!$D$2:$AF$4999,29,FALSE)),\"NO EXISTE CUENTA\")","v":""},null,null,""]
[null,{"$f":"IFERROR(IF(A742=\"\",\"\",VLOOKUP(A742,[1]Hoja1!$B$2:$U$4999,9,FALSE)),0)","v":""},{"$f":"IFERROR(IF(A742=\"\",\"\",VLOOKUP(A742,[1]Hoja1!$B$2:$U$4999,2,FALSE)),\" --- NO EXISTE TRABAJADOR --- \")","v":""},null,null,null,null,null,"","","",{"$f":"IFERROR(IF(A742=\"\",\"\",VLOOKUP(A742,[1]Hoja1!$B$2:$U$4999,18,FALSE)),0)","v":""},{"$f":"IFERROR(IF(A742=\"\",\"\",VLOOKUP(A742,[1]Hoja1!$B$2:$U$4999,19,FALSE)),0)","v":""},"",null,{"$f":"IFERROR(IF(O742=\"\",\"\",VLOOKUP(O742,JORNADA!$A$19:$B$20,2,FALSE)),\"\")","v":""},{"$f":"IFERROR(IF(A742=\"\",\"\",VLOOKUP(A742,[1]Hoja1!$B$2:$U$4999,3,FALSE)),0)","v":""},null,"","",{"$f":"IFERROR(IF(A742=\"\",\"\",VLOOKUP(A742,[1]Hoja1!$B$2:$U$4999,10,FALSE)),0)","v":""},{"$f":"IFERROR(IF(Q742=\"\",\"\",VLOOKUP(Q742,[1]Hoja1!$D$2:$AF$4999,29,FALSE)),\"NO EXISTE CUENTA\")","v":""},null,null,""]
[null,{"$f":"IFERROR(IF(A743=\"\",\"\",VLOOKUP(A743,[1]Hoja1!$B$2:$U$4999,9,FALSE)),0)","v":""},{"$f":"IFERROR(IF(A743=\"\",\"\",VLOOKUP(A743,[1]Hoja1!$B$2:$U$4999,2,FALSE)),\" --- NO EXISTE TRABAJADOR --- \")","v":""},null,null,null,null,null,"","","",{"$f":"IFERROR(IF(A743=\"\",\"\",VLOOKUP(A743,[1]Hoja1!$B$2:$U$4999,18,FALSE)),0)","v":""},{"$f":"IFERROR(IF(A743=\"\",\"\",VLOOKUP(A743,[1]Hoja1!$B$2:$U$4999,19,FALSE)),0)","v":""},"",null,{"$f":"IFERROR(IF(O743=\"\",\"\",VLOOKUP(O743,JORNADA!$A$19:$B$20,2,FALSE)),\"\")","v":""},{"$f":"IFERROR(IF(A743=\"\",\"\",VLOOKUP(A743,[1]Hoja1!$B$2:$U$4999,3,FALSE)),0)","v":""},null,"","",{"$f":"IFERROR(IF(A743=\"\",\"\",VLOOKUP(A743,[1]Hoja1!$B$2:$U$4999,10,FALSE)),0)","v":""},{"$f":"IFERROR(IF(Q743=\"\",\"\",VLOOKUP(Q743,[1]Hoja1!$D$2:$AF$4999,29,FALSE)),\"NO EXISTE CUENTA\")","v":""},null,null,""]
[null,{"$f":"IFERROR(IF(A744=\"\",\"\",VLOOKUP(A744,[1]Hoja1!$B$2:$U$4999,9,FALSE)),0)","v":""},{"$f":"IFERROR(IF(A744=\"\",\"\",VLOOKUP(A744,[1]Hoja1!$B$2:$U$4999,2,FALSE)),\" --- NO EXISTE TRABAJADOR --- \")","v":""},null,null,null,null,null,"","","",{"$f":"IFERROR(IF(A744=\"\",\"\",VLOOKUP(A744,[1]Hoja1!$B$2:$U$4999,18,FALSE)),0)","v":""},{"$f":"IFERROR(IF(A744=\"\",\"\",VLOOKUP(A744,[1]Hoja1!$B$2:$U$4999,19,FALSE)),0)","v":""},"",null,{"$f":"IFERROR(IF(O744=\"\",\"\",VLOOKUP(O744,JORNADA!$A$19:$B$20,2,FALSE)),\"\")","v":""},{"$f":"IFERROR(IF(A744=\"\",\"\",VLOOKUP(A744,[1]Hoja1!$B$2:$U$4999,3,FALSE)),0)","v":""},null,"","",{"$f":"IFERROR(IF(A744=\"\",\"\",VLOOKUP(A744,[1]Hoja1!$B$2:$U$4999,10,FALSE)),0)","v":""},{"$f":"IFERROR(IF(Q744=\"\",\"\",VLOOKUP(Q744,[1]Hoja1!$D$2:$AF$4999,29,FALSE)),\"NO EXISTE CUENTA\")","v":""},null,null,""]
[null,{"$f":"IFERROR(IF(A745=\"\",\"\",VLOOKUP(A745,[1]Hoja1!$B$2:$U$4999,9,FALSE)),0)","v":""},{"$f":"IFERROR(IF(A745=\"\",\"\",VLOOKUP(A745,[1]Hoja1!$B$2:$U$4999,2,FALSE)),\" --- NO EXISTE TRABAJADOR --- \")","v":""},null,null,null,null,null,"","","",{"$f":"IFERROR(IF(A745=\"\",\"\",VLOOKUP(A745,[1]Hoja1!$B$2:$U$4999,18,FALSE)),0)","v":""},{"$f":"IFERROR(IF(A745=\"\",\"\",VLOOKUP(A745,[1]Hoja1!$B$2:$U$4999,19,FALSE)),0)","v":""},"",null,{"$f":"IFERROR(IF(O745=\"\",\"\",VLOOKUP(O745,JORNADA!$A$19:$B$20,2,FALSE)),\"\")","v":""},{"$f":"IFERROR(IF(A745=\"\",\"\",VLOOKUP(A745,[1]Hoja1!$B$2:$U$4999,3,FALSE)),0)","v":""},null,"","",{"$f":"IFERROR(IF(A745=\"\",\"\",VLOOKUP(A745,[1]Hoja1!$B$2:$U$4999,10,FALSE)),0)","v":""},{"$f":"IFERROR(IF(Q745=\"\",\"\",VLOOKUP(Q745,[1]Hoja1!$D$2:$AF$4999,29,FALSE)),\"NO EXISTE CUENTA\")","v":""},null,null,""]
[null,{"$f":"IFERROR(IF(A746=\"\",\"\",VLOOKUP(A746,[1]Hoja1!$B$2:$U$4999,9,FALSE)),0)","v":""},{"$f":"IFERROR(IF(A746=\"\",\"\",VLOOKUP(A746,[1]Hoja1!$B$2:$U$4999,2,FALSE)),\" --- NO EXISTE TRABAJADOR --- \")","v":""},null,null,null,null,null,"","","",{"$f":"IFERROR(IF(A746=\"\",\"\",VLOOKUP(A746,[1]Hoja1!$B$2:$U$4999,18,FALSE)),0)","v":""},{"$f":"IFERROR(IF(A746=\"\",\"\",VLOOKUP(A746,[1]Hoja1!$B$2:$U$4999,19,FALSE)),0)","v":""},"",null,{"$f":"IFERROR(IF(O746=\"\",\"\",VLOOKUP(O746,JORNADA!$A$19:$B$20,2,FALSE)),\"\")","v":""},{"$f":"IFERROR(IF(A746=\"\",\"\",VLOOKUP(A746,[1]Hoja1!$B$2:$U$4999,3,FALSE)),0)","v":""},null,"","",{"$f":"IFERROR(IF(A746=\"\",\"\",VLOOKUP(A746,[1]Hoja1!$B$2:$U$4999,10,FALSE)),0)","v":""},{"$f":"IFERROR(IF(Q746=\"\",\"\",VLOOKUP(Q746,[1]Hoja1!$D$2:$AF$4999,29,FALSE)),\"NO EXISTE CUENTA\")","v":""},null,null,""]
[null,{"$f":"IFERROR(IF(A747=\"\",\"\",VLOOKUP(A747,[1]Hoja1!$B$2:$U$4999,9,FALSE)),0)","v":""},{"$f":"IFERROR(IF(A747=\"\",\"\",VLOOKUP(A747,[1]Hoja1!$B$2:$U$4999,2,FALSE)),\" --- NO EXISTE TRABAJADOR --- \")","v":""},null,null,null,null,null,"","","",{"$f":"IFERROR(IF(A747=\"\",\"\",VLOOKUP(A747,[1]Hoja1!$B$2:$U$4999,18,FALSE)),0)","v":""},{"$f":"IFERROR(IF(A747=\"\",\"\",VLOOKUP(A747,[1]Hoja1!$B$2:$U$4999,19,FALSE)),0)","v":""},"",null,{"$f":"IFERROR(IF(O747=\"\",\"\",VLOOKUP(O747,JORNADA!$A$19:$B$20,2,FALSE)),\"\")","v":""},{"$f":"IFERROR(IF(A747=\"\",\"\",VLOOKUP(A747,[1]Hoja1!$B$2:$U$4999,3,FALSE)),0)","v":""},null,"","",{"$f":"IFERROR(IF(A747=\"\",\"\",VLOOKUP(A747,[1]Hoja1!$B$2:$U$4999,10,FALSE)),0)","v":""},{"$f":"IFERROR(IF(Q747=\"\",\"\",VLOOKUP(Q747,[1]Hoja1!$D$2:$AF$4999,29,FALSE)),\"NO EXISTE CUENTA\")","v":""},null,null,""]
[null,{"$f":"IFERROR(IF(A748=\"\",\"\",VLOOKUP(A748,[1]Hoja1!$B$2:$U$4999,9,FALSE)),0)","v":""},{"$f":"IFERROR(IF(A748=\"\",\"\",VLOOKUP(A748,[1]Hoja1!$B$2:$U$4999,2,FALSE)),\" --- NO EXISTE TRABAJADOR --- \")","v":""},null,null,null,null,null,"","","",{"$f":"IFERROR(IF(A748=\"\",\"\",VLOOKUP(A748,[1]Hoja1!$B$2:$U$4999,18,FALSE)),0)","v":""},{"$f":"IFERROR(IF(A748=\"\",\"\",VLOOKUP(A748,[1]Hoja1!$B$2:$U$4999,19,FALSE)),0)","v":""},"",null,{"$f":"IFERROR(IF(O748=\"\",\"\",VLOOKUP(O748,JORNADA!$A$19:$B$20,2,FALSE)),\"\")","v":""},{"$f":"IFERROR(IF(A748=\"\",\"\",VLOOKUP(A748,[1]Hoja1!$B$2:$U$4999,3,FALSE)),0)","v":""},null,"","",{"$f":"IFERROR(IF(A748=\"\",\"\",VLOOKUP(A748,[1]Hoja1!$B$2:$U$4999,10,FALSE)),0)","v":""},{"$f":"IFERROR(IF(Q748=\"\",\"\",VLOOKUP(Q748,[1]Hoja1!$D$2:$AF$4999,29,FALSE)),\"NO EXISTE CUENTA\")","v":""},null,null,""]
[null,{"$f":"IFERROR(IF(A749=\"\",\"\",VLOOKUP(A749,[1]Hoja1!$B$2:$U$4999,9,FALSE)),0)","v":""},{"$f":"IFERROR(IF(A749=\"\",\"\",VLOOKUP(A749,[1]Hoja1!$B$2:$U$4999,2,FALSE)),\" --- NO EXISTE TRABAJADOR --- \")","v":""},null,null,null,null,null,"","","",{"$f":"IFERROR(IF(A749=\"\",\"\",VLOOKUP(A749,[1]Hoja1!$B$2:$U$4999,18,FALSE)),0)","v":""},{"$f":"IFERROR(IF(A749=\"\",\"\",VLOOKUP(A749,[1]Hoja1!$B$2:$U$4999,19,FALSE)),0)","v":""},"",null,{"$f":"IFERROR(IF(O749=\"\",\"\",VLOOKUP(O749,JORNADA!$A$19:$B$20,2,FALSE)),\"\")","v":""},{"$f":"IFERROR(IF(A749=\"\",\"\",VLOOKUP(A749,[1]Hoja1!$B$2:$U$4999,3,FALSE)),0)","v":""},null,"","",{"$f":"IFERROR(IF(A749=\"\",\"\",VLOOKUP(A749,[1]Hoja1!$B$2:$U$4999,10,FALSE)),0)","v":""},{"$f":"IFERROR(IF(Q749=\"\",\"\",VLOOKUP(Q749,[1]Hoja1!$D$2:$AF$4999,29,FALSE)),\"NO EXISTE CUENTA\")","v":""},null,null,""]
[null,{"$f":"IFERROR(IF(A750=\"\",\"\",VLOOKUP(A750,[1]Hoja1!$B$2:$U$4999,9,FALSE)),0)","v":""},{"$f":"IFERROR(IF(A750=\"\",\"\",VLOOKUP(A750,[1]Hoja1!$B$2:$U$4999,2,FALSE)),\" --- NO EXISTE TRABAJADOR --- \")","v":""},null,null,null,null,null,"","","",{"$f":"IFERROR(IF(A750=\"\",\"\",VLOOKUP(A750,[1]Hoja1!$B$2:$U$4999,18,FALSE)),0)","v":""},{"$f":"IFERROR(IF(A750=\"\",\"\",VLOOKUP(A750,[1]Hoja1!$B$2:$U$4999,19,FALSE)),0)","v":""},"",null,{"$f":"IFERROR(IF(O750=\"\",\"\",VLOOKUP(O750,JORNADA!$A$19:$B$20,2,FALSE)),\"\")","v":""},{"$f":"IFERROR(IF(A750=\"\",\"\",VLOOKUP(A750,[1]Hoja1!$B$2:$U$4999,3,FALSE)),0)","v":""},null,"","",{"$f":"IFERROR(IF(A750=\"\",\"\",VLOOKUP(A750,[1]Hoja1!$B$2:$U$4999,10,FALSE)),0)","v":""},{"$f":"IFERROR(IF(Q750=\"\",\"\",VLOOKUP(Q750,[1]Hoja1!$D$2:$AF$4999,29,FALSE)),\"NO EXISTE CUENTA\")","v":""},null,null,""]
[null,{"$f":"IFERROR(IF(A751=\"\",\"\",VLOOKUP(A751,[1]Hoja1!$B$2:$U$4999,9,FALSE)),0)","v":""},{"$f":"IFERROR(IF(A751=\"\",\"\",VLOOKUP(A751,[1]Hoja1!$B$2:$U$4999,2,FALSE)),\" --- NO EXISTE TRABAJADOR --- \")","v":""},null,null,null,null,null,"","","",{"$f":"IFERROR(IF(A751=\"\",\"\",VLOOKUP(A751,[1]Hoja1!$B$2:$U$4999,18,FALSE)),0)","v":""},{"$f":"IFERROR(IF(A751=\"\",\"\",VLOOKUP(A751,[1]Hoja1!$B$2:$U$4999,19,FALSE)),0)","v":""},"",null,{"$f":"IFERROR(IF(O751=\"\",\"\",VLOOKUP(O751,JORNADA!$A$19:$B$20,2,FALSE)),\"\")","v":""},{"$f":"IFERROR(IF(A751=\"\",\"\",VLOOKUP(A751,[1]Hoja1!$B$2:$U$4999,3,FALSE)),0)","v":""},null,"","",{"$f":"IFERROR(IF(A751=\"\",\"\",VLOOKUP(A751,[1]Hoja1!$B$2:$U$4999,10,FALSE)),0)","v":""},{"$f":"IFERROR(IF(Q751=\"\",\"\",VLOOKUP(Q751,[1]Hoja1!$D$2:$AF$4999,29,FALSE)),\"NO EXISTE CUENTA\")","v":""},null,null,""]
[null,{"$f":"IFERROR(IF(A752=\"\",\"\",VLOOKUP(A752,[1]Hoja1!$B$2:$U$4999,9,FALSE)),0)","v":""},{"$f":"IFERROR(IF(A752=\"\",\"\",VLOOKUP(A752,[1]Hoja1!$B$2:$U$4999,2,FALSE)),\" --- NO EXISTE TRABAJADOR --- \")","v":""},null,null,null,null,null,"","","",{"$f":"IFERROR(IF(A752=\"\",\"\",VLOOKUP(A752,[1]Hoja1!$B$2:$U$4999,18,FALSE)),0)","v":""},{"$f":"IFERROR(IF(A752=\"\",\"\",VLOOKUP(A752,[1]Hoja1!$B$2:$U$4999,19,FALSE)),0)","v":""},"",null,{"$f":"IFERROR(IF(O752=\"\",\"\",VLOOKUP(O752,JORNADA!$A$19:$B$20,2,FALSE)),\"\")","v":""},{"$f":"IFERROR(IF(A752=\"\",\"\",VLOOKUP(A752,[1]Hoja1!$B$2:$U$4999,3,FALSE)),0)","v":""},null,"","",{"$f":"IFERROR(IF(A752=\"\",\"\",VLOOKUP(A752,[1]Hoja1!$B$2:$U$4999,10,FALSE)),0)","v":""},{"$f":"IFERROR(IF(Q752=\"\",\"\",VLOOKUP(Q752,[1]Hoja1!$D$2:$AF$4999,29,FALSE)),\"NO EXISTE CUENTA\")","v":""},null,null,""]
[null,{"$f":"IFERROR(IF(A753=\"\",\"\",VLOOKUP(A753,[1]Hoja1!$B$2:$U$4999,9,FALSE)),0)","v":""},{"$f":"IFERROR(IF(A753=\"\",\"\",VLOOKUP(A753,[1]Hoja1!$B$2:$U$4999,2,FALSE)),\" --- NO EXISTE TRABAJADOR --- \")","v":""},null,null,null,null,null,"","","",{"$f":"IFERROR(IF(A753=\"\",\"\",VLOOKUP(A753,[1]Hoja1!$B$2:$U$4999,18,FALSE)),0)","v":""},{"$f":"IFERROR(IF(A753=\"\",\"\",VLOOKUP(A753,[1]Hoja1!$B$2:$U$4999,19,FALSE)),0)","v":""},"",null,{"$f":"IFERROR(IF(O753=\"\",\"\",VLOOKUP(O753,JORNADA!$A$19:$B$20,2,FALSE)),\"\")","v":""},{"$f":"IFERROR(IF(A753=\"\",\"\",VLOOKUP(A753,[1]Hoja1!$B$2:$U$4999,3,FALSE)),0)","v":""},null,"","",{"$f":"IFERROR(IF(A753=\"\",\"\",VLOOKUP(A753,[1]Hoja1!$B$2:$U$4999,10,FALSE)),0)","v":""},{"$f":"IFERROR(IF(Q753=\"\",\"\",VLOOKUP(Q753,[1]Hoja1!$D$2:$AF$4999,29,FALSE)),\"NO EXISTE CUENTA\")","v":""},null,null,""]
[null,{"$f":"IFERROR(IF(A754=\"\",\"\",VLOOKUP(A754,[1]Hoja1!$B$2:$U$4999,9,FALSE)),0)","v":""},{"$f":"IFERROR(IF(A754=\"\",\"\",VLOOKUP(A754,[1]Hoja1!$B$2:$U$4999,2,FALSE)),\" --- NO EXISTE TRABAJADOR --- \")","v":""},null,null,null,null,null,"","","",{"$f":"IFERROR(IF(A754=\"\",\"\",VLOOKUP(A754,[1]Hoja1!$B$2:$U$4999,18,FALSE)),0)","v":""},{"$f":"IFERROR(IF(A754=\"\",\"\",VLOOKUP(A754,[1]Hoja1!$B$2:$U$4999,19,FALSE)),0)","v":""},"",null,{"$f":"IFERROR(IF(O754=\"\",\"\",VLOOKUP(O754,JORNADA!$A$19:$B$20,2,FALSE)),\"\")","v":""},{"$f":"IFERROR(IF(A754=\"\",\"\",VLOOKUP(A754,[1]Hoja1!$B$2:$U$4999,3,FALSE)),0)","v":""},null,"","",{"$f":"IFERROR(IF(A754=\"\",\"\",VLOOKUP(A754,[1]Hoja1!$B$2:$U$4999,10,FALSE)),0)","v":""},{"$f":"IFERROR(IF(Q754=\"\",\"\",VLOOKUP(Q754,[1]Hoja1!$D$2:$AF$4999,29,FALSE)),\"NO EXISTE CUENTA\")","v":""},null,null,""]
[null,{"$f":"IFERROR(IF(A755=\"\",\"\",VLOOKUP(A755,[1]Hoja1!$B$2:$U$4999,9,FALSE)),0)","v":""},{"$f":"IFERROR(IF(A755=\"\",\"\",VLOOKUP(A755,[1]Hoja1!$B$2:$U$4999,2,FALSE)),\" --- NO EXISTE TRABAJADOR --- \")","v":""},null,null,null,null,null,"","","",{"$f":"IFERROR(IF(A755=\"\",\"\",VLOOKUP(A755,[1]Hoja1!$B$2:$U$4999,18,FALSE)),0)","v":""},{"$f":"IFERROR(IF(A755=\"\",\"\",VLOOKUP(A755,[1]Hoja1!$B$2:$U$4999,19,FALSE)),0)","v":""},"",null,{"$f":"IFERROR(IF(O755=\"\",\"\",VLOOKUP(O755,JORNADA!$A$19:$B$20,2,FALSE)),\"\")","v":""},{"$f":"IFERROR(IF(A755=\"\",\"\",VLOOKUP(A755,[1]Hoja1!$B$2:$U$4999,3,FALSE)),0)","v":""},null,"","",{"$f":"IFERROR(IF(A755=\"\",\"\",VLOOKUP(A755,[1]Hoja1!$B$2:$U$4999,10,FALSE)),0)","v":""},{"$f":"IFERROR(IF(Q755=\"\",\"\",VLOOKUP(Q755,[1]Hoja1!$D$2:$AF$4999,29,FALSE)),\"NO EXISTE CUENTA\")","v":""},null,null,""]
[null,{"$f":"IFERROR(IF(A756=\"\",\"\",VLOOKUP(A756,[1]Hoja1!$B$2:$U$4999,9,FALSE)),0)","v":""},{"$f":"IFERROR(IF(A756=\"\",\"\",VLOOKUP(A756,[1]Hoja1!$B$2:$U$4999,2,FALSE)),\" --- NO EXISTE TRABAJADOR --- \")","v":""},null,null,null,null,null,"","","",{"$f":"IFERROR(IF(A756=\"\",\"\",VLOOKUP(A756,[1]Hoja1!$B$2:$U$4999,18,FALSE)),0)","v":""},{"$f":"IFERROR(IF(A756=\"\",\"\",VLOOKUP(A756,[1]Hoja1!$B$2:$U$4999,19,FALSE)),0)","v":""},"",null,{"$f":"IFERROR(IF(O756=\"\",\"\",VLOOKUP(O756,JORNADA!$A$19:$B$20,2,FALSE)),\"\")","v":""},{"$f":"IFERROR(IF(A756=\"\",\"\",VLOOKUP(A756,[1]Hoja1!$B$2:$U$4999,3,FALSE)),0)","v":""},null,"","",{"$f":"IFERROR(IF(A756=\"\",\"\",VLOOKUP(A756,[1]Hoja1!$B$2:$U$4999,10,FALSE)),0)","v":""},{"$f":"IFERROR(IF(Q756=\"\",\"\",VLOOKUP(Q756,[1]Hoja1!$D$2:$AF$4999,29,FALSE)),\"NO EXISTE CUENTA\")","v":""},null,null,""]
[null,{"$f":"IFERROR(IF(A757=\"\",\"\",VLOOKUP(A757,[1]Hoja1!$B$2:$U$4999,9,FALSE)),0)","v":""},{"$f":"IFERROR(IF(A757=\"\",\"\",VLOOKUP(A757,[1]Hoja1!$B$2:$U$4999,2,FALSE)),\" --- NO EXISTE TRABAJADOR --- \")","v":""},null,null,null,null,null,"","","",{"$f":"IFERROR(IF(A757=\"\",\"\",VLOOKUP(A757,[1]Hoja1!$B$2:$U$4999,18,FALSE)),0)","v":""},{"$f":"IFERROR(IF(A757=\"\",\"\",VLOOKUP(A757,[1]Hoja1!$B$2:$U$4999,19,FALSE)),0)","v":""},"",null,{"$f":"IFERROR(IF(O757=\"\",\"\",VLOOKUP(O757,JORNADA!$A$19:$B$20,2,FALSE)),\"\")","v":""},{"$f":"IFERROR(IF(A757=\"\",\"\",VLOOKUP(A757,[1]Hoja1!$B$2:$U$4999,3,FALSE)),0)","v":""},null,"","",{"$f":"IFERROR(IF(A757=\"\",\"\",VLOOKUP(A757,[1]Hoja1!$B$2:$U$4999,10,FALSE)),0)","v":""},{"$f":"IFERROR(IF(Q757=\"\",\"\",VLOOKUP(Q757,[1]Hoja1!$D$2:$AF$4999,29,FALSE)),\"NO EXISTE CUENTA\")","v":""},null,null,""]
[null,{"$f":"IFERROR(IF(A758=\"\",\"\",VLOOKUP(A758,[1]Hoja1!$B$2:$U$4999,9,FALSE)),0)","v":""},{"$f":"IFERROR(IF(A758=\"\",\"\",VLOOKUP(A758,[1]Hoja1!$B$2:$U$4999,2,FALSE)),\" --- NO EXISTE TRABAJADOR --- \")","v":""},null,null,null,null,null,"","","",{"$f":"IFERROR(IF(A758=\"\",\"\",VLOOKUP(A758,[1]Hoja1!$B$2:$U$4999,18,FALSE)),0)","v":""},{"$f":"IFERROR(IF(A758=\"\",\"\",VLOOKUP(A758,[1]Hoja1!$B$2:$U$4999,19,FALSE)),0)","v":""},"",null,{"$f":"IFERROR(IF(O758=\"\",\"\",VLOOKUP(O758,JORNADA!$A$19:$B$20,2,FALSE)),\"\")","v":""},{"$f":"IFERROR(IF(A758=\"\",\"\",VLOOKUP(A758,[1]Hoja1!$B$2:$U$4999,3,FALSE)),0)","v":""},null,"","",{"$f":"IFERROR(IF(A758=\"\",\"\",VLOOKUP(A758,[1]Hoja1!$B$2:$U$4999,10,FALSE)),0)","v":""},{"$f":"IFERROR(IF(Q758=\"\",\"\",VLOOKUP(Q758,[1]Hoja1!$D$2:$AF$4999,29,FALSE)),\"NO EXISTE CUENTA\")","v":""},null,null,""]
[null,{"$f":"IFERROR(IF(A759=\"\",\"\",VLOOKUP(A759,[1]Hoja1!$B$2:$U$4999,9,FALSE)),0)","v":""},{"$f":"IFERROR(IF(A759=\"\",\"\",VLOOKUP(A759,[1]Hoja1!$B$2:$U$4999,2,FALSE)),\" --- NO EXISTE TRABAJADOR --- \")","v":""},null,null,null,null,null,"","","",{"$f":"IFERROR(IF(A759=\"\",\"\",VLOOKUP(A759,[1]Hoja1!$B$2:$U$4999,18,FALSE)),0)","v":""},{"$f":"IFERROR(IF(A759=\"\",\"\",VLOOKUP(A759,[1]Hoja1!$B$2:$U$4999,19,FALSE)),0)","v":""},"",null,{"$f":"IFERROR(IF(O759=\"\",\"\",VLOOKUP(O759,JORNADA!$A$19:$B$20,2,FALSE)),\"\")","v":""},{"$f":"IFERROR(IF(A759=\"\",\"\",VLOOKUP(A759,[1]Hoja1!$B$2:$U$4999,3,FALSE)),0)","v":""},null,"","",{"$f":"IFERROR(IF(A759=\"\",\"\",VLOOKUP(A759,[1]Hoja1!$B$2:$U$4999,10,FALSE)),0)","v":""},{"$f":"IFERROR(IF(Q759=\"\",\"\",VLOOKUP(Q759,[1]Hoja1!$D$2:$AF$4999,29,FALSE)),\"NO EXISTE CUENTA\")","v":""},null,null,""]
[null,{"$f":"IFERROR(IF(A760=\"\",\"\",VLOOKUP(A760,[1]Hoja1!$B$2:$U$4999,9,FALSE)),0)","v":""},{"$f":"IFERROR(IF(A760=\"\",\"\",VLOOKUP(A760,[1]Hoja1!$B$2:$U$4999,2,FALSE)),\" --- NO EXISTE TRABAJADOR --- \")","v":""},null,null,null,null,null,"","","",{"$f":"IFERROR(IF(A760=\"\",\"\",VLOOKUP(A760,[1]Hoja1!$B$2:$U$4999,18,FALSE)),0)","v":""},{"$f":"IFERROR(IF(A760=\"\",\"\",VLOOKUP(A760,[1]Hoja1!$B$2:$U$4999,19,FALSE)),0)","v":""},"",null,{"$f":"IFERROR(IF(O760=\"\",\"\",VLOOKUP(O760,JORNADA!$A$19:$B$20,2,FALSE)),\"\")","v":""},{"$f":"IFERROR(IF(A760=\"\",\"\",VLOOKUP(A760,[1]Hoja1!$B$2:$U$4999,3,FALSE)),0)","v":""},null,"","",{"$f":"IFERROR(IF(A760=\"\",\"\",VLOOKUP(A760,[1]Hoja1!$B$2:$U$4999,10,FALSE)),0)","v":""},{"$f":"IFERROR(IF(Q760=\"\",\"\",VLOOKUP(Q760,[1]Hoja1!$D$2:$AF$4999,29,FALSE)),\"NO EXISTE CUENTA\")","v":""},null,null,""]
[null,{"$f":"IFERROR(IF(A761=\"\",\"\",VLOOKUP(A761,[1]Hoja1!$B$2:$U$4999,9,FALSE)),0)","v":""},{"$f":"IFERROR(IF(A761=\"\",\"\",VLOOKUP(A761,[1]Hoja1!$B$2:$U$4999,2,FALSE)),\" --- NO EXISTE TRABAJADOR --- \")","v":""},null,null,null,null,null,"","","",{"$f":"IFERROR(IF(A761=\"\",\"\",VLOOKUP(A761,[1]Hoja1!$B$2:$U$4999,18,FALSE)),0)","v":""},{"$f":"IFERROR(IF(A761=\"\",\"\",VLOOKUP(A761,[1]Hoja1!$B$2:$U$4999,19,FALSE)),0)","v":""},"",null,{"$f":"IFERROR(IF(O761=\"\",\"\",VLOOKUP(O761,JORNADA!$A$19:$B$20,2,FALSE)),\"\")","v":""},{"$f":"IFERROR(IF(A761=\"\",\"\",VLOOKUP(A761,[1]Hoja1!$B$2:$U$4999,3,FALSE)),0)","v":""},null,"","",{"$f":"IFERROR(IF(A761=\"\",\"\",VLOOKUP(A761,[1]Hoja1!$B$2:$U$4999,10,FALSE)),0)","v":""},{"$f":"IFERROR(IF(Q761=\"\",\"\",VLOOKUP(Q761,[1]Hoja1!$D$2:$AF$4999,29,FALSE)),\"NO EXISTE CUENTA\")","v":""},null,null,""]
[null,{"$f":"IFERROR(IF(A762=\"\",\"\",VLOOKUP(A762,[1]Hoja1!$B$2:$U$4999,9,FALSE)),0)","v":""},{"$f":"IFERROR(IF(A762=\"\",\"\",VLOOKUP(A762,[1]Hoja1!$B$2:$U$4999,2,FALSE)),\" --- NO EXISTE TRABAJADOR --- \")","v":""},null,null,null,null,null,"","","",{"$f":"IFERROR(IF(A762=\"\",\"\",VLOOKUP(A762,[1]Hoja1!$B$2:$U$4999,18,FALSE)),0)","v":""},{"$f":"IFERROR(IF(A762=\"\",\"\",VLOOKUP(A762,[1]Hoja1!$B$2:$U$4999,19,FALSE)),0)","v":""},"",null,{"$f":"IFERROR(IF(O762=\"\",\"\",VLOOKUP(O762,JORNADA!$A$19:$B$20,2,FALSE)),\"\")","v":""},{"$f":"IFERROR(IF(A762=\"\",\"\",VLOOKUP(A762,[1]Hoja1!$B$2:$U$4999,3,FALSE)),0)","v":""},null,"","",{"$f":"IFERROR(IF(A762=\"\",\"\",VLOOKUP(A762,[1]Hoja1!$B$2:$U$4999,10,FALSE)),0)","v":""},{"$f":"IFERROR(IF(Q762=\"\",\"\",VLOOKUP(Q762,[1]Hoja1!$D$2:$AF$4999,29,FALSE)),\"NO EXISTE CUENTA\")","v":""},null,null,""]
[null,{"$f":"IFERROR(IF(A763=\"\",\"\",VLOOKUP(A763,[1]Hoja1!$B$2:$U$4999,9,FALSE)),0)","v":""},{"$f":"IFERROR(IF(A763=\"\",\"\",VLOOKUP(A763,[1]Hoja1!$B$2:$U$4999,2,FALSE)),\" --- NO EXISTE TRABAJADOR --- \")","v":""},null,null,null,null,null,"","","",{"$f":"IFERROR(IF(A763=\"\",\"\",VLOOKUP(A763,[1]Hoja1!$B$2:$U$4999,18,FALSE)),0)","v":""},{"$f":"IFERROR(IF(A763=\"\",\"\",VLOOKUP(A763,[1]Hoja1!$B$2:$U$4999,19,FALSE)),0)","v":""},"",null,{"$f":"IFERROR(IF(O763=\"\",\"\",VLOOKUP(O763,JORNADA!$A$19:$B$20,2,FALSE)),\"\")","v":""},{"$f":"IFERROR(IF(A763=\"\",\"\",VLOOKUP(A763,[1]Hoja1!$B$2:$U$4999,3,FALSE)),0)","v":""},null,"","",{"$f":"IFERROR(IF(A763=\"\",\"\",VLOOKUP(A763,[1]Hoja1!$B$2:$U$4999,10,FALSE)),0)","v":""},{"$f":"IFERROR(IF(Q763=\"\",\"\",VLOOKUP(Q763,[1]Hoja1!$D$2:$AF$4999,29,FALSE)),\"NO EXISTE CUENTA\")","v":""},null,null,""]
[null,{"$f":"IFERROR(IF(A764=\"\",\"\",VLOOKUP(A764,[1]Hoja1!$B$2:$U$4999,9,FALSE)),0)","v":""},{"$f":"IFERROR(IF(A764=\"\",\"\",VLOOKUP(A764,[1]Hoja1!$B$2:$U$4999,2,FALSE)),\" --- NO EXISTE TRABAJADOR --- \")","v":""},null,null,null,null,null,"","","",{"$f":"IFERROR(IF(A764=\"\",\"\",VLOOKUP(A764,[1]Hoja1!$B$2:$U$4999,18,FALSE)),0)","v":""},{"$f":"IFERROR(IF(A764=\"\",\"\",VLOOKUP(A764,[1]Hoja1!$B$2:$U$4999,19,FALSE)),0)","v":""},"",null,{"$f":"IFERROR(IF(O764=\"\",\"\",VLOOKUP(O764,JORNADA!$A$19:$B$20,2,FALSE)),\"\")","v":""},{"$f":"IFERROR(IF(A764=\"\",\"\",VLOOKUP(A764,[1]Hoja1!$B$2:$U$4999,3,FALSE)),0)","v":""},null,"","",{"$f":"IFERROR(IF(A764=\"\",\"\",VLOOKUP(A764,[1]Hoja1!$B$2:$U$4999,10,FALSE)),0)","v":""},{"$f":"IFERROR(IF(Q764=\"\",\"\",VLOOKUP(Q764,[1]Hoja1!$D$2:$AF$4999,29,FALSE)),\"NO EXISTE CUENTA\")","v":""},null,null,""]
[null,{"$f":"IFERROR(IF(A765=\"\",\"\",VLOOKUP(A765,[1]Hoja1!$B$2:$U$4999,9,FALSE)),0)","v":""},{"$f":"IFERROR(IF(A765=\"\",\"\",VLOOKUP(A765,[1]Hoja1!$B$2:$U$4999,2,FALSE)),\" --- NO EXISTE TRABAJADOR --- \")","v":""},null,null,null,null,null,"","","",{"$f":"IFERROR(IF(A765=\"\",\"\",VLOOKUP(A765,[1]Hoja1!$B$2:$U$4999,18,FALSE)),0)","v":""},{"$f":"IFERROR(IF(A765=\"\",\"\",VLOOKUP(A765,[1]Hoja1!$B$2:$U$4999,19,FALSE)),0)","v":""},"",null,{"$f":"IFERROR(IF(O765=\"\",\"\",VLOOKUP(O765,JORNADA!$A$19:$B$20,2,FALSE)),\"\")","v":""},{"$f":"IFERROR(IF(A765=\"\",\"\",VLOOKUP(A765,[1]Hoja1!$B$2:$U$4999,3,FALSE)),0)","v":""},null,"","",{"$f":"IFERROR(IF(A765=\"\",\"\",VLOOKUP(A765,[1]Hoja1!$B$2:$U$4999,10,FALSE)),0)","v":""},{"$f":"IFERROR(IF(Q765=\"\",\"\",VLOOKUP(Q765,[1]Hoja1!$D$2:$AF$4999,29,FALSE)),\"NO EXISTE CUENTA\")","v":""},null,null,""]
[null,{"$f":"IFERROR(IF(A766=\"\",\"\",VLOOKUP(A766,[1]Hoja1!$B$2:$U$4999,9,FALSE)),0)","v":""},{"$f":"IFERROR(IF(A766=\"\",\"\",VLOOKUP(A766,[1]Hoja1!$B$2:$U$4999,2,FALSE)),\" --- NO EXISTE TRABAJADOR --- \")","v":""},null,null,null,null,null,"","","",{"$f":"IFERROR(IF(A766=\"\",\"\",VLOOKUP(A766,[1]Hoja1!$B$2:$U$4999,18,FALSE)),0)","v":""},{"$f":"IFERROR(IF(A766=\"\",\"\",VLOOKUP(A766,[1]Hoja1!$B$2:$U$4999,19,FALSE)),0)","v":""},"",null,{"$f":"IFERROR(IF(O766=\"\",\"\",VLOOKUP(O766,JORNADA!$A$19:$B$20,2,FALSE)),\"\")","v":""},{"$f":"IFERROR(IF(A766=\"\",\"\",VLOOKUP(A766,[1]Hoja1!$B$2:$U$4999,3,FALSE)),0)","v":""},null,"","",{"$f":"IFERROR(IF(A766=\"\",\"\",VLOOKUP(A766,[1]Hoja1!$B$2:$U$4999,10,FALSE)),0)","v":""},{"$f":"IFERROR(IF(Q766=\"\",\"\",VLOOKUP(Q766,[1]Hoja1!$D$2:$AF$4999,29,FALSE)),\"NO EXISTE CUENTA\")","v":""},null,null,""]
[null,{"$f":"IFERROR(IF(A767=\"\",\"\",VLOOKUP(A767,[1]Hoja1!$B$2:$U$4999,9,FALSE)),0)","v":""},{"$f":"IFERROR(IF(A767=\"\",\"\",VLOOKUP(A767,[1]Hoja1!$B$2:$U$4999,2,FALSE)),\" --- NO EXISTE TRABAJADOR --- \")","v":""},null,null,null,null,null,"","","",{"$f":"IFERROR(IF(A767=\"\",\"\",VLOOKUP(A767,[1]Hoja1!$B$2:$U$4999,18,FALSE)),0)","v":""},{"$f":"IFERROR(IF(A767=\"\",\"\",VLOOKUP(A767,[1]Hoja1!$B$2:$U$4999,19,FALSE)),0)","v":""},"",null,{"$f":"IFERROR(IF(O767=\"\",\"\",VLOOKUP(O767,JORNADA!$A$19:$B$20,2,FALSE)),\"\")","v":""},{"$f":"IFERROR(IF(A767=\"\",\"\",VLOOKUP(A767,[1]Hoja1!$B$2:$U$4999,3,FALSE)),0)","v":""},null,"","",{"$f":"IFERROR(IF(A767=\"\",\"\",VLOOKUP(A767,[1]Hoja1!$B$2:$U$4999,10,FALSE)),0)","v":""},{"$f":"IFERROR(IF(Q767=\"\",\"\",VLOOKUP(Q767,[1]Hoja1!$D$2:$AF$4999,29,FALSE)),\"NO EXISTE CUENTA\")","v":""},null,null,""]
[null,{"$f":"IFERROR(IF(A768=\"\",\"\",VLOOKUP(A768,[1]Hoja1!$B$2:$U$4999,9,FALSE)),0)","v":""},{"$f":"IFERROR(IF(A768=\"\",\"\",VLOOKUP(A768,[1]Hoja1!$B$2:$U$4999,2,FALSE)),\" --- NO EXISTE TRABAJADOR --- \")","v":""},null,null,null,null,null,"","","",{"$f":"IFERROR(IF(A768=\"\",\"\",VLOOKUP(A768,[1]Hoja1!$B$2:$U$4999,18,FALSE)),0)","v":""},{"$f":"IFERROR(IF(A768=\"\",\"\",VLOOKUP(A768,[1]Hoja1!$B$2:$U$4999,19,FALSE)),0)","v":""},"",null,{"$f":"IFERROR(IF(O768=\"\",\"\",VLOOKUP(O768,JORNADA!$A$19:$B$20,2,FALSE)),\"\")","v":""},{"$f":"IFERROR(IF(A768=\"\",\"\",VLOOKUP(A768,[1]Hoja1!$B$2:$U$4999,3,FALSE)),0)","v":""},null,"","",{"$f":"IFERROR(IF(A768=\"\",\"\",VLOOKUP(A768,[1]Hoja1!$B$2:$U$4999,10,FALSE)),0)","v":""},{"$f":"IFERROR(IF(Q768=\"\",\"\",VLOOKUP(Q768,[1]Hoja1!$D$2:$AF$4999,29,FALSE)),\"NO EXISTE CUENTA\")","v":""},null,null,""]
[null,{"$f":"IFERROR(IF(A769=\"\",\"\",VLOOKUP(A769,[1]Hoja1!$B$2:$U$4999,9,FALSE)),0)","v":""},{"$f":"IFERROR(IF(A769=\"\",\"\",VLOOKUP(A769,[1]Hoja1!$B$2:$U$4999,2,FALSE)),\" --- NO EXISTE TRABAJADOR --- \")","v":""},null,null,null,null,null,"","","",{"$f":"IFERROR(IF(A769=\"\",\"\",VLOOKUP(A769,[1]Hoja1!$B$2:$U$4999,18,FALSE)),0)","v":""},{"$f":"IFERROR(IF(A769=\"\",\"\",VLOOKUP(A769,[1]Hoja1!$B$2:$U$4999,19,FALSE)),0)","v":""},"",null,{"$f":"IFERROR(IF(O769=\"\",\"\",VLOOKUP(O769,JORNADA!$A$19:$B$20,2,FALSE)),\"\")","v":""},{"$f":"IFERROR(IF(A769=\"\",\"\",VLOOKUP(A769,[1]Hoja1!$B$2:$U$4999,3,FALSE)),0)","v":""},null,"","",{"$f":"IFERROR(IF(A769=\"\",\"\",VLOOKUP(A769,[1]Hoja1!$B$2:$U$4999,10,FALSE)),0)","v":""},{"$f":"IFERROR(IF(Q769=\"\",\"\",VLOOKUP(Q769,[1]Hoja1!$D$2:$AF$4999,29,FALSE)),\"NO EXISTE CUENTA\")","v":""},null,null,""]
[null,{"$f":"IFERROR(IF(A770=\"\",\"\",VLOOKUP(A770,[1]Hoja1!$B$2:$U$4999,9,FALSE)),0)","v":""},{"$f":"IFERROR(IF(A770=\"\",\"\",VLOOKUP(A770,[1]Hoja1!$B$2:$U$4999,2,FALSE)),\" --- NO EXISTE TRABAJADOR --- \")","v":""},null,null,null,null,null,"","","",{"$f":"IFERROR(IF(A770=\"\",\"\",VLOOKUP(A770,[1]Hoja1!$B$2:$U$4999,18,FALSE)),0)","v":""},{"$f":"IFERROR(IF(A770=\"\",\"\",VLOOKUP(A770,[1]Hoja1!$B$2:$U$4999,19,FALSE)),0)","v":""},"",null,{"$f":"IFERROR(IF(O770=\"\",\"\",VLOOKUP(O770,JORNADA!$A$19:$B$20,2,FALSE)),\"\")","v":""},{"$f":"IFERROR(IF(A770=\"\",\"\",VLOOKUP(A770,[1]Hoja1!$B$2:$U$4999,3,FALSE)),0)","v":""},null,"","",{"$f":"IFERROR(IF(A770=\"\",\"\",VLOOKUP(A770,[1]Hoja1!$B$2:$U$4999,10,FALSE)),0)","v":""},{"$f":"IFERROR(IF(Q770=\"\",\"\",VLOOKUP(Q770,[1]Hoja1!$D$2:$AF$4999,29,FALSE)),\"NO EXISTE CUENTA\")","v":""},null,null,{"$f":"+C770","v":""}]
[null,{"$f":"IFERROR(IF(A771=\"\",\"\",VLOOKUP(A771,[1]Hoja1!$B$2:$U$4999,9,FALSE)),0)","v":""},{"$f":"IFERROR(IF(A771=\"\",\"\",VLOOKUP(A771,[1]Hoja1!$B$2:$U$4999,2,FALSE)),\" --- NO EXISTE TRABAJADOR --- \")","v":""},null,null,null,null,null,{"$f":"IFERROR(IF(G771=\"\",\"\",VLOOKUP(G771,JORNADA,2,FALSE)),0)","v":""},{"$f":"IFERROR(IF(H771=\"\",\"\",VLOOKUP(H771,ACTIVIDAD,2,FALSE)),0)","v":""},{"$f":"CONCATENATE(J771,G771)","v":""},{"$f":"IFERROR(IF(A771=\"\",\"\",VLOOKUP(A771,[1]Hoja1!$B$2:$U$4999,18,FALSE)),0)","v":""},{"$f":"IFERROR(IF(A771=\"\",\"\",VLOOKUP(A771,[1]Hoja1!$B$2:$U$4999,19,FALSE)),0)","v":""},{"$f":"IFERROR(IF(W771=\"\",\"\",VLOOKUP(W771,LICENCIA,2,FALSE)),\"\")","v":""},null,{"$f":"IFERROR(IF(O771=\"\",\"\",VLOOKUP(O771,JORNADA!$A$19:$B$20,2,FALSE)),\"\")","v":""},{"$f":"IFERROR(IF(A771=\"\",\"\",VLOOKUP(A771,[1]Hoja1!$B$2:$U$4999,3,FALSE)),0)","v":""},null,{"$f":"IFERROR(IF(R771=\"\",\"\",VLOOKUP(R771,DNI,2,FALSE)),0)","v":""},{"$f":"IF(D771<>\"\",COUNTA(INDIRECT(\"D2:D\"&ROW()-1)),\"\")","v":""},{"$f":"IFERROR(IF(A771=\"\",\"\",VLOOKUP(A771,[1]Hoja1!$B$2:$U$4999,10,FALSE)),0)","v":""},{"$f":"IFERROR(IF(Q771=\"\",\"\",VLOOKUP(Q771,[1]Hoja1!$D$2:$AF$4999,29,FALSE)),\"NO EXISTE CUENTA\")","v":""},null,null,""]
[null,{"$f":"IFERROR(IF(A772=\"\",\"\",VLOOKUP(A772,[1]Hoja1!$B$2:$U$4999,9,FALSE)),0)","v":""},{"$f":"IFERROR(IF(A772=\"\",\"\",VLOOKUP(A772,[1]Hoja1!$B$2:$U$4999,2,FALSE)),\" --- NO EXISTE TRABAJADOR --- \")","v":""},null,null,null,null,null,"","","",{"$f":"IFERROR(IF(A772=\"\",\"\",VLOOKUP(A772,[1]Hoja1!$B$2:$U$4999,18,FALSE)),0)","v":""},{"$f":"IFERROR(IF(A772=\"\",\"\",VLOOKUP(A772,[1]Hoja1!$B$2:$U$4999,19,FALSE)),0)","v":""},"",null,{"$f":"IFERROR(IF(O772=\"\",\"\",VLOOKUP(O772,JORNADA!$A$19:$B$20,2,FALSE)),\"\")","v":""},{"$f":"IFERROR(IF(A772=\"\",\"\",VLOOKUP(A772,[1]Hoja1!$B$2:$U$4999,3,FALSE)),0)","v":""},null,"","",{"$f":"IFERROR(IF(A772=\"\",\"\",VLOOKUP(A772,[1]Hoja1!$B$2:$U$4999,10,FALSE)),0)","v":""},{"$f":"IFERROR(IF(Q772=\"\",\"\",VLOOKUP(Q772,[1]Hoja1!$D$2:$AF$4999,29,FALSE)),\"NO EXISTE CUENTA\")","v":""},null,null,""]
[null,{"$f":"IFERROR(IF(A773=\"\",\"\",VLOOKUP(A773,[1]Hoja1!$B$2:$U$4999,9,FALSE)),0)","v":""},{"$f":"IFERROR(IF(A773=\"\",\"\",VLOOKUP(A773,[1]Hoja1!$B$2:$U$4999,2,FALSE)),\" --- NO EXISTE TRABAJADOR --- \")","v":""},null,null,null,null,null,"","","",{"$f":"IFERROR(IF(A773=\"\",\"\",VLOOKUP(A773,[1]Hoja1!$B$2:$U$4999,18,FALSE)),0)","v":""},{"$f":"IFERROR(IF(A773=\"\",\"\",VLOOKUP(A773,[1]Hoja1!$B$2:$U$4999,19,FALSE)),0)","v":""},"",null,{"$f":"IFERROR(IF(O773=\"\",\"\",VLOOKUP(O773,JORNADA!$A$19:$B$20,2,FALSE)),\"\")","v":""},{"$f":"IFERROR(IF(A773=\"\",\"\",VLOOKUP(A773,[1]Hoja1!$B$2:$U$4999,3,FALSE)),0)","v":""},null,"","",{"$f":"IFERROR(IF(A773=\"\",\"\",VLOOKUP(A773,[1]Hoja1!$B$2:$U$4999,10,FALSE)),0)","v":""},{"$f":"IFERROR(IF(Q773=\"\",\"\",VLOOKUP(Q773,[1]Hoja1!$D$2:$AF$4999,29,FALSE)),\"NO EXISTE CUENTA\")","v":""},null,null,""]
[null,{"$f":"IFERROR(IF(A774=\"\",\"\",VLOOKUP(A774,[1]Hoja1!$B$2:$U$4999,9,FALSE)),0)","v":""},{"$f":"IFERROR(IF(A774=\"\",\"\",VLOOKUP(A774,[1]Hoja1!$B$2:$U$4999,2,FALSE)),\" --- NO EXISTE TRABAJADOR --- \")","v":""},null,null,null,null,null,"","","",{"$f":"IFERROR(IF(A774=\"\",\"\",VLOOKUP(A774,[1]Hoja1!$B$2:$U$4999,18,FALSE)),0)","v":""},{"$f":"IFERROR(IF(A774=\"\",\"\",VLOOKUP(A774,[1]Hoja1!$B$2:$U$4999,19,FALSE)),0)","v":""},"",null,{"$f":"IFERROR(IF(O774=\"\",\"\",VLOOKUP(O774,JORNADA!$A$19:$B$20,2,FALSE)),\"\")","v":""},{"$f":"IFERROR(IF(A774=\"\",\"\",VLOOKUP(A774,[1]Hoja1!$B$2:$U$4999,3,FALSE)),0)","v":""},null,"","",{"$f":"IFERROR(IF(A774=\"\",\"\",VLOOKUP(A774,[1]Hoja1!$B$2:$U$4999,10,FALSE)),0)","v":""},{"$f":"IFERROR(IF(Q774=\"\",\"\",VLOOKUP(Q774,[1]Hoja1!$D$2:$AF$4999,29,FALSE)),\"NO EXISTE CUENTA\")","v":""},null,null,""]
[null,{"$f":"IFERROR(IF(A775=\"\",\"\",VLOOKUP(A775,[1]Hoja1!$B$2:$U$4999,9,FALSE)),0)","v":""},{"$f":"IFERROR(IF(A775=\"\",\"\",VLOOKUP(A775,[1]Hoja1!$B$2:$U$4999,2,FALSE)),\" --- NO EXISTE TRABAJADOR --- \")","v":""},null,null,null,null,null,"","","",{"$f":"IFERROR(IF(A775=\"\",\"\",VLOOKUP(A775,[1]Hoja1!$B$2:$U$4999,18,FALSE)),0)","v":""},{"$f":"IFERROR(IF(A775=\"\",\"\",VLOOKUP(A775,[1]Hoja1!$B$2:$U$4999,19,FALSE)),0)","v":""},"",null,{"$f":"IFERROR(IF(O775=\"\",\"\",VLOOKUP(O775,JORNADA!$A$19:$B$20,2,FALSE)),\"\")","v":""},{"$f":"IFERROR(IF(A775=\"\",\"\",VLOOKUP(A775,[1]Hoja1!$B$2:$U$4999,3,FALSE)),0)","v":""},null,"","",{"$f":"IFERROR(IF(A775=\"\",\"\",VLOOKUP(A775,[1]Hoja1!$B$2:$U$4999,10,FALSE)),0)","v":""},{"$f":"IFERROR(IF(Q775=\"\",\"\",VLOOKUP(Q775,[1]Hoja1!$D$2:$AF$4999,29,FALSE)),\"NO EXISTE CUENTA\")","v":""},null,null,""]
[null,{"$f":"IFERROR(IF(A776=\"\",\"\",VLOOKUP(A776,[1]Hoja1!$B$2:$U$4999,9,FALSE)),0)","v":""},{"$f":"IFERROR(IF(A776=\"\",\"\",VLOOKUP(A776,[1]Hoja1!$B$2:$U$4999,2,FALSE)),\" --- NO EXISTE TRABAJADOR --- \")","v":""},null,null,null,null,null,"","","",{"$f":"IFERROR(IF(A776=\"\",\"\",VLOOKUP(A776,[1]Hoja1!$B$2:$U$4999,18,FALSE)),0)","v":""},{"$f":"IFERROR(IF(A776=\"\",\"\",VLOOKUP(A776,[1]Hoja1!$B$2:$U$4999,19,FALSE)),0)","v":""},"",null,{"$f":"IFERROR(IF(O776=\"\",\"\",VLOOKUP(O776,JORNADA!$A$19:$B$20,2,FALSE)),\"\")","v":""},{"$f":"IFERROR(IF(A776=\"\",\"\",VLOOKUP(A776,[1]Hoja1!$B$2:$U$4999,3,FALSE)),0)","v":""},null,"","",{"$f":"IFERROR(IF(A776=\"\",\"\",VLOOKUP(A776,[1]Hoja1!$B$2:$U$4999,10,FALSE)),0)","v":""},{"$f":"IFERROR(IF(Q776=\"\",\"\",VLOOKUP(Q776,[1]Hoja1!$D$2:$AF$4999,29,FALSE)),\"NO EXISTE CUENTA\")","v":""},null,null,""]
[null,{"$f":"IFERROR(IF(A777=\"\",\"\",VLOOKUP(A777,[1]Hoja1!$B$2:$U$4999,9,FALSE)),0)","v":""},{"$f":"IFERROR(IF(A777=\"\",\"\",VLOOKUP(A777,[1]Hoja1!$B$2:$U$4999,2,FALSE)),\" --- NO EXISTE TRABAJADOR --- \")","v":""},null,null,null,null,null,"","","",{"$f":"IFERROR(IF(A777=\"\",\"\",VLOOKUP(A777,[1]Hoja1!$B$2:$U$4999,18,FALSE)),0)","v":""},{"$f":"IFERROR(IF(A777=\"\",\"\",VLOOKUP(A777,[1]Hoja1!$B$2:$U$4999,19,FALSE)),0)","v":""},"",null,{"$f":"IFERROR(IF(O777=\"\",\"\",VLOOKUP(O777,JORNADA!$A$19:$B$20,2,FALSE)),\"\")","v":""},{"$f":"IFERROR(IF(A777=\"\",\"\",VLOOKUP(A777,[1]Hoja1!$B$2:$U$4999,3,FALSE)),0)","v":""},null,"","",{"$f":"IFERROR(IF(A777=\"\",\"\",VLOOKUP(A777,[1]Hoja1!$B$2:$U$4999,10,FALSE)),0)","v":""},{"$f":"IFERROR(IF(Q777=\"\",\"\",VLOOKUP(Q777,[1]Hoja1!$D$2:$AF$4999,29,FALSE)),\"NO EXISTE CUENTA\")","v":""},null,null,""]
[null,{"$f":"IFERROR(IF(A778=\"\",\"\",VLOOKUP(A778,[1]Hoja1!$B$2:$U$4999,9,FALSE)),0)","v":""},{"$f":"IFERROR(IF(A778=\"\",\"\",VLOOKUP(A778,[1]Hoja1!$B$2:$U$4999,2,FALSE)),\" --- NO EXISTE TRABAJADOR --- \")","v":""},null,null,null,null,null,"","","",{"$f":"IFERROR(IF(A778=\"\",\"\",VLOOKUP(A778,[1]Hoja1!$B$2:$U$4999,18,FALSE)),0)","v":""},{"$f":"IFERROR(IF(A778=\"\",\"\",VLOOKUP(A778,[1]Hoja1!$B$2:$U$4999,19,FALSE)),0)","v":""},"",null,{"$f":"IFERROR(IF(O778=\"\",\"\",VLOOKUP(O778,JORNADA!$A$19:$B$20,2,FALSE)),\"\")","v":""},{"$f":"IFERROR(IF(A778=\"\",\"\",VLOOKUP(A778,[1]Hoja1!$B$2:$U$4999,3,FALSE)),0)","v":""},null,"","",{"$f":"IFERROR(IF(A778=\"\",\"\",VLOOKUP(A778,[1]Hoja1!$B$2:$U$4999,10,FALSE)),0)","v":""},{"$f":"IFERROR(IF(Q778=\"\",\"\",VLOOKUP(Q778,[1]Hoja1!$D$2:$AF$4999,29,FALSE)),\"NO EXISTE CUENTA\")","v":""},null,null,""]
[null,{"$f":"IFERROR(IF(A779=\"\",\"\",VLOOKUP(A779,[1]Hoja1!$B$2:$U$4999,9,FALSE)),0)","v":""},{"$f":"IFERROR(IF(A779=\"\",\"\",VLOOKUP(A779,[1]Hoja1!$B$2:$U$4999,2,FALSE)),\" --- NO EXISTE TRABAJADOR --- \")","v":""},null,null,null,null,null,"","","",{"$f":"IFERROR(IF(A779=\"\",\"\",VLOOKUP(A779,[1]Hoja1!$B$2:$U$4999,18,FALSE)),0)","v":""},{"$f":"IFERROR(IF(A779=\"\",\"\",VLOOKUP(A779,[1]Hoja1!$B$2:$U$4999,19,FALSE)),0)","v":""},"",null,{"$f":"IFERROR(IF(O779=\"\",\"\",VLOOKUP(O779,JORNADA!$A$19:$B$20,2,FALSE)),\"\")","v":""},{"$f":"IFERROR(IF(A779=\"\",\"\",VLOOKUP(A779,[1]Hoja1!$B$2:$U$4999,3,FALSE)),0)","v":""},null,"","",{"$f":"IFERROR(IF(A779=\"\",\"\",VLOOKUP(A779,[1]Hoja1!$B$2:$U$4999,10,FALSE)),0)","v":""},{"$f":"IFERROR(IF(Q779=\"\",\"\",VLOOKUP(Q779,[1]Hoja1!$D$2:$AF$4999,29,FALSE)),\"NO EXISTE CUENTA\")","v":""},null,null,""]
[null,{"$f":"IFERROR(IF(A780=\"\",\"\",VLOOKUP(A780,[1]Hoja1!$B$2:$U$4999,9,FALSE)),0)","v":""},{"$f":"IFERROR(IF(A780=\"\",\"\",VLOOKUP(A780,[1]Hoja1!$B$2:$U$4999,2,FALSE)),\" --- NO EXISTE TRABAJADOR --- \")","v":""},null,null,null,null,null,"","","",{"$f":"IFERROR(IF(A780=\"\",\"\",VLOOKUP(A780,[1]Hoja1!$B$2:$U$4999,18,FALSE)),0)","v":""},{"$f":"IFERROR(IF(A780=\"\",\"\",VLOOKUP(A780,[1]Hoja1!$B$2:$U$4999,19,FALSE)),0)","v":""},"",null,{"$f":"IFERROR(IF(O780=\"\",\"\",VLOOKUP(O780,JORNADA!$A$19:$B$20,2,FALSE)),\"\")","v":""},{"$f":"IFERROR(IF(A780=\"\",\"\",VLOOKUP(A780,[1]Hoja1!$B$2:$U$4999,3,FALSE)),0)","v":""},null,"","",{"$f":"IFERROR(IF(A780=\"\",\"\",VLOOKUP(A780,[1]Hoja1!$B$2:$U$4999,10,FALSE)),0)","v":""},{"$f":"IFERROR(IF(Q780=\"\",\"\",VLOOKUP(Q780,[1]Hoja1!$D$2:$AF$4999,29,FALSE)),\"NO EXISTE CUENTA\")","v":""},null,null,""]
[null,{"$f":"IFERROR(IF(A781=\"\",\"\",VLOOKUP(A781,[1]Hoja1!$B$2:$U$4999,9,FALSE)),0)","v":""},{"$f":"IFERROR(IF(A781=\"\",\"\",VLOOKUP(A781,[1]Hoja1!$B$2:$U$4999,2,FALSE)),\" --- NO EXISTE TRABAJADOR --- \")","v":""},null,null,null,null,null,"","","",{"$f":"IFERROR(IF(A781=\"\",\"\",VLOOKUP(A781,[1]Hoja1!$B$2:$U$4999,18,FALSE)),0)","v":""},{"$f":"IFERROR(IF(A781=\"\",\"\",VLOOKUP(A781,[1]Hoja1!$B$2:$U$4999,19,FALSE)),0)","v":""},"",null,{"$f":"IFERROR(IF(O781=\"\",\"\",VLOOKUP(O781,JORNADA!$A$19:$B$20,2,FALSE)),\"\")","v":""},{"$f":"IFERROR(IF(A781=\"\",\"\",VLOOKUP(A781,[1]Hoja1!$B$2:$U$4999,3,FALSE)),0)","v":""},null,"","",{"$f":"IFERROR(IF(A781=\"\",\"\",VLOOKUP(A781,[1]Hoja1!$B$2:$U$4999,10,FALSE)),0)","v":""},{"$f":"IFERROR(IF(Q781=\"\",\"\",VLOOKUP(Q781,[1]Hoja1!$D$2:$AF$4999,29,FALSE)),\"NO EXISTE CUENTA\")","v":""},null,null,""]
[null,{"$f":"IFERROR(IF(A782=\"\",\"\",VLOOKUP(A782,[1]Hoja1!$B$2:$U$4999,9,FALSE)),0)","v":""},{"$f":"IFERROR(IF(A782=\"\",\"\",VLOOKUP(A782,[1]Hoja1!$B$2:$U$4999,2,FALSE)),\" --- NO EXISTE TRABAJADOR --- \")","v":""},null,null,null,null,null,"","","",{"$f":"IFERROR(IF(A782=\"\",\"\",VLOOKUP(A782,[1]Hoja1!$B$2:$U$4999,18,FALSE)),0)","v":""},{"$f":"IFERROR(IF(A782=\"\",\"\",VLOOKUP(A782,[1]Hoja1!$B$2:$U$4999,19,FALSE)),0)","v":""},"",null,{"$f":"IFERROR(IF(O782=\"\",\"\",VLOOKUP(O782,JORNADA!$A$19:$B$20,2,FALSE)),\"\")","v":""},{"$f":"IFERROR(IF(A782=\"\",\"\",VLOOKUP(A782,[1]Hoja1!$B$2:$U$4999,3,FALSE)),0)","v":""},null,"","",{"$f":"IFERROR(IF(A782=\"\",\"\",VLOOKUP(A782,[1]Hoja1!$B$2:$U$4999,10,FALSE)),0)","v":""},{"$f":"IFERROR(IF(Q782=\"\",\"\",VLOOKUP(Q782,[1]Hoja1!$D$2:$AF$4999,29,FALSE)),\"NO EXISTE CUENTA\")","v":""},null,null,""]
[null,{"$f":"IFERROR(IF(A783=\"\",\"\",VLOOKUP(A783,[1]Hoja1!$B$2:$U$4999,9,FALSE)),0)","v":""},{"$f":"IFERROR(IF(A783=\"\",\"\",VLOOKUP(A783,[1]Hoja1!$B$2:$U$4999,2,FALSE)),\" --- NO EXISTE TRABAJADOR --- \")","v":""},null,null,null,null,null,"","","",{"$f":"IFERROR(IF(A783=\"\",\"\",VLOOKUP(A783,[1]Hoja1!$B$2:$U$4999,18,FALSE)),0)","v":""},{"$f":"IFERROR(IF(A783=\"\",\"\",VLOOKUP(A783,[1]Hoja1!$B$2:$U$4999,19,FALSE)),0)","v":""},"",null,{"$f":"IFERROR(IF(O783=\"\",\"\",VLOOKUP(O783,JORNADA!$A$19:$B$20,2,FALSE)),\"\")","v":""},{"$f":"IFERROR(IF(A783=\"\",\"\",VLOOKUP(A783,[1]Hoja1!$B$2:$U$4999,3,FALSE)),0)","v":""},null,"","",{"$f":"IFERROR(IF(A783=\"\",\"\",VLOOKUP(A783,[1]Hoja1!$B$2:$U$4999,10,FALSE)),0)","v":""},{"$f":"IFERROR(IF(Q783=\"\",\"\",VLOOKUP(Q783,[1]Hoja1!$D$2:$AF$4999,29,FALSE)),\"NO EXISTE CUENTA\")","v":""},null,null,""]
[null,{"$f":"IFERROR(IF(A784=\"\",\"\",VLOOKUP(A784,[1]Hoja1!$B$2:$U$4999,9,FALSE)),0)","v":""},{"$f":"IFERROR(IF(A784=\"\",\"\",VLOOKUP(A784,[1]Hoja1!$B$2:$U$4999,2,FALSE)),\" --- NO EXISTE TRABAJADOR --- \")","v":""},null,null,null,null,null,"","","",{"$f":"IFERROR(IF(A784=\"\",\"\",VLOOKUP(A784,[1]Hoja1!$B$2:$U$4999,18,FALSE)),0)","v":""},{"$f":"IFERROR(IF(A784=\"\",\"\",VLOOKUP(A784,[1]Hoja1!$B$2:$U$4999,19,FALSE)),0)","v":""},"",null,{"$f":"IFERROR(IF(O784=\"\",\"\",VLOOKUP(O784,JORNADA!$A$19:$B$20,2,FALSE)),\"\")","v":""},{"$f":"IFERROR(IF(A784=\"\",\"\",VLOOKUP(A784,[1]Hoja1!$B$2:$U$4999,3,FALSE)),0)","v":""},null,"","",{"$f":"IFERROR(IF(A784=\"\",\"\",VLOOKUP(A784,[1]Hoja1!$B$2:$U$4999,10,FALSE)),0)","v":""},{"$f":"IFERROR(IF(Q784=\"\",\"\",VLOOKUP(Q784,[1]Hoja1!$D$2:$AF$4999,29,FALSE)),\"NO EXISTE CUENTA\")","v":""},null,null,""]
[null,{"$f":"IFERROR(IF(A785=\"\",\"\",VLOOKUP(A785,[1]Hoja1!$B$2:$U$4999,9,FALSE)),0)","v":""},{"$f":"IFERROR(IF(A785=\"\",\"\",VLOOKUP(A785,[1]Hoja1!$B$2:$U$4999,2,FALSE)),\" --- NO EXISTE TRABAJADOR --- \")","v":""},null,null,null,null,null,"","","",{"$f":"IFERROR(IF(A785=\"\",\"\",VLOOKUP(A785,[1]Hoja1!$B$2:$U$4999,18,FALSE)),0)","v":""},{"$f":"IFERROR(IF(A785=\"\",\"\",VLOOKUP(A785,[1]Hoja1!$B$2:$U$4999,19,FALSE)),0)","v":""},"",null,{"$f":"IFERROR(IF(O785=\"\",\"\",VLOOKUP(O785,JORNADA!$A$19:$B$20,2,FALSE)),\"\")","v":""},{"$f":"IFERROR(IF(A785=\"\",\"\",VLOOKUP(A785,[1]Hoja1!$B$2:$U$4999,3,FALSE)),0)","v":""},null,"","",{"$f":"IFERROR(IF(A785=\"\",\"\",VLOOKUP(A785,[1]Hoja1!$B$2:$U$4999,10,FALSE)),0)","v":""},{"$f":"IFERROR(IF(Q785=\"\",\"\",VLOOKUP(Q785,[1]Hoja1!$D$2:$AF$4999,29,FALSE)),\"NO EXISTE CUENTA\")","v":""},null,null,""]
[null,{"$f":"IFERROR(IF(A786=\"\",\"\",VLOOKUP(A786,[1]Hoja1!$B$2:$U$4999,9,FALSE)),0)","v":""},{"$f":"IFERROR(IF(A786=\"\",\"\",VLOOKUP(A786,[1]Hoja1!$B$2:$U$4999,2,FALSE)),\" --- NO EXISTE TRABAJADOR --- \")","v":""},null,null,null,null,null,"","","",{"$f":"IFERROR(IF(A786=\"\",\"\",VLOOKUP(A786,[1]Hoja1!$B$2:$U$4999,18,FALSE)),0)","v":""},{"$f":"IFERROR(IF(A786=\"\",\"\",VLOOKUP(A786,[1]Hoja1!$B$2:$U$4999,19,FALSE)),0)","v":""},"",null,{"$f":"IFERROR(IF(O786=\"\",\"\",VLOOKUP(O786,JORNADA!$A$19:$B$20,2,FALSE)),\"\")","v":""},{"$f":"IFERROR(IF(A786=\"\",\"\",VLOOKUP(A786,[1]Hoja1!$B$2:$U$4999,3,FALSE)),0)","v":""},null,"","",{"$f":"IFERROR(IF(A786=\"\",\"\",VLOOKUP(A786,[1]Hoja1!$B$2:$U$4999,10,FALSE)),0)","v":""},{"$f":"IFERROR(IF(Q786=\"\",\"\",VLOOKUP(Q786,[1]Hoja1!$D$2:$AF$4999,29,FALSE)),\"NO EXISTE CUENTA\")","v":""},null,null,""]
[null,{"$f":"IFERROR(IF(A787=\"\",\"\",VLOOKUP(A787,[1]Hoja1!$B$2:$U$4999,9,FALSE)),0)","v":""},{"$f":"IFERROR(IF(A787=\"\",\"\",VLOOKUP(A787,[1]Hoja1!$B$2:$U$4999,2,FALSE)),\" --- NO EXISTE TRABAJADOR --- \")","v":""},null,null,null,null,null,"","","",{"$f":"IFERROR(IF(A787=\"\",\"\",VLOOKUP(A787,[1]Hoja1!$B$2:$U$4999,18,FALSE)),0)","v":""},{"$f":"IFERROR(IF(A787=\"\",\"\",VLOOKUP(A787,[1]Hoja1!$B$2:$U$4999,19,FALSE)),0)","v":""},"",null,{"$f":"IFERROR(IF(O787=\"\",\"\",VLOOKUP(O787,JORNADA!$A$19:$B$20,2,FALSE)),\"\")","v":""},{"$f":"IFERROR(IF(A787=\"\",\"\",VLOOKUP(A787,[1]Hoja1!$B$2:$U$4999,3,FALSE)),0)","v":""},null,"","",{"$f":"IFERROR(IF(A787=\"\",\"\",VLOOKUP(A787,[1]Hoja1!$B$2:$U$4999,10,FALSE)),0)","v":""},{"$f":"IFERROR(IF(Q787=\"\",\"\",VLOOKUP(Q787,[1]Hoja1!$D$2:$AF$4999,29,FALSE)),\"NO EXISTE CUENTA\")","v":""},null,null,""]
[null,{"$f":"IFERROR(IF(A788=\"\",\"\",VLOOKUP(A788,[1]Hoja1!$B$2:$U$4999,9,FALSE)),0)","v":""},{"$f":"IFERROR(IF(A788=\"\",\"\",VLOOKUP(A788,[1]Hoja1!$B$2:$U$4999,2,FALSE)),\" --- NO EXISTE TRABAJADOR --- \")","v":""},null,null,null,null,null,"","","",{"$f":"IFERROR(IF(A788=\"\",\"\",VLOOKUP(A788,[1]Hoja1!$B$2:$U$4999,18,FALSE)),0)","v":""},{"$f":"IFERROR(IF(A788=\"\",\"\",VLOOKUP(A788,[1]Hoja1!$B$2:$U$4999,19,FALSE)),0)","v":""},"",null,{"$f":"IFERROR(IF(O788=\"\",\"\",VLOOKUP(O788,JORNADA!$A$19:$B$20,2,FALSE)),\"\")","v":""},{"$f":"IFERROR(IF(A788=\"\",\"\",VLOOKUP(A788,[1]Hoja1!$B$2:$U$4999,3,FALSE)),0)","v":""},null,"","",{"$f":"IFERROR(IF(A788=\"\",\"\",VLOOKUP(A788,[1]Hoja1!$B$2:$U$4999,10,FALSE)),0)","v":""},{"$f":"IFERROR(IF(Q788=\"\",\"\",VLOOKUP(Q788,[1]Hoja1!$D$2:$AF$4999,29,FALSE)),\"NO EXISTE CUENTA\")","v":""},null,null,""]
[null,{"$f":"IFERROR(IF(A789=\"\",\"\",VLOOKUP(A789,[1]Hoja1!$B$2:$U$4999,9,FALSE)),0)","v":""},{"$f":"IFERROR(IF(A789=\"\",\"\",VLOOKUP(A789,[1]Hoja1!$B$2:$U$4999,2,FALSE)),\" --- NO EXISTE TRABAJADOR --- \")","v":""},null,null,null,null,null,"","","",{"$f":"IFERROR(IF(A789=\"\",\"\",VLOOKUP(A789,[1]Hoja1!$B$2:$U$4999,18,FALSE)),0)","v":""},{"$f":"IFERROR(IF(A789=\"\",\"\",VLOOKUP(A789,[1]Hoja1!$B$2:$U$4999,19,FALSE)),0)","v":""},"",null,{"$f":"IFERROR(IF(O789=\"\",\"\",VLOOKUP(O789,JORNADA!$A$19:$B$20,2,FALSE)),\"\")","v":""},{"$f":"IFERROR(IF(A789=\"\",\"\",VLOOKUP(A789,[1]Hoja1!$B$2:$U$4999,3,FALSE)),0)","v":""},null,"","",{"$f":"IFERROR(IF(A789=\"\",\"\",VLOOKUP(A789,[1]Hoja1!$B$2:$U$4999,10,FALSE)),0)","v":""},{"$f":"IFERROR(IF(Q789=\"\",\"\",VLOOKUP(Q789,[1]Hoja1!$D$2:$AF$4999,29,FALSE)),\"NO EXISTE CUENTA\")","v":""},null,null,""]
[null,{"$f":"IFERROR(IF(A790=\"\",\"\",VLOOKUP(A790,[1]Hoja1!$B$2:$U$4999,9,FALSE)),0)","v":""},{"$f":"IFERROR(IF(A790=\"\",\"\",VLOOKUP(A790,[1]Hoja1!$B$2:$U$4999,2,FALSE)),\" --- NO EXISTE TRABAJADOR --- \")","v":""},null,null,null,null,null,"","","",{"$f":"IFERROR(IF(A790=\"\",\"\",VLOOKUP(A790,[1]Hoja1!$B$2:$U$4999,18,FALSE)),0)","v":""},{"$f":"IFERROR(IF(A790=\"\",\"\",VLOOKUP(A790,[1]Hoja1!$B$2:$U$4999,19,FALSE)),0)","v":""},"",null,{"$f":"IFERROR(IF(O790=\"\",\"\",VLOOKUP(O790,JORNADA!$A$19:$B$20,2,FALSE)),\"\")","v":""},{"$f":"IFERROR(IF(A790=\"\",\"\",VLOOKUP(A790,[1]Hoja1!$B$2:$U$4999,3,FALSE)),0)","v":""},null,"","",{"$f":"IFERROR(IF(A790=\"\",\"\",VLOOKUP(A790,[1]Hoja1!$B$2:$U$4999,10,FALSE)),0)","v":""},{"$f":"IFERROR(IF(Q790=\"\",\"\",VLOOKUP(Q790,[1]Hoja1!$D$2:$AF$4999,29,FALSE)),\"NO EXISTE CUENTA\")","v":""},null,null,""]
[null,{"$f":"IFERROR(IF(A791=\"\",\"\",VLOOKUP(A791,[1]Hoja1!$B$2:$U$4999,9,FALSE)),0)","v":""},{"$f":"IFERROR(IF(A791=\"\",\"\",VLOOKUP(A791,[1]Hoja1!$B$2:$U$4999,2,FALSE)),\" --- NO EXISTE TRABAJADOR --- \")","v":""},null,null,null,null,null,"","","",{"$f":"IFERROR(IF(A791=\"\",\"\",VLOOKUP(A791,[1]Hoja1!$B$2:$U$4999,18,FALSE)),0)","v":""},{"$f":"IFERROR(IF(A791=\"\",\"\",VLOOKUP(A791,[1]Hoja1!$B$2:$U$4999,19,FALSE)),0)","v":""},"",null,{"$f":"IFERROR(IF(O791=\"\",\"\",VLOOKUP(O791,JORNADA!$A$19:$B$20,2,FALSE)),\"\")","v":""},{"$f":"IFERROR(IF(A791=\"\",\"\",VLOOKUP(A791,[1]Hoja1!$B$2:$U$4999,3,FALSE)),0)","v":""},null,"","",{"$f":"IFERROR(IF(A791=\"\",\"\",VLOOKUP(A791,[1]Hoja1!$B$2:$U$4999,10,FALSE)),0)","v":""},{"$f":"IFERROR(IF(Q791=\"\",\"\",VLOOKUP(Q791,[1]Hoja1!$D$2:$AF$4999,29,FALSE)),\"NO EXISTE CUENTA\")","v":""},null,null,""]
[null,{"$f":"IFERROR(IF(A792=\"\",\"\",VLOOKUP(A792,[1]Hoja1!$B$2:$U$4999,9,FALSE)),0)","v":""},{"$f":"IFERROR(IF(A792=\"\",\"\",VLOOKUP(A792,[1]Hoja1!$B$2:$U$4999,2,FALSE)),\" --- NO EXISTE TRABAJADOR --- \")","v":""},null,null,null,null,null,"","","",{"$f":"IFERROR(IF(A792=\"\",\"\",VLOOKUP(A792,[1]Hoja1!$B$2:$U$4999,18,FALSE)),0)","v":""},{"$f":"IFERROR(IF(A792=\"\",\"\",VLOOKUP(A792,[1]Hoja1!$B$2:$U$4999,19,FALSE)),0)","v":""},"",null,{"$f":"IFERROR(IF(O792=\"\",\"\",VLOOKUP(O792,JORNADA!$A$19:$B$20,2,FALSE)),\"\")","v":""},{"$f":"IFERROR(IF(A792=\"\",\"\",VLOOKUP(A792,[1]Hoja1!$B$2:$U$4999,3,FALSE)),0)","v":""},null,"","",{"$f":"IFERROR(IF(A792=\"\",\"\",VLOOKUP(A792,[1]Hoja1!$B$2:$U$4999,10,FALSE)),0)","v":""},{"$f":"IFERROR(IF(Q792=\"\",\"\",VLOOKUP(Q792,[1]Hoja1!$D$2:$AF$4999,29,FALSE)),\"NO EXISTE CUENTA\")","v":""},null,null,""]
[null,{"$f":"IFERROR(IF(A793=\"\",\"\",VLOOKUP(A793,[1]Hoja1!$B$2:$U$4999,9,FALSE)),0)","v":""},{"$f":"IFERROR(IF(A793=\"\",\"\",VLOOKUP(A793,[1]Hoja1!$B$2:$U$4999,2,FALSE)),\" --- NO EXISTE TRABAJADOR --- \")","v":""},null,null,null,null,null,"","","",{"$f":"IFERROR(IF(A793=\"\",\"\",VLOOKUP(A793,[1]Hoja1!$B$2:$U$4999,18,FALSE)),0)","v":""},{"$f":"IFERROR(IF(A793=\"\",\"\",VLOOKUP(A793,[1]Hoja1!$B$2:$U$4999,19,FALSE)),0)","v":""},"",null,{"$f":"IFERROR(IF(O793=\"\",\"\",VLOOKUP(O793,JORNADA!$A$19:$B$20,2,FALSE)),\"\")","v":""},{"$f":"IFERROR(IF(A793=\"\",\"\",VLOOKUP(A793,[1]Hoja1!$B$2:$U$4999,3,FALSE)),0)","v":""},null,"","",{"$f":"IFERROR(IF(A793=\"\",\"\",VLOOKUP(A793,[1]Hoja1!$B$2:$U$4999,10,FALSE)),0)","v":""},{"$f":"IFERROR(IF(Q793=\"\",\"\",VLOOKUP(Q793,[1]Hoja1!$D$2:$AF$4999,29,FALSE)),\"NO EXISTE CUENTA\")","v":""},null,null,""]
[null,{"$f":"IFERROR(IF(A794=\"\",\"\",VLOOKUP(A794,[1]Hoja1!$B$2:$U$4999,9,FALSE)),0)","v":""},{"$f":"IFERROR(IF(A794=\"\",\"\",VLOOKUP(A794,[1]Hoja1!$B$2:$U$4999,2,FALSE)),\" --- NO EXISTE TRABAJADOR --- \")","v":""},null,null,null,null,null,"","","",{"$f":"IFERROR(IF(A794=\"\",\"\",VLOOKUP(A794,[1]Hoja1!$B$2:$U$4999,18,FALSE)),0)","v":""},{"$f":"IFERROR(IF(A794=\"\",\"\",VLOOKUP(A794,[1]Hoja1!$B$2:$U$4999,19,FALSE)),0)","v":""},"",null,{"$f":"IFERROR(IF(O794=\"\",\"\",VLOOKUP(O794,JORNADA!$A$19:$B$20,2,FALSE)),\"\")","v":""},{"$f":"IFERROR(IF(A794=\"\",\"\",VLOOKUP(A794,[1]Hoja1!$B$2:$U$4999,3,FALSE)),0)","v":""},null,"","",{"$f":"IFERROR(IF(A794=\"\",\"\",VLOOKUP(A794,[1]Hoja1!$B$2:$U$4999,10,FALSE)),0)","v":""},{"$f":"IFERROR(IF(Q794=\"\",\"\",VLOOKUP(Q794,[1]Hoja1!$D$2:$AF$4999,29,FALSE)),\"NO EXISTE CUENTA\")","v":""},null,null,""]
[null,{"$f":"IFERROR(IF(A795=\"\",\"\",VLOOKUP(A795,[1]Hoja1!$B$2:$U$4999,9,FALSE)),0)","v":""},{"$f":"IFERROR(IF(A795=\"\",\"\",VLOOKUP(A795,[1]Hoja1!$B$2:$U$4999,2,FALSE)),\" --- NO EXISTE TRABAJADOR --- \")","v":""},null,null,null,null,null,"","","",{"$f":"IFERROR(IF(A795=\"\",\"\",VLOOKUP(A795,[1]Hoja1!$B$2:$U$4999,18,FALSE)),0)","v":""},{"$f":"IFERROR(IF(A795=\"\",\"\",VLOOKUP(A795,[1]Hoja1!$B$2:$U$4999,19,FALSE)),0)","v":""},"",null,{"$f":"IFERROR(IF(O795=\"\",\"\",VLOOKUP(O795,JORNADA!$A$19:$B$20,2,FALSE)),\"\")","v":""},{"$f":"IFERROR(IF(A795=\"\",\"\",VLOOKUP(A795,[1]Hoja1!$B$2:$U$4999,3,FALSE)),0)","v":""},null,"","",{"$f":"IFERROR(IF(A795=\"\",\"\",VLOOKUP(A795,[1]Hoja1!$B$2:$U$4999,10,FALSE)),0)","v":""},{"$f":"IFERROR(IF(Q795=\"\",\"\",VLOOKUP(Q795,[1]Hoja1!$D$2:$AF$4999,29,FALSE)),\"NO EXISTE CUENTA\")","v":""},null,null,""]
[null,{"$f":"IFERROR(IF(A796=\"\",\"\",VLOOKUP(A796,[1]Hoja1!$B$2:$U$4999,9,FALSE)),0)","v":""},{"$f":"IFERROR(IF(A796=\"\",\"\",VLOOKUP(A796,[1]Hoja1!$B$2:$U$4999,2,FALSE)),\" --- NO EXISTE TRABAJADOR --- \")","v":""},null,null,null,null,null,"","","",{"$f":"IFERROR(IF(A796=\"\",\"\",VLOOKUP(A796,[1]Hoja1!$B$2:$U$4999,18,FALSE)),0)","v":""},{"$f":"IFERROR(IF(A796=\"\",\"\",VLOOKUP(A796,[1]Hoja1!$B$2:$U$4999,19,FALSE)),0)","v":""},"",null,{"$f":"IFERROR(IF(O796=\"\",\"\",VLOOKUP(O796,JORNADA!$A$19:$B$20,2,FALSE)),\"\")","v":""},{"$f":"IFERROR(IF(A796=\"\",\"\",VLOOKUP(A796,[1]Hoja1!$B$2:$U$4999,3,FALSE)),0)","v":""},null,"","",{"$f":"IFERROR(IF(A796=\"\",\"\",VLOOKUP(A796,[1]Hoja1!$B$2:$U$4999,10,FALSE)),0)","v":""},{"$f":"IFERROR(IF(Q796=\"\",\"\",VLOOKUP(Q796,[1]Hoja1!$D$2:$AF$4999,29,FALSE)),\"NO EXISTE CUENTA\")","v":""},null,null,""]
[null,{"$f":"IFERROR(IF(A797=\"\",\"\",VLOOKUP(A797,[1]Hoja1!$B$2:$U$4999,9,FALSE)),0)","v":""},{"$f":"IFERROR(IF(A797=\"\",\"\",VLOOKUP(A797,[1]Hoja1!$B$2:$U$4999,2,FALSE)),\" --- NO EXISTE TRABAJADOR --- \")","v":""},null,null,null,null,null,"","","",{"$f":"IFERROR(IF(A797=\"\",\"\",VLOOKUP(A797,[1]Hoja1!$B$2:$U$4999,18,FALSE)),0)","v":""},{"$f":"IFERROR(IF(A797=\"\",\"\",VLOOKUP(A797,[1]Hoja1!$B$2:$U$4999,19,FALSE)),0)","v":""},"",null,{"$f":"IFERROR(IF(O797=\"\",\"\",VLOOKUP(O797,JORNADA!$A$19:$B$20,2,FALSE)),\"\")","v":""},{"$f":"IFERROR(IF(A797=\"\",\"\",VLOOKUP(A797,[1]Hoja1!$B$2:$U$4999,3,FALSE)),0)","v":""},null,"","",{"$f":"IFERROR(IF(A797=\"\",\"\",VLOOKUP(A797,[1]Hoja1!$B$2:$U$4999,10,FALSE)),0)","v":""},{"$f":"IFERROR(IF(Q797=\"\",\"\",VLOOKUP(Q797,[1]Hoja1!$D$2:$AF$4999,29,FALSE)),\"NO EXISTE CUENTA\")","v":""},null,null,""]
[null,{"$f":"IFERROR(IF(A798=\"\",\"\",VLOOKUP(A798,[1]Hoja1!$B$2:$U$4999,9,FALSE)),0)","v":""},{"$f":"IFERROR(IF(A798=\"\",\"\",VLOOKUP(A798,[1]Hoja1!$B$2:$U$4999,2,FALSE)),\" --- NO EXISTE TRABAJADOR --- \")","v":""},null,null,null,null,null,"","","",{"$f":"IFERROR(IF(A798=\"\",\"\",VLOOKUP(A798,[1]Hoja1!$B$2:$U$4999,18,FALSE)),0)","v":""},{"$f":"IFERROR(IF(A798=\"\",\"\",VLOOKUP(A798,[1]Hoja1!$B$2:$U$4999,19,FALSE)),0)","v":""},"",null,{"$f":"IFERROR(IF(O798=\"\",\"\",VLOOKUP(O798,JORNADA!$A$19:$B$20,2,FALSE)),\"\")","v":""},{"$f":"IFERROR(IF(A798=\"\",\"\",VLOOKUP(A798,[1]Hoja1!$B$2:$U$4999,3,FALSE)),0)","v":""},null,"","",{"$f":"IFERROR(IF(A798=\"\",\"\",VLOOKUP(A798,[1]Hoja1!$B$2:$U$4999,10,FALSE)),0)","v":""},{"$f":"IFERROR(IF(Q798=\"\",\"\",VLOOKUP(Q798,[1]Hoja1!$D$2:$AF$4999,29,FALSE)),\"NO EXISTE CUENTA\")","v":""},null,null,""]
[null,{"$f":"IFERROR(IF(A799=\"\",\"\",VLOOKUP(A799,[1]Hoja1!$B$2:$U$4999,9,FALSE)),0)","v":""},{"$f":"IFERROR(IF(A799=\"\",\"\",VLOOKUP(A799,[1]Hoja1!$B$2:$U$4999,2,FALSE)),\" --- NO EXISTE TRABAJADOR --- \")","v":""},null,null,null,null,null,"","","",{"$f":"IFERROR(IF(A799=\"\",\"\",VLOOKUP(A799,[1]Hoja1!$B$2:$U$4999,18,FALSE)),0)","v":""},{"$f":"IFERROR(IF(A799=\"\",\"\",VLOOKUP(A799,[1]Hoja1!$B$2:$U$4999,19,FALSE)),0)","v":""},"",null,{"$f":"IFERROR(IF(O799=\"\",\"\",VLOOKUP(O799,JORNADA!$A$19:$B$20,2,FALSE)),\"\")","v":""},{"$f":"IFERROR(IF(A799=\"\",\"\",VLOOKUP(A799,[1]Hoja1!$B$2:$U$4999,3,FALSE)),0)","v":""},null,"","",{"$f":"IFERROR(IF(A799=\"\",\"\",VLOOKUP(A799,[1]Hoja1!$B$2:$U$4999,10,FALSE)),0)","v":""},{"$f":"IFERROR(IF(Q799=\"\",\"\",VLOOKUP(Q799,[1]Hoja1!$D$2:$AF$4999,29,FALSE)),\"NO EXISTE CUENTA\")","v":""},null,null,""]
[null,{"$f":"IFERROR(IF(A800=\"\",\"\",VLOOKUP(A800,[1]Hoja1!$B$2:$U$4999,9,FALSE)),0)","v":""},{"$f":"IFERROR(IF(A800=\"\",\"\",VLOOKUP(A800,[1]Hoja1!$B$2:$U$4999,2,FALSE)),\" --- NO EXISTE TRABAJADOR --- \")","v":""},null,null,null,null,null,"","","",{"$f":"IFERROR(IF(A800=\"\",\"\",VLOOKUP(A800,[1]Hoja1!$B$2:$U$4999,18,FALSE)),0)","v":""},{"$f":"IFERROR(IF(A800=\"\",\"\",VLOOKUP(A800,[1]Hoja1!$B$2:$U$4999,19,FALSE)),0)","v":""},"",null,{"$f":"IFERROR(IF(O800=\"\",\"\",VLOOKUP(O800,JORNADA!$A$19:$B$20,2,FALSE)),\"\")","v":""},{"$f":"IFERROR(IF(A800=\"\",\"\",VLOOKUP(A800,[1]Hoja1!$B$2:$U$4999,3,FALSE)),0)","v":""},null,"","",{"$f":"IFERROR(IF(A800=\"\",\"\",VLOOKUP(A800,[1]Hoja1!$B$2:$U$4999,10,FALSE)),0)","v":""},{"$f":"IFERROR(IF(Q800=\"\",\"\",VLOOKUP(Q800,[1]Hoja1!$D$2:$AF$4999,29,FALSE)),\"NO EXISTE CUENTA\")","v":""},null,null,""]
[null,{"$f":"IFERROR(IF(A801=\"\",\"\",VLOOKUP(A801,[1]Hoja1!$B$2:$U$4999,9,FALSE)),0)","v":""},{"$f":"IFERROR(IF(A801=\"\",\"\",VLOOKUP(A801,[1]Hoja1!$B$2:$U$4999,2,FALSE)),\" --- NO EXISTE TRABAJADOR --- \")","v":""},null,null,null,null,null,"","","",{"$f":"IFERROR(IF(A801=\"\",\"\",VLOOKUP(A801,[1]Hoja1!$B$2:$U$4999,18,FALSE)),0)","v":""},{"$f":"IFERROR(IF(A801=\"\",\"\",VLOOKUP(A801,[1]Hoja1!$B$2:$U$4999,19,FALSE)),0)","v":""},"",null,{"$f":"IFERROR(IF(O801=\"\",\"\",VLOOKUP(O801,JORNADA!$A$19:$B$20,2,FALSE)),\"\")","v":""},{"$f":"IFERROR(IF(A801=\"\",\"\",VLOOKUP(A801,[1]Hoja1!$B$2:$U$4999,3,FALSE)),0)","v":""},null,"","",{"$f":"IFERROR(IF(A801=\"\",\"\",VLOOKUP(A801,[1]Hoja1!$B$2:$U$4999,10,FALSE)),0)","v":""},{"$f":"IFERROR(IF(Q801=\"\",\"\",VLOOKUP(Q801,[1]Hoja1!$D$2:$AF$4999,29,FALSE)),\"NO EXISTE CUENTA\")","v":""},null,null,""]
[null,{"$f":"IFERROR(IF(A802=\"\",\"\",VLOOKUP(A802,[1]Hoja1!$B$2:$U$4999,9,FALSE)),0)","v":""},{"$f":"IFERROR(IF(A802=\"\",\"\",VLOOKUP(A802,[1]Hoja1!$B$2:$U$4999,2,FALSE)),\" --- NO EXISTE TRABAJADOR --- \")","v":""},null,null,null,null,null,"","","",{"$f":"IFERROR(IF(A802=\"\",\"\",VLOOKUP(A802,[1]Hoja1!$B$2:$U$4999,18,FALSE)),0)","v":""},{"$f":"IFERROR(IF(A802=\"\",\"\",VLOOKUP(A802,[1]Hoja1!$B$2:$U$4999,19,FALSE)),0)","v":""},"",null,{"$f":"IFERROR(IF(O802=\"\",\"\",VLOOKUP(O802,JORNADA!$A$19:$B$20,2,FALSE)),\"\")","v":""},{"$f":"IFERROR(IF(A802=\"\",\"\",VLOOKUP(A802,[1]Hoja1!$B$2:$U$4999,3,FALSE)),0)","v":""},null,"","",{"$f":"IFERROR(IF(A802=\"\",\"\",VLOOKUP(A802,[1]Hoja1!$B$2:$U$4999,10,FALSE)),0)","v":""},{"$f":"IFERROR(IF(Q802=\"\",\"\",VLOOKUP(Q802,[1]Hoja1!$D$2:$AF$4999,29,FALSE)),\"NO EXISTE CUENTA\")","v":""},null,null,""]
[null,{"$f":"IFERROR(IF(A803=\"\",\"\",VLOOKUP(A803,[1]Hoja1!$B$2:$U$4999,9,FALSE)),0)","v":""},{"$f":"IFERROR(IF(A803=\"\",\"\",VLOOKUP(A803,[1]Hoja1!$B$2:$U$4999,2,FALSE)),\" --- NO EXISTE TRABAJADOR --- \")","v":""},null,null,null,null,null,"","","",{"$f":"IFERROR(IF(A803=\"\",\"\",VLOOKUP(A803,[1]Hoja1!$B$2:$U$4999,18,FALSE)),0)","v":""},{"$f":"IFERROR(IF(A803=\"\",\"\",VLOOKUP(A803,[1]Hoja1!$B$2:$U$4999,19,FALSE)),0)","v":""},"",null,{"$f":"IFERROR(IF(O803=\"\",\"\",VLOOKUP(O803,JORNADA!$A$19:$B$20,2,FALSE)),\"\")","v":""},{"$f":"IFERROR(IF(A803=\"\",\"\",VLOOKUP(A803,[1]Hoja1!$B$2:$U$4999,3,FALSE)),0)","v":""},null,"","",{"$f":"IFERROR(IF(A803=\"\",\"\",VLOOKUP(A803,[1]Hoja1!$B$2:$U$4999,10,FALSE)),0)","v":""},{"$f":"IFERROR(IF(Q803=\"\",\"\",VLOOKUP(Q803,[1]Hoja1!$D$2:$AF$4999,29,FALSE)),\"NO EXISTE CUENTA\")","v":""},null,null,""]
[null,{"$f":"IFERROR(IF(A804=\"\",\"\",VLOOKUP(A804,[1]Hoja1!$B$2:$U$4999,9,FALSE)),0)","v":""},{"$f":"IFERROR(IF(A804=\"\",\"\",VLOOKUP(A804,[1]Hoja1!$B$2:$U$4999,2,FALSE)),\" --- NO EXISTE TRABAJADOR --- \")","v":""},null,null,null,null,null,"","","",{"$f":"IFERROR(IF(A804=\"\",\"\",VLOOKUP(A804,[1]Hoja1!$B$2:$U$4999,18,FALSE)),0)","v":""},{"$f":"IFERROR(IF(A804=\"\",\"\",VLOOKUP(A804,[1]Hoja1!$B$2:$U$4999,19,FALSE)),0)","v":""},"",null,{"$f":"IFERROR(IF(O804=\"\",\"\",VLOOKUP(O804,JORNADA!$A$19:$B$20,2,FALSE)),\"\")","v":""},{"$f":"IFERROR(IF(A804=\"\",\"\",VLOOKUP(A804,[1]Hoja1!$B$2:$U$4999,3,FALSE)),0)","v":""},null,"","",{"$f":"IFERROR(IF(A804=\"\",\"\",VLOOKUP(A804,[1]Hoja1!$B$2:$U$4999,10,FALSE)),0)","v":""},{"$f":"IFERROR(IF(Q804=\"\",\"\",VLOOKUP(Q804,[1]Hoja1!$D$2:$AF$4999,29,FALSE)),\"NO EXISTE CUENTA\")","v":""},null,null,""]
[null,{"$f":"IFERROR(IF(A805=\"\",\"\",VLOOKUP(A805,[1]Hoja1!$B$2:$U$4999,9,FALSE)),0)","v":""},{"$f":"IFERROR(IF(A805=\"\",\"\",VLOOKUP(A805,[1]Hoja1!$B$2:$U$4999,2,FALSE)),\" --- NO EXISTE TRABAJADOR --- \")","v":""},null,null,null,null,null,"","","",{"$f":"IFERROR(IF(A805=\"\",\"\",VLOOKUP(A805,[1]Hoja1!$B$2:$U$4999,18,FALSE)),0)","v":""},{"$f":"IFERROR(IF(A805=\"\",\"\",VLOOKUP(A805,[1]Hoja1!$B$2:$U$4999,19,FALSE)),0)","v":""},"",null,{"$f":"IFERROR(IF(O805=\"\",\"\",VLOOKUP(O805,JORNADA!$A$19:$B$20,2,FALSE)),\"\")","v":""},{"$f":"IFERROR(IF(A805=\"\",\"\",VLOOKUP(A805,[1]Hoja1!$B$2:$U$4999,3,FALSE)),0)","v":""},null,"","",{"$f":"IFERROR(IF(A805=\"\",\"\",VLOOKUP(A805,[1]Hoja1!$B$2:$U$4999,10,FALSE)),0)","v":""},{"$f":"IFERROR(IF(Q805=\"\",\"\",VLOOKUP(Q805,[1]Hoja1!$D$2:$AF$4999,29,FALSE)),\"NO EXISTE CUENTA\")","v":""},null,null,""]
[null,{"$f":"IFERROR(IF(A806=\"\",\"\",VLOOKUP(A806,[1]Hoja1!$B$2:$U$4999,9,FALSE)),0)","v":""},{"$f":"IFERROR(IF(A806=\"\",\"\",VLOOKUP(A806,[1]Hoja1!$B$2:$U$4999,2,FALSE)),\" --- NO EXISTE TRABAJADOR --- \")","v":""},null,null,null,null,null,"","","",{"$f":"IFERROR(IF(A806=\"\",\"\",VLOOKUP(A806,[1]Hoja1!$B$2:$U$4999,18,FALSE)),0)","v":""},{"$f":"IFERROR(IF(A806=\"\",\"\",VLOOKUP(A806,[1]Hoja1!$B$2:$U$4999,19,FALSE)),0)","v":""},"",null,{"$f":"IFERROR(IF(O806=\"\",\"\",VLOOKUP(O806,JORNADA!$A$19:$B$20,2,FALSE)),\"\")","v":""},{"$f":"IFERROR(IF(A806=\"\",\"\",VLOOKUP(A806,[1]Hoja1!$B$2:$U$4999,3,FALSE)),0)","v":""},null,"","",{"$f":"IFERROR(IF(A806=\"\",\"\",VLOOKUP(A806,[1]Hoja1!$B$2:$U$4999,10,FALSE)),0)","v":""},{"$f":"IFERROR(IF(Q806=\"\",\"\",VLOOKUP(Q806,[1]Hoja1!$D$2:$AF$4999,29,FALSE)),\"NO EXISTE CUENTA\")","v":""},null,null,""]
[null,{"$f":"IFERROR(IF(A807=\"\",\"\",VLOOKUP(A807,[1]Hoja1!$B$2:$U$4999,9,FALSE)),0)","v":""},{"$f":"IFERROR(IF(A807=\"\",\"\",VLOOKUP(A807,[1]Hoja1!$B$2:$U$4999,2,FALSE)),\" --- NO EXISTE TRABAJADOR --- \")","v":""},null,null,null,null,null,"","","",{"$f":"IFERROR(IF(A807=\"\",\"\",VLOOKUP(A807,[1]Hoja1!$B$2:$U$4999,18,FALSE)),0)","v":""},{"$f":"IFERROR(IF(A807=\"\",\"\",VLOOKUP(A807,[1]Hoja1!$B$2:$U$4999,19,FALSE)),0)","v":""},"",null,{"$f":"IFERROR(IF(O807=\"\",\"\",VLOOKUP(O807,JORNADA!$A$19:$B$20,2,FALSE)),\"\")","v":""},{"$f":"IFERROR(IF(A807=\"\",\"\",VLOOKUP(A807,[1]Hoja1!$B$2:$U$4999,3,FALSE)),0)","v":""},null,"","",{"$f":"IFERROR(IF(A807=\"\",\"\",VLOOKUP(A807,[1]Hoja1!$B$2:$U$4999,10,FALSE)),0)","v":""},{"$f":"IFERROR(IF(Q807=\"\",\"\",VLOOKUP(Q807,[1]Hoja1!$D$2:$AF$4999,29,FALSE)),\"NO EXISTE CUENTA\")","v":""},null,null,""]
[null,{"$f":"IFERROR(IF(A808=\"\",\"\",VLOOKUP(A808,[1]Hoja1!$B$2:$U$4999,9,FALSE)),0)","v":""},{"$f":"IFERROR(IF(A808=\"\",\"\",VLOOKUP(A808,[1]Hoja1!$B$2:$U$4999,2,FALSE)),\" --- NO EXISTE TRABAJADOR --- \")","v":""},null,null,null,null,null,"","","",{"$f":"IFERROR(IF(A808=\"\",\"\",VLOOKUP(A808,[1]Hoja1!$B$2:$U$4999,18,FALSE)),0)","v":""},{"$f":"IFERROR(IF(A808=\"\",\"\",VLOOKUP(A808,[1]Hoja1!$B$2:$U$4999,19,FALSE)),0)","v":""},"",null,{"$f":"IFERROR(IF(O808=\"\",\"\",VLOOKUP(O808,JORNADA!$A$19:$B$20,2,FALSE)),\"\")","v":""},{"$f":"IFERROR(IF(A808=\"\",\"\",VLOOKUP(A808,[1]Hoja1!$B$2:$U$4999,3,FALSE)),0)","v":""},null,"","",{"$f":"IFERROR(IF(A808=\"\",\"\",VLOOKUP(A808,[1]Hoja1!$B$2:$U$4999,10,FALSE)),0)","v":""},{"$f":"IFERROR(IF(Q808=\"\",\"\",VLOOKUP(Q808,[1]Hoja1!$D$2:$AF$4999,29,FALSE)),\"NO EXISTE CUENTA\")","v":""},null,null,""]
[null,{"$f":"IFERROR(IF(A809=\"\",\"\",VLOOKUP(A809,[1]Hoja1!$B$2:$U$4999,9,FALSE)),0)","v":""},{"$f":"IFERROR(IF(A809=\"\",\"\",VLOOKUP(A809,[1]Hoja1!$B$2:$U$4999,2,FALSE)),\" --- NO EXISTE TRABAJADOR --- \")","v":""},null,null,null,null,null,"","","",{"$f":"IFERROR(IF(A809=\"\",\"\",VLOOKUP(A809,[1]Hoja1!$B$2:$U$4999,18,FALSE)),0)","v":""},{"$f":"IFERROR(IF(A809=\"\",\"\",VLOOKUP(A809,[1]Hoja1!$B$2:$U$4999,19,FALSE)),0)","v":""},"",null,{"$f":"IFERROR(IF(O809=\"\",\"\",VLOOKUP(O809,JORNADA!$A$19:$B$20,2,FALSE)),\"\")","v":""},{"$f":"IFERROR(IF(A809=\"\",\"\",VLOOKUP(A809,[1]Hoja1!$B$2:$U$4999,3,FALSE)),0)","v":""},null,"","",{"$f":"IFERROR(IF(A809=\"\",\"\",VLOOKUP(A809,[1]Hoja1!$B$2:$U$4999,10,FALSE)),0)","v":""},{"$f":"IFERROR(IF(Q809=\"\",\"\",VLOOKUP(Q809,[1]Hoja1!$D$2:$AF$4999,29,FALSE)),\"NO EXISTE CUENTA\")","v":""},null,null,""]
[null,{"$f":"IFERROR(IF(A810=\"\",\"\",VLOOKUP(A810,[1]Hoja1!$B$2:$U$4999,9,FALSE)),0)","v":""},{"$f":"IFERROR(IF(A810=\"\",\"\",VLOOKUP(A810,[1]Hoja1!$B$2:$U$4999,2,FALSE)),\" --- NO EXISTE TRABAJADOR --- \")","v":""},null,null,null,null,null,"","","",{"$f":"IFERROR(IF(A810=\"\",\"\",VLOOKUP(A810,[1]Hoja1!$B$2:$U$4999,18,FALSE)),0)","v":""},{"$f":"IFERROR(IF(A810=\"\",\"\",VLOOKUP(A810,[1]Hoja1!$B$2:$U$4999,19,FALSE)),0)","v":""},"",null,{"$f":"IFERROR(IF(O810=\"\",\"\",VLOOKUP(O810,JORNADA!$A$19:$B$20,2,FALSE)),\"\")","v":""},{"$f":"IFERROR(IF(A810=\"\",\"\",VLOOKUP(A810,[1]Hoja1!$B$2:$U$4999,3,FALSE)),0)","v":""},null,"","",{"$f":"IFERROR(IF(A810=\"\",\"\",VLOOKUP(A810,[1]Hoja1!$B$2:$U$4999,10,FALSE)),0)","v":""},{"$f":"IFERROR(IF(Q810=\"\",\"\",VLOOKUP(Q810,[1]Hoja1!$D$2:$AF$4999,29,FALSE)),\"NO EXISTE CUENTA\")","v":""},null,null,""]
[null,{"$f":"IFERROR(IF(A811=\"\",\"\",VLOOKUP(A811,[1]Hoja1!$B$2:$U$4999,9,FALSE)),0)","v":""},{"$f":"IFERROR(IF(A811=\"\",\"\",VLOOKUP(A811,[1]Hoja1!$B$2:$U$4999,2,FALSE)),\" --- NO EXISTE TRABAJADOR --- \")","v":""},null,null,null,null,null,"","","",{"$f":"IFERROR(IF(A811=\"\",\"\",VLOOKUP(A811,[1]Hoja1!$B$2:$U$4999,18,FALSE)),0)","v":""},{"$f":"IFERROR(IF(A811=\"\",\"\",VLOOKUP(A811,[1]Hoja1!$B$2:$U$4999,19,FALSE)),0)","v":""},"",null,{"$f":"IFERROR(IF(O811=\"\",\"\",VLOOKUP(O811,JORNADA!$A$19:$B$20,2,FALSE)),\"\")","v":""},{"$f":"IFERROR(IF(A811=\"\",\"\",VLOOKUP(A811,[1]Hoja1!$B$2:$U$4999,3,FALSE)),0)","v":""},null,"","",{"$f":"IFERROR(IF(A811=\"\",\"\",VLOOKUP(A811,[1]Hoja1!$B$2:$U$4999,10,FALSE)),0)","v":""},{"$f":"IFERROR(IF(Q811=\"\",\"\",VLOOKUP(Q811,[1]Hoja1!$D$2:$AF$4999,29,FALSE)),\"NO EXISTE CUENTA\")","v":""},null,null,""]
[null,{"$f":"IFERROR(IF(A812=\"\",\"\",VLOOKUP(A812,[1]Hoja1!$B$2:$U$4999,9,FALSE)),0)","v":""},{"$f":"IFERROR(IF(A812=\"\",\"\",VLOOKUP(A812,[1]Hoja1!$B$2:$U$4999,2,FALSE)),\" --- NO EXISTE TRABAJADOR --- \")","v":""},null,null,null,null,null,"","","",{"$f":"IFERROR(IF(A812=\"\",\"\",VLOOKUP(A812,[1]Hoja1!$B$2:$U$4999,18,FALSE)),0)","v":""},{"$f":"IFERROR(IF(A812=\"\",\"\",VLOOKUP(A812,[1]Hoja1!$B$2:$U$4999,19,FALSE)),0)","v":""},"",null,{"$f":"IFERROR(IF(O812=\"\",\"\",VLOOKUP(O812,JORNADA!$A$19:$B$20,2,FALSE)),\"\")","v":""},{"$f":"IFERROR(IF(A812=\"\",\"\",VLOOKUP(A812,[1]Hoja1!$B$2:$U$4999,3,FALSE)),0)","v":""},null,"","",{"$f":"IFERROR(IF(A812=\"\",\"\",VLOOKUP(A812,[1]Hoja1!$B$2:$U$4999,10,FALSE)),0)","v":""},{"$f":"IFERROR(IF(Q812=\"\",\"\",VLOOKUP(Q812,[1]Hoja1!$D$2:$AF$4999,29,FALSE)),\"NO EXISTE CUENTA\")","v":""},null,null,""]
[null,{"$f":"IFERROR(IF(A813=\"\",\"\",VLOOKUP(A813,[1]Hoja1!$B$2:$U$4999,9,FALSE)),0)","v":""},{"$f":"IFERROR(IF(A813=\"\",\"\",VLOOKUP(A813,[1]Hoja1!$B$2:$U$4999,2,FALSE)),\" --- NO EXISTE TRABAJADOR --- \")","v":""},null,null,null,null,null,"","","",{"$f":"IFERROR(IF(A813=\"\",\"\",VLOOKUP(A813,[1]Hoja1!$B$2:$U$4999,18,FALSE)),0)","v":""},{"$f":"IFERROR(IF(A813=\"\",\"\",VLOOKUP(A813,[1]Hoja1!$B$2:$U$4999,19,FALSE)),0)","v":""},"",null,{"$f":"IFERROR(IF(O813=\"\",\"\",VLOOKUP(O813,JORNADA!$A$19:$B$20,2,FALSE)),\"\")","v":""},{"$f":"IFERROR(IF(A813=\"\",\"\",VLOOKUP(A813,[1]Hoja1!$B$2:$U$4999,3,FALSE)),0)","v":""},null,"","",{"$f":"IFERROR(IF(A813=\"\",\"\",VLOOKUP(A813,[1]Hoja1!$B$2:$U$4999,10,FALSE)),0)","v":""},{"$f":"IFERROR(IF(Q813=\"\",\"\",VLOOKUP(Q813,[1]Hoja1!$D$2:$AF$4999,29,FALSE)),\"NO EXISTE CUENTA\")","v":""},null,null,""]
[null,{"$f":"IFERROR(IF(A814=\"\",\"\",VLOOKUP(A814,[1]Hoja1!$B$2:$U$4999,9,FALSE)),0)","v":""},{"$f":"IFERROR(IF(A814=\"\",\"\",VLOOKUP(A814,[1]Hoja1!$B$2:$U$4999,2,FALSE)),\" --- NO EXISTE TRABAJADOR --- \")","v":""},null,null,null,null,null,"","","",{"$f":"IFERROR(IF(A814=\"\",\"\",VLOOKUP(A814,[1]Hoja1!$B$2:$U$4999,18,FALSE)),0)","v":""},{"$f":"IFERROR(IF(A814=\"\",\"\",VLOOKUP(A814,[1]Hoja1!$B$2:$U$4999,19,FALSE)),0)","v":""},"",null,{"$f":"IFERROR(IF(O814=\"\",\"\",VLOOKUP(O814,JORNADA!$A$19:$B$20,2,FALSE)),\"\")","v":""},{"$f":"IFERROR(IF(A814=\"\",\"\",VLOOKUP(A814,[1]Hoja1!$B$2:$U$4999,3,FALSE)),0)","v":""},null,"","",{"$f":"IFERROR(IF(A814=\"\",\"\",VLOOKUP(A814,[1]Hoja1!$B$2:$U$4999,10,FALSE)),0)","v":""},{"$f":"IFERROR(IF(Q814=\"\",\"\",VLOOKUP(Q814,[1]Hoja1!$D$2:$AF$4999,29,FALSE)),\"NO EXISTE CUENTA\")","v":""},null,null,""]
[null,{"$f":"IFERROR(IF(A815=\"\",\"\",VLOOKUP(A815,[1]Hoja1!$B$2:$U$4999,9,FALSE)),0)","v":""},{"$f":"IFERROR(IF(A815=\"\",\"\",VLOOKUP(A815,[1]Hoja1!$B$2:$U$4999,2,FALSE)),\" --- NO EXISTE TRABAJADOR --- \")","v":""},null,null,null,null,null,"","","",{"$f":"IFERROR(IF(A815=\"\",\"\",VLOOKUP(A815,[1]Hoja1!$B$2:$U$4999,18,FALSE)),0)","v":""},{"$f":"IFERROR(IF(A815=\"\",\"\",VLOOKUP(A815,[1]Hoja1!$B$2:$U$4999,19,FALSE)),0)","v":""},"",null,{"$f":"IFERROR(IF(O815=\"\",\"\",VLOOKUP(O815,JORNADA!$A$19:$B$20,2,FALSE)),\"\")","v":""},{"$f":"IFERROR(IF(A815=\"\",\"\",VLOOKUP(A815,[1]Hoja1!$B$2:$U$4999,3,FALSE)),0)","v":""},null,"","",{"$f":"IFERROR(IF(A815=\"\",\"\",VLOOKUP(A815,[1]Hoja1!$B$2:$U$4999,10,FALSE)),0)","v":""},{"$f":"IFERROR(IF(Q815=\"\",\"\",VLOOKUP(Q815,[1]Hoja1!$D$2:$AF$4999,29,FALSE)),\"NO EXISTE CUENTA\")","v":""},null,null,""]
[null,{"$f":"IFERROR(IF(A816=\"\",\"\",VLOOKUP(A816,[1]Hoja1!$B$2:$U$4999,9,FALSE)),0)","v":""},{"$f":"IFERROR(IF(A816=\"\",\"\",VLOOKUP(A816,[1]Hoja1!$B$2:$U$4999,2,FALSE)),\" --- NO EXISTE TRABAJADOR --- \")","v":""},null,null,null,null,null,"","","",{"$f":"IFERROR(IF(A816=\"\",\"\",VLOOKUP(A816,[1]Hoja1!$B$2:$U$4999,18,FALSE)),0)","v":""},{"$f":"IFERROR(IF(A816=\"\",\"\",VLOOKUP(A816,[1]Hoja1!$B$2:$U$4999,19,FALSE)),0)","v":""},"",null,{"$f":"IFERROR(IF(O816=\"\",\"\",VLOOKUP(O816,JORNADA!$A$19:$B$20,2,FALSE)),\"\")","v":""},{"$f":"IFERROR(IF(A816=\"\",\"\",VLOOKUP(A816,[1]Hoja1!$B$2:$U$4999,3,FALSE)),0)","v":""},null,"","",{"$f":"IFERROR(IF(A816=\"\",\"\",VLOOKUP(A816,[1]Hoja1!$B$2:$U$4999,10,FALSE)),0)","v":""},{"$f":"IFERROR(IF(Q816=\"\",\"\",VLOOKUP(Q816,[1]Hoja1!$D$2:$AF$4999,29,FALSE)),\"NO EXISTE CUENTA\")","v":""},null,null,""]
[null,{"$f":"IFERROR(IF(A817=\"\",\"\",VLOOKUP(A817,[1]Hoja1!$B$2:$U$4999,9,FALSE)),0)","v":""},{"$f":"IFERROR(IF(A817=\"\",\"\",VLOOKUP(A817,[1]Hoja1!$B$2:$U$4999,2,FALSE)),\" --- NO EXISTE TRABAJADOR --- \")","v":""},null,null,null,null,null,"","","",{"$f":"IFERROR(IF(A817=\"\",\"\",VLOOKUP(A817,[1]Hoja1!$B$2:$U$4999,18,FALSE)),0)","v":""},{"$f":"IFERROR(IF(A817=\"\",\"\",VLOOKUP(A817,[1]Hoja1!$B$2:$U$4999,19,FALSE)),0)","v":""},"",null,{"$f":"IFERROR(IF(O817=\"\",\"\",VLOOKUP(O817,JORNADA!$A$19:$B$20,2,FALSE)),\"\")","v":""},{"$f":"IFERROR(IF(A817=\"\",\"\",VLOOKUP(A817,[1]Hoja1!$B$2:$U$4999,3,FALSE)),0)","v":""},null,"","",{"$f":"IFERROR(IF(A817=\"\",\"\",VLOOKUP(A817,[1]Hoja1!$B$2:$U$4999,10,FALSE)),0)","v":""},{"$f":"IFERROR(IF(Q817=\"\",\"\",VLOOKUP(Q817,[1]Hoja1!$D$2:$AF$4999,29,FALSE)),\"NO EXISTE CUENTA\")","v":""},null,null,""]
[null,{"$f":"IFERROR(IF(A818=\"\",\"\",VLOOKUP(A818,[1]Hoja1!$B$2:$U$4999,9,FALSE)),0)","v":""},{"$f":"IFERROR(IF(A818=\"\",\"\",VLOOKUP(A818,[1]Hoja1!$B$2:$U$4999,2,FALSE)),\" --- NO EXISTE TRABAJADOR --- \")","v":""},null,null,null,null,null,"","","",{"$f":"IFERROR(IF(A818=\"\",\"\",VLOOKUP(A818,[1]Hoja1!$B$2:$U$4999,18,FALSE)),0)","v":""},{"$f":"IFERROR(IF(A818=\"\",\"\",VLOOKUP(A818,[1]Hoja1!$B$2:$U$4999,19,FALSE)),0)","v":""},"",null,{"$f":"IFERROR(IF(O818=\"\",\"\",VLOOKUP(O818,JORNADA!$A$19:$B$20,2,FALSE)),\"\")","v":""},{"$f":"IFERROR(IF(A818=\"\",\"\",VLOOKUP(A818,[1]Hoja1!$B$2:$U$4999,3,FALSE)),0)","v":""},null,"","",{"$f":"IFERROR(IF(A818=\"\",\"\",VLOOKUP(A818,[1]Hoja1!$B$2:$U$4999,10,FALSE)),0)","v":""},{"$f":"IFERROR(IF(Q818=\"\",\"\",VLOOKUP(Q818,[1]Hoja1!$D$2:$AF$4999,29,FALSE)),\"NO EXISTE CUENTA\")","v":""},null,null,""]
[null,{"$f":"IFERROR(IF(A819=\"\",\"\",VLOOKUP(A819,[1]Hoja1!$B$2:$U$4999,9,FALSE)),0)","v":""},{"$f":"IFERROR(IF(A819=\"\",\"\",VLOOKUP(A819,[1]Hoja1!$B$2:$U$4999,2,FALSE)),\" --- NO EXISTE TRABAJADOR --- \")","v":""},null,null,null,null,null,"","","",{"$f":"IFERROR(IF(A819=\"\",\"\",VLOOKUP(A819,[1]Hoja1!$B$2:$U$4999,18,FALSE)),0)","v":""},{"$f":"IFERROR(IF(A819=\"\",\"\",VLOOKUP(A819,[1]Hoja1!$B$2:$U$4999,19,FALSE)),0)","v":""},"",null,{"$f":"IFERROR(IF(O819=\"\",\"\",VLOOKUP(O819,JORNADA!$A$19:$B$20,2,FALSE)),\"\")","v":""},{"$f":"IFERROR(IF(A819=\"\",\"\",VLOOKUP(A819,[1]Hoja1!$B$2:$U$4999,3,FALSE)),0)","v":""},null,"","",{"$f":"IFERROR(IF(A819=\"\",\"\",VLOOKUP(A819,[1]Hoja1!$B$2:$U$4999,10,FALSE)),0)","v":""},{"$f":"IFERROR(IF(Q819=\"\",\"\",VLOOKUP(Q819,[1]Hoja1!$D$2:$AF$4999,29,FALSE)),\"NO EXISTE CUENTA\")","v":""},null,null,""]
[null,{"$f":"IFERROR(IF(A820=\"\",\"\",VLOOKUP(A820,[1]Hoja1!$B$2:$U$4999,9,FALSE)),0)","v":""},{"$f":"IFERROR(IF(A820=\"\",\"\",VLOOKUP(A820,[1]Hoja1!$B$2:$U$4999,2,FALSE)),\" --- NO EXISTE TRABAJADOR --- \")","v":""},null,null,null,null,null,"","","",{"$f":"IFERROR(IF(A820=\"\",\"\",VLOOKUP(A820,[1]Hoja1!$B$2:$U$4999,18,FALSE)),0)","v":""},{"$f":"IFERROR(IF(A820=\"\",\"\",VLOOKUP(A820,[1]Hoja1!$B$2:$U$4999,19,FALSE)),0)","v":""},"",null,{"$f":"IFERROR(IF(O820=\"\",\"\",VLOOKUP(O820,JORNADA!$A$19:$B$20,2,FALSE)),\"\")","v":""},{"$f":"IFERROR(IF(A820=\"\",\"\",VLOOKUP(A820,[1]Hoja1!$B$2:$U$4999,3,FALSE)),0)","v":""},null,"","",{"$f":"IFERROR(IF(A820=\"\",\"\",VLOOKUP(A820,[1]Hoja1!$B$2:$U$4999,10,FALSE)),0)","v":""},{"$f":"IFERROR(IF(Q820=\"\",\"\",VLOOKUP(Q820,[1]Hoja1!$D$2:$AF$4999,29,FALSE)),\"NO EXISTE CUENTA\")","v":""},null,null,""]
[null,{"$f":"IFERROR(IF(A821=\"\",\"\",VLOOKUP(A821,[1]Hoja1!$B$2:$U$4999,9,FALSE)),0)","v":""},{"$f":"IFERROR(IF(A821=\"\",\"\",VLOOKUP(A821,[1]Hoja1!$B$2:$U$4999,2,FALSE)),\" --- NO EXISTE TRABAJADOR --- \")","v":""},null,null,null,null,null,"","","",{"$f":"IFERROR(IF(A821=\"\",\"\",VLOOKUP(A821,[1]Hoja1!$B$2:$U$4999,18,FALSE)),0)","v":""},{"$f":"IFERROR(IF(A821=\"\",\"\",VLOOKUP(A821,[1]Hoja1!$B$2:$U$4999,19,FALSE)),0)","v":""},"",null,{"$f":"IFERROR(IF(O821=\"\",\"\",VLOOKUP(O821,JORNADA!$A$19:$B$20,2,FALSE)),\"\")","v":""},{"$f":"IFERROR(IF(A821=\"\",\"\",VLOOKUP(A821,[1]Hoja1!$B$2:$U$4999,3,FALSE)),0)","v":""},null,"","",{"$f":"IFERROR(IF(A821=\"\",\"\",VLOOKUP(A821,[1]Hoja1!$B$2:$U$4999,10,FALSE)),0)","v":""},{"$f":"IFERROR(IF(Q821=\"\",\"\",VLOOKUP(Q821,[1]Hoja1!$D$2:$AF$4999,29,FALSE)),\"NO EXISTE CUENTA\")","v":""},null,null,""]
[null,{"$f":"IFERROR(IF(A822=\"\",\"\",VLOOKUP(A822,[1]Hoja1!$B$2:$U$4999,9,FALSE)),0)","v":""},{"$f":"IFERROR(IF(A822=\"\",\"\",VLOOKUP(A822,[1]Hoja1!$B$2:$U$4999,2,FALSE)),\" --- NO EXISTE TRABAJADOR --- \")","v":""},null,null,null,null,null,"","","",{"$f":"IFERROR(IF(A822=\"\",\"\",VLOOKUP(A822,[1]Hoja1!$B$2:$U$4999,18,FALSE)),0)","v":""},{"$f":"IFERROR(IF(A822=\"\",\"\",VLOOKUP(A822,[1]Hoja1!$B$2:$U$4999,19,FALSE)),0)","v":""},"",null,{"$f":"IFERROR(IF(O822=\"\",\"\",VLOOKUP(O822,JORNADA!$A$19:$B$20,2,FALSE)),\"\")","v":""},{"$f":"IFERROR(IF(A822=\"\",\"\",VLOOKUP(A822,[1]Hoja1!$B$2:$U$4999,3,FALSE)),0)","v":""},null,"","",{"$f":"IFERROR(IF(A822=\"\",\"\",VLOOKUP(A822,[1]Hoja1!$B$2:$U$4999,10,FALSE)),0)","v":""},{"$f":"IFERROR(IF(Q822=\"\",\"\",VLOOKUP(Q822,[1]Hoja1!$D$2:$AF$4999,29,FALSE)),\"NO EXISTE CUENTA\")","v":""},null,null,""]
[null,{"$f":"IFERROR(IF(A823=\"\",\"\",VLOOKUP(A823,[1]Hoja1!$B$2:$U$4999,9,FALSE)),0)","v":""},{"$f":"IFERROR(IF(A823=\"\",\"\",VLOOKUP(A823,[1]Hoja1!$B$2:$U$4999,2,FALSE)),\" --- NO EXISTE TRABAJADOR --- \")","v":""},null,null,null,null,null,"","","",{"$f":"IFERROR(IF(A823=\"\",\"\",VLOOKUP(A823,[1]Hoja1!$B$2:$U$4999,18,FALSE)),0)","v":""},{"$f":"IFERROR(IF(A823=\"\",\"\",VLOOKUP(A823,[1]Hoja1!$B$2:$U$4999,19,FALSE)),0)","v":""},"",null,{"$f":"IFERROR(IF(O823=\"\",\"\",VLOOKUP(O823,JORNADA!$A$19:$B$20,2,FALSE)),\"\")","v":""},{"$f":"IFERROR(IF(A823=\"\",\"\",VLOOKUP(A823,[1]Hoja1!$B$2:$U$4999,3,FALSE)),0)","v":""},null,"","",{"$f":"IFERROR(IF(A823=\"\",\"\",VLOOKUP(A823,[1]Hoja1!$B$2:$U$4999,10,FALSE)),0)","v":""},{"$f":"IFERROR(IF(Q823=\"\",\"\",VLOOKUP(Q823,[1]Hoja1!$D$2:$AF$4999,29,FALSE)),\"NO EXISTE CUENTA\")","v":""},null,null,""]
[null,{"$f":"IFERROR(IF(A824=\"\",\"\",VLOOKUP(A824,[1]Hoja1!$B$2:$U$4999,9,FALSE)),0)","v":""},{"$f":"IFERROR(IF(A824=\"\",\"\",VLOOKUP(A824,[1]Hoja1!$B$2:$U$4999,2,FALSE)),\" --- NO EXISTE TRABAJADOR --- \")","v":""},null,null,null,null,null,"","","",{"$f":"IFERROR(IF(A824=\"\",\"\",VLOOKUP(A824,[1]Hoja1!$B$2:$U$4999,18,FALSE)),0)","v":""},{"$f":"IFERROR(IF(A824=\"\",\"\",VLOOKUP(A824,[1]Hoja1!$B$2:$U$4999,19,FALSE)),0)","v":""},"",null,{"$f":"IFERROR(IF(O824=\"\",\"\",VLOOKUP(O824,JORNADA!$A$19:$B$20,2,FALSE)),\"\")","v":""},{"$f":"IFERROR(IF(A824=\"\",\"\",VLOOKUP(A824,[1]Hoja1!$B$2:$U$4999,3,FALSE)),0)","v":""},null,"","",{"$f":"IFERROR(IF(A824=\"\",\"\",VLOOKUP(A824,[1]Hoja1!$B$2:$U$4999,10,FALSE)),0)","v":""},{"$f":"IFERROR(IF(Q824=\"\",\"\",VLOOKUP(Q824,[1]Hoja1!$D$2:$AF$4999,29,FALSE)),\"NO EXISTE CUENTA\")","v":""},null,null,""]
[null,{"$f":"IFERROR(IF(A825=\"\",\"\",VLOOKUP(A825,[1]Hoja1!$B$2:$U$4999,9,FALSE)),0)","v":""},{"$f":"IFERROR(IF(A825=\"\",\"\",VLOOKUP(A825,[1]Hoja1!$B$2:$U$4999,2,FALSE)),\" --- NO EXISTE TRABAJADOR --- \")","v":""},null,null,null,null,null,"","","",{"$f":"IFERROR(IF(A825=\"\",\"\",VLOOKUP(A825,[1]Hoja1!$B$2:$U$4999,18,FALSE)),0)","v":""},{"$f":"IFERROR(IF(A825=\"\",\"\",VLOOKUP(A825,[1]Hoja1!$B$2:$U$4999,19,FALSE)),0)","v":""},"",null,{"$f":"IFERROR(IF(O825=\"\",\"\",VLOOKUP(O825,JORNADA!$A$19:$B$20,2,FALSE)),\"\")","v":""},{"$f":"IFERROR(IF(A825=\"\",\"\",VLOOKUP(A825,[1]Hoja1!$B$2:$U$4999,3,FALSE)),0)","v":""},null,"","",{"$f":"IFERROR(IF(A825=\"\",\"\",VLOOKUP(A825,[1]Hoja1!$B$2:$U$4999,10,FALSE)),0)","v":""},{"$f":"IFERROR(IF(Q825=\"\",\"\",VLOOKUP(Q825,[1]Hoja1!$D$2:$AF$4999,29,FALSE)),\"NO EXISTE CUENTA\")","v":""},null,null,""]
[null,{"$f":"IFERROR(IF(A826=\"\",\"\",VLOOKUP(A826,[1]Hoja1!$B$2:$U$4999,9,FALSE)),0)","v":""},{"$f":"IFERROR(IF(A826=\"\",\"\",VLOOKUP(A826,[1]Hoja1!$B$2:$U$4999,2,FALSE)),\" --- NO EXISTE TRABAJADOR --- \")","v":""},null,null,null,null,null,"","","",{"$f":"IFERROR(IF(A826=\"\",\"\",VLOOKUP(A826,[1]Hoja1!$B$2:$U$4999,18,FALSE)),0)","v":""},{"$f":"IFERROR(IF(A826=\"\",\"\",VLOOKUP(A826,[1]Hoja1!$B$2:$U$4999,19,FALSE)),0)","v":""},"",null,{"$f":"IFERROR(IF(O826=\"\",\"\",VLOOKUP(O826,JORNADA!$A$19:$B$20,2,FALSE)),\"\")","v":""},{"$f":"IFERROR(IF(A826=\"\",\"\",VLOOKUP(A826,[1]Hoja1!$B$2:$U$4999,3,FALSE)),0)","v":""},null,"","",{"$f":"IFERROR(IF(A826=\"\",\"\",VLOOKUP(A826,[1]Hoja1!$B$2:$U$4999,10,FALSE)),0)","v":""},{"$f":"IFERROR(IF(Q826=\"\",\"\",VLOOKUP(Q826,[1]Hoja1!$D$2:$AF$4999,29,FALSE)),\"NO EXISTE CUENTA\")","v":""},null,null,""]
[null,{"$f":"IFERROR(IF(A827=\"\",\"\",VLOOKUP(A827,[1]Hoja1!$B$2:$U$4999,9,FALSE)),0)","v":""},{"$f":"IFERROR(IF(A827=\"\",\"\",VLOOKUP(A827,[1]Hoja1!$B$2:$U$4999,2,FALSE)),\" --- NO EXISTE TRABAJADOR --- \")","v":""},null,null,null,null,null,"","","",{"$f":"IFERROR(IF(A827=\"\",\"\",VLOOKUP(A827,[1]Hoja1!$B$2:$U$4999,18,FALSE)),0)","v":""},{"$f":"IFERROR(IF(A827=\"\",\"\",VLOOKUP(A827,[1]Hoja1!$B$2:$U$4999,19,FALSE)),0)","v":""},"",null,{"$f":"IFERROR(IF(O827=\"\",\"\",VLOOKUP(O827,JORNADA!$A$19:$B$20,2,FALSE)),\"\")","v":""},{"$f":"IFERROR(IF(A827=\"\",\"\",VLOOKUP(A827,[1]Hoja1!$B$2:$U$4999,3,FALSE)),0)","v":""},null,"","",{"$f":"IFERROR(IF(A827=\"\",\"\",VLOOKUP(A827,[1]Hoja1!$B$2:$U$4999,10,FALSE)),0)","v":""},{"$f":"IFERROR(IF(Q827=\"\",\"\",VLOOKUP(Q827,[1]Hoja1!$D$2:$AF$4999,29,FALSE)),\"NO EXISTE CUENTA\")","v":""},null,null,""]
[null,{"$f":"IFERROR(IF(A828=\"\",\"\",VLOOKUP(A828,[1]Hoja1!$B$2:$U$4999,9,FALSE)),0)","v":""},{"$f":"IFERROR(IF(A828=\"\",\"\",VLOOKUP(A828,[1]Hoja1!$B$2:$U$4999,2,FALSE)),\" --- NO EXISTE TRABAJADOR --- \")","v":""},null,null,null,null,null,"","","",{"$f":"IFERROR(IF(A828=\"\",\"\",VLOOKUP(A828,[1]Hoja1!$B$2:$U$4999,18,FALSE)),0)","v":""},{"$f":"IFERROR(IF(A828=\"\",\"\",VLOOKUP(A828,[1]Hoja1!$B$2:$U$4999,19,FALSE)),0)","v":""},"",null,{"$f":"IFERROR(IF(O828=\"\",\"\",VLOOKUP(O828,JORNADA!$A$19:$B$20,2,FALSE)),\"\")","v":""},{"$f":"IFERROR(IF(A828=\"\",\"\",VLOOKUP(A828,[1]Hoja1!$B$2:$U$4999,3,FALSE)),0)","v":""},null,"","",{"$f":"IFERROR(IF(A828=\"\",\"\",VLOOKUP(A828,[1]Hoja1!$B$2:$U$4999,10,FALSE)),0)","v":""},{"$f":"IFERROR(IF(Q828=\"\",\"\",VLOOKUP(Q828,[1]Hoja1!$D$2:$AF$4999,29,FALSE)),\"NO EXISTE CUENTA\")","v":""},null,null,""]
[null,{"$f":"IFERROR(IF(A829=\"\",\"\",VLOOKUP(A829,[1]Hoja1!$B$2:$U$4999,9,FALSE)),0)","v":""},{"$f":"IFERROR(IF(A829=\"\",\"\",VLOOKUP(A829,[1]Hoja1!$B$2:$U$4999,2,FALSE)),\" --- NO EXISTE TRABAJADOR --- \")","v":""},null,null,null,null,null,"","","",{"$f":"IFERROR(IF(A829=\"\",\"\",VLOOKUP(A829,[1]Hoja1!$B$2:$U$4999,18,FALSE)),0)","v":""},{"$f":"IFERROR(IF(A829=\"\",\"\",VLOOKUP(A829,[1]Hoja1!$B$2:$U$4999,19,FALSE)),0)","v":""},"",null,{"$f":"IFERROR(IF(O829=\"\",\"\",VLOOKUP(O829,JORNADA!$A$19:$B$20,2,FALSE)),\"\")","v":""},{"$f":"IFERROR(IF(A829=\"\",\"\",VLOOKUP(A829,[1]Hoja1!$B$2:$U$4999,3,FALSE)),0)","v":""},null,"","",{"$f":"IFERROR(IF(A829=\"\",\"\",VLOOKUP(A829,[1]Hoja1!$B$2:$U$4999,10,FALSE)),0)","v":""},{"$f":"IFERROR(IF(Q829=\"\",\"\",VLOOKUP(Q829,[1]Hoja1!$D$2:$AF$4999,29,FALSE)),\"NO EXISTE CUENTA\")","v":""},null,null,""]
[null,{"$f":"IFERROR(IF(A830=\"\",\"\",VLOOKUP(A830,[1]Hoja1!$B$2:$U$4999,9,FALSE)),0)","v":""},{"$f":"IFERROR(IF(A830=\"\",\"\",VLOOKUP(A830,[1]Hoja1!$B$2:$U$4999,2,FALSE)),\" --- NO EXISTE TRABAJADOR --- \")","v":""},null,null,null,null,null,"","","",{"$f":"IFERROR(IF(A830=\"\",\"\",VLOOKUP(A830,[1]Hoja1!$B$2:$U$4999,18,FALSE)),0)","v":""},{"$f":"IFERROR(IF(A830=\"\",\"\",VLOOKUP(A830,[1]Hoja1!$B$2:$U$4999,19,FALSE)),0)","v":""},"",null,{"$f":"IFERROR(IF(O830=\"\",\"\",VLOOKUP(O830,JORNADA!$A$19:$B$20,2,FALSE)),\"\")","v":""},{"$f":"IFERROR(IF(A830=\"\",\"\",VLOOKUP(A830,[1]Hoja1!$B$2:$U$4999,3,FALSE)),0)","v":""},null,"","",{"$f":"IFERROR(IF(A830=\"\",\"\",VLOOKUP(A830,[1]Hoja1!$B$2:$U$4999,10,FALSE)),0)","v":""},{"$f":"IFERROR(IF(Q830=\"\",\"\",VLOOKUP(Q830,[1]Hoja1!$D$2:$AF$4999,29,FALSE)),\"NO EXISTE CUENTA\")","v":""},null,null,""]
[null,{"$f":"IFERROR(IF(A831=\"\",\"\",VLOOKUP(A831,[1]Hoja1!$B$2:$U$4999,9,FALSE)),0)","v":""},{"$f":"IFERROR(IF(A831=\"\",\"\",VLOOKUP(A831,[1]Hoja1!$B$2:$U$4999,2,FALSE)),\" --- NO EXISTE TRABAJADOR --- \")","v":""},null,null,null,null,null,"","","",{"$f":"IFERROR(IF(A831=\"\",\"\",VLOOKUP(A831,[1]Hoja1!$B$2:$U$4999,18,FALSE)),0)","v":""},{"$f":"IFERROR(IF(A831=\"\",\"\",VLOOKUP(A831,[1]Hoja1!$B$2:$U$4999,19,FALSE)),0)","v":""},"",null,{"$f":"IFERROR(IF(O831=\"\",\"\",VLOOKUP(O831,JORNADA!$A$19:$B$20,2,FALSE)),\"\")","v":""},{"$f":"IFERROR(IF(A831=\"\",\"\",VLOOKUP(A831,[1]Hoja1!$B$2:$U$4999,3,FALSE)),0)","v":""},null,"","",{"$f":"IFERROR(IF(A831=\"\",\"\",VLOOKUP(A831,[1]Hoja1!$B$2:$U$4999,10,FALSE)),0)","v":""},{"$f":"IFERROR(IF(Q831=\"\",\"\",VLOOKUP(Q831,[1]Hoja1!$D$2:$AF$4999,29,FALSE)),\"NO EXISTE CUENTA\")","v":""},null,null,""]
[null,{"$f":"IFERROR(IF(A832=\"\",\"\",VLOOKUP(A832,[1]Hoja1!$B$2:$U$4999,9,FALSE)),0)","v":""},{"$f":"IFERROR(IF(A832=\"\",\"\",VLOOKUP(A832,[1]Hoja1!$B$2:$U$4999,2,FALSE)),\" --- NO EXISTE TRABAJADOR --- \")","v":""},null,null,null,null,null,"","","",{"$f":"IFERROR(IF(A832=\"\",\"\",VLOOKUP(A832,[1]Hoja1!$B$2:$U$4999,18,FALSE)),0)","v":""},{"$f":"IFERROR(IF(A832=\"\",\"\",VLOOKUP(A832,[1]Hoja1!$B$2:$U$4999,19,FALSE)),0)","v":""},"",null,{"$f":"IFERROR(IF(O832=\"\",\"\",VLOOKUP(O832,JORNADA!$A$19:$B$20,2,FALSE)),\"\")","v":""},{"$f":"IFERROR(IF(A832=\"\",\"\",VLOOKUP(A832,[1]Hoja1!$B$2:$U$4999,3,FALSE)),0)","v":""},null,"","",{"$f":"IFERROR(IF(A832=\"\",\"\",VLOOKUP(A832,[1]Hoja1!$B$2:$U$4999,10,FALSE)),0)","v":""},{"$f":"IFERROR(IF(Q832=\"\",\"\",VLOOKUP(Q832,[1]Hoja1!$D$2:$AF$4999,29,FALSE)),\"NO EXISTE CUENTA\")","v":""},null,null,""]
[null,{"$f":"IFERROR(IF(A833=\"\",\"\",VLOOKUP(A833,[1]Hoja1!$B$2:$U$4999,9,FALSE)),0)","v":""},{"$f":"IFERROR(IF(A833=\"\",\"\",VLOOKUP(A833,[1]Hoja1!$B$2:$U$4999,2,FALSE)),\" --- NO EXISTE TRABAJADOR --- \")","v":""},null,null,null,null,null,"","","",{"$f":"IFERROR(IF(A833=\"\",\"\",VLOOKUP(A833,[1]Hoja1!$B$2:$U$4999,18,FALSE)),0)","v":""},{"$f":"IFERROR(IF(A833=\"\",\"\",VLOOKUP(A833,[1]Hoja1!$B$2:$U$4999,19,FALSE)),0)","v":""},"",null,{"$f":"IFERROR(IF(O833=\"\",\"\",VLOOKUP(O833,JORNADA!$A$19:$B$20,2,FALSE)),\"\")","v":""},{"$f":"IFERROR(IF(A833=\"\",\"\",VLOOKUP(A833,[1]Hoja1!$B$2:$U$4999,3,FALSE)),0)","v":""},null,"","",{"$f":"IFERROR(IF(A833=\"\",\"\",VLOOKUP(A833,[1]Hoja1!$B$2:$U$4999,10,FALSE)),0)","v":""},{"$f":"IFERROR(IF(Q833=\"\",\"\",VLOOKUP(Q833,[1]Hoja1!$D$2:$AF$4999,29,FALSE)),\"NO EXISTE CUENTA\")","v":""},null,null,""]
[null,{"$f":"IFERROR(IF(A834=\"\",\"\",VLOOKUP(A834,[1]Hoja1!$B$2:$U$4999,9,FALSE)),0)","v":""},{"$f":"IFERROR(IF(A834=\"\",\"\",VLOOKUP(A834,[1]Hoja1!$B$2:$U$4999,2,FALSE)),\" --- NO EXISTE TRABAJADOR --- \")","v":""},null,null,null,null,null,"","","",{"$f":"IFERROR(IF(A834=\"\",\"\",VLOOKUP(A834,[1]Hoja1!$B$2:$U$4999,18,FALSE)),0)","v":""},{"$f":"IFERROR(IF(A834=\"\",\"\",VLOOKUP(A834,[1]Hoja1!$B$2:$U$4999,19,FALSE)),0)","v":""},"",null,{"$f":"IFERROR(IF(O834=\"\",\"\",VLOOKUP(O834,JORNADA!$A$19:$B$20,2,FALSE)),\"\")","v":""},{"$f":"IFERROR(IF(A834=\"\",\"\",VLOOKUP(A834,[1]Hoja1!$B$2:$U$4999,3,FALSE)),0)","v":""},null,"","",{"$f":"IFERROR(IF(A834=\"\",\"\",VLOOKUP(A834,[1]Hoja1!$B$2:$U$4999,10,FALSE)),0)","v":""},{"$f":"IFERROR(IF(Q834=\"\",\"\",VLOOKUP(Q834,[1]Hoja1!$D$2:$AF$4999,29,FALSE)),\"NO EXISTE CUENTA\")","v":""},null,null,{"$f":"+C834","v":""}]
[null,{"$f":"IFERROR(IF(A835=\"\",\"\",VLOOKUP(A835,[1]Hoja1!$B$2:$U$4999,9,FALSE)),0)","v":""},{"$f":"IFERROR(IF(A835=\"\",\"\",VLOOKUP(A835,[1]Hoja1!$B$2:$U$4999,2,FALSE)),\" --- NO EXISTE TRABAJADOR --- \")","v":""},null,null,null,null,null,{"$f":"IFERROR(IF(G835=\"\",\"\",VLOOKUP(G835,JORNADA,2,FALSE)),0)","v":""},{"$f":"IFERROR(IF(H835=\"\",\"\",VLOOKUP(H835,ACTIVIDAD,2,FALSE)),0)","v":""},{"$f":"CONCATENATE(J835,G835)","v":""},{"$f":"IFERROR(IF(A835=\"\",\"\",VLOOKUP(A835,[1]Hoja1!$B$2:$U$4999,18,FALSE)),0)","v":""},{"$f":"IFERROR(IF(A835=\"\",\"\",VLOOKUP(A835,[1]Hoja1!$B$2:$U$4999,19,FALSE)),0)","v":""},{"$f":"IFERROR(IF(W835=\"\",\"\",VLOOKUP(W835,LICENCIA,2,FALSE)),\"\")","v":""},null,{"$f":"IFERROR(IF(O835=\"\",\"\",VLOOKUP(O835,JORNADA!$A$19:$B$20,2,FALSE)),\"\")","v":""},{"$f":"IFERROR(IF(A835=\"\",\"\",VLOOKUP(A835,[1]Hoja1!$B$2:$U$4999,3,FALSE)),0)","v":""},null,{"$f":"IFERROR(IF(R835=\"\",\"\",VLOOKUP(R835,DNI,2,FALSE)),0)","v":""},{"$f":"IF(D835<>\"\",COUNTA(INDIRECT(\"D2:D\"&ROW()-1)),\"\")","v":""},{"$f":"IFERROR(IF(A835=\"\",\"\",VLOOKUP(A835,[1]Hoja1!$B$2:$U$4999,10,FALSE)),0)","v":""},{"$f":"IFERROR(IF(Q835=\"\",\"\",VLOOKUP(Q835,[1]Hoja1!$D$2:$AF$4999,29,FALSE)),\"NO EXISTE CUENTA\")","v":""},null,null,""]
[null,{"$f":"IFERROR(IF(A836=\"\",\"\",VLOOKUP(A836,[1]Hoja1!$B$2:$U$4999,9,FALSE)),0)","v":""},{"$f":"IFERROR(IF(A836=\"\",\"\",VLOOKUP(A836,[1]Hoja1!$B$2:$U$4999,2,FALSE)),\" --- NO EXISTE TRABAJADOR --- \")","v":""},null,null,null,null,null,"","","",{"$f":"IFERROR(IF(A836=\"\",\"\",VLOOKUP(A836,[1]Hoja1!$B$2:$U$4999,18,FALSE)),0)","v":""},{"$f":"IFERROR(IF(A836=\"\",\"\",VLOOKUP(A836,[1]Hoja1!$B$2:$U$4999,19,FALSE)),0)","v":""},"",null,{"$f":"IFERROR(IF(O836=\"\",\"\",VLOOKUP(O836,JORNADA!$A$19:$B$20,2,FALSE)),\"\")","v":""},{"$f":"IFERROR(IF(A836=\"\",\"\",VLOOKUP(A836,[1]Hoja1!$B$2:$U$4999,3,FALSE)),0)","v":""},null,"","",{"$f":"IFERROR(IF(A836=\"\",\"\",VLOOKUP(A836,[1]Hoja1!$B$2:$U$4999,10,FALSE)),0)","v":""},{"$f":"IFERROR(IF(Q836=\"\",\"\",VLOOKUP(Q836,[1]Hoja1!$D$2:$AF$4999,29,FALSE)),\"NO EXISTE CUENTA\")","v":""},null,null,""]
[null,{"$f":"IFERROR(IF(A837=\"\",\"\",VLOOKUP(A837,[1]Hoja1!$B$2:$U$4999,9,FALSE)),0)","v":""},{"$f":"IFERROR(IF(A837=\"\",\"\",VLOOKUP(A837,[1]Hoja1!$B$2:$U$4999,2,FALSE)),\" --- NO EXISTE TRABAJADOR --- \")","v":""},null,null,null,null,null,"","","",{"$f":"IFERROR(IF(A837=\"\",\"\",VLOOKUP(A837,[1]Hoja1!$B$2:$U$4999,18,FALSE)),0)","v":""},{"$f":"IFERROR(IF(A837=\"\",\"\",VLOOKUP(A837,[1]Hoja1!$B$2:$U$4999,19,FALSE)),0)","v":""},"",null,{"$f":"IFERROR(IF(O837=\"\",\"\",VLOOKUP(O837,JORNADA!$A$19:$B$20,2,FALSE)),\"\")","v":""},{"$f":"IFERROR(IF(A837=\"\",\"\",VLOOKUP(A837,[1]Hoja1!$B$2:$U$4999,3,FALSE)),0)","v":""},null,"","",{"$f":"IFERROR(IF(A837=\"\",\"\",VLOOKUP(A837,[1]Hoja1!$B$2:$U$4999,10,FALSE)),0)","v":""},{"$f":"IFERROR(IF(Q837=\"\",\"\",VLOOKUP(Q837,[1]Hoja1!$D$2:$AF$4999,29,FALSE)),\"NO EXISTE CUENTA\")","v":""},null,null,""]
[null,{"$f":"IFERROR(IF(A838=\"\",\"\",VLOOKUP(A838,[1]Hoja1!$B$2:$U$4999,9,FALSE)),0)","v":""},{"$f":"IFERROR(IF(A838=\"\",\"\",VLOOKUP(A838,[1]Hoja1!$B$2:$U$4999,2,FALSE)),\" --- NO EXISTE TRABAJADOR --- \")","v":""},null,null,null,null,null,"","","",{"$f":"IFERROR(IF(A838=\"\",\"\",VLOOKUP(A838,[1]Hoja1!$B$2:$U$4999,18,FALSE)),0)","v":""},{"$f":"IFERROR(IF(A838=\"\",\"\",VLOOKUP(A838,[1]Hoja1!$B$2:$U$4999,19,FALSE)),0)","v":""},"",null,{"$f":"IFERROR(IF(O838=\"\",\"\",VLOOKUP(O838,JORNADA!$A$19:$B$20,2,FALSE)),\"\")","v":""},{"$f":"IFERROR(IF(A838=\"\",\"\",VLOOKUP(A838,[1]Hoja1!$B$2:$U$4999,3,FALSE)),0)","v":""},null,"","",{"$f":"IFERROR(IF(A838=\"\",\"\",VLOOKUP(A838,[1]Hoja1!$B$2:$U$4999,10,FALSE)),0)","v":""},{"$f":"IFERROR(IF(Q838=\"\",\"\",VLOOKUP(Q838,[1]Hoja1!$D$2:$AF$4999,29,FALSE)),\"NO EXISTE CUENTA\")","v":""},null,null,""]
[null,{"$f":"IFERROR(IF(A839=\"\",\"\",VLOOKUP(A839,[1]Hoja1!$B$2:$U$4999,9,FALSE)),0)","v":""},{"$f":"IFERROR(IF(A839=\"\",\"\",VLOOKUP(A839,[1]Hoja1!$B$2:$U$4999,2,FALSE)),\" --- NO EXISTE TRABAJADOR --- \")","v":""},null,null,null,null,null,"","","",{"$f":"IFERROR(IF(A839=\"\",\"\",VLOOKUP(A839,[1]Hoja1!$B$2:$U$4999,18,FALSE)),0)","v":""},{"$f":"IFERROR(IF(A839=\"\",\"\",VLOOKUP(A839,[1]Hoja1!$B$2:$U$4999,19,FALSE)),0)","v":""},"",null,{"$f":"IFERROR(IF(O839=\"\",\"\",VLOOKUP(O839,JORNADA!$A$19:$B$20,2,FALSE)),\"\")","v":""},{"$f":"IFERROR(IF(A839=\"\",\"\",VLOOKUP(A839,[1]Hoja1!$B$2:$U$4999,3,FALSE)),0)","v":""},null,"","",{"$f":"IFERROR(IF(A839=\"\",\"\",VLOOKUP(A839,[1]Hoja1!$B$2:$U$4999,10,FALSE)),0)","v":""},{"$f":"IFERROR(IF(Q839=\"\",\"\",VLOOKUP(Q839,[1]Hoja1!$D$2:$AF$4999,29,FALSE)),\"NO EXISTE CUENTA\")","v":""},null,null,""]
[null,{"$f":"IFERROR(IF(A840=\"\",\"\",VLOOKUP(A840,[1]Hoja1!$B$2:$U$4999,9,FALSE)),0)","v":""},{"$f":"IFERROR(IF(A840=\"\",\"\",VLOOKUP(A840,[1]Hoja1!$B$2:$U$4999,2,FALSE)),\" --- NO EXISTE TRABAJADOR --- \")","v":""},null,null,null,null,null,"","","",{"$f":"IFERROR(IF(A840=\"\",\"\",VLOOKUP(A840,[1]Hoja1!$B$2:$U$4999,18,FALSE)),0)","v":""},{"$f":"IFERROR(IF(A840=\"\",\"\",VLOOKUP(A840,[1]Hoja1!$B$2:$U$4999,19,FALSE)),0)","v":""},"",null,{"$f":"IFERROR(IF(O840=\"\",\"\",VLOOKUP(O840,JORNADA!$A$19:$B$20,2,FALSE)),\"\")","v":""},{"$f":"IFERROR(IF(A840=\"\",\"\",VLOOKUP(A840,[1]Hoja1!$B$2:$U$4999,3,FALSE)),0)","v":""},null,"","",{"$f":"IFERROR(IF(A840=\"\",\"\",VLOOKUP(A840,[1]Hoja1!$B$2:$U$4999,10,FALSE)),0)","v":""},{"$f":"IFERROR(IF(Q840=\"\",\"\",VLOOKUP(Q840,[1]Hoja1!$D$2:$AF$4999,29,FALSE)),\"NO EXISTE CUENTA\")","v":""},null,null,""]
[null,{"$f":"IFERROR(IF(A841=\"\",\"\",VLOOKUP(A841,[1]Hoja1!$B$2:$U$4999,9,FALSE)),0)","v":""},{"$f":"IFERROR(IF(A841=\"\",\"\",VLOOKUP(A841,[1]Hoja1!$B$2:$U$4999,2,FALSE)),\" --- NO EXISTE TRABAJADOR --- \")","v":""},null,null,null,null,null,"","","",{"$f":"IFERROR(IF(A841=\"\",\"\",VLOOKUP(A841,[1]Hoja1!$B$2:$U$4999,18,FALSE)),0)","v":""},{"$f":"IFERROR(IF(A841=\"\",\"\",VLOOKUP(A841,[1]Hoja1!$B$2:$U$4999,19,FALSE)),0)","v":""},"",null,{"$f":"IFERROR(IF(O841=\"\",\"\",VLOOKUP(O841,JORNADA!$A$19:$B$20,2,FALSE)),\"\")","v":""},{"$f":"IFERROR(IF(A841=\"\",\"\",VLOOKUP(A841,[1]Hoja1!$B$2:$U$4999,3,FALSE)),0)","v":""},null,"","",{"$f":"IFERROR(IF(A841=\"\",\"\",VLOOKUP(A841,[1]Hoja1!$B$2:$U$4999,10,FALSE)),0)","v":""},{"$f":"IFERROR(IF(Q841=\"\",\"\",VLOOKUP(Q841,[1]Hoja1!$D$2:$AF$4999,29,FALSE)),\"NO EXISTE CUENTA\")","v":""},null,null,""]
[null,{"$f":"IFERROR(IF(A842=\"\",\"\",VLOOKUP(A842,[1]Hoja1!$B$2:$U$4999,9,FALSE)),0)","v":""},{"$f":"IFERROR(IF(A842=\"\",\"\",VLOOKUP(A842,[1]Hoja1!$B$2:$U$4999,2,FALSE)),\" --- NO EXISTE TRABAJADOR --- \")","v":""},null,null,null,null,null,"","","",{"$f":"IFERROR(IF(A842=\"\",\"\",VLOOKUP(A842,[1]Hoja1!$B$2:$U$4999,18,FALSE)),0)","v":""},{"$f":"IFERROR(IF(A842=\"\",\"\",VLOOKUP(A842,[1]Hoja1!$B$2:$U$4999,19,FALSE)),0)","v":""},"",null,{"$f":"IFERROR(IF(O842=\"\",\"\",VLOOKUP(O842,JORNADA!$A$19:$B$20,2,FALSE)),\"\")","v":""},{"$f":"IFERROR(IF(A842=\"\",\"\",VLOOKUP(A842,[1]Hoja1!$B$2:$U$4999,3,FALSE)),0)","v":""},null,"","",{"$f":"IFERROR(IF(A842=\"\",\"\",VLOOKUP(A842,[1]Hoja1!$B$2:$U$4999,10,FALSE)),0)","v":""},{"$f":"IFERROR(IF(Q842=\"\",\"\",VLOOKUP(Q842,[1]Hoja1!$D$2:$AF$4999,29,FALSE)),\"NO EXISTE CUENTA\")","v":""},null,null,""]
[null,{"$f":"IFERROR(IF(A843=\"\",\"\",VLOOKUP(A843,[1]Hoja1!$B$2:$U$4999,9,FALSE)),0)","v":""},{"$f":"IFERROR(IF(A843=\"\",\"\",VLOOKUP(A843,[1]Hoja1!$B$2:$U$4999,2,FALSE)),\" --- NO EXISTE TRABAJADOR --- \")","v":""},null,null,null,null,null,"","","",{"$f":"IFERROR(IF(A843=\"\",\"\",VLOOKUP(A843,[1]Hoja1!$B$2:$U$4999,18,FALSE)),0)","v":""},{"$f":"IFERROR(IF(A843=\"\",\"\",VLOOKUP(A843,[1]Hoja1!$B$2:$U$4999,19,FALSE)),0)","v":""},"",null,{"$f":"IFERROR(IF(O843=\"\",\"\",VLOOKUP(O843,JORNADA!$A$19:$B$20,2,FALSE)),\"\")","v":""},{"$f":"IFERROR(IF(A843=\"\",\"\",VLOOKUP(A843,[1]Hoja1!$B$2:$U$4999,3,FALSE)),0)","v":""},null,"","",{"$f":"IFERROR(IF(A843=\"\",\"\",VLOOKUP(A843,[1]Hoja1!$B$2:$U$4999,10,FALSE)),0)","v":""},{"$f":"IFERROR(IF(Q843=\"\",\"\",VLOOKUP(Q843,[1]Hoja1!$D$2:$AF$4999,29,FALSE)),\"NO EXISTE CUENTA\")","v":""},null,null,""]
[null,{"$f":"IFERROR(IF(A844=\"\",\"\",VLOOKUP(A844,[1]Hoja1!$B$2:$U$4999,9,FALSE)),0)","v":""},{"$f":"IFERROR(IF(A844=\"\",\"\",VLOOKUP(A844,[1]Hoja1!$B$2:$U$4999,2,FALSE)),\" --- NO EXISTE TRABAJADOR --- \")","v":""},null,null,null,null,null,"","","",{"$f":"IFERROR(IF(A844=\"\",\"\",VLOOKUP(A844,[1]Hoja1!$B$2:$U$4999,18,FALSE)),0)","v":""},{"$f":"IFERROR(IF(A844=\"\",\"\",VLOOKUP(A844,[1]Hoja1!$B$2:$U$4999,19,FALSE)),0)","v":""},"",null,{"$f":"IFERROR(IF(O844=\"\",\"\",VLOOKUP(O844,JORNADA!$A$19:$B$20,2,FALSE)),\"\")","v":""},{"$f":"IFERROR(IF(A844=\"\",\"\",VLOOKUP(A844,[1]Hoja1!$B$2:$U$4999,3,FALSE)),0)","v":""},null,"","",{"$f":"IFERROR(IF(A844=\"\",\"\",VLOOKUP(A844,[1]Hoja1!$B$2:$U$4999,10,FALSE)),0)","v":""},{"$f":"IFERROR(IF(Q844=\"\",\"\",VLOOKUP(Q844,[1]Hoja1!$D$2:$AF$4999,29,FALSE)),\"NO EXISTE CUENTA\")","v":""},null,null,""]
[null,{"$f":"IFERROR(IF(A845=\"\",\"\",VLOOKUP(A845,[1]Hoja1!$B$2:$U$4999,9,FALSE)),0)","v":""},{"$f":"IFERROR(IF(A845=\"\",\"\",VLOOKUP(A845,[1]Hoja1!$B$2:$U$4999,2,FALSE)),\" --- NO EXISTE TRABAJADOR --- \")","v":""},null,null,null,null,null,"","","",{"$f":"IFERROR(IF(A845=\"\",\"\",VLOOKUP(A845,[1]Hoja1!$B$2:$U$4999,18,FALSE)),0)","v":""},{"$f":"IFERROR(IF(A845=\"\",\"\",VLOOKUP(A845,[1]Hoja1!$B$2:$U$4999,19,FALSE)),0)","v":""},"",null,{"$f":"IFERROR(IF(O845=\"\",\"\",VLOOKUP(O845,JORNADA!$A$19:$B$20,2,FALSE)),\"\")","v":""},{"$f":"IFERROR(IF(A845=\"\",\"\",VLOOKUP(A845,[1]Hoja1!$B$2:$U$4999,3,FALSE)),0)","v":""},null,"","",{"$f":"IFERROR(IF(A845=\"\",\"\",VLOOKUP(A845,[1]Hoja1!$B$2:$U$4999,10,FALSE)),0)","v":""},{"$f":"IFERROR(IF(Q845=\"\",\"\",VLOOKUP(Q845,[1]Hoja1!$D$2:$AF$4999,29,FALSE)),\"NO EXISTE CUENTA\")","v":""},null,null,""]
[null,{"$f":"IFERROR(IF(A846=\"\",\"\",VLOOKUP(A846,[1]Hoja1!$B$2:$U$4999,9,FALSE)),0)","v":""},{"$f":"IFERROR(IF(A846=\"\",\"\",VLOOKUP(A846,[1]Hoja1!$B$2:$U$4999,2,FALSE)),\" --- NO EXISTE TRABAJADOR --- \")","v":""},null,null,null,null,null,"","","",{"$f":"IFERROR(IF(A846=\"\",\"\",VLOOKUP(A846,[1]Hoja1!$B$2:$U$4999,18,FALSE)),0)","v":""},{"$f":"IFERROR(IF(A846=\"\",\"\",VLOOKUP(A846,[1]Hoja1!$B$2:$U$4999,19,FALSE)),0)","v":""},"",null,{"$f":"IFERROR(IF(O846=\"\",\"\",VLOOKUP(O846,JORNADA!$A$19:$B$20,2,FALSE)),\"\")","v":""},{"$f":"IFERROR(IF(A846=\"\",\"\",VLOOKUP(A846,[1]Hoja1!$B$2:$U$4999,3,FALSE)),0)","v":""},null,"","",{"$f":"IFERROR(IF(A846=\"\",\"\",VLOOKUP(A846,[1]Hoja1!$B$2:$U$4999,10,FALSE)),0)","v":""},{"$f":"IFERROR(IF(Q846=\"\",\"\",VLOOKUP(Q846,[1]Hoja1!$D$2:$AF$4999,29,FALSE)),\"NO EXISTE CUENTA\")","v":""},null,null,""]
[null,{"$f":"IFERROR(IF(A847=\"\",\"\",VLOOKUP(A847,[1]Hoja1!$B$2:$U$4999,9,FALSE)),0)","v":""},{"$f":"IFERROR(IF(A847=\"\",\"\",VLOOKUP(A847,[1]Hoja1!$B$2:$U$4999,2,FALSE)),\" --- NO EXISTE TRABAJADOR --- \")","v":""},null,null,null,null,null,"","","",{"$f":"IFERROR(IF(A847=\"\",\"\",VLOOKUP(A847,[1]Hoja1!$B$2:$U$4999,18,FALSE)),0)","v":""},{"$f":"IFERROR(IF(A847=\"\",\"\",VLOOKUP(A847,[1]Hoja1!$B$2:$U$4999,19,FALSE)),0)","v":""},"",null,{"$f":"IFERROR(IF(O847=\"\",\"\",VLOOKUP(O847,JORNADA!$A$19:$B$20,2,FALSE)),\"\")","v":""},{"$f":"IFERROR(IF(A847=\"\",\"\",VLOOKUP(A847,[1]Hoja1!$B$2:$U$4999,3,FALSE)),0)","v":""},null,"","",{"$f":"IFERROR(IF(A847=\"\",\"\",VLOOKUP(A847,[1]Hoja1!$B$2:$U$4999,10,FALSE)),0)","v":""},{"$f":"IFERROR(IF(Q847=\"\",\"\",VLOOKUP(Q847,[1]Hoja1!$D$2:$AF$4999,29,FALSE)),\"NO EXISTE CUENTA\")","v":""},null,null,""]
[null,{"$f":"IFERROR(IF(A848=\"\",\"\",VLOOKUP(A848,[1]Hoja1!$B$2:$U$4999,9,FALSE)),0)","v":""},{"$f":"IFERROR(IF(A848=\"\",\"\",VLOOKUP(A848,[1]Hoja1!$B$2:$U$4999,2,FALSE)),\" --- NO EXISTE TRABAJADOR --- \")","v":""},null,null,null,null,null,"","","",{"$f":"IFERROR(IF(A848=\"\",\"\",VLOOKUP(A848,[1]Hoja1!$B$2:$U$4999,18,FALSE)),0)","v":""},{"$f":"IFERROR(IF(A848=\"\",\"\",VLOOKUP(A848,[1]Hoja1!$B$2:$U$4999,19,FALSE)),0)","v":""},"",null,{"$f":"IFERROR(IF(O848=\"\",\"\",VLOOKUP(O848,JORNADA!$A$19:$B$20,2,FALSE)),\"\")","v":""},{"$f":"IFERROR(IF(A848=\"\",\"\",VLOOKUP(A848,[1]Hoja1!$B$2:$U$4999,3,FALSE)),0)","v":""},null,"","",{"$f":"IFERROR(IF(A848=\"\",\"\",VLOOKUP(A848,[1]Hoja1!$B$2:$U$4999,10,FALSE)),0)","v":""},{"$f":"IFERROR(IF(Q848=\"\",\"\",VLOOKUP(Q848,[1]Hoja1!$D$2:$AF$4999,29,FALSE)),\"NO EXISTE CUENTA\")","v":""},null,null,""]
[null,{"$f":"IFERROR(IF(A849=\"\",\"\",VLOOKUP(A849,[1]Hoja1!$B$2:$U$4999,9,FALSE)),0)","v":""},{"$f":"IFERROR(IF(A849=\"\",\"\",VLOOKUP(A849,[1]Hoja1!$B$2:$U$4999,2,FALSE)),\" --- NO EXISTE TRABAJADOR --- \")","v":""},null,null,null,null,null,"","","",{"$f":"IFERROR(IF(A849=\"\",\"\",VLOOKUP(A849,[1]Hoja1!$B$2:$U$4999,18,FALSE)),0)","v":""},{"$f":"IFERROR(IF(A849=\"\",\"\",VLOOKUP(A849,[1]Hoja1!$B$2:$U$4999,19,FALSE)),0)","v":""},"",null,{"$f":"IFERROR(IF(O849=\"\",\"\",VLOOKUP(O849,JORNADA!$A$19:$B$20,2,FALSE)),\"\")","v":""},{"$f":"IFERROR(IF(A849=\"\",\"\",VLOOKUP(A849,[1]Hoja1!$B$2:$U$4999,3,FALSE)),0)","v":""},null,"","",{"$f":"IFERROR(IF(A849=\"\",\"\",VLOOKUP(A849,[1]Hoja1!$B$2:$U$4999,10,FALSE)),0)","v":""},{"$f":"IFERROR(IF(Q849=\"\",\"\",VLOOKUP(Q849,[1]Hoja1!$D$2:$AF$4999,29,FALSE)),\"NO EXISTE CUENTA\")","v":""},null,null,""]
[null,{"$f":"IFERROR(IF(A850=\"\",\"\",VLOOKUP(A850,[1]Hoja1!$B$2:$U$4999,9,FALSE)),0)","v":""},{"$f":"IFERROR(IF(A850=\"\",\"\",VLOOKUP(A850,[1]Hoja1!$B$2:$U$4999,2,FALSE)),\" --- NO EXISTE TRABAJADOR --- \")","v":""},null,null,null,null,null,"","","",{"$f":"IFERROR(IF(A850=\"\",\"\",VLOOKUP(A850,[1]Hoja1!$B$2:$U$4999,18,FALSE)),0)","v":""},{"$f":"IFERROR(IF(A850=\"\",\"\",VLOOKUP(A850,[1]Hoja1!$B$2:$U$4999,19,FALSE)),0)","v":""},"",null,{"$f":"IFERROR(IF(O850=\"\",\"\",VLOOKUP(O850,JORNADA!$A$19:$B$20,2,FALSE)),\"\")","v":""},{"$f":"IFERROR(IF(A850=\"\",\"\",VLOOKUP(A850,[1]Hoja1!$B$2:$U$4999,3,FALSE)),0)","v":""},null,"","",{"$f":"IFERROR(IF(A850=\"\",\"\",VLOOKUP(A850,[1]Hoja1!$B$2:$U$4999,10,FALSE)),0)","v":""},{"$f":"IFERROR(IF(Q850=\"\",\"\",VLOOKUP(Q850,[1]Hoja1!$D$2:$AF$4999,29,FALSE)),\"NO EXISTE CUENTA\")","v":""},null,null,""]
[null,{"$f":"IFERROR(IF(A851=\"\",\"\",VLOOKUP(A851,[1]Hoja1!$B$2:$U$4999,9,FALSE)),0)","v":""},{"$f":"IFERROR(IF(A851=\"\",\"\",VLOOKUP(A851,[1]Hoja1!$B$2:$U$4999,2,FALSE)),\" --- NO EXISTE TRABAJADOR --- \")","v":""},null,null,null,null,null,"","","",{"$f":"IFERROR(IF(A851=\"\",\"\",VLOOKUP(A851,[1]Hoja1!$B$2:$U$4999,18,FALSE)),0)","v":""},{"$f":"IFERROR(IF(A851=\"\",\"\",VLOOKUP(A851,[1]Hoja1!$B$2:$U$4999,19,FALSE)),0)","v":""},"",null,{"$f":"IFERROR(IF(O851=\"\",\"\",VLOOKUP(O851,JORNADA!$A$19:$B$20,2,FALSE)),\"\")","v":""},{"$f":"IFERROR(IF(A851=\"\",\"\",VLOOKUP(A851,[1]Hoja1!$B$2:$U$4999,3,FALSE)),0)","v":""},null,"","",{"$f":"IFERROR(IF(A851=\"\",\"\",VLOOKUP(A851,[1]Hoja1!$B$2:$U$4999,10,FALSE)),0)","v":""},{"$f":"IFERROR(IF(Q851=\"\",\"\",VLOOKUP(Q851,[1]Hoja1!$D$2:$AF$4999,29,FALSE)),\"NO EXISTE CUENTA\")","v":""},null,null,""]
[null,{"$f":"IFERROR(IF(A852=\"\",\"\",VLOOKUP(A852,[1]Hoja1!$B$2:$U$4999,9,FALSE)),0)","v":""},{"$f":"IFERROR(IF(A852=\"\",\"\",VLOOKUP(A852,[1]Hoja1!$B$2:$U$4999,2,FALSE)),\" --- NO EXISTE TRABAJADOR --- \")","v":""},null,null,null,null,null,"","","",{"$f":"IFERROR(IF(A852=\"\",\"\",VLOOKUP(A852,[1]Hoja1!$B$2:$U$4999,18,FALSE)),0)","v":""},{"$f":"IFERROR(IF(A852=\"\",\"\",VLOOKUP(A852,[1]Hoja1!$B$2:$U$4999,19,FALSE)),0)","v":""},"",null,{"$f":"IFERROR(IF(O852=\"\",\"\",VLOOKUP(O852,JORNADA!$A$19:$B$20,2,FALSE)),\"\")","v":""},{"$f":"IFERROR(IF(A852=\"\",\"\",VLOOKUP(A852,[1]Hoja1!$B$2:$U$4999,3,FALSE)),0)","v":""},null,"","",{"$f":"IFERROR(IF(A852=\"\",\"\",VLOOKUP(A852,[1]Hoja1!$B$2:$U$4999,10,FALSE)),0)","v":""},{"$f":"IFERROR(IF(Q852=\"\",\"\",VLOOKUP(Q852,[1]Hoja1!$D$2:$AF$4999,29,FALSE)),\"NO EXISTE CUENTA\")","v":""},null,null,""]
[null,{"$f":"IFERROR(IF(A853=\"\",\"\",VLOOKUP(A853,[1]Hoja1!$B$2:$U$4999,9,FALSE)),0)","v":""},{"$f":"IFERROR(IF(A853=\"\",\"\",VLOOKUP(A853,[1]Hoja1!$B$2:$U$4999,2,FALSE)),\" --- NO EXISTE TRABAJADOR --- \")","v":""},null,null,null,null,null,"","","",{"$f":"IFERROR(IF(A853=\"\",\"\",VLOOKUP(A853,[1]Hoja1!$B$2:$U$4999,18,FALSE)),0)","v":""},{"$f":"IFERROR(IF(A853=\"\",\"\",VLOOKUP(A853,[1]Hoja1!$B$2:$U$4999,19,FALSE)),0)","v":""},"",null,{"$f":"IFERROR(IF(O853=\"\",\"\",VLOOKUP(O853,JORNADA!$A$19:$B$20,2,FALSE)),\"\")","v":""},{"$f":"IFERROR(IF(A853=\"\",\"\",VLOOKUP(A853,[1]Hoja1!$B$2:$U$4999,3,FALSE)),0)","v":""},null,"","",{"$f":"IFERROR(IF(A853=\"\",\"\",VLOOKUP(A853,[1]Hoja1!$B$2:$U$4999,10,FALSE)),0)","v":""},{"$f":"IFERROR(IF(Q853=\"\",\"\",VLOOKUP(Q853,[1]Hoja1!$D$2:$AF$4999,29,FALSE)),\"NO EXISTE CUENTA\")","v":""},null,null,""]
[null,{"$f":"IFERROR(IF(A854=\"\",\"\",VLOOKUP(A854,[1]Hoja1!$B$2:$U$4999,9,FALSE)),0)","v":""},{"$f":"IFERROR(IF(A854=\"\",\"\",VLOOKUP(A854,[1]Hoja1!$B$2:$U$4999,2,FALSE)),\" --- NO EXISTE TRABAJADOR --- \")","v":""},null,null,null,null,null,"","","",{"$f":"IFERROR(IF(A854=\"\",\"\",VLOOKUP(A854,[1]Hoja1!$B$2:$U$4999,18,FALSE)),0)","v":""},{"$f":"IFERROR(IF(A854=\"\",\"\",VLOOKUP(A854,[1]Hoja1!$B$2:$U$4999,19,FALSE)),0)","v":""},"",null,{"$f":"IFERROR(IF(O854=\"\",\"\",VLOOKUP(O854,JORNADA!$A$19:$B$20,2,FALSE)),\"\")","v":""},{"$f":"IFERROR(IF(A854=\"\",\"\",VLOOKUP(A854,[1]Hoja1!$B$2:$U$4999,3,FALSE)),0)","v":""},null,"","",{"$f":"IFERROR(IF(A854=\"\",\"\",VLOOKUP(A854,[1]Hoja1!$B$2:$U$4999,10,FALSE)),0)","v":""},{"$f":"IFERROR(IF(Q854=\"\",\"\",VLOOKUP(Q854,[1]Hoja1!$D$2:$AF$4999,29,FALSE)),\"NO EXISTE CUENTA\")","v":""},null,null,""]
[null,{"$f":"IFERROR(IF(A855=\"\",\"\",VLOOKUP(A855,[1]Hoja1!$B$2:$U$4999,9,FALSE)),0)","v":""},{"$f":"IFERROR(IF(A855=\"\",\"\",VLOOKUP(A855,[1]Hoja1!$B$2:$U$4999,2,FALSE)),\" --- NO EXISTE TRABAJADOR --- \")","v":""},null,null,null,null,null,"","","",{"$f":"IFERROR(IF(A855=\"\",\"\",VLOOKUP(A855,[1]Hoja1!$B$2:$U$4999,18,FALSE)),0)","v":""},{"$f":"IFERROR(IF(A855=\"\",\"\",VLOOKUP(A855,[1]Hoja1!$B$2:$U$4999,19,FALSE)),0)","v":""},"",null,{"$f":"IFERROR(IF(O855=\"\",\"\",VLOOKUP(O855,JORNADA!$A$19:$B$20,2,FALSE)),\"\")","v":""},{"$f":"IFERROR(IF(A855=\"\",\"\",VLOOKUP(A855,[1]Hoja1!$B$2:$U$4999,3,FALSE)),0)","v":""},null,"","",{"$f":"IFERROR(IF(A855=\"\",\"\",VLOOKUP(A855,[1]Hoja1!$B$2:$U$4999,10,FALSE)),0)","v":""},{"$f":"IFERROR(IF(Q855=\"\",\"\",VLOOKUP(Q855,[1]Hoja1!$D$2:$AF$4999,29,FALSE)),\"NO EXISTE CUENTA\")","v":""},null,null,""]
[null,{"$f":"IFERROR(IF(A856=\"\",\"\",VLOOKUP(A856,[1]Hoja1!$B$2:$U$4999,9,FALSE)),0)","v":""},{"$f":"IFERROR(IF(A856=\"\",\"\",VLOOKUP(A856,[1]Hoja1!$B$2:$U$4999,2,FALSE)),\" --- NO EXISTE TRABAJADOR --- \")","v":""},null,null,null,null,null,"","","",{"$f":"IFERROR(IF(A856=\"\",\"\",VLOOKUP(A856,[1]Hoja1!$B$2:$U$4999,18,FALSE)),0)","v":""},{"$f":"IFERROR(IF(A856=\"\",\"\",VLOOKUP(A856,[1]Hoja1!$B$2:$U$4999,19,FALSE)),0)","v":""},"",null,{"$f":"IFERROR(IF(O856=\"\",\"\",VLOOKUP(O856,JORNADA!$A$19:$B$20,2,FALSE)),\"\")","v":""},{"$f":"IFERROR(IF(A856=\"\",\"\",VLOOKUP(A856,[1]Hoja1!$B$2:$U$4999,3,FALSE)),0)","v":""},null,"","",{"$f":"IFERROR(IF(A856=\"\",\"\",VLOOKUP(A856,[1]Hoja1!$B$2:$U$4999,10,FALSE)),0)","v":""},{"$f":"IFERROR(IF(Q856=\"\",\"\",VLOOKUP(Q856,[1]Hoja1!$D$2:$AF$4999,29,FALSE)),\"NO EXISTE CUENTA\")","v":""},null,null,""]
[null,{"$f":"IFERROR(IF(A857=\"\",\"\",VLOOKUP(A857,[1]Hoja1!$B$2:$U$4999,9,FALSE)),0)","v":""},{"$f":"IFERROR(IF(A857=\"\",\"\",VLOOKUP(A857,[1]Hoja1!$B$2:$U$4999,2,FALSE)),\" --- NO EXISTE TRABAJADOR --- \")","v":""},null,null,null,null,null,"","","",{"$f":"IFERROR(IF(A857=\"\",\"\",VLOOKUP(A857,[1]Hoja1!$B$2:$U$4999,18,FALSE)),0)","v":""},{"$f":"IFERROR(IF(A857=\"\",\"\",VLOOKUP(A857,[1]Hoja1!$B$2:$U$4999,19,FALSE)),0)","v":""},"",null,{"$f":"IFERROR(IF(O857=\"\",\"\",VLOOKUP(O857,JORNADA!$A$19:$B$20,2,FALSE)),\"\")","v":""},{"$f":"IFERROR(IF(A857=\"\",\"\",VLOOKUP(A857,[1]Hoja1!$B$2:$U$4999,3,FALSE)),0)","v":""},null,"","",{"$f":"IFERROR(IF(A857=\"\",\"\",VLOOKUP(A857,[1]Hoja1!$B$2:$U$4999,10,FALSE)),0)","v":""},{"$f":"IFERROR(IF(Q857=\"\",\"\",VLOOKUP(Q857,[1]Hoja1!$D$2:$AF$4999,29,FALSE)),\"NO EXISTE CUENTA\")","v":""},null,null,""]
[null,{"$f":"IFERROR(IF(A858=\"\",\"\",VLOOKUP(A858,[1]Hoja1!$B$2:$U$4999,9,FALSE)),0)","v":""},{"$f":"IFERROR(IF(A858=\"\",\"\",VLOOKUP(A858,[1]Hoja1!$B$2:$U$4999,2,FALSE)),\" --- NO EXISTE TRABAJADOR --- \")","v":""},null,null,null,null,null,"","","",{"$f":"IFERROR(IF(A858=\"\",\"\",VLOOKUP(A858,[1]Hoja1!$B$2:$U$4999,18,FALSE)),0)","v":""},{"$f":"IFERROR(IF(A858=\"\",\"\",VLOOKUP(A858,[1]Hoja1!$B$2:$U$4999,19,FALSE)),0)","v":""},"",null,{"$f":"IFERROR(IF(O858=\"\",\"\",VLOOKUP(O858,JORNADA!$A$19:$B$20,2,FALSE)),\"\")","v":""},{"$f":"IFERROR(IF(A858=\"\",\"\",VLOOKUP(A858,[1]Hoja1!$B$2:$U$4999,3,FALSE)),0)","v":""},null,"","",{"$f":"IFERROR(IF(A858=\"\",\"\",VLOOKUP(A858,[1]Hoja1!$B$2:$U$4999,10,FALSE)),0)","v":""},{"$f":"IFERROR(IF(Q858=\"\",\"\",VLOOKUP(Q858,[1]Hoja1!$D$2:$AF$4999,29,FALSE)),\"NO EXISTE CUENTA\")","v":""},null,null,""]
[null,{"$f":"IFERROR(IF(A859=\"\",\"\",VLOOKUP(A859,[1]Hoja1!$B$2:$U$4999,9,FALSE)),0)","v":""},{"$f":"IFERROR(IF(A859=\"\",\"\",VLOOKUP(A859,[1]Hoja1!$B$2:$U$4999,2,FALSE)),\" --- NO EXISTE TRABAJADOR --- \")","v":""},null,null,null,null,null,"","","",{"$f":"IFERROR(IF(A859=\"\",\"\",VLOOKUP(A859,[1]Hoja1!$B$2:$U$4999,18,FALSE)),0)","v":""},{"$f":"IFERROR(IF(A859=\"\",\"\",VLOOKUP(A859,[1]Hoja1!$B$2:$U$4999,19,FALSE)),0)","v":""},"",null,{"$f":"IFERROR(IF(O859=\"\",\"\",VLOOKUP(O859,JORNADA!$A$19:$B$20,2,FALSE)),\"\")","v":""},{"$f":"IFERROR(IF(A859=\"\",\"\",VLOOKUP(A859,[1]Hoja1!$B$2:$U$4999,3,FALSE)),0)","v":""},null,"","",{"$f":"IFERROR(IF(A859=\"\",\"\",VLOOKUP(A859,[1]Hoja1!$B$2:$U$4999,10,FALSE)),0)","v":""},{"$f":"IFERROR(IF(Q859=\"\",\"\",VLOOKUP(Q859,[1]Hoja1!$D$2:$AF$4999,29,FALSE)),\"NO EXISTE CUENTA\")","v":""},null,null,""]
[null,{"$f":"IFERROR(IF(A860=\"\",\"\",VLOOKUP(A860,[1]Hoja1!$B$2:$U$4999,9,FALSE)),0)","v":""},{"$f":"IFERROR(IF(A860=\"\",\"\",VLOOKUP(A860,[1]Hoja1!$B$2:$U$4999,2,FALSE)),\" --- NO EXISTE TRABAJADOR --- \")","v":""},null,null,null,null,null,"","","",{"$f":"IFERROR(IF(A860=\"\",\"\",VLOOKUP(A860,[1]Hoja1!$B$2:$U$4999,18,FALSE)),0)","v":""},{"$f":"IFERROR(IF(A860=\"\",\"\",VLOOKUP(A860,[1]Hoja1!$B$2:$U$4999,19,FALSE)),0)","v":""},"",null,{"$f":"IFERROR(IF(O860=\"\",\"\",VLOOKUP(O860,JORNADA!$A$19:$B$20,2,FALSE)),\"\")","v":""},{"$f":"IFERROR(IF(A860=\"\",\"\",VLOOKUP(A860,[1]Hoja1!$B$2:$U$4999,3,FALSE)),0)","v":""},null,"","",{"$f":"IFERROR(IF(A860=\"\",\"\",VLOOKUP(A860,[1]Hoja1!$B$2:$U$4999,10,FALSE)),0)","v":""},{"$f":"IFERROR(IF(Q860=\"\",\"\",VLOOKUP(Q860,[1]Hoja1!$D$2:$AF$4999,29,FALSE)),\"NO EXISTE CUENTA\")","v":""},null,null,""]
[null,{"$f":"IFERROR(IF(A861=\"\",\"\",VLOOKUP(A861,[1]Hoja1!$B$2:$U$4999,9,FALSE)),0)","v":""},{"$f":"IFERROR(IF(A861=\"\",\"\",VLOOKUP(A861,[1]Hoja1!$B$2:$U$4999,2,FALSE)),\" --- NO EXISTE TRABAJADOR --- \")","v":""},null,null,null,null,null,"","","",{"$f":"IFERROR(IF(A861=\"\",\"\",VLOOKUP(A861,[1]Hoja1!$B$2:$U$4999,18,FALSE)),0)","v":""},{"$f":"IFERROR(IF(A861=\"\",\"\",VLOOKUP(A861,[1]Hoja1!$B$2:$U$4999,19,FALSE)),0)","v":""},"",null,{"$f":"IFERROR(IF(O861=\"\",\"\",VLOOKUP(O861,JORNADA!$A$19:$B$20,2,FALSE)),\"\")","v":""},{"$f":"IFERROR(IF(A861=\"\",\"\",VLOOKUP(A861,[1]Hoja1!$B$2:$U$4999,3,FALSE)),0)","v":""},null,"","",{"$f":"IFERROR(IF(A861=\"\",\"\",VLOOKUP(A861,[1]Hoja1!$B$2:$U$4999,10,FALSE)),0)","v":""},{"$f":"IFERROR(IF(Q861=\"\",\"\",VLOOKUP(Q861,[1]Hoja1!$D$2:$AF$4999,29,FALSE)),\"NO EXISTE CUENTA\")","v":""},null,null,""]
[null,{"$f":"IFERROR(IF(A862=\"\",\"\",VLOOKUP(A862,[1]Hoja1!$B$2:$U$4999,9,FALSE)),0)","v":""},{"$f":"IFERROR(IF(A862=\"\",\"\",VLOOKUP(A862,[1]Hoja1!$B$2:$U$4999,2,FALSE)),\" --- NO EXISTE TRABAJADOR --- \")","v":""},null,null,null,null,null,"","","",{"$f":"IFERROR(IF(A862=\"\",\"\",VLOOKUP(A862,[1]Hoja1!$B$2:$U$4999,18,FALSE)),0)","v":""},{"$f":"IFERROR(IF(A862=\"\",\"\",VLOOKUP(A862,[1]Hoja1!$B$2:$U$4999,19,FALSE)),0)","v":""},"",null,{"$f":"IFERROR(IF(O862=\"\",\"\",VLOOKUP(O862,JORNADA!$A$19:$B$20,2,FALSE)),\"\")","v":""},{"$f":"IFERROR(IF(A862=\"\",\"\",VLOOKUP(A862,[1]Hoja1!$B$2:$U$4999,3,FALSE)),0)","v":""},null,"","",{"$f":"IFERROR(IF(A862=\"\",\"\",VLOOKUP(A862,[1]Hoja1!$B$2:$U$4999,10,FALSE)),0)","v":""},{"$f":"IFERROR(IF(Q862=\"\",\"\",VLOOKUP(Q862,[1]Hoja1!$D$2:$AF$4999,29,FALSE)),\"NO EXISTE CUENTA\")","v":""},null,null,""]
[null,{"$f":"IFERROR(IF(A863=\"\",\"\",VLOOKUP(A863,[1]Hoja1!$B$2:$U$4999,9,FALSE)),0)","v":""},{"$f":"IFERROR(IF(A863=\"\",\"\",VLOOKUP(A863,[1]Hoja1!$B$2:$U$4999,2,FALSE)),\" --- NO EXISTE TRABAJADOR --- \")","v":""},null,null,null,null,null,"","","",{"$f":"IFERROR(IF(A863=\"\",\"\",VLOOKUP(A863,[1]Hoja1!$B$2:$U$4999,18,FALSE)),0)","v":""},{"$f":"IFERROR(IF(A863=\"\",\"\",VLOOKUP(A863,[1]Hoja1!$B$2:$U$4999,19,FALSE)),0)","v":""},"",null,{"$f":"IFERROR(IF(O863=\"\",\"\",VLOOKUP(O863,JORNADA!$A$19:$B$20,2,FALSE)),\"\")","v":""},{"$f":"IFERROR(IF(A863=\"\",\"\",VLOOKUP(A863,[1]Hoja1!$B$2:$U$4999,3,FALSE)),0)","v":""},null,"","",{"$f":"IFERROR(IF(A863=\"\",\"\",VLOOKUP(A863,[1]Hoja1!$B$2:$U$4999,10,FALSE)),0)","v":""},{"$f":"IFERROR(IF(Q863=\"\",\"\",VLOOKUP(Q863,[1]Hoja1!$D$2:$AF$4999,29,FALSE)),\"NO EXISTE CUENTA\")","v":""},null,null,""]
[null,{"$f":"IFERROR(IF(A864=\"\",\"\",VLOOKUP(A864,[1]Hoja1!$B$2:$U$4999,9,FALSE)),0)","v":""},{"$f":"IFERROR(IF(A864=\"\",\"\",VLOOKUP(A864,[1]Hoja1!$B$2:$U$4999,2,FALSE)),\" --- NO EXISTE TRABAJADOR --- \")","v":""},null,null,null,null,null,"","","",{"$f":"IFERROR(IF(A864=\"\",\"\",VLOOKUP(A864,[1]Hoja1!$B$2:$U$4999,18,FALSE)),0)","v":""},{"$f":"IFERROR(IF(A864=\"\",\"\",VLOOKUP(A864,[1]Hoja1!$B$2:$U$4999,19,FALSE)),0)","v":""},"",null,{"$f":"IFERROR(IF(O864=\"\",\"\",VLOOKUP(O864,JORNADA!$A$19:$B$20,2,FALSE)),\"\")","v":""},{"$f":"IFERROR(IF(A864=\"\",\"\",VLOOKUP(A864,[1]Hoja1!$B$2:$U$4999,3,FALSE)),0)","v":""},null,"","",{"$f":"IFERROR(IF(A864=\"\",\"\",VLOOKUP(A864,[1]Hoja1!$B$2:$U$4999,10,FALSE)),0)","v":""},{"$f":"IFERROR(IF(Q864=\"\",\"\",VLOOKUP(Q864,[1]Hoja1!$D$2:$AF$4999,29,FALSE)),\"NO EXISTE CUENTA\")","v":""},null,null,""]
[null,{"$f":"IFERROR(IF(A865=\"\",\"\",VLOOKUP(A865,[1]Hoja1!$B$2:$U$4999,9,FALSE)),0)","v":""},{"$f":"IFERROR(IF(A865=\"\",\"\",VLOOKUP(A865,[1]Hoja1!$B$2:$U$4999,2,FALSE)),\" --- NO EXISTE TRABAJADOR --- \")","v":""},null,null,null,null,null,"","","",{"$f":"IFERROR(IF(A865=\"\",\"\",VLOOKUP(A865,[1]Hoja1!$B$2:$U$4999,18,FALSE)),0)","v":""},{"$f":"IFERROR(IF(A865=\"\",\"\",VLOOKUP(A865,[1]Hoja1!$B$2:$U$4999,19,FALSE)),0)","v":""},"",null,{"$f":"IFERROR(IF(O865=\"\",\"\",VLOOKUP(O865,JORNADA!$A$19:$B$20,2,FALSE)),\"\")","v":""},{"$f":"IFERROR(IF(A865=\"\",\"\",VLOOKUP(A865,[1]Hoja1!$B$2:$U$4999,3,FALSE)),0)","v":""},null,"","",{"$f":"IFERROR(IF(A865=\"\",\"\",VLOOKUP(A865,[1]Hoja1!$B$2:$U$4999,10,FALSE)),0)","v":""},{"$f":"IFERROR(IF(Q865=\"\",\"\",VLOOKUP(Q865,[1]Hoja1!$D$2:$AF$4999,29,FALSE)),\"NO EXISTE CUENTA\")","v":""},null,null,""]
[null,{"$f":"IFERROR(IF(A866=\"\",\"\",VLOOKUP(A866,[1]Hoja1!$B$2:$U$4999,9,FALSE)),0)","v":""},{"$f":"IFERROR(IF(A866=\"\",\"\",VLOOKUP(A866,[1]Hoja1!$B$2:$U$4999,2,FALSE)),\" --- NO EXISTE TRABAJADOR --- \")","v":""},null,null,null,null,null,"","","",{"$f":"IFERROR(IF(A866=\"\",\"\",VLOOKUP(A866,[1]Hoja1!$B$2:$U$4999,18,FALSE)),0)","v":""},{"$f":"IFERROR(IF(A866=\"\",\"\",VLOOKUP(A866,[1]Hoja1!$B$2:$U$4999,19,FALSE)),0)","v":""},"",null,{"$f":"IFERROR(IF(O866=\"\",\"\",VLOOKUP(O866,JORNADA!$A$19:$B$20,2,FALSE)),\"\")","v":""},{"$f":"IFERROR(IF(A866=\"\",\"\",VLOOKUP(A866,[1]Hoja1!$B$2:$U$4999,3,FALSE)),0)","v":""},null,"","",{"$f":"IFERROR(IF(A866=\"\",\"\",VLOOKUP(A866,[1]Hoja1!$B$2:$U$4999,10,FALSE)),0)","v":""},{"$f":"IFERROR(IF(Q866=\"\",\"\",VLOOKUP(Q866,[1]Hoja1!$D$2:$AF$4999,29,FALSE)),\"NO EXISTE CUENTA\")","v":""},null,null,""]
[null,{"$f":"IFERROR(IF(A867=\"\",\"\",VLOOKUP(A867,[1]Hoja1!$B$2:$U$4999,9,FALSE)),0)","v":""},{"$f":"IFERROR(IF(A867=\"\",\"\",VLOOKUP(A867,[1]Hoja1!$B$2:$U$4999,2,FALSE)),\" --- NO EXISTE TRABAJADOR --- \")","v":""},null,null,null,null,null,"","","",{"$f":"IFERROR(IF(A867=\"\",\"\",VLOOKUP(A867,[1]Hoja1!$B$2:$U$4999,18,FALSE)),0)","v":""},{"$f":"IFERROR(IF(A867=\"\",\"\",VLOOKUP(A867,[1]Hoja1!$B$2:$U$4999,19,FALSE)),0)","v":""},"",null,{"$f":"IFERROR(IF(O867=\"\",\"\",VLOOKUP(O867,JORNADA!$A$19:$B$20,2,FALSE)),\"\")","v":""},{"$f":"IFERROR(IF(A867=\"\",\"\",VLOOKUP(A867,[1]Hoja1!$B$2:$U$4999,3,FALSE)),0)","v":""},null,"","",{"$f":"IFERROR(IF(A867=\"\",\"\",VLOOKUP(A867,[1]Hoja1!$B$2:$U$4999,10,FALSE)),0)","v":""},{"$f":"IFERROR(IF(Q867=\"\",\"\",VLOOKUP(Q867,[1]Hoja1!$D$2:$AF$4999,29,FALSE)),\"NO EXISTE CUENTA\")","v":""},null,null,""]
[null,{"$f":"IFERROR(IF(A868=\"\",\"\",VLOOKUP(A868,[1]Hoja1!$B$2:$U$4999,9,FALSE)),0)","v":""},{"$f":"IFERROR(IF(A868=\"\",\"\",VLOOKUP(A868,[1]Hoja1!$B$2:$U$4999,2,FALSE)),\" --- NO EXISTE TRABAJADOR --- \")","v":""},null,null,null,null,null,"","","",{"$f":"IFERROR(IF(A868=\"\",\"\",VLOOKUP(A868,[1]Hoja1!$B$2:$U$4999,18,FALSE)),0)","v":""},{"$f":"IFERROR(IF(A868=\"\",\"\",VLOOKUP(A868,[1]Hoja1!$B$2:$U$4999,19,FALSE)),0)","v":""},"",null,{"$f":"IFERROR(IF(O868=\"\",\"\",VLOOKUP(O868,JORNADA!$A$19:$B$20,2,FALSE)),\"\")","v":""},{"$f":"IFERROR(IF(A868=\"\",\"\",VLOOKUP(A868,[1]Hoja1!$B$2:$U$4999,3,FALSE)),0)","v":""},null,"","",{"$f":"IFERROR(IF(A868=\"\",\"\",VLOOKUP(A868,[1]Hoja1!$B$2:$U$4999,10,FALSE)),0)","v":""},{"$f":"IFERROR(IF(Q868=\"\",\"\",VLOOKUP(Q868,[1]Hoja1!$D$2:$AF$4999,29,FALSE)),\"NO EXISTE CUENTA\")","v":""},null,null,""]
[null,{"$f":"IFERROR(IF(A869=\"\",\"\",VLOOKUP(A869,[1]Hoja1!$B$2:$U$4999,9,FALSE)),0)","v":""},{"$f":"IFERROR(IF(A869=\"\",\"\",VLOOKUP(A869,[1]Hoja1!$B$2:$U$4999,2,FALSE)),\" --- NO EXISTE TRABAJADOR --- \")","v":""},null,null,null,null,null,"","","",{"$f":"IFERROR(IF(A869=\"\",\"\",VLOOKUP(A869,[1]Hoja1!$B$2:$U$4999,18,FALSE)),0)","v":""},{"$f":"IFERROR(IF(A869=\"\",\"\",VLOOKUP(A869,[1]Hoja1!$B$2:$U$4999,19,FALSE)),0)","v":""},"",null,{"$f":"IFERROR(IF(O869=\"\",\"\",VLOOKUP(O869,JORNADA!$A$19:$B$20,2,FALSE)),\"\")","v":""},{"$f":"IFERROR(IF(A869=\"\",\"\",VLOOKUP(A869,[1]Hoja1!$B$2:$U$4999,3,FALSE)),0)","v":""},null,"","",{"$f":"IFERROR(IF(A869=\"\",\"\",VLOOKUP(A869,[1]Hoja1!$B$2:$U$4999,10,FALSE)),0)","v":""},{"$f":"IFERROR(IF(Q869=\"\",\"\",VLOOKUP(Q869,[1]Hoja1!$D$2:$AF$4999,29,FALSE)),\"NO EXISTE CUENTA\")","v":""},null,null,""]
[null,{"$f":"IFERROR(IF(A870=\"\",\"\",VLOOKUP(A870,[1]Hoja1!$B$2:$U$4999,9,FALSE)),0)","v":""},{"$f":"IFERROR(IF(A870=\"\",\"\",VLOOKUP(A870,[1]Hoja1!$B$2:$U$4999,2,FALSE)),\" --- NO EXISTE TRABAJADOR --- \")","v":""},null,null,null,null,null,"","","",{"$f":"IFERROR(IF(A870=\"\",\"\",VLOOKUP(A870,[1]Hoja1!$B$2:$U$4999,18,FALSE)),0)","v":""},{"$f":"IFERROR(IF(A870=\"\",\"\",VLOOKUP(A870,[1]Hoja1!$B$2:$U$4999,19,FALSE)),0)","v":""},"",null,{"$f":"IFERROR(IF(O870=\"\",\"\",VLOOKUP(O870,JORNADA!$A$19:$B$20,2,FALSE)),\"\")","v":""},{"$f":"IFERROR(IF(A870=\"\",\"\",VLOOKUP(A870,[1]Hoja1!$B$2:$U$4999,3,FALSE)),0)","v":""},null,"","",{"$f":"IFERROR(IF(A870=\"\",\"\",VLOOKUP(A870,[1]Hoja1!$B$2:$U$4999,10,FALSE)),0)","v":""},{"$f":"IFERROR(IF(Q870=\"\",\"\",VLOOKUP(Q870,[1]Hoja1!$D$2:$AF$4999,29,FALSE)),\"NO EXISTE CUENTA\")","v":""},null,null,""]
[null,{"$f":"IFERROR(IF(A871=\"\",\"\",VLOOKUP(A871,[1]Hoja1!$B$2:$U$4999,9,FALSE)),0)","v":""},{"$f":"IFERROR(IF(A871=\"\",\"\",VLOOKUP(A871,[1]Hoja1!$B$2:$U$4999,2,FALSE)),\" --- NO EXISTE TRABAJADOR --- \")","v":""},null,null,null,null,null,"","","",{"$f":"IFERROR(IF(A871=\"\",\"\",VLOOKUP(A871,[1]Hoja1!$B$2:$U$4999,18,FALSE)),0)","v":""},{"$f":"IFERROR(IF(A871=\"\",\"\",VLOOKUP(A871,[1]Hoja1!$B$2:$U$4999,19,FALSE)),0)","v":""},"",null,{"$f":"IFERROR(IF(O871=\"\",\"\",VLOOKUP(O871,JORNADA!$A$19:$B$20,2,FALSE)),\"\")","v":""},{"$f":"IFERROR(IF(A871=\"\",\"\",VLOOKUP(A871,[1]Hoja1!$B$2:$U$4999,3,FALSE)),0)","v":""},null,"","",{"$f":"IFERROR(IF(A871=\"\",\"\",VLOOKUP(A871,[1]Hoja1!$B$2:$U$4999,10,FALSE)),0)","v":""},{"$f":"IFERROR(IF(Q871=\"\",\"\",VLOOKUP(Q871,[1]Hoja1!$D$2:$AF$4999,29,FALSE)),\"NO EXISTE CUENTA\")","v":""},null,null,""]
[null,{"$f":"IFERROR(IF(A872=\"\",\"\",VLOOKUP(A872,[1]Hoja1!$B$2:$U$4999,9,FALSE)),0)","v":""},{"$f":"IFERROR(IF(A872=\"\",\"\",VLOOKUP(A872,[1]Hoja1!$B$2:$U$4999,2,FALSE)),\" --- NO EXISTE TRABAJADOR --- \")","v":""},null,null,null,null,null,"","","",{"$f":"IFERROR(IF(A872=\"\",\"\",VLOOKUP(A872,[1]Hoja1!$B$2:$U$4999,18,FALSE)),0)","v":""},{"$f":"IFERROR(IF(A872=\"\",\"\",VLOOKUP(A872,[1]Hoja1!$B$2:$U$4999,19,FALSE)),0)","v":""},"",null,{"$f":"IFERROR(IF(O872=\"\",\"\",VLOOKUP(O872,JORNADA!$A$19:$B$20,2,FALSE)),\"\")","v":""},{"$f":"IFERROR(IF(A872=\"\",\"\",VLOOKUP(A872,[1]Hoja1!$B$2:$U$4999,3,FALSE)),0)","v":""},null,"","",{"$f":"IFERROR(IF(A872=\"\",\"\",VLOOKUP(A872,[1]Hoja1!$B$2:$U$4999,10,FALSE)),0)","v":""},{"$f":"IFERROR(IF(Q872=\"\",\"\",VLOOKUP(Q872,[1]Hoja1!$D$2:$AF$4999,29,FALSE)),\"NO EXISTE CUENTA\")","v":""},null,null,""]
[null,{"$f":"IFERROR(IF(A873=\"\",\"\",VLOOKUP(A873,[1]Hoja1!$B$2:$U$4999,9,FALSE)),0)","v":""},{"$f":"IFERROR(IF(A873=\"\",\"\",VLOOKUP(A873,[1]Hoja1!$B$2:$U$4999,2,FALSE)),\" --- NO EXISTE TRABAJADOR --- \")","v":""},null,null,null,null,null,"","","",{"$f":"IFERROR(IF(A873=\"\",\"\",VLOOKUP(A873,[1]Hoja1!$B$2:$U$4999,18,FALSE)),0)","v":""},{"$f":"IFERROR(IF(A873=\"\",\"\",VLOOKUP(A873,[1]Hoja1!$B$2:$U$4999,19,FALSE)),0)","v":""},"",null,{"$f":"IFERROR(IF(O873=\"\",\"\",VLOOKUP(O873,JORNADA!$A$19:$B$20,2,FALSE)),\"\")","v":""},{"$f":"IFERROR(IF(A873=\"\",\"\",VLOOKUP(A873,[1]Hoja1!$B$2:$U$4999,3,FALSE)),0)","v":""},null,"","",{"$f":"IFERROR(IF(A873=\"\",\"\",VLOOKUP(A873,[1]Hoja1!$B$2:$U$4999,10,FALSE)),0)","v":""},{"$f":"IFERROR(IF(Q873=\"\",\"\",VLOOKUP(Q873,[1]Hoja1!$D$2:$AF$4999,29,FALSE)),\"NO EXISTE CUENTA\")","v":""},null,null,""]
[null,{"$f":"IFERROR(IF(A874=\"\",\"\",VLOOKUP(A874,[1]Hoja1!$B$2:$U$4999,9,FALSE)),0)","v":""},{"$f":"IFERROR(IF(A874=\"\",\"\",VLOOKUP(A874,[1]Hoja1!$B$2:$U$4999,2,FALSE)),\" --- NO EXISTE TRABAJADOR --- \")","v":""},null,null,null,null,null,"","","",{"$f":"IFERROR(IF(A874=\"\",\"\",VLOOKUP(A874,[1]Hoja1!$B$2:$U$4999,18,FALSE)),0)","v":""},{"$f":"IFERROR(IF(A874=\"\",\"\",VLOOKUP(A874,[1]Hoja1!$B$2:$U$4999,19,FALSE)),0)","v":""},"",null,{"$f":"IFERROR(IF(O874=\"\",\"\",VLOOKUP(O874,JORNADA!$A$19:$B$20,2,FALSE)),\"\")","v":""},{"$f":"IFERROR(IF(A874=\"\",\"\",VLOOKUP(A874,[1]Hoja1!$B$2:$U$4999,3,FALSE)),0)","v":""},null,"","",{"$f":"IFERROR(IF(A874=\"\",\"\",VLOOKUP(A874,[1]Hoja1!$B$2:$U$4999,10,FALSE)),0)","v":""},{"$f":"IFERROR(IF(Q874=\"\",\"\",VLOOKUP(Q874,[1]Hoja1!$D$2:$AF$4999,29,FALSE)),\"NO EXISTE CUENTA\")","v":""},null,null,""]
[null,{"$f":"IFERROR(IF(A875=\"\",\"\",VLOOKUP(A875,[1]Hoja1!$B$2:$U$4999,9,FALSE)),0)","v":""},{"$f":"IFERROR(IF(A875=\"\",\"\",VLOOKUP(A875,[1]Hoja1!$B$2:$U$4999,2,FALSE)),\" --- NO EXISTE TRABAJADOR --- \")","v":""},null,null,null,null,null,"","","",{"$f":"IFERROR(IF(A875=\"\",\"\",VLOOKUP(A875,[1]Hoja1!$B$2:$U$4999,18,FALSE)),0)","v":""},{"$f":"IFERROR(IF(A875=\"\",\"\",VLOOKUP(A875,[1]Hoja1!$B$2:$U$4999,19,FALSE)),0)","v":""},"",null,{"$f":"IFERROR(IF(O875=\"\",\"\",VLOOKUP(O875,JORNADA!$A$19:$B$20,2,FALSE)),\"\")","v":""},{"$f":"IFERROR(IF(A875=\"\",\"\",VLOOKUP(A875,[1]Hoja1!$B$2:$U$4999,3,FALSE)),0)","v":""},null,"","",{"$f":"IFERROR(IF(A875=\"\",\"\",VLOOKUP(A875,[1]Hoja1!$B$2:$U$4999,10,FALSE)),0)","v":""},{"$f":"IFERROR(IF(Q875=\"\",\"\",VLOOKUP(Q875,[1]Hoja1!$D$2:$AF$4999,29,FALSE)),\"NO EXISTE CUENTA\")","v":""},null,null,""]
[null,{"$f":"IFERROR(IF(A876=\"\",\"\",VLOOKUP(A876,[1]Hoja1!$B$2:$U$4999,9,FALSE)),0)","v":""},{"$f":"IFERROR(IF(A876=\"\",\"\",VLOOKUP(A876,[1]Hoja1!$B$2:$U$4999,2,FALSE)),\" --- NO EXISTE TRABAJADOR --- \")","v":""},null,null,null,null,null,"","","",{"$f":"IFERROR(IF(A876=\"\",\"\",VLOOKUP(A876,[1]Hoja1!$B$2:$U$4999,18,FALSE)),0)","v":""},{"$f":"IFERROR(IF(A876=\"\",\"\",VLOOKUP(A876,[1]Hoja1!$B$2:$U$4999,19,FALSE)),0)","v":""},"",null,{"$f":"IFERROR(IF(O876=\"\",\"\",VLOOKUP(O876,JORNADA!$A$19:$B$20,2,FALSE)),\"\")","v":""},{"$f":"IFERROR(IF(A876=\"\",\"\",VLOOKUP(A876,[1]Hoja1!$B$2:$U$4999,3,FALSE)),0)","v":""},null,"","",{"$f":"IFERROR(IF(A876=\"\",\"\",VLOOKUP(A876,[1]Hoja1!$B$2:$U$4999,10,FALSE)),0)","v":""},{"$f":"IFERROR(IF(Q876=\"\",\"\",VLOOKUP(Q876,[1]Hoja1!$D$2:$AF$4999,29,FALSE)),\"NO EXISTE CUENTA\")","v":""},null,null,""]
[null,{"$f":"IFERROR(IF(A877=\"\",\"\",VLOOKUP(A877,[1]Hoja1!$B$2:$U$4999,9,FALSE)),0)","v":""},{"$f":"IFERROR(IF(A877=\"\",\"\",VLOOKUP(A877,[1]Hoja1!$B$2:$U$4999,2,FALSE)),\" --- NO EXISTE TRABAJADOR --- \")","v":""},null,null,null,null,null,"","","",{"$f":"IFERROR(IF(A877=\"\",\"\",VLOOKUP(A877,[1]Hoja1!$B$2:$U$4999,18,FALSE)),0)","v":""},{"$f":"IFERROR(IF(A877=\"\",\"\",VLOOKUP(A877,[1]Hoja1!$B$2:$U$4999,19,FALSE)),0)","v":""},"",null,{"$f":"IFERROR(IF(O877=\"\",\"\",VLOOKUP(O877,JORNADA!$A$19:$B$20,2,FALSE)),\"\")","v":""},{"$f":"IFERROR(IF(A877=\"\",\"\",VLOOKUP(A877,[1]Hoja1!$B$2:$U$4999,3,FALSE)),0)","v":""},null,"","",{"$f":"IFERROR(IF(A877=\"\",\"\",VLOOKUP(A877,[1]Hoja1!$B$2:$U$4999,10,FALSE)),0)","v":""},{"$f":"IFERROR(IF(Q877=\"\",\"\",VLOOKUP(Q877,[1]Hoja1!$D$2:$AF$4999,29,FALSE)),\"NO EXISTE CUENTA\")","v":""},null,null,""]
[null,{"$f":"IFERROR(IF(A878=\"\",\"\",VLOOKUP(A878,[1]Hoja1!$B$2:$U$4999,9,FALSE)),0)","v":""},{"$f":"IFERROR(IF(A878=\"\",\"\",VLOOKUP(A878,[1]Hoja1!$B$2:$U$4999,2,FALSE)),\" --- NO EXISTE TRABAJADOR --- \")","v":""},null,null,null,null,null,"","","",{"$f":"IFERROR(IF(A878=\"\",\"\",VLOOKUP(A878,[1]Hoja1!$B$2:$U$4999,18,FALSE)),0)","v":""},{"$f":"IFERROR(IF(A878=\"\",\"\",VLOOKUP(A878,[1]Hoja1!$B$2:$U$4999,19,FALSE)),0)","v":""},"",null,{"$f":"IFERROR(IF(O878=\"\",\"\",VLOOKUP(O878,JORNADA!$A$19:$B$20,2,FALSE)),\"\")","v":""},{"$f":"IFERROR(IF(A878=\"\",\"\",VLOOKUP(A878,[1]Hoja1!$B$2:$U$4999,3,FALSE)),0)","v":""},null,"","",{"$f":"IFERROR(IF(A878=\"\",\"\",VLOOKUP(A878,[1]Hoja1!$B$2:$U$4999,10,FALSE)),0)","v":""},{"$f":"IFERROR(IF(Q878=\"\",\"\",VLOOKUP(Q878,[1]Hoja1!$D$2:$AF$4999,29,FALSE)),\"NO EXISTE CUENTA\")","v":""},null,null,""]
[null,{"$f":"IFERROR(IF(A879=\"\",\"\",VLOOKUP(A879,[1]Hoja1!$B$2:$U$4999,9,FALSE)),0)","v":""},{"$f":"IFERROR(IF(A879=\"\",\"\",VLOOKUP(A879,[1]Hoja1!$B$2:$U$4999,2,FALSE)),\" --- NO EXISTE TRABAJADOR --- \")","v":""},null,null,null,null,null,"","","",{"$f":"IFERROR(IF(A879=\"\",\"\",VLOOKUP(A879,[1]Hoja1!$B$2:$U$4999,18,FALSE)),0)","v":""},{"$f":"IFERROR(IF(A879=\"\",\"\",VLOOKUP(A879,[1]Hoja1!$B$2:$U$4999,19,FALSE)),0)","v":""},"",null,{"$f":"IFERROR(IF(O879=\"\",\"\",VLOOKUP(O879,JORNADA!$A$19:$B$20,2,FALSE)),\"\")","v":""},{"$f":"IFERROR(IF(A879=\"\",\"\",VLOOKUP(A879,[1]Hoja1!$B$2:$U$4999,3,FALSE)),0)","v":""},null,"","",{"$f":"IFERROR(IF(A879=\"\",\"\",VLOOKUP(A879,[1]Hoja1!$B$2:$U$4999,10,FALSE)),0)","v":""},{"$f":"IFERROR(IF(Q879=\"\",\"\",VLOOKUP(Q879,[1]Hoja1!$D$2:$AF$4999,29,FALSE)),\"NO EXISTE CUENTA\")","v":""},null,null,""]
[null,{"$f":"IFERROR(IF(A880=\"\",\"\",VLOOKUP(A880,[1]Hoja1!$B$2:$U$4999,9,FALSE)),0)","v":""},{"$f":"IFERROR(IF(A880=\"\",\"\",VLOOKUP(A880,[1]Hoja1!$B$2:$U$4999,2,FALSE)),\" --- NO EXISTE TRABAJADOR --- \")","v":""},null,null,null,null,null,"","","",{"$f":"IFERROR(IF(A880=\"\",\"\",VLOOKUP(A880,[1]Hoja1!$B$2:$U$4999,18,FALSE)),0)","v":""},{"$f":"IFERROR(IF(A880=\"\",\"\",VLOOKUP(A880,[1]Hoja1!$B$2:$U$4999,19,FALSE)),0)","v":""},"",null,{"$f":"IFERROR(IF(O880=\"\",\"\",VLOOKUP(O880,JORNADA!$A$19:$B$20,2,FALSE)),\"\")","v":""},{"$f":"IFERROR(IF(A880=\"\",\"\",VLOOKUP(A880,[1]Hoja1!$B$2:$U$4999,3,FALSE)),0)","v":""},null,"","",{"$f":"IFERROR(IF(A880=\"\",\"\",VLOOKUP(A880,[1]Hoja1!$B$2:$U$4999,10,FALSE)),0)","v":""},{"$f":"IFERROR(IF(Q880=\"\",\"\",VLOOKUP(Q880,[1]Hoja1!$D$2:$AF$4999,29,FALSE)),\"NO EXISTE CUENTA\")","v":""},null,null,""]
[null,{"$f":"IFERROR(IF(A881=\"\",\"\",VLOOKUP(A881,[1]Hoja1!$B$2:$U$4999,9,FALSE)),0)","v":""},{"$f":"IFERROR(IF(A881=\"\",\"\",VLOOKUP(A881,[1]Hoja1!$B$2:$U$4999,2,FALSE)),\" --- NO EXISTE TRABAJADOR --- \")","v":""},null,null,null,null,null,"","","",{"$f":"IFERROR(IF(A881=\"\",\"\",VLOOKUP(A881,[1]Hoja1!$B$2:$U$4999,18,FALSE)),0)","v":""},{"$f":"IFERROR(IF(A881=\"\",\"\",VLOOKUP(A881,[1]Hoja1!$B$2:$U$4999,19,FALSE)),0)","v":""},"",null,{"$f":"IFERROR(IF(O881=\"\",\"\",VLOOKUP(O881,JORNADA!$A$19:$B$20,2,FALSE)),\"\")","v":""},{"$f":"IFERROR(IF(A881=\"\",\"\",VLOOKUP(A881,[1]Hoja1!$B$2:$U$4999,3,FALSE)),0)","v":""},null,"","",{"$f":"IFERROR(IF(A881=\"\",\"\",VLOOKUP(A881,[1]Hoja1!$B$2:$U$4999,10,FALSE)),0)","v":""},{"$f":"IFERROR(IF(Q881=\"\",\"\",VLOOKUP(Q881,[1]Hoja1!$D$2:$AF$4999,29,FALSE)),\"NO EXISTE CUENTA\")","v":""},null,null,""]
[null,{"$f":"IFERROR(IF(A882=\"\",\"\",VLOOKUP(A882,[1]Hoja1!$B$2:$U$4999,9,FALSE)),0)","v":""},{"$f":"IFERROR(IF(A882=\"\",\"\",VLOOKUP(A882,[1]Hoja1!$B$2:$U$4999,2,FALSE)),\" --- NO EXISTE TRABAJADOR --- \")","v":""},null,null,null,null,null,"","","",{"$f":"IFERROR(IF(A882=\"\",\"\",VLOOKUP(A882,[1]Hoja1!$B$2:$U$4999,18,FALSE)),0)","v":""},{"$f":"IFERROR(IF(A882=\"\",\"\",VLOOKUP(A882,[1]Hoja1!$B$2:$U$4999,19,FALSE)),0)","v":""},"",null,{"$f":"IFERROR(IF(O882=\"\",\"\",VLOOKUP(O882,JORNADA!$A$19:$B$20,2,FALSE)),\"\")","v":""},{"$f":"IFERROR(IF(A882=\"\",\"\",VLOOKUP(A882,[1]Hoja1!$B$2:$U$4999,3,FALSE)),0)","v":""},null,"","",{"$f":"IFERROR(IF(A882=\"\",\"\",VLOOKUP(A882,[1]Hoja1!$B$2:$U$4999,10,FALSE)),0)","v":""},{"$f":"IFERROR(IF(Q882=\"\",\"\",VLOOKUP(Q882,[1]Hoja1!$D$2:$AF$4999,29,FALSE)),\"NO EXISTE CUENTA\")","v":""},null,null,""]
[null,{"$f":"IFERROR(IF(A883=\"\",\"\",VLOOKUP(A883,[1]Hoja1!$B$2:$U$4999,9,FALSE)),0)","v":""},{"$f":"IFERROR(IF(A883=\"\",\"\",VLOOKUP(A883,[1]Hoja1!$B$2:$U$4999,2,FALSE)),\" --- NO EXISTE TRABAJADOR --- \")","v":""},null,null,null,null,null,"","","",{"$f":"IFERROR(IF(A883=\"\",\"\",VLOOKUP(A883,[1]Hoja1!$B$2:$U$4999,18,FALSE)),0)","v":""},{"$f":"IFERROR(IF(A883=\"\",\"\",VLOOKUP(A883,[1]Hoja1!$B$2:$U$4999,19,FALSE)),0)","v":""},"",null,{"$f":"IFERROR(IF(O883=\"\",\"\",VLOOKUP(O883,JORNADA!$A$19:$B$20,2,FALSE)),\"\")","v":""},{"$f":"IFERROR(IF(A883=\"\",\"\",VLOOKUP(A883,[1]Hoja1!$B$2:$U$4999,3,FALSE)),0)","v":""},null,"","",{"$f":"IFERROR(IF(A883=\"\",\"\",VLOOKUP(A883,[1]Hoja1!$B$2:$U$4999,10,FALSE)),0)","v":""},{"$f":"IFERROR(IF(Q883=\"\",\"\",VLOOKUP(Q883,[1]Hoja1!$D$2:$AF$4999,29,FALSE)),\"NO EXISTE CUENTA\")","v":""},null,null,""]
[null,{"$f":"IFERROR(IF(A884=\"\",\"\",VLOOKUP(A884,[1]Hoja1!$B$2:$U$4999,9,FALSE)),0)","v":""},{"$f":"IFERROR(IF(A884=\"\",\"\",VLOOKUP(A884,[1]Hoja1!$B$2:$U$4999,2,FALSE)),\" --- NO EXISTE TRABAJADOR --- \")","v":""},null,null,null,null,null,"","","",{"$f":"IFERROR(IF(A884=\"\",\"\",VLOOKUP(A884,[1]Hoja1!$B$2:$U$4999,18,FALSE)),0)","v":""},{"$f":"IFERROR(IF(A884=\"\",\"\",VLOOKUP(A884,[1]Hoja1!$B$2:$U$4999,19,FALSE)),0)","v":""},"",null,{"$f":"IFERROR(IF(O884=\"\",\"\",VLOOKUP(O884,JORNADA!$A$19:$B$20,2,FALSE)),\"\")","v":""},{"$f":"IFERROR(IF(A884=\"\",\"\",VLOOKUP(A884,[1]Hoja1!$B$2:$U$4999,3,FALSE)),0)","v":""},null,"","",{"$f":"IFERROR(IF(A884=\"\",\"\",VLOOKUP(A884,[1]Hoja1!$B$2:$U$4999,10,FALSE)),0)","v":""},{"$f":"IFERROR(IF(Q884=\"\",\"\",VLOOKUP(Q884,[1]Hoja1!$D$2:$AF$4999,29,FALSE)),\"NO EXISTE CUENTA\")","v":""},null,null,""]
[null,{"$f":"IFERROR(IF(A885=\"\",\"\",VLOOKUP(A885,[1]Hoja1!$B$2:$U$4999,9,FALSE)),0)","v":""},{"$f":"IFERROR(IF(A885=\"\",\"\",VLOOKUP(A885,[1]Hoja1!$B$2:$U$4999,2,FALSE)),\" --- NO EXISTE TRABAJADOR --- \")","v":""},null,null,null,null,null,"","","",{"$f":"IFERROR(IF(A885=\"\",\"\",VLOOKUP(A885,[1]Hoja1!$B$2:$U$4999,18,FALSE)),0)","v":""},{"$f":"IFERROR(IF(A885=\"\",\"\",VLOOKUP(A885,[1]Hoja1!$B$2:$U$4999,19,FALSE)),0)","v":""},"",null,{"$f":"IFERROR(IF(O885=\"\",\"\",VLOOKUP(O885,JORNADA!$A$19:$B$20,2,FALSE)),\"\")","v":""},{"$f":"IFERROR(IF(A885=\"\",\"\",VLOOKUP(A885,[1]Hoja1!$B$2:$U$4999,3,FALSE)),0)","v":""},null,"","",{"$f":"IFERROR(IF(A885=\"\",\"\",VLOOKUP(A885,[1]Hoja1!$B$2:$U$4999,10,FALSE)),0)","v":""},{"$f":"IFERROR(IF(Q885=\"\",\"\",VLOOKUP(Q885,[1]Hoja1!$D$2:$AF$4999,29,FALSE)),\"NO EXISTE CUENTA\")","v":""},null,null,""]
[null,{"$f":"IFERROR(IF(A886=\"\",\"\",VLOOKUP(A886,[1]Hoja1!$B$2:$U$4999,9,FALSE)),0)","v":""},{"$f":"IFERROR(IF(A886=\"\",\"\",VLOOKUP(A886,[1]Hoja1!$B$2:$U$4999,2,FALSE)),\" --- NO EXISTE TRABAJADOR --- \")","v":""},null,null,null,null,null,"","","",{"$f":"IFERROR(IF(A886=\"\",\"\",VLOOKUP(A886,[1]Hoja1!$B$2:$U$4999,18,FALSE)),0)","v":""},{"$f":"IFERROR(IF(A886=\"\",\"\",VLOOKUP(A886,[1]Hoja1!$B$2:$U$4999,19,FALSE)),0)","v":""},"",null,{"$f":"IFERROR(IF(O886=\"\",\"\",VLOOKUP(O886,JORNADA!$A$19:$B$20,2,FALSE)),\"\")","v":""},{"$f":"IFERROR(IF(A886=\"\",\"\",VLOOKUP(A886,[1]Hoja1!$B$2:$U$4999,3,FALSE)),0)","v":""},null,"","",{"$f":"IFERROR(IF(A886=\"\",\"\",VLOOKUP(A886,[1]Hoja1!$B$2:$U$4999,10,FALSE)),0)","v":""},{"$f":"IFERROR(IF(Q886=\"\",\"\",VLOOKUP(Q886,[1]Hoja1!$D$2:$AF$4999,29,FALSE)),\"NO EXISTE CUENTA\")","v":""},null,null,""]
[null,{"$f":"IFERROR(IF(A887=\"\",\"\",VLOOKUP(A887,[1]Hoja1!$B$2:$U$4999,9,FALSE)),0)","v":""},{"$f":"IFERROR(IF(A887=\"\",\"\",VLOOKUP(A887,[1]Hoja1!$B$2:$U$4999,2,FALSE)),\" --- NO EXISTE TRABAJADOR --- \")","v":""},null,null,null,null,null,"","","",{"$f":"IFERROR(IF(A887=\"\",\"\",VLOOKUP(A887,[1]Hoja1!$B$2:$U$4999,18,FALSE)),0)","v":""},{"$f":"IFERROR(IF(A887=\"\",\"\",VLOOKUP(A887,[1]Hoja1!$B$2:$U$4999,19,FALSE)),0)","v":""},"",null,{"$f":"IFERROR(IF(O887=\"\",\"\",VLOOKUP(O887,JORNADA!$A$19:$B$20,2,FALSE)),\"\")","v":""},{"$f":"IFERROR(IF(A887=\"\",\"\",VLOOKUP(A887,[1]Hoja1!$B$2:$U$4999,3,FALSE)),0)","v":""},null,"","",{"$f":"IFERROR(IF(A887=\"\",\"\",VLOOKUP(A887,[1]Hoja1!$B$2:$U$4999,10,FALSE)),0)","v":""},{"$f":"IFERROR(IF(Q887=\"\",\"\",VLOOKUP(Q887,[1]Hoja1!$D$2:$AF$4999,29,FALSE)),\"NO EXISTE CUENTA\")","v":""},null,null,""]
[null,{"$f":"IFERROR(IF(A888=\"\",\"\",VLOOKUP(A888,[1]Hoja1!$B$2:$U$4999,9,FALSE)),0)","v":""},{"$f":"IFERROR(IF(A888=\"\",\"\",VLOOKUP(A888,[1]Hoja1!$B$2:$U$4999,2,FALSE)),\" --- NO EXISTE TRABAJADOR --- \")","v":""},null,null,null,null,null,"","","",{"$f":"IFERROR(IF(A888=\"\",\"\",VLOOKUP(A888,[1]Hoja1!$B$2:$U$4999,18,FALSE)),0)","v":""},{"$f":"IFERROR(IF(A888=\"\",\"\",VLOOKUP(A888,[1]Hoja1!$B$2:$U$4999,19,FALSE)),0)","v":""},"",null,{"$f":"IFERROR(IF(O888=\"\",\"\",VLOOKUP(O888,JORNADA!$A$19:$B$20,2,FALSE)),\"\")","v":""},{"$f":"IFERROR(IF(A888=\"\",\"\",VLOOKUP(A888,[1]Hoja1!$B$2:$U$4999,3,FALSE)),0)","v":""},null,"","",{"$f":"IFERROR(IF(A888=\"\",\"\",VLOOKUP(A888,[1]Hoja1!$B$2:$U$4999,10,FALSE)),0)","v":""},{"$f":"IFERROR(IF(Q888=\"\",\"\",VLOOKUP(Q888,[1]Hoja1!$D$2:$AF$4999,29,FALSE)),\"NO EXISTE CUENTA\")","v":""},null,null,""]
[null,{"$f":"IFERROR(IF(A889=\"\",\"\",VLOOKUP(A889,[1]Hoja1!$B$2:$U$4999,9,FALSE)),0)","v":""},{"$f":"IFERROR(IF(A889=\"\",\"\",VLOOKUP(A889,[1]Hoja1!$B$2:$U$4999,2,FALSE)),\" --- NO EXISTE TRABAJADOR --- \")","v":""},null,null,null,null,null,"","","",{"$f":"IFERROR(IF(A889=\"\",\"\",VLOOKUP(A889,[1]Hoja1!$B$2:$U$4999,18,FALSE)),0)","v":""},{"$f":"IFERROR(IF(A889=\"\",\"\",VLOOKUP(A889,[1]Hoja1!$B$2:$U$4999,19,FALSE)),0)","v":""},"",null,{"$f":"IFERROR(IF(O889=\"\",\"\",VLOOKUP(O889,JORNADA!$A$19:$B$20,2,FALSE)),\"\")","v":""},{"$f":"IFERROR(IF(A889=\"\",\"\",VLOOKUP(A889,[1]Hoja1!$B$2:$U$4999,3,FALSE)),0)","v":""},null,"","",{"$f":"IFERROR(IF(A889=\"\",\"\",VLOOKUP(A889,[1]Hoja1!$B$2:$U$4999,10,FALSE)),0)","v":""},{"$f":"IFERROR(IF(Q889=\"\",\"\",VLOOKUP(Q889,[1]Hoja1!$D$2:$AF$4999,29,FALSE)),\"NO EXISTE CUENTA\")","v":""},null,null,""]
[null,{"$f":"IFERROR(IF(A890=\"\",\"\",VLOOKUP(A890,[1]Hoja1!$B$2:$U$4999,9,FALSE)),0)","v":""},{"$f":"IFERROR(IF(A890=\"\",\"\",VLOOKUP(A890,[1]Hoja1!$B$2:$U$4999,2,FALSE)),\" --- NO EXISTE TRABAJADOR --- \")","v":""},null,null,null,null,null,"","","",{"$f":"IFERROR(IF(A890=\"\",\"\",VLOOKUP(A890,[1]Hoja1!$B$2:$U$4999,18,FALSE)),0)","v":""},{"$f":"IFERROR(IF(A890=\"\",\"\",VLOOKUP(A890,[1]Hoja1!$B$2:$U$4999,19,FALSE)),0)","v":""},"",null,{"$f":"IFERROR(IF(O890=\"\",\"\",VLOOKUP(O890,JORNADA!$A$19:$B$20,2,FALSE)),\"\")","v":""},{"$f":"IFERROR(IF(A890=\"\",\"\",VLOOKUP(A890,[1]Hoja1!$B$2:$U$4999,3,FALSE)),0)","v":""},null,"","",{"$f":"IFERROR(IF(A890=\"\",\"\",VLOOKUP(A890,[1]Hoja1!$B$2:$U$4999,10,FALSE)),0)","v":""},{"$f":"IFERROR(IF(Q890=\"\",\"\",VLOOKUP(Q890,[1]Hoja1!$D$2:$AF$4999,29,FALSE)),\"NO EXISTE CUENTA\")","v":""},null,null,""]
[null,{"$f":"IFERROR(IF(A891=\"\",\"\",VLOOKUP(A891,[1]Hoja1!$B$2:$U$4999,9,FALSE)),0)","v":""},{"$f":"IFERROR(IF(A891=\"\",\"\",VLOOKUP(A891,[1]Hoja1!$B$2:$U$4999,2,FALSE)),\" --- NO EXISTE TRABAJADOR --- \")","v":""},null,null,null,null,null,"","","",{"$f":"IFERROR(IF(A891=\"\",\"\",VLOOKUP(A891,[1]Hoja1!$B$2:$U$4999,18,FALSE)),0)","v":""},{"$f":"IFERROR(IF(A891=\"\",\"\",VLOOKUP(A891,[1]Hoja1!$B$2:$U$4999,19,FALSE)),0)","v":""},"",null,{"$f":"IFERROR(IF(O891=\"\",\"\",VLOOKUP(O891,JORNADA!$A$19:$B$20,2,FALSE)),\"\")","v":""},{"$f":"IFERROR(IF(A891=\"\",\"\",VLOOKUP(A891,[1]Hoja1!$B$2:$U$4999,3,FALSE)),0)","v":""},null,"","",{"$f":"IFERROR(IF(A891=\"\",\"\",VLOOKUP(A891,[1]Hoja1!$B$2:$U$4999,10,FALSE)),0)","v":""},{"$f":"IFERROR(IF(Q891=\"\",\"\",VLOOKUP(Q891,[1]Hoja1!$D$2:$AF$4999,29,FALSE)),\"NO EXISTE CUENTA\")","v":""},null,null,""]
[null,{"$f":"IFERROR(IF(A892=\"\",\"\",VLOOKUP(A892,[1]Hoja1!$B$2:$U$4999,9,FALSE)),0)","v":""},{"$f":"IFERROR(IF(A892=\"\",\"\",VLOOKUP(A892,[1]Hoja1!$B$2:$U$4999,2,FALSE)),\" --- NO EXISTE TRABAJADOR --- \")","v":""},null,null,null,null,null,"","","",{"$f":"IFERROR(IF(A892=\"\",\"\",VLOOKUP(A892,[1]Hoja1!$B$2:$U$4999,18,FALSE)),0)","v":""},{"$f":"IFERROR(IF(A892=\"\",\"\",VLOOKUP(A892,[1]Hoja1!$B$2:$U$4999,19,FALSE)),0)","v":""},"",null,{"$f":"IFERROR(IF(O892=\"\",\"\",VLOOKUP(O892,JORNADA!$A$19:$B$20,2,FALSE)),\"\")","v":""},{"$f":"IFERROR(IF(A892=\"\",\"\",VLOOKUP(A892,[1]Hoja1!$B$2:$U$4999,3,FALSE)),0)","v":""},null,"","",{"$f":"IFERROR(IF(A892=\"\",\"\",VLOOKUP(A892,[1]Hoja1!$B$2:$U$4999,10,FALSE)),0)","v":""},{"$f":"IFERROR(IF(Q892=\"\",\"\",VLOOKUP(Q892,[1]Hoja1!$D$2:$AF$4999,29,FALSE)),\"NO EXISTE CUENTA\")","v":""},null,null,""]
[null,{"$f":"IFERROR(IF(A893=\"\",\"\",VLOOKUP(A893,[1]Hoja1!$B$2:$U$4999,9,FALSE)),0)","v":""},{"$f":"IFERROR(IF(A893=\"\",\"\",VLOOKUP(A893,[1]Hoja1!$B$2:$U$4999,2,FALSE)),\" --- NO EXISTE TRABAJADOR --- \")","v":""},null,null,null,null,null,"","","",{"$f":"IFERROR(IF(A893=\"\",\"\",VLOOKUP(A893,[1]Hoja1!$B$2:$U$4999,18,FALSE)),0)","v":""},{"$f":"IFERROR(IF(A893=\"\",\"\",VLOOKUP(A893,[1]Hoja1!$B$2:$U$4999,19,FALSE)),0)","v":""},"",null,{"$f":"IFERROR(IF(O893=\"\",\"\",VLOOKUP(O893,JORNADA!$A$19:$B$20,2,FALSE)),\"\")","v":""},{"$f":"IFERROR(IF(A893=\"\",\"\",VLOOKUP(A893,[1]Hoja1!$B$2:$U$4999,3,FALSE)),0)","v":""},null,"","",{"$f":"IFERROR(IF(A893=\"\",\"\",VLOOKUP(A893,[1]Hoja1!$B$2:$U$4999,10,FALSE)),0)","v":""},{"$f":"IFERROR(IF(Q893=\"\",\"\",VLOOKUP(Q893,[1]Hoja1!$D$2:$AF$4999,29,FALSE)),\"NO EXISTE CUENTA\")","v":""},null,null,""]
[null,{"$f":"IFERROR(IF(A894=\"\",\"\",VLOOKUP(A894,[1]Hoja1!$B$2:$U$4999,9,FALSE)),0)","v":""},{"$f":"IFERROR(IF(A894=\"\",\"\",VLOOKUP(A894,[1]Hoja1!$B$2:$U$4999,2,FALSE)),\" --- NO EXISTE TRABAJADOR --- \")","v":""},null,null,null,null,null,"","","",{"$f":"IFERROR(IF(A894=\"\",\"\",VLOOKUP(A894,[1]Hoja1!$B$2:$U$4999,18,FALSE)),0)","v":""},{"$f":"IFERROR(IF(A894=\"\",\"\",VLOOKUP(A894,[1]Hoja1!$B$2:$U$4999,19,FALSE)),0)","v":""},"",null,{"$f":"IFERROR(IF(O894=\"\",\"\",VLOOKUP(O894,JORNADA!$A$19:$B$20,2,FALSE)),\"\")","v":""},{"$f":"IFERROR(IF(A894=\"\",\"\",VLOOKUP(A894,[1]Hoja1!$B$2:$U$4999,3,FALSE)),0)","v":""},null,"","",{"$f":"IFERROR(IF(A894=\"\",\"\",VLOOKUP(A894,[1]Hoja1!$B$2:$U$4999,10,FALSE)),0)","v":""},{"$f":"IFERROR(IF(Q894=\"\",\"\",VLOOKUP(Q894,[1]Hoja1!$D$2:$AF$4999,29,FALSE)),\"NO EXISTE CUENTA\")","v":""},null,null,""]
[null,{"$f":"IFERROR(IF(A895=\"\",\"\",VLOOKUP(A895,[1]Hoja1!$B$2:$U$4999,9,FALSE)),0)","v":""},{"$f":"IFERROR(IF(A895=\"\",\"\",VLOOKUP(A895,[1]Hoja1!$B$2:$U$4999,2,FALSE)),\" --- NO EXISTE TRABAJADOR --- \")","v":""},null,null,null,null,null,"","","",{"$f":"IFERROR(IF(A895=\"\",\"\",VLOOKUP(A895,[1]Hoja1!$B$2:$U$4999,18,FALSE)),0)","v":""},{"$f":"IFERROR(IF(A895=\"\",\"\",VLOOKUP(A895,[1]Hoja1!$B$2:$U$4999,19,FALSE)),0)","v":""},"",null,{"$f":"IFERROR(IF(O895=\"\",\"\",VLOOKUP(O895,JORNADA!$A$19:$B$20,2,FALSE)),\"\")","v":""},{"$f":"IFERROR(IF(A895=\"\",\"\",VLOOKUP(A895,[1]Hoja1!$B$2:$U$4999,3,FALSE)),0)","v":""},null,"","",{"$f":"IFERROR(IF(A895=\"\",\"\",VLOOKUP(A895,[1]Hoja1!$B$2:$U$4999,10,FALSE)),0)","v":""},{"$f":"IFERROR(IF(Q895=\"\",\"\",VLOOKUP(Q895,[1]Hoja1!$D$2:$AF$4999,29,FALSE)),\"NO EXISTE CUENTA\")","v":""},null,null,""]
[null,{"$f":"IFERROR(IF(A896=\"\",\"\",VLOOKUP(A896,[1]Hoja1!$B$2:$U$4999,9,FALSE)),0)","v":""},{"$f":"IFERROR(IF(A896=\"\",\"\",VLOOKUP(A896,[1]Hoja1!$B$2:$U$4999,2,FALSE)),\" --- NO EXISTE TRABAJADOR --- \")","v":""},null,null,null,null,null,"","","",{"$f":"IFERROR(IF(A896=\"\",\"\",VLOOKUP(A896,[1]Hoja1!$B$2:$U$4999,18,FALSE)),0)","v":""},{"$f":"IFERROR(IF(A896=\"\",\"\",VLOOKUP(A896,[1]Hoja1!$B$2:$U$4999,19,FALSE)),0)","v":""},"",null,{"$f":"IFERROR(IF(O896=\"\",\"\",VLOOKUP(O896,JORNADA!$A$19:$B$20,2,FALSE)),\"\")","v":""},{"$f":"IFERROR(IF(A896=\"\",\"\",VLOOKUP(A896,[1]Hoja1!$B$2:$U$4999,3,FALSE)),0)","v":""},null,"","",{"$f":"IFERROR(IF(A896=\"\",\"\",VLOOKUP(A896,[1]Hoja1!$B$2:$U$4999,10,FALSE)),0)","v":""},{"$f":"IFERROR(IF(Q896=\"\",\"\",VLOOKUP(Q896,[1]Hoja1!$D$2:$AF$4999,29,FALSE)),\"NO EXISTE CUENTA\")","v":""},null,null,""]
[null,{"$f":"IFERROR(IF(A897=\"\",\"\",VLOOKUP(A897,[1]Hoja1!$B$2:$U$4999,9,FALSE)),0)","v":""},{"$f":"IFERROR(IF(A897=\"\",\"\",VLOOKUP(A897,[1]Hoja1!$B$2:$U$4999,2,FALSE)),\" --- NO EXISTE TRABAJADOR --- \")","v":""},null,null,null,null,null,"","","",{"$f":"IFERROR(IF(A897=\"\",\"\",VLOOKUP(A897,[1]Hoja1!$B$2:$U$4999,18,FALSE)),0)","v":""},{"$f":"IFERROR(IF(A897=\"\",\"\",VLOOKUP(A897,[1]Hoja1!$B$2:$U$4999,19,FALSE)),0)","v":""},"",null,{"$f":"IFERROR(IF(O897=\"\",\"\",VLOOKUP(O897,JORNADA!$A$19:$B$20,2,FALSE)),\"\")","v":""},{"$f":"IFERROR(IF(A897=\"\",\"\",VLOOKUP(A897,[1]Hoja1!$B$2:$U$4999,3,FALSE)),0)","v":""},null,"","",{"$f":"IFERROR(IF(A897=\"\",\"\",VLOOKUP(A897,[1]Hoja1!$B$2:$U$4999,10,FALSE)),0)","v":""},{"$f":"IFERROR(IF(Q897=\"\",\"\",VLOOKUP(Q897,[1]Hoja1!$D$2:$AF$4999,29,FALSE)),\"NO EXISTE CUENTA\")","v":""},null,null,""]
[null,{"$f":"IFERROR(IF(A898=\"\",\"\",VLOOKUP(A898,[1]Hoja1!$B$2:$U$4999,9,FALSE)),0)","v":""},{"$f":"IFERROR(IF(A898=\"\",\"\",VLOOKUP(A898,[1]Hoja1!$B$2:$U$4999,2,FALSE)),\" --- NO EXISTE TRABAJADOR --- \")","v":""},null,null,null,null,null,"","","",{"$f":"IFERROR(IF(A898=\"\",\"\",VLOOKUP(A898,[1]Hoja1!$B$2:$U$4999,18,FALSE)),0)","v":""},{"$f":"IFERROR(IF(A898=\"\",\"\",VLOOKUP(A898,[1]Hoja1!$B$2:$U$4999,19,FALSE)),0)","v":""},"",null,{"$f":"IFERROR(IF(O898=\"\",\"\",VLOOKUP(O898,JORNADA!$A$19:$B$20,2,FALSE)),\"\")","v":""},{"$f":"IFERROR(IF(A898=\"\",\"\",VLOOKUP(A898,[1]Hoja1!$B$2:$U$4999,3,FALSE)),0)","v":""},null,"","",{"$f":"IFERROR(IF(A898=\"\",\"\",VLOOKUP(A898,[1]Hoja1!$B$2:$U$4999,10,FALSE)),0)","v":""},{"$f":"IFERROR(IF(Q898=\"\",\"\",VLOOKUP(Q898,[1]Hoja1!$D$2:$AF$4999,29,FALSE)),\"NO EXISTE CUENTA\")","v":""},null,null,{"$f":"+C898","v":""}]
[null,{"$f":"IFERROR(IF(A899=\"\",\"\",VLOOKUP(A899,[1]Hoja1!$B$2:$U$4999,9,FALSE)),0)","v":""},{"$f":"IFERROR(IF(A899=\"\",\"\",VLOOKUP(A899,[1]Hoja1!$B$2:$U$4999,2,FALSE)),\" --- NO EXISTE TRABAJADOR --- \")","v":""},null,null,null,null,null,{"$f":"IFERROR(IF(G899=\"\",\"\",VLOOKUP(G899,JORNADA,2,FALSE)),0)","v":""},{"$f":"IFERROR(IF(H899=\"\",\"\",VLOOKUP(H899,ACTIVIDAD,2,FALSE)),0)","v":""},{"$f":"CONCATENATE(J899,G899)","v":""},{"$f":"IFERROR(IF(A899=\"\",\"\",VLOOKUP(A899,[1]Hoja1!$B$2:$U$4999,18,FALSE)),0)","v":""},{"$f":"IFERROR(IF(A899=\"\",\"\",VLOOKUP(A899,[1]Hoja1!$B$2:$U$4999,19,FALSE)),0)","v":""},{"$f":"IFERROR(IF(W899=\"\",\"\",VLOOKUP(W899,LICENCIA,2,FALSE)),\"\")","v":""},null,{"$f":"IFERROR(IF(O899=\"\",\"\",VLOOKUP(O899,JORNADA!$A$19:$B$20,2,FALSE)),\"\")","v":""},{"$f":"IFERROR(IF(A899=\"\",\"\",VLOOKUP(A899,[1]Hoja1!$B$2:$U$4999,3,FALSE)),0)","v":""},null,{"$f":"IFERROR(IF(R899=\"\",\"\",VLOOKUP(R899,DNI,2,FALSE)),0)","v":""},{"$f":"IF(D899<>\"\",COUNTA(INDIRECT(\"D2:D\"&ROW()-1)),\"\")","v":""},{"$f":"IFERROR(IF(A899=\"\",\"\",VLOOKUP(A899,[1]Hoja1!$B$2:$U$4999,10,FALSE)),0)","v":""},{"$f":"IFERROR(IF(Q899=\"\",\"\",VLOOKUP(Q899,[1]Hoja1!$D$2:$AF$4999,29,FALSE)),\"NO EXISTE CUENTA\")","v":""},null,null,""]
[null,{"$f":"IFERROR(IF(A900=\"\",\"\",VLOOKUP(A900,[1]Hoja1!$B$2:$U$4999,9,FALSE)),0)","v":""},{"$f":"IFERROR(IF(A900=\"\",\"\",VLOOKUP(A900,[1]Hoja1!$B$2:$U$4999,2,FALSE)),\" --- NO EXISTE TRABAJADOR --- \")","v":""},null,null,null,null,null,"","","",{"$f":"IFERROR(IF(A900=\"\",\"\",VLOOKUP(A900,[1]Hoja1!$B$2:$U$4999,18,FALSE)),0)","v":""},{"$f":"IFERROR(IF(A900=\"\",\"\",VLOOKUP(A900,[1]Hoja1!$B$2:$U$4999,19,FALSE)),0)","v":""},"",null,{"$f":"IFERROR(IF(O900=\"\",\"\",VLOOKUP(O900,JORNADA!$A$19:$B$20,2,FALSE)),\"\")","v":""},{"$f":"IFERROR(IF(A900=\"\",\"\",VLOOKUP(A900,[1]Hoja1!$B$2:$U$4999,3,FALSE)),0)","v":""},null,"","",{"$f":"IFERROR(IF(A900=\"\",\"\",VLOOKUP(A900,[1]Hoja1!$B$2:$U$4999,10,FALSE)),0)","v":""},{"$f":"IFERROR(IF(Q900=\"\",\"\",VLOOKUP(Q900,[1]Hoja1!$D$2:$AF$4999,29,FALSE)),\"NO EXISTE CUENTA\")","v":""},null,null,""]
[null,{"$f":"IFERROR(IF(A901=\"\",\"\",VLOOKUP(A901,[1]Hoja1!$B$2:$U$4999,9,FALSE)),0)","v":""},{"$f":"IFERROR(IF(A901=\"\",\"\",VLOOKUP(A901,[1]Hoja1!$B$2:$U$4999,2,FALSE)),\" --- NO EXISTE TRABAJADOR --- \")","v":""},null,null,null,null,null,"","","",{"$f":"IFERROR(IF(A901=\"\",\"\",VLOOKUP(A901,[1]Hoja1!$B$2:$U$4999,18,FALSE)),0)","v":""},{"$f":"IFERROR(IF(A901=\"\",\"\",VLOOKUP(A901,[1]Hoja1!$B$2:$U$4999,19,FALSE)),0)","v":""},"",null,{"$f":"IFERROR(IF(O901=\"\",\"\",VLOOKUP(O901,JORNADA!$A$19:$B$20,2,FALSE)),\"\")","v":""},{"$f":"IFERROR(IF(A901=\"\",\"\",VLOOKUP(A901,[1]Hoja1!$B$2:$U$4999,3,FALSE)),0)","v":""},null,"","",{"$f":"IFERROR(IF(A901=\"\",\"\",VLOOKUP(A901,[1]Hoja1!$B$2:$U$4999,10,FALSE)),0)","v":""},{"$f":"IFERROR(IF(Q901=\"\",\"\",VLOOKUP(Q901,[1]Hoja1!$D$2:$AF$4999,29,FALSE)),\"NO EXISTE CUENTA\")","v":""},null,null,""]
[null,{"$f":"IFERROR(IF(A902=\"\",\"\",VLOOKUP(A902,[1]Hoja1!$B$2:$U$4999,9,FALSE)),0)","v":""},{"$f":"IFERROR(IF(A902=\"\",\"\",VLOOKUP(A902,[1]Hoja1!$B$2:$U$4999,2,FALSE)),\" --- NO EXISTE TRABAJADOR --- \")","v":""},null,null,null,null,null,"","","",{"$f":"IFERROR(IF(A902=\"\",\"\",VLOOKUP(A902,[1]Hoja1!$B$2:$U$4999,18,FALSE)),0)","v":""},{"$f":"IFERROR(IF(A902=\"\",\"\",VLOOKUP(A902,[1]Hoja1!$B$2:$U$4999,19,FALSE)),0)","v":""},"",null,{"$f":"IFERROR(IF(O902=\"\",\"\",VLOOKUP(O902,JORNADA!$A$19:$B$20,2,FALSE)),\"\")","v":""},{"$f":"IFERROR(IF(A902=\"\",\"\",VLOOKUP(A902,[1]Hoja1!$B$2:$U$4999,3,FALSE)),0)","v":""},null,"","",{"$f":"IFERROR(IF(A902=\"\",\"\",VLOOKUP(A902,[1]Hoja1!$B$2:$U$4999,10,FALSE)),0)","v":""},{"$f":"IFERROR(IF(Q902=\"\",\"\",VLOOKUP(Q902,[1]Hoja1!$D$2:$AF$4999,29,FALSE)),\"NO EXISTE CUENTA\")","v":""},null,null,""]
[null,{"$f":"IFERROR(IF(A903=\"\",\"\",VLOOKUP(A903,[1]Hoja1!$B$2:$U$4999,9,FALSE)),0)","v":""},{"$f":"IFERROR(IF(A903=\"\",\"\",VLOOKUP(A903,[1]Hoja1!$B$2:$U$4999,2,FALSE)),\" --- NO EXISTE TRABAJADOR --- \")","v":""},null,null,null,null,null,"","","",{"$f":"IFERROR(IF(A903=\"\",\"\",VLOOKUP(A903,[1]Hoja1!$B$2:$U$4999,18,FALSE)),0)","v":""},{"$f":"IFERROR(IF(A903=\"\",\"\",VLOOKUP(A903,[1]Hoja1!$B$2:$U$4999,19,FALSE)),0)","v":""},"",null,{"$f":"IFERROR(IF(O903=\"\",\"\",VLOOKUP(O903,JORNADA!$A$19:$B$20,2,FALSE)),\"\")","v":""},{"$f":"IFERROR(IF(A903=\"\",\"\",VLOOKUP(A903,[1]Hoja1!$B$2:$U$4999,3,FALSE)),0)","v":""},null,"","",{"$f":"IFERROR(IF(A903=\"\",\"\",VLOOKUP(A903,[1]Hoja1!$B$2:$U$4999,10,FALSE)),0)","v":""},{"$f":"IFERROR(IF(Q903=\"\",\"\",VLOOKUP(Q903,[1]Hoja1!$D$2:$AF$4999,29,FALSE)),\"NO EXISTE CUENTA\")","v":""},null,null,""]
[null,{"$f":"IFERROR(IF(A904=\"\",\"\",VLOOKUP(A904,[1]Hoja1!$B$2:$U$4999,9,FALSE)),0)","v":""},{"$f":"IFERROR(IF(A904=\"\",\"\",VLOOKUP(A904,[1]Hoja1!$B$2:$U$4999,2,FALSE)),\" --- NO EXISTE TRABAJADOR --- \")","v":""},null,null,null,null,null,"","","",{"$f":"IFERROR(IF(A904=\"\",\"\",VLOOKUP(A904,[1]Hoja1!$B$2:$U$4999,18,FALSE)),0)","v":""},{"$f":"IFERROR(IF(A904=\"\",\"\",VLOOKUP(A904,[1]Hoja1!$B$2:$U$4999,19,FALSE)),0)","v":""},"",null,{"$f":"IFERROR(IF(O904=\"\",\"\",VLOOKUP(O904,JORNADA!$A$19:$B$20,2,FALSE)),\"\")","v":""},{"$f":"IFERROR(IF(A904=\"\",\"\",VLOOKUP(A904,[1]Hoja1!$B$2:$U$4999,3,FALSE)),0)","v":""},null,"","",{"$f":"IFERROR(IF(A904=\"\",\"\",VLOOKUP(A904,[1]Hoja1!$B$2:$U$4999,10,FALSE)),0)","v":""},{"$f":"IFERROR(IF(Q904=\"\",\"\",VLOOKUP(Q904,[1]Hoja1!$D$2:$AF$4999,29,FALSE)),\"NO EXISTE CUENTA\")","v":""},null,null,""]
[null,{"$f":"IFERROR(IF(A905=\"\",\"\",VLOOKUP(A905,[1]Hoja1!$B$2:$U$4999,9,FALSE)),0)","v":""},{"$f":"IFERROR(IF(A905=\"\",\"\",VLOOKUP(A905,[1]Hoja1!$B$2:$U$4999,2,FALSE)),\" --- NO EXISTE TRABAJADOR --- \")","v":""},null,null,null,null,null,"","","",{"$f":"IFERROR(IF(A905=\"\",\"\",VLOOKUP(A905,[1]Hoja1!$B$2:$U$4999,18,FALSE)),0)","v":""},{"$f":"IFERROR(IF(A905=\"\",\"\",VLOOKUP(A905,[1]Hoja1!$B$2:$U$4999,19,FALSE)),0)","v":""},"",null,{"$f":"IFERROR(IF(O905=\"\",\"\",VLOOKUP(O905,JORNADA!$A$19:$B$20,2,FALSE)),\"\")","v":""},{"$f":"IFERROR(IF(A905=\"\",\"\",VLOOKUP(A905,[1]Hoja1!$B$2:$U$4999,3,FALSE)),0)","v":""},null,"","",{"$f":"IFERROR(IF(A905=\"\",\"\",VLOOKUP(A905,[1]Hoja1!$B$2:$U$4999,10,FALSE)),0)","v":""},{"$f":"IFERROR(IF(Q905=\"\",\"\",VLOOKUP(Q905,[1]Hoja1!$D$2:$AF$4999,29,FALSE)),\"NO EXISTE CUENTA\")","v":""},null,null,""]
[null,{"$f":"IFERROR(IF(A906=\"\",\"\",VLOOKUP(A906,[1]Hoja1!$B$2:$U$4999,9,FALSE)),0)","v":""},{"$f":"IFERROR(IF(A906=\"\",\"\",VLOOKUP(A906,[1]Hoja1!$B$2:$U$4999,2,FALSE)),\" --- NO EXISTE TRABAJADOR --- \")","v":""},null,null,null,null,null,"","","",{"$f":"IFERROR(IF(A906=\"\",\"\",VLOOKUP(A906,[1]Hoja1!$B$2:$U$4999,18,FALSE)),0)","v":""},{"$f":"IFERROR(IF(A906=\"\",\"\",VLOOKUP(A906,[1]Hoja1!$B$2:$U$4999,19,FALSE)),0)","v":""},"",null,{"$f":"IFERROR(IF(O906=\"\",\"\",VLOOKUP(O906,JORNADA!$A$19:$B$20,2,FALSE)),\"\")","v":""},{"$f":"IFERROR(IF(A906=\"\",\"\",VLOOKUP(A906,[1]Hoja1!$B$2:$U$4999,3,FALSE)),0)","v":""},null,"","",{"$f":"IFERROR(IF(A906=\"\",\"\",VLOOKUP(A906,[1]Hoja1!$B$2:$U$4999,10,FALSE)),0)","v":""},{"$f":"IFERROR(IF(Q906=\"\",\"\",VLOOKUP(Q906,[1]Hoja1!$D$2:$AF$4999,29,FALSE)),\"NO EXISTE CUENTA\")","v":""},null,null,""]
[null,{"$f":"IFERROR(IF(A907=\"\",\"\",VLOOKUP(A907,[1]Hoja1!$B$2:$U$4999,9,FALSE)),0)","v":""},{"$f":"IFERROR(IF(A907=\"\",\"\",VLOOKUP(A907,[1]Hoja1!$B$2:$U$4999,2,FALSE)),\" --- NO EXISTE TRABAJADOR --- \")","v":""},null,null,null,null,null,"","","",{"$f":"IFERROR(IF(A907=\"\",\"\",VLOOKUP(A907,[1]Hoja1!$B$2:$U$4999,18,FALSE)),0)","v":""},{"$f":"IFERROR(IF(A907=\"\",\"\",VLOOKUP(A907,[1]Hoja1!$B$2:$U$4999,19,FALSE)),0)","v":""},"",null,{"$f":"IFERROR(IF(O907=\"\",\"\",VLOOKUP(O907,JORNADA!$A$19:$B$20,2,FALSE)),\"\")","v":""},{"$f":"IFERROR(IF(A907=\"\",\"\",VLOOKUP(A907,[1]Hoja1!$B$2:$U$4999,3,FALSE)),0)","v":""},null,"","",{"$f":"IFERROR(IF(A907=\"\",\"\",VLOOKUP(A907,[1]Hoja1!$B$2:$U$4999,10,FALSE)),0)","v":""},{"$f":"IFERROR(IF(Q907=\"\",\"\",VLOOKUP(Q907,[1]Hoja1!$D$2:$AF$4999,29,FALSE)),\"NO EXISTE CUENTA\")","v":""},null,null,""]
[null,{"$f":"IFERROR(IF(A908=\"\",\"\",VLOOKUP(A908,[1]Hoja1!$B$2:$U$4999,9,FALSE)),0)","v":""},{"$f":"IFERROR(IF(A908=\"\",\"\",VLOOKUP(A908,[1]Hoja1!$B$2:$U$4999,2,FALSE)),\" --- NO EXISTE TRABAJADOR --- \")","v":""},null,null,null,null,null,"","","",{"$f":"IFERROR(IF(A908=\"\",\"\",VLOOKUP(A908,[1]Hoja1!$B$2:$U$4999,18,FALSE)),0)","v":""},{"$f":"IFERROR(IF(A908=\"\",\"\",VLOOKUP(A908,[1]Hoja1!$B$2:$U$4999,19,FALSE)),0)","v":""},"",null,{"$f":"IFERROR(IF(O908=\"\",\"\",VLOOKUP(O908,JORNADA!$A$19:$B$20,2,FALSE)),\"\")","v":""},{"$f":"IFERROR(IF(A908=\"\",\"\",VLOOKUP(A908,[1]Hoja1!$B$2:$U$4999,3,FALSE)),0)","v":""},null,"","",{"$f":"IFERROR(IF(A908=\"\",\"\",VLOOKUP(A908,[1]Hoja1!$B$2:$U$4999,10,FALSE)),0)","v":""},{"$f":"IFERROR(IF(Q908=\"\",\"\",VLOOKUP(Q908,[1]Hoja1!$D$2:$AF$4999,29,FALSE)),\"NO EXISTE CUENTA\")","v":""},null,null,""]
[null,{"$f":"IFERROR(IF(A909=\"\",\"\",VLOOKUP(A909,[1]Hoja1!$B$2:$U$4999,9,FALSE)),0)","v":""},{"$f":"IFERROR(IF(A909=\"\",\"\",VLOOKUP(A909,[1]Hoja1!$B$2:$U$4999,2,FALSE)),\" --- NO EXISTE TRABAJADOR --- \")","v":""},null,null,null,null,null,"","","",{"$f":"IFERROR(IF(A909=\"\",\"\",VLOOKUP(A909,[1]Hoja1!$B$2:$U$4999,18,FALSE)),0)","v":""},{"$f":"IFERROR(IF(A909=\"\",\"\",VLOOKUP(A909,[1]Hoja1!$B$2:$U$4999,19,FALSE)),0)","v":""},"",null,{"$f":"IFERROR(IF(O909=\"\",\"\",VLOOKUP(O909,JORNADA!$A$19:$B$20,2,FALSE)),\"\")","v":""},{"$f":"IFERROR(IF(A909=\"\",\"\",VLOOKUP(A909,[1]Hoja1!$B$2:$U$4999,3,FALSE)),0)","v":""},null,"","",{"$f":"IFERROR(IF(A909=\"\",\"\",VLOOKUP(A909,[1]Hoja1!$B$2:$U$4999,10,FALSE)),0)","v":""},{"$f":"IFERROR(IF(Q909=\"\",\"\",VLOOKUP(Q909,[1]Hoja1!$D$2:$AF$4999,29,FALSE)),\"NO EXISTE CUENTA\")","v":""},null,null,""]
[null,{"$f":"IFERROR(IF(A910=\"\",\"\",VLOOKUP(A910,[1]Hoja1!$B$2:$U$4999,9,FALSE)),0)","v":""},{"$f":"IFERROR(IF(A910=\"\",\"\",VLOOKUP(A910,[1]Hoja1!$B$2:$U$4999,2,FALSE)),\" --- NO EXISTE TRABAJADOR --- \")","v":""},null,null,null,null,null,"","","",{"$f":"IFERROR(IF(A910=\"\",\"\",VLOOKUP(A910,[1]Hoja1!$B$2:$U$4999,18,FALSE)),0)","v":""},{"$f":"IFERROR(IF(A910=\"\",\"\",VLOOKUP(A910,[1]Hoja1!$B$2:$U$4999,19,FALSE)),0)","v":""},"",null,{"$f":"IFERROR(IF(O910=\"\",\"\",VLOOKUP(O910,JORNADA!$A$19:$B$20,2,FALSE)),\"\")","v":""},{"$f":"IFERROR(IF(A910=\"\",\"\",VLOOKUP(A910,[1]Hoja1!$B$2:$U$4999,3,FALSE)),0)","v":""},null,"","",{"$f":"IFERROR(IF(A910=\"\",\"\",VLOOKUP(A910,[1]Hoja1!$B$2:$U$4999,10,FALSE)),0)","v":""},{"$f":"IFERROR(IF(Q910=\"\",\"\",VLOOKUP(Q910,[1]Hoja1!$D$2:$AF$4999,29,FALSE)),\"NO EXISTE CUENTA\")","v":""},null,null,""]
[null,{"$f":"IFERROR(IF(A911=\"\",\"\",VLOOKUP(A911,[1]Hoja1!$B$2:$U$4999,9,FALSE)),0)","v":""},{"$f":"IFERROR(IF(A911=\"\",\"\",VLOOKUP(A911,[1]Hoja1!$B$2:$U$4999,2,FALSE)),\" --- NO EXISTE TRABAJADOR --- \")","v":""},null,null,null,null,null,"","","",{"$f":"IFERROR(IF(A911=\"\",\"\",VLOOKUP(A911,[1]Hoja1!$B$2:$U$4999,18,FALSE)),0)","v":""},{"$f":"IFERROR(IF(A911=\"\",\"\",VLOOKUP(A911,[1]Hoja1!$B$2:$U$4999,19,FALSE)),0)","v":""},"",null,{"$f":"IFERROR(IF(O911=\"\",\"\",VLOOKUP(O911,JORNADA!$A$19:$B$20,2,FALSE)),\"\")","v":""},{"$f":"IFERROR(IF(A911=\"\",\"\",VLOOKUP(A911,[1]Hoja1!$B$2:$U$4999,3,FALSE)),0)","v":""},null,"","",{"$f":"IFERROR(IF(A911=\"\",\"\",VLOOKUP(A911,[1]Hoja1!$B$2:$U$4999,10,FALSE)),0)","v":""},{"$f":"IFERROR(IF(Q911=\"\",\"\",VLOOKUP(Q911,[1]Hoja1!$D$2:$AF$4999,29,FALSE)),\"NO EXISTE CUENTA\")","v":""},null,null,""]
[null,{"$f":"IFERROR(IF(A912=\"\",\"\",VLOOKUP(A912,[1]Hoja1!$B$2:$U$4999,9,FALSE)),0)","v":""},{"$f":"IFERROR(IF(A912=\"\",\"\",VLOOKUP(A912,[1]Hoja1!$B$2:$U$4999,2,FALSE)),\" --- NO EXISTE TRABAJADOR --- \")","v":""},null,null,null,null,null,"","","",{"$f":"IFERROR(IF(A912=\"\",\"\",VLOOKUP(A912,[1]Hoja1!$B$2:$U$4999,18,FALSE)),0)","v":""},{"$f":"IFERROR(IF(A912=\"\",\"\",VLOOKUP(A912,[1]Hoja1!$B$2:$U$4999,19,FALSE)),0)","v":""},"",null,{"$f":"IFERROR(IF(O912=\"\",\"\",VLOOKUP(O912,JORNADA!$A$19:$B$20,2,FALSE)),\"\")","v":""},{"$f":"IFERROR(IF(A912=\"\",\"\",VLOOKUP(A912,[1]Hoja1!$B$2:$U$4999,3,FALSE)),0)","v":""},null,"","",{"$f":"IFERROR(IF(A912=\"\",\"\",VLOOKUP(A912,[1]Hoja1!$B$2:$U$4999,10,FALSE)),0)","v":""},{"$f":"IFERROR(IF(Q912=\"\",\"\",VLOOKUP(Q912,[1]Hoja1!$D$2:$AF$4999,29,FALSE)),\"NO EXISTE CUENTA\")","v":""},null,null,""]
[null,{"$f":"IFERROR(IF(A913=\"\",\"\",VLOOKUP(A913,[1]Hoja1!$B$2:$U$4999,9,FALSE)),0)","v":""},{"$f":"IFERROR(IF(A913=\"\",\"\",VLOOKUP(A913,[1]Hoja1!$B$2:$U$4999,2,FALSE)),\" --- NO EXISTE TRABAJADOR --- \")","v":""},null,null,null,null,null,"","","",{"$f":"IFERROR(IF(A913=\"\",\"\",VLOOKUP(A913,[1]Hoja1!$B$2:$U$4999,18,FALSE)),0)","v":""},{"$f":"IFERROR(IF(A913=\"\",\"\",VLOOKUP(A913,[1]Hoja1!$B$2:$U$4999,19,FALSE)),0)","v":""},"",null,{"$f":"IFERROR(IF(O913=\"\",\"\",VLOOKUP(O913,JORNADA!$A$19:$B$20,2,FALSE)),\"\")","v":""},{"$f":"IFERROR(IF(A913=\"\",\"\",VLOOKUP(A913,[1]Hoja1!$B$2:$U$4999,3,FALSE)),0)","v":""},null,"","",{"$f":"IFERROR(IF(A913=\"\",\"\",VLOOKUP(A913,[1]Hoja1!$B$2:$U$4999,10,FALSE)),0)","v":""},{"$f":"IFERROR(IF(Q913=\"\",\"\",VLOOKUP(Q913,[1]Hoja1!$D$2:$AF$4999,29,FALSE)),\"NO EXISTE CUENTA\")","v":""},null,null,""]
[null,{"$f":"IFERROR(IF(A914=\"\",\"\",VLOOKUP(A914,[1]Hoja1!$B$2:$U$4999,9,FALSE)),0)","v":""},{"$f":"IFERROR(IF(A914=\"\",\"\",VLOOKUP(A914,[1]Hoja1!$B$2:$U$4999,2,FALSE)),\" --- NO EXISTE TRABAJADOR --- \")","v":""},null,null,null,null,null,"","","",{"$f":"IFERROR(IF(A914=\"\",\"\",VLOOKUP(A914,[1]Hoja1!$B$2:$U$4999,18,FALSE)),0)","v":""},{"$f":"IFERROR(IF(A914=\"\",\"\",VLOOKUP(A914,[1]Hoja1!$B$2:$U$4999,19,FALSE)),0)","v":""},"",null,{"$f":"IFERROR(IF(O914=\"\",\"\",VLOOKUP(O914,JORNADA!$A$19:$B$20,2,FALSE)),\"\")","v":""},{"$f":"IFERROR(IF(A914=\"\",\"\",VLOOKUP(A914,[1]Hoja1!$B$2:$U$4999,3,FALSE)),0)","v":""},null,"","",{"$f":"IFERROR(IF(A914=\"\",\"\",VLOOKUP(A914,[1]Hoja1!$B$2:$U$4999,10,FALSE)),0)","v":""},{"$f":"IFERROR(IF(Q914=\"\",\"\",VLOOKUP(Q914,[1]Hoja1!$D$2:$AF$4999,29,FALSE)),\"NO EXISTE CUENTA\")","v":""},null,null,""]
[null,{"$f":"IFERROR(IF(A915=\"\",\"\",VLOOKUP(A915,[1]Hoja1!$B$2:$U$4999,9,FALSE)),0)","v":""},{"$f":"IFERROR(IF(A915=\"\",\"\",VLOOKUP(A915,[1]Hoja1!$B$2:$U$4999,2,FALSE)),\" --- NO EXISTE TRABAJADOR --- \")","v":""},null,null,null,null,null,"","","",{"$f":"IFERROR(IF(A915=\"\",\"\",VLOOKUP(A915,[1]Hoja1!$B$2:$U$4999,18,FALSE)),0)","v":""},{"$f":"IFERROR(IF(A915=\"\",\"\",VLOOKUP(A915,[1]Hoja1!$B$2:$U$4999,19,FALSE)),0)","v":""},"",null,{"$f":"IFERROR(IF(O915=\"\",\"\",VLOOKUP(O915,JORNADA!$A$19:$B$20,2,FALSE)),\"\")","v":""},{"$f":"IFERROR(IF(A915=\"\",\"\",VLOOKUP(A915,[1]Hoja1!$B$2:$U$4999,3,FALSE)),0)","v":""},null,"","",{"$f":"IFERROR(IF(A915=\"\",\"\",VLOOKUP(A915,[1]Hoja1!$B$2:$U$4999,10,FALSE)),0)","v":""},{"$f":"IFERROR(IF(Q915=\"\",\"\",VLOOKUP(Q915,[1]Hoja1!$D$2:$AF$4999,29,FALSE)),\"NO EXISTE CUENTA\")","v":""},null,null,""]
[null,{"$f":"IFERROR(IF(A916=\"\",\"\",VLOOKUP(A916,[1]Hoja1!$B$2:$U$4999,9,FALSE)),0)","v":""},{"$f":"IFERROR(IF(A916=\"\",\"\",VLOOKUP(A916,[1]Hoja1!$B$2:$U$4999,2,FALSE)),\" --- NO EXISTE TRABAJADOR --- \")","v":""},null,null,null,null,null,"","","",{"$f":"IFERROR(IF(A916=\"\",\"\",VLOOKUP(A916,[1]Hoja1!$B$2:$U$4999,18,FALSE)),0)","v":""},{"$f":"IFERROR(IF(A916=\"\",\"\",VLOOKUP(A916,[1]Hoja1!$B$2:$U$4999,19,FALSE)),0)","v":""},"",null,{"$f":"IFERROR(IF(O916=\"\",\"\",VLOOKUP(O916,JORNADA!$A$19:$B$20,2,FALSE)),\"\")","v":""},{"$f":"IFERROR(IF(A916=\"\",\"\",VLOOKUP(A916,[1]Hoja1!$B$2:$U$4999,3,FALSE)),0)","v":""},null,"","",{"$f":"IFERROR(IF(A916=\"\",\"\",VLOOKUP(A916,[1]Hoja1!$B$2:$U$4999,10,FALSE)),0)","v":""},{"$f":"IFERROR(IF(Q916=\"\",\"\",VLOOKUP(Q916,[1]Hoja1!$D$2:$AF$4999,29,FALSE)),\"NO EXISTE CUENTA\")","v":""},null,null,""]
[null,{"$f":"IFERROR(IF(A917=\"\",\"\",VLOOKUP(A917,[1]Hoja1!$B$2:$U$4999,9,FALSE)),0)","v":""},{"$f":"IFERROR(IF(A917=\"\",\"\",VLOOKUP(A917,[1]Hoja1!$B$2:$U$4999,2,FALSE)),\" --- NO EXISTE TRABAJADOR --- \")","v":""},null,null,null,null,null,"","","",{"$f":"IFERROR(IF(A917=\"\",\"\",VLOOKUP(A917,[1]Hoja1!$B$2:$U$4999,18,FALSE)),0)","v":""},{"$f":"IFERROR(IF(A917=\"\",\"\",VLOOKUP(A917,[1]Hoja1!$B$2:$U$4999,19,FALSE)),0)","v":""},"",null,{"$f":"IFERROR(IF(O917=\"\",\"\",VLOOKUP(O917,JORNADA!$A$19:$B$20,2,FALSE)),\"\")","v":""},{"$f":"IFERROR(IF(A917=\"\",\"\",VLOOKUP(A917,[1]Hoja1!$B$2:$U$4999,3,FALSE)),0)","v":""},null,"","",{"$f":"IFERROR(IF(A917=\"\",\"\",VLOOKUP(A917,[1]Hoja1!$B$2:$U$4999,10,FALSE)),0)","v":""},{"$f":"IFERROR(IF(Q917=\"\",\"\",VLOOKUP(Q917,[1]Hoja1!$D$2:$AF$4999,29,FALSE)),\"NO EXISTE CUENTA\")","v":""},null,null,""]
[null,{"$f":"IFERROR(IF(A918=\"\",\"\",VLOOKUP(A918,[1]Hoja1!$B$2:$U$4999,9,FALSE)),0)","v":""},{"$f":"IFERROR(IF(A918=\"\",\"\",VLOOKUP(A918,[1]Hoja1!$B$2:$U$4999,2,FALSE)),\" --- NO EXISTE TRABAJADOR --- \")","v":""},null,null,null,null,null,"","","",{"$f":"IFERROR(IF(A918=\"\",\"\",VLOOKUP(A918,[1]Hoja1!$B$2:$U$4999,18,FALSE)),0)","v":""},{"$f":"IFERROR(IF(A918=\"\",\"\",VLOOKUP(A918,[1]Hoja1!$B$2:$U$4999,19,FALSE)),0)","v":""},"",null,{"$f":"IFERROR(IF(O918=\"\",\"\",VLOOKUP(O918,JORNADA!$A$19:$B$20,2,FALSE)),\"\")","v":""},{"$f":"IFERROR(IF(A918=\"\",\"\",VLOOKUP(A918,[1]Hoja1!$B$2:$U$4999,3,FALSE)),0)","v":""},null,"","",{"$f":"IFERROR(IF(A918=\"\",\"\",VLOOKUP(A918,[1]Hoja1!$B$2:$U$4999,10,FALSE)),0)","v":""},{"$f":"IFERROR(IF(Q918=\"\",\"\",VLOOKUP(Q918,[1]Hoja1!$D$2:$AF$4999,29,FALSE)),\"NO EXISTE CUENTA\")","v":""},null,null,""]
[null,{"$f":"IFERROR(IF(A919=\"\",\"\",VLOOKUP(A919,[1]Hoja1!$B$2:$U$4999,9,FALSE)),0)","v":""},{"$f":"IFERROR(IF(A919=\"\",\"\",VLOOKUP(A919,[1]Hoja1!$B$2:$U$4999,2,FALSE)),\" --- NO EXISTE TRABAJADOR --- \")","v":""},null,null,null,null,null,"","","",{"$f":"IFERROR(IF(A919=\"\",\"\",VLOOKUP(A919,[1]Hoja1!$B$2:$U$4999,18,FALSE)),0)","v":""},{"$f":"IFERROR(IF(A919=\"\",\"\",VLOOKUP(A919,[1]Hoja1!$B$2:$U$4999,19,FALSE)),0)","v":""},"",null,{"$f":"IFERROR(IF(O919=\"\",\"\",VLOOKUP(O919,JORNADA!$A$19:$B$20,2,FALSE)),\"\")","v":""},{"$f":"IFERROR(IF(A919=\"\",\"\",VLOOKUP(A919,[1]Hoja1!$B$2:$U$4999,3,FALSE)),0)","v":""},null,"","",{"$f":"IFERROR(IF(A919=\"\",\"\",VLOOKUP(A919,[1]Hoja1!$B$2:$U$4999,10,FALSE)),0)","v":""},{"$f":"IFERROR(IF(Q919=\"\",\"\",VLOOKUP(Q919,[1]Hoja1!$D$2:$AF$4999,29,FALSE)),\"NO EXISTE CUENTA\")","v":""},null,null,""]
[null,{"$f":"IFERROR(IF(A920=\"\",\"\",VLOOKUP(A920,[1]Hoja1!$B$2:$U$4999,9,FALSE)),0)","v":""},{"$f":"IFERROR(IF(A920=\"\",\"\",VLOOKUP(A920,[1]Hoja1!$B$2:$U$4999,2,FALSE)),\" --- NO EXISTE TRABAJADOR --- \")","v":""},null,null,null,null,null,"","","",{"$f":"IFERROR(IF(A920=\"\",\"\",VLOOKUP(A920,[1]Hoja1!$B$2:$U$4999,18,FALSE)),0)","v":""},{"$f":"IFERROR(IF(A920=\"\",\"\",VLOOKUP(A920,[1]Hoja1!$B$2:$U$4999,19,FALSE)),0)","v":""},"",null,{"$f":"IFERROR(IF(O920=\"\",\"\",VLOOKUP(O920,JORNADA!$A$19:$B$20,2,FALSE)),\"\")","v":""},{"$f":"IFERROR(IF(A920=\"\",\"\",VLOOKUP(A920,[1]Hoja1!$B$2:$U$4999,3,FALSE)),0)","v":""},null,"","",{"$f":"IFERROR(IF(A920=\"\",\"\",VLOOKUP(A920,[1]Hoja1!$B$2:$U$4999,10,FALSE)),0)","v":""},{"$f":"IFERROR(IF(Q920=\"\",\"\",VLOOKUP(Q920,[1]Hoja1!$D$2:$AF$4999,29,FALSE)),\"NO EXISTE CUENTA\")","v":""},null,null,""]
[null,{"$f":"IFERROR(IF(A921=\"\",\"\",VLOOKUP(A921,[1]Hoja1!$B$2:$U$4999,9,FALSE)),0)","v":""},{"$f":"IFERROR(IF(A921=\"\",\"\",VLOOKUP(A921,[1]Hoja1!$B$2:$U$4999,2,FALSE)),\" --- NO EXISTE TRABAJADOR --- \")","v":""},null,null,null,null,null,"","","",{"$f":"IFERROR(IF(A921=\"\",\"\",VLOOKUP(A921,[1]Hoja1!$B$2:$U$4999,18,FALSE)),0)","v":""},{"$f":"IFERROR(IF(A921=\"\",\"\",VLOOKUP(A921,[1]Hoja1!$B$2:$U$4999,19,FALSE)),0)","v":""},"",null,{"$f":"IFERROR(IF(O921=\"\",\"\",VLOOKUP(O921,JORNADA!$A$19:$B$20,2,FALSE)),\"\")","v":""},{"$f":"IFERROR(IF(A921=\"\",\"\",VLOOKUP(A921,[1]Hoja1!$B$2:$U$4999,3,FALSE)),0)","v":""},null,"","",{"$f":"IFERROR(IF(A921=\"\",\"\",VLOOKUP(A921,[1]Hoja1!$B$2:$U$4999,10,FALSE)),0)","v":""},{"$f":"IFERROR(IF(Q921=\"\",\"\",VLOOKUP(Q921,[1]Hoja1!$D$2:$AF$4999,29,FALSE)),\"NO EXISTE CUENTA\")","v":""},null,null,""]
[null,{"$f":"IFERROR(IF(A922=\"\",\"\",VLOOKUP(A922,[1]Hoja1!$B$2:$U$4999,9,FALSE)),0)","v":""},{"$f":"IFERROR(IF(A922=\"\",\"\",VLOOKUP(A922,[1]Hoja1!$B$2:$U$4999,2,FALSE)),\" --- NO EXISTE TRABAJADOR --- \")","v":""},null,null,null,null,null,"","","",{"$f":"IFERROR(IF(A922=\"\",\"\",VLOOKUP(A922,[1]Hoja1!$B$2:$U$4999,18,FALSE)),0)","v":""},{"$f":"IFERROR(IF(A922=\"\",\"\",VLOOKUP(A922,[1]Hoja1!$B$2:$U$4999,19,FALSE)),0)","v":""},"",null,{"$f":"IFERROR(IF(O922=\"\",\"\",VLOOKUP(O922,JORNADA!$A$19:$B$20,2,FALSE)),\"\")","v":""},{"$f":"IFERROR(IF(A922=\"\",\"\",VLOOKUP(A922,[1]Hoja1!$B$2:$U$4999,3,FALSE)),0)","v":""},null,"","",{"$f":"IFERROR(IF(A922=\"\",\"\",VLOOKUP(A922,[1]Hoja1!$B$2:$U$4999,10,FALSE)),0)","v":""},{"$f":"IFERROR(IF(Q922=\"\",\"\",VLOOKUP(Q922,[1]Hoja1!$D$2:$AF$4999,29,FALSE)),\"NO EXISTE CUENTA\")","v":""},null,null,""]
[null,{"$f":"IFERROR(IF(A923=\"\",\"\",VLOOKUP(A923,[1]Hoja1!$B$2:$U$4999,9,FALSE)),0)","v":""},{"$f":"IFERROR(IF(A923=\"\",\"\",VLOOKUP(A923,[1]Hoja1!$B$2:$U$4999,2,FALSE)),\" --- NO EXISTE TRABAJADOR --- \")","v":""},null,null,null,null,null,"","","",{"$f":"IFERROR(IF(A923=\"\",\"\",VLOOKUP(A923,[1]Hoja1!$B$2:$U$4999,18,FALSE)),0)","v":""},{"$f":"IFERROR(IF(A923=\"\",\"\",VLOOKUP(A923,[1]Hoja1!$B$2:$U$4999,19,FALSE)),0)","v":""},"",null,{"$f":"IFERROR(IF(O923=\"\",\"\",VLOOKUP(O923,JORNADA!$A$19:$B$20,2,FALSE)),\"\")","v":""},{"$f":"IFERROR(IF(A923=\"\",\"\",VLOOKUP(A923,[1]Hoja1!$B$2:$U$4999,3,FALSE)),0)","v":""},null,"","",{"$f":"IFERROR(IF(A923=\"\",\"\",VLOOKUP(A923,[1]Hoja1!$B$2:$U$4999,10,FALSE)),0)","v":""},{"$f":"IFERROR(IF(Q923=\"\",\"\",VLOOKUP(Q923,[1]Hoja1!$D$2:$AF$4999,29,FALSE)),\"NO EXISTE CUENTA\")","v":""},null,null,""]
[null,{"$f":"IFERROR(IF(A924=\"\",\"\",VLOOKUP(A924,[1]Hoja1!$B$2:$U$4999,9,FALSE)),0)","v":""},{"$f":"IFERROR(IF(A924=\"\",\"\",VLOOKUP(A924,[1]Hoja1!$B$2:$U$4999,2,FALSE)),\" --- NO EXISTE TRABAJADOR --- \")","v":""},null,null,null,null,null,"","","",{"$f":"IFERROR(IF(A924=\"\",\"\",VLOOKUP(A924,[1]Hoja1!$B$2:$U$4999,18,FALSE)),0)","v":""},{"$f":"IFERROR(IF(A924=\"\",\"\",VLOOKUP(A924,[1]Hoja1!$B$2:$U$4999,19,FALSE)),0)","v":""},"",null,{"$f":"IFERROR(IF(O924=\"\",\"\",VLOOKUP(O924,JORNADA!$A$19:$B$20,2,FALSE)),\"\")","v":""},{"$f":"IFERROR(IF(A924=\"\",\"\",VLOOKUP(A924,[1]Hoja1!$B$2:$U$4999,3,FALSE)),0)","v":""},null,"","",{"$f":"IFERROR(IF(A924=\"\",\"\",VLOOKUP(A924,[1]Hoja1!$B$2:$U$4999,10,FALSE)),0)","v":""},{"$f":"IFERROR(IF(Q924=\"\",\"\",VLOOKUP(Q924,[1]Hoja1!$D$2:$AF$4999,29,FALSE)),\"NO EXISTE CUENTA\")","v":""},null,null,""]
[null,{"$f":"IFERROR(IF(A925=\"\",\"\",VLOOKUP(A925,[1]Hoja1!$B$2:$U$4999,9,FALSE)),0)","v":""},{"$f":"IFERROR(IF(A925=\"\",\"\",VLOOKUP(A925,[1]Hoja1!$B$2:$U$4999,2,FALSE)),\" --- NO EXISTE TRABAJADOR --- \")","v":""},null,null,null,null,null,"","","",{"$f":"IFERROR(IF(A925=\"\",\"\",VLOOKUP(A925,[1]Hoja1!$B$2:$U$4999,18,FALSE)),0)","v":""},{"$f":"IFERROR(IF(A925=\"\",\"\",VLOOKUP(A925,[1]Hoja1!$B$2:$U$4999,19,FALSE)),0)","v":""},"",null,{"$f":"IFERROR(IF(O925=\"\",\"\",VLOOKUP(O925,JORNADA!$A$19:$B$20,2,FALSE)),\"\")","v":""},{"$f":"IFERROR(IF(A925=\"\",\"\",VLOOKUP(A925,[1]Hoja1!$B$2:$U$4999,3,FALSE)),0)","v":""},null,"","",{"$f":"IFERROR(IF(A925=\"\",\"\",VLOOKUP(A925,[1]Hoja1!$B$2:$U$4999,10,FALSE)),0)","v":""},{"$f":"IFERROR(IF(Q925=\"\",\"\",VLOOKUP(Q925,[1]Hoja1!$D$2:$AF$4999,29,FALSE)),\"NO EXISTE CUENTA\")","v":""},null,null,""]
[null,{"$f":"IFERROR(IF(A926=\"\",\"\",VLOOKUP(A926,[1]Hoja1!$B$2:$U$4999,9,FALSE)),0)","v":""},{"$f":"IFERROR(IF(A926=\"\",\"\",VLOOKUP(A926,[1]Hoja1!$B$2:$U$4999,2,FALSE)),\" --- NO EXISTE TRABAJADOR --- \")","v":""},null,null,null,null,null,"","","",{"$f":"IFERROR(IF(A926=\"\",\"\",VLOOKUP(A926,[1]Hoja1!$B$2:$U$4999,18,FALSE)),0)","v":""},{"$f":"IFERROR(IF(A926=\"\",\"\",VLOOKUP(A926,[1]Hoja1!$B$2:$U$4999,19,FALSE)),0)","v":""},"",null,{"$f":"IFERROR(IF(O926=\"\",\"\",VLOOKUP(O926,JORNADA!$A$19:$B$20,2,FALSE)),\"\")","v":""},{"$f":"IFERROR(IF(A926=\"\",\"\",VLOOKUP(A926,[1]Hoja1!$B$2:$U$4999,3,FALSE)),0)","v":""},null,"","",{"$f":"IFERROR(IF(A926=\"\",\"\",VLOOKUP(A926,[1]Hoja1!$B$2:$U$4999,10,FALSE)),0)","v":""},{"$f":"IFERROR(IF(Q926=\"\",\"\",VLOOKUP(Q926,[1]Hoja1!$D$2:$AF$4999,29,FALSE)),\"NO EXISTE CUENTA\")","v":""},null,null,""]
[null,{"$f":"IFERROR(IF(A927=\"\",\"\",VLOOKUP(A927,[1]Hoja1!$B$2:$U$4999,9,FALSE)),0)","v":""},{"$f":"IFERROR(IF(A927=\"\",\"\",VLOOKUP(A927,[1]Hoja1!$B$2:$U$4999,2,FALSE)),\" --- NO EXISTE TRABAJADOR --- \")","v":""},null,null,null,null,null,"","","",{"$f":"IFERROR(IF(A927=\"\",\"\",VLOOKUP(A927,[1]Hoja1!$B$2:$U$4999,18,FALSE)),0)","v":""},{"$f":"IFERROR(IF(A927=\"\",\"\",VLOOKUP(A927,[1]Hoja1!$B$2:$U$4999,19,FALSE)),0)","v":""},"",null,{"$f":"IFERROR(IF(O927=\"\",\"\",VLOOKUP(O927,JORNADA!$A$19:$B$20,2,FALSE)),\"\")","v":""},{"$f":"IFERROR(IF(A927=\"\",\"\",VLOOKUP(A927,[1]Hoja1!$B$2:$U$4999,3,FALSE)),0)","v":""},null,"","",{"$f":"IFERROR(IF(A927=\"\",\"\",VLOOKUP(A927,[1]Hoja1!$B$2:$U$4999,10,FALSE)),0)","v":""},{"$f":"IFERROR(IF(Q927=\"\",\"\",VLOOKUP(Q927,[1]Hoja1!$D$2:$AF$4999,29,FALSE)),\"NO EXISTE CUENTA\")","v":""},null,null,""]
[null,{"$f":"IFERROR(IF(A928=\"\",\"\",VLOOKUP(A928,[1]Hoja1!$B$2:$U$4999,9,FALSE)),0)","v":""},{"$f":"IFERROR(IF(A928=\"\",\"\",VLOOKUP(A928,[1]Hoja1!$B$2:$U$4999,2,FALSE)),\" --- NO EXISTE TRABAJADOR --- \")","v":""},null,null,null,null,null,"","","",{"$f":"IFERROR(IF(A928=\"\",\"\",VLOOKUP(A928,[1]Hoja1!$B$2:$U$4999,18,FALSE)),0)","v":""},{"$f":"IFERROR(IF(A928=\"\",\"\",VLOOKUP(A928,[1]Hoja1!$B$2:$U$4999,19,FALSE)),0)","v":""},"",null,{"$f":"IFERROR(IF(O928=\"\",\"\",VLOOKUP(O928,JORNADA!$A$19:$B$20,2,FALSE)),\"\")","v":""},{"$f":"IFERROR(IF(A928=\"\",\"\",VLOOKUP(A928,[1]Hoja1!$B$2:$U$4999,3,FALSE)),0)","v":""},null,"","",{"$f":"IFERROR(IF(A928=\"\",\"\",VLOOKUP(A928,[1]Hoja1!$B$2:$U$4999,10,FALSE)),0)","v":""},{"$f":"IFERROR(IF(Q928=\"\",\"\",VLOOKUP(Q928,[1]Hoja1!$D$2:$AF$4999,29,FALSE)),\"NO EXISTE CUENTA\")","v":""},null,null,""]
[null,{"$f":"IFERROR(IF(A929=\"\",\"\",VLOOKUP(A929,[1]Hoja1!$B$2:$U$4999,9,FALSE)),0)","v":""},{"$f":"IFERROR(IF(A929=\"\",\"\",VLOOKUP(A929,[1]Hoja1!$B$2:$U$4999,2,FALSE)),\" --- NO EXISTE TRABAJADOR --- \")","v":""},null,null,null,null,null,"","","",{"$f":"IFERROR(IF(A929=\"\",\"\",VLOOKUP(A929,[1]Hoja1!$B$2:$U$4999,18,FALSE)),0)","v":""},{"$f":"IFERROR(IF(A929=\"\",\"\",VLOOKUP(A929,[1]Hoja1!$B$2:$U$4999,19,FALSE)),0)","v":""},"",null,{"$f":"IFERROR(IF(O929=\"\",\"\",VLOOKUP(O929,JORNADA!$A$19:$B$20,2,FALSE)),\"\")","v":""},{"$f":"IFERROR(IF(A929=\"\",\"\",VLOOKUP(A929,[1]Hoja1!$B$2:$U$4999,3,FALSE)),0)","v":""},null,"","",{"$f":"IFERROR(IF(A929=\"\",\"\",VLOOKUP(A929,[1]Hoja1!$B$2:$U$4999,10,FALSE)),0)","v":""},{"$f":"IFERROR(IF(Q929=\"\",\"\",VLOOKUP(Q929,[1]Hoja1!$D$2:$AF$4999,29,FALSE)),\"NO EXISTE CUENTA\")","v":""},null,null,""]
[null,{"$f":"IFERROR(IF(A930=\"\",\"\",VLOOKUP(A930,[1]Hoja1!$B$2:$U$4999,9,FALSE)),0)","v":""},{"$f":"IFERROR(IF(A930=\"\",\"\",VLOOKUP(A930,[1]Hoja1!$B$2:$U$4999,2,FALSE)),\" --- NO EXISTE TRABAJADOR --- \")","v":""},null,null,null,null,null,"","","",{"$f":"IFERROR(IF(A930=\"\",\"\",VLOOKUP(A930,[1]Hoja1!$B$2:$U$4999,18,FALSE)),0)","v":""},{"$f":"IFERROR(IF(A930=\"\",\"\",VLOOKUP(A930,[1]Hoja1!$B$2:$U$4999,19,FALSE)),0)","v":""},"",null,{"$f":"IFERROR(IF(O930=\"\",\"\",VLOOKUP(O930,JORNADA!$A$19:$B$20,2,FALSE)),\"\")","v":""},{"$f":"IFERROR(IF(A930=\"\",\"\",VLOOKUP(A930,[1]Hoja1!$B$2:$U$4999,3,FALSE)),0)","v":""},null,"","",{"$f":"IFERROR(IF(A930=\"\",\"\",VLOOKUP(A930,[1]Hoja1!$B$2:$U$4999,10,FALSE)),0)","v":""},{"$f":"IFERROR(IF(Q930=\"\",\"\",VLOOKUP(Q930,[1]Hoja1!$D$2:$AF$4999,29,FALSE)),\"NO EXISTE CUENTA\")","v":""},null,null,""]
[null,{"$f":"IFERROR(IF(A931=\"\",\"\",VLOOKUP(A931,[1]Hoja1!$B$2:$U$4999,9,FALSE)),0)","v":""},{"$f":"IFERROR(IF(A931=\"\",\"\",VLOOKUP(A931,[1]Hoja1!$B$2:$U$4999,2,FALSE)),\" --- NO EXISTE TRABAJADOR --- \")","v":""},null,null,null,null,null,"","","",{"$f":"IFERROR(IF(A931=\"\",\"\",VLOOKUP(A931,[1]Hoja1!$B$2:$U$4999,18,FALSE)),0)","v":""},{"$f":"IFERROR(IF(A931=\"\",\"\",VLOOKUP(A931,[1]Hoja1!$B$2:$U$4999,19,FALSE)),0)","v":""},"",null,{"$f":"IFERROR(IF(O931=\"\",\"\",VLOOKUP(O931,JORNADA!$A$19:$B$20,2,FALSE)),\"\")","v":""},{"$f":"IFERROR(IF(A931=\"\",\"\",VLOOKUP(A931,[1]Hoja1!$B$2:$U$4999,3,FALSE)),0)","v":""},null,"","",{"$f":"IFERROR(IF(A931=\"\",\"\",VLOOKUP(A931,[1]Hoja1!$B$2:$U$4999,10,FALSE)),0)","v":""},{"$f":"IFERROR(IF(Q931=\"\",\"\",VLOOKUP(Q931,[1]Hoja1!$D$2:$AF$4999,29,FALSE)),\"NO EXISTE CUENTA\")","v":""},null,null,""]
[null,{"$f":"IFERROR(IF(A932=\"\",\"\",VLOOKUP(A932,[1]Hoja1!$B$2:$U$4999,9,FALSE)),0)","v":""},{"$f":"IFERROR(IF(A932=\"\",\"\",VLOOKUP(A932,[1]Hoja1!$B$2:$U$4999,2,FALSE)),\" --- NO EXISTE TRABAJADOR --- \")","v":""},null,null,null,null,null,"","","",{"$f":"IFERROR(IF(A932=\"\",\"\",VLOOKUP(A932,[1]Hoja1!$B$2:$U$4999,18,FALSE)),0)","v":""},{"$f":"IFERROR(IF(A932=\"\",\"\",VLOOKUP(A932,[1]Hoja1!$B$2:$U$4999,19,FALSE)),0)","v":""},"",null,{"$f":"IFERROR(IF(O932=\"\",\"\",VLOOKUP(O932,JORNADA!$A$19:$B$20,2,FALSE)),\"\")","v":""},{"$f":"IFERROR(IF(A932=\"\",\"\",VLOOKUP(A932,[1]Hoja1!$B$2:$U$4999,3,FALSE)),0)","v":""},null,"","",{"$f":"IFERROR(IF(A932=\"\",\"\",VLOOKUP(A932,[1]Hoja1!$B$2:$U$4999,10,FALSE)),0)","v":""},{"$f":"IFERROR(IF(Q932=\"\",\"\",VLOOKUP(Q932,[1]Hoja1!$D$2:$AF$4999,29,FALSE)),\"NO EXISTE CUENTA\")","v":""},null,null,""]
[null,{"$f":"IFERROR(IF(A933=\"\",\"\",VLOOKUP(A933,[1]Hoja1!$B$2:$U$4999,9,FALSE)),0)","v":""},{"$f":"IFERROR(IF(A933=\"\",\"\",VLOOKUP(A933,[1]Hoja1!$B$2:$U$4999,2,FALSE)),\" --- NO EXISTE TRABAJADOR --- \")","v":""},null,null,null,null,null,"","","",{"$f":"IFERROR(IF(A933=\"\",\"\",VLOOKUP(A933,[1]Hoja1!$B$2:$U$4999,18,FALSE)),0)","v":""},{"$f":"IFERROR(IF(A933=\"\",\"\",VLOOKUP(A933,[1]Hoja1!$B$2:$U$4999,19,FALSE)),0)","v":""},"",null,{"$f":"IFERROR(IF(O933=\"\",\"\",VLOOKUP(O933,JORNADA!$A$19:$B$20,2,FALSE)),\"\")","v":""},{"$f":"IFERROR(IF(A933=\"\",\"\",VLOOKUP(A933,[1]Hoja1!$B$2:$U$4999,3,FALSE)),0)","v":""},null,"","",{"$f":"IFERROR(IF(A933=\"\",\"\",VLOOKUP(A933,[1]Hoja1!$B$2:$U$4999,10,FALSE)),0)","v":""},{"$f":"IFERROR(IF(Q933=\"\",\"\",VLOOKUP(Q933,[1]Hoja1!$D$2:$AF$4999,29,FALSE)),\"NO EXISTE CUENTA\")","v":""},null,null,""]
[null,{"$f":"IFERROR(IF(A934=\"\",\"\",VLOOKUP(A934,[1]Hoja1!$B$2:$U$4999,9,FALSE)),0)","v":""},{"$f":"IFERROR(IF(A934=\"\",\"\",VLOOKUP(A934,[1]Hoja1!$B$2:$U$4999,2,FALSE)),\" --- NO EXISTE TRABAJADOR --- \")","v":""},null,null,null,null,null,"","","",{"$f":"IFERROR(IF(A934=\"\",\"\",VLOOKUP(A934,[1]Hoja1!$B$2:$U$4999,18,FALSE)),0)","v":""},{"$f":"IFERROR(IF(A934=\"\",\"\",VLOOKUP(A934,[1]Hoja1!$B$2:$U$4999,19,FALSE)),0)","v":""},"",null,{"$f":"IFERROR(IF(O934=\"\",\"\",VLOOKUP(O934,JORNADA!$A$19:$B$20,2,FALSE)),\"\")","v":""},{"$f":"IFERROR(IF(A934=\"\",\"\",VLOOKUP(A934,[1]Hoja1!$B$2:$U$4999,3,FALSE)),0)","v":""},null,"","",{"$f":"IFERROR(IF(A934=\"\",\"\",VLOOKUP(A934,[1]Hoja1!$B$2:$U$4999,10,FALSE)),0)","v":""},{"$f":"IFERROR(IF(Q934=\"\",\"\",VLOOKUP(Q934,[1]Hoja1!$D$2:$AF$4999,29,FALSE)),\"NO EXISTE CUENTA\")","v":""},null,null,""]
[null,{"$f":"IFERROR(IF(A935=\"\",\"\",VLOOKUP(A935,[1]Hoja1!$B$2:$U$4999,9,FALSE)),0)","v":""},{"$f":"IFERROR(IF(A935=\"\",\"\",VLOOKUP(A935,[1]Hoja1!$B$2:$U$4999,2,FALSE)),\" --- NO EXISTE TRABAJADOR --- \")","v":""},null,null,null,null,null,"","","",{"$f":"IFERROR(IF(A935=\"\",\"\",VLOOKUP(A935,[1]Hoja1!$B$2:$U$4999,18,FALSE)),0)","v":""},{"$f":"IFERROR(IF(A935=\"\",\"\",VLOOKUP(A935,[1]Hoja1!$B$2:$U$4999,19,FALSE)),0)","v":""},"",null,{"$f":"IFERROR(IF(O935=\"\",\"\",VLOOKUP(O935,JORNADA!$A$19:$B$20,2,FALSE)),\"\")","v":""},{"$f":"IFERROR(IF(A935=\"\",\"\",VLOOKUP(A935,[1]Hoja1!$B$2:$U$4999,3,FALSE)),0)","v":""},null,"","",{"$f":"IFERROR(IF(A935=\"\",\"\",VLOOKUP(A935,[1]Hoja1!$B$2:$U$4999,10,FALSE)),0)","v":""},{"$f":"IFERROR(IF(Q935=\"\",\"\",VLOOKUP(Q935,[1]Hoja1!$D$2:$AF$4999,29,FALSE)),\"NO EXISTE CUENTA\")","v":""},null,null,""]
[null,{"$f":"IFERROR(IF(A936=\"\",\"\",VLOOKUP(A936,[1]Hoja1!$B$2:$U$4999,9,FALSE)),0)","v":""},{"$f":"IFERROR(IF(A936=\"\",\"\",VLOOKUP(A936,[1]Hoja1!$B$2:$U$4999,2,FALSE)),\" --- NO EXISTE TRABAJADOR --- \")","v":""},null,null,null,null,null,"","","",{"$f":"IFERROR(IF(A936=\"\",\"\",VLOOKUP(A936,[1]Hoja1!$B$2:$U$4999,18,FALSE)),0)","v":""},{"$f":"IFERROR(IF(A936=\"\",\"\",VLOOKUP(A936,[1]Hoja1!$B$2:$U$4999,19,FALSE)),0)","v":""},"",null,{"$f":"IFERROR(IF(O936=\"\",\"\",VLOOKUP(O936,JORNADA!$A$19:$B$20,2,FALSE)),\"\")","v":""},{"$f":"IFERROR(IF(A936=\"\",\"\",VLOOKUP(A936,[1]Hoja1!$B$2:$U$4999,3,FALSE)),0)","v":""},null,"","",{"$f":"IFERROR(IF(A936=\"\",\"\",VLOOKUP(A936,[1]Hoja1!$B$2:$U$4999,10,FALSE)),0)","v":""},{"$f":"IFERROR(IF(Q936=\"\",\"\",VLOOKUP(Q936,[1]Hoja1!$D$2:$AF$4999,29,FALSE)),\"NO EXISTE CUENTA\")","v":""},null,null,""]
[null,{"$f":"IFERROR(IF(A937=\"\",\"\",VLOOKUP(A937,[1]Hoja1!$B$2:$U$4999,9,FALSE)),0)","v":""},{"$f":"IFERROR(IF(A937=\"\",\"\",VLOOKUP(A937,[1]Hoja1!$B$2:$U$4999,2,FALSE)),\" --- NO EXISTE TRABAJADOR --- \")","v":""},null,null,null,null,null,"","","",{"$f":"IFERROR(IF(A937=\"\",\"\",VLOOKUP(A937,[1]Hoja1!$B$2:$U$4999,18,FALSE)),0)","v":""},{"$f":"IFERROR(IF(A937=\"\",\"\",VLOOKUP(A937,[1]Hoja1!$B$2:$U$4999,19,FALSE)),0)","v":""},"",null,{"$f":"IFERROR(IF(O937=\"\",\"\",VLOOKUP(O937,JORNADA!$A$19:$B$20,2,FALSE)),\"\")","v":""},{"$f":"IFERROR(IF(A937=\"\",\"\",VLOOKUP(A937,[1]Hoja1!$B$2:$U$4999,3,FALSE)),0)","v":""},null,"","",{"$f":"IFERROR(IF(A937=\"\",\"\",VLOOKUP(A937,[1]Hoja1!$B$2:$U$4999,10,FALSE)),0)","v":""},{"$f":"IFERROR(IF(Q937=\"\",\"\",VLOOKUP(Q937,[1]Hoja1!$D$2:$AF$4999,29,FALSE)),\"NO EXISTE CUENTA\")","v":""},null,null,""]
[null,{"$f":"IFERROR(IF(A938=\"\",\"\",VLOOKUP(A938,[1]Hoja1!$B$2:$U$4999,9,FALSE)),0)","v":""},{"$f":"IFERROR(IF(A938=\"\",\"\",VLOOKUP(A938,[1]Hoja1!$B$2:$U$4999,2,FALSE)),\" --- NO EXISTE TRABAJADOR --- \")","v":""},null,null,null,null,null,"","","",{"$f":"IFERROR(IF(A938=\"\",\"\",VLOOKUP(A938,[1]Hoja1!$B$2:$U$4999,18,FALSE)),0)","v":""},{"$f":"IFERROR(IF(A938=\"\",\"\",VLOOKUP(A938,[1]Hoja1!$B$2:$U$4999,19,FALSE)),0)","v":""},"",null,{"$f":"IFERROR(IF(O938=\"\",\"\",VLOOKUP(O938,JORNADA!$A$19:$B$20,2,FALSE)),\"\")","v":""},{"$f":"IFERROR(IF(A938=\"\",\"\",VLOOKUP(A938,[1]Hoja1!$B$2:$U$4999,3,FALSE)),0)","v":""},null,"","",{"$f":"IFERROR(IF(A938=\"\",\"\",VLOOKUP(A938,[1]Hoja1!$B$2:$U$4999,10,FALSE)),0)","v":""},{"$f":"IFERROR(IF(Q938=\"\",\"\",VLOOKUP(Q938,[1]Hoja1!$D$2:$AF$4999,29,FALSE)),\"NO EXISTE CUENTA\")","v":""},null,null,""]
[null,{"$f":"IFERROR(IF(A939=\"\",\"\",VLOOKUP(A939,[1]Hoja1!$B$2:$U$4999,9,FALSE)),0)","v":""},{"$f":"IFERROR(IF(A939=\"\",\"\",VLOOKUP(A939,[1]Hoja1!$B$2:$U$4999,2,FALSE)),\" --- NO EXISTE TRABAJADOR --- \")","v":""},null,null,null,null,null,"","","",{"$f":"IFERROR(IF(A939=\"\",\"\",VLOOKUP(A939,[1]Hoja1!$B$2:$U$4999,18,FALSE)),0)","v":""},{"$f":"IFERROR(IF(A939=\"\",\"\",VLOOKUP(A939,[1]Hoja1!$B$2:$U$4999,19,FALSE)),0)","v":""},"",null,{"$f":"IFERROR(IF(O939=\"\",\"\",VLOOKUP(O939,JORNADA!$A$19:$B$20,2,FALSE)),\"\")","v":""},{"$f":"IFERROR(IF(A939=\"\",\"\",VLOOKUP(A939,[1]Hoja1!$B$2:$U$4999,3,FALSE)),0)","v":""},null,"","",{"$f":"IFERROR(IF(A939=\"\",\"\",VLOOKUP(A939,[1]Hoja1!$B$2:$U$4999,10,FALSE)),0)","v":""},{"$f":"IFERROR(IF(Q939=\"\",\"\",VLOOKUP(Q939,[1]Hoja1!$D$2:$AF$4999,29,FALSE)),\"NO EXISTE CUENTA\")","v":""},null,null,""]
[null,{"$f":"IFERROR(IF(A940=\"\",\"\",VLOOKUP(A940,[1]Hoja1!$B$2:$U$4999,9,FALSE)),0)","v":""},{"$f":"IFERROR(IF(A940=\"\",\"\",VLOOKUP(A940,[1]Hoja1!$B$2:$U$4999,2,FALSE)),\" --- NO EXISTE TRABAJADOR --- \")","v":""},null,null,null,null,null,"","","",{"$f":"IFERROR(IF(A940=\"\",\"\",VLOOKUP(A940,[1]Hoja1!$B$2:$U$4999,18,FALSE)),0)","v":""},{"$f":"IFERROR(IF(A940=\"\",\"\",VLOOKUP(A940,[1]Hoja1!$B$2:$U$4999,19,FALSE)),0)","v":""},"",null,{"$f":"IFERROR(IF(O940=\"\",\"\",VLOOKUP(O940,JORNADA!$A$19:$B$20,2,FALSE)),\"\")","v":""},{"$f":"IFERROR(IF(A940=\"\",\"\",VLOOKUP(A940,[1]Hoja1!$B$2:$U$4999,3,FALSE)),0)","v":""},null,"","",{"$f":"IFERROR(IF(A940=\"\",\"\",VLOOKUP(A940,[1]Hoja1!$B$2:$U$4999,10,FALSE)),0)","v":""},{"$f":"IFERROR(IF(Q940=\"\",\"\",VLOOKUP(Q940,[1]Hoja1!$D$2:$AF$4999,29,FALSE)),\"NO EXISTE CUENTA\")","v":""},null,null,""]
[null,{"$f":"IFERROR(IF(A941=\"\",\"\",VLOOKUP(A941,[1]Hoja1!$B$2:$U$4999,9,FALSE)),0)","v":""},{"$f":"IFERROR(IF(A941=\"\",\"\",VLOOKUP(A941,[1]Hoja1!$B$2:$U$4999,2,FALSE)),\" --- NO EXISTE TRABAJADOR --- \")","v":""},null,null,null,null,null,"","","",{"$f":"IFERROR(IF(A941=\"\",\"\",VLOOKUP(A941,[1]Hoja1!$B$2:$U$4999,18,FALSE)),0)","v":""},{"$f":"IFERROR(IF(A941=\"\",\"\",VLOOKUP(A941,[1]Hoja1!$B$2:$U$4999,19,FALSE)),0)","v":""},"",null,{"$f":"IFERROR(IF(O941=\"\",\"\",VLOOKUP(O941,JORNADA!$A$19:$B$20,2,FALSE)),\"\")","v":""},{"$f":"IFERROR(IF(A941=\"\",\"\",VLOOKUP(A941,[1]Hoja1!$B$2:$U$4999,3,FALSE)),0)","v":""},null,"","",{"$f":"IFERROR(IF(A941=\"\",\"\",VLOOKUP(A941,[1]Hoja1!$B$2:$U$4999,10,FALSE)),0)","v":""},{"$f":"IFERROR(IF(Q941=\"\",\"\",VLOOKUP(Q941,[1]Hoja1!$D$2:$AF$4999,29,FALSE)),\"NO EXISTE CUENTA\")","v":""},null,null,""]
[null,{"$f":"IFERROR(IF(A942=\"\",\"\",VLOOKUP(A942,[1]Hoja1!$B$2:$U$4999,9,FALSE)),0)","v":""},{"$f":"IFERROR(IF(A942=\"\",\"\",VLOOKUP(A942,[1]Hoja1!$B$2:$U$4999,2,FALSE)),\" --- NO EXISTE TRABAJADOR --- \")","v":""},null,null,null,null,null,"","","",{"$f":"IFERROR(IF(A942=\"\",\"\",VLOOKUP(A942,[1]Hoja1!$B$2:$U$4999,18,FALSE)),0)","v":""},{"$f":"IFERROR(IF(A942=\"\",\"\",VLOOKUP(A942,[1]Hoja1!$B$2:$U$4999,19,FALSE)),0)","v":""},"",null,{"$f":"IFERROR(IF(O942=\"\",\"\",VLOOKUP(O942,JORNADA!$A$19:$B$20,2,FALSE)),\"\")","v":""},{"$f":"IFERROR(IF(A942=\"\",\"\",VLOOKUP(A942,[1]Hoja1!$B$2:$U$4999,3,FALSE)),0)","v":""},null,"","",{"$f":"IFERROR(IF(A942=\"\",\"\",VLOOKUP(A942,[1]Hoja1!$B$2:$U$4999,10,FALSE)),0)","v":""},{"$f":"IFERROR(IF(Q942=\"\",\"\",VLOOKUP(Q942,[1]Hoja1!$D$2:$AF$4999,29,FALSE)),\"NO EXISTE CUENTA\")","v":""},null,null,""]
[null,{"$f":"IFERROR(IF(A943=\"\",\"\",VLOOKUP(A943,[1]Hoja1!$B$2:$U$4999,9,FALSE)),0)","v":""},{"$f":"IFERROR(IF(A943=\"\",\"\",VLOOKUP(A943,[1]Hoja1!$B$2:$U$4999,2,FALSE)),\" --- NO EXISTE TRABAJADOR --- \")","v":""},null,null,null,null,null,"","","",{"$f":"IFERROR(IF(A943=\"\",\"\",VLOOKUP(A943,[1]Hoja1!$B$2:$U$4999,18,FALSE)),0)","v":""},{"$f":"IFERROR(IF(A943=\"\",\"\",VLOOKUP(A943,[1]Hoja1!$B$2:$U$4999,19,FALSE)),0)","v":""},"",null,{"$f":"IFERROR(IF(O943=\"\",\"\",VLOOKUP(O943,JORNADA!$A$19:$B$20,2,FALSE)),\"\")","v":""},{"$f":"IFERROR(IF(A943=\"\",\"\",VLOOKUP(A943,[1]Hoja1!$B$2:$U$4999,3,FALSE)),0)","v":""},null,"","",{"$f":"IFERROR(IF(A943=\"\",\"\",VLOOKUP(A943,[1]Hoja1!$B$2:$U$4999,10,FALSE)),0)","v":""},{"$f":"IFERROR(IF(Q943=\"\",\"\",VLOOKUP(Q943,[1]Hoja1!$D$2:$AF$4999,29,FALSE)),\"NO EXISTE CUENTA\")","v":""},null,null,""]
[null,{"$f":"IFERROR(IF(A944=\"\",\"\",VLOOKUP(A944,[1]Hoja1!$B$2:$U$4999,9,FALSE)),0)","v":""},{"$f":"IFERROR(IF(A944=\"\",\"\",VLOOKUP(A944,[1]Hoja1!$B$2:$U$4999,2,FALSE)),\" --- NO EXISTE TRABAJADOR --- \")","v":""},null,null,null,null,null,"","","",{"$f":"IFERROR(IF(A944=\"\",\"\",VLOOKUP(A944,[1]Hoja1!$B$2:$U$4999,18,FALSE)),0)","v":""},{"$f":"IFERROR(IF(A944=\"\",\"\",VLOOKUP(A944,[1]Hoja1!$B$2:$U$4999,19,FALSE)),0)","v":""},"",null,{"$f":"IFERROR(IF(O944=\"\",\"\",VLOOKUP(O944,JORNADA!$A$19:$B$20,2,FALSE)),\"\")","v":""},{"$f":"IFERROR(IF(A944=\"\",\"\",VLOOKUP(A944,[1]Hoja1!$B$2:$U$4999,3,FALSE)),0)","v":""},null,"","",{"$f":"IFERROR(IF(A944=\"\",\"\",VLOOKUP(A944,[1]Hoja1!$B$2:$U$4999,10,FALSE)),0)","v":""},{"$f":"IFERROR(IF(Q944=\"\",\"\",VLOOKUP(Q944,[1]Hoja1!$D$2:$AF$4999,29,FALSE)),\"NO EXISTE CUENTA\")","v":""},null,null,""]
[null,{"$f":"IFERROR(IF(A945=\"\",\"\",VLOOKUP(A945,[1]Hoja1!$B$2:$U$4999,9,FALSE)),0)","v":""},{"$f":"IFERROR(IF(A945=\"\",\"\",VLOOKUP(A945,[1]Hoja1!$B$2:$U$4999,2,FALSE)),\" --- NO EXISTE TRABAJADOR --- \")","v":""},null,null,null,null,null,"","","",{"$f":"IFERROR(IF(A945=\"\",\"\",VLOOKUP(A945,[1]Hoja1!$B$2:$U$4999,18,FALSE)),0)","v":""},{"$f":"IFERROR(IF(A945=\"\",\"\",VLOOKUP(A945,[1]Hoja1!$B$2:$U$4999,19,FALSE)),0)","v":""},"",null,{"$f":"IFERROR(IF(O945=\"\",\"\",VLOOKUP(O945,JORNADA!$A$19:$B$20,2,FALSE)),\"\")","v":""},{"$f":"IFERROR(IF(A945=\"\",\"\",VLOOKUP(A945,[1]Hoja1!$B$2:$U$4999,3,FALSE)),0)","v":""},null,"","",{"$f":"IFERROR(IF(A945=\"\",\"\",VLOOKUP(A945,[1]Hoja1!$B$2:$U$4999,10,FALSE)),0)","v":""},{"$f":"IFERROR(IF(Q945=\"\",\"\",VLOOKUP(Q945,[1]Hoja1!$D$2:$AF$4999,29,FALSE)),\"NO EXISTE CUENTA\")","v":""},null,null,""]
[null,{"$f":"IFERROR(IF(A946=\"\",\"\",VLOOKUP(A946,[1]Hoja1!$B$2:$U$4999,9,FALSE)),0)","v":""},{"$f":"IFERROR(IF(A946=\"\",\"\",VLOOKUP(A946,[1]Hoja1!$B$2:$U$4999,2,FALSE)),\" --- NO EXISTE TRABAJADOR --- \")","v":""},null,null,null,null,null,"","","",{"$f":"IFERROR(IF(A946=\"\",\"\",VLOOKUP(A946,[1]Hoja1!$B$2:$U$4999,18,FALSE)),0)","v":""},{"$f":"IFERROR(IF(A946=\"\",\"\",VLOOKUP(A946,[1]Hoja1!$B$2:$U$4999,19,FALSE)),0)","v":""},"",null,{"$f":"IFERROR(IF(O946=\"\",\"\",VLOOKUP(O946,JORNADA!$A$19:$B$20,2,FALSE)),\"\")","v":""},{"$f":"IFERROR(IF(A946=\"\",\"\",VLOOKUP(A946,[1]Hoja1!$B$2:$U$4999,3,FALSE)),0)","v":""},null,"","",{"$f":"IFERROR(IF(A946=\"\",\"\",VLOOKUP(A946,[1]Hoja1!$B$2:$U$4999,10,FALSE)),0)","v":""},{"$f":"IFERROR(IF(Q946=\"\",\"\",VLOOKUP(Q946,[1]Hoja1!$D$2:$AF$4999,29,FALSE)),\"NO EXISTE CUENTA\")","v":""},null,null,""]
[null,{"$f":"IFERROR(IF(A947=\"\",\"\",VLOOKUP(A947,[1]Hoja1!$B$2:$U$4999,9,FALSE)),0)","v":""},{"$f":"IFERROR(IF(A947=\"\",\"\",VLOOKUP(A947,[1]Hoja1!$B$2:$U$4999,2,FALSE)),\" --- NO EXISTE TRABAJADOR --- \")","v":""},null,null,null,null,null,"","","",{"$f":"IFERROR(IF(A947=\"\",\"\",VLOOKUP(A947,[1]Hoja1!$B$2:$U$4999,18,FALSE)),0)","v":""},{"$f":"IFERROR(IF(A947=\"\",\"\",VLOOKUP(A947,[1]Hoja1!$B$2:$U$4999,19,FALSE)),0)","v":""},"",null,{"$f":"IFERROR(IF(O947=\"\",\"\",VLOOKUP(O947,JORNADA!$A$19:$B$20,2,FALSE)),\"\")","v":""},{"$f":"IFERROR(IF(A947=\"\",\"\",VLOOKUP(A947,[1]Hoja1!$B$2:$U$4999,3,FALSE)),0)","v":""},null,"","",{"$f":"IFERROR(IF(A947=\"\",\"\",VLOOKUP(A947,[1]Hoja1!$B$2:$U$4999,10,FALSE)),0)","v":""},{"$f":"IFERROR(IF(Q947=\"\",\"\",VLOOKUP(Q947,[1]Hoja1!$D$2:$AF$4999,29,FALSE)),\"NO EXISTE CUENTA\")","v":""},null,null,""]
[null,{"$f":"IFERROR(IF(A948=\"\",\"\",VLOOKUP(A948,[1]Hoja1!$B$2:$U$4999,9,FALSE)),0)","v":""},{"$f":"IFERROR(IF(A948=\"\",\"\",VLOOKUP(A948,[1]Hoja1!$B$2:$U$4999,2,FALSE)),\" --- NO EXISTE TRABAJADOR --- \")","v":""},null,null,null,null,null,"","","",{"$f":"IFERROR(IF(A948=\"\",\"\",VLOOKUP(A948,[1]Hoja1!$B$2:$U$4999,18,FALSE)),0)","v":""},{"$f":"IFERROR(IF(A948=\"\",\"\",VLOOKUP(A948,[1]Hoja1!$B$2:$U$4999,19,FALSE)),0)","v":""},"",null,{"$f":"IFERROR(IF(O948=\"\",\"\",VLOOKUP(O948,JORNADA!$A$19:$B$20,2,FALSE)),\"\")","v":""},{"$f":"IFERROR(IF(A948=\"\",\"\",VLOOKUP(A948,[1]Hoja1!$B$2:$U$4999,3,FALSE)),0)","v":""},null,"","",{"$f":"IFERROR(IF(A948=\"\",\"\",VLOOKUP(A948,[1]Hoja1!$B$2:$U$4999,10,FALSE)),0)","v":""},{"$f":"IFERROR(IF(Q948=\"\",\"\",VLOOKUP(Q948,[1]Hoja1!$D$2:$AF$4999,29,FALSE)),\"NO EXISTE CUENTA\")","v":""},null,null,""]
[null,{"$f":"IFERROR(IF(A949=\"\",\"\",VLOOKUP(A949,[1]Hoja1!$B$2:$U$4999,9,FALSE)),0)","v":""},{"$f":"IFERROR(IF(A949=\"\",\"\",VLOOKUP(A949,[1]Hoja1!$B$2:$U$4999,2,FALSE)),\" --- NO EXISTE TRABAJADOR --- \")","v":""},null,null,null,null,null,"","","",{"$f":"IFERROR(IF(A949=\"\",\"\",VLOOKUP(A949,[1]Hoja1!$B$2:$U$4999,18,FALSE)),0)","v":""},{"$f":"IFERROR(IF(A949=\"\",\"\",VLOOKUP(A949,[1]Hoja1!$B$2:$U$4999,19,FALSE)),0)","v":""},"",null,{"$f":"IFERROR(IF(O949=\"\",\"\",VLOOKUP(O949,JORNADA!$A$19:$B$20,2,FALSE)),\"\")","v":""},{"$f":"IFERROR(IF(A949=\"\",\"\",VLOOKUP(A949,[1]Hoja1!$B$2:$U$4999,3,FALSE)),0)","v":""},null,"","",{"$f":"IFERROR(IF(A949=\"\",\"\",VLOOKUP(A949,[1]Hoja1!$B$2:$U$4999,10,FALSE)),0)","v":""},{"$f":"IFERROR(IF(Q949=\"\",\"\",VLOOKUP(Q949,[1]Hoja1!$D$2:$AF$4999,29,FALSE)),\"NO EXISTE CUENTA\")","v":""},null,null,""]
[null,{"$f":"IFERROR(IF(A950=\"\",\"\",VLOOKUP(A950,[1]Hoja1!$B$2:$U$4999,9,FALSE)),0)","v":""},{"$f":"IFERROR(IF(A950=\"\",\"\",VLOOKUP(A950,[1]Hoja1!$B$2:$U$4999,2,FALSE)),\" --- NO EXISTE TRABAJADOR --- \")","v":""},null,null,null,null,null,"","","",{"$f":"IFERROR(IF(A950=\"\",\"\",VLOOKUP(A950,[1]Hoja1!$B$2:$U$4999,18,FALSE)),0)","v":""},{"$f":"IFERROR(IF(A950=\"\",\"\",VLOOKUP(A950,[1]Hoja1!$B$2:$U$4999,19,FALSE)),0)","v":""},"",null,{"$f":"IFERROR(IF(O950=\"\",\"\",VLOOKUP(O950,JORNADA!$A$19:$B$20,2,FALSE)),\"\")","v":""},{"$f":"IFERROR(IF(A950=\"\",\"\",VLOOKUP(A950,[1]Hoja1!$B$2:$U$4999,3,FALSE)),0)","v":""},null,"","",{"$f":"IFERROR(IF(A950=\"\",\"\",VLOOKUP(A950,[1]Hoja1!$B$2:$U$4999,10,FALSE)),0)","v":""},{"$f":"IFERROR(IF(Q950=\"\",\"\",VLOOKUP(Q950,[1]Hoja1!$D$2:$AF$4999,29,FALSE)),\"NO EXISTE CUENTA\")","v":""},null,null,""]
[null,{"$f":"IFERROR(IF(A951=\"\",\"\",VLOOKUP(A951,[1]Hoja1!$B$2:$U$4999,9,FALSE)),0)","v":""},{"$f":"IFERROR(IF(A951=\"\",\"\",VLOOKUP(A951,[1]Hoja1!$B$2:$U$4999,2,FALSE)),\" --- NO EXISTE TRABAJADOR --- \")","v":""},null,null,null,null,null,"","","",{"$f":"IFERROR(IF(A951=\"\",\"\",VLOOKUP(A951,[1]Hoja1!$B$2:$U$4999,18,FALSE)),0)","v":""},{"$f":"IFERROR(IF(A951=\"\",\"\",VLOOKUP(A951,[1]Hoja1!$B$2:$U$4999,19,FALSE)),0)","v":""},"",null,{"$f":"IFERROR(IF(O951=\"\",\"\",VLOOKUP(O951,JORNADA!$A$19:$B$20,2,FALSE)),\"\")","v":""},{"$f":"IFERROR(IF(A951=\"\",\"\",VLOOKUP(A951,[1]Hoja1!$B$2:$U$4999,3,FALSE)),0)","v":""},null,"","",{"$f":"IFERROR(IF(A951=\"\",\"\",VLOOKUP(A951,[1]Hoja1!$B$2:$U$4999,10,FALSE)),0)","v":""},{"$f":"IFERROR(IF(Q951=\"\",\"\",VLOOKUP(Q951,[1]Hoja1!$D$2:$AF$4999,29,FALSE)),\"NO EXISTE CUENTA\")","v":""},null,null,""]
[null,{"$f":"IFERROR(IF(A952=\"\",\"\",VLOOKUP(A952,[1]Hoja1!$B$2:$U$4999,9,FALSE)),0)","v":""},{"$f":"IFERROR(IF(A952=\"\",\"\",VLOOKUP(A952,[1]Hoja1!$B$2:$U$4999,2,FALSE)),\" --- NO EXISTE TRABAJADOR --- \")","v":""},null,null,null,null,null,"","","",{"$f":"IFERROR(IF(A952=\"\",\"\",VLOOKUP(A952,[1]Hoja1!$B$2:$U$4999,18,FALSE)),0)","v":""},{"$f":"IFERROR(IF(A952=\"\",\"\",VLOOKUP(A952,[1]Hoja1!$B$2:$U$4999,19,FALSE)),0)","v":""},"",null,{"$f":"IFERROR(IF(O952=\"\",\"\",VLOOKUP(O952,JORNADA!$A$19:$B$20,2,FALSE)),\"\")","v":""},{"$f":"IFERROR(IF(A952=\"\",\"\",VLOOKUP(A952,[1]Hoja1!$B$2:$U$4999,3,FALSE)),0)","v":""},null,"","",{"$f":"IFERROR(IF(A952=\"\",\"\",VLOOKUP(A952,[1]Hoja1!$B$2:$U$4999,10,FALSE)),0)","v":""},{"$f":"IFERROR(IF(Q952=\"\",\"\",VLOOKUP(Q952,[1]Hoja1!$D$2:$AF$4999,29,FALSE)),\"NO EXISTE CUENTA\")","v":""},null,null,""]
[null,{"$f":"IFERROR(IF(A953=\"\",\"\",VLOOKUP(A953,[1]Hoja1!$B$2:$U$4999,9,FALSE)),0)","v":""},{"$f":"IFERROR(IF(A953=\"\",\"\",VLOOKUP(A953,[1]Hoja1!$B$2:$U$4999,2,FALSE)),\" --- NO EXISTE TRABAJADOR --- \")","v":""},null,null,null,null,null,"","","",{"$f":"IFERROR(IF(A953=\"\",\"\",VLOOKUP(A953,[1]Hoja1!$B$2:$U$4999,18,FALSE)),0)","v":""},{"$f":"IFERROR(IF(A953=\"\",\"\",VLOOKUP(A953,[1]Hoja1!$B$2:$U$4999,19,FALSE)),0)","v":""},"",null,{"$f":"IFERROR(IF(O953=\"\",\"\",VLOOKUP(O953,JORNADA!$A$19:$B$20,2,FALSE)),\"\")","v":""},{"$f":"IFERROR(IF(A953=\"\",\"\",VLOOKUP(A953,[1]Hoja1!$B$2:$U$4999,3,FALSE)),0)","v":""},null,"","",{"$f":"IFERROR(IF(A953=\"\",\"\",VLOOKUP(A953,[1]Hoja1!$B$2:$U$4999,10,FALSE)),0)","v":""},{"$f":"IFERROR(IF(Q953=\"\",\"\",VLOOKUP(Q953,[1]Hoja1!$D$2:$AF$4999,29,FALSE)),\"NO EXISTE CUENTA\")","v":""},null,null,""]
[null,{"$f":"IFERROR(IF(A954=\"\",\"\",VLOOKUP(A954,[1]Hoja1!$B$2:$U$4999,9,FALSE)),0)","v":""},{"$f":"IFERROR(IF(A954=\"\",\"\",VLOOKUP(A954,[1]Hoja1!$B$2:$U$4999,2,FALSE)),\" --- NO EXISTE TRABAJADOR --- \")","v":""},null,null,null,null,null,"","","",{"$f":"IFERROR(IF(A954=\"\",\"\",VLOOKUP(A954,[1]Hoja1!$B$2:$U$4999,18,FALSE)),0)","v":""},{"$f":"IFERROR(IF(A954=\"\",\"\",VLOOKUP(A954,[1]Hoja1!$B$2:$U$4999,19,FALSE)),0)","v":""},"",null,{"$f":"IFERROR(IF(O954=\"\",\"\",VLOOKUP(O954,JORNADA!$A$19:$B$20,2,FALSE)),\"\")","v":""},{"$f":"IFERROR(IF(A954=\"\",\"\",VLOOKUP(A954,[1]Hoja1!$B$2:$U$4999,3,FALSE)),0)","v":""},null,"","",{"$f":"IFERROR(IF(A954=\"\",\"\",VLOOKUP(A954,[1]Hoja1!$B$2:$U$4999,10,FALSE)),0)","v":""},{"$f":"IFERROR(IF(Q954=\"\",\"\",VLOOKUP(Q954,[1]Hoja1!$D$2:$AF$4999,29,FALSE)),\"NO EXISTE CUENTA\")","v":""},null,null,""]
[null,{"$f":"IFERROR(IF(A955=\"\",\"\",VLOOKUP(A955,[1]Hoja1!$B$2:$U$4999,9,FALSE)),0)","v":""},{"$f":"IFERROR(IF(A955=\"\",\"\",VLOOKUP(A955,[1]Hoja1!$B$2:$U$4999,2,FALSE)),\" --- NO EXISTE TRABAJADOR --- \")","v":""},null,null,null,null,null,"","","",{"$f":"IFERROR(IF(A955=\"\",\"\",VLOOKUP(A955,[1]Hoja1!$B$2:$U$4999,18,FALSE)),0)","v":""},{"$f":"IFERROR(IF(A955=\"\",\"\",VLOOKUP(A955,[1]Hoja1!$B$2:$U$4999,19,FALSE)),0)","v":""},"",null,{"$f":"IFERROR(IF(O955=\"\",\"\",VLOOKUP(O955,JORNADA!$A$19:$B$20,2,FALSE)),\"\")","v":""},{"$f":"IFERROR(IF(A955=\"\",\"\",VLOOKUP(A955,[1]Hoja1!$B$2:$U$4999,3,FALSE)),0)","v":""},null,"","",{"$f":"IFERROR(IF(A955=\"\",\"\",VLOOKUP(A955,[1]Hoja1!$B$2:$U$4999,10,FALSE)),0)","v":""},{"$f":"IFERROR(IF(Q955=\"\",\"\",VLOOKUP(Q955,[1]Hoja1!$D$2:$AF$4999,29,FALSE)),\"NO EXISTE CUENTA\")","v":""},null,null,""]
[null,{"$f":"IFERROR(IF(A956=\"\",\"\",VLOOKUP(A956,[1]Hoja1!$B$2:$U$4999,9,FALSE)),0)","v":""},{"$f":"IFERROR(IF(A956=\"\",\"\",VLOOKUP(A956,[1]Hoja1!$B$2:$U$4999,2,FALSE)),\" --- NO EXISTE TRABAJADOR --- \")","v":""},null,null,null,null,null,"","","",{"$f":"IFERROR(IF(A956=\"\",\"\",VLOOKUP(A956,[1]Hoja1!$B$2:$U$4999,18,FALSE)),0)","v":""},{"$f":"IFERROR(IF(A956=\"\",\"\",VLOOKUP(A956,[1]Hoja1!$B$2:$U$4999,19,FALSE)),0)","v":""},"",null,{"$f":"IFERROR(IF(O956=\"\",\"\",VLOOKUP(O956,JORNADA!$A$19:$B$20,2,FALSE)),\"\")","v":""},{"$f":"IFERROR(IF(A956=\"\",\"\",VLOOKUP(A956,[1]Hoja1!$B$2:$U$4999,3,FALSE)),0)","v":""},null,"","",{"$f":"IFERROR(IF(A956=\"\",\"\",VLOOKUP(A956,[1]Hoja1!$B$2:$U$4999,10,FALSE)),0)","v":""},{"$f":"IFERROR(IF(Q956=\"\",\"\",VLOOKUP(Q956,[1]Hoja1!$D$2:$AF$4999,29,FALSE)),\"NO EXISTE CUENTA\")","v":""},null,null,""]
[null,{"$f":"IFERROR(IF(A957=\"\",\"\",VLOOKUP(A957,[1]Hoja1!$B$2:$U$4999,9,FALSE)),0)","v":""},{"$f":"IFERROR(IF(A957=\"\",\"\",VLOOKUP(A957,[1]Hoja1!$B$2:$U$4999,2,FALSE)),\" --- NO EXISTE TRABAJADOR --- \")","v":""},null,null,null,null,null,"","","",{"$f":"IFERROR(IF(A957=\"\",\"\",VLOOKUP(A957,[1]Hoja1!$B$2:$U$4999,18,FALSE)),0)","v":""},{"$f":"IFERROR(IF(A957=\"\",\"\",VLOOKUP(A957,[1]Hoja1!$B$2:$U$4999,19,FALSE)),0)","v":""},"",null,{"$f":"IFERROR(IF(O957=\"\",\"\",VLOOKUP(O957,JORNADA!$A$19:$B$20,2,FALSE)),\"\")","v":""},{"$f":"IFERROR(IF(A957=\"\",\"\",VLOOKUP(A957,[1]Hoja1!$B$2:$U$4999,3,FALSE)),0)","v":""},null,"","",{"$f":"IFERROR(IF(A957=\"\",\"\",VLOOKUP(A957,[1]Hoja1!$B$2:$U$4999,10,FALSE)),0)","v":""},{"$f":"IFERROR(IF(Q957=\"\",\"\",VLOOKUP(Q957,[1]Hoja1!$D$2:$AF$4999,29,FALSE)),\"NO EXISTE CUENTA\")","v":""},null,null,""]
[null,{"$f":"IFERROR(IF(A958=\"\",\"\",VLOOKUP(A958,[1]Hoja1!$B$2:$U$4999,9,FALSE)),0)","v":""},{"$f":"IFERROR(IF(A958=\"\",\"\",VLOOKUP(A958,[1]Hoja1!$B$2:$U$4999,2,FALSE)),\" --- NO EXISTE TRABAJADOR --- \")","v":""},null,null,null,null,null,"","","",{"$f":"IFERROR(IF(A958=\"\",\"\",VLOOKUP(A958,[1]Hoja1!$B$2:$U$4999,18,FALSE)),0)","v":""},{"$f":"IFERROR(IF(A958=\"\",\"\",VLOOKUP(A958,[1]Hoja1!$B$2:$U$4999,19,FALSE)),0)","v":""},"",null,{"$f":"IFERROR(IF(O958=\"\",\"\",VLOOKUP(O958,JORNADA!$A$19:$B$20,2,FALSE)),\"\")","v":""},{"$f":"IFERROR(IF(A958=\"\",\"\",VLOOKUP(A958,[1]Hoja1!$B$2:$U$4999,3,FALSE)),0)","v":""},null,"","",{"$f":"IFERROR(IF(A958=\"\",\"\",VLOOKUP(A958,[1]Hoja1!$B$2:$U$4999,10,FALSE)),0)","v":""},{"$f":"IFERROR(IF(Q958=\"\",\"\",VLOOKUP(Q958,[1]Hoja1!$D$2:$AF$4999,29,FALSE)),\"NO EXISTE CUENTA\")","v":""},null,null,""]
[null,{"$f":"IFERROR(IF(A959=\"\",\"\",VLOOKUP(A959,[1]Hoja1!$B$2:$U$4999,9,FALSE)),0)","v":""},{"$f":"IFERROR(IF(A959=\"\",\"\",VLOOKUP(A959,[1]Hoja1!$B$2:$U$4999,2,FALSE)),\" --- NO EXISTE TRABAJADOR --- \")","v":""},null,null,null,null,null,"","","",{"$f":"IFERROR(IF(A959=\"\",\"\",VLOOKUP(A959,[1]Hoja1!$B$2:$U$4999,18,FALSE)),0)","v":""},{"$f":"IFERROR(IF(A959=\"\",\"\",VLOOKUP(A959,[1]Hoja1!$B$2:$U$4999,19,FALSE)),0)","v":""},"",null,{"$f":"IFERROR(IF(O959=\"\",\"\",VLOOKUP(O959,JORNADA!$A$19:$B$20,2,FALSE)),\"\")","v":""},{"$f":"IFERROR(IF(A959=\"\",\"\",VLOOKUP(A959,[1]Hoja1!$B$2:$U$4999,3,FALSE)),0)","v":""},null,"","",{"$f":"IFERROR(IF(A959=\"\",\"\",VLOOKUP(A959,[1]Hoja1!$B$2:$U$4999,10,FALSE)),0)","v":""},{"$f":"IFERROR(IF(Q959=\"\",\"\",VLOOKUP(Q959,[1]Hoja1!$D$2:$AF$4999,29,FALSE)),\"NO EXISTE CUENTA\")","v":""},null,null,""]
[null,{"$f":"IFERROR(IF(A960=\"\",\"\",VLOOKUP(A960,[1]Hoja1!$B$2:$U$4999,9,FALSE)),0)","v":""},{"$f":"IFERROR(IF(A960=\"\",\"\",VLOOKUP(A960,[1]Hoja1!$B$2:$U$4999,2,FALSE)),\" --- NO EXISTE TRABAJADOR --- \")","v":""},null,null,null,null,null,"","","",{"$f":"IFERROR(IF(A960=\"\",\"\",VLOOKUP(A960,[1]Hoja1!$B$2:$U$4999,18,FALSE)),0)","v":""},{"$f":"IFERROR(IF(A960=\"\",\"\",VLOOKUP(A960,[1]Hoja1!$B$2:$U$4999,19,FALSE)),0)","v":""},"",null,{"$f":"IFERROR(IF(O960=\"\",\"\",VLOOKUP(O960,JORNADA!$A$19:$B$20,2,FALSE)),\"\")","v":""},{"$f":"IFERROR(IF(A960=\"\",\"\",VLOOKUP(A960,[1]Hoja1!$B$2:$U$4999,3,FALSE)),0)","v":""},null,"","",{"$f":"IFERROR(IF(A960=\"\",\"\",VLOOKUP(A960,[1]Hoja1!$B$2:$U$4999,10,FALSE)),0)","v":""},{"$f":"IFERROR(IF(Q960=\"\",\"\",VLOOKUP(Q960,[1]Hoja1!$D$2:$AF$4999,29,FALSE)),\"NO EXISTE CUENTA\")","v":""},null,null,""]
[null,{"$f":"IFERROR(IF(A961=\"\",\"\",VLOOKUP(A961,[1]Hoja1!$B$2:$U$4999,9,FALSE)),0)","v":""},{"$f":"IFERROR(IF(A961=\"\",\"\",VLOOKUP(A961,[1]Hoja1!$B$2:$U$4999,2,FALSE)),\" --- NO EXISTE TRABAJADOR --- \")","v":""},null,null,null,null,null,"","","",{"$f":"IFERROR(IF(A961=\"\",\"\",VLOOKUP(A961,[1]Hoja1!$B$2:$U$4999,18,FALSE)),0)","v":""},{"$f":"IFERROR(IF(A961=\"\",\"\",VLOOKUP(A961,[1]Hoja1!$B$2:$U$4999,19,FALSE)),0)","v":""},"",null,{"$f":"IFERROR(IF(O961=\"\",\"\",VLOOKUP(O961,JORNADA!$A$19:$B$20,2,FALSE)),\"\")","v":""},{"$f":"IFERROR(IF(A961=\"\",\"\",VLOOKUP(A961,[1]Hoja1!$B$2:$U$4999,3,FALSE)),0)","v":""},null,"","",{"$f":"IFERROR(IF(A961=\"\",\"\",VLOOKUP(A961,[1]Hoja1!$B$2:$U$4999,10,FALSE)),0)","v":""},{"$f":"IFERROR(IF(Q961=\"\",\"\",VLOOKUP(Q961,[1]Hoja1!$D$2:$AF$4999,29,FALSE)),\"NO EXISTE CUENTA\")","v":""},null,null,""]
[null,{"$f":"IFERROR(IF(A962=\"\",\"\",VLOOKUP(A962,[1]Hoja1!$B$2:$U$4999,9,FALSE)),0)","v":""},{"$f":"IFERROR(IF(A962=\"\",\"\",VLOOKUP(A962,[1]Hoja1!$B$2:$U$4999,2,FALSE)),\" --- NO EXISTE TRABAJADOR --- \")","v":""},null,null,null,null,null,"","","",{"$f":"IFERROR(IF(A962=\"\",\"\",VLOOKUP(A962,[1]Hoja1!$B$2:$U$4999,18,FALSE)),0)","v":""},{"$f":"IFERROR(IF(A962=\"\",\"\",VLOOKUP(A962,[1]Hoja1!$B$2:$U$4999,19,FALSE)),0)","v":""},"",null,{"$f":"IFERROR(IF(O962=\"\",\"\",VLOOKUP(O962,JORNADA!$A$19:$B$20,2,FALSE)),\"\")","v":""},{"$f":"IFERROR(IF(A962=\"\",\"\",VLOOKUP(A962,[1]Hoja1!$B$2:$U$4999,3,FALSE)),0)","v":""},null,"","",{"$f":"IFERROR(IF(A962=\"\",\"\",VLOOKUP(A962,[1]Hoja1!$B$2:$U$4999,10,FALSE)),0)","v":""},{"$f":"IFERROR(IF(Q962=\"\",\"\",VLOOKUP(Q962,[1]Hoja1!$D$2:$AF$4999,29,FALSE)),\"NO EXISTE CUENTA\")","v":""},null,null,""]
[null,{"$f":"IFERROR(IF(A963=\"\",\"\",VLOOKUP(A963,[1]Hoja1!$B$2:$U$4999,9,FALSE)),0)","v":""},{"$f":"IFERROR(IF(A963=\"\",\"\",VLOOKUP(A963,[1]Hoja1!$B$2:$U$4999,2,FALSE)),\" --- NO EXISTE TRABAJADOR --- \")","v":""},null,null,null,null,null,{"$f":"IFERROR(IF(G963=\"\",\"\",VLOOKUP(G963,JORNADA,2,FALSE)),0)","v":""},{"$f":"IFERROR(IF(H963=\"\",\"\",VLOOKUP(H963,ACTIVIDAD,2,FALSE)),0)","v":""},{"$f":"CONCATENATE(J963,G963)","v":""},{"$f":"IFERROR(IF(A963=\"\",\"\",VLOOKUP(A963,[1]Hoja1!$B$2:$U$4999,18,FALSE)),0)","v":""},{"$f":"IFERROR(IF(A963=\"\",\"\",VLOOKUP(A963,[1]Hoja1!$B$2:$U$4999,19,FALSE)),0)","v":""},{"$f":"IFERROR(IF(W963=\"\",\"\",VLOOKUP(W963,LICENCIA,2,FALSE)),\"\")","v":""},null,{"$f":"IFERROR(IF(O963=\"\",\"\",VLOOKUP(O963,JORNADA!$A$19:$B$20,2,FALSE)),\"\")","v":""},{"$f":"IFERROR(IF(A963=\"\",\"\",VLOOKUP(A963,[1]Hoja1!$B$2:$U$4999,3,FALSE)),0)","v":""},null,{"$f":"IFERROR(IF(R963=\"\",\"\",VLOOKUP(R963,DNI,2,FALSE)),0)","v":""},{"$f":"IF(D963<>\"\",COUNTA(INDIRECT(\"D2:D\"&ROW()-1)),\"\")","v":""},{"$f":"IFERROR(IF(A963=\"\",\"\",VLOOKUP(A963,[1]Hoja1!$B$2:$U$4999,10,FALSE)),0)","v":""},{"$f":"IFERROR(IF(Q963=\"\",\"\",VLOOKUP(Q963,[1]Hoja1!$D$2:$AF$4999,29,FALSE)),\"NO EXISTE CUENTA\")","v":""},null,null,{"$f":"+C963","v":""}]
[null,{"$f":"IFERROR(IF(A964=\"\",\"\",VLOOKUP(A964,[1]Hoja1!$B$2:$U$4999,9,FALSE)),0)","v":""},{"$f":"IFERROR(IF(A964=\"\",\"\",VLOOKUP(A964,[1]Hoja1!$B$2:$U$4999,2,FALSE)),\" --- NO EXISTE TRABAJADOR --- \")","v":""},null,null,null,null,null,"","","",{"$f":"IFERROR(IF(A964=\"\",\"\",VLOOKUP(A964,[1]Hoja1!$B$2:$U$4999,18,FALSE)),0)","v":""},{"$f":"IFERROR(IF(A964=\"\",\"\",VLOOKUP(A964,[1]Hoja1!$B$2:$U$4999,19,FALSE)),0)","v":""},"",null,{"$f":"IFERROR(IF(O964=\"\",\"\",VLOOKUP(O964,JORNADA!$A$19:$B$20,2,FALSE)),\"\")","v":""},{"$f":"IFERROR(IF(A964=\"\",\"\",VLOOKUP(A964,[1]Hoja1!$B$2:$U$4999,3,FALSE)),0)","v":""},null,"","",{"$f":"IFERROR(IF(A964=\"\",\"\",VLOOKUP(A964,[1]Hoja1!$B$2:$U$4999,10,FALSE)),0)","v":""},{"$f":"IFERROR(IF(Q964=\"\",\"\",VLOOKUP(Q964,[1]Hoja1!$D$2:$AF$4999,29,FALSE)),\"NO EXISTE CUENTA\")","v":""},null,null,""]
[null,{"$f":"IFERROR(IF(A965=\"\",\"\",VLOOKUP(A965,[1]Hoja1!$B$2:$U$4999,9,FALSE)),0)","v":""},{"$f":"IFERROR(IF(A965=\"\",\"\",VLOOKUP(A965,[1]Hoja1!$B$2:$U$4999,2,FALSE)),\" --- NO EXISTE TRABAJADOR --- \")","v":""},null,null,null,null,null,"","","",{"$f":"IFERROR(IF(A965=\"\",\"\",VLOOKUP(A965,[1]Hoja1!$B$2:$U$4999,18,FALSE)),0)","v":""},{"$f":"IFERROR(IF(A965=\"\",\"\",VLOOKUP(A965,[1]Hoja1!$B$2:$U$4999,19,FALSE)),0)","v":""},"",null,{"$f":"IFERROR(IF(O965=\"\",\"\",VLOOKUP(O965,JORNADA!$A$19:$B$20,2,FALSE)),\"\")","v":""},{"$f":"IFERROR(IF(A965=\"\",\"\",VLOOKUP(A965,[1]Hoja1!$B$2:$U$4999,3,FALSE)),0)","v":""},null,"","",{"$f":"IFERROR(IF(A965=\"\",\"\",VLOOKUP(A965,[1]Hoja1!$B$2:$U$4999,10,FALSE)),0)","v":""},{"$f":"IFERROR(IF(Q965=\"\",\"\",VLOOKUP(Q965,[1]Hoja1!$D$2:$AF$4999,29,FALSE)),\"NO EXISTE CUENTA\")","v":""},null,null,""]
[null,{"$f":"IFERROR(IF(A966=\"\",\"\",VLOOKUP(A966,[1]Hoja1!$B$2:$U$4999,9,FALSE)),0)","v":""},{"$f":"IFERROR(IF(A966=\"\",\"\",VLOOKUP(A966,[1]Hoja1!$B$2:$U$4999,2,FALSE)),\" --- NO EXISTE TRABAJADOR --- \")","v":""},null,null,null,null,null,"","","",{"$f":"IFERROR(IF(A966=\"\",\"\",VLOOKUP(A966,[1]Hoja1!$B$2:$U$4999,18,FALSE)),0)","v":""},{"$f":"IFERROR(IF(A966=\"\",\"\",VLOOKUP(A966,[1]Hoja1!$B$2:$U$4999,19,FALSE)),0)","v":""},"",null,{"$f":"IFERROR(IF(O966=\"\",\"\",VLOOKUP(O966,JORNADA!$A$19:$B$20,2,FALSE)),\"\")","v":""},{"$f":"IFERROR(IF(A966=\"\",\"\",VLOOKUP(A966,[1]Hoja1!$B$2:$U$4999,3,FALSE)),0)","v":""},null,"","",{"$f":"IFERROR(IF(A966=\"\",\"\",VLOOKUP(A966,[1]Hoja1!$B$2:$U$4999,10,FALSE)),0)","v":""},{"$f":"IFERROR(IF(Q966=\"\",\"\",VLOOKUP(Q966,[1]Hoja1!$D$2:$AF$4999,29,FALSE)),\"NO EXISTE CUENTA\")","v":""},null,null,""]
[null,{"$f":"IFERROR(IF(A967=\"\",\"\",VLOOKUP(A967,[1]Hoja1!$B$2:$U$4999,9,FALSE)),0)","v":""},{"$f":"IFERROR(IF(A967=\"\",\"\",VLOOKUP(A967,[1]Hoja1!$B$2:$U$4999,2,FALSE)),\" --- NO EXISTE TRABAJADOR --- \")","v":""},null,null,null,null,null,"","","",{"$f":"IFERROR(IF(A967=\"\",\"\",VLOOKUP(A967,[1]Hoja1!$B$2:$U$4999,18,FALSE)),0)","v":""},{"$f":"IFERROR(IF(A967=\"\",\"\",VLOOKUP(A967,[1]Hoja1!$B$2:$U$4999,19,FALSE)),0)","v":""},"",null,{"$f":"IFERROR(IF(O967=\"\",\"\",VLOOKUP(O967,JORNADA!$A$19:$B$20,2,FALSE)),\"\")","v":""},{"$f":"IFERROR(IF(A967=\"\",\"\",VLOOKUP(A967,[1]Hoja1!$B$2:$U$4999,3,FALSE)),0)","v":""},null,"","",{"$f":"IFERROR(IF(A967=\"\",\"\",VLOOKUP(A967,[1]Hoja1!$B$2:$U$4999,10,FALSE)),0)","v":""},{"$f":"IFERROR(IF(Q967=\"\",\"\",VLOOKUP(Q967,[1]Hoja1!$D$2:$AF$4999,29,FALSE)),\"NO EXISTE CUENTA\")","v":""},null,null,""]
[null,{"$f":"IFERROR(IF(A968=\"\",\"\",VLOOKUP(A968,[1]Hoja1!$B$2:$U$4999,9,FALSE)),0)","v":""},{"$f":"IFERROR(IF(A968=\"\",\"\",VLOOKUP(A968,[1]Hoja1!$B$2:$U$4999,2,FALSE)),\" --- NO EXISTE TRABAJADOR --- \")","v":""},null,null,null,null,null,"","","",{"$f":"IFERROR(IF(A968=\"\",\"\",VLOOKUP(A968,[1]Hoja1!$B$2:$U$4999,18,FALSE)),0)","v":""},{"$f":"IFERROR(IF(A968=\"\",\"\",VLOOKUP(A968,[1]Hoja1!$B$2:$U$4999,19,FALSE)),0)","v":""},"",null,{"$f":"IFERROR(IF(O968=\"\",\"\",VLOOKUP(O968,JORNADA!$A$19:$B$20,2,FALSE)),\"\")","v":""},{"$f":"IFERROR(IF(A968=\"\",\"\",VLOOKUP(A968,[1]Hoja1!$B$2:$U$4999,3,FALSE)),0)","v":""},null,"","",{"$f":"IFERROR(IF(A968=\"\",\"\",VLOOKUP(A968,[1]Hoja1!$B$2:$U$4999,10,FALSE)),0)","v":""},{"$f":"IFERROR(IF(Q968=\"\",\"\",VLOOKUP(Q968,[1]Hoja1!$D$2:$AF$4999,29,FALSE)),\"NO EXISTE CUENTA\")","v":""},null,null,""]
[null,{"$f":"IFERROR(IF(A969=\"\",\"\",VLOOKUP(A969,[1]Hoja1!$B$2:$U$4999,9,FALSE)),0)","v":""},{"$f":"IFERROR(IF(A969=\"\",\"\",VLOOKUP(A969,[1]Hoja1!$B$2:$U$4999,2,FALSE)),\" --- NO EXISTE TRABAJADOR --- \")","v":""},null,null,null,null,null,"","","",{"$f":"IFERROR(IF(A969=\"\",\"\",VLOOKUP(A969,[1]Hoja1!$B$2:$U$4999,18,FALSE)),0)","v":""},{"$f":"IFERROR(IF(A969=\"\",\"\",VLOOKUP(A969,[1]Hoja1!$B$2:$U$4999,19,FALSE)),0)","v":""},"",null,{"$f":"IFERROR(IF(O969=\"\",\"\",VLOOKUP(O969,JORNADA!$A$19:$B$20,2,FALSE)),\"\")","v":""},{"$f":"IFERROR(IF(A969=\"\",\"\",VLOOKUP(A969,[1]Hoja1!$B$2:$U$4999,3,FALSE)),0)","v":""},null,"","",{"$f":"IFERROR(IF(A969=\"\",\"\",VLOOKUP(A969,[1]Hoja1!$B$2:$U$4999,10,FALSE)),0)","v":""},{"$f":"IFERROR(IF(Q969=\"\",\"\",VLOOKUP(Q969,[1]Hoja1!$D$2:$AF$4999,29,FALSE)),\"NO EXISTE CUENTA\")","v":""},null,null,""]
[null,{"$f":"IFERROR(IF(A970=\"\",\"\",VLOOKUP(A970,[1]Hoja1!$B$2:$U$4999,9,FALSE)),0)","v":""},{"$f":"IFERROR(IF(A970=\"\",\"\",VLOOKUP(A970,[1]Hoja1!$B$2:$U$4999,2,FALSE)),\" --- NO EXISTE TRABAJADOR --- \")","v":""},null,null,null,null,null,"","","",{"$f":"IFERROR(IF(A970=\"\",\"\",VLOOKUP(A970,[1]Hoja1!$B$2:$U$4999,18,FALSE)),0)","v":""},{"$f":"IFERROR(IF(A970=\"\",\"\",VLOOKUP(A970,[1]Hoja1!$B$2:$U$4999,19,FALSE)),0)","v":""},"",null,{"$f":"IFERROR(IF(O970=\"\",\"\",VLOOKUP(O970,JORNADA!$A$19:$B$20,2,FALSE)),\"\")","v":""},{"$f":"IFERROR(IF(A970=\"\",\"\",VLOOKUP(A970,[1]Hoja1!$B$2:$U$4999,3,FALSE)),0)","v":""},null,"","",{"$f":"IFERROR(IF(A970=\"\",\"\",VLOOKUP(A970,[1]Hoja1!$B$2:$U$4999,10,FALSE)),0)","v":""},{"$f":"IFERROR(IF(Q970=\"\",\"\",VLOOKUP(Q970,[1]Hoja1!$D$2:$AF$4999,29,FALSE)),\"NO EXISTE CUENTA\")","v":""},null,null,""]
[null,{"$f":"IFERROR(IF(A971=\"\",\"\",VLOOKUP(A971,[1]Hoja1!$B$2:$U$4999,9,FALSE)),0)","v":""},{"$f":"IFERROR(IF(A971=\"\",\"\",VLOOKUP(A971,[1]Hoja1!$B$2:$U$4999,2,FALSE)),\" --- NO EXISTE TRABAJADOR --- \")","v":""},null,null,null,null,null,"","","",{"$f":"IFERROR(IF(A971=\"\",\"\",VLOOKUP(A971,[1]Hoja1!$B$2:$U$4999,18,FALSE)),0)","v":""},{"$f":"IFERROR(IF(A971=\"\",\"\",VLOOKUP(A971,[1]Hoja1!$B$2:$U$4999,19,FALSE)),0)","v":""},"",null,{"$f":"IFERROR(IF(O971=\"\",\"\",VLOOKUP(O971,JORNADA!$A$19:$B$20,2,FALSE)),\"\")","v":""},{"$f":"IFERROR(IF(A971=\"\",\"\",VLOOKUP(A971,[1]Hoja1!$B$2:$U$4999,3,FALSE)),0)","v":""},null,"","",{"$f":"IFERROR(IF(A971=\"\",\"\",VLOOKUP(A971,[1]Hoja1!$B$2:$U$4999,10,FALSE)),0)","v":""},{"$f":"IFERROR(IF(Q971=\"\",\"\",VLOOKUP(Q971,[1]Hoja1!$D$2:$AF$4999,29,FALSE)),\"NO EXISTE CUENTA\")","v":""},null,null,""]
[null,{"$f":"IFERROR(IF(A972=\"\",\"\",VLOOKUP(A972,[1]Hoja1!$B$2:$U$4999,9,FALSE)),0)","v":""},{"$f":"IFERROR(IF(A972=\"\",\"\",VLOOKUP(A972,[1]Hoja1!$B$2:$U$4999,2,FALSE)),\" --- NO EXISTE TRABAJADOR --- \")","v":""},null,null,null,null,null,"","","",{"$f":"IFERROR(IF(A972=\"\",\"\",VLOOKUP(A972,[1]Hoja1!$B$2:$U$4999,18,FALSE)),0)","v":""},{"$f":"IFERROR(IF(A972=\"\",\"\",VLOOKUP(A972,[1]Hoja1!$B$2:$U$4999,19,FALSE)),0)","v":""},"",null,{"$f":"IFERROR(IF(O972=\"\",\"\",VLOOKUP(O972,JORNADA!$A$19:$B$20,2,FALSE)),\"\")","v":""},{"$f":"IFERROR(IF(A972=\"\",\"\",VLOOKUP(A972,[1]Hoja1!$B$2:$U$4999,3,FALSE)),0)","v":""},null,"","",{"$f":"IFERROR(IF(A972=\"\",\"\",VLOOKUP(A972,[1]Hoja1!$B$2:$U$4999,10,FALSE)),0)","v":""},{"$f":"IFERROR(IF(Q972=\"\",\"\",VLOOKUP(Q972,[1]Hoja1!$D$2:$AF$4999,29,FALSE)),\"NO EXISTE CUENTA\")","v":""},null,null,""]
[null,{"$f":"IFERROR(IF(A973=\"\",\"\",VLOOKUP(A973,[1]Hoja1!$B$2:$U$4999,9,FALSE)),0)","v":""},{"$f":"IFERROR(IF(A973=\"\",\"\",VLOOKUP(A973,[1]Hoja1!$B$2:$U$4999,2,FALSE)),\" --- NO EXISTE TRABAJADOR --- \")","v":""},null,null,null,null,null,"","","",{"$f":"IFERROR(IF(A973=\"\",\"\",VLOOKUP(A973,[1]Hoja1!$B$2:$U$4999,18,FALSE)),0)","v":""},{"$f":"IFERROR(IF(A973=\"\",\"\",VLOOKUP(A973,[1]Hoja1!$B$2:$U$4999,19,FALSE)),0)","v":""},"",null,{"$f":"IFERROR(IF(O973=\"\",\"\",VLOOKUP(O973,JORNADA!$A$19:$B$20,2,FALSE)),\"\")","v":""},{"$f":"IFERROR(IF(A973=\"\",\"\",VLOOKUP(A973,[1]Hoja1!$B$2:$U$4999,3,FALSE)),0)","v":""},null,"","",{"$f":"IFERROR(IF(A973=\"\",\"\",VLOOKUP(A973,[1]Hoja1!$B$2:$U$4999,10,FALSE)),0)","v":""},{"$f":"IFERROR(IF(Q973=\"\",\"\",VLOOKUP(Q973,[1]Hoja1!$D$2:$AF$4999,29,FALSE)),\"NO EXISTE CUENTA\")","v":""},null,null,""]
[null,{"$f":"IFERROR(IF(A974=\"\",\"\",VLOOKUP(A974,[1]Hoja1!$B$2:$U$4999,9,FALSE)),0)","v":""},{"$f":"IFERROR(IF(A974=\"\",\"\",VLOOKUP(A974,[1]Hoja1!$B$2:$U$4999,2,FALSE)),\" --- NO EXISTE TRABAJADOR --- \")","v":""},null,null,null,null,null,"","","",{"$f":"IFERROR(IF(A974=\"\",\"\",VLOOKUP(A974,[1]Hoja1!$B$2:$U$4999,18,FALSE)),0)","v":""},{"$f":"IFERROR(IF(A974=\"\",\"\",VLOOKUP(A974,[1]Hoja1!$B$2:$U$4999,19,FALSE)),0)","v":""},"",null,{"$f":"IFERROR(IF(O974=\"\",\"\",VLOOKUP(O974,JORNADA!$A$19:$B$20,2,FALSE)),\"\")","v":""},{"$f":"IFERROR(IF(A974=\"\",\"\",VLOOKUP(A974,[1]Hoja1!$B$2:$U$4999,3,FALSE)),0)","v":""},null,"","",{"$f":"IFERROR(IF(A974=\"\",\"\",VLOOKUP(A974,[1]Hoja1!$B$2:$U$4999,10,FALSE)),0)","v":""},{"$f":"IFERROR(IF(Q974=\"\",\"\",VLOOKUP(Q974,[1]Hoja1!$D$2:$AF$4999,29,FALSE)),\"NO EXISTE CUENTA\")","v":""},null,null,""]
[null,{"$f":"IFERROR(IF(A975=\"\",\"\",VLOOKUP(A975,[1]Hoja1!$B$2:$U$4999,9,FALSE)),0)","v":""},{"$f":"IFERROR(IF(A975=\"\",\"\",VLOOKUP(A975,[1]Hoja1!$B$2:$U$4999,2,FALSE)),\" --- NO EXISTE TRABAJADOR --- \")","v":""},null,null,null,null,null,"","","",{"$f":"IFERROR(IF(A975=\"\",\"\",VLOOKUP(A975,[1]Hoja1!$B$2:$U$4999,18,FALSE)),0)","v":""},{"$f":"IFERROR(IF(A975=\"\",\"\",VLOOKUP(A975,[1]Hoja1!$B$2:$U$4999,19,FALSE)),0)","v":""},"",null,{"$f":"IFERROR(IF(O975=\"\",\"\",VLOOKUP(O975,JORNADA!$A$19:$B$20,2,FALSE)),\"\")","v":""},{"$f":"IFERROR(IF(A975=\"\",\"\",VLOOKUP(A975,[1]Hoja1!$B$2:$U$4999,3,FALSE)),0)","v":""},null,"","",{"$f":"IFERROR(IF(A975=\"\",\"\",VLOOKUP(A975,[1]Hoja1!$B$2:$U$4999,10,FALSE)),0)","v":""},{"$f":"IFERROR(IF(Q975=\"\",\"\",VLOOKUP(Q975,[1]Hoja1!$D$2:$AF$4999,29,FALSE)),\"NO EXISTE CUENTA\")","v":""},null,null,""]
[null,{"$f":"IFERROR(IF(A976=\"\",\"\",VLOOKUP(A976,[1]Hoja1!$B$2:$U$4999,9,FALSE)),0)","v":""},{"$f":"IFERROR(IF(A976=\"\",\"\",VLOOKUP(A976,[1]Hoja1!$B$2:$U$4999,2,FALSE)),\" --- NO EXISTE TRABAJADOR --- \")","v":""},null,null,null,null,null,"","","",{"$f":"IFERROR(IF(A976=\"\",\"\",VLOOKUP(A976,[1]Hoja1!$B$2:$U$4999,18,FALSE)),0)","v":""},{"$f":"IFERROR(IF(A976=\"\",\"\",VLOOKUP(A976,[1]Hoja1!$B$2:$U$4999,19,FALSE)),0)","v":""},"",null,{"$f":"IFERROR(IF(O976=\"\",\"\",VLOOKUP(O976,JORNADA!$A$19:$B$20,2,FALSE)),\"\")","v":""},{"$f":"IFERROR(IF(A976=\"\",\"\",VLOOKUP(A976,[1]Hoja1!$B$2:$U$4999,3,FALSE)),0)","v":""},null,"","",{"$f":"IFERROR(IF(A976=\"\",\"\",VLOOKUP(A976,[1]Hoja1!$B$2:$U$4999,10,FALSE)),0)","v":""},{"$f":"IFERROR(IF(Q976=\"\",\"\",VLOOKUP(Q976,[1]Hoja1!$D$2:$AF$4999,29,FALSE)),\"NO EXISTE CUENTA\")","v":""},null,null,""]
[null,{"$f":"IFERROR(IF(A977=\"\",\"\",VLOOKUP(A977,[1]Hoja1!$B$2:$U$4999,9,FALSE)),0)","v":""},{"$f":"IFERROR(IF(A977=\"\",\"\",VLOOKUP(A977,[1]Hoja1!$B$2:$U$4999,2,FALSE)),\" --- NO EXISTE TRABAJADOR --- \")","v":""},null,null,null,null,null,"","","",{"$f":"IFERROR(IF(A977=\"\",\"\",VLOOKUP(A977,[1]Hoja1!$B$2:$U$4999,18,FALSE)),0)","v":""},{"$f":"IFERROR(IF(A977=\"\",\"\",VLOOKUP(A977,[1]Hoja1!$B$2:$U$4999,19,FALSE)),0)","v":""},"",null,{"$f":"IFERROR(IF(O977=\"\",\"\",VLOOKUP(O977,JORNADA!$A$19:$B$20,2,FALSE)),\"\")","v":""},{"$f":"IFERROR(IF(A977=\"\",\"\",VLOOKUP(A977,[1]Hoja1!$B$2:$U$4999,3,FALSE)),0)","v":""},null,"","",{"$f":"IFERROR(IF(A977=\"\",\"\",VLOOKUP(A977,[1]Hoja1!$B$2:$U$4999,10,FALSE)),0)","v":""},{"$f":"IFERROR(IF(Q977=\"\",\"\",VLOOKUP(Q977,[1]Hoja1!$D$2:$AF$4999,29,FALSE)),\"NO EXISTE CUENTA\")","v":""},null,null,""]
[null,{"$f":"IFERROR(IF(A978=\"\",\"\",VLOOKUP(A978,[1]Hoja1!$B$2:$U$4999,9,FALSE)),0)","v":""},{"$f":"IFERROR(IF(A978=\"\",\"\",VLOOKUP(A978,[1]Hoja1!$B$2:$U$4999,2,FALSE)),\" --- NO EXISTE TRABAJADOR --- \")","v":""},null,null,null,null,null,"","","",{"$f":"IFERROR(IF(A978=\"\",\"\",VLOOKUP(A978,[1]Hoja1!$B$2:$U$4999,18,FALSE)),0)","v":""},{"$f":"IFERROR(IF(A978=\"\",\"\",VLOOKUP(A978,[1]Hoja1!$B$2:$U$4999,19,FALSE)),0)","v":""},"",null,{"$f":"IFERROR(IF(O978=\"\",\"\",VLOOKUP(O978,JORNADA!$A$19:$B$20,2,FALSE)),\"\")","v":""},{"$f":"IFERROR(IF(A978=\"\",\"\",VLOOKUP(A978,[1]Hoja1!$B$2:$U$4999,3,FALSE)),0)","v":""},null,"","",{"$f":"IFERROR(IF(A978=\"\",\"\",VLOOKUP(A978,[1]Hoja1!$B$2:$U$4999,10,FALSE)),0)","v":""},{"$f":"IFERROR(IF(Q978=\"\",\"\",VLOOKUP(Q978,[1]Hoja1!$D$2:$AF$4999,29,FALSE)),\"NO EXISTE CUENTA\")","v":""},null,null,""]
[null,{"$f":"IFERROR(IF(A979=\"\",\"\",VLOOKUP(A979,[1]Hoja1!$B$2:$U$4999,9,FALSE)),0)","v":""},{"$f":"IFERROR(IF(A979=\"\",\"\",VLOOKUP(A979,[1]Hoja1!$B$2:$U$4999,2,FALSE)),\" --- NO EXISTE TRABAJADOR --- \")","v":""},null,null,null,null,null,"","","",{"$f":"IFERROR(IF(A979=\"\",\"\",VLOOKUP(A979,[1]Hoja1!$B$2:$U$4999,18,FALSE)),0)","v":""},{"$f":"IFERROR(IF(A979=\"\",\"\",VLOOKUP(A979,[1]Hoja1!$B$2:$U$4999,19,FALSE)),0)","v":""},"",null,{"$f":"IFERROR(IF(O979=\"\",\"\",VLOOKUP(O979,JORNADA!$A$19:$B$20,2,FALSE)),\"\")","v":""},{"$f":"IFERROR(IF(A979=\"\",\"\",VLOOKUP(A979,[1]Hoja1!$B$2:$U$4999,3,FALSE)),0)","v":""},null,"","",{"$f":"IFERROR(IF(A979=\"\",\"\",VLOOKUP(A979,[1]Hoja1!$B$2:$U$4999,10,FALSE)),0)","v":""},{"$f":"IFERROR(IF(Q979=\"\",\"\",VLOOKUP(Q979,[1]Hoja1!$D$2:$AF$4999,29,FALSE)),\"NO EXISTE CUENTA\")","v":""},null,null,""]
[null,{"$f":"IFERROR(IF(A980=\"\",\"\",VLOOKUP(A980,[1]Hoja1!$B$2:$U$4999,9,FALSE)),0)","v":""},{"$f":"IFERROR(IF(A980=\"\",\"\",VLOOKUP(A980,[1]Hoja1!$B$2:$U$4999,2,FALSE)),\" --- NO EXISTE TRABAJADOR --- \")","v":""},null,null,null,null,null,"","","",{"$f":"IFERROR(IF(A980=\"\",\"\",VLOOKUP(A980,[1]Hoja1!$B$2:$U$4999,18,FALSE)),0)","v":""},{"$f":"IFERROR(IF(A980=\"\",\"\",VLOOKUP(A980,[1]Hoja1!$B$2:$U$4999,19,FALSE)),0)","v":""},"",null,{"$f":"IFERROR(IF(O980=\"\",\"\",VLOOKUP(O980,JORNADA!$A$19:$B$20,2,FALSE)),\"\")","v":""},{"$f":"IFERROR(IF(A980=\"\",\"\",VLOOKUP(A980,[1]Hoja1!$B$2:$U$4999,3,FALSE)),0)","v":""},null,"","",{"$f":"IFERROR(IF(A980=\"\",\"\",VLOOKUP(A980,[1]Hoja1!$B$2:$U$4999,10,FALSE)),0)","v":""},{"$f":"IFERROR(IF(Q980=\"\",\"\",VLOOKUP(Q980,[1]Hoja1!$D$2:$AF$4999,29,FALSE)),\"NO EXISTE CUENTA\")","v":""},null,null,""]
[null,{"$f":"IFERROR(IF(A981=\"\",\"\",VLOOKUP(A981,[1]Hoja1!$B$2:$U$4999,9,FALSE)),0)","v":""},{"$f":"IFERROR(IF(A981=\"\",\"\",VLOOKUP(A981,[1]Hoja1!$B$2:$U$4999,2,FALSE)),\" --- NO EXISTE TRABAJADOR --- \")","v":""},null,null,null,null,null,"","","",{"$f":"IFERROR(IF(A981=\"\",\"\",VLOOKUP(A981,[1]Hoja1!$B$2:$U$4999,18,FALSE)),0)","v":""},{"$f":"IFERROR(IF(A981=\"\",\"\",VLOOKUP(A981,[1]Hoja1!$B$2:$U$4999,19,FALSE)),0)","v":""},"",null,{"$f":"IFERROR(IF(O981=\"\",\"\",VLOOKUP(O981,JORNADA!$A$19:$B$20,2,FALSE)),\"\")","v":""},{"$f":"IFERROR(IF(A981=\"\",\"\",VLOOKUP(A981,[1]Hoja1!$B$2:$U$4999,3,FALSE)),0)","v":""},null,"","",{"$f":"IFERROR(IF(A981=\"\",\"\",VLOOKUP(A981,[1]Hoja1!$B$2:$U$4999,10,FALSE)),0)","v":""},{"$f":"IFERROR(IF(Q981=\"\",\"\",VLOOKUP(Q981,[1]Hoja1!$D$2:$AF$4999,29,FALSE)),\"NO EXISTE CUENTA\")","v":""},null,null,""]
[null,{"$f":"IFERROR(IF(A982=\"\",\"\",VLOOKUP(A982,[1]Hoja1!$B$2:$U$4999,9,FALSE)),0)","v":""},{"$f":"IFERROR(IF(A982=\"\",\"\",VLOOKUP(A982,[1]Hoja1!$B$2:$U$4999,2,FALSE)),\" --- NO EXISTE TRABAJADOR --- \")","v":""},null,null,null,null,null,"","","",{"$f":"IFERROR(IF(A982=\"\",\"\",VLOOKUP(A982,[1]Hoja1!$B$2:$U$4999,18,FALSE)),0)","v":""},{"$f":"IFERROR(IF(A982=\"\",\"\",VLOOKUP(A982,[1]Hoja1!$B$2:$U$4999,19,FALSE)),0)","v":""},"",null,{"$f":"IFERROR(IF(O982=\"\",\"\",VLOOKUP(O982,JORNADA!$A$19:$B$20,2,FALSE)),\"\")","v":""},{"$f":"IFERROR(IF(A982=\"\",\"\",VLOOKUP(A982,[1]Hoja1!$B$2:$U$4999,3,FALSE)),0)","v":""},null,"","",{"$f":"IFERROR(IF(A982=\"\",\"\",VLOOKUP(A982,[1]Hoja1!$B$2:$U$4999,10,FALSE)),0)","v":""},{"$f":"IFERROR(IF(Q982=\"\",\"\",VLOOKUP(Q982,[1]Hoja1!$D$2:$AF$4999,29,FALSE)),\"NO EXISTE CUENTA\")","v":""},null,null,""]
[null,{"$f":"IFERROR(IF(A983=\"\",\"\",VLOOKUP(A983,[1]Hoja1!$B$2:$U$4999,9,FALSE)),0)","v":""},{"$f":"IFERROR(IF(A983=\"\",\"\",VLOOKUP(A983,[1]Hoja1!$B$2:$U$4999,2,FALSE)),\" --- NO EXISTE TRABAJADOR --- \")","v":""},null,null,null,null,null,"","","",{"$f":"IFERROR(IF(A983=\"\",\"\",VLOOKUP(A983,[1]Hoja1!$B$2:$U$4999,18,FALSE)),0)","v":""},{"$f":"IFERROR(IF(A983=\"\",\"\",VLOOKUP(A983,[1]Hoja1!$B$2:$U$4999,19,FALSE)),0)","v":""},"",null,{"$f":"IFERROR(IF(O983=\"\",\"\",VLOOKUP(O983,JORNADA!$A$19:$B$20,2,FALSE)),\"\")","v":""},{"$f":"IFERROR(IF(A983=\"\",\"\",VLOOKUP(A983,[1]Hoja1!$B$2:$U$4999,3,FALSE)),0)","v":""},null,"","",{"$f":"IFERROR(IF(A983=\"\",\"\",VLOOKUP(A983,[1]Hoja1!$B$2:$U$4999,10,FALSE)),0)","v":""},{"$f":"IFERROR(IF(Q983=\"\",\"\",VLOOKUP(Q983,[1]Hoja1!$D$2:$AF$4999,29,FALSE)),\"NO EXISTE CUENTA\")","v":""},null,null,""]
[null,{"$f":"IFERROR(IF(A984=\"\",\"\",VLOOKUP(A984,[1]Hoja1!$B$2:$U$4999,9,FALSE)),0)","v":""},{"$f":"IFERROR(IF(A984=\"\",\"\",VLOOKUP(A984,[1]Hoja1!$B$2:$U$4999,2,FALSE)),\" --- NO EXISTE TRABAJADOR --- \")","v":""},null,null,null,null,null,"","","",{"$f":"IFERROR(IF(A984=\"\",\"\",VLOOKUP(A984,[1]Hoja1!$B$2:$U$4999,18,FALSE)),0)","v":""},{"$f":"IFERROR(IF(A984=\"\",\"\",VLOOKUP(A984,[1]Hoja1!$B$2:$U$4999,19,FALSE)),0)","v":""},"",null,{"$f":"IFERROR(IF(O984=\"\",\"\",VLOOKUP(O984,JORNADA!$A$19:$B$20,2,FALSE)),\"\")","v":""},{"$f":"IFERROR(IF(A984=\"\",\"\",VLOOKUP(A984,[1]Hoja1!$B$2:$U$4999,3,FALSE)),0)","v":""},null,"","",{"$f":"IFERROR(IF(A984=\"\",\"\",VLOOKUP(A984,[1]Hoja1!$B$2:$U$4999,10,FALSE)),0)","v":""},{"$f":"IFERROR(IF(Q984=\"\",\"\",VLOOKUP(Q984,[1]Hoja1!$D$2:$AF$4999,29,FALSE)),\"NO EXISTE CUENTA\")","v":""},null,null,""]
[null,{"$f":"IFERROR(IF(A985=\"\",\"\",VLOOKUP(A985,[1]Hoja1!$B$2:$U$4999,9,FALSE)),0)","v":""},{"$f":"IFERROR(IF(A985=\"\",\"\",VLOOKUP(A985,[1]Hoja1!$B$2:$U$4999,2,FALSE)),\" --- NO EXISTE TRABAJADOR --- \")","v":""},null,null,null,null,null,"","","",{"$f":"IFERROR(IF(A985=\"\",\"\",VLOOKUP(A985,[1]Hoja1!$B$2:$U$4999,18,FALSE)),0)","v":""},{"$f":"IFERROR(IF(A985=\"\",\"\",VLOOKUP(A985,[1]Hoja1!$B$2:$U$4999,19,FALSE)),0)","v":""},"",null,{"$f":"IFERROR(IF(O985=\"\",\"\",VLOOKUP(O985,JORNADA!$A$19:$B$20,2,FALSE)),\"\")","v":""},{"$f":"IFERROR(IF(A985=\"\",\"\",VLOOKUP(A985,[1]Hoja1!$B$2:$U$4999,3,FALSE)),0)","v":""},null,"","",{"$f":"IFERROR(IF(A985=\"\",\"\",VLOOKUP(A985,[1]Hoja1!$B$2:$U$4999,10,FALSE)),0)","v":""},{"$f":"IFERROR(IF(Q985=\"\",\"\",VLOOKUP(Q985,[1]Hoja1!$D$2:$AF$4999,29,FALSE)),\"NO EXISTE CUENTA\")","v":""},null,null,""]
[null,{"$f":"IFERROR(IF(A986=\"\",\"\",VLOOKUP(A986,[1]Hoja1!$B$2:$U$4999,9,FALSE)),0)","v":""},{"$f":"IFERROR(IF(A986=\"\",\"\",VLOOKUP(A986,[1]Hoja1!$B$2:$U$4999,2,FALSE)),\" --- NO EXISTE TRABAJADOR --- \")","v":""},null,null,null,null,null,"","","",{"$f":"IFERROR(IF(A986=\"\",\"\",VLOOKUP(A986,[1]Hoja1!$B$2:$U$4999,18,FALSE)),0)","v":""},{"$f":"IFERROR(IF(A986=\"\",\"\",VLOOKUP(A986,[1]Hoja1!$B$2:$U$4999,19,FALSE)),0)","v":""},"",null,{"$f":"IFERROR(IF(O986=\"\",\"\",VLOOKUP(O986,JORNADA!$A$19:$B$20,2,FALSE)),\"\")","v":""},{"$f":"IFERROR(IF(A986=\"\",\"\",VLOOKUP(A986,[1]Hoja1!$B$2:$U$4999,3,FALSE)),0)","v":""},null,"","",{"$f":"IFERROR(IF(A986=\"\",\"\",VLOOKUP(A986,[1]Hoja1!$B$2:$U$4999,10,FALSE)),0)","v":""},{"$f":"IFERROR(IF(Q986=\"\",\"\",VLOOKUP(Q986,[1]Hoja1!$D$2:$AF$4999,29,FALSE)),\"NO EXISTE CUENTA\")","v":""},null,null,""]
[null,{"$f":"IFERROR(IF(A987=\"\",\"\",VLOOKUP(A987,[1]Hoja1!$B$2:$U$4999,9,FALSE)),0)","v":""},{"$f":"IFERROR(IF(A987=\"\",\"\",VLOOKUP(A987,[1]Hoja1!$B$2:$U$4999,2,FALSE)),\" --- NO EXISTE TRABAJADOR --- \")","v":""},null,null,null,null,null,"","","",{"$f":"IFERROR(IF(A987=\"\",\"\",VLOOKUP(A987,[1]Hoja1!$B$2:$U$4999,18,FALSE)),0)","v":""},{"$f":"IFERROR(IF(A987=\"\",\"\",VLOOKUP(A987,[1]Hoja1!$B$2:$U$4999,19,FALSE)),0)","v":""},"",null,{"$f":"IFERROR(IF(O987=\"\",\"\",VLOOKUP(O987,JORNADA!$A$19:$B$20,2,FALSE)),\"\")","v":""},{"$f":"IFERROR(IF(A987=\"\",\"\",VLOOKUP(A987,[1]Hoja1!$B$2:$U$4999,3,FALSE)),0)","v":""},null,"","",{"$f":"IFERROR(IF(A987=\"\",\"\",VLOOKUP(A987,[1]Hoja1!$B$2:$U$4999,10,FALSE)),0)","v":""},{"$f":"IFERROR(IF(Q987=\"\",\"\",VLOOKUP(Q987,[1]Hoja1!$D$2:$AF$4999,29,FALSE)),\"NO EXISTE CUENTA\")","v":""},null,null,""]
[null,{"$f":"IFERROR(IF(A988=\"\",\"\",VLOOKUP(A988,[1]Hoja1!$B$2:$U$4999,9,FALSE)),0)","v":""},{"$f":"IFERROR(IF(A988=\"\",\"\",VLOOKUP(A988,[1]Hoja1!$B$2:$U$4999,2,FALSE)),\" --- NO EXISTE TRABAJADOR --- \")","v":""},null,null,null,null,null,"","","",{"$f":"IFERROR(IF(A988=\"\",\"\",VLOOKUP(A988,[1]Hoja1!$B$2:$U$4999,18,FALSE)),0)","v":""},{"$f":"IFERROR(IF(A988=\"\",\"\",VLOOKUP(A988,[1]Hoja1!$B$2:$U$4999,19,FALSE)),0)","v":""},"",null,{"$f":"IFERROR(IF(O988=\"\",\"\",VLOOKUP(O988,JORNADA!$A$19:$B$20,2,FALSE)),\"\")","v":""},{"$f":"IFERROR(IF(A988=\"\",\"\",VLOOKUP(A988,[1]Hoja1!$B$2:$U$4999,3,FALSE)),0)","v":""},null,"","",{"$f":"IFERROR(IF(A988=\"\",\"\",VLOOKUP(A988,[1]Hoja1!$B$2:$U$4999,10,FALSE)),0)","v":""},{"$f":"IFERROR(IF(Q988=\"\",\"\",VLOOKUP(Q988,[1]Hoja1!$D$2:$AF$4999,29,FALSE)),\"NO EXISTE CUENTA\")","v":""},null,null,""]
[null,{"$f":"IFERROR(IF(A989=\"\",\"\",VLOOKUP(A989,[1]Hoja1!$B$2:$U$4999,9,FALSE)),0)","v":""},{"$f":"IFERROR(IF(A989=\"\",\"\",VLOOKUP(A989,[1]Hoja1!$B$2:$U$4999,2,FALSE)),\" --- NO EXISTE TRABAJADOR --- \")","v":""},null,null,null,null,null,"","","",{"$f":"IFERROR(IF(A989=\"\",\"\",VLOOKUP(A989,[1]Hoja1!$B$2:$U$4999,18,FALSE)),0)","v":""},{"$f":"IFERROR(IF(A989=\"\",\"\",VLOOKUP(A989,[1]Hoja1!$B$2:$U$4999,19,FALSE)),0)","v":""},"",null,{"$f":"IFERROR(IF(O989=\"\",\"\",VLOOKUP(O989,JORNADA!$A$19:$B$20,2,FALSE)),\"\")","v":""},{"$f":"IFERROR(IF(A989=\"\",\"\",VLOOKUP(A989,[1]Hoja1!$B$2:$U$4999,3,FALSE)),0)","v":""},null,"","",{"$f":"IFERROR(IF(A989=\"\",\"\",VLOOKUP(A989,[1]Hoja1!$B$2:$U$4999,10,FALSE)),0)","v":""},{"$f":"IFERROR(IF(Q989=\"\",\"\",VLOOKUP(Q989,[1]Hoja1!$D$2:$AF$4999,29,FALSE)),\"NO EXISTE CUENTA\")","v":""},null,null,""]
[null,{"$f":"IFERROR(IF(A990=\"\",\"\",VLOOKUP(A990,[1]Hoja1!$B$2:$U$4999,9,FALSE)),0)","v":""},{"$f":"IFERROR(IF(A990=\"\",\"\",VLOOKUP(A990,[1]Hoja1!$B$2:$U$4999,2,FALSE)),\" --- NO EXISTE TRABAJADOR --- \")","v":""},null,null,null,null,null,"","","",{"$f":"IFERROR(IF(A990=\"\",\"\",VLOOKUP(A990,[1]Hoja1!$B$2:$U$4999,18,FALSE)),0)","v":""},{"$f":"IFERROR(IF(A990=\"\",\"\",VLOOKUP(A990,[1]Hoja1!$B$2:$U$4999,19,FALSE)),0)","v":""},"",null,{"$f":"IFERROR(IF(O990=\"\",\"\",VLOOKUP(O990,JORNADA!$A$19:$B$20,2,FALSE)),\"\")","v":""},{"$f":"IFERROR(IF(A990=\"\",\"\",VLOOKUP(A990,[1]Hoja1!$B$2:$U$4999,3,FALSE)),0)","v":""},null,"","",{"$f":"IFERROR(IF(A990=\"\",\"\",VLOOKUP(A990,[1]Hoja1!$B$2:$U$4999,10,FALSE)),0)","v":""},{"$f":"IFERROR(IF(Q990=\"\",\"\",VLOOKUP(Q990,[1]Hoja1!$D$2:$AF$4999,29,FALSE)),\"NO EXISTE CUENTA\")","v":""},null,null,""]
[null,{"$f":"IFERROR(IF(A991=\"\",\"\",VLOOKUP(A991,[1]Hoja1!$B$2:$U$4999,9,FALSE)),0)","v":""},{"$f":"IFERROR(IF(A991=\"\",\"\",VLOOKUP(A991,[1]Hoja1!$B$2:$U$4999,2,FALSE)),\" --- NO EXISTE TRABAJADOR --- \")","v":""},null,null,null,null,null,"","","",{"$f":"IFERROR(IF(A991=\"\",\"\",VLOOKUP(A991,[1]Hoja1!$B$2:$U$4999,18,FALSE)),0)","v":""},{"$f":"IFERROR(IF(A991=\"\",\"\",VLOOKUP(A991,[1]Hoja1!$B$2:$U$4999,19,FALSE)),0)","v":""},"",null,{"$f":"IFERROR(IF(O991=\"\",\"\",VLOOKUP(O991,JORNADA!$A$19:$B$20,2,FALSE)),\"\")","v":""},{"$f":"IFERROR(IF(A991=\"\",\"\",VLOOKUP(A991,[1]Hoja1!$B$2:$U$4999,3,FALSE)),0)","v":""},null,"","",{"$f":"IFERROR(IF(A991=\"\",\"\",VLOOKUP(A991,[1]Hoja1!$B$2:$U$4999,10,FALSE)),0)","v":""},{"$f":"IFERROR(IF(Q991=\"\",\"\",VLOOKUP(Q991,[1]Hoja1!$D$2:$AF$4999,29,FALSE)),\"NO EXISTE CUENTA\")","v":""},null,null,""]
[null,{"$f":"IFERROR(IF(A992=\"\",\"\",VLOOKUP(A992,[1]Hoja1!$B$2:$U$4999,9,FALSE)),0)","v":""},{"$f":"IFERROR(IF(A992=\"\",\"\",VLOOKUP(A992,[1]Hoja1!$B$2:$U$4999,2,FALSE)),\" --- NO EXISTE TRABAJADOR --- \")","v":""},null,null,null,null,null,"","","",{"$f":"IFERROR(IF(A992=\"\",\"\",VLOOKUP(A992,[1]Hoja1!$B$2:$U$4999,18,FALSE)),0)","v":""},{"$f":"IFERROR(IF(A992=\"\",\"\",VLOOKUP(A992,[1]Hoja1!$B$2:$U$4999,19,FALSE)),0)","v":""},"",null,{"$f":"IFERROR(IF(O992=\"\",\"\",VLOOKUP(O992,JORNADA!$A$19:$B$20,2,FALSE)),\"\")","v":""},{"$f":"IFERROR(IF(A992=\"\",\"\",VLOOKUP(A992,[1]Hoja1!$B$2:$U$4999,3,FALSE)),0)","v":""},null,"","",{"$f":"IFERROR(IF(A992=\"\",\"\",VLOOKUP(A992,[1]Hoja1!$B$2:$U$4999,10,FALSE)),0)","v":""},{"$f":"IFERROR(IF(Q992=\"\",\"\",VLOOKUP(Q992,[1]Hoja1!$D$2:$AF$4999,29,FALSE)),\"NO EXISTE CUENTA\")","v":""},null,null,""]
[null,{"$f":"IFERROR(IF(A993=\"\",\"\",VLOOKUP(A993,[1]Hoja1!$B$2:$U$4999,9,FALSE)),0)","v":""},{"$f":"IFERROR(IF(A993=\"\",\"\",VLOOKUP(A993,[1]Hoja1!$B$2:$U$4999,2,FALSE)),\" --- NO EXISTE TRABAJADOR --- \")","v":""},null,null,null,null,null,"","","",{"$f":"IFERROR(IF(A993=\"\",\"\",VLOOKUP(A993,[1]Hoja1!$B$2:$U$4999,18,FALSE)),0)","v":""},{"$f":"IFERROR(IF(A993=\"\",\"\",VLOOKUP(A993,[1]Hoja1!$B$2:$U$4999,19,FALSE)),0)","v":""},"",null,{"$f":"IFERROR(IF(O993=\"\",\"\",VLOOKUP(O993,JORNADA!$A$19:$B$20,2,FALSE)),\"\")","v":""},{"$f":"IFERROR(IF(A993=\"\",\"\",VLOOKUP(A993,[1]Hoja1!$B$2:$U$4999,3,FALSE)),0)","v":""},null,"","",{"$f":"IFERROR(IF(A993=\"\",\"\",VLOOKUP(A993,[1]Hoja1!$B$2:$U$4999,10,FALSE)),0)","v":""},{"$f":"IFERROR(IF(Q993=\"\",\"\",VLOOKUP(Q993,[1]Hoja1!$D$2:$AF$4999,29,FALSE)),\"NO EXISTE CUENTA\")","v":""},null,null,""]
[null,{"$f":"IFERROR(IF(A994=\"\",\"\",VLOOKUP(A994,[1]Hoja1!$B$2:$U$4999,9,FALSE)),0)","v":""},{"$f":"IFERROR(IF(A994=\"\",\"\",VLOOKUP(A994,[1]Hoja1!$B$2:$U$4999,2,FALSE)),\" --- NO EXISTE TRABAJADOR --- \")","v":""},null,null,null,null,null,"","","",{"$f":"IFERROR(IF(A994=\"\",\"\",VLOOKUP(A994,[1]Hoja1!$B$2:$U$4999,18,FALSE)),0)","v":""},{"$f":"IFERROR(IF(A994=\"\",\"\",VLOOKUP(A994,[1]Hoja1!$B$2:$U$4999,19,FALSE)),0)","v":""},"",null,{"$f":"IFERROR(IF(O994=\"\",\"\",VLOOKUP(O994,JORNADA!$A$19:$B$20,2,FALSE)),\"\")","v":""},{"$f":"IFERROR(IF(A994=\"\",\"\",VLOOKUP(A994,[1]Hoja1!$B$2:$U$4999,3,FALSE)),0)","v":""},null,"","",{"$f":"IFERROR(IF(A994=\"\",\"\",VLOOKUP(A994,[1]Hoja1!$B$2:$U$4999,10,FALSE)),0)","v":""},{"$f":"IFERROR(IF(Q994=\"\",\"\",VLOOKUP(Q994,[1]Hoja1!$D$2:$AF$4999,29,FALSE)),\"NO EXISTE CUENTA\")","v":""},null,null,""]
[null,{"$f":"IFERROR(IF(A995=\"\",\"\",VLOOKUP(A995,[1]Hoja1!$B$2:$U$4999,9,FALSE)),0)","v":""},{"$f":"IFERROR(IF(A995=\"\",\"\",VLOOKUP(A995,[1]Hoja1!$B$2:$U$4999,2,FALSE)),\" --- NO EXISTE TRABAJADOR --- \")","v":""},null,null,null,null,null,"","","",{"$f":"IFERROR(IF(A995=\"\",\"\",VLOOKUP(A995,[1]Hoja1!$B$2:$U$4999,18,FALSE)),0)","v":""},{"$f":"IFERROR(IF(A995=\"\",\"\",VLOOKUP(A995,[1]Hoja1!$B$2:$U$4999,19,FALSE)),0)","v":""},"",null,{"$f":"IFERROR(IF(O995=\"\",\"\",VLOOKUP(O995,JORNADA!$A$19:$B$20,2,FALSE)),\"\")","v":""},{"$f":"IFERROR(IF(A995=\"\",\"\",VLOOKUP(A995,[1]Hoja1!$B$2:$U$4999,3,FALSE)),0)","v":""},null,"","",{"$f":"IFERROR(IF(A995=\"\",\"\",VLOOKUP(A995,[1]Hoja1!$B$2:$U$4999,10,FALSE)),0)","v":""},{"$f":"IFERROR(IF(Q995=\"\",\"\",VLOOKUP(Q995,[1]Hoja1!$D$2:$AF$4999,29,FALSE)),\"NO EXISTE CUENTA\")","v":""},null,null,""]
[null,{"$f":"IFERROR(IF(A996=\"\",\"\",VLOOKUP(A996,[1]Hoja1!$B$2:$U$4999,9,FALSE)),0)","v":""},{"$f":"IFERROR(IF(A996=\"\",\"\",VLOOKUP(A996,[1]Hoja1!$B$2:$U$4999,2,FALSE)),\" --- NO EXISTE TRABAJADOR --- \")","v":""},null,null,null,null,null,"","","",{"$f":"IFERROR(IF(A996=\"\",\"\",VLOOKUP(A996,[1]Hoja1!$B$2:$U$4999,18,FALSE)),0)","v":""},{"$f":"IFERROR(IF(A996=\"\",\"\",VLOOKUP(A996,[1]Hoja1!$B$2:$U$4999,19,FALSE)),0)","v":""},"",null,{"$f":"IFERROR(IF(O996=\"\",\"\",VLOOKUP(O996,JORNADA!$A$19:$B$20,2,FALSE)),\"\")","v":""},{"$f":"IFERROR(IF(A996=\"\",\"\",VLOOKUP(A996,[1]Hoja1!$B$2:$U$4999,3,FALSE)),0)","v":""},null,"","",{"$f":"IFERROR(IF(A996=\"\",\"\",VLOOKUP(A996,[1]Hoja1!$B$2:$U$4999,10,FALSE)),0)","v":""},{"$f":"IFERROR(IF(Q996=\"\",\"\",VLOOKUP(Q996,[1]Hoja1!$D$2:$AF$4999,29,FALSE)),\"NO EXISTE CUENTA\")","v":""},null,null,""]
[null,{"$f":"IFERROR(IF(A997=\"\",\"\",VLOOKUP(A997,[1]Hoja1!$B$2:$U$4999,9,FALSE)),0)","v":""},{"$f":"IFERROR(IF(A997=\"\",\"\",VLOOKUP(A997,[1]Hoja1!$B$2:$U$4999,2,FALSE)),\" --- NO EXISTE TRABAJADOR --- \")","v":""},null,null,null,null,null,"","","",{"$f":"IFERROR(IF(A997=\"\",\"\",VLOOKUP(A997,[1]Hoja1!$B$2:$U$4999,18,FALSE)),0)","v":""},{"$f":"IFERROR(IF(A997=\"\",\"\",VLOOKUP(A997,[1]Hoja1!$B$2:$U$4999,19,FALSE)),0)","v":""},"",null,{"$f":"IFERROR(IF(O997=\"\",\"\",VLOOKUP(O997,JORNADA!$A$19:$B$20,2,FALSE)),\"\")","v":""},{"$f":"IFERROR(IF(A997=\"\",\"\",VLOOKUP(A997,[1]Hoja1!$B$2:$U$4999,3,FALSE)),0)","v":""},null,"","",{"$f":"IFERROR(IF(A997=\"\",\"\",VLOOKUP(A997,[1]Hoja1!$B$2:$U$4999,10,FALSE)),0)","v":""},{"$f":"IFERROR(IF(Q997=\"\",\"\",VLOOKUP(Q997,[1]Hoja1!$D$2:$AF$4999,29,FALSE)),\"NO EXISTE CUENTA\")","v":""},null,null,""]
[null,{"$f":"IFERROR(IF(A998=\"\",\"\",VLOOKUP(A998,[1]Hoja1!$B$2:$U$4999,9,FALSE)),0)","v":""},{"$f":"IFERROR(IF(A998=\"\",\"\",VLOOKUP(A998,[1]Hoja1!$B$2:$U$4999,2,FALSE)),\" --- NO EXISTE TRABAJADOR --- \")","v":""},null,null,null,null,null,"","","",{"$f":"IFERROR(IF(A998=\"\",\"\",VLOOKUP(A998,[1]Hoja1!$B$2:$U$4999,18,FALSE)),0)","v":""},{"$f":"IFERROR(IF(A998=\"\",\"\",VLOOKUP(A998,[1]Hoja1!$B$2:$U$4999,19,FALSE)),0)","v":""},"",null,{"$f":"IFERROR(IF(O998=\"\",\"\",VLOOKUP(O998,JORNADA!$A$19:$B$20,2,FALSE)),\"\")","v":""},{"$f":"IFERROR(IF(A998=\"\",\"\",VLOOKUP(A998,[1]Hoja1!$B$2:$U$4999,3,FALSE)),0)","v":""},null,"","",{"$f":"IFERROR(IF(A998=\"\",\"\",VLOOKUP(A998,[1]Hoja1!$B$2:$U$4999,10,FALSE)),0)","v":""},{"$f":"IFERROR(IF(Q998=\"\",\"\",VLOOKUP(Q998,[1]Hoja1!$D$2:$AF$4999,29,FALSE)),\"NO EXISTE CUENTA\")","v":""},null,null,""]
[null,{"$f":"IFERROR(IF(A999=\"\",\"\",VLOOKUP(A999,[1]Hoja1!$B$2:$U$4999,9,FALSE)),0)","v":""},{"$f":"IFERROR(IF(A999=\"\",\"\",VLOOKUP(A999,[1]Hoja1!$B$2:$U$4999,2,FALSE)),\" --- NO EXISTE TRABAJADOR --- \")","v":""},null,null,null,null,null,"","","",{"$f":"IFERROR(IF(A999=\"\",\"\",VLOOKUP(A999,[1]Hoja1!$B$2:$U$4999,18,FALSE)),0)","v":""},{"$f":"IFERROR(IF(A999=\"\",\"\",VLOOKUP(A999,[1]Hoja1!$B$2:$U$4999,19,FALSE)),0)","v":""},"",null,{"$f":"IFERROR(IF(O999=\"\",\"\",VLOOKUP(O999,JORNADA!$A$19:$B$20,2,FALSE)),\"\")","v":""},{"$f":"IFERROR(IF(A999=\"\",\"\",VLOOKUP(A999,[1]Hoja1!$B$2:$U$4999,3,FALSE)),0)","v":""},null,"","",{"$f":"IFERROR(IF(A999=\"\",\"\",VLOOKUP(A999,[1]Hoja1!$B$2:$U$4999,10,FALSE)),0)","v":""},{"$f":"IFERROR(IF(Q999=\"\",\"\",VLOOKUP(Q999,[1]Hoja1!$D$2:$AF$4999,29,FALSE)),\"NO EXISTE CUENTA\")","v":""},null,null,""]
[null,{"$f":"IFERROR(IF(A1000=\"\",\"\",VLOOKUP(A1000,[1]Hoja1!$B$2:$U$4999,9,FALSE)),0)","v":""},{"$f":"IFERROR(IF(A1000=\"\",\"\",VLOOKUP(A1000,[1]Hoja1!$B$2:$U$4999,2,FALSE)),\" --- NO EXISTE TRABAJADOR --- \")","v":""},null,null,null,null,null,"","","",{"$f":"IFERROR(IF(A1000=\"\",\"\",VLOOKUP(A1000,[1]Hoja1!$B$2:$U$4999,18,FALSE)),0)","v":""},{"$f":"IFERROR(IF(A1000=\"\",\"\",VLOOKUP(A1000,[1]Hoja1!$B$2:$U$4999,19,FALSE)),0)","v":""},"",null,{"$f":"IFERROR(IF(O1000=\"\",\"\",VLOOKUP(O1000,JORNADA!$A$19:$B$20,2,FALSE)),\"\")","v":""},{"$f":"IFERROR(IF(A1000=\"\",\"\",VLOOKUP(A1000,[1]Hoja1!$B$2:$U$4999,3,FALSE)),0)","v":""},null,"","",{"$f":"IFERROR(IF(A1000=\"\",\"\",VLOOKUP(A1000,[1]Hoja1!$B$2:$U$4999,10,FALSE)),0)","v":""},{"$f":"IFERROR(IF(Q1000=\"\",\"\",VLOOKUP(Q1000,[1]Hoja1!$D$2:$AF$4999,29,FALSE)),\"NO EXISTE CUENTA\")","v":""},null,null,""]

{"sheet":"JORNADA","index":1,"n_rows":1052,"n_cols":6,"rows_kept":1052,"cut":false,"hidden":false,"merged":[]}
[1,"06.00 / 12.00",null,null,{"$f":"+[1]Hoja1!D2","v":4623141},{"$f":"+[1]Hoja1!B2","v":103}]
[2,"12.00 / 18.00",null,null,{"$f":"+[1]Hoja1!D3","v":4622938},{"$f":"+[1]Hoja1!B3","v":108}]
[3,"18.00 / 24.00",null,null,{"$f":"+[1]Hoja1!D4","v":4632679},{"$f":"+[1]Hoja1!B4","v":109}]
[4,"24.00 / 06.00",null,null,{"$f":"+[1]Hoja1!D5","v":4629398},{"$f":"+[1]Hoja1!B5","v":130}]
[null,null,null,null,{"$f":"+[1]Hoja1!D6","v":4653102},{"$f":"+[1]Hoja1!B6","v":164}]
[null,null,null,null,{"$f":"+[1]Hoja1!D7","v":4633135},{"$f":"+[1]Hoja1!B7","v":238}]
[null,null,null,null,{"$f":"+[1]Hoja1!D8","v":4628758},{"$f":"+[1]Hoja1!B8","v":149}]
[1,"WE",null,null,{"$f":"+[1]Hoja1!D9","v":4636044},{"$f":"+[1]Hoja1!B9","v":160}]
[2,"PE",null,null,{"$f":"+[1]Hoja1!D10","v":4630841},{"$f":"+[1]Hoja1!B10","v":82}]
[3,"TE",null,null,{"$f":"+[1]Hoja1!D11","v":4635899},{"$f":"+[1]Hoja1!B11","v":85}]
[4,"BE",null,null,{"$f":"+[1]Hoja1!D12","v":4630455},{"$f":"+[1]Hoja1!B12","v":88}]
[5,"ME",null,null,{"$f":"+[1]Hoja1!D13","v":4629461},{"$f":"+[1]Hoja1!B13","v":107}]
[6,null,null,null,{"$f":"+[1]Hoja1!D14","v":4620462},{"$f":"+[1]Hoja1!B14","v":110}]
[7,null,null,null,{"$f":"+[1]Hoja1!D15","v":4634953},{"$f":"+[1]Hoja1!B15","v":117}]
[8,null,null,null,{"$f":"+[1]Hoja1!D16","v":4625495},{"$f":"+[1]Hoja1!B16","v":118}]
[9,null,null,null,{"$f":"+[1]Hoja1!D17","v":4629906},{"$f":"+[1]Hoja1!B17","v":121}]
[10,null,null,null,{"$f":"+[1]Hoja1!D18","v":4648194},{"$f":"+[1]Hoja1!B18","v":122}]
[null,null,null,null,{"$f":"+[1]Hoja1!D19","v":4632115},{"$f":"+[1]Hoja1!B19","v":123}]
[1,"ABORDO",null,null,{"$f":"+[1]Hoja1!D20","v":4620716},{"$f":"+[1]Hoja1!B20","v":129}]
[2,"MURO",null,null,{"$f":"+[1]Hoja1!D21","v":4644450},{"$f":"+[1]Hoja1!B21","v":133}]
[null,null,null,null,{"$f":"+[1]Hoja1!D22","v":4625839},{"$f":"+[1]Hoja1!B22","v":136}]
[1,"LICENCIA SINDICAL",null,null,{"$f":"+[1]Hoja1!D23","v":4626490},{"$f":"+[1]Hoja1!B23","v":140}]
[null,null,null,null,{"$f":"+[1]Hoja1!D24","v":4629383},{"$f":"+[1]Hoja1!B24","v":151}]
[null,null,null,null,{"$f":"+[1]Hoja1!D25","v":4624200},{"$f":"+[1]Hoja1!B25","v":158}]
[null,null,null,null,{"$f":"+[1]Hoja1!D26","v":4626103},{"$f":"+[1]Hoja1!B26","v":162}]
[null,null,null,null,{"$f":"+[1]Hoja1!D27","v":4629214},{"$f":"+[1]Hoja1!B27","v":167}]
[null,null,null,null,{"$f":"+[1]Hoja1!D28","v":4633760},{"$f":"+[1]Hoja1!B28","v":172}]
[null,null,null,null,{"$f":"+[1]Hoja1!D29","v":2360101},{"$f":"+[1]Hoja1!B29","v":177}]
[null,null,null,null,{"$f":"+[1]Hoja1!D30","v":4632873},{"$f":"+[1]Hoja1!B30","v":259}]
[null,null,null,null,{"$f":"+[1]Hoja1!D31","v":4633197},{"$f":"+[1]Hoja1!B31","v":48}]
[null,null,null,null,{"$f":"+[1]Hoja1!D32","v":4632456},{"$f":"+[1]Hoja1!B32","v":69}]
[null,null,null,null,{"$f":"+[1]Hoja1!D33","v":4630509},{"$f":"+[1]Hoja1!B33","v":79}]
[null,null,null,null,{"$f":"+[1]Hoja1!D34","v":4622603},{"$f":"+[1]Hoja1!B34","v":7}]
[null,null,null,null,{"$f":"+[1]Hoja1!D35","v":4629462},{"$f":"+[1]Hoja1!B35","v":8}]
[null,null,null,null,{"$f":"+[1]Hoja1!D36","v":4629118},{"$f":"+[1]Hoja1!B36","v":232}]
[null,null,null,null,{"$f":"+[1]Hoja1!D37","v":4625417},{"$f":"+[1]Hoja1!B37","v":348}]
[null,null,null,null,{"$f":"+[1]Hoja1!D38","v":4627296},{"$f":"+[1]Hoja1!B38","v":364}]
[null,null,null,null,{"$f":"+[1]Hoja1!D39","v":4749255},{"$f":"+[1]Hoja1!B39","v":367}]
[null,null,null,null,{"$f":"+[1]Hoja1!D40","v":43843885},{"$f":"+[1]Hoja1!B40","v":368}]
[null,null,null,null,{"$f":"+[1]Hoja1!D41","v":44551325},{"$f":"+[1]Hoja1!B41","v":373}]
[null,null,null,null,{"$f":"+[1]Hoja1!D42","v":4646669},{"$f":"+[1]Hoja1!B42","v":378}]
[null,null,null,null,{"$f":"+[1]Hoja1!D43","v":80687547},{"$f":"+[1]Hoja1!B43","v":379}]
[null,null,null,null,{"$f":"+[1]Hoja1!D44","v":4635172},{"$f":"+[1]Hoja1!B44","v":16}]
[null,null,null,null,{"$f":"+[1]Hoja1!D45","v":4621353},{"$f":"+[1]Hoja1!B45","v":18}]
[null,null,null,null,{"$f":"+[1]Hoja1!D46","v":4620375},{"$f":"+[1]Hoja1!B46","v":19}]
[null,null,null,null,{"$f":"+[1]Hoja1!D47","v":29611012},{"$f":"+[1]Hoja1!B47","v":20}]
[null,null,null,null,{"$f":"+[1]Hoja1!D48","v":4635835},{"$f":"+[1]Hoja1!B48","v":26}]
[null,null,null,null,{"$f":"+[1]Hoja1!D49","v":4636548},{"$f":"+[1]Hoja1!B49","v":28}]
[null,null,null,null,{"$f":"+[1]Hoja1!D50","v":40040443},{"$f":"+[1]Hoja1!B50","v":32}]
[null,null,null,null,{"$f":"+[1]Hoja1!D51","v":4623932},{"$f":"+[1]Hoja1!B51","v":33}]
[null,null,null,null,{"$f":"+[1]Hoja1!D52","v":4621667},{"$f":"+[1]Hoja1!B52","v":35}]
[null,null,null,null,{"$f":"+[1]Hoja1!D53","v":40400533},{"$f":"+[1]Hoja1!B53","v":36}]
[null,null,null,null,{"$f":"+[1]Hoja1!D54","v":4625431},{"$f":"+[1]Hoja1!B54","v":42}]
[null,null,null,null,{"$f":"+[1]Hoja1!D55","v":4623352},{"$f":"+[1]Hoja1!B55","v":43}]
[null,null,null,null,{"$f":"+[1]Hoja1!D56","v":4748729},{"$f":"+[1]Hoja1!B56","v":47}]
[null,null,null,null,{"$f":"+[1]Hoja1!D57","v":4627196},{"$f":"+[1]Hoja1!B57","v":52}]
[null,null,null,null,{"$f":"+[1]Hoja1!D58","v":4627551},{"$f":"+[1]Hoja1!B58","v":55}]
[null,null,null,null,{"$f":"+[1]Hoja1!D59","v":4620974},{"$f":"+[1]Hoja1!B59","v":57}]
[null,null,null,null,{"$f":"+[1]Hoja1!D60","v":4625162},{"$f":"+[1]Hoja1!B60","v":113}]
[null,null,null,null,{"$f":"+[1]Hoja1!D61","v":4629739},{"$f":"+[1]Hoja1!B61","v":119}]
[null,null,null,null,{"$f":"+[1]Hoja1!D62","v":4651901},{"$f":"+[1]Hoja1!B62","v":10}]
[null,null,null,null,{"$f":"+[1]Hoja1!D63","v":4643290},{"$f":"+[1]Hoja1!B63","v":13}]
[null,null,null,null,{"$f":"+[1]Hoja1!D64","v":4437139},{"$f":"+[1]Hoja1!B64","v":21}]
[null,null,null,null,{"$f":"+[1]Hoja1!D65","v":29245541},{"$f":"+[1]Hoja1!B65","v":24}]
[null,null,null,null,{"$f":"+[1]Hoja1!D66","v":4652099},{"$f":"+[1]Hoja1!B66","v":127}]
[null,null,null,null,{"$f":"+[1]Hoja1!D67","v":4646267},{"$f":"+[1]Hoja1!B67","v":141}]
[null,null,null,null,{"$f":"+[1]Hoja1!D68","v":29537518},{"$f":"+[1]Hoja1!B68","v":147}]
[null,null,null,null,{"$f":"+[1]Hoja1!D69","v":667528},{"$f":"+[1]Hoja1!B69","v":196}]
[null,null,null,null,{"$f":"+[1]Hoja1!D70","v":4646748},{"$f":"+[1]Hoja1!B70","v":199}]
[null,null,null,null,{"$f":"+[1]Hoja1!D71","v":2414377},{"$f":"+[1]Hoja1!B71","v":229}]
[null,null,null,null,{"$f":"+[1]Hoja1!D72","v":4652901},{"$f":"+[1]Hoja1!B72","v":255}]
[null,null,null,null,{"$f":"+[1]Hoja1!D73","v":4646697},{"$f":"+[1]Hoja1!B73","v":266}]
[null,null,null,null,{"$f":"+[1]Hoja1!D74","v":4749521},{"$f":"+[1]Hoja1!B74","v":273}]
[null,null,null,null,{"$f":"+[1]Hoja1!D75","v":4631490},{"$f":"+[1]Hoja1!B75","v":153}]
[null,null,null,null,{"$f":"+[1]Hoja1!D76","v":4622086},{"$f":"+[1]Hoja1!B76","v":170}]
[null,null,null,null,{"$f":"+[1]Hoja1!D77","v":4622117},{"$f":"+[1]Hoja1!B77","v":41}]
[null,null,null,null,{"$f":"+[1]Hoja1!D78","v":4628381},{"$f":"+[1]Hoja1!B78","v":144}]
[null,null,null,null,{"$f":"+[1]Hoja1!D79","v":4621336},{"$f":"+[1]Hoja1!B79","v":9}]
[null,null,null,null,{"$f":"+[1]Hoja1!D80","v":4626888},{"$f":"+[1]Hoja1!B80","v":84}]
[null,null,null,null,{"$f":"+[1]Hoja1!D81","v":4642785},{"$f":"+[1]Hoja1!B81","v":161}]
[null,null,null,null,{"$f":"+[1]Hoja1!D82","v":4628015},{"$f":"+[1]Hoja1!B82","v":186}]
[null,null,null,null,{"$f":"+[1]Hoja1!D83","v":4626677},{"$f":"+[1]Hoja1!B83","v":131}]
[null,null,null,null,{"$f":"+[1]Hoja1!D84","v":4631678},{"$f":"+[1]Hoja1!B84","v":138}]
[null,null,null,null,{"$f":"+[1]Hoja1!D85","v":4625771},{"$f":"+[1]Hoja1!B85","v":64}]
[null,null,null,null,{"$f":"+[1]Hoja1!D86","v":4649039},{"$f":"+[1]Hoja1!B86","v":70}]
[null,null,null,null,{"$f":"+[1]Hoja1!D87","v":40241723},{"$f":"+[1]Hoja1!B87","v":357}]
[null,null,null,null,{"$f":"+[1]Hoja1!D88","v":4625947},{"$f":"+[1]Hoja1!B88","v":37}]
[null,null,null,null,{"$f":"+[1]Hoja1!D89","v":4632145},{"$f":"+[1]Hoja1!B89","v":53}]
[null,null,null,null,{"$f":"+[1]Hoja1!D90","v":4624886},{"$f":"+[1]Hoja1!B90","v":66}]
[null,null,null,null,{"$f":"+[1]Hoja1!D91","v":4620521},{"$f":"+[1]Hoja1!B91","v":74}]
[null,null,null,null,{"$f":"+[1]Hoja1!D92","v":4631626},{"$f":"+[1]Hoja1!B92","v":102}]
[null,null,null,null,{"$f":"+[1]Hoja1!D93","v":4623806},{"$f":"+[1]Hoja1!B93","v":80}]
[null,null,null,null,{"$f":"+[1]Hoja1!D94","v":4635505},{"$f":"+[1]Hoja1!B94","v":83}]
[null,null,null,null,{"$f":"+[1]Hoja1!D95","v":4633691},{"$f":"+[1]Hoja1!B95","v":78}]
[null,null,null,null,{"$f":"+[1]Hoja1!D96","v":4643178},{"$f":"+[1]Hoja1!B96","v":279}]
[null,null,null,null,{"$f":"+[1]Hoja1!D97","v":4748137},{"$f":"+[1]Hoja1!B97","v":331}]
[null,null,null,null,{"$f":"+[1]Hoja1!D98","v":42908430},{"$f":"+[1]Hoja1!B98","v":336}]
[null,null,null,null,{"$f":"+[1]Hoja1!D99","v":40329928},{"$f":"+[1]Hoja1!B99","v":338}]
[null,null,null,null,{"$f":"+[1]Hoja1!D100","v":4651359},{"$f":"+[1]Hoja1!B100","v":341}]
[null,null,null,null,{"$f":"+[1]Hoja1!D101","v":4622923},{"$f":"+[1]Hoja1!B101","v":342}]
[null,null,null,null,{"$f":"+[1]Hoja1!D102","v":45077426},{"$f":"+[1]Hoja1!B102","v":346}]
[null,null,null,null,{"$f":"+[1]Hoja1!D103","v":40948134},{"$f":"+[1]Hoja1!B103","v":347}]
[null,null,null,null,{"$f":"+[1]Hoja1!D104","v":22301110},{"$f":"+[1]Hoja1!B104","v":352}]
[null,null,null,null,{"$f":"+[1]Hoja1!D105","v":30825812},{"$f":"+[1]Hoja1!B105","v":361}]
[null,null,null,null,{"$f":"+[1]Hoja1!D106","v":4621123},{"$f":"+[1]Hoja1!B106","v":120}]
[null,null,null,null,{"$f":"+[1]Hoja1!D107","v":4628158},{"$f":"+[1]Hoja1!B107","v":181}]
[null,null,null,null,{"$f":"+[1]Hoja1!D108","v":4634102},{"$f":"+[1]Hoja1!B108","v":73}]
[null,null,null,null,{"$f":"+[1]Hoja1!D109","v":4625448},{"$f":"+[1]Hoja1!B109","v":105}]
[null,null,null,null,{"$f":"+[1]Hoja1!D110","v":4628754},{"$f":"+[1]Hoja1!B110","v":40}]
[null,null,null,null,{"$f":"+[1]Hoja1!D111","v":42461564},{"$f":"+[1]Hoja1!B111","v":339}]
[null,null,null,null,{"$f":"+[1]Hoja1!D112","v":4625467},{"$f":"+[1]Hoja1!B112","v":142}]
[null,null,null,null,{"$f":"+[1]Hoja1!D113","v":4631821},{"$f":"+[1]Hoja1!B113","v":125}]
[null,null,null,null,{"$f":"+[1]Hoja1!D114","v":4628860},{"$f":"+[1]Hoja1!B114","v":111}]
[null,null,null,null,{"$f":"+[1]Hoja1!D115","v":4644960},{"$f":"+[1]Hoja1!B115","v":3}]
[null,null,null,null,{"$f":"+[1]Hoja1!D116","v":47704530},{"$f":"+[1]Hoja1!B116","v":386}]
[null,null,null,null,{"$f":"+[1]Hoja1!D117","v":4632634},{"$f":"+[1]Hoja1!B117","v":"AB1"}]
[null,null,null,null,{"$f":"+[1]Hoja1!D118","v":42908436},{"$f":"+[1]Hoja1!B118","v":"AB2"}]
[null,null,null,null,{"$f":"+[1]Hoja1!D119","v":4629488},{"$f":"+[1]Hoja1!B119","v":"AB3"}]
[null,null,null,null,{"$f":"+[1]Hoja1!D120","v":30825449},{"$f":"+[1]Hoja1!B120","v":"XXXXXXX"}]
[null,null,null,null,{"$f":"+[1]Hoja1!D121","v":46322486},{"$f":"+[1]Hoja1!B121","v":"A1"}]
[null,null,null,null,{"$f":"+[1]Hoja1!D122","v":30961524},{"$f":"+[1]Hoja1!B122","v":"A2"}]
[null,null,null,null,{"$f":"+[1]Hoja1!D123","v":40250927},{"$f":"+[1]Hoja1!B123","v":"A3"}]
[null,null,null,null,{"$f":"+[1]Hoja1!D124","v":30823294},{"$f":"+[1]Hoja1!B124","v":"A4"}]
[null,null,null,null,{"$f":"+[1]Hoja1!D125","v":44685373},{"$f":"+[1]Hoja1!B125","v":"A5"}]
[null,null,null,null,{"$f":"+[1]Hoja1!D126","v":43898878},{"$f":"+[1]Hoja1!B126","v":"A6"}]
[null,null,null,null,{"$f":"+[1]Hoja1!D127","v":10555151},{"$f":"+[1]Hoja1!B127","v":"A7"}]
[null,null,null,null,{"$f":"+[1]Hoja1!D128","v":30831164},{"$f":"+[1]Hoja1!B128","v":"A8"}]
[null,null,null,null,{"$f":"+[1]Hoja1!D129","v":4417223},{"$f":"+[1]Hoja1!B129","v":"A9"}]
[null,null,null,null,{"$f":"+[1]Hoja1!D130","v":30829137},{"$f":"+[1]Hoja1!B130","v":"A10"}]
[null,null,null,null,{"$f":"+[1]Hoja1!D131","v":45823830},{"$f":"+[1]Hoja1!B131","v":"A11"}]
[null,null,null,null,{"$f":"+[1]Hoja1!D132","v":46612058},{"$f":"+[1]Hoja1!B132","v":"A12"}]
[null,null,null,null,{"$f":"+[1]Hoja1!D133","v":30828355},{"$f":"+[1]Hoja1!B133","v":"A13"}]
[null,null,null,null,{"$f":"+[1]Hoja1!D134","v":30823451},{"$f":"+[1]Hoja1!B134","v":"A14"}]
[null,null,null,null,{"$f":"+[1]Hoja1!D135","v":44293612},{"$f":"+[1]Hoja1!B135","v":"A15"}]
[null,null,null,null,{"$f":"+[1]Hoja1!D136","v":80281118},{"$f":"+[1]Hoja1!B136","v":"A16"}]
[null,null,null,null,{"$f":"+[1]Hoja1!D137","v":43707689},{"$f":"+[1]Hoja1!B137","v":"A17"}]
[null,null,null,null,{"$f":"+[1]Hoja1!D138","v":71491093},{"$f":"+[1]Hoja1!B138","v":"A18"}]
[null,null,null,null,{"$f":"+[1]Hoja1!D139","v":45434083},{"$f":"+[1]Hoja1!B139","v":"A19"}]
[null,null,null,null,{"$f":"+[1]Hoja1!D140","v":4634053},{"$f":"+[1]Hoja1!B140","v":"A20"}]
[null,null,null,null,{"$f":"+[1]Hoja1!D141","v":43766389},{"$f":"+[1]Hoja1!B141","v":"A21"}]
[null,null,null,null,{"$f":"+[1]Hoja1!D142","v":44397485},{"$f":"+[1]Hoja1!B142","v":"A22"}]
[null,null,null,null,{"$f":"+[1]Hoja1!D143","v":4647544},{"$f":"+[1]Hoja1!B143","v":"A23"}]
[null,null,null,null,{"$f":"+[1]Hoja1!D144","v":40011147},{"$f":"+[1]Hoja1!B144","v":"A24"}]
[null,null,null,null,{"$f":"+[1]Hoja1!D145","v":4647106},{"$f":"+[1]Hoja1!B145","v":"A25"}]
[null,null,null,null,{"$f":"+[1]Hoja1!D146","v":4627023},{"$f":"+[1]Hoja1!B146","v":"A26"}]
[null,null,null,null,{"$f":"+[1]Hoja1!D147","v":30837818},{"$f":"+[1]Hoja1!B147","v":"A27"}]
[null,null,null,null,{"$f":"+[1]Hoja1!D148","v":76590196},{"$f":"+[1]Hoja1!B148","v":"A28"}]
[null,null,null,null,{"$f":"+[1]Hoja1!D149","v":44051691},{"$f":"+[1]Hoja1!B149","v":"A29"}]
[null,null,null,null,{"$f":"+[1]Hoja1!D150","v":4645084},{"$f":"+[1]Hoja1!B150","v":51}]
[null,null,null,null,{"$f":"+[1]Hoja1!D151","v":30835968},{"$f":"+[1]Hoja1!B151","v":"A30"}]
[null,null,null,null,{"$f":"+[1]Hoja1!D152","v":72114472},{"$f":"+[1]Hoja1!B152","v":"A31"}]
[null,null,null,null,{"$f":"+[1]Hoja1!D153","v":30849341},{"$f":"+[1]Hoja1!B153","v":"A32"}]
[null,null,null,null,{"$f":"+[1]Hoja1!D154","v":30831249},{"$f":"+[1]Hoja1!B154","v":"A33"}]
[null,null,null,null,{"$f":"+[1]Hoja1!D155","v":70806153},{"$f":"+[1]Hoja1!B155","v":"A34"}]
[null,null,null,null,{"$f":"+[1]Hoja1!D156","v":25800155},{"$f":"+[1]Hoja1!B156","v":"A35"}]
[null,null,null,null,{"$f":"+[1]Hoja1!D157","v":4626202},{"$f":"+[1]Hoja1!B157","v":"A36"}]
[null,null,null,null,{"$f":"+[1]Hoja1!D158","v":4653318},{"$f":"+[1]Hoja1!B158","v":"A37"}]
[null,null,null,null,{"$f":"+[1]Hoja1!D159","v":43897312},{"$f":"+[1]Hoja1!B159","v":"A38"}]
[null,null,null,null,{"$f":"+[1]Hoja1!D160","v":1874456},{"$f":"+[1]Hoja1!B160","v":"A39"}]
[null,null,null,null,{"$f":"+[1]Hoja1!D161","v":48288361},{"$f":"+[1]Hoja1!B161","v":"A40"}]
[null,null,null,null,{"$f":"+[1]Hoja1!D162","v":30837251},{"$f":"+[1]Hoja1!B162","v":"A41"}]
[null,null,null,null,{"$f":"+[1]Hoja1!D163","v":30833823},{"$f":"+[1]Hoja1!B163","v":"A42"}]
[null,null,null,null,{"$f":"+[1]Hoja1!D164","v":42814539},{"$f":"+[1]Hoja1!B164","v":"A43"}]
[null,null,null,null,{"$f":"+[1]Hoja1!D165","v":30826051},{"$f":"+[1]Hoja1!B165","v":"A44"}]
[null,null,null,null,{"$f":"+[1]Hoja1!D166","v":30824455},{"$f":"+[1]Hoja1!B166","v":"A45"}]
[null,null,null,null,{"$f":"+[1]Hoja1!D167","v":47848503},{"$f":"+[1]Hoja1!B167","v":"A46"}]
[null,null,null,null,{"$f":"+[1]Hoja1!D168","v":30820958},{"$f":"+[1]Hoja1!B168","v":"A47"}]
[null,null,null,null,{"$f":"+[1]Hoja1!D169","v":40755700},{"$f":"+[1]Hoja1!B169","v":"A48"}]
[null,null,null,null,{"$f":"+[1]Hoja1!D170","v":45703400},{"$f":"+[1]Hoja1!B170","v":"A49"}]
[null,null,null,null,{"$f":"+[1]Hoja1!D171","v":30863603},{"$f":"+[1]Hoja1!B171","v":"A50"}]
[null,null,null,null,{"$f":"+[1]Hoja1!D172","v":40182294},{"$f":"+[1]Hoja1!B172","v":"A51"}]
[null,null,null,null,{"$f":"+[1]Hoja1!D173","v":30825395},{"$f":"+[1]Hoja1!B173","v":"A52"}]
[null,null,null,null,{"$f":"+[1]Hoja1!D174","v":71986286},{"$f":"+[1]Hoja1!B174","v":"A53"}]
[null,null,null,null,{"$f":"+[1]Hoja1!D175","v":46832249},{"$f":"+[1]Hoja1!B175","v":"A54"}]
[null,null,null,null,{"$f":"+[1]Hoja1!D176","v":29328219},{"$f":"+[1]Hoja1!B176","v":"A55"}]
[null,null,null,null,{"$f":"+[1]Hoja1!D177","v":47662269},{"$f":"+[1]Hoja1!B177","v":"A56"}]
[null,null,null,null,{"$f":"+[1]Hoja1!D178","v":30822243},{"$f":"+[1]Hoja1!B178","v":"A57"}]
[null,null,null,null,{"$f":"+[1]Hoja1!D179","v":29467312},{"$f":"+[1]Hoja1!B179","v":"A58"}]
[null,null,null,null,{"$f":"+[1]Hoja1!D180","v":30835181},{"$f":"+[1]Hoja1!B180","v":"A59"}]
[null,null,null,null,{"$f":"+[1]Hoja1!D181","v":30831803},{"$f":"+[1]Hoja1!B181","v":"A60"}]
[null,null,null,null,{"$f":"+[1]Hoja1!D182","v":43553476},{"$f":"+[1]Hoja1!B182","v":"A61"}]
[null,null,null,null,{"$f":"+[1]Hoja1!D183","v":71449186},{"$f":"+[1]Hoja1!B183","v":"A62"}]
[null,null,null,null,{"$f":"+[1]Hoja1!D184","v":4623515},{"$f":"+[1]Hoja1!B184","v":"A63"}]
[null,null,null,null,{"$f":"+[1]Hoja1!D185","v":30824442},{"$f":"+[1]Hoja1!B185","v":"A64"}]
[null,null,null,null,{"$f":"+[1]Hoja1!D186","v":4639878},{"$f":"+[1]Hoja1!B186","v":"A65"}]
[null,null,null,null,{"$f":"+[1]Hoja1!D187","v":30827628},{"$f":"+[1]Hoja1!B187","v":"A66"}]
[null,null,null,null,{"$f":"+[1]Hoja1!D188","v":40049181},{"$f":"+[1]Hoja1!B188","v":"A67"}]
[null,null,null,null,{"$f":"+[1]Hoja1!D189","v":40374952},{"$f":"+[1]Hoja1!B189","v":"A68"}]
[null,null,null,null,{"$f":"+[1]Hoja1!D190","v":44755241},{"$f":"+[1]Hoja1!B190","v":"A69"}]
[null,null,null,null,{"$f":"+[1]Hoja1!D191","v":30822408},{"$f":"+[1]Hoja1!B191","v":"A70"}]
[null,null,null,null,{"$f":"+[1]Hoja1!D192","v":30830702},{"$f":"+[1]Hoja1!B192","v":"A71"}]
[null,null,null,null,{"$f":"+[1]Hoja1!D193","v":30837494},{"$f":"+[1]Hoja1!B193","v":"A72"}]
[null,null,null,null,{"$f":"+[1]Hoja1!D194","v":30863268},{"$f":"+[1]Hoja1!B194","v":"A73"}]
[null,null,null,null,{"$f":"+[1]Hoja1!D195","v":30835740},{"$f":"+[1]Hoja1!B195","v":"A74"}]
[null,null,null,null,{"$f":"+[1]Hoja1!D196","v":30852617},{"$f":"+[1]Hoja1!B196","v":"A75"}]
[null,null,null,null,{"$f":"+[1]Hoja1!D197","v":30824725},{"$f":"+[1]Hoja1!B197","v":"A76"}]
[null,null,null,null,{"$f":"+[1]Hoja1!D198","v":80384817},{"$f":"+[1]Hoja1!B198","v":"A77"}]
[null,null,null,null,{"$f":"+[1]Hoja1!D199","v":30830389},{"$f":"+[1]Hoja1!B199","v":"A78"}]
[null,null,null,null,{"$f":"+[1]Hoja1!D200","v":30836557},{"$f":"+[1]Hoja1!B200","v":"A79"}]
[null,null,null,null,{"$f":"+[1]Hoja1!D201","v":43095587},{"$f":"+[1]Hoja1!B201","v":"A80"}]
[null,null,null,null,{"$f":"+[1]Hoja1!D202","v":72690080},{"$f":"+[1]Hoja1!B202","v":"A81"}]
[null,null,null,null,{"$f":"+[1]Hoja1!D203","v":4626272},{"$f":"+[1]Hoja1!B203","v":"A82"}]
[null,null,null,null,{"$f":"+[1]Hoja1!D204","v":77691352},{"$f":"+[1]Hoja1!B204","v":"A83"}]
[null,null,null,null,{"$f":"+[1]Hoja1!D205","v":70558870},{"$f":"+[1]Hoja1!B205","v":"A84"}]
[null,null,null,null,{"$f":"+[1]Hoja1!D206","v":30823758},{"$f":"+[1]Hoja1!B206","v":"A85"}]
[null,null,null,null,{"$f":"+[1]Hoja1!D207","v":47918559},{"$f":"+[1]Hoja1!B207","v":"A86"}]
[null,null,null,null,{"$f":"+[1]Hoja1!D208","v":30835614},{"$f":"+[1]Hoja1!B208","v":"A87"}]
[null,null,null,null,{"$f":"+[1]Hoja1!D209","v":30828838},{"$f":"+[1]Hoja1!B209","v":"A88"}]
[null,null,null,null,{"$f":"+[1]Hoja1!D210","v":43192865},{"$f":"+[1]Hoja1!B210","v":"A89"}]
[null,null,null,null,{"$f":"+[1]Hoja1!D211","v":799508},{"$f":"+[1]Hoja1!B211","v":"A90"}]
[null,null,null,null,{"$f":"+[1]Hoja1!D212","v":4624040},{"$f":"+[1]Hoja1!B212","v":"A91"}]
[null,null,null,null,{"$f":"+[1]Hoja1!D213","v":72912168},{"$f":"+[1]Hoja1!B213","v":"A92"}]
[null,null,null,null,{"$f":"+[1]Hoja1!D214","v":30833343},{"$f":"+[1]Hoja1!B214","v":"A93"}]
[null,null,null,null,{"$f":"+[1]Hoja1!D215","v":42508230},{"$f":"+[1]Hoja1!B215","v":"A94"}]
[null,null,null,null,{"$f":"+[1]Hoja1!D216","v":76636761},{"$f":"+[1]Hoja1!B216","v":"A95"}]
[null,null,null,null,{"$f":"+[1]Hoja1!D217","v":4653605},{"$f":"+[1]Hoja1!B217","v":"A96"}]
[null,null,null,null,{"$f":"+[1]Hoja1!D218","v":30824942},{"$f":"+[1]Hoja1!B218","v":"A97"}]
[null,null,null,null,{"$f":"+[1]Hoja1!D219","v":46456570},{"$f":"+[1]Hoja1!B219","v":"A98"}]
[null,null,null,null,{"$f":"+[1]Hoja1!D220","v":30836619},{"$f":"+[1]Hoja1!B220","v":"A99"}]
[null,null,null,null,{"$f":"+[1]Hoja1!D221","v":30827107},{"$f":"+[1]Hoja1!B221","v":"A100"}]
[null,null,null,null,{"$f":"+[1]Hoja1!D222","v":45500793},{"$f":"+[1]Hoja1!B222","v":"A101"}]
[null,null,null,null,{"$f":"+[1]Hoja1!D223","v":30863358},{"$f":"+[1]Hoja1!B223","v":"A102"}]
[null,null,null,null,{"$f":"+[1]Hoja1!D224","v":48116166},{"$f":"+[1]Hoja1!B224","v":"A103"}]
[null,null,null,null,{"$f":"+[1]Hoja1!D225","v":44291376},{"$f":"+[1]Hoja1!B225","v":"A104"}]
[null,null,null,null,{"$f":"+[1]Hoja1!D226","v":44664586},{"$f":"+[1]Hoja1!B226","v":"A105"}]
[null,null,null,null,{"$f":"+[1]Hoja1!D227","v":43584273},{"$f":"+[1]Hoja1!B227","v":"A106"}]
[null,null,null,null,{"$f":"+[1]Hoja1!D228","v":29561988},{"$f":"+[1]Hoja1!B228","v":"A107"}]
[null,null,null,null,{"$f":"+[1]Hoja1!D229","v":47292699},{"$f":"+[1]Hoja1!B229","v":"A108"}]
[null,null,null,null,{"$f":"+[1]Hoja1!D230","v":30847856},{"$f":"+[1]Hoja1!B230","v":"A109"}]
[null,null,null,null,{"$f":"+[1]Hoja1!D231","v":44253951},{"$f":"+[1]Hoja1!B231","v":"A110"}]
[null,null,null,null,{"$f":"+[1]Hoja1!D232","v":40030046},{"$f":"+[1]Hoja1!B232","v":"A111"}]
[null,null,null,null,{"$f":"+[1]Hoja1!D233","v":43330056},{"$f":"+[1]Hoja1!B233","v":"A112"}]
[null,null,null,null,{"$f":"+[1]Hoja1!D234","v":73113736},{"$f":"+[1]Hoja1!B234","v":"A113"}]
[null,null,null,null,{"$f":"+[1]Hoja1!D235","v":43083534},{"$f":"+[1]Hoja1!B235","v":"A114"}]
[null,null,null,null,{"$f":"+[1]Hoja1!D236","v":44615025},{"$f":"+[1]Hoja1!B236","v":"A115"}]
[null,null,null,null,{"$f":"+[1]Hoja1!D237","v":30830529},{"$f":"+[1]Hoja1!B237","v":"A116"}]
[null,null,null,null,{"$f":"+[1]Hoja1!D238","v":30830528},{"$f":"+[1]Hoja1!B238","v":"A117"}]
[null,null,null,null,{"$f":"+[1]Hoja1!D239","v":41340953},{"$f":"+[1]Hoja1!B239","v":"A118"}]
[null,null,null,null,{"$f":"+[1]Hoja1!D240","v":30863419},{"$f":"+[1]Hoja1!B240","v":"A119"}]
[null,null,null,null,{"$f":"+[1]Hoja1!D241","v":46613622},{"$f":"+[1]Hoja1!B241","v":"A120"}]
[null,null,null,null,{"$f":"+[1]Hoja1!D242","v":30835053},{"$f":"+[1]Hoja1!B242","v":"A121"}]
[null,null,null,null,{"$f":"+[1]Hoja1!D243","v":30834651},{"$f":"+[1]Hoja1!B243","v":"A122"}]
[null,null,null,null,{"$f":"+[1]Hoja1!D244","v":30831118},{"$f":"+[1]Hoja1!B244","v":"A123"}]
[null,null,null,null,{"$f":"+[1]Hoja1!D245","v":73372733},{"$f":"+[1]Hoja1!B245","v":"A124"}]
[null,null,null,null,{"$f":"+[1]Hoja1!D246","v":4625103},{"$f":"+[1]Hoja1!B246","v":"A125"}]
[null,null,null,null,{"$f":"+[1]Hoja1!D247","v":80326862},{"$f":"+[1]Hoja1!B247","v":"A126"}]
[null,null,null,null,{"$f":"+[1]Hoja1!D248","v":30827465},{"$f":"+[1]Hoja1!B248","v":"A127"}]
[null,null,null,null,{"$f":"+[1]Hoja1!D249","v":30822735},{"$f":"+[1]Hoja1!B249","v":"A128"}]
[null,null,null,null,{"$f":"+[1]Hoja1!D250","v":30823604},{"$f":"+[1]Hoja1!B250","v":"A129"}]
[null,null,null,null,{"$f":"+[1]Hoja1!D251","v":41692194},{"$f":"+[1]Hoja1!B251","v":"A130"}]
[null,null,null,null,{"$f":"+[1]Hoja1!D252","v":47044194},{"$f":"+[1]Hoja1!B252","v":"A131"}]
[null,null,null,null,{"$f":"+[1]Hoja1!D253","v":30843800},{"$f":"+[1]Hoja1!B253","v":"A132"}]
[null,null,null,null,{"$f":"+[1]Hoja1!D254","v":41927651},{"$f":"+[1]Hoja1!B254","v":"A133"}]
[null,null,null,null,{"$f":"+[1]Hoja1!D255","v":30823210},{"$f":"+[1]Hoja1!B255","v":"A134"}]
[null,null,null,null,{"$f":"+[1]Hoja1!D256","v":30831733},{"$f":"+[1]Hoja1!B256","v":"A135"}]
[null,null,null,null,{"$f":"+[1]Hoja1!D257","v":45768118},{"$f":"+[1]Hoja1!B257","v":"A136"}]
[null,null,null,null,{"$f":"+[1]Hoja1!D258","v":42362409},{"$f":"+[1]Hoja1!B258","v":"A137"}]
[null,null,null,null,{"$f":"+[1]Hoja1!D259","v":30827000},{"$f":"+[1]Hoja1!B259","v":"A138"}]
[null,null,null,null,{"$f":"+[1]Hoja1!D260","v":30847647},{"$f":"+[1]Hoja1!B260","v":"A139"}]
[null,null,null,null,{"$f":"+[1]Hoja1!D261","v":15299176},{"$f":"+[1]Hoja1!B261","v":"A140"}]
[null,null,null,null,{"$f":"+[1]Hoja1!D262","v":40820444},{"$f":"+[1]Hoja1!B262","v":"A141"}]
[null,null,null,null,{"$f":"+[1]Hoja1!D263","v":30824133},{"$f":"+[1]Hoja1!B263","v":"A142"}]
[null,null,null,null,{"$f":"+[1]Hoja1!D264","v":30835353},{"$f":"+[1]Hoja1!B264","v":"A143"}]
[null,null,null,null,{"$f":"+[1]Hoja1!D265","v":45576773},{"$f":"+[1]Hoja1!B265","v":"A144"}]
[null,null,null,null,{"$f":"+[1]Hoja1!D266","v":43510539},{"$f":"+[1]Hoja1!B266","v":"A145"}]
[null,null,null,null,{"$f":"+[1]Hoja1!D267","v":30830890},{"$f":"+[1]Hoja1!B267","v":"A146"}]
[null,null,null,null,{"$f":"+[1]Hoja1!D268","v":48280163},{"$f":"+[1]Hoja1!B268","v":"A147"}]
[null,null,null,null,{"$f":"+[1]Hoja1!D269","v":44661853},{"$f":"+[1]Hoja1!B269","v":"A148"}]
[null,null,null,null,{"$f":"+[1]Hoja1!D270","v":42587330},{"$f":"+[1]Hoja1!B270","v":"A149"}]
[null,null,null,null,{"$f":"+[1]Hoja1!D271","v":4637140},{"$f":"+[1]Hoja1!B271","v":"A150"}]
[null,null,null,null,{"$f":"+[1]Hoja1!D272","v":4624545},{"$f":"+[1]Hoja1!B272","v":"A151"}]
[null,null,null,null,{"$f":"+[1]Hoja1!D273","v":30837857},{"$f":"+[1]Hoja1!B273","v":"A152"}]
[null,null,null,null,{"$f":"+[1]Hoja1!D274","v":4652503},{"$f":"+[1]Hoja1!B274","v":"A153"}]
[null,null,null,null,{"$f":"+[1]Hoja1!D275","v":43418281},{"$f":"+[1]Hoja1!B275","v":"A154"}]
[null,null,null,null,{"$f":"+[1]Hoja1!D276","v":44893366},{"$f":"+[1]Hoja1!B276","v":"A155"}]
[null,null,null,null,{"$f":"+[1]Hoja1!D277","v":30828389},{"$f":"+[1]Hoja1!B277","v":"A156"}]
[null,null,null,null,{"$f":"+[1]Hoja1!D278","v":30823660},{"$f":"+[1]Hoja1!B278","v":"A157"}]
[null,null,null,null,{"$f":"+[1]Hoja1!D279","v":4645279},{"$f":"+[1]Hoja1!B279","v":"A158"}]
[null,null,null,null,{"$f":"+[1]Hoja1!D280","v":30828999},{"$f":"+[1]Hoja1!B280","v":"A159"}]
[null,null,null,null,{"$f":"+[1]Hoja1!D281","v":43656747},{"$f":"+[1]Hoja1!B281","v":"A160"}]
[null,null,null,null,{"$f":"+[1]Hoja1!D282","v":42409468},{"$f":"+[1]Hoja1!B282","v":"A161"}]
[null,null,null,null,{"$f":"+[1]Hoja1!D283","v":45380374},{"$f":"+[1]Hoja1!B283","v":"A162"}]
[null,null,null,null,{"$f":"+[1]Hoja1!D284","v":30828801},{"$f":"+[1]Hoja1!B284","v":"A163"}]
[null,null,null,null,{"$f":"+[1]Hoja1!D285","v":4429575},{"$f":"+[1]Hoja1!B285","v":"A164"}]
[null,null,null,null,{"$f":"+[1]Hoja1!D286","v":4632574},{"$f":"+[1]Hoja1!B286","v":"A165"}]
[null,null,null,null,{"$f":"+[1]Hoja1!D287","v":30827143},{"$f":"+[1]Hoja1!B287","v":"A166"}]
[null,null,null,null,{"$f":"+[1]Hoja1!D288","v":30836817},{"$f":"+[1]Hoja1!B288","v":"A167"}]
[null,null,null,null,{"$f":"+[1]Hoja1!D289","v":71125048},{"$f":"+[1]Hoja1!B289","v":"A168"}]
[null,null,null,null,{"$f":"+[1]Hoja1!D290","v":76361972},{"$f":"+[1]Hoja1!B290","v":"A169"}]
[null,null,null,null,{"$f":"+[1]Hoja1!D291","v":46516287},{"$f":"+[1]Hoja1!B291","v":"A170"}]
[null,null,null,null,{"$f":"+[1]Hoja1!D292","v":41412268},{"$f":"+[1]Hoja1!B292","v":"A171"}]
[null,null,null,null,{"$f":"+[1]Hoja1!D293","v":30830734},{"$f":"+[1]Hoja1!B293","v":"A172"}]
[null,null,null,null,{"$f":"+[1]Hoja1!D294","v":30826326},{"$f":"+[1]Hoja1!B294","v":"A173"}]
[null,null,null,null,{"$f":"+[1]Hoja1!D295","v":9957615},{"$f":"+[1]Hoja1!B295","v":"A174"}]
[null,null,null,null,{"$f":"+[1]Hoja1!D296","v":48720144},{"$f":"+[1]Hoja1!B296","v":"A175"}]
[null,null,null,null,{"$f":"+[1]Hoja1!D297","v":41001117},{"$f":"+[1]Hoja1!B297","v":"A176"}]
[null,null,null,null,{"$f":"+[1]Hoja1!D298","v":45733493},{"$f":"+[1]Hoja1!B298","v":"A177"}]
[null,null,null,null,{"$f":"+[1]Hoja1!D299","v":4624184},{"$f":"+[1]Hoja1!B299","v":"A178"}]
[null,null,null,null,{"$f":"+[1]Hoja1!D300","v":30826086},{"$f":"+[1]Hoja1!B300","v":"A179"}]
[null,null,null,null,{"$f":"+[1]Hoja1!D301","v":4749387},{"$f":"+[1]Hoja1!B301","v":"A180"}]
[null,null,null,null,{"$f":"+[1]Hoja1!D302","v":4649523},{"$f":"+[1]Hoja1!B302","v":"A181"}]
[null,null,null,null,{"$f":"+[1]Hoja1!D303","v":47929823},{"$f":"+[1]Hoja1!B303","v":"A182"}]
[null,null,null,null,{"$f":"+[1]Hoja1!D304","v":9186167},{"$f":"+[1]Hoja1!B304","v":"A183"}]
[null,null,null,null,{"$f":"+[1]Hoja1!D305","v":75539699},{"$f":"+[1]Hoja1!B305","v":"A184"}]
[null,null,null,null,{"$f":"+[1]Hoja1!D306","v":47483252},{"$f":"+[1]Hoja1!B306","v":"A185"}]
[null,null,null,null,{"$f":"+[1]Hoja1!D307","v":19237694},{"$f":"+[1]Hoja1!B307","v":"A186"}]
[null,null,null,null,{"$f":"+[1]Hoja1!D308","v":30823045},{"$f":"+[1]Hoja1!B308","v":"A187"}]
[null,null,null,null,{"$f":"+[1]Hoja1!D309","v":30415983},{"$f":"+[1]Hoja1!B309","v":"A188"}]
[null,null,null,null,{"$f":"+[1]Hoja1!D310","v":30863410},{"$f":"+[1]Hoja1!B310","v":"A189"}]
[null,null,null,null,{"$f":"+[1]Hoja1!D311","v":1855598},{"$f":"+[1]Hoja1!B311","v":"A190"}]
[null,null,null,null,{"$f":"+[1]Hoja1!D312","v":30823265},{"$f":"+[1]Hoja1!B312","v":"A191"}]
[null,null,null,null,{"$f":"+[1]Hoja1!D313","v":30830118},{"$f":"+[1]Hoja1!B313","v":"A192"}]
[null,null,null,null,{"$f":"+[1]Hoja1!D314","v":45941199},{"$f":"+[1]Hoja1!B314","v":"A193"}]
[null,null,null,null,{"$f":"+[1]Hoja1!D315","v":30827567},{"$f":"+[1]Hoja1!B315","v":"A194"}]
[null,null,null,null,{"$f":"+[1]Hoja1!D316","v":46044064},{"$f":"+[1]Hoja1!B316","v":"A195"}]
[null,null,null,null,{"$f":"+[1]Hoja1!D317","v":43002314},{"$f":"+[1]Hoja1!B317","v":"A196"}]
[null,null,null,null,{"$f":"+[1]Hoja1!D318","v":44292474},{"$f":"+[1]Hoja1!B318","v":"A197"}]
[null,null,null,null,{"$f":"+[1]Hoja1!D319","v":29637616},{"$f":"+[1]Hoja1!B319","v":"A198"}]
[null,null,null,null,{"$f":"+[1]Hoja1!D320","v":30829218},{"$f":"+[1]Hoja1!B320","v":"A199"}]
[null,null,null,null,{"$f":"+[1]Hoja1!D321","v":30827821},{"$f":"+[1]Hoja1!B321","v":"A200"}]
[null,null,null,null,{"$f":"+[1]Hoja1!D322","v":30856675},{"$f":"+[1]Hoja1!B322","v":"A201"}]
[null,null,null,null,{"$f":"+[1]Hoja1!D323","v":42304686},{"$f":"+[1]Hoja1!B323","v":"A202"}]
[null,null,null,null,{"$f":"+[1]Hoja1!D324","v":42440407},{"$f":"+[1]Hoja1!B324","v":"A203"}]
[null,null,null,null,{"$f":"+[1]Hoja1!D325","v":41603866},{"$f":"+[1]Hoja1!B325","v":"A204"}]
[null,null,null,null,{"$f":"+[1]Hoja1!D326","v":30856568},{"$f":"+[1]Hoja1!B326","v":"A205"}]
[null,null,null,null,{"$f":"+[1]Hoja1!D327","v":30856869},{"$f":"+[1]Hoja1!B327","v":"A206"}]
[null,null,null,null,{"$f":"+[1]Hoja1!D328","v":40613614},{"$f":"+[1]Hoja1!B328","v":"A207"}]
[null,null,null,null,{"$f":"+[1]Hoja1!D329","v":45774102},{"$f":"+[1]Hoja1!B329","v":"A208"}]
[null,null,null,null,{"$f":"+[1]Hoja1!D330","v":80230156},{"$f":"+[1]Hoja1!B330","v":"A209"}]
[null,null,null,null,{"$f":"+[1]Hoja1!D331","v":10301927},{"$f":"+[1]Hoja1!B331","v":"A210"}]
[null,null,null,null,{"$f":"+[1]Hoja1!D332","v":40239508},{"$f":"+[1]Hoja1!B332","v":"A211"}]
[null,null,null,null,{"$f":"+[1]Hoja1!D333","v":70420920},{"$f":"+[1]Hoja1!B333","v":"A212"}]
[null,null,null,null,{"$f":"+[1]Hoja1!D334","v":46375707},{"$f":"+[1]Hoja1!B334","v":"A213"}]
[null,null,null,null,{"$f":"+[1]Hoja1!D335","v":30831277},{"$f":"+[1]Hoja1!B335","v":"A214"}]
[null,null,null,null,{"$f":"+[1]Hoja1!D336","v":30832559},{"$f":"+[1]Hoja1!B336","v":"A215"}]
[null,null,null,null,{"$f":"+[1]Hoja1!D337","v":40405525},{"$f":"+[1]Hoja1!B337","v":"A216"}]
[null,null,null,null,{"$f":"+[1]Hoja1!D338","v":30834912},{"$f":"+[1]Hoja1!B338","v":"A217"}]
[null,null,null,null,{"$f":"+[1]Hoja1!D339","v":30833917},{"$f":"+[1]Hoja1!B339","v":"A218"}]
[null,null,null,null,{"$f":"+[1]Hoja1!D340","v":45090574},{"$f":"+[1]Hoja1!B340","v":"A219"}]
[null,null,null,null,{"$f":"+[1]Hoja1!D341","v":80264204},{"$f":"+[1]Hoja1!B341","v":"A220"}]
[null,null,null,null,{"$f":"+[1]Hoja1!D342","v":30863709},{"$f":"+[1]Hoja1!B342","v":"A221"}]
[null,null,null,null,{"$f":"+[1]Hoja1!D343","v":45750391},{"$f":"+[1]Hoja1!B343","v":"A222"}]
[null,null,null,null,{"$f":"+[1]Hoja1!D344","v":40522986},{"$f":"+[1]Hoja1!B344","v":"A223"}]
[null,null,null,null,{"$f":"+[1]Hoja1!D345","v":22184127},{"$f":"+[1]Hoja1!B345","v":"A224"}]
[null,null,null,null,{"$f":"+[1]Hoja1!D346","v":71870548},{"$f":"+[1]Hoja1!B346","v":"A225"}]
[null,null,null,null,{"$f":"+[1]Hoja1!D347","v":30823175},{"$f":"+[1]Hoja1!B347","v":"A226"}]
[null,null,null,null,{"$f":"+[1]Hoja1!D348","v":42586930},{"$f":"+[1]Hoja1!B348","v":"A227"}]
[null,null,null,null,{"$f":"+[1]Hoja1!D349","v":45791809},{"$f":"+[1]Hoja1!B349","v":"A228"}]
[null,null,null,null,{"$f":"+[1]Hoja1!D350","v":80266515},{"$f":"+[1]Hoja1!B350","v":"A229"}]
[null,null,null,null,{"$f":"+[1]Hoja1!D351","v":4650332},{"$f":"+[1]Hoja1!B351","v":"A230"}]
[null,null,null,null,{"$f":"+[1]Hoja1!D352","v":72202142},{"$f":"+[1]Hoja1!B352","v":"A231"}]
[null,null,null,null,{"$f":"+[1]Hoja1!D353","v":30821009},{"$f":"+[1]Hoja1!B353","v":"A232"}]
[null,null,null,null,{"$f":"+[1]Hoja1!D354","v":42408040},{"$f":"+[1]Hoja1!B354","v":"A233"}]
[null,null,null,null,{"$f":"+[1]Hoja1!D355","v":4624609},{"$f":"+[1]Hoja1!B355","v":"A234"}]
[null,null,null,null,{"$f":"+[1]Hoja1!D356","v":70524269},{"$f":"+[1]Hoja1!B356","v":"A235"}]
[null,null,null,null,{"$f":"+[1]Hoja1!D357","v":71979151},{"$f":"+[1]Hoja1!B357","v":"A236"}]
[null,null,null,null,{"$f":"+[1]Hoja1!D358","v":42513120},{"$f":"+[1]Hoja1!B358","v":"A237"}]
[null,null,null,null,{"$f":"+[1]Hoja1!D359","v":30824238},{"$f":"+[1]Hoja1!B359","v":"A238"}]
[null,null,null,null,{"$f":"+[1]Hoja1!D360","v":80434697},{"$f":"+[1]Hoja1!B360","v":"A239"}]
[null,null,null,null,{"$f":"+[1]Hoja1!D361","v":29370830},{"$f":"+[1]Hoja1!B361","v":"A240"}]
[null,null,null,null,{"$f":"+[1]Hoja1!D362","v":10880027},{"$f":"+[1]Hoja1!B362","v":"A241"}]
[null,null,null,null,{"$f":"+[1]Hoja1!D363","v":42697241},{"$f":"+[1]Hoja1!B363","v":"A242"}]
[null,null,null,null,{"$f":"+[1]Hoja1!D364","v":4630894},{"$f":"+[1]Hoja1!B364","v":"A243"}]
[null,null,null,null,{"$f":"+[1]Hoja1!D365","v":23004369},{"$f":"+[1]Hoja1!B365","v":"A244"}]
[null,null,null,null,{"$f":"+[1]Hoja1!D366","v":4633277},{"$f":"+[1]Hoja1!B366","v":"A245"}]
[null,null,null,null,{"$f":"+[1]Hoja1!D367","v":30824727},{"$f":"+[1]Hoja1!B367","v":"A246"}]
[null,null,null,null,{"$f":"+[1]Hoja1!D368","v":30836448},{"$f":"+[1]Hoja1!B368","v":"A247"}]
[null,null,null,null,{"$f":"+[1]Hoja1!D369","v":71991230},{"$f":"+[1]Hoja1!B369","v":"A248"}]
[null,null,null,null,{"$f":"+[1]Hoja1!D370","v":4653210},{"$f":"+[1]Hoja1!B370","v":"A249"}]
[null,null,null,null,{"$f":"+[1]Hoja1!D371","v":2027855},{"$f":"+[1]Hoja1!B371","v":"A250"}]
[null,null,null,null,{"$f":"+[1]Hoja1!D372","v":42404553},{"$f":"+[1]Hoja1!B372","v":"A251"}]
[null,null,null,null,{"$f":"+[1]Hoja1!D373","v":30856818},{"$f":"+[1]Hoja1!B373","v":"A252"}]
[null,null,null,null,{"$f":"+[1]Hoja1!D374","v":45520148},{"$f":"+[1]Hoja1!B374","v":"A253"}]
[null,null,null,null,{"$f":"+[1]Hoja1!D375","v":30834814},{"$f":"+[1]Hoja1!B375","v":"A254"}]
[null,null,null,null,{"$f":"+[1]Hoja1!D376","v":30830530},{"$f":"+[1]Hoja1!B376","v":"A255"}]
[null,null,null,null,{"$f":"+[1]Hoja1!D377","v":74841431},{"$f":"+[1]Hoja1!B377","v":"A256"}]
[null,null,null,null,{"$f":"+[1]Hoja1!D378","v":43123536},{"$f":"+[1]Hoja1!B378","v":"A257"}]
[null,null,null,null,{"$f":"+[1]Hoja1!D379","v":41797066},{"$f":"+[1]Hoja1!B379","v":"A258"}]
[null,null,null,null,{"$f":"+[1]Hoja1!D380","v":30832548},{"$f":"+[1]Hoja1!B380","v":"A259"}]
[null,null,null,null,{"$f":"+[1]Hoja1!D381","v":80595500},{"$f":"+[1]Hoja1!B381","v":"A260"}]
[null,null,null,null,{"$f":"+[1]Hoja1!D382","v":4630343},{"$f":"+[1]Hoja1!B382","v":"A261"}]
[null,null,null,null,{"$f":"+[1]Hoja1!D383","v":30826323},{"$f":"+[1]Hoja1!B383","v":"A262"}]
[null,null,null,null,{"$f":"+[1]Hoja1!D384","v":30827748},{"$f":"+[1]Hoja1!B384","v":"A263"}]
[null,null,null,null,{"$f":"+[1]Hoja1!D385","v":30827823},{"$f":"+[1]Hoja1!B385","v":"A264"}]
[null,null,null,null,{"$f":"+[1]Hoja1!D386","v":48529572},{"$f":"+[1]Hoja1!B386","v":"A265"}]
[null,null,null,null,{"$f":"+[1]Hoja1!D387","v":80501231},{"$f":"+[1]Hoja1!B387","v":"A266"}]
[null,null,null,null,{"$f":"+[1]Hoja1!D388","v":70163933},{"$f":"+[1]Hoja1!B388","v":"A267"}]
[null,null,null,null,{"$f":"+[1]Hoja1!D389","v":4648426},{"$f":"+[1]Hoja1!B389","v":"A268"}]
[null,null,null,null,{"$f":"+[1]Hoja1!D390","v":42963222},{"$f":"+[1]Hoja1!B390","v":"A269"}]
[null,null,null,null,{"$f":"+[1]Hoja1!D391","v":40859238},{"$f":"+[1]Hoja1!B391","v":"A270"}]
[null,null,null,null,{"$f":"+[1]Hoja1!D392","v":30837682},{"$f":"+[1]Hoja1!B392","v":"A271"}]
[null,null,null,null,{"$f":"+[1]Hoja1!D393","v":30854136},{"$f":"+[1]Hoja1!B393","v":"A272"}]
[null,null,null,null,{"$f":"+[1]Hoja1!D394","v":41416529},{"$f":"+[1]Hoja1!B394","v":"A273"}]
[null,null,null,null,{"$f":"+[1]Hoja1!D395","v":4745006},{"$f":"+[1]Hoja1!B395","v":"A274"}]
[null,null,null,null,{"$f":"+[1]Hoja1!D396","v":80434530},{"$f":"+[1]Hoja1!B396","v":"A275"}]
[null,null,null,null,{"$f":"+[1]Hoja1!D397","v":6473264},{"$f":"+[1]Hoja1!B397","v":"A276"}]
[null,null,null,null,{"$f":"+[1]Hoja1!D398","v":30832540},{"$f":"+[1]Hoja1!B398","v":"A277"}]
[null,null,null,null,{"$f":"+[1]Hoja1!D399","v":30837842},{"$f":"+[1]Hoja1!B399","v":"A278"}]
[null,null,null,null,{"$f":"+[1]Hoja1!D400","v":30829713},{"$f":"+[1]Hoja1!B400","v":"A279"}]
[null,null,null,null,{"$f":"+[1]Hoja1!D401","v":4627409},{"$f":"+[1]Hoja1!B401","v":"A280"}]
[null,null,null,null,{"$f":"+[1]Hoja1!D402","v":43000080},{"$f":"+[1]Hoja1!B402","v":"A281"}]
[null,null,null,null,{"$f":"+[1]Hoja1!D403","v":30863666},{"$f":"+[1]Hoja1!B403","v":"A282"}]
[null,null,null,null,{"$f":"+[1]Hoja1!D404","v":46390502},{"$f":"+[1]Hoja1!B404","v":"A283"}]
[null,null,null,null,{"$f":"+[1]Hoja1!D405","v":80623615},{"$f":"+[1]Hoja1!B405","v":"A284"}]
[null,null,null,null,{"$f":"+[1]Hoja1!D406","v":80426027},{"$f":"+[1]Hoja1!B406","v":"A285"}]
[null,null,null,null,{"$f":"+[1]Hoja1!D407","v":30829831},{"$f":"+[1]Hoja1!B407","v":"A286"}]
[null,null,null,null,{"$f":"+[1]Hoja1!D408","v":48217446},{"$f":"+[1]Hoja1!B408","v":"A287"}]
[null,null,null,null,{"$f":"+[1]Hoja1!D409","v":4748026},{"$f":"+[1]Hoja1!B409","v":"A288"}]
[null,null,null,null,{"$f":"+[1]Hoja1!D410","v":80467227},{"$f":"+[1]Hoja1!B410","v":"A289"}]
[null,null,null,null,{"$f":"+[1]Hoja1!D411","v":30826494},{"$f":"+[1]Hoja1!B411","v":"A290"}]
[null,null,null,null,{"$f":"+[1]Hoja1!D412","v":40029781},{"$f":"+[1]Hoja1!B412","v":"A291"}]
[null,null,null,null,{"$f":"+[1]Hoja1!D413","v":32763751},{"$f":"+[1]Hoja1!B413","v":"A292"}]
[null,null,null,null,{"$f":"+[1]Hoja1!D414","v":4646078},{"$f":"+[1]Hoja1!B414","v":"A293"}]
[null,null,null,null,{"$f":"+[1]Hoja1!D415","v":30837613},{"$f":"+[1]Hoja1!B415","v":"A294"}]
[null,null,null,null,{"$f":"+[1]Hoja1!D416","v":30828750},{"$f":"+[1]Hoja1!B416","v":"A295"}]
[null,null,null,null,{"$f":"+[1]Hoja1!D417","v":47251860},{"$f":"+[1]Hoja1!B417","v":"A296"}]
[null,null,null,null,{"$f":"+[1]Hoja1!D418","v":29467802},{"$f":"+[1]Hoja1!B418","v":"A297"}]
[null,null,null,null,{"$f":"+[1]Hoja1!D419","v":30830660},{"$f":"+[1]Hoja1!B419","v":"A298"}]
[null,null,null,null,{"$f":"+[1]Hoja1!D420","v":43377810},{"$f":"+[1]Hoja1!B420","v":"A299"}]
[null,null,null,null,{"$f":"+[1]Hoja1!D421","v":47526772},{"$f":"+[1]Hoja1!B421","v":"A300"}]
[null,null,null,null,{"$f":"+[1]Hoja1!D422","v":46834772},{"$f":"+[1]Hoja1!B422","v":"A301"}]
[null,null,null,null,{"$f":"+[1]Hoja1!D423","v":30863446},{"$f":"+[1]Hoja1!B423","v":"A302"}]
[null,null,null,null,{"$f":"+[1]Hoja1!D424","v":30834100},{"$f":"+[1]Hoja1!B424","v":"A303"}]
[null,null,null,null,{"$f":"+[1]Hoja1!D425","v":45598611},{"$f":"+[1]Hoja1!B425","v":"A304"}]
[null,null,null,null,{"$f":"+[1]Hoja1!D426","v":29318124},{"$f":"+[1]Hoja1!B426","v":"A305"}]
[null,null,null,null,{"$f":"+[1]Hoja1!D427","v":44330773},{"$f":"+[1]Hoja1!B427","v":"A306"}]
[null,null,null,null,{"$f":"+[1]Hoja1!D428","v":70139419},{"$f":"+[1]Hoja1!B428","v":"A307"}]
[null,null,null,null,{"$f":"+[1]Hoja1!D429","v":30825667},{"$f":"+[1]Hoja1!B429","v":"A308"}]
[null,null,null,null,{"$f":"+[1]Hoja1!D430","v":48567113},{"$f":"+[1]Hoja1!B430","v":"A309"}]
[null,null,null,null,{"$f":"+[1]Hoja1!D431","v":30834801},{"$f":"+[1]Hoja1!B431","v":"A310"}]
[null,null,null,null,{"$f":"+[1]Hoja1!D432","v":4634628},{"$f":"+[1]Hoja1!B432","v":"A311"}]
[null,null,null,null,{"$f":"+[1]Hoja1!D433","v":30832860},{"$f":"+[1]Hoja1!B433","v":"A312"}]
[null,null,null,null,{"$f":"+[1]Hoja1!D434","v":4650433},{"$f":"+[1]Hoja1!B434","v":"A313"}]
[null,null,null,null,{"$f":"+[1]Hoja1!D435","v":42691394},{"$f":"+[1]Hoja1!B435","v":"A314"}]
[null,null,null,null,{"$f":"+[1]Hoja1!D436","v":42687970},{"$f":"+[1]Hoja1!B436","v":"A315"}]
[null,null,null,null,{"$f":"+[1]Hoja1!D437","v":30831267},{"$f":"+[1]Hoja1!B437","v":"A316"}]
[null,null,null,null,{"$f":"+[1]Hoja1!D438","v":15595317},{"$f":"+[1]Hoja1!B438","v":"A317"}]
[null,null,null,null,{"$f":"+[1]Hoja1!D439","v":4651309},{"$f":"+[1]Hoja1!B439","v":"A318"}]
[null,null,null,null,{"$f":"+[1]Hoja1!D440","v":30822200},{"$f":"+[1]Hoja1!B440","v":"A319"}]
[null,null,null,null,{"$f":"+[1]Hoja1!D441","v":45833807},{"$f":"+[1]Hoja1!B441","v":"A320"}]
[null,null,null,null,{"$f":"+[1]Hoja1!D442","v":45644842},{"$f":"+[1]Hoja1!B442","v":"A321"}]
[null,null,null,null,{"$f":"+[1]Hoja1!D443","v":45503795},{"$f":"+[1]Hoja1!B443","v":"A322"}]
[null,null,null,null,{"$f":"+[1]Hoja1!D444","v":30830500},{"$f":"+[1]Hoja1!B444","v":"A323"}]
[null,null,null,null,{"$f":"+[1]Hoja1!D445","v":30826841},{"$f":"+[1]Hoja1!B445","v":"A324"}]
[null,null,null,null,{"$f":"+[1]Hoja1!D446","v":46484107},{"$f":"+[1]Hoja1!B446","v":"A325"}]
[null,null,null,null,{"$f":"+[1]Hoja1!D447","v":4649831},{"$f":"+[1]Hoja1!B447","v":"A326"}]
[null,null,null,null,{"$f":"+[1]Hoja1!D448","v":2769504},{"$f":"+[1]Hoja1!B448","v":"A327"}]
[null,null,null,null,{"$f":"+[1]Hoja1!D449","v":43833224},{"$f":"+[1]Hoja1!B449","v":"A328"}]
[null,null,null,null,{"$f":"+[1]Hoja1!D450","v":30822252},{"$f":"+[1]Hoja1!B450","v":"A329"}]
[null,null,null,null,{"$f":"+[1]Hoja1!D451","v":30829177},{"$f":"+[1]Hoja1!B451","v":"A330"}]
[null,null,null,null,{"$f":"+[1]Hoja1!D452","v":41558050},{"$f":"+[1]Hoja1!B452","v":"A331"}]
[null,null,null,null,{"$f":"+[1]Hoja1!D453","v":4625879},{"$f":"+[1]Hoja1!B453","v":"A332"}]
[null,null,null,null,{"$f":"+[1]Hoja1!D454","v":80623341},{"$f":"+[1]Hoja1!B454","v":"A333"}]
[null,null,null,null,{"$f":"+[1]Hoja1!D455","v":41479751},{"$f":"+[1]Hoja1!B455","v":"A334"}]
[null,null,null,null,{"$f":"+[1]Hoja1!D456","v":30833744},{"$f":"+[1]Hoja1!B456","v":"A335"}]
[null,null,null,null,{"$f":"+[1]Hoja1!D457","v":30832071},{"$f":"+[1]Hoja1!B457","v":"A336"}]
[null,null,null,null,{"$f":"+[1]Hoja1!D458","v":74977526},{"$f":"+[1]Hoja1!B458","v":"A337"}]
[null,null,null,null,{"$f":"+[1]Hoja1!D459","v":30834468},{"$f":"+[1]Hoja1!B459","v":"A338"}]
[null,null,null,null,{"$f":"+[1]Hoja1!D460","v":30848659},{"$f":"+[1]Hoja1!B460","v":"A339"}]
[null,null,null,null,{"$f":"+[1]Hoja1!D461","v":80265979},{"$f":"+[1]Hoja1!B461","v":"A340"}]
[null,null,null,null,{"$f":"+[1]Hoja1!D462","v":2389890},{"$f":"+[1]Hoja1!B462","v":"A341"}]
[null,null,null,null,{"$f":"+[1]Hoja1!D463","v":2421431},{"$f":"+[1]Hoja1!B463","v":"A342"}]
[null,null,null,null,{"$f":"+[1]Hoja1!D464","v":45644836},{"$f":"+[1]Hoja1!B464","v":"A343"}]
[null,null,null,null,{"$f":"+[1]Hoja1!D465","v":44035165},{"$f":"+[1]Hoja1!B465","v":"A344"}]
[null,null,null,null,{"$f":"+[1]Hoja1!D466","v":41174927},{"$f":"+[1]Hoja1!B466","v":"A345"}]
[null,null,null,null,{"$f":"+[1]Hoja1!D467","v":46842839},{"$f":"+[1]Hoja1!B467","v":"A346"}]
[null,null,null,null,{"$f":"+[1]Hoja1!D468","v":3886918},{"$f":"+[1]Hoja1!B468","v":"A347"}]
[null,null,null,null,{"$f":"+[1]Hoja1!D469","v":7647132},{"$f":"+[1]Hoja1!B469","v":"A348"}]
[null,null,null,null,{"$f":"+[1]Hoja1!D470","v":73809942},{"$f":"+[1]Hoja1!B470","v":"A349"}]
[null,null,null,null,{"$f":"+[1]Hoja1!D471","v":30835769},{"$f":"+[1]Hoja1!B471","v":"A350"}]
[null,null,null,null,{"$f":"+[1]Hoja1!D472","v":30820266},{"$f":"+[1]Hoja1!B472","v":"A351"}]
[null,null,null,null,{"$f":"+[1]Hoja1!D473","v":30822089},{"$f":"+[1]Hoja1!B473","v":"A352"}]
[null,null,null,null,{"$f":"+[1]Hoja1!D474","v":4621711},{"$f":"+[1]Hoja1!B474","v":"A353"}]
[null,null,null,null,{"$f":"+[1]Hoja1!D475","v":42373382},{"$f":"+[1]Hoja1!B475","v":"A354"}]
[null,null,null,null,{"$f":"+[1]Hoja1!D476","v":30827031},{"$f":"+[1]Hoja1!B476","v":"A355"}]
[null,null,null,null,{"$f":"+[1]Hoja1!D477","v":3853027},{"$f":"+[1]Hoja1!B477","v":"A356"}]
[null,null,null,null,{"$f":"+[1]Hoja1!D478","v":42409481},{"$f":"+[1]Hoja1!B478","v":"A357"}]
[null,null,null,null,{"$f":"+[1]Hoja1!D479","v":30826077},{"$f":"+[1]Hoja1!B479","v":"A358"}]
[null,null,null,null,{"$f":"+[1]Hoja1!D480","v":30827030},{"$f":"+[1]Hoja1!B480","v":"A359"}]
[null,null,null,null,{"$f":"+[1]Hoja1!D481","v":30863335},{"$f":"+[1]Hoja1!B481","v":"A360"}]
[null,null,null,null,{"$f":"+[1]Hoja1!D482","v":30825802},{"$f":"+[1]Hoja1!B482","v":"A361"}]
[null,null,null,null,{"$f":"+[1]Hoja1!D483","v":30836964},{"$f":"+[1]Hoja1!B483","v":"A362"}]
[null,null,null,null,{"$f":"+[1]Hoja1!D484","v":72010990},{"$f":"+[1]Hoja1!B484","v":"A363"}]
[null,null,null,null,{"$f":"+[1]Hoja1!D485","v":30836983},{"$f":"+[1]Hoja1!B485","v":"A364"}]
[null,null,null,null,{"$f":"+[1]Hoja1!D486","v":40835816},{"$f":"+[1]Hoja1!B486","v":"A365"}]
[null,null,null,null,{"$f":"+[1]Hoja1!D487","v":30835239},{"$f":"+[1]Hoja1!B487","v":"A366"}]
[null,null,null,null,{"$f":"+[1]Hoja1!D488","v":71924647},{"$f":"+[1]Hoja1!B488","v":"A367"}]
[null,null,null,null,{"$f":"+[1]Hoja1!D489","v":30857165},{"$f":"+[1]Hoja1!B489","v":"A368"}]
[null,null,null,null,{"$f":"+[1]Hoja1!D490","v":30856124},{"$f":"+[1]Hoja1!B490","v":"A369"}]
[null,null,null,null,{"$f":"+[1]Hoja1!D491","v":73359018},{"$f":"+[1]Hoja1!B491","v":"A370"}]
[null,null,null,null,{"$f":"+[1]Hoja1!D492","v":30820901},{"$f":"+[1]Hoja1!B492","v":"A371"}]
[null,null,null,null,{"$f":"+[1]Hoja1!D493","v":30828629},{"$f":"+[1]Hoja1!B493","v":"A372"}]
[null,null,null,null,{"$f":"+[1]Hoja1!D494","v":71196275},{"$f":"+[1]Hoja1!B494","v":"A373"}]
[null,null,null,null,{"$f":"+[1]Hoja1!D495","v":45705422},{"$f":"+[1]Hoja1!B495","v":"A374"}]
[null,null,null,null,{"$f":"+[1]Hoja1!D496","v":30830925},{"$f":"+[1]Hoja1!B496","v":"A375"}]
[null,null,null,null,{"$f":"+[1]Hoja1!D497","v":30826391},{"$f":"+[1]Hoja1!B497","v":"A376"}]
[null,null,null,null,{"$f":"+[1]Hoja1!D498","v":30825955},{"$f":"+[1]Hoja1!B498","v":"A377"}]
[null,null,null,null,{"$f":"+[1]Hoja1!D499","v":47497937},{"$f":"+[1]Hoja1!B499","v":"A378"}]
[null,null,null,null,{"$f":"+[1]Hoja1!D500","v":47185557},{"$f":"+[1]Hoja1!B500","v":"A379"}]
[null,null,null,null,{"$f":"+[1]Hoja1!D501","v":45907226},{"$f":"+[1]Hoja1!B501","v":"A380"}]
[null,null,null,null,{"$f":"+[1]Hoja1!D502","v":70481343},{"$f":"+[1]Hoja1!B502","v":"A381"}]
[null,null,null,null,{"$f":"+[1]Hoja1!D503","v":44634411},{"$f":"+[1]Hoja1!B503","v":"A382"}]
[null,null,null,null,{"$f":"+[1]Hoja1!D504","v":30831837},{"$f":"+[1]Hoja1!B504","v":"A383"}]
[null,null,null,null,{"$f":"+[1]Hoja1!D505","v":4749054},{"$f":"+[1]Hoja1!B505","v":"A384"}]
[null,null,null,null,{"$f":"+[1]Hoja1!D506","v":78006322},{"$f":"+[1]Hoja1!B506","v":"A385"}]
[null,null,null,null,{"$f":"+[1]Hoja1!D507","v":30831824},{"$f":"+[1]Hoja1!B507","v":"A386"}]
[null,null,null,null,{"$f":"+[1]Hoja1!D508","v":30820789},{"$f":"+[1]Hoja1!B508","v":"A387"}]
[null,null,null,null,{"$f":"+[1]Hoja1!D509","v":46030583},{"$f":"+[1]Hoja1!B509","v":"A388"}]
[null,null,null,null,{"$f":"+[1]Hoja1!D510","v":72513078},{"$f":"+[1]Hoja1!B510","v":"A389"}]
[null,null,null,null,{"$f":"+[1]Hoja1!D511","v":45610183},{"$f":"+[1]Hoja1!B511","v":"A390"}]
[null,null,null,null,{"$f":"+[1]Hoja1!D512","v":72470359},{"$f":"+[1]Hoja1!B512","v":"A391"}]
[null,null,null,null,{"$f":"+[1]Hoja1!D513","v":30832035},{"$f":"+[1]Hoja1!B513","v":"A392"}]
[null,null,null,null,{"$f":"+[1]Hoja1!D514","v":4633831},{"$f":"+[1]Hoja1!B514","v":"A393"}]
[null,null,null,null,{"$f":"+[1]Hoja1!D515","v":80264952},{"$f":"+[1]Hoja1!B515","v":"A394"}]
[null,null,null,null,{"$f":"+[1]Hoja1!D516","v":80267694},{"$f":"+[1]Hoja1!B516","v":"A395"}]
[null,null,null,null,{"$f":"+[1]Hoja1!D517","v":74740196},{"$f":"+[1]Hoja1!B517","v":"A396"}]
[null,null,null,null,{"$f":"+[1]Hoja1!D518","v":41416547},{"$f":"+[1]Hoja1!B518","v":"A397"}]
[null,null,null,null,{"$f":"+[1]Hoja1!D519","v":42302395},{"$f":"+[1]Hoja1!B519","v":"A398"}]
[null,null,null,null,{"$f":"+[1]Hoja1!D520","v":29335198},{"$f":"+[1]Hoja1!B520","v":"A399"}]
[null,null,null,null,{"$f":"+[1]Hoja1!D521","v":30823853},{"$f":"+[1]Hoja1!B521","v":"A400"}]
[null,null,null,null,{"$f":"+[1]Hoja1!D522","v":47774762},{"$f":"+[1]Hoja1!B522","v":"A401"}]
[null,null,null,null,{"$f":"+[1]Hoja1!D523","v":186366},{"$f":"+[1]Hoja1!B523","v":"A402"}]
[null,null,null,null,{"$f":"+[1]Hoja1!D524","v":30856375},{"$f":"+[1]Hoja1!B524","v":"A403"}]
[null,null,null,null,{"$f":"+[1]Hoja1!D525","v":30835565},{"$f":"+[1]Hoja1!B525","v":"A404"}]
[null,null,null,null,{"$f":"+[1]Hoja1!D526","v":30863378},{"$f":"+[1]Hoja1!B526","v":"A405"}]
[null,null,null,null,{"$f":"+[1]Hoja1!D527","v":46304511},{"$f":"+[1]Hoja1!B527","v":"A406"}]
[null,null,null,null,{"$f":"+[1]Hoja1!D528","v":1553483},{"$f":"+[1]Hoja1!B528","v":"A407"}]
[null,null,null,null,{"$f":"+[1]Hoja1!D529","v":30833782},{"$f":"+[1]Hoja1!B529","v":"A408"}]
[null,null,null,null,{"$f":"+[1]Hoja1!D530","v":24581276},{"$f":"+[1]Hoja1!B530","v":"A409"}]
[null,null,null,null,{"$f":"+[1]Hoja1!D531","v":42949096},{"$f":"+[1]Hoja1!B531","v":"A410"}]
[null,null,null,null,{"$f":"+[1]Hoja1!D532","v":30842053},{"$f":"+[1]Hoja1!B532","v":"A411"}]
[null,null,null,null,{"$f":"+[1]Hoja1!D533","v":30847888},{"$f":"+[1]Hoja1!B533","v":"A412"}]
[null,null,null,null,{"$f":"+[1]Hoja1!D534","v":47394628},{"$f":"+[1]Hoja1!B534","v":"A413"}]
[null,null,null,null,{"$f":"+[1]Hoja1!D535","v":467093},{"$f":"+[1]Hoja1!B535","v":"A414"}]
[null,null,null,null,{"$f":"+[1]Hoja1!D536","v":32916495},{"$f":"+[1]Hoja1!B536","v":"A415"}]
[null,null,null,null,{"$f":"+[1]Hoja1!D537","v":4633313},{"$f":"+[1]Hoja1!B537","v":"A416"}]
[null,null,null,null,{"$f":"+[1]Hoja1!D538","v":73372600},{"$f":"+[1]Hoja1!B538","v":"A417"}]
[null,null,null,null,{"$f":"+[1]Hoja1!D539","v":3642981},{"$f":"+[1]Hoja1!B539","v":"A418"}]
[null,null,null,null,{"$f":"+[1]Hoja1!D540","v":46540030},{"$f":"+[1]Hoja1!B540","v":"A419"}]
[null,null,null,null,{"$f":"+[1]Hoja1!D541","v":30826530},{"$f":"+[1]Hoja1!B541","v":"A420"}]
[null,null,null,null,{"$f":"+[1]Hoja1!D542","v":799900},{"$f":"+[1]Hoja1!B542","v":"A421"}]
[null,null,null,null,{"$f":"+[1]Hoja1!D543","v":30833578},{"$f":"+[1]Hoja1!B543","v":"A422"}]
[null,null,null,null,{"$f":"+[1]Hoja1!D544","v":30831247},{"$f":"+[1]Hoja1!B544","v":"A423"}]
[null,null,null,null,{"$f":"+[1]Hoja1!D545","v":30831174},{"$f":"+[1]Hoja1!B545","v":"A424"}]
[null,null,null,null,{"$f":"+[1]Hoja1!D546","v":30820875},{"$f":"+[1]Hoja1!B546","v":"A425"}]
[null,null,null,null,{"$f":"+[1]Hoja1!D547","v":48539330},{"$f":"+[1]Hoja1!B547","v":"A426"}]
[null,null,null,null,{"$f":"+[1]Hoja1!D548","v":46549050},{"$f":"+[1]Hoja1!B548","v":"A427"}]
[null,null,null,null,{"$f":"+[1]Hoja1!D549","v":47234593},{"$f":"+[1]Hoja1!B549","v":"A428"}]
[null,null,null,null,{"$f":"+[1]Hoja1!D550","v":30831574},{"$f":"+[1]Hoja1!B550","v":"A429"}]
[null,null,null,null,{"$f":"+[1]Hoja1!D551","v":10738624},{"$f":"+[1]Hoja1!B551","v":"A430"}]
[null,null,null,null,{"$f":"+[1]Hoja1!D552","v":6795072},{"$f":"+[1]Hoja1!B552","v":"A431"}]
[null,null,null,null,{"$f":"+[1]Hoja1!D553","v":30830192},{"$f":"+[1]Hoja1!B553","v":"A432"}]
[null,null,null,null,{"$f":"+[1]Hoja1!D554","v":44763685},{"$f":"+[1]Hoja1!B554","v":"A433"}]
[null,null,null,null,{"$f":"+[1]Hoja1!D555","v":30832024},{"$f":"+[1]Hoja1!B555","v":"A434"}]
[null,null,null,null,{"$f":"+[1]Hoja1!D556","v":4622607},{"$f":"+[1]Hoja1!B556","v":62}]
[null,null,null,null,{"$f":"+[1]Hoja1!D557","v":30826033},{"$f":"+[1]Hoja1!B557","v":"A435"}]
[null,null,null,null,{"$f":"+[1]Hoja1!D558","v":40300097},{"$f":"+[1]Hoja1!B558","v":"A436"}]
[null,null,null,null,{"$f":"+[1]Hoja1!D559","v":72567712},{"$f":"+[1]Hoja1!B559","v":"A437"}]
[null,null,null,null,{"$f":"+[1]Hoja1!D560","v":44659196},{"$f":"+[1]Hoja1!B560","v":"A438"}]
[null,null,null,null,{"$f":"+[1]Hoja1!D561","v":30831830},{"$f":"+[1]Hoja1!B561","v":"A439"}]
[null,null,null,null,{"$f":"+[1]Hoja1!D562","v":46566149},{"$f":"+[1]Hoja1!B562","v":"A440"}]
[null,null,null,null,{"$f":"+[1]Hoja1!D563","v":4623173},{"$f":"+[1]Hoja1!B563","v":"A441"}]
[null,null,null,null,{"$f":"+[1]Hoja1!D564","v":30826670},{"$f":"+[1]Hoja1!B564","v":"A442"}]
[null,null,null,null,{"$f":"+[1]Hoja1!D565","v":30822756},{"$f":"+[1]Hoja1!B565","v":"A443"}]
[null,null,null,null,{"$f":"+[1]Hoja1!D566","v":30833587},{"$f":"+[1]Hoja1!B566","v":"A444"}]
[null,null,null,null,{"$f":"+[1]Hoja1!D567","v":30849504},{"$f":"+[1]Hoja1!B567","v":"A445"}]
[null,null,null,null,{"$f":"+[1]Hoja1!D568","v":4620921},{"$f":"+[1]Hoja1!B568","v":"A446"}]
[null,null,null,null,{"$f":"+[1]Hoja1!D569","v":77432386},{"$f":"+[1]Hoja1!B569","v":"A447"}]
[null,null,null,null,{"$f":"+[1]Hoja1!D570","v":25691950},{"$f":"+[1]Hoja1!B570","v":"A448"}]
[null,null,null,null,{"$f":"+[1]Hoja1!D571","v":40951940},{"$f":"+[1]Hoja1!B571","v":"A449"}]
[null,null,null,null,{"$f":"+[1]Hoja1!D572","v":44628887},{"$f":"+[1]Hoja1!B572","v":"A450"}]
[null,null,null,null,{"$f":"+[1]Hoja1!D573","v":4643079},{"$f":"+[1]Hoja1!B573","v":"A451"}]
[null,null,null,null,{"$f":"+[1]Hoja1!D574","v":172622},{"$f":"+[1]Hoja1!B574","v":"A452"}]
[null,null,null,null,{"$f":"+[1]Hoja1!D575","v":30863574},{"$f":"+[1]Hoja1!B575","v":"A453"}]
[null,null,null,null,{"$f":"+[1]Hoja1!D576","v":44731772},{"$f":"+[1]Hoja1!B576","v":"A454"}]
[null,null,null,null,{"$f":"+[1]Hoja1!D577","v":4652969},{"$f":"+[1]Hoja1!B577","v":"A455"}]
[null,null,null,null,{"$f":"+[1]Hoja1!D578","v":42568769},{"$f":"+[1]Hoja1!B578","v":"A456"}]
[null,null,null,null,{"$f":"+[1]Hoja1!D579","v":30848395},{"$f":"+[1]Hoja1!B579","v":"A457"}]
[null,null,null,null,{"$f":"+[1]Hoja1!D580","v":30831539},{"$f":"+[1]Hoja1!B580","v":"A458"}]
[null,null,null,null,{"$f":"+[1]Hoja1!D581","v":76800715},{"$f":"+[1]Hoja1!B581","v":"A459"}]
[null,null,null,null,{"$f":"+[1]Hoja1!D582","v":40736048},{"$f":"+[1]Hoja1!B582","v":"A460"}]
[null,null,null,null,{"$f":"+[1]Hoja1!D583","v":46506998},{"$f":"+[1]Hoja1!B583","v":"A461"}]
[null,null,null,null,{"$f":"+[1]Hoja1!D584","v":30826312},{"$f":"+[1]Hoja1!B584","v":"A462"}]
[null,null,null,null,{"$f":"+[1]Hoja1!D585","v":42845454},{"$f":"+[1]Hoja1!B585","v":"A463"}]
[null,null,null,null,{"$f":"+[1]Hoja1!D586","v":41734307},{"$f":"+[1]Hoja1!B586","v":"A464"}]
[null,null,null,null,{"$f":"+[1]Hoja1!D587","v":30856205},{"$f":"+[1]Hoja1!B587","v":"A465"}]
[null,null,null,null,{"$f":"+[1]Hoja1!D588","v":80623733},{"$f":"+[1]Hoja1!B588","v":"A466"}]
[null,null,null,null,{"$f":"+[1]Hoja1!D589","v":71122432},{"$f":"+[1]Hoja1!B589","v":"A467"}]
[null,null,null,null,{"$f":"+[1]Hoja1!D590","v":30828659},{"$f":"+[1]Hoja1!B590","v":"A468"}]
[null,null,null,null,{"$f":"+[1]Hoja1!D591","v":71979127},{"$f":"+[1]Hoja1!B591","v":"A469"}]
[null,null,null,null,{"$f":"+[1]Hoja1!D592","v":30833857},{"$f":"+[1]Hoja1!B592","v":"A470"}]
[null,null,null,null,{"$f":"+[1]Hoja1!D593","v":46126749},{"$f":"+[1]Hoja1!B593","v":"A471"}]
[null,null,null,null,{"$f":"+[1]Hoja1!D594","v":45196321},{"$f":"+[1]Hoja1!B594","v":"A472"}]
[null,null,null,null,{"$f":"+[1]Hoja1!D595","v":30825439},{"$f":"+[1]Hoja1!B595","v":"A473"}]
[null,null,null,null,{"$f":"+[1]Hoja1!D596","v":48796318},{"$f":"+[1]Hoja1!B596","v":"A474"}]
[null,null,null,null,{"$f":"+[1]Hoja1!D597","v":45502003},{"$f":"+[1]Hoja1!B597","v":"A475"}]
[null,null,null,null,{"$f":"+[1]Hoja1!D598","v":42936754},{"$f":"+[1]Hoja1!B598","v":"A476"}]
[null,null,null,null,{"$f":"+[1]Hoja1!D599","v":42936748},{"$f":"+[1]Hoja1!B599","v":"A477"}]
[null,null,null,null,{"$f":"+[1]Hoja1!D600","v":30830037},{"$f":"+[1]Hoja1!B600","v":"A478"}]
[null,null,null,null,{"$f":"+[1]Hoja1!D601","v":76574995},{"$f":"+[1]Hoja1!B601","v":"A479"}]
[null,null,null,null,{"$f":"+[1]Hoja1!D602","v":30830701},{"$f":"+[1]Hoja1!B602","v":"A480"}]
[null,null,null,null,{"$f":"+[1]Hoja1!D603","v":73218812},{"$f":"+[1]Hoja1!B603","v":"A481"}]
[null,null,null,null,{"$f":"+[1]Hoja1!D604","v":40442814},{"$f":"+[1]Hoja1!B604","v":"A482"}]
[null,null,null,null,{"$f":"+[1]Hoja1!D605","v":30836412},{"$f":"+[1]Hoja1!B605","v":"A483"}]
[null,null,null,null,{"$f":"+[1]Hoja1!D606","v":41160499},{"$f":"+[1]Hoja1!B606","v":"A484"}]
[null,null,null,null,{"$f":"+[1]Hoja1!D607","v":43512513},{"$f":"+[1]Hoja1!B607","v":"A485"}]
[null,null,null,null,{"$f":"+[1]Hoja1!D608","v":48735801},{"$f":"+[1]Hoja1!B608","v":"A486"}]
[null,null,null,null,{"$f":"+[1]Hoja1!D609","v":71976497},{"$f":"+[1]Hoja1!B609","v":"A487"}]
[null,null,null,null,{"$f":"+[1]Hoja1!D610","v":29271661},{"$f":"+[1]Hoja1!B610","v":"A488"}]
[null,null,null,null,{"$f":"+[1]Hoja1!D611","v":30827630},{"$f":"+[1]Hoja1!B611","v":"A489"}]
[null,null,null,null,{"$f":"+[1]Hoja1!D612","v":30828638},{"$f":"+[1]Hoja1!B612","v":"A490"}]
[null,null,null,null,{"$f":"+[1]Hoja1!D613","v":41117585},{"$f":"+[1]Hoja1!B613","v":"A491"}]
[null,null,null,null,{"$f":"+[1]Hoja1!D614","v":30821842},{"$f":"+[1]Hoja1!B614","v":"A492"}]
[null,null,null,null,{"$f":"+[1]Hoja1!D615","v":30856437},{"$f":"+[1]Hoja1!B615","v":"A493"}]
[null,null,null,null,{"$f":"+[1]Hoja1!D616","v":47341108},{"$f":"+[1]Hoja1!B616","v":"A494"}]
[null,null,null,null,{"$f":"+[1]Hoja1!D617","v":30863703},{"$f":"+[1]Hoja1!B617","v":"A495"}]
[null,null,null,null,{"$f":"+[1]Hoja1!D618","v":41962871},{"$f":"+[1]Hoja1!B618","v":"A496"}]
[null,null,null,null,{"$f":"+[1]Hoja1!D619","v":460858},{"$f":"+[1]Hoja1!B619","v":"A497"}]
[null,null,null,null,{"$f":"+[1]Hoja1!D620","v":46640721},{"$f":"+[1]Hoja1!B620","v":"A498"}]
[null,null,null,null,{"$f":"+[1]Hoja1!D621","v":4629630},{"$f":"+[1]Hoja1!B621","v":"A499"}]
[null,null,null,null,{"$f":"+[1]Hoja1!D622","v":4623547},{"$f":"+[1]Hoja1!B622","v":"A500"}]
[null,null,null,null,{"$f":"+[1]Hoja1!D623","v":75070067},{"$f":"+[1]Hoja1!B623","v":"A501"}]
[null,null,null,null,{"$f":"+[1]Hoja1!D624","v":30863338},{"$f":"+[1]Hoja1!B624","v":"A502"}]
[null,null,null,null,{"$f":"+[1]Hoja1!D625","v":30837238},{"$f":"+[1]Hoja1!B625","v":"A503"}]
[null,null,null,null,{"$f":"+[1]Hoja1!D626","v":30829597},{"$f":"+[1]Hoja1!B626","v":"A504"}]
[null,null,null,null,{"$f":"+[1]Hoja1!D627","v":30422201},{"$f":"+[1]Hoja1!B627","v":"A505"}]
[null,null,null,null,{"$f":"+[1]Hoja1!D628","v":30825267},{"$f":"+[1]Hoja1!B628","v":"A506"}]
[null,null,null,null,{"$f":"+[1]Hoja1!D629","v":30826332},{"$f":"+[1]Hoja1!B629","v":"A507"}]
[null,null,null,null,{"$f":"+[1]Hoja1!D630","v":30824343},{"$f":"+[1]Hoja1!B630","v":"A508"}]
[null,null,null,null,{"$f":"+[1]Hoja1!D631","v":70760098},{"$f":"+[1]Hoja1!B631","v":"A509"}]
[null,null,null,null,{"$f":"+[1]Hoja1!D632","v":44473225},{"$f":"+[1]Hoja1!B632","v":"A510"}]
[null,null,null,null,{"$f":"+[1]Hoja1!D633","v":46735970},{"$f":"+[1]Hoja1!B633","v":"A511"}]
[null,null,null,null,{"$f":"+[1]Hoja1!D634","v":30830136},{"$f":"+[1]Hoja1!B634","v":"A512"}]
[null,null,null,null,{"$f":"+[1]Hoja1!D635","v":30823078},{"$f":"+[1]Hoja1!B635","v":"A513"}]
[null,null,null,null,{"$f":"+[1]Hoja1!D636","v":30837086},{"$f":"+[1]Hoja1!B636","v":"A514"}]
[null,null,null,null,{"$f":"+[1]Hoja1!D637","v":30836997},{"$f":"+[1]Hoja1!B637","v":"A515"}]
[null,null,null,null,{"$f":"+[1]Hoja1!D638","v":76677434},{"$f":"+[1]Hoja1!B638","v":"A516"}]
[null,null,null,null,{"$f":"+[1]Hoja1!D639","v":42333709},{"$f":"+[1]Hoja1!B639","v":"A517"}]
[null,null,null,null,{"$f":"+[1]Hoja1!D640","v":30863363},{"$f":"+[1]Hoja1!B640","v":"A518"}]
[null,null,null,null,{"$f":"+[1]Hoja1!D641","v":70815664},{"$f":"+[1]Hoja1!B641","v":"A519"}]
[null,null,null,null,{"$f":"+[1]Hoja1!D642","v":62811537},{"$f":"+[1]Hoja1!B642","v":"A520"}]
[null,null,null,null,{"$f":"+[1]Hoja1!D643","v":32971198},{"$f":"+[1]Hoja1!B643","v":"A521"}]
[null,null,null,null,{"$f":"+[1]Hoja1!D644","v":40569213},{"$f":"+[1]Hoja1!B644","v":"A522"}]
[null,null,null,null,{"$f":"+[1]Hoja1!D645","v":42015616},{"$f":"+[1]Hoja1!B645","v":"A523"}]
[null,null,null,null,{"$f":"+[1]Hoja1!D646","v":47185921},{"$f":"+[1]Hoja1!B646","v":"A524"}]
[null,null,null,null,{"$f":"+[1]Hoja1!D647","v":25714332},{"$f":"+[1]Hoja1!B647","v":"A525"}]
[null,null,null,null,{"$f":"+[1]Hoja1!D648","v":16570832},{"$f":"+[1]Hoja1!B648","v":"A526"}]
[null,null,null,null,{"$f":"+[1]Hoja1!D649","v":43183495},{"$f":"+[1]Hoja1!B649","v":"A527"}]
[null,null,null,null,{"$f":"+[1]Hoja1!D650","v":30825748},{"$f":"+[1]Hoja1!B650","v":"A528"}]
[null,null,null,null,{"$f":"+[1]Hoja1!D651","v":30822822},{"$f":"+[1]Hoja1!B651","v":"A529"}]
[null,null,null,null,{"$f":"+[1]Hoja1!D652","v":30835556},{"$f":"+[1]Hoja1!B652","v":"A530"}]
[null,null,null,null,{"$f":"+[1]Hoja1!D653","v":29514926},{"$f":"+[1]Hoja1!B653","v":"A531"}]
[null,null,null,null,{"$f":"+[1]Hoja1!D654","v":74054337},{"$f":"+[1]Hoja1!B654","v":"A532"}]
[null,null,null,null,{"$f":"+[1]Hoja1!D655","v":74053716},{"$f":"+[1]Hoja1!B655","v":"A533"}]
[null,null,null,null,{"$f":"+[1]Hoja1!D656","v":30820425},{"$f":"+[1]Hoja1!B656","v":"A534"}]
[null,null,null,null,{"$f":"+[1]Hoja1!D657","v":30824948},{"$f":"+[1]Hoja1!B657","v":"A535"}]
[null,null,null,null,{"$f":"+[1]Hoja1!D658","v":30830013},{"$f":"+[1]Hoja1!B658","v":"A536"}]
[null,null,null,null,{"$f":"+[1]Hoja1!D659","v":30863524},{"$f":"+[1]Hoja1!B659","v":"A537"}]
[null,null,null,null,{"$f":"+[1]Hoja1!D660","v":40327726},{"$f":"+[1]Hoja1!B660","v":"A538"}]
[null,null,null,null,{"$f":"+[1]Hoja1!D661","v":4650914},{"$f":"+[1]Hoja1!B661","v":"A539"}]
[null,null,null,null,{"$f":"+[1]Hoja1!D662","v":30821167},{"$f":"+[1]Hoja1!B662","v":"A540"}]
[null,null,null,null,{"$f":"+[1]Hoja1!D663","v":30825663},{"$f":"+[1]Hoja1!B663","v":"A541"}]
[null,null,null,null,{"$f":"+[1]Hoja1!D664","v":30830101},{"$f":"+[1]Hoja1!B664","v":"A542"}]
[null,null,null,null,{"$f":"+[1]Hoja1!D665","v":73652068},{"$f":"+[1]Hoja1!B665","v":"A543"}]
[null,null,null,null,{"$f":"+[1]Hoja1!D666","v":4631557},{"$f":"+[1]Hoja1!B666","v":"A544"}]
[null,null,null,null,{"$f":"+[1]Hoja1!D667","v":30856883},{"$f":"+[1]Hoja1!B667","v":"A545"}]
[null,null,null,null,{"$f":"+[1]Hoja1!D668","v":30821805},{"$f":"+[1]Hoja1!B668","v":"A546"}]
[null,null,null,null,{"$f":"+[1]Hoja1!D669","v":30856809},{"$f":"+[1]Hoja1!B669","v":"A547"}]
[null,null,null,null,{"$f":"+[1]Hoja1!D670","v":42983406},{"$f":"+[1]Hoja1!B670","v":"A548"}]
[null,null,null,null,{"$f":"+[1]Hoja1!D671","v":30856763},{"$f":"+[1]Hoja1!B671","v":"A549"}]
[null,null,null,null,{"$f":"+[1]Hoja1!D672","v":70915046},{"$f":"+[1]Hoja1!B672","v":"A550"}]
[null,null,null,null,{"$f":"+[1]Hoja1!D673","v":30823734},{"$f":"+[1]Hoja1!B673","v":"A551"}]
[null,null,null,null,{"$f":"+[1]Hoja1!D674","v":30826690},{"$f":"+[1]Hoja1!B674","v":"A552"}]
[null,null,null,null,{"$f":"+[1]Hoja1!D675","v":30830976},{"$f":"+[1]Hoja1!B675","v":"A553"}]
[null,null,null,null,{"$f":"+[1]Hoja1!D676","v":30823281},{"$f":"+[1]Hoja1!B676","v":"A554"}]
[null,null,null,null,{"$f":"+[1]Hoja1!D677","v":80608976},{"$f":"+[1]Hoja1!B677","v":"A555"}]
[null,null,null,null,{"$f":"+[1]Hoja1!D678","v":40924612},{"$f":"+[1]Hoja1!B678","v":"A556"}]
[null,null,null,null,{"$f":"+[1]Hoja1!D679","v":2898075},{"$f":"+[1]Hoja1!B679","v":"A557"}]
[null,null,null,null,{"$f":"+[1]Hoja1!D680","v":2727473},{"$f":"+[1]Hoja1!B680","v":"A558"}]
[null,null,null,null,{"$f":"+[1]Hoja1!D681","v":71124772},{"$f":"+[1]Hoja1!B681","v":"A559"}]
[null,null,null,null,{"$f":"+[1]Hoja1!D682","v":73235431},{"$f":"+[1]Hoja1!B682","v":"A560"}]
[null,null,null,null,{"$f":"+[1]Hoja1!D683","v":30863223},{"$f":"+[1]Hoja1!B683","v":"A561"}]
[null,null,null,null,{"$f":"+[1]Hoja1!D684","v":46258315},{"$f":"+[1]Hoja1!B684","v":"A562"}]
[null,null,null,null,{"$f":"+[1]Hoja1!D685","v":73145674},{"$f":"+[1]Hoja1!B685","v":"A563"}]
[null,null,null,null,{"$f":"+[1]Hoja1!D686","v":30824556},{"$f":"+[1]Hoja1!B686","v":"A564"}]
[null,null,null,null,{"$f":"+[1]Hoja1!D687","v":30833819},{"$f":"+[1]Hoja1!B687","v":"A565"}]
[null,null,null,null,{"$f":"+[1]Hoja1!D688","v":42042643},{"$f":"+[1]Hoja1!B688","v":"A566"}]
[null,null,null,null,{"$f":"+[1]Hoja1!D689","v":40059393},{"$f":"+[1]Hoja1!B689","v":"A567"}]
[null,null,null,null,{"$f":"+[1]Hoja1!D690","v":30830902},{"$f":"+[1]Hoja1!B690","v":"A568"}]
[null,null,null,null,{"$f":"+[1]Hoja1!D691","v":41819188},{"$f":"+[1]Hoja1!B691","v":"A569"}]
[null,null,null,null,{"$f":"+[1]Hoja1!D692","v":47999201},{"$f":"+[1]Hoja1!B692","v":"A570"}]
[null,null,null,null,{"$f":"+[1]Hoja1!D693","v":9579644},{"$f":"+[1]Hoja1!B693","v":"A571"}]
[null,null,null,null,{"$f":"+[1]Hoja1!D694","v":46834773},{"$f":"+[1]Hoja1!B694","v":"A572"}]
[null,null,null,null,{"$f":"+[1]Hoja1!D695","v":72741028},{"$f":"+[1]Hoja1!B695","v":"A573"}]
[null,null,null,null,{"$f":"+[1]Hoja1!D696","v":4653549},{"$f":"+[1]Hoja1!B696","v":"A574"}]
[null,null,null,null,{"$f":"+[1]Hoja1!D697","v":30836035},{"$f":"+[1]Hoja1!B697","v":"A575"}]
[null,null,null,null,{"$f":"+[1]Hoja1!D698","v":3893368},{"$f":"+[1]Hoja1!B698","v":"A576"}]
[null,null,null,null,{"$f":"+[1]Hoja1!D699","v":29466045},{"$f":"+[1]Hoja1!B699","v":"A577"}]
[null,null,null,null,{"$f":"+[1]Hoja1!D700","v":43160639},{"$f":"+[1]Hoja1!B700","v":"A578"}]
[null,null,null,null,{"$f":"+[1]Hoja1!D701","v":45611207},{"$f":"+[1]Hoja1!B701","v":"A579"}]
[null,null,null,null,{"$f":"+[1]Hoja1!D702","v":30826987},{"$f":"+[1]Hoja1!B702","v":"A580"}]
[null,null,null,null,{"$f":"+[1]Hoja1!D703","v":46923472},{"$f":"+[1]Hoja1!B703","v":"A581"}]
[null,null,null,null,{"$f":"+[1]Hoja1!D704","v":30827756},{"$f":"+[1]Hoja1!B704","v":"A582"}]
[null,null,null,null,{"$f":"+[1]Hoja1!D705","v":30829811},{"$f":"+[1]Hoja1!B705","v":"A583"}]
[null,null,null,null,{"$f":"+[1]Hoja1!D706","v":40238493},{"$f":"+[1]Hoja1!B706","v":"A584"}]
[null,null,null,null,{"$f":"+[1]Hoja1!D707","v":30831447},{"$f":"+[1]Hoja1!B707","v":"A585"}]
[null,null,null,null,{"$f":"+[1]Hoja1!D708","v":30824293},{"$f":"+[1]Hoja1!B708","v":"A586"}]
[null,null,null,null,{"$f":"+[1]Hoja1!D709","v":48854994},{"$f":"+[1]Hoja1!B709","v":"A587"}]
[null,null,null,null,{"$f":"+[1]Hoja1!D710","v":43488157},{"$f":"+[1]Hoja1!B710","v":"A588"}]
[null,null,null,null,{"$f":"+[1]Hoja1!D711","v":42012120},{"$f":"+[1]Hoja1!B711","v":"A589"}]
[null,null,null,null,{"$f":"+[1]Hoja1!D712","v":46437324},{"$f":"+[1]Hoja1!B712","v":"A590"}]
[null,null,null,null,{"$f":"+[1]Hoja1!D713","v":30834685},{"$f":"+[1]Hoja1!B713","v":"A591"}]
[null,null,null,null,{"$f":"+[1]Hoja1!D714","v":46839588},{"$f":"+[1]Hoja1!B714","v":"A592"}]
[null,null,null,null,{"$f":"+[1]Hoja1!D715","v":27283817},{"$f":"+[1]Hoja1!B715","v":"A593"}]
[null,null,null,null,{"$f":"+[1]Hoja1!D716","v":80171374},{"$f":"+[1]Hoja1!B716","v":"A594"}]
[null,null,null,null,{"$f":"+[1]Hoja1!D717","v":41333318},{"$f":"+[1]Hoja1!B717","v":"A595"}]
[null,null,null,null,{"$f":"+[1]Hoja1!D718","v":0},{"$f":"+[1]Hoja1!B718","v":0}]
[null,null,null,null,{"$f":"+[1]Hoja1!D719","v":0},{"$f":"+[1]Hoja1!B719","v":0}]
[null,null,null,null,{"$f":"+[1]Hoja1!D720","v":0},{"$f":"+[1]Hoja1!B720","v":0}]
[null,null,null,null,{"$f":"+[1]Hoja1!D721","v":0},{"$f":"+[1]Hoja1!B721","v":0}]
[null,null,null,null,{"$f":"+[1]Hoja1!D722","v":0},{"$f":"+[1]Hoja1!B722","v":0}]
[null,null,null,null,{"$f":"+[1]Hoja1!D723","v":0},{"$f":"+[1]Hoja1!B723","v":0}]
[null,null,null,null,{"$f":"+[1]Hoja1!D724","v":0},{"$f":"+[1]Hoja1!B724","v":0}]
[null,null,null,null,{"$f":"+[1]Hoja1!D725","v":0},{"$f":"+[1]Hoja1!B725","v":0}]
[null,null,null,null,{"$f":"+[1]Hoja1!D726","v":0},{"$f":"+[1]Hoja1!B726","v":0}]
[null,null,null,null,{"$f":"+[1]Hoja1!D727","v":0},{"$f":"+[1]Hoja1!B727","v":0}]
[null,null,null,null,{"$f":"+[1]Hoja1!D728","v":0},{"$f":"+[1]Hoja1!B728","v":0}]
[null,null,null,null,{"$f":"+[1]Hoja1!D729","v":0},{"$f":"+[1]Hoja1!B729","v":0}]
[null,null,null,null,{"$f":"+[1]Hoja1!D730","v":0},{"$f":"+[1]Hoja1!B730","v":0}]
[null,null,null,null,{"$f":"+[1]Hoja1!D731","v":0},{"$f":"+[1]Hoja1!B731","v":0}]
[null,null,null,null,{"$f":"+[1]Hoja1!D732","v":0},{"$f":"+[1]Hoja1!B732","v":0}]
[null,null,null,null,{"$f":"+[1]Hoja1!D733","v":0},{"$f":"+[1]Hoja1!B733","v":0}]
[null,null,null,null,{"$f":"+[1]Hoja1!D734","v":0},{"$f":"+[1]Hoja1!B734","v":0}]
[null,null,null,null,{"$f":"+[1]Hoja1!D735","v":0},{"$f":"+[1]Hoja1!B735","v":0}]
[null,null,null,null,{"$f":"+[1]Hoja1!D736","v":0},{"$f":"+[1]Hoja1!B736","v":0}]
[null,null,null,null,{"$f":"+[1]Hoja1!D737","v":0},{"$f":"+[1]Hoja1!B737","v":0}]
[null,null,null,null,{"$f":"+[1]Hoja1!D738","v":0},{"$f":"+[1]Hoja1!B738","v":0}]
[null,null,null,null,{"$f":"+[1]Hoja1!D739","v":0},{"$f":"+[1]Hoja1!B739","v":0}]
[null,null,null,null,{"$f":"+[1]Hoja1!D740","v":0},{"$f":"+[1]Hoja1!B740","v":0}]
[null,null,null,null,{"$f":"+[1]Hoja1!D741","v":0},{"$f":"+[1]Hoja1!B741","v":0}]
[null,null,null,null,{"$f":"+[1]Hoja1!D742","v":0},{"$f":"+[1]Hoja1!B742","v":0}]
[null,null,null,null,{"$f":"+[1]Hoja1!D743","v":0},{"$f":"+[1]Hoja1!B743","v":0}]
[null,null,null,null,{"$f":"+[1]Hoja1!D744","v":0},{"$f":"+[1]Hoja1!B744","v":0}]
[null,null,null,null,{"$f":"+[1]Hoja1!D745","v":0},{"$f":"+[1]Hoja1!B745","v":0}]
[null,null,null,null,{"$f":"+[1]Hoja1!D746","v":0},{"$f":"+[1]Hoja1!B746","v":0}]
[null,null,null,null,{"$f":"+[1]Hoja1!D747","v":0},{"$f":"+[1]Hoja1!B747","v":0}]
[null,null,null,null,{"$f":"+[1]Hoja1!D748","v":0},{"$f":"+[1]Hoja1!B748","v":0}]
[null,null,null,null,{"$f":"+[1]Hoja1!D749","v":0},{"$f":"+[1]Hoja1!B749","v":0}]
[null,null,null,null,{"$f":"+[1]Hoja1!D750","v":0},{"$f":"+[1]Hoja1!B750","v":0}]
[null,null,null,null,{"$f":"+[1]Hoja1!D751","v":0},{"$f":"+[1]Hoja1!B751","v":0}]
[null,null,null,null,{"$f":"+[1]Hoja1!D752","v":0},{"$f":"+[1]Hoja1!B752","v":0}]
[null,null,null,null,{"$f":"+[1]Hoja1!D753","v":0},{"$f":"+[1]Hoja1!B753","v":0}]
[null,null,null,null,{"$f":"+[1]Hoja1!D754","v":0},{"$f":"+[1]Hoja1!B754","v":0}]
[null,null,null,null,{"$f":"+[1]Hoja1!D755","v":0},{"$f":"+[1]Hoja1!B755","v":0}]
[null,null,null,null,{"$f":"+[1]Hoja1!D756","v":0},{"$f":"+[1]Hoja1!B756","v":0}]
[null,null,null,null,{"$f":"+[1]Hoja1!D757","v":0},{"$f":"+[1]Hoja1!B757","v":0}]
[null,null,null,null,{"$f":"+[1]Hoja1!D758","v":0},{"$f":"+[1]Hoja1!B758","v":0}]
[null,null,null,null,{"$f":"+[1]Hoja1!D759","v":0},{"$f":"+[1]Hoja1!B759","v":0}]
[null,null,null,null,{"$f":"+[1]Hoja1!D760","v":0},{"$f":"+[1]Hoja1!B760","v":0}]
[null,null,null,null,{"$f":"+[1]Hoja1!D761","v":0},{"$f":"+[1]Hoja1!B761","v":0}]
[null,null,null,null,{"$f":"+[1]Hoja1!D762","v":0},{"$f":"+[1]Hoja1!B762","v":0}]
[null,null,null,null,{"$f":"+[1]Hoja1!D763","v":0},{"$f":"+[1]Hoja1!B763","v":0}]
[null,null,null,null,{"$f":"+[1]Hoja1!D764","v":0},{"$f":"+[1]Hoja1!B764","v":0}]
[null,null,null,null,{"$f":"+[1]Hoja1!D765","v":0},{"$f":"+[1]Hoja1!B765","v":0}]
[null,null,null,null,{"$f":"+[1]Hoja1!D766","v":0},{"$f":"+[1]Hoja1!B766","v":0}]
[null,null,null,null,{"$f":"+[1]Hoja1!D767","v":0},{"$f":"+[1]Hoja1!B767","v":0}]
[null,null,null,null,{"$f":"+[1]Hoja1!D768","v":0},{"$f":"+[1]Hoja1!B768","v":0}]
[null,null,null,null,{"$f":"+[1]Hoja1!D769","v":0},{"$f":"+[1]Hoja1!B769","v":0}]
[null,null,null,null,{"$f":"+[1]Hoja1!D770","v":0},{"$f":"+[1]Hoja1!B770","v":0}]
[null,null,null,null,{"$f":"+[1]Hoja1!D771","v":0},{"$f":"+[1]Hoja1!B771","v":0}]
[null,null,null,null,{"$f":"+[1]Hoja1!D772","v":0},{"$f":"+[1]Hoja1!B772","v":0}]
[null,null,null,null,{"$f":"+[1]Hoja1!D773","v":0},{"$f":"+[1]Hoja1!B773","v":0}]
[null,null,null,null,{"$f":"+[1]Hoja1!D774","v":0},{"$f":"+[1]Hoja1!B774","v":0}]
[null,null,null,null,{"$f":"+[1]Hoja1!D775","v":0},{"$f":"+[1]Hoja1!B775","v":0}]
[null,null,null,null,{"$f":"+[1]Hoja1!D776","v":0},{"$f":"+[1]Hoja1!B776","v":0}]
[null,null,null,null,{"$f":"+[1]Hoja1!D777","v":0},{"$f":"+[1]Hoja1!B777","v":0}]
[null,null,null,null,{"$f":"+[1]Hoja1!D778","v":0},{"$f":"+[1]Hoja1!B778","v":0}]
[null,null,null,null,{"$f":"+[1]Hoja1!D779","v":0},{"$f":"+[1]Hoja1!B779","v":0}]
[null,null,null,null,{"$f":"+[1]Hoja1!D780","v":0},{"$f":"+[1]Hoja1!B780","v":0}]
[null,null,null,null,{"$f":"+[1]Hoja1!D781","v":0},{"$f":"+[1]Hoja1!B781","v":0}]
[null,null,null,null,{"$f":"+[1]Hoja1!D782","v":0},{"$f":"+[1]Hoja1!B782","v":0}]
[null,null,null,null,{"$f":"+[1]Hoja1!D783","v":0},{"$f":"+[1]Hoja1!B783","v":0}]
[null,null,null,null,{"$f":"+[1]Hoja1!D784","v":0},{"$f":"+[1]Hoja1!B784","v":0}]
[null,null,null,null,{"$f":"+[1]Hoja1!D785","v":0},{"$f":"+[1]Hoja1!B785","v":0}]
[null,null,null,null,{"$f":"+[1]Hoja1!D786","v":0},{"$f":"+[1]Hoja1!B786","v":0}]
[null,null,null,null,{"$f":"+[1]Hoja1!D787","v":0},{"$f":"+[1]Hoja1!B787","v":0}]
[null,null,null,null,{"$f":"+[1]Hoja1!D788","v":0},{"$f":"+[1]Hoja1!B788","v":0}]
[null,null,null,null,{"$f":"+[1]Hoja1!D789","v":0},{"$f":"+[1]Hoja1!B789","v":0}]
[null,null,null,null,{"$f":"+[1]Hoja1!D790","v":0},{"$f":"+[1]Hoja1!B790","v":0}]
[null,null,null,null,{"$f":"+[1]Hoja1!D791","v":0},{"$f":"+[1]Hoja1!B791","v":0}]
[null,null,null,null,{"$f":"+[1]Hoja1!D792","v":0},{"$f":"+[1]Hoja1!B792","v":0}]
[null,null,null,null,{"$f":"+[1]Hoja1!D793","v":0},{"$f":"+[1]Hoja1!B793","v":0}]
[null,null,null,null,{"$f":"+[1]Hoja1!D794","v":0},{"$f":"+[1]Hoja1!B794","v":0}]
[null,null,null,null,{"$f":"+[1]Hoja1!D795","v":0},{"$f":"+[1]Hoja1!B795","v":0}]
[null,null,null,null,{"$f":"+[1]Hoja1!D796","v":0},{"$f":"+[1]Hoja1!B796","v":0}]
[null,null,null,null,{"$f":"+[1]Hoja1!D797","v":0},{"$f":"+[1]Hoja1!B797","v":0}]
[null,null,null,null,{"$f":"+[1]Hoja1!D798","v":0},{"$f":"+[1]Hoja1!B798","v":0}]
[null,null,null,null,{"$f":"+[1]Hoja1!D799","v":0},{"$f":"+[1]Hoja1!B799","v":0}]
[null,null,null,null,{"$f":"+[1]Hoja1!D800","v":0},{"$f":"+[1]Hoja1!B800","v":0}]
[null,null,null,null,{"$f":"+[1]Hoja1!D801","v":0},{"$f":"+[1]Hoja1!B801","v":0}]
[null,null,null,null,{"$f":"+[1]Hoja1!D802","v":0},{"$f":"+[1]Hoja1!B802","v":0}]
[null,null,null,null,{"$f":"+[1]Hoja1!D803","v":0},{"$f":"+[1]Hoja1!B803","v":0}]
[null,null,null,null,{"$f":"+[1]Hoja1!D804","v":0},{"$f":"+[1]Hoja1!B804","v":0}]
[null,null,null,null,{"$f":"+[1]Hoja1!D805","v":0},{"$f":"+[1]Hoja1!B805","v":0}]
[null,null,null,null,{"$f":"+[1]Hoja1!D806","v":0},{"$f":"+[1]Hoja1!B806","v":0}]
[null,null,null,null,{"$f":"+[1]Hoja1!D807","v":0},{"$f":"+[1]Hoja1!B807","v":0}]
[null,null,null,null,{"$f":"+[1]Hoja1!D808","v":0},{"$f":"+[1]Hoja1!B808","v":0}]
[null,null,null,null,{"$f":"+[1]Hoja1!D809","v":0},{"$f":"+[1]Hoja1!B809","v":0}]
[null,null,null,null,{"$f":"+[1]Hoja1!D810","v":0},{"$f":"+[1]Hoja1!B810","v":0}]
[null,null,null,null,{"$f":"+[1]Hoja1!D811","v":0},{"$f":"+[1]Hoja1!B811","v":0}]
[null,null,null,null,{"$f":"+[1]Hoja1!D812","v":0},{"$f":"+[1]Hoja1!B812","v":0}]
[null,null,null,null,{"$f":"+[1]Hoja1!D813","v":0},{"$f":"+[1]Hoja1!B813","v":0}]
[null,null,null,null,{"$f":"+[1]Hoja1!D814","v":0},{"$f":"+[1]Hoja1!B814","v":0}]
[null,null,null,null,{"$f":"+[1]Hoja1!D815","v":0},{"$f":"+[1]Hoja1!B815","v":0}]
[null,null,null,null,{"$f":"+[1]Hoja1!D816","v":0},{"$f":"+[1]Hoja1!B816","v":0}]
[null,null,null,null,{"$f":"+[1]Hoja1!D817","v":0},{"$f":"+[1]Hoja1!B817","v":0}]
[null,null,null,null,{"$f":"+[1]Hoja1!D818","v":0},{"$f":"+[1]Hoja1!B818","v":0}]
[null,null,null,null,{"$f":"+[1]Hoja1!D819","v":0},{"$f":"+[1]Hoja1!B819","v":0}]
[null,null,null,null,{"$f":"+[1]Hoja1!D820","v":0},{"$f":"+[1]Hoja1!B820","v":0}]
[null,null,null,null,{"$f":"+[1]Hoja1!D821","v":0},{"$f":"+[1]Hoja1!B821","v":0}]
[null,null,null,null,{"$f":"+[1]Hoja1!D822","v":0},{"$f":"+[1]Hoja1!B822","v":0}]
[null,null,null,null,{"$f":"+[1]Hoja1!D823","v":0},{"$f":"+[1]Hoja1!B823","v":0}]
[null,null,null,null,{"$f":"+[1]Hoja1!D824","v":0},{"$f":"+[1]Hoja1!B824","v":0}]
[null,null,null,null,{"$f":"+[1]Hoja1!D825","v":0},{"$f":"+[1]Hoja1!B825","v":0}]
[null,null,null,null,{"$f":"+[1]Hoja1!D826","v":0},{"$f":"+[1]Hoja1!B826","v":0}]
[null,null,null,null,{"$f":"+[1]Hoja1!D827","v":0},{"$f":"+[1]Hoja1!B827","v":0}]
[null,null,null,null,{"$f":"+[1]Hoja1!D828","v":0},{"$f":"+[1]Hoja1!B828","v":0}]
[null,null,null,null,{"$f":"+[1]Hoja1!D829","v":0},{"$f":"+[1]Hoja1!B829","v":0}]
[null,null,null,null,{"$f":"+[1]Hoja1!D830","v":0},{"$f":"+[1]Hoja1!B830","v":0}]
[null,null,null,null,{"$f":"+[1]Hoja1!D831","v":0},{"$f":"+[1]Hoja1!B831","v":0}]
[null,null,null,null,{"$f":"+[1]Hoja1!D832","v":0},{"$f":"+[1]Hoja1!B832","v":0}]
[null,null,null,null,{"$f":"+[1]Hoja1!D833","v":0},{"$f":"+[1]Hoja1!B833","v":0}]
[null,null,null,null,{"$f":"+[1]Hoja1!D834","v":0},{"$f":"+[1]Hoja1!B834","v":0}]
[null,null,null,null,{"$f":"+[1]Hoja1!D835","v":0},{"$f":"+[1]Hoja1!B835","v":0}]
[null,null,null,null,{"$f":"+[1]Hoja1!D836","v":0},{"$f":"+[1]Hoja1!B836","v":0}]
[null,null,null,null,{"$f":"+[1]Hoja1!D837","v":0},{"$f":"+[1]Hoja1!B837","v":0}]
[null,null,null,null,{"$f":"+[1]Hoja1!D838","v":0},{"$f":"+[1]Hoja1!B838","v":0}]
[null,null,null,null,{"$f":"+[1]Hoja1!D839","v":0},{"$f":"+[1]Hoja1!B839","v":0}]
[null,null,null,null,{"$f":"+[1]Hoja1!D840","v":0},{"$f":"+[1]Hoja1!B840","v":0}]
[null,null,null,null,{"$f":"+[1]Hoja1!D841","v":0},{"$f":"+[1]Hoja1!B841","v":0}]
[null,null,null,null,{"$f":"+[1]Hoja1!D842","v":0},{"$f":"+[1]Hoja1!B842","v":0}]
[null,null,null,null,{"$f":"+[1]Hoja1!D843","v":0},{"$f":"+[1]Hoja1!B843","v":0}]
[null,null,null,null,{"$f":"+[1]Hoja1!D844","v":0},{"$f":"+[1]Hoja1!B844","v":0}]
[null,null,null,null,{"$f":"+[1]Hoja1!D845","v":0},{"$f":"+[1]Hoja1!B845","v":0}]
[null,null,null,null,{"$f":"+[1]Hoja1!D846","v":0},{"$f":"+[1]Hoja1!B846","v":0}]
[null,null,null,null,{"$f":"+[1]Hoja1!D847","v":0},{"$f":"+[1]Hoja1!B847","v":0}]
[null,null,null,null,{"$f":"+[1]Hoja1!D848","v":0},{"$f":"+[1]Hoja1!B848","v":0}]
[null,null,null,null,{"$f":"+[1]Hoja1!D849","v":0},{"$f":"+[1]Hoja1!B849","v":0}]
[null,null,null,null,{"$f":"+[1]Hoja1!D850","v":0},{"$f":"+[1]Hoja1!B850","v":0}]
[null,null,null,null,{"$f":"+[1]Hoja1!D851","v":0},{"$f":"+[1]Hoja1!B851","v":0}]
[null,null,null,null,{"$f":"+[1]Hoja1!D852","v":0},{"$f":"+[1]Hoja1!B852","v":0}]
[null,null,null,null,{"$f":"+[1]Hoja1!D853","v":0},{"$f":"+[1]Hoja1!B853","v":0}]
[null,null,null,null,{"$f":"+[1]Hoja1!D854","v":0},{"$f":"+[1]Hoja1!B854","v":0}]
[null,null,null,null,{"$f":"+[1]Hoja1!D855","v":0},{"$f":"+[1]Hoja1!B855","v":0}]
[null,null,null,null,{"$f":"+[1]Hoja1!D856","v":0},{"$f":"+[1]Hoja1!B856","v":0}]
[null,null,null,null,{"$f":"+[1]Hoja1!D857","v":0},{"$f":"+[1]Hoja1!B857","v":0}]
[null,null,null,null,{"$f":"+[1]Hoja1!D858","v":0},{"$f":"+[1]Hoja1!B858","v":0}]
[null,null,null,null,{"$f":"+[1]Hoja1!D859","v":0},{"$f":"+[1]Hoja1!B859","v":0}]
[null,null,null,null,{"$f":"+[1]Hoja1!D860","v":0},{"$f":"+[1]Hoja1!B860","v":0}]
[null,null,null,null,{"$f":"+[1]Hoja1!D861","v":0},{"$f":"+[1]Hoja1!B861","v":0}]
[null,null,null,null,{"$f":"+[1]Hoja1!D862","v":0},{"$f":"+[1]Hoja1!B862","v":0}]
[null,null,null,null,{"$f":"+[1]Hoja1!D863","v":0},{"$f":"+[1]Hoja1!B863","v":0}]
[null,null,null,null,{"$f":"+[1]Hoja1!D864","v":0},{"$f":"+[1]Hoja1!B864","v":0}]
[null,null,null,null,{"$f":"+[1]Hoja1!D865","v":0},{"$f":"+[1]Hoja1!B865","v":0}]
[null,null,null,null,{"$f":"+[1]Hoja1!D866","v":0},{"$f":"+[1]Hoja1!B866","v":0}]
[null,null,null,null,{"$f":"+[1]Hoja1!D867","v":0},{"$f":"+[1]Hoja1!B867","v":0}]
[null,null,null,null,{"$f":"+[1]Hoja1!D868","v":0},{"$f":"+[1]Hoja1!B868","v":0}]
[null,null,null,null,{"$f":"+[1]Hoja1!D869","v":0},{"$f":"+[1]Hoja1!B869","v":0}]
[null,null,null,null,{"$f":"+[1]Hoja1!D870","v":0},{"$f":"+[1]Hoja1!B870","v":0}]
[null,null,null,null,{"$f":"+[1]Hoja1!D871","v":0},{"$f":"+[1]Hoja1!B871","v":0}]
[null,null,null,null,{"$f":"+[1]Hoja1!D872","v":0},{"$f":"+[1]Hoja1!B872","v":0}]
[null,null,null,null,{"$f":"+[1]Hoja1!D873","v":0},{"$f":"+[1]Hoja1!B873","v":0}]
[null,null,null,null,{"$f":"+[1]Hoja1!D874","v":0},{"$f":"+[1]Hoja1!B874","v":0}]
[null,null,null,null,{"$f":"+[1]Hoja1!D875","v":0},{"$f":"+[1]Hoja1!B875","v":0}]
[null,null,null,null,{"$f":"+[1]Hoja1!D876","v":0},{"$f":"+[1]Hoja1!B876","v":0}]
[null,null,null,null,{"$f":"+[1]Hoja1!D877","v":0},{"$f":"+[1]Hoja1!B877","v":0}]
[null,null,null,null,{"$f":"+[1]Hoja1!D878","v":0},{"$f":"+[1]Hoja1!B878","v":0}]
[null,null,null,null,{"$f":"+[1]Hoja1!D879","v":0},{"$f":"+[1]Hoja1!B879","v":0}]
[null,null,null,null,{"$f":"+[1]Hoja1!D880","v":0},{"$f":"+[1]Hoja1!B880","v":0}]
[null,null,null,null,{"$f":"+[1]Hoja1!D881","v":0},{"$f":"+[1]Hoja1!B881","v":0}]
[null,null,null,null,{"$f":"+[1]Hoja1!D882","v":0},{"$f":"+[1]Hoja1!B882","v":0}]
[null,null,null,null,{"$f":"+[1]Hoja1!D883","v":0},{"$f":"+[1]Hoja1!B883","v":0}]
[null,null,null,null,{"$f":"+[1]Hoja1!D884","v":0},{"$f":"+[1]Hoja1!B884","v":0}]
[null,null,null,null,{"$f":"+[1]Hoja1!D885","v":0},{"$f":"+[1]Hoja1!B885","v":0}]
[null,null,null,null,{"$f":"+[1]Hoja1!D886","v":0},{"$f":"+[1]Hoja1!B886","v":0}]
[null,null,null,null,{"$f":"+[1]Hoja1!D887","v":0},{"$f":"+[1]Hoja1!B887","v":0}]
[null,null,null,null,{"$f":"+[1]Hoja1!D888","v":0},{"$f":"+[1]Hoja1!B888","v":0}]
[null,null,null,null,{"$f":"+[1]Hoja1!D889","v":0},{"$f":"+[1]Hoja1!B889","v":0}]
[null,null,null,null,{"$f":"+[1]Hoja1!D890","v":0},{"$f":"+[1]Hoja1!B890","v":0}]
[null,null,null,null,{"$f":"+[1]Hoja1!D891","v":0},{"$f":"+[1]Hoja1!B891","v":0}]
[null,null,null,null,{"$f":"+[1]Hoja1!D892","v":0},{"$f":"+[1]Hoja1!B892","v":0}]
[null,null,null,null,{"$f":"+[1]Hoja1!D893","v":0},{"$f":"+[1]Hoja1!B893","v":0}]
[null,null,null,null,{"$f":"+[1]Hoja1!D894","v":0},{"$f":"+[1]Hoja1!B894","v":0}]
[null,null,null,null,{"$f":"+[1]Hoja1!D895","v":0},{"$f":"+[1]Hoja1!B895","v":0}]
[null,null,null,null,{"$f":"+[1]Hoja1!D896","v":0},{"$f":"+[1]Hoja1!B896","v":0}]
[null,null,null,null,{"$f":"+[1]Hoja1!D897","v":0},{"$f":"+[1]Hoja1!B897","v":0}]
[null,null,null,null,{"$f":"+[1]Hoja1!D898","v":0},{"$f":"+[1]Hoja1!B898","v":0}]
[null,null,null,null,{"$f":"+[1]Hoja1!D899","v":0},{"$f":"+[1]Hoja1!B899","v":0}]
[null,null,null,null,{"$f":"+[1]Hoja1!D900","v":0},{"$f":"+[1]Hoja1!B900","v":0}]
[null,null,null,null,{"$f":"+[1]Hoja1!D901","v":0},{"$f":"+[1]Hoja1!B901","v":0}]
[null,null,null,null,{"$f":"+[1]Hoja1!D902","v":0},{"$f":"+[1]Hoja1!B902","v":0}]
[null,null,null,null,{"$f":"+[1]Hoja1!D903","v":0},{"$f":"+[1]Hoja1!B903","v":0}]
[null,null,null,null,{"$f":"+[1]Hoja1!D904","v":0},{"$f":"+[1]Hoja1!B904","v":0}]
[null,null,null,null,{"$f":"+[1]Hoja1!D905","v":0},{"$f":"+[1]Hoja1!B905","v":0}]
[null,null,null,null,{"$f":"+[1]Hoja1!D906","v":0},{"$f":"+[1]Hoja1!B906","v":0}]
[null,null,null,null,{"$f":"+[1]Hoja1!D907","v":0},{"$f":"+[1]Hoja1!B907","v":0}]
[null,null,null,null,{"$f":"+[1]Hoja1!D908","v":0},{"$f":"+[1]Hoja1!B908","v":0}]
[null,null,null,null,{"$f":"+[1]Hoja1!D909","v":0},{"$f":"+[1]Hoja1!B909","v":0}]
[null,null,null,null,{"$f":"+[1]Hoja1!D910","v":0},{"$f":"+[1]Hoja1!B910","v":0}]
[null,null,null,null,{"$f":"+[1]Hoja1!D911","v":0},{"$f":"+[1]Hoja1!B911","v":0}]
[null,null,null,null,{"$f":"+[1]Hoja1!D912","v":0},{"$f":"+[1]Hoja1!B912","v":0}]
[null,null,null,null,{"$f":"+[1]Hoja1!D913","v":0},{"$f":"+[1]Hoja1!B913","v":0}]
[null,null,null,null,{"$f":"+[1]Hoja1!D914","v":0},{"$f":"+[1]Hoja1!B914","v":0}]
[null,null,null,null,{"$f":"+[1]Hoja1!D915","v":0},{"$f":"+[1]Hoja1!B915","v":0}]
[null,null,null,null,{"$f":"+[1]Hoja1!D916","v":0},{"$f":"+[1]Hoja1!B916","v":0}]
[null,null,null,null,{"$f":"+[1]Hoja1!D917","v":0},{"$f":"+[1]Hoja1!B917","v":0}]
[null,null,null,null,{"$f":"+[1]Hoja1!D918","v":0},{"$f":"+[1]Hoja1!B918","v":0}]
[null,null,null,null,{"$f":"+[1]Hoja1!D919","v":0},{"$f":"+[1]Hoja1!B919","v":0}]
[null,null,null,null,{"$f":"+[1]Hoja1!D920","v":0},{"$f":"+[1]Hoja1!B920","v":0}]
[null,null,null,null,{"$f":"+[1]Hoja1!D921","v":0},{"$f":"+[1]Hoja1!B921","v":0}]
[null,null,null,null,{"$f":"+[1]Hoja1!D922","v":0},{"$f":"+[1]Hoja1!B922","v":0}]
[null,null,null,null,{"$f":"+[1]Hoja1!D923","v":0},{"$f":"+[1]Hoja1!B923","v":0}]
[null,null,null,null,{"$f":"+[1]Hoja1!D924","v":0},{"$f":"+[1]Hoja1!B924","v":0}]
[null,null,null,null,{"$f":"+[1]Hoja1!D925","v":0},{"$f":"+[1]Hoja1!B925","v":0}]
[null,null,null,null,{"$f":"+[1]Hoja1!D926","v":0},{"$f":"+[1]Hoja1!B926","v":0}]
[null,null,null,null,{"$f":"+[1]Hoja1!D927","v":0},{"$f":"+[1]Hoja1!B927","v":0}]
[null,null,null,null,{"$f":"+[1]Hoja1!D928","v":0},{"$f":"+[1]Hoja1!B928","v":0}]
[null,null,null,null,{"$f":"+[1]Hoja1!D929","v":0},{"$f":"+[1]Hoja1!B929","v":0}]
[null,null,null,null,{"$f":"+[1]Hoja1!D930","v":0},{"$f":"+[1]Hoja1!B930","v":0}]
[null,null,null,null,{"$f":"+[1]Hoja1!D931","v":0},{"$f":"+[1]Hoja1!B931","v":0}]
[null,null,null,null,{"$f":"+[1]Hoja1!D932","v":0},{"$f":"+[1]Hoja1!B932","v":0}]
[null,null,null,null,{"$f":"+[1]Hoja1!D933","v":0},{"$f":"+[1]Hoja1!B933","v":0}]
[null,null,null,null,{"$f":"+[1]Hoja1!D934","v":0},{"$f":"+[1]Hoja1!B934","v":0}]
[null,null,null,null,{"$f":"+[1]Hoja1!D935","v":0},{"$f":"+[1]Hoja1!B935","v":0}]
[null,null,null,null,{"$f":"+[1]Hoja1!D936","v":0},{"$f":"+[1]Hoja1!B936","v":0}]
[null,null,null,null,{"$f":"+[1]Hoja1!D937","v":0},{"$f":"+[1]Hoja1!B937","v":0}]
[null,null,null,null,{"$f":"+[1]Hoja1!D938","v":0},{"$f":"+[1]Hoja1!B938","v":0}]
[null,null,null,null,{"$f":"+[1]Hoja1!D939","v":0},{"$f":"+[1]Hoja1!B939","v":0}]
[null,null,null,null,{"$f":"+[1]Hoja1!D940","v":0},{"$f":"+[1]Hoja1!B940","v":0}]
[null,null,null,null,{"$f":"+[1]Hoja1!D941","v":0},{"$f":"+[1]Hoja1!B941","v":0}]
[null,null,null,null,{"$f":"+[1]Hoja1!D942","v":0},{"$f":"+[1]Hoja1!B942","v":0}]
[null,null,null,null,{"$f":"+[1]Hoja1!D943","v":0},{"$f":"+[1]Hoja1!B943","v":0}]
[null,null,null,null,{"$f":"+[1]Hoja1!D944","v":0},{"$f":"+[1]Hoja1!B944","v":0}]
[null,null,null,null,{"$f":"+[1]Hoja1!D945","v":0},{"$f":"+[1]Hoja1!B945","v":0}]
[null,null,null,null,{"$f":"+[1]Hoja1!D946","v":0},{"$f":"+[1]Hoja1!B946","v":0}]
[null,null,null,null,{"$f":"+[1]Hoja1!D947","v":0},{"$f":"+[1]Hoja1!B947","v":0}]
[null,null,null,null,{"$f":"+[1]Hoja1!D948","v":0},{"$f":"+[1]Hoja1!B948","v":0}]
[null,null,null,null,{"$f":"+[1]Hoja1!D949","v":0},{"$f":"+[1]Hoja1!B949","v":0}]
[null,null,null,null,{"$f":"+[1]Hoja1!D950","v":0},{"$f":"+[1]Hoja1!B950","v":0}]
[null,null,null,null,{"$f":"+[1]Hoja1!D951","v":0},{"$f":"+[1]Hoja1!B951","v":0}]
[null,null,null,null,{"$f":"+[1]Hoja1!D952","v":0},{"$f":"+[1]Hoja1!B952","v":0}]
[null,null,null,null,{"$f":"+[1]Hoja1!D953","v":0},{"$f":"+[1]Hoja1!B953","v":0}]
[null,null,null,null,{"$f":"+[1]Hoja1!D954","v":0},{"$f":"+[1]Hoja1!B954","v":0}]
[null,null,null,null,{"$f":"+[1]Hoja1!D955","v":0},{"$f":"+[1]Hoja1!B955","v":0}]
[null,null,null,null,{"$f":"+[1]Hoja1!D956","v":0},{"$f":"+[1]Hoja1!B956","v":0}]
[null,null,null,null,{"$f":"+[1]Hoja1!D957","v":0},{"$f":"+[1]Hoja1!B957","v":0}]
[null,null,null,null,{"$f":"+[1]Hoja1!D958","v":0},{"$f":"+[1]Hoja1!B958","v":0}]
[null,null,null,null,{"$f":"+[1]Hoja1!D959","v":0},{"$f":"+[1]Hoja1!B959","v":0}]
[null,null,null,null,{"$f":"+[1]Hoja1!D960","v":0},{"$f":"+[1]Hoja1!B960","v":0}]
[null,null,null,null,{"$f":"+[1]Hoja1!D961","v":0},{"$f":"+[1]Hoja1!B961","v":0}]
[null,null,null,null,{"$f":"+[1]Hoja1!D962","v":0},{"$f":"+[1]Hoja1!B962","v":0}]
[null,null,null,null,{"$f":"+[1]Hoja1!D963","v":0},{"$f":"+[1]Hoja1!B963","v":0}]
[null,null,null,null,{"$f":"+[1]Hoja1!D964","v":0},{"$f":"+[1]Hoja1!B964","v":0}]
[null,null,null,null,{"$f":"+[1]Hoja1!D965","v":0},{"$f":"+[1]Hoja1!B965","v":0}]
[null,null,null,null,{"$f":"+[1]Hoja1!D966","v":0},{"$f":"+[1]Hoja1!B966","v":0}]
[null,null,null,null,{"$f":"+[1]Hoja1!D967","v":0},{"$f":"+[1]Hoja1!B967","v":0}]
[null,null,null,null,{"$f":"+[1]Hoja1!D968","v":0},{"$f":"+[1]Hoja1!B968","v":0}]
[null,null,null,null,{"$f":"+[1]Hoja1!D969","v":0},{"$f":"+[1]Hoja1!B969","v":0}]
[null,null,null,null,{"$f":"+[1]Hoja1!D970","v":0},{"$f":"+[1]Hoja1!B970","v":0}]
[null,null,null,null,{"$f":"+[1]Hoja1!D971","v":0},{"$f":"+[1]Hoja1!B971","v":0}]
[null,null,null,null,{"$f":"+[1]Hoja1!D972","v":0},{"$f":"+[1]Hoja1!B972","v":0}]
[null,null,null,null,{"$f":"+[1]Hoja1!D973","v":0},{"$f":"+[1]Hoja1!B973","v":0}]
[null,null,null,null,{"$f":"+[1]Hoja1!D974","v":0},{"$f":"+[1]Hoja1!B974","v":0}]
[null,null,null,null,{"$f":"+[1]Hoja1!D975","v":0},{"$f":"+[1]Hoja1!B975","v":0}]
[null,null,null,null,{"$f":"+[1]Hoja1!D976","v":0},{"$f":"+[1]Hoja1!B976","v":0}]
[null,null,null,null,{"$f":"+[1]Hoja1!D977","v":0},{"$f":"+[1]Hoja1!B977","v":0}]
[null,null,null,null,{"$f":"+[1]Hoja1!D978","v":0},{"$f":"+[1]Hoja1!B978","v":0}]
[null,null,null,null,{"$f":"+[1]Hoja1!D979","v":0},{"$f":"+[1]Hoja1!B979","v":0}]
[null,null,null,null,{"$f":"+[1]Hoja1!D980","v":0},{"$f":"+[1]Hoja1!B980","v":0}]
[null,null,null,null,{"$f":"+[1]Hoja1!D981","v":0},{"$f":"+[1]Hoja1!B981","v":0}]
[null,null,null,null,{"$f":"+[1]Hoja1!D982","v":0},{"$f":"+[1]Hoja1!B982","v":0}]
[null,null,null,null,{"$f":"+[1]Hoja1!D983","v":0},{"$f":"+[1]Hoja1!B983","v":0}]
[null,null,null,null,{"$f":"+[1]Hoja1!D984","v":0},{"$f":"+[1]Hoja1!B984","v":0}]
[null,null,null,null,{"$f":"+[1]Hoja1!D985","v":0},{"$f":"+[1]Hoja1!B985","v":0}]
[null,null,null,null,{"$f":"+[1]Hoja1!D986","v":0},{"$f":"+[1]Hoja1!B986","v":0}]
[null,null,null,null,{"$f":"+[1]Hoja1!D987","v":0},{"$f":"+[1]Hoja1!B987","v":0}]
[null,null,null,null,{"$f":"+[1]Hoja1!D988","v":0},{"$f":"+[1]Hoja1!B988","v":0}]
[null,null,null,null,{"$f":"+[1]Hoja1!D989","v":0},{"$f":"+[1]Hoja1!B989","v":0}]
[null,null,null,null,{"$f":"+[1]Hoja1!D990","v":0},{"$f":"+[1]Hoja1!B990","v":0}]
[null,null,null,null,{"$f":"+[1]Hoja1!D991","v":0},{"$f":"+[1]Hoja1!B991","v":0}]
[null,null,null,null,{"$f":"+[1]Hoja1!D992","v":0},{"$f":"+[1]Hoja1!B992","v":0}]
[null,null,null,null,{"$f":"+[1]Hoja1!D993","v":0},{"$f":"+[1]Hoja1!B993","v":0}]
[null,null,null,null,{"$f":"+[1]Hoja1!D994","v":0},{"$f":"+[1]Hoja1!B994","v":0}]
[null,null,null,null,{"$f":"+[1]Hoja1!D995","v":0},{"$f":"+[1]Hoja1!B995","v":0}]
[null,null,null,null,{"$f":"+[1]Hoja1!D996","v":0},{"$f":"+[1]Hoja1!B996","v":0}]
[null,null,null,null,{"$f":"+[1]Hoja1!D997","v":0},{"$f":"+[1]Hoja1!B997","v":0}]
[null,null,null,null,{"$f":"+[1]Hoja1!D998","v":0},{"$f":"+[1]Hoja1!B998","v":0}]
[null,null,null,null,{"$f":"+[1]Hoja1!D999","v":0},{"$f":"+[1]Hoja1!B999","v":0}]
[null,null,null,null,{"$f":"+[1]Hoja1!D1000","v":0},{"$f":"+[1]Hoja1!B1000","v":0}]
[null,null,null,null,{"$f":"+[1]Hoja1!D1001","v":0},{"$f":"+[1]Hoja1!B1001","v":0}]
[null,null,null,null,{"$f":"+[1]Hoja1!D1002","v":0},{"$f":"+[1]Hoja1!B1002","v":0}]
[null,null,null,null,{"$f":"+[1]Hoja1!D1003","v":0},{"$f":"+[1]Hoja1!B1003","v":0}]
[null,null,null,null,{"$f":"+[1]Hoja1!D1004","v":0},{"$f":"+[1]Hoja1!B1004","v":0}]
[null,null,null,null,{"$f":"+[1]Hoja1!D1005","v":0},{"$f":"+[1]Hoja1!B1005","v":0}]
[null,null,null,null,{"$f":"+[1]Hoja1!D1006","v":0},{"$f":"+[1]Hoja1!B1006","v":0}]
[null,null,null,null,{"$f":"+[1]Hoja1!D1007","v":0},{"$f":"+[1]Hoja1!B1007","v":0}]
[null,null,null,null,{"$f":"+[1]Hoja1!D1008","v":0},{"$f":"+[1]Hoja1!B1008","v":0}]
[null,null,null,null,{"$f":"+[1]Hoja1!D1009","v":0},{"$f":"+[1]Hoja1!B1009","v":0}]
[null,null,null,null,{"$f":"+[1]Hoja1!D1010","v":0},{"$f":"+[1]Hoja1!B1010","v":0}]
[null,null,null,null,{"$f":"+[1]Hoja1!D1011","v":0},{"$f":"+[1]Hoja1!B1011","v":0}]
[null,null,null,null,{"$f":"+[1]Hoja1!D1012","v":0},{"$f":"+[1]Hoja1!B1012","v":0}]
[null,null,null,null,{"$f":"+[1]Hoja1!D1013","v":0},{"$f":"+[1]Hoja1!B1013","v":0}]
[null,null,null,null,{"$f":"+[1]Hoja1!D1014","v":0},{"$f":"+[1]Hoja1!B1014","v":0}]
[null,null,null,null,{"$f":"+[1]Hoja1!D1015","v":0},{"$f":"+[1]Hoja1!B1015","v":0}]
[null,null,null,null,{"$f":"+[1]Hoja1!D1016","v":0},{"$f":"+[1]Hoja1!B1016","v":0}]
[null,null,null,null,{"$f":"+[1]Hoja1!D1017","v":0},{"$f":"+[1]Hoja1!B1017","v":0}]
[null,null,null,null,{"$f":"+[1]Hoja1!D1018","v":0},{"$f":"+[1]Hoja1!B1018","v":0}]
[null,null,null,null,{"$f":"+[1]Hoja1!D1019","v":0},{"$f":"+[1]Hoja1!B1019","v":0}]
[null,null,null,null,{"$f":"+[1]Hoja1!D1020","v":0},{"$f":"+[1]Hoja1!B1020","v":0}]
[null,null,null,null,{"$f":"+[1]Hoja1!D1021","v":0},{"$f":"+[1]Hoja1!B1021","v":0}]
[null,null,null,null,{"$f":"+[1]Hoja1!D1022","v":0},{"$f":"+[1]Hoja1!B1022","v":0}]
[null,null,null,null,{"$f":"+[1]Hoja1!D1023","v":0},{"$f":"+[1]Hoja1!B1023","v":0}]
[null,null,null,null,{"$f":"+[1]Hoja1!D1024","v":0},{"$f":"+[1]Hoja1!B1024","v":0}]
[null,null,null,null,{"$f":"+[1]Hoja1!D1025","v":0},{"$f":"+[1]Hoja1!B1025","v":0}]
[null,null,null,null,{"$f":"+[1]Hoja1!D1026","v":0},{"$f":"+[1]Hoja1!B1026","v":0}]
[null,null,null,null,{"$f":"+[1]Hoja1!D1027","v":0},{"$f":"+[1]Hoja1!B1027","v":0}]
[null,null,null,null,{"$f":"+[1]Hoja1!D1028","v":0},{"$f":"+[1]Hoja1!B1028","v":0}]
[null,null,null,null,{"$f":"+[1]Hoja1!D1029","v":0},{"$f":"+[1]Hoja1!B1029","v":0}]
[null,null,null,null,{"$f":"+[1]Hoja1!D1030","v":0},{"$f":"+[1]Hoja1!B1030","v":0}]
[null,null,null,null,{"$f":"+[1]Hoja1!D1031","v":0},{"$f":"+[1]Hoja1!B1031","v":0}]
[null,null,null,null,{"$f":"+[1]Hoja1!D1032","v":0},{"$f":"+[1]Hoja1!B1032","v":0}]
[null,null,null,null,{"$f":"+[1]Hoja1!D1033","v":0},{"$f":"+[1]Hoja1!B1033","v":0}]
[null,null,null,null,{"$f":"+[1]Hoja1!D1034","v":0},{"$f":"+[1]Hoja1!B1034","v":0}]
[null,null,null,null,{"$f":"+[1]Hoja1!D1035","v":0},{"$f":"+[1]Hoja1!B1035","v":0}]
[null,null,null,null,{"$f":"+[1]Hoja1!D1036","v":0},{"$f":"+[1]Hoja1!B1036","v":0}]
[null,null,null,null,{"$f":"+[1]Hoja1!D1037","v":0},{"$f":"+[1]Hoja1!B1037","v":0}]
[null,null,null,null,{"$f":"+[1]Hoja1!D1038","v":0},{"$f":"+[1]Hoja1!B1038","v":0}]
[null,null,null,null,{"$f":"+[1]Hoja1!D1039","v":0},{"$f":"+[1]Hoja1!B1039","v":0}]
[null,null,null,null,{"$f":"+[1]Hoja1!D1040","v":0},{"$f":"+[1]Hoja1!B1040","v":0}]
[null,null,null,null,{"$f":"+[1]Hoja1!D1041","v":0},{"$f":"+[1]Hoja1!B1041","v":0}]
[null,null,null,null,{"$f":"+[1]Hoja1!D1042","v":0},{"$f":"+[1]Hoja1!B1042","v":0}]
[null,null,null,null,{"$f":"+[1]Hoja1!D1043","v":0},{"$f":"+[1]Hoja1!B1043","v":0}]
[null,null,null,null,{"$f":"+[1]Hoja1!D1044","v":0},{"$f":"+[1]Hoja1!B1044","v":0}]
[null,null,null,null,{"$f":"+[1]Hoja1!D1045","v":0},{"$f":"+[1]Hoja1!B1045","v":0}]
[null,null,null,null,{"$f":"+[1]Hoja1!D1046","v":0},{"$f":"+[1]Hoja1!B1046","v":0}]
[null,null,null,null,{"$f":"+[1]Hoja1!D1047","v":0},{"$f":"+[1]Hoja1!B1047","v":0}]
[null,null,null,null,{"$f":"+[1]Hoja1!D1048","v":0},{"$f":"+[1]Hoja1!B1048","v":0}]
[null,null,null,null,{"$f":"+[1]Hoja1!D1049","v":0},{"$f":"+[1]Hoja1!B1049","v":0}]
[null,null,null,null,{"$f":"+[1]Hoja1!D1050","v":0},{"$f":"+[1]Hoja1!B1050","v":0}]
[null,null,null,null,{"$f":"+[1]Hoja1!D1051","v":0},{"$f":"+[1]Hoja1!B1051","v":0}]
[null,null,null,null,{"$f":"+[1]Hoja1!D1052","v":0},{"$f":"+[1]Hoja1!B1052","v":0}]
[null,null,null,null,{"$f":"+[1]Hoja1!D1053","v":0},{"$f":"+[1]Hoja1!B1053","v":0}]