{"text_format":"1","workbook":"xlsx","n_sheets":2,"sheets":["ARQ","ARQG"],"not_rendered":{"charts":0,"images":0,"macros":1,"external_links":1,"defined_names":2,"comments":0,"pivot_tables":0},"unopened":[],"bounds":{"document_bytes":16777216,"sheet_cells":100000,"rows_first":2000,"rows_last":500,"rows_between":2000,"halvings":0,"cell_chars":16384,"cell_head_chars":4096},"cells_cut":0,"cells_raw":0,"read":"whole","date_system":"1900"}

{"sheet":"ARQ","index":0,"n_rows":25,"n_cols":83,"rows_kept":25,"cut":false,"hidden":false,"merged":[[0,0,0,5],[1,1,1,5],[2,0,2,1],[16,0,16,1]]}
["ARQUEO DIARIO",null,null,null,null,null,"T/C",6.96,null,"TOTAL EN BOLIVIANOS",null,null,null,null,"FECHA",200,100,50,20,10,5,2,1,0.5,0.2,0.1,"C1","C2","C3","C4","C5","C6","C7","C8","C9","C10","C11","N1","N2","N3","N4","N5","N6","N7","N8","N9","N10","N11","M1","M2","M3","M4","M5","M6","M7","M8","M9","M10","M11",100,50,20,10,5,1,"C1","C2","C3","C4","C5","C6","N1","N2","N3","N4","N5","N6","M1","M2","M3","M4","M5","M6"]
["FECHA \"dd-mm-aa\"","2017-09-12",null,null,null,null,null,null,null,{"$f":"+C16+F16+((C25+F25)*H1)","v":269.60000000000002},null,null,null,null,{"$f":"B2","v":"2017-09-12"},{"$f":"B5","v":1},{"$f":"B6","v":0},{"$f":"B7","v":0},{"$f":"B8","v":0},{"$f":"B9","v":0},{"$f":"B10","v":0},{"$f":"B11","v":0},{"$f":"B12","v":0},{"$f":"B13","v":0},{"$f":"B14","v":0},{"$f":"B15","v":0},{"$f":"D5","v":0},{"$f":"D6","v":0},{"$f":"D7","v":0},{"$f":"D8","v":0},{"$f":"D9","v":0},{"$f":"D10","v":0},{"$f":"D11","v":0},{"$f":"D12","v":0},{"$f":"D13","v":0},{"$f":"D14","v":0},{"$f":"D15","v":0},{"$f":"E5","v":0},{"$f":"E6","v":0},{"$f":"E7","v":0},{"$f":"E8","v":0},{"$f":"E9","v":0},{"$f":"E10","v":0},{"$f":"E11","v":0},{"$f":"E12","v":0},{"$f":"E13","v":0},{"$f":"E14","v":0},{"$f":"E15","v":0},{"$f":"F5","v":0},{"$f":"F6","v":0},{"$f":"F7","v":0},{"$f":"F8","v":0},{"$f":"F9","v":0},{"$f":"F10","v":0},{"$f":"F11","v":0},{"$f":"F12","v":0},{"$f":"F13","v":0},{"$f":"F14","v":0},{"$f":"F15","v":0},{"$f":"B19","v":0},{"$f":"B20","v":0},{"$f":"B21","v":0},{"$f":"B22","v":1},{"$f":"B23","v":0},{"$f":"B24","v":0},{"$f":"D19","v":0},{"$f":"D20","v":0},{"$f":"D21","v":0},{"$f":"D22","v":0},{"$f":"D23","v":0},{"$f":"D24","v":0},{"$f":"E19","v":0},{"$f":"E20","v":0},{"$f":"E21","v":0},{"$f":"E22","v":0},{"$f":"E23","v":0},{"$f":"E24","v":0},{"$f":"F19","v":0},{"$f":"F20","v":0},{"$f":"F21","v":0},{"$f":"F22","v":0},{"$f":"F23","v":0},{"$f":"F24","v":0}]
["SALDO ANTERIOR"]
["BOLIVIANOS","CANTIDAD","TOTAL","CHEQUES Y/O VALES","Nº","MONTO"]
[200,{"$f":"VLOOKUP($B$2,ARQG!$A$1:BQ3000,2,0)","v":1},{"$f":"+A5*B5","v":200},{"$f":"VLOOKUP($B$2,ARQG!$A$1:BQ3000,13,0)","v":0},{"$f":"VLOOKUP($B$2,ARQG!$A$1:BQ3000,24,0)","v":0},{"$f":"VLOOKUP($B$2,ARQG!$A$1:BQ3000,35,0)","v":0}]
[100,{"$f":"VLOOKUP($B$2,ARQG!$A$1:BQ3000,3,0)","v":0},{"$f":"+A6*B6","v":0},{"$f":"VLOOKUP($B$2,ARQG!$A$1:BQ3000,14,0)","v":0},{"$f":"VLOOKUP($B$2,ARQG!$A$1:BQ3000,25,0)","v":0},{"$f":"VLOOKUP($B$2,ARQG!$A$1:BQ3000,36,0)","v":0}]
[50,{"$f":"VLOOKUP($B$2,ARQG!$A$1:BQ3000,4,0)","v":0},0,{"$f":"VLOOKUP($B$2,ARQG!$A$1:BQ3000,15,0)","v":0},{"$f":"VLOOKUP($B$2,ARQG!$A$1:BQ3000,26,0)","v":0},{"$f":"VLOOKUP($B$2,ARQG!$A$1:BQ3000,37,0)","v":0}]
[20,{"$f":"VLOOKUP($B$2,ARQG!$A$1:BQ3000,5,0)","v":0},0,{"$f":"VLOOKUP($B$2,ARQG!$A$1:BQ3000,16,0)","v":0},{"$f":"VLOOKUP($B$2,ARQG!$A$1:BQ3000,27,0)","v":0},{"$f":"VLOOKUP($B$2,ARQG!$A$1:BQ3000,38,0)","v":0}]
[10,{"$f":"VLOOKUP($B$2,ARQG!$A$1:BQ3000,6,0)","v":0},0,{"$f":"VLOOKUP($B$2,ARQG!$A$1:BQ3000,17,0)","v":0},{"$f":"VLOOKUP($B$2,ARQG!$A$1:BQ3000,28,0)","v":0},{"$f":"VLOOKUP($B$2,ARQG!$A$1:BQ3000,39,0)","v":0}]
[5,{"$f":"VLOOKUP($B$2,ARQG!$A$1:BQ3000,7,0)","v":0},0,{"$f":"VLOOKUP($B$2,ARQG!$A$1:BQ3000,18,0)","v":0},{"$f":"VLOOKUP($B$2,ARQG!$A$1:BQ3000,29,0)","v":0},{"$f":"VLOOKUP($B$2,ARQG!$A$1:BQ3000,40,0)","v":0}]
[2,{"$f":"VLOOKUP($B$2,ARQG!$A$1:BQ3000,8,0)","v":0},0,{"$f":"VLOOKUP($B$2,ARQG!$A$1:BQ3000,19,0)","v":0},{"$f":"VLOOKUP($B$2,ARQG!$A$1:BQ3000,30,0)","v":0},{"$f":"VLOOKUP($B$2,ARQG!$A$1:BQ3000,41,0)","v":0}]
[1,{"$f":"VLOOKUP($B$2,ARQG!$A$1:BQ3000,9,0)","v":0},0,{"$f":"VLOOKUP($B$2,ARQG!$A$1:BQ3000,20,0)","v":0},{"$f":"VLOOKUP($B$2,ARQG!$A$1:BQ3000,31,0)","v":0},{"$f":"VLOOKUP($B$2,ARQG!$A$1:BQ3000,42,0)","v":0}]
[0.5,{"$f":"VLOOKUP($B$2,ARQG!$A$1:BQ3000,10,0)","v":0},0,{"$f":"VLOOKUP($B$2,ARQG!$A$1:BQ3000,21,0)","v":0},{"$f":"VLOOKUP($B$2,ARQG!$A$1:BQ3000,32,0)","v":0},{"$f":"VLOOKUP($B$2,ARQG!$A$1:BQ3000,43,0)","v":0}]
[0.2,{"$f":"VLOOKUP($B$2,ARQG!$A$1:BQ3000,11,0)","v":0},0,{"$f":"VLOOKUP($B$2,ARQG!$A$1:BQ3000,22,0)","v":0},{"$f":"VLOOKUP($B$2,ARQG!$A$1:BQ3000,33,0)","v":0},{"$f":"VLOOKUP($B$2,ARQG!$A$1:BQ3000,44,0)","v":0}]
[0.1,{"$f":"VLOOKUP($B$2,ARQG!$A$1:BQ3000,12,0)","v":0},0,{"$f":"VLOOKUP($B$2,ARQG!$A$1:BQ3000,23,0)","v":0},{"$f":"VLOOKUP($B$2,ARQG!$A$1:BQ3000,34,0)","v":0},{"$f":"VLOOKUP($B$2,ARQG!$A$1:BQ3000,45,0)","v":0}]
[null,"TOTAL",{"$f":"SUM(C5:C15)+C3","v":200},null,"TOTAL",{"$f":"SUM(F5:F15)","v":0}]
["SALDO ANTERIOR"]
["DOLARES","CANTIDAD","TOTAL","CHEQUES Y/O VALES","Nº","MONTO"]
[100,{"$f":"VLOOKUP($B$2,ARQG!$A$1:BQ3000,46,0)","v":0},{"$f":"+A19*B19","v":0},{"$f":"VLOOKUP($B$2,ARQG!$A$1:BQ3000,52,0)","v":0},{"$f":"VLOOKUP($B$2,ARQG!$A$1:BQ3000,58,0)","v":0},{"$f":"VLOOKUP($B$2,ARQG!$A$1:BQ3000,64,0)","v":0}]
[50,{"$f":"VLOOKUP($B$2,ARQG!$A$1:BQ3000,47,0)","v":0},{"$f":"+A20*B20","v":0},{"$f":"VLOOKUP($B$2,ARQG!$A$1:BQ3000,53,0)","v":0},{"$f":"VLOOKUP($B$2,ARQG!$A$1:BQ3000,59,0)","v":0},{"$f":"VLOOKUP($B$2,ARQG!$A$1:BQ3000,65,0)","v":0}]
[20,{"$f":"VLOOKUP($B$2,ARQG!$A$1:BQ3000,48,0)","v":0},0,{"$f":"VLOOKUP($B$2,ARQG!$A$1:BQ3000,54,0)","v":0},{"$f":"VLOOKUP($B$2,ARQG!$A$1:BQ3000,60,0)","v":0},{"$f":"VLOOKUP($B$2,ARQG!$A$1:BQ3000,66,0)","v":0}]
[10,{"$f":"VLOOKUP($B$2,ARQG!$A$1:BQ3000,49,0)","v":1},10,{"$f":"VLOOKUP($B$2,ARQG!$A$1:BQ3000,55,0)","v":0},{"$f":"VLOOKUP($B$2,ARQG!$A$1:BQ3000,61,0)","v":0},{"$f":"VLOOKUP($B$2,ARQG!$A$1:BQ3000,67,0)","v":0}]
[5,{"$f":"VLOOKUP($B$2,ARQG!$A$1:BQ3000,50,0)","v":0},0,{"$f":"VLOOKUP($B$2,ARQG!$A$1:BQ3000,56,0)","v":0},{"$f":"VLOOKUP($B$2,ARQG!$A$1:BQ3000,62,0)","v":0},{"$f":"VLOOKUP($B$2,ARQG!$A$1:BQ3000,68,0)","v":0}]
[1,{"$f":"VLOOKUP($B$2,ARQG!$A$1:BQ3000,51,0)","v":0},0,{"$f":"VLOOKUP($B$2,ARQG!$A$1:BQ3000,57,0)","v":0},{"$f":"VLOOKUP($B$2,ARQG!$A$1:BQ3000,63,0)","v":0},{"$f":"VLOOKUP($B$2,ARQG!$A$1:BQ3000,69,0)","v":0}]
[null,"TOTAL",{"$f":"SUM(C19:C24)+C17","v":10},null,"TOTAL",{"$f":"SUM(F19:F24)","v":0}]

{"sheet":"ARQG","index":1,"n_rows":4,"n_cols":69,"rows_kept":4,"cut":false,"hidden":false,"merged":[]}
["FECHA",200,100,50,20,10,5,2,1,0.5,0.2,0.1,"C1","C2","C3","C4","C5","C6","C7","C8","C9","C10","C11","N1","N2","N3","N4","N5","N6","N7","N8","N9","N10","N11","M1","M2","M3","M4","M5","M6","M7","M8","M9","M10","M11",100,50,20,10,5,1,"C1","C2","C3","C4","C5","C6","N1","N2","N3","N4","N5","N6","M1","M2","M3","M4","M5","M6"]
["2017-09-11",0,2,0,0,0,0,0,0,0,0,0,0,0,0,0,0,0,0,0,0,0,0,0,0,0,0,0,0,0,0,0,0,0,0,0,0,0,0,0,0,0,0,0,0,0,0,0,1,0,0,0,0,0,0,0,0,0,0,0,0,0,0,0,0,0,0,0,0]
["2017-09-12",1,0,0,0,0,0,0,0,0,0,0,0,0,0,0,0,0,0,0,0,0,0,0,0,0,0,0,0,0,0,0,0,0,0,0,0,0,0,0,0,0,0,0,0,0,0,0,1,0,0,0,0,0,0,0,0,0,0,0,0,0,0,0,0,0,0,0,0]
["2017-09-14",1,0,0,0,0,0,0,0,0,0,0,0,0,0,0,0,0,0,0,0,0,0,0,0,0,0,0,0,0,0,0,0,0,0,0,0,0,0,0,0,0,0,0,0,0,0,0,1,0,0,0,0,0,0,0,0,0,0,0,0,0,0,0,0,0,0,0,0]